{"text_format":"1","workbook":"xlsx","n_sheets":20,"sheets":["Data","Entry Data","IPFR","Evaluation","Graph 12 to 24s","Graph 18 to 30s","Graph 20 to 40s","Graph 18 to 52s","Graph 20 to 52s","Sustained Graph","Form 1 Summary Data","Instructions","Adj Graph JOU","Adj Graph NCL","Adj Graph PmpHyd","Adj Graph RampGen","Adj Graph MWper0.1Hz","Adj Graph ContingentBA","BA LoadDampening","BA BiasSetting"],"not_rendered":{"charts":16,"images":0,"macros":1,"external_links":0,"defined_names":0,"comments":2,"pivot_tables":0},"unopened":[],"bounds":{"document_bytes":16777216,"sheet_cells":100000,"rows_first":2000,"rows_last":500,"rows_between":2000,"halvings":0,"cell_chars":16384,"cell_head_chars":4096},"cells_cut":0,"cells_raw":0,"read":"whole","date_system":"1900"}

{"sheet":"Data","index":0,"n_rows":1806,"n_cols":11,"rows_kept":1806,"cut":false,"hidden":false,"merged":[]}
[null,null,null,"JOU","Non-",null,null,"Transferred","Contingent"]
[null,null,"Net","Dynamic","Conforming","Pumped","Ramping","Frequency","BA","BA","BA"]
[null,null,"Actual","Schedules","Load","Hydro","Units","Response","Lost Generation","Bias","Load"]
[null,null,"Interchange","Imp(-) Exp (+)","Load (-)","Load (-) Gen (+)","Gen (+)","Rec (-) Del (+)","Load (-) Gen (+)","Setting"]
["Time (T)","Hz","MW","MW","MW","MW","MW","MW/0.1 Hz","MW","MW/0.1 Hz","MW"]
["2009-10-12T02:12:00",59.979999542236328,3669.87841796875,350,-351.36151123046875,0,0,10,15,-103,7500]
["2009-10-12T02:12:02",59.980998992919922,3672.385009765625,350,-351.36151123046875,0,0.5,10,15,-103,7500.33]
["2009-10-12T02:12:04",59.979999542236328,3669.87841796875,350,-351.36151123046875,0,1,10,15,-103,7500.66]
["2009-10-12T02:12:06",59.980998992919922,3672.385009765625,350,-357.947509765625,0,1.5,10,15,-103,7500.99]
["2009-10-12T02:12:08",59.979999542236328,3671.69970703125,350,-357.947509765625,0,2,10,15,-103,7501.32]
["2009-10-12T02:12:10",59.979999542236328,3670.94921875,350,-357.947509765625,0,2.5,10,15,-103,7501.65]
["2009-10-12T02:12:12",59.981998443603516,3671.698486328125,350,-357.947509765625,0,3,10,15,-103,7501.98]
["2009-10-12T02:12:14",59.980998992919922,3671.548095703125,350,-357.947509765625,0,3.5,10,15,-103,7502.31]
["2009-10-12T02:12:16",59.979000091552734,3672.310302734375,350,-360.2347412109375,0,4,10,15,-103,7502.64]
["2009-10-12T02:12:18",59.980998992919922,3672.775390625,350,-360.2347412109375,0,4.5,10,15,-103,7502.97]
["2009-10-12T02:12:20",59.981998443603516,3672.174072265625,350,-360.2347412109375,0,5,10,15,-103,7503.3]
["2009-10-12T02:12:22",59.979000091552734,3672.276123046875,350,-360.2347412109375,0,5.5,10,15,-103,7503.63]
["2009-10-12T02:12:24",59.979000091552734,3674.263427734375,350,-360.2347412109375,0,6,10,15,-103,7503.96]
["2009-10-12T02:12:26",59.979999542236328,3674.508056640625,350,-346.52587890625,0,6.5,10,15,-103,7504.29]
["2009-10-12T02:12:28",59.979999542236328,3673.84375,350,-346.52587890625,0,7,10,15,-103,7504.62]
["2009-10-12T02:12:30",59.983001708984375,3675.091552734375,350,-346.52587890625,0,7.5,10,15,-103,7504.95]
["2009-10-12T02:12:32",59.986000061035156,3672.106201171875,350,-346.52587890625,0,8,10,15,-103,7505.28]
["2009-10-12T02:12:34",59.986000061035156,3669.330322265625,350,-346.52587890625,0,8.5,10,15,-103,7505.61]
["2009-10-12T02:12:36",59.979999542236328,3669.16796875,350,-296.443359375,0,9,10,15,-103,7505.94]
["2009-10-12T02:12:38",59.976001739501953,3671.50048828125,350,-296.443359375,0,9.5,10,15,-103,7506.27]
["2009-10-12T02:12:40",59.974998474121094,3673.560302734375,350,-296.443359375,0,10,10,15,-103,7506.6]
["2009-10-12T02:12:42",59.979000091552734,3673.8974609375,350,-296.443359375,0,10.5,10,15,-103,7506.93]
["2009-10-12T02:12:44",59.980998992919922,3673.834228515625,350,-296.443359375,0,11,10,15,-103,7507.26]
["2009-10-12T02:12:46",59.981998443603516,3671.88720703125,350,-341.0611572265625,0,11.5,10,15,-103,7507.59]
["2009-10-12T02:12:48",59.98699951171875,3671.634521484375,350,-341.0611572265625,0,12,10,15,-103,7507.92]
["2009-10-12T02:12:50",59.990001678466797,3671.220458984375,350,-341.0611572265625,0,12.5,10,15,-103,7508.25]
["2009-10-12T02:12:52",59.993000030517578,3671.560302734375,350,-341.0611572265625,0,13,10,15,-103,7508.58]
["2009-10-12T02:12:54",59.993999481201172,3671.283203125,350,-341.0611572265625,0,13.5,10,15,-103,7508.91]
["2009-10-12T02:12:56",59.994998931884766,3670.77197265625,350,-322.8262939453125,0,14,10,15,-103,7509.24]
["2009-10-12T02:12:58",59.994998931884766,3668.362060546875,350,-322.8262939453125,0,14.5,10,15,-103,7509.57]
["2009-10-12T02:13:00",59.994998931884766,3668.12890625,350,-322.8262939453125,0,15,10,15,-103,7509.9]
["2009-10-12T02:13:02",59.994998931884766,3668.24462890625,350,-322.8262939453125,0,15.5,10,15,-103,7510.23]
["2009-10-12T02:13:04",59.994998931884766,3669.291259765625,350,-322.8262939453125,0,16,10,15,-103,7510.56]
["2009-10-12T02:13:06",59.993999481201172,3670.49365234375,350,-321.54440307617187,0,16.5,10,15,-103,7510.89]
["2009-10-12T02:13:08",59.993999481201172,3671.25390625,350,-321.54440307617187,0,17,10,15,-103,7511.22]
["2009-10-12T02:13:10",59.994998931884766,3670.683349609375,350,-321.54440307617187,0,17.5,10,15,-103,7511.55]
["2009-10-12T02:13:12",59.997001647949219,3670.15576171875,350,-321.54440307617187,0,18,10,15,-103,7511.88]
["2009-10-12T02:13:14",60.000999450683594,3670.211669921875,350,-321.54440307617187,0,18.5,10,15,-103,7512.21]
["2009-10-12T02:13:16",60.001998901367188,3670.71240234375,350,-362.13626098632812,0,19,10,15,-103,7512.54]
["2009-10-12T02:13:18",60.000999450683594,3670.3291015625,350,-362.13626098632812,0,19.5,10,15,-103,7512.87]
["2009-10-12T02:13:20",60.002998352050781,3671.18359375,350,-362.13626098632812,0,20,10,15,-103,7513.2]
["2009-10-12T02:13:22",60.002998352050781,3671.22705078125,350,-362.13626098632812,0,20.5,10,15,-103,7513.53]
["2009-10-12T02:13:24",60.005001068115234,3670.26708984375,350,-362.13626098632812,0,21,10,15,-103,7513.86]
["2009-10-12T02:13:26",60.002998352050781,3670.189697265625,350,-336.31179809570312,0,21.5,10,15,-103,7514.19]
["2009-10-12T02:13:28",60,3671.09228515625,350,-336.31179809570312,0,22,10,15,-103,7514.52]
["2009-10-12T02:13:30",60.000999450683594,3670.24853515625,350,-336.31179809570312,0,22.5,10,15,-103,7514.85]
["2009-10-12T02:13:32",60.002998352050781,3670.669921875,350,-336.31179809570312,0,23,10,15,-103,7515.18]
["2009-10-12T02:13:34",60.004001617431641,3669.899169921875,350,-336.31179809570312,0,23.5,10,15,-103,7515.51]
["2009-10-12T02:13:36",60.005001068115234,3669.5341796875,350,-316.44305419921875,0,24,10,15,-103,7515.84]
["2009-10-12T02:13:38",60.000999450683594,3670.199462890625,350,-316.44305419921875,0,24.5,10,15,-103,7516.17]
["2009-10-12T02:13:40",59.999000549316406,3671.62841796875,350,-316.44305419921875,0,25,10,15,-103,7516.5]
["2009-10-12T02:13:42",60.000999450683594,3671.122802734375,350,-316.44305419921875,0,25.5,10,15,-103,7516.83]
["2009-10-12T02:13:44",60.004001617431641,3671.96826171875,350,-316.44305419921875,0,26,10,15,-103,7517.16]
["2009-10-12T02:13:46",60.004001617431641,3671.4443359375,350,-325.46429443359375,0,26.5,10,15,-103,7517.49]
["2009-10-12T02:13:48",60.004001617431641,3671.87158203125,350,-325.46429443359375,0,27,10,15,-103,7517.82]
["2009-10-12T02:13:50",60.004001617431641,3671.875244140625,350,-325.46429443359375,0,27.5,10,15,-103,7518.15]
["2009-10-12T02:13:52",60.005001068115234,3671.065673828125,350,-325.46429443359375,0,28,10,15,-103,7518.48]
["2009-10-12T02:13:54",60.002998352050781,3672.872802734375,350,-325.46429443359375,0,28.5,10,15,-103,7518.81]
["2009-10-12T02:13:56",60.001998901367188,3673.235107421875,350,-336.61416625976562,0,29,10,15,-103,7519.14]
["2009-10-12T02:13:58",60.002998352050781,3673.497802734375,350,-336.61416625976562,0,29.5,10,15,-103,7519.47]
["2009-10-12T02:14:00",60.000999450683594,3673.530517578125,350,-336.61416625976562,0,30,10,15,-103,7519.8]
["2009-10-12T02:14:02",59.999000549316406,3672.75,350,-336.61416625976562,0,30.5,10,15,-103,7520.13]
["2009-10-12T02:14:04",59.999000549316406,3673.186279296875,350,-336.61416625976562,0,31,10,15,-103,7520.46]
["2009-10-12T02:14:06",59.997001647949219,3674.32177734375,350,-316.72616577148437,0,31.5,10,15,-103,7520.79]
["2009-10-12T02:14:08",59.998001098632813,3673.576416015625,350,-316.72616577148437,0,32,10,15,-103,7521.12]
["2009-10-12T02:14:10",59.995998382568359,3673.364990234375,350,-316.72616577148437,0,32.5,10,15,-103,7521.45]
["2009-10-12T02:14:12",59.994998931884766,3671.820556640625,350,-316.72616577148437,0,33,10,15,-103,7521.78]
["2009-10-12T02:14:14",59.993000030517578,3672.093017578125,350,-316.72616577148437,0,33.5,10,15,-103,7522.11]
["2009-10-12T02:14:16",59.993000030517578,3671.998046875,350,-320.19552612304687,0,34,10,15,-103,7522.44]
["2009-10-12T02:14:18",59.995998382568359,3671.568359375,350,-320.19552612304687,0,34.5,10,15,-103,7522.77]
["2009-10-12T02:14:20",59.999000549316406,3671.072509765625,350,-320.19552612304687,0,35,10,15,-103,7523.1]
["2009-10-12T02:14:22",60.000999450683594,3670.956787109375,350,-320.19552612304687,0,35.5,10,15,-103,7523.43]
["2009-10-12T02:14:24",60.005001068115234,3671.44140625,350,-320.19552612304687,0,36,10,15,-103,7523.76]
["2009-10-12T02:14:26",60.006999969482422,3670.892822265625,350,-341.86614990234375,0,36.5,10,15,-103,7524.09]
["2009-10-12T02:14:28",60.006999969482422,3670.161865234375,350,-341.86614990234375,0,37,10,15,-103,7524.42]
["2009-10-12T02:14:30",60.005001068115234,3670.512939453125,350,-341.86614990234375,0,37.5,10,15,-103,7524.75]
["2009-10-12T02:14:32",60.001998901367188,3670.619873046875,350,-341.86614990234375,0,38,10,15,-103,7525.08]
["2009-10-12T02:14:34",59.999000549316406,3672.712890625,350,-341.86614990234375,0,38.5,10,15,-103,7525.41]
["2009-10-12T02:14:36",59.997001647949219,3672.085693359375,350,-348.59783935546875,0,39,10,15,-103,7525.74]
["2009-10-12T02:14:38",59.999000549316406,3671.0703125,350,-348.59783935546875,0,39.5,10,15,-103,7526.07]
["2009-10-12T02:14:40",60.001998901367188,3670.82568359375,350,-348.59783935546875,0,40,10,15,-103,7526.4]
["2009-10-12T02:14:42",60.006999969482422,3670.823486328125,350,-348.59783935546875,0,40.5,10,15,-103,7526.73]
["2009-10-12T02:14:44",60.009998321533203,3671.80908203125,350,-348.59783935546875,0,41,10,15,-103,7527.06]
["2009-10-12T02:14:46",60.011001586914063,3673.36328125,350,-329.08502197265625,0,41.5,10,15,-103,7527.39]
["2009-10-12T02:14:48",60.008998870849609,3672.73583984375,350,-329.08502197265625,0,42,10,15,-103,7527.72]
["2009-10-12T02:14:50",60.002998352050781,3673.25537109375,350,-329.08502197265625,0,42.5,10,15,-103,7528.05]
["2009-10-12T02:14:52",59.997001647949219,3674.41455078125,350,-329.08502197265625,0,43,10,15,-103,7528.38]
["2009-10-12T02:14:54",59.994998931884766,3675.42578125,350,-329.08502197265625,0,43.5,10,15,-103,7528.71]
["2009-10-12T02:14:56",59.993999481201172,3674.754638671875,350,-342.41824340820312,0,44,10,15,-103,7529.04]
["2009-10-12T02:14:58",59.993999481201172,3674.2900390625,350,-342.41824340820312,0,44.5,10,15,-103,7529.37]
["2009-10-12T02:15:00",60,3675.310546875,350,-342.41824340820312,0,45,10,15,-103,7529.7]
["2009-10-12T02:15:02",60.000999450683594,3675.1572265625,350,-342.41824340820312,0,45.5,10,15,-103,7530.03]
["2009-10-12T02:15:04",59.998001098632813,3675.16552734375,350,-342.41824340820312,0,46,10,15,-103,7530.36]
["2009-10-12T02:15:06",59.998001098632813,3674.441650390625,350,-338.79464721679687,0,46.5,10,15,-103,7530.69]
["2009-10-12T02:15:08",59.994998931884766,3674.319091796875,350,-338.79464721679687,0,47,10,15,-103,7531.02]
["2009-10-12T02:15:10",59.992000579833984,3674.906494140625,350,-338.79464721679687,0,47.5,10,15,-103,7531.35]
["2009-10-12T02:15:12",59.986000061035156,3676.32861328125,350,-338.79464721679687,0,48,10,15,-103,7531.68]
["2009-10-12T02:15:14",59.986000061035156,3676.71435546875,350,-338.79464721679687,0,48.5,10,15,-103,7532.01]
["2009-10-12T02:15:16",59.986000061035156,3677.791015625,350,-335.93099975585937,0,49,10,15,-103,7532.34]
["2009-10-12T02:15:18",59.987998962402344,3675.972412109375,350,-335.93099975585937,0,49.5,10,15,-103,7532.67]
["2009-10-12T02:15:20",59.988998413085937,3675.54296875,350,-335.93099975585937,0,50,10,15,-103,7533]
["2009-10-12T02:15:22",59.987998962402344,3676.593017578125,350,-335.93099975585937,0,50.5,10,15,-103,7533.33]
["2009-10-12T02:15:24",59.98699951171875,3676.931396484375,350,-335.93099975585937,0,51,10,15,-103,7533.66]
["2009-10-12T02:15:26",59.985000610351563,3677.223388671875,350,-339.71240234375,0,51.5,10,15,-103,7533.99]
["2009-10-12T02:15:28",59.984001159667969,3677.067138671875,350,-339.71240234375,0,52,10,15,-103,7534.32]
["2009-10-12T02:15:30",59.983001708984375,3677.361083984375,350,-339.71240234375,0,52.5,10,15,-103,7534.65]
["2009-10-12T02:15:32",59.981998443603516,3678.455322265625,350,-339.71240234375,0,53,10,15,-103,7534.98]
["2009-10-12T02:15:34",59.984001159667969,3679.227783203125,350,-339.71240234375,0,53.5,10,15,-103,7535.31]
["2009-10-12T02:15:36",59.984001159667969,3679.7314453125,350,-332.024658203125,0,54,10,15,-103,7535.64]
["2009-10-12T02:15:38",59.985000610351563,3679.05908203125,350,-332.024658203125,0,54.5,10,15,-103,7535.97]
["2009-10-12T02:15:40",59.986000061035156,3677.626953125,350,-332.024658203125,0,55,10,15,-103,7536.3]
["2009-10-12T02:15:42",59.98699951171875,3677.482177734375,350,-332.024658203125,0,55.5,10,15,-103,7536.63]
["2009-10-12T02:15:44",59.990001678466797,3676.409423828125,350,-332.024658203125,0,56,10,15,-103,7536.96]
["2009-10-12T02:15:46",59.990001678466797,3677.528076171875,350,-330.759033203125,0,56.5,10,15,-103,7537.29]
["2009-10-12T02:15:48",59.98699951171875,3677.37109375,350,-330.759033203125,0,57,10,15,-103,7537.62]
["2009-10-12T02:15:50",59.983001708984375,3676.914794921875,350,-330.759033203125,0,57.5,10,15,-103,7537.95]
["2009-10-12T02:15:52",59.979999542236328,3678.08642578125,350,-330.759033203125,0,58,10,15,-103,7538.28]
["2009-10-12T02:15:54",59.979000091552734,3679.23291015625,350,-330.759033203125,0,58.5,10,15,-103,7538.61]
["2009-10-12T02:15:56",59.983001708984375,3680.1630859375,350,-323.41995239257812,0,59,10,15,-103,7538.94]
["2009-10-12T02:15:58",59.98699951171875,3679.21337890625,350,-323.41995239257812,0,59.5,10,15,-103,7539.27]
["2009-10-12T02:16:00",59.986000061035156,3678.34423828125,350,-323.41995239257812,0,60,10,15,-103,7539.6]
["2009-10-12T02:16:02",59.987998962402344,3677.65283203125,350,-323.41995239257812,0,60.5,10,15,-103,7539.93]
["2009-10-12T02:16:04",59.98699951171875,3677.677734375,350,-323.41995239257812,0,61,10,15,-103,7540.26]
["2009-10-12T02:16:06",59.983001708984375,3678.95068359375,350,-342.35092163085937,0,61.5,10,15,-103,7540.59]
["2009-10-12T02:16:08",59.978000640869141,3679.279052734375,350,-342.35092163085937,0,62,10,15,-103,7540.92]
["2009-10-12T02:16:10",59.979000091552734,3678.7294921875,350,-342.35092163085937,0,62.5,10,15,-103,7541.25]
["2009-10-12T02:16:12",59.979000091552734,3679.605712890625,350,-342.35092163085937,0,63,10,15,-103,7541.58]
["2009-10-12T02:16:14",59.988998413085937,3680.286865234375,350,-342.35092163085937,0,63.5,10,15,-103,7541.91]
["2009-10-12T02:16:16",59.991001129150391,3679.02587890625,350,-345.08181762695312,0,64,10,15,-103,7542.24]
["2009-10-12T02:16:18",59.987998962402344,3678.8125,350,-345.08181762695312,0,64.5,10,15,-103,7542.57]
["2009-10-12T02:16:20",59.983001708984375,3678.488525390625,350,-345.08181762695312,0,65,10,15,-103,7542.9]
["2009-10-12T02:16:22",59.988998413085937,3678.72021484375,350,-345.08181762695312,0,65.5,10,15,-103,7543.23]
["2009-10-12T02:16:24",59.991001129150391,3678.740234375,350,-345.08181762695312,0,66,10,15,-103,7543.56]
["2009-10-12T02:16:26",59.988998413085937,3678.970703125,350,-346.53738403320312,0,66.5,10,15,-103,7543.89]
["2009-10-12T02:16:28",59.992000579833984,3679.39013671875,350,-346.53738403320312,0,67,10,15,-103,7544.22]
["2009-10-12T02:16:30",59.993000030517578,3677.0625,350,-346.53738403320312,0,67.5,10,15,-103,7544.55]
["2009-10-12T02:16:32",59.994998931884766,3678.330078125,350,-346.53738403320312,0,68,10,15,-103,7544.88]
["2009-10-12T02:16:34",59.995998382568359,3678.490478515625,350,-346.53738403320312,0,68.5,10,15,-103,7545.21]
["2009-10-12T02:16:36",59.998001098632813,3677.9443359375,350,-342.90576171875,0,69,10,15,-103,7545.54]
["2009-10-12T02:16:38",59.998001098632813,3676.76318359375,350,-342.90576171875,0,69.5,10,15,-103,7545.87]
["2009-10-12T02:16:40",60,3678.950927734375,350,-342.90576171875,0,70,10,15,-103,7546.2]
["2009-10-12T02:16:42",59.999000549316406,3678.45556640625,350,-342.90576171875,0,70.5,10,15,-103,7546.53]
["2009-10-12T02:16:44",59.994998931884766,3679.1484375,350,-342.90576171875,0,71,10,15,-103,7546.86]
["2009-10-12T02:16:46",59.991001129150391,3679.9033203125,350,-340.09439086914063,0,71.5,10,15,-103,7547.19]
["2009-10-12T02:16:48",59.992000579833984,3680.041015625,350,-340.09439086914063,0,72,10,15,-103,7547.52]
["2009-10-12T02:16:50",59.994998931884766,3678.99658203125,350,-340.09439086914063,0,72.5,10,15,-103,7547.85]
["2009-10-12T02:16:52",59.998001098632813,3677.8603515625,350,-340.09439086914063,0,73,10,15,-103,7548.18]
["2009-10-12T02:16:54",60.000999450683594,3678.493408203125,350,-340.09439086914063,0,73.5,10,15,-103,7548.51]
["2009-10-12T02:16:56",60.002998352050781,3678.266845703125,350,-342.77117919921875,0,74,10,15,-103,7548.84]
["2009-10-12T02:16:58",60.006000518798828,3677.685546875,350,-342.77117919921875,0,74.5,10,15,-103,7549.17]
["2009-10-12T02:17:00",60.008998870849609,3677.898681640625,350,-342.77117919921875,0,75,10,15,-103,7549.5]
["2009-10-12T02:17:02",60.008998870849609,3678.36376953125,350,-342.77117919921875,0,75.5,10,15,-103,7549.83]
["2009-10-12T02:17:04",60.011001586914063,3679.208740234375,350,-342.77117919921875,0,76,10,15,-103,7550.16]
["2009-10-12T02:17:06",60.012001037597656,3678.658935546875,350,-342.909912109375,0,76.5,10,15,-103,7550.49]
["2009-10-12T02:17:08",60.011001586914063,3678.652587890625,350,-342.909912109375,0,77,10,15,-103,7550.82]
["2009-10-12T02:17:10",60.009998321533203,3679.056640625,350,-342.909912109375,0,77.5,10,15,-103,7551.15]
["2009-10-12T02:17:12",60.007999420166016,3679.70263671875,350,-342.909912109375,0,78,10,15,-103,7551.48]
["2009-10-12T02:17:14",60.006999969482422,3680.604248046875,350,-342.909912109375,0,78.5,10,15,-103,7551.81]
["2009-10-12T02:17:16",60.011001586914063,3679.805908203125,350,-343.2860107421875,0,79,10,15,-103,7552.14]
["2009-10-12T02:17:18",60.012001037597656,3680.62548828125,350,-343.2860107421875,0,79.5,10,15,-103,7552.47]
["2009-10-12T02:17:20",60.01300048828125,3680.2626953125,350,-343.2860107421875,0,80,10,15,-103,7552.8]
["2009-10-12T02:17:22",60.009998321533203,3679.85107421875,350,-343.2860107421875,0,80.5,10,15,-103,7553.13]
["2009-10-12T02:17:24",60.009998321533203,3679.560791015625,350,-343.2860107421875,0,81,10,15,-103,7553.46]
["2009-10-12T02:17:26",60.006999969482422,3679.946044921875,350,-331.85296630859375,0,81.5,10,15,-103,7553.79]
["2009-10-12T02:17:28",60.008998870849609,3679.43994140625,350,-331.85296630859375,0,82,10,15,-103,7554.12]
["2009-10-12T02:17:30",60.008998870849609,3679.911865234375,350,-331.85296630859375,0,82.5,10,15,-103,7554.45]
["2009-10-12T02:17:32",60.006000518798828,3679.5166015625,350,-331.85296630859375,0,83,10,15,-103,7554.78]
["2009-10-12T02:17:34",60.006000518798828,3679.887939453125,350,-331.85296630859375,0,83.5,10,15,-103,7555.11]
["2009-10-12T02:17:36",60.008998870849609,3679.608154296875,350,-329.98822021484375,0,84,10,15,-103,7555.44]
["2009-10-12T02:17:38",60.008998870849609,3679.0595703125,350,-329.98822021484375,0,84.5,10,15,-103,7555.77]
["2009-10-12T02:17:40",60.007999420166016,3679.2607421875,350,-329.98822021484375,0,85,10,15,-103,7556.1]
["2009-10-12T02:17:42",60.008998870849609,3679.1640625,350,-329.98822021484375,0,85.5,10,15,-103,7556.43]
["2009-10-12T02:17:44",60.008998870849609,3679.024658203125,350,-329.98822021484375,0,86,10,15,-103,7556.76]
["2009-10-12T02:17:46",60.005001068115234,3679.152099609375,350,-255.44416809082031,0,86.5,10,15,-103,7557.09]
["2009-10-12T02:17:48",60.004001617431641,3678.572265625,350,-255.44416809082031,0,87,10,15,-103,7557.42]
["2009-10-12T02:17:50",60.000999450683594,3678.295166015625,350,-255.44416809082031,0,87.5,10,15,-103,7557.75]
["2009-10-12T02:17:52",59.999000549316406,3678.248779296875,350,-255.44416809082031,0,88,10,15,-103,7558.08]
["2009-10-12T02:17:54",59.993000030517578,3678.23583984375,350,-255.44416809082031,0,88.5,10,15,-103,7558.41]
["2009-10-12T02:17:56",59.991001129150391,3677.82958984375,350,-254.83830261230469,0,89,10,15,-103,7558.74]
["2009-10-12T02:17:58",59.993999481201172,3677.954833984375,350,-254.83830261230469,0,89.5,10,15,-103,7559.07]
["2009-10-12T02:18:00",59.992000579833984,3677.772216796875,350,-254.83830261230469,0,90,10,15,-103,7559.4]
["2009-10-12T02:18:02",59.993999481201172,3676.665771484375,350,-254.83830261230469,0,90.5,10,15,-103,7559.73]
["2009-10-12T02:18:04",59.992000579833984,3677.09326171875,350,-254.83830261230469,0,91,10,15,-103,7560.06]
["2009-10-12T02:18:06",59.993999481201172,3677.140625,350,-257.14697265625,0,91.5,10,15,-103,7560.39]
["2009-10-12T02:18:08",59.994998931884766,3676.400634765625,350,-257.14697265625,0,92,10,15,-103,7560.72]
["2009-10-12T02:18:10",59.993000030517578,3678.515625,350,-257.14697265625,0,92.5,10,15,-103,7561.05]
["2009-10-12T02:18:12",59.990001678466797,3679.8720703125,350,-257.14697265625,0,93,10,15,-103,7561.38]
["2009-10-12T02:18:14",59.990001678466797,3680.196533203125,350,-257.14697265625,0,93.5,10,15,-103,7561.71]
["2009-10-12T02:18:16",59.98699951171875,3678.7431640625,350,-262.28936767578125,0,94,10,15,-103,7562.04]
["2009-10-12T02:18:18",59.983001708984375,3678.427978515625,350,-262.28936767578125,0,94.5,10,15,-103,7562.37]
["2009-10-12T02:18:20",59.977001190185547,3677.921142578125,350,-262.28936767578125,0,95,10,15,-103,7562.7]
["2009-10-12T02:18:22",59.977001190185547,3680.253662109375,350,-262.28936767578125,0,95.5,10,15,-103,7563.03]
["2009-10-12T02:18:24",59.988998413085937,3682.070068359375,350,-262.28936767578125,0,96,10,15,-103,7563.36]
["2009-10-12T02:18:26",59.994998931884766,3681.329345703125,350,-256.64794921875,0,96.5,10,15,-103,7563.69]
["2009-10-12T02:18:28",59.999000549316406,3678.655517578125,350,-256.64794921875,0,97,10,15,-103,7564.02]
["2009-10-12T02:18:30",59.993999481201172,3678.07666015625,350,-256.64794921875,0,97.5,10,15,-103,7564.35]
["2009-10-12T02:18:32",59.988998413085937,3677.780029296875,350,-256.64794921875,0,98,10,15,-103,7564.68]
["2009-10-12T02:18:34",59.98699951171875,3678.4267578125,350,-256.64794921875,0,98.5,10,15,-103,7565.01]
["2009-10-12T02:18:36",59.986000061035156,3678.47314453125,350,-256.3072509765625,0,99,10,15,-103,7565.34]
["2009-10-12T02:18:38",59.984001159667969,3678.27783203125,350,-256.3072509765625,0,99.5,10,15,-103,7565.67]
["2009-10-12T02:18:40",59.983001708984375,3677.822265625,350,-256.3072509765625,0,100,10,15,-103,7566]
["2009-10-12T02:18:42",59.985000610351563,3676.614990234375,350,-256.3072509765625,0,100.5,10,15,-103,7566.33]
["2009-10-12T02:18:44",59.986000061035156,3677.3974609375,350,-256.3072509765625,0,101,10,15,-103,7566.66]
["2009-10-12T02:18:46",59.985000610351563,3677.9169921875,350,-249.08639526367187,0,101.5,10,15,-103,7566.99]
["2009-10-12T02:18:48",59.986000061035156,3677.94970703125,350,-249.08639526367187,0,102,10,15,-103,7567.32]
["2009-10-12T02:18:50",59.979999542236328,3678.61669921875,350,-249.08639526367187,0,102.5,10,15,-103,7567.65]
["2009-10-12T02:18:52",59.980998992919922,3678.962646484375,350,-249.08639526367187,0,103,10,15,-103,7567.98]
["2009-10-12T02:18:54",59.980998992919922,3681.252197265625,350,-249.08639526367187,0,103.5,10,15,-103,7568.31]
["2009-10-12T02:18:56",59.988998413085937,3680.7373046875,350,-253.74247741699219,0,104,10,15,-103,7568.64]
["2009-10-12T02:18:58",59.998001098632813,3680.044921875,350,-253.74247741699219,0,104.5,10,15,-103,7568.97]
["2009-10-12T02:19:00",60.006999969482422,3678.161376953125,350,-253.74247741699219,0,105,10,15,-103,7569.3]
["2009-10-12T02:19:02",60.006999969482422,3674.076171875,350,-253.74247741699219,0,105.5,10,15,-103,7569.63]
["2009-10-12T02:19:04",59.997001647949219,3676.22216796875,350,-253.74247741699219,0,106,10,15,-103,7569.96]
["2009-10-12T02:19:06",59.986000061035156,3676.66943359375,350,-257.42120361328125,0,106.5,10,15,-103,7570.29]
["2009-10-12T02:19:08",59.980998992919922,3677.4970703125,350,-257.42120361328125,0,107,10,15,-103,7570.62]
["2009-10-12T02:19:10",59.977001190185547,3677.489990234375,350,-257.42120361328125,0,107.5,10,15,-103,7570.95]
["2009-10-12T02:19:12",59.9739990234375,3675.185791015625,350,-257.42120361328125,0,108,10,15,-103,7571.28]
["2009-10-12T02:19:14",59.976001739501953,3675.43701171875,350,-257.42120361328125,0,108.5,10,15,-103,7571.61]
["2009-10-12T02:19:16",59.9739990234375,3680.450927734375,350,-261.73822021484375,0,109,10,15,-103,7571.94]
["2009-10-12T02:19:18",59.9739990234375,3682.03173828125,350,-261.73822021484375,0,109.5,10,15,-103,7572.27]
["2009-10-12T02:19:20",59.977001190185547,3683.82861328125,350,-261.73822021484375,0,110,10,15,-103,7572.6]
["2009-10-12T02:19:22",59.979000091552734,3682.84326171875,350,-261.73822021484375,0,110.5,10,15,-103,7572.93]
["2009-10-12T02:19:24",59.979000091552734,3681.1083984375,350,-261.73822021484375,0,111,10,15,-103,7573.26]
["2009-10-12T02:19:26",59.981998443603516,3680.565673828125,350,-271.8759765625,0,111.5,10,15,-103,7573.59]
["2009-10-12T02:19:28",59.984001159667969,3678.22900390625,350,-271.8759765625,0,112,10,15,-103,7573.92]
["2009-10-12T02:19:30",59.98699951171875,3676.751953125,350,-271.8759765625,0,112.5,10,15,-103,7574.25]
["2009-10-12T02:19:32",59.987998962402344,3675.75927734375,350,-271.8759765625,0,113,10,15,-103,7574.58]
["2009-10-12T02:19:34",59.987998962402344,3671.9423828125,350,-271.8759765625,0,113.5,10,15,-103,7574.91]
["2009-10-12T02:19:36",59.98699951171875,3671.16552734375,350,-262.073486328125,0,114,10,15,-103,7575.24]
["2009-10-12T02:19:38",59.98699951171875,3670.475830078125,350,-262.073486328125,0,114.5,10,15,-103,7575.57]
["2009-10-12T02:19:40",59.98699951171875,3670.128662109375,350,-262.073486328125,0,115,10,15,-103,7575.9]
["2009-10-12T02:19:42",59.985000610351563,3671.54150390625,350,-262.073486328125,0,115.5,10,15,-103,7576.23]
["2009-10-12T02:19:44",59.984001159667969,3672.0478515625,350,-262.073486328125,0,116,10,15,-103,7576.56]
["2009-10-12T02:19:46",59.981998443603516,3671.57568359375,350,-260.36441040039062,0,116.5,10,15,-103,7576.89]
["2009-10-12T02:19:48",59.983001708984375,3672.103515625,350,-260.36441040039062,0,117,10,15,-103,7577.22]
["2009-10-12T02:19:50",59.988998413085937,3672.41357421875,350,-260.36441040039062,0,117.5,10,15,-103,7577.55]
["2009-10-12T02:19:52",59.988998413085937,3671.88232421875,350,-260.36441040039062,0,118,10,15,-103,7577.88]
["2009-10-12T02:19:54",59.987998962402344,3671.837158203125,350,-260.36441040039062,0,118.5,10,15,-103,7578.21]
["2009-10-12T02:19:56",59.984001159667969,3671.3359375,350,-352.64437866210937,0,119,10,15,-103,7578.54]
["2009-10-12T02:19:58",59.981998443603516,3670.725830078125,350,-352.64437866210937,0,119.5,10,15,-103,7578.87]
["2009-10-12T02:20:00",59.983001708984375,3670.3720703125,350,-352.64437866210937,0,120,10,15,-103,7579.2]
["2009-10-12T02:20:02",59.980998992919922,3671.364013671875,350,-352.64437866210937,0,120.5,10,15,-103,7579.53]
["2009-10-12T02:20:04",59.981998443603516,3671.40087890625,350,-352.64437866210937,0,121,10,15,-103,7579.86]
["2009-10-12T02:20:06",59.983001708984375,3672.15625,350,-354.89566040039062,0,121.5,10,15,-103,7580.19]
["2009-10-12T02:20:08",59.986000061035156,3672.181396484375,350,-354.89566040039062,0,122,10,15,-103,7580.52]
["2009-10-12T02:20:10",59.988998413085937,3670.29638671875,350,-354.89566040039062,0,122.5,10,15,-103,7580.85]
["2009-10-12T02:20:12",59.98699951171875,3668.07080078125,350,-354.89566040039062,0,123,10,15,-103,7581.18]
["2009-10-12T02:20:14",59.985000610351563,3668.589599609375,350,-354.89566040039062,0,123.5,10,15,-103,7581.51]
["2009-10-12T02:20:16",59.979999542236328,3669.908203125,350,-340.4693603515625,0,124,10,15,-103,7581.84]
["2009-10-12T02:20:18",59.979999542236328,3670.3994140625,350,-340.4693603515625,0,124.5,10,15,-103,7582.17]
["2009-10-12T02:20:20",59.983001708984375,3670.2626953125,350,-340.4693603515625,0,125,10,15,-103,7582.5]
["2009-10-12T02:20:22",59.979999542236328,3669.38232421875,350,-340.4693603515625,0,125.5,10,15,-103,7582.83]
["2009-10-12T02:20:24",59.979000091552734,3670.10205078125,350,-340.4693603515625,0,126,10,15,-103,7583.16]
["2009-10-12T02:20:26",59.979000091552734,3670.4375,350,-337.64291381835937,0,126.5,10,15,-103,7583.49]
["2009-10-12T02:20:28",59.980998992919922,3671.402587890625,350,-337.64291381835937,0,127,10,15,-103,7583.82]
["2009-10-12T02:20:30",59.980998992919922,3672.4423828125,350,-337.64291381835937,0,127.5,10,15,-103,7584.15]
["2009-10-12T02:20:32",59.979999542236328,3672.371826171875,350,-337.64291381835937,0,128,10,15,-103,7584.48]
["2009-10-12T02:20:34",59.979999542236328,3671.947021484375,350,-337.64291381835937,0,128.5,10,15,-103,7584.81]
["2009-10-12T02:20:36",59.980998992919922,3670.9375,350,-284.36083984375,0,129,10,15,-103,7585.14]
["2009-10-12T02:20:38",59.979999542236328,3670.70458984375,350,-284.36083984375,0,129.5,10,15,-103,7585.47]
["2009-10-12T02:20:40",59.979999542236328,3670.13720703125,350,-284.36083984375,0,130,10,15,-103,7585.8]
["2009-10-12T02:20:42",59.977001190185547,3669.279296875,350,-284.36083984375,0,130.5,10,15,-103,7586.13]
["2009-10-12T02:20:44",59.979000091552734,3672.390869140625,350,-284.36083984375,0,131,10,15,-103,7586.46]
["2009-10-12T02:20:46",59.980998992919922,3672.557861328125,350,-260.46798706054687,0,131.5,10,15,-103,7586.79]
["2009-10-12T02:20:48",59.979000091552734,3674.0517578125,350,-260.46798706054687,0,132,10,15,-103,7587.12]
["2009-10-12T02:20:50",59.976001739501953,3672.62646484375,350,-260.46798706054687,0,132.5,10,15,-103,7587.45]
["2009-10-12T02:20:52",59.977001190185547,3671.80029296875,350,-260.46798706054687,0,133,10,15,-103,7587.78]
["2009-10-12T02:20:54",59.972000122070313,3673.182861328125,350,-260.46798706054687,0,133.5,10,15,-103,7588.11]
["2009-10-12T02:20:56",59.971000671386719,3673.87353515625,350,-253.14154052734375,0,134,10,15,-103,7588.44]
["2009-10-12T02:20:58",59.972999572753906,3676.2626953125,350,-253.14154052734375,0,134.5,10,15,-103,7588.77]
["2009-10-12T02:21:00",59.972999572753906,3676.623291015625,350,-253.14154052734375,0,135,10,15,-103,7589.1]
["2009-10-12T02:21:02",59.972999572753906,3676.869873046875,350,-253.14154052734375,0,135.5,10,15,-103,7589.43]
["2009-10-12T02:21:04",59.9739990234375,3676.54296875,350,-253.14154052734375,0,136,10,15,-103,7589.76]
["2009-10-12T02:21:06",59.971000671386719,3675.464111328125,350,-251.92987060546875,0,136.5,10,15,-103,7590.09]
["2009-10-12T02:21:08",59.974998474121094,3675.75244140625,350,-251.92987060546875,0,137,10,15,-103,7590.42]
["2009-10-12T02:21:10",59.977001190185547,3675.255859375,350,-251.92987060546875,0,137.5,10,15,-103,7590.75]
["2009-10-12T02:21:12",59.977001190185547,3674.86962890625,350,-251.92987060546875,0,138,10,15,-103,7591.08]
["2009-10-12T02:21:14",59.974998474121094,3671.27685546875,350,-251.92987060546875,0,138.5,10,15,-103,7591.41]
["2009-10-12T02:21:16",59.976001739501953,3671.59326171875,350,-250.6741943359375,0,139,10,15,-103,7591.74]
["2009-10-12T02:21:18",59.979999542236328,3670.5869140625,350,-250.6741943359375,0,139.5,10,15,-103,7592.07]
["2009-10-12T02:21:20",59.979000091552734,3669.962890625,350,-250.6741943359375,0,140,10,15,-103,7592.4]
["2009-10-12T02:21:22",59.980998992919922,3669.5400390625,350,-250.6741943359375,0,140.5,10,15,-103,7592.73]
["2009-10-12T02:21:24",59.981998443603516,3669.496826171875,350,-250.6741943359375,0,141,10,15,-103,7593.06]
["2009-10-12T02:21:26",59.981998443603516,3668.70556640625,350,-253.63186645507812,0,141.5,10,15,-103,7593.39]
["2009-10-12T02:21:28",59.981998443603516,3667.676513671875,350,-253.63186645507812,0,142,10,15,-103,7593.72]
["2009-10-12T02:21:30",59.981998443603516,3666.481689453125,350,-253.63186645507812,0,142.5,10,15,-103,7594.05]
["2009-10-12T02:21:32",59.980998992919922,3666.599365234375,350,-253.63186645507812,0,143,10,15,-103,7594.38]
["2009-10-12T02:21:34",59.981998443603516,3666.91064453125,350,-253.63186645507812,0,143.5,10,15,-103,7594.71]
["2009-10-12T02:21:36",59.984001159667969,3666.441650390625,350,-246.95730590820312,0,144,10,15,-103,7595.04]
["2009-10-12T02:21:38",59.985000610351563,3666.40478515625,350,-246.95730590820312,0,144.5,10,15,-103,7595.37]
["2009-10-12T02:21:40",59.98699951171875,3667.456298828125,350,-246.95730590820312,0,145,10,15,-103,7595.7]
["2009-10-12T02:21:42",59.988998413085937,3666.38037109375,350,-246.95730590820312,0,145.5,10,15,-103,7596.03]
["2009-10-12T02:21:44",59.993000030517578,3665.26171875,350,-246.95730590820312,0,146,10,15,-103,7596.36]
["2009-10-12T02:21:46",59.995998382568359,3664.031005859375,350,-254.54177856445312,0,146.5,10,15,-103,7596.69]
["2009-10-12T02:21:48",59.998001098632813,3663.824951171875,350,-254.54177856445312,0,147,10,15,-103,7597.02]
["2009-10-12T02:21:50",59.998001098632813,3663.228759765625,350,-254.54177856445312,0,147.5,10,15,-103,7597.35]
["2009-10-12T02:21:52",60.004001617431641,3662.054931640625,350,-254.54177856445312,0,148,10,15,-103,7597.68]
["2009-10-12T02:21:54",60.006999969482422,3661.6953125,350,-254.54177856445312,0,148.5,10,15,-103,7598.01]
["2009-10-12T02:21:56",60.009998321533203,3662.076171875,350,-256.57159423828125,0,149,10,15,-103,7598.34]
["2009-10-12T02:21:58",60.01300048828125,3662.223876953125,350,-256.57159423828125,0,149.5,10,15,-103,7598.67]
["2009-10-12T02:22:00",60.013999938964844,3662.95947265625,350,-256.57159423828125,0,150,10,15,-103,7599]
["2009-10-12T02:22:02",60.01300048828125,3663.79443359375,350,-256.57159423828125,0,150.5,10,15,-103,7599.33]
["2009-10-12T02:22:04",60.007999420166016,3664.13916015625,350,-256.57159423828125,0,151,10,15,-103,7599.66]
["2009-10-12T02:22:06",60.007999420166016,3665.27783203125,350,-258.37261962890625,0,151.5,10,15,-103,7599.99]
["2009-10-12T02:22:08",60.009998321533203,3664.15869140625,350,-258.37261962890625,0,152,10,15,-103,7600.32]
["2009-10-12T02:22:10",60.019001007080078,3663.2646484375,350,-258.37261962890625,0,152.5,10,15,-103,7600.65]
["2009-10-12T02:22:12",60.019001007080078,3663.18359375,350,-258.37261962890625,0,153,10,15,-103,7600.98]
["2009-10-12T02:22:14",60.022998809814453,3661.92919921875,350,-258.37261962890625,0,153.5,10,15,-103,7601.31]
["2009-10-12T02:22:16",60.020999908447266,3661.51220703125,350,-263.04736328125,0,154,10,15,-103,7601.64]
["2009-10-12T02:22:18",60.020000457763672,3659.17236328125,350,-263.04736328125,0,154.5,10,15,-103,7601.97]
["2009-10-12T02:22:20",60.020999908447266,3658.661376953125,350,-263.04736328125,0,155,10,15,-103,7602.3]
["2009-10-12T02:22:22",60.020999908447266,3656.785400390625,350,-263.04736328125,0,155.5,10,15,-103,7602.63]
["2009-10-12T02:22:24",60.020000457763672,3657.571044921875,350,-263.04736328125,0,156,10,15,-103,7602.96]
["2009-10-12T02:22:26",60.019001007080078,3658.1259765625,350,-260.984375,0,156.5,10,15,-103,7603.29]
["2009-10-12T02:22:28",60.019001007080078,3657.71044921875,350,-260.984375,0,157,10,15,-103,7603.62]
["2009-10-12T02:22:30",60.021999359130859,3658.0146484375,350,-260.984375,0,157.5,10,15,-103,7603.95]
["2009-10-12T02:22:32",60.025001525878906,3660.2275390625,350,-260.984375,0,158,10,15,-103,7604.28]
["2009-10-12T02:22:34",60.025001525878906,3659.2236328125,350,-260.984375,0,158.5,10,15,-103,7604.61]
["2009-10-12T02:22:36",60.0260009765625,3658.6982421875,350,-261.31832885742187,0,159,10,15,-103,7604.94]
["2009-10-12T02:22:38",60.020000457763672,3658.668701171875,350,-261.31832885742187,0,159.5,10,15,-103,7605.27]
["2009-10-12T02:22:40",60.020000457763672,3658.154541015625,350,-261.31832885742187,0,160,10,15,-103,7605.6]
["2009-10-12T02:22:42",60.018001556396484,3659.129638671875,350,-261.31832885742187,0,160.5,10,15,-103,7605.93]
["2009-10-12T02:22:44",60.018001556396484,3659.777587890625,350,-261.31832885742187,0,161,10,15,-103,7606.26]
["2009-10-12T02:22:46",60.020000457763672,3660.819580078125,350,-262.10260009765625,0,161.5,10,15,-103,7606.59]
["2009-10-12T02:22:48",60.019001007080078,3662.531494140625,350,-262.10260009765625,0,162,10,15,-103,7606.92]
["2009-10-12T02:22:50",60.019001007080078,3662.38720703125,350,-262.10260009765625,0,162.5,10,15,-103,7607.25]
["2009-10-12T02:22:52",60.022998809814453,3662.078857421875,350,-262.10260009765625,0,163,10,15,-103,7607.58]
["2009-10-12T02:22:54",60.021999359130859,3662.39013671875,350,-262.10260009765625,0,163.5,10,15,-103,7607.91]
["2009-10-12T02:22:56",60.021999359130859,3662.67822265625,350,-262.71701049804687,0,164,10,15,-103,7608.24]
["2009-10-12T02:22:58",60.025001525878906,3663.57666015625,350,-262.71701049804687,0,164.5,10,15,-103,7608.57]
["2009-10-12T02:23:00",60.020000457763672,3663.53857421875,350,-262.71701049804687,0,165,10,15,-103,7608.9]
["2009-10-12T02:23:02",60.020000457763672,3662.959228515625,350,-262.71701049804687,0,165.5,10,15,-103,7609.23]
["2009-10-12T02:23:04",60.020000457763672,3662.552490234375,350,-262.71701049804687,0,166,10,15,-103,7609.56]
["2009-10-12T02:23:06",60.020000457763672,3662.54296875,350,-260.0164794921875,0,166.5,10,15,-103,7609.89]
["2009-10-12T02:23:08",60.020000457763672,3663.6005859375,350,-260.0164794921875,0,167,10,15,-103,7610.22]
["2009-10-12T02:23:10",60.020999908447266,3663.90966796875,350,-260.0164794921875,0,167.5,10,15,-103,7610.55]
["2009-10-12T02:23:12",60.020999908447266,3663.68994140625,350,-260.0164794921875,0,168,10,15,-103,7610.88]
["2009-10-12T02:23:14",60.018001556396484,3662.791259765625,350,-260.0164794921875,0,168.5,10,15,-103,7611.21]
["2009-10-12T02:23:16",60.013999938964844,3663.395751953125,350,-263.87322998046875,0,169,10,15,-103,7611.54]
["2009-10-12T02:23:18",60.013999938964844,3663.69775390625,350,-263.87322998046875,0,169.5,10,15,-103,7611.87]
["2009-10-12T02:23:20",60.013999938964844,3664.3154296875,350,-263.87322998046875,0,170,10,15,-103,7612.2]
["2009-10-12T02:23:22",60.01300048828125,3665.31298828125,350,-263.87322998046875,0,170.5,10,15,-103,7612.53]
["2009-10-12T02:23:24",60.01300048828125,3665.797607421875,350,-263.87322998046875,0,171,10,15,-103,7612.86]
["2009-10-12T02:23:26",60.009998321533203,3666.14111328125,350,-264.597900390625,0,171.5,10,15,-103,7613.19]
["2009-10-12T02:23:28",60.007999420166016,3666.725830078125,350,-264.597900390625,0,172,10,15,-103,7613.52]
["2009-10-12T02:23:30",60.011001586914063,3667.6767578125,350,-264.597900390625,0,172.5,10,15,-103,7613.85]
["2009-10-12T02:23:32",60.011001586914063,3667.54541015625,350,-264.597900390625,0,173,10,15,-103,7614.18]
["2009-10-12T02:23:34",60.012001037597656,3666.688232421875,350,-264.597900390625,0,173.5,10,15,-103,7614.51]
["2009-10-12T02:23:36",60.012001037597656,3666.44873046875,350,-262.41592407226562,0,174,10,15,-103,7614.84]
["2009-10-12T02:23:38",60.008998870849609,3666.71044921875,350,-262.41592407226562,0,174.5,10,15,-103,7615.17]
["2009-10-12T02:23:40",60.008998870849609,3667.696044921875,350,-262.41592407226562,0,175,10,15,-103,7615.5]
["2009-10-12T02:23:42",60.008998870849609,3667.398193359375,350,-262.41592407226562,0,175.5,10,15,-103,7615.83]
["2009-10-12T02:23:44",60.008998870849609,3667.04296875,350,-262.41592407226562,0,176,10,15,-103,7616.16]
["2009-10-12T02:23:46",60.005001068115234,3666.62353515625,350,-259.68524169921875,0,176.5,10,15,-103,7616.49]
["2009-10-12T02:23:48",60.001998901367188,3666.22265625,350,-259.68524169921875,0,177,10,15,-103,7616.82]
["2009-10-12T02:23:50",59.999000549316406,3665.879638671875,350,-259.68524169921875,0,177.5,10,15,-103,7617.15]
["2009-10-12T02:23:52",59.995998382568359,3665.4033203125,350,-259.68524169921875,0,178,10,15,-103,7617.48]
["2009-10-12T02:23:54",59.994998931884766,3665.801513671875,350,-259.68524169921875,0,178.5,10,15,-103,7617.81]
["2009-10-12T02:23:56",59.997001647949219,3665.6796875,350,-255.9110107421875,0,179,10,15,-103,7618.14]
["2009-10-12T02:23:58",59.998001098632813,3665.35205078125,350,-255.9110107421875,0,179.5,10,15,-103,7618.47]
["2009-10-12T02:24:00",59.998001098632813,3664.947509765625,350,-255.9110107421875,0,180,10,15,-103,7618.8]
["2009-10-12T02:24:02",59.998001098632813,3665.06494140625,350,-255.9110107421875,0,180.5,10,15,-103,7619.13]
["2009-10-12T02:24:04",59.998001098632813,3666.13330078125,350,-255.9110107421875,0,181,10,15,-103,7619.46]
["2009-10-12T02:24:06",59.994998931884766,3666.6396484375,350,-258.148193359375,0,181.5,10,15,-103,7619.79]
["2009-10-12T02:24:08",59.994998931884766,3666.734619140625,350,-258.148193359375,0,182,10,15,-103,7620.12]
["2009-10-12T02:24:10",59.992000579833984,3667.083984375,350,-258.148193359375,0,182.5,10,15,-103,7620.45]
["2009-10-12T02:24:12",59.993000030517578,3667.557373046875,350,-258.148193359375,0,183,10,15,-103,7620.78]
["2009-10-12T02:24:14",59.987998962402344,3667.336669921875,350,-258.148193359375,0,183.5,10,15,-103,7621.11]
["2009-10-12T02:24:16",59.987998962402344,3667.853271484375,350,-258.87359619140625,0,184,10,15,-103,7621.44]
["2009-10-12T02:24:18",59.981998443603516,3668.116455078125,350,-258.87359619140625,0,184.5,10,15,-103,7621.77]
["2009-10-12T02:24:20",59.981998443603516,3668.69091796875,350,-258.87359619140625,0,185,10,15,-103,7622.1]
["2009-10-12T02:24:22",59.981998443603516,3669.399169921875,350,-258.87359619140625,0,185.5,10,15,-103,7622.43]
["2009-10-12T02:24:24",59.981998443603516,3669.606201171875,350,-258.87359619140625,0,186,10,15,-103,7622.76]
["2009-10-12T02:24:26",59.984001159667969,3671.22802734375,350,-249.33757019042969,0,186.5,10,15,-103,7623.09]
["2009-10-12T02:24:28",59.981998443603516,3670.25,350,-249.33757019042969,0,187,10,15,-103,7623.42]
["2009-10-12T02:24:30",59.978000640869141,3670.2646484375,350,-249.33757019042969,0,187.5,10,15,-103,7623.75]
["2009-10-12T02:24:32",59.978000640869141,3671.548828125,350,-249.33757019042969,0,188,10,15,-103,7624.08]
["2009-10-12T02:24:34",59.976001739501953,3673.2431640625,350,-249.33757019042969,0,188.5,10,15,-103,7624.41]
["2009-10-12T02:24:36",59.974998474121094,3674.262939453125,350,-258.27816772460937,0,189,10,15,-103,7624.74]
["2009-10-12T02:24:38",59.9739990234375,3675.824462890625,350,-258.27816772460937,0,189.5,10,15,-103,7625.07]
["2009-10-12T02:24:40",59.9739990234375,3676.418212890625,350,-258.27816772460937,0,190,10,15,-103,7625.4]
["2009-10-12T02:24:42",59.979000091552734,3676.3056640625,350,-258.27816772460937,0,190.5,10,15,-103,7625.73]
["2009-10-12T02:24:44",59.979999542236328,3674.637451171875,350,-258.27816772460937,0,191,10,15,-103,7626.06]
["2009-10-12T02:24:46",59.980998992919922,3675.328857421875,350,-258.4063720703125,0,191.5,10,15,-103,7626.39]
["2009-10-12T02:24:48",59.979999542236328,3675.22607421875,350,-258.4063720703125,0,192,10,15,-103,7626.72]
["2009-10-12T02:24:50",59.984001159667969,3674.76806640625,350,-258.4063720703125,0,192.5,10,15,-103,7627.05]
["2009-10-12T02:24:52",59.98699951171875,3674.3994140625,350,-258.4063720703125,0,193,10,15,-103,7627.38]
["2009-10-12T02:24:54",59.987998962402344,3673.51416015625,350,-258.4063720703125,0,193.5,10,15,-103,7627.71]
["2009-10-12T02:24:56",59.987998962402344,3673.03955078125,350,-260.53887939453125,0,194,10,15,-103,7628.04]
["2009-10-12T02:24:58",59.990001678466797,3672.441650390625,350,-260.53887939453125,0,194.5,10,15,-103,7628.37]
["2009-10-12T02:25:00",59.992000579833984,3673.056396484375,350,-260.53887939453125,0,195,10,15,-103,7628.7]
["2009-10-12T02:25:02",59.991001129150391,3671.68017578125,350,-260.53887939453125,0,195.5,10,15,-103,7629.03]
["2009-10-12T02:25:04",59.991001129150391,3671.4931640625,350,-260.53887939453125,0,196,10,15,-103,7629.36]
["2009-10-12T02:25:06",59.991001129150391,3669.530029296875,350,-257.882080078125,0,196.5,10,15,-103,7629.69]
["2009-10-12T02:25:08",59.993000030517578,3670.066162109375,350,-257.882080078125,0,197,10,15,-103,7630.02]
["2009-10-12T02:25:10",59.993000030517578,3670.02783203125,350,-257.882080078125,0,197.5,10,15,-103,7630.35]
["2009-10-12T02:25:12",59.995998382568359,3671.744140625,350,-257.882080078125,0,198,10,15,-103,7630.68]
["2009-10-12T02:25:14",60.001998901367188,3671.578125,350,-257.882080078125,0,198.5,10,15,-103,7631.01]
["2009-10-12T02:25:16",60.001998901367188,3672.62548828125,350,-258.58865356445313,0,199,10,15,-103,7631.34]
["2009-10-12T02:25:18",60.002998352050781,3672.674072265625,350,-258.58865356445313,0,199.5,10,15,-103,7631.67]
["2009-10-12T02:25:20",60.004001617431641,3673.818603515625,350,-258.58865356445313,0,200,10,15,-103,7632]
["2009-10-12T02:25:22",60.005001068115234,3673.24951171875,350,-258.58865356445313,0,200.5,10,15,-103,7632.33]
["2009-10-12T02:25:24",60.004001617431641,3673.18212890625,350,-258.58865356445313,0,201,10,15,-103,7632.66]
["2009-10-12T02:25:26",60.001998901367188,3673.496337890625,350,-261.90615844726562,0,201.5,10,15,-103,7632.99]
["2009-10-12T02:25:28",60.004001617431641,3672.41796875,350,-261.90615844726562,0,202,10,15,-103,7633.32]
["2009-10-12T02:25:30",60.007999420166016,3672.363037109375,350,-261.90615844726562,0,202.5,10,15,-103,7633.65]
["2009-10-12T02:25:32",60.009998321533203,3672.216796875,350,-261.90615844726562,0,203,10,15,-103,7633.98]
["2009-10-12T02:25:34",60.009998321533203,3672.2607421875,350,-261.90615844726562,0,203.5,10,15,-103,7634.31]
["2009-10-12T02:25:36",60.009998321533203,3673.18212890625,350,-256.747802734375,0,204,10,15,-103,7634.64]
["2009-10-12T02:25:38",60.011001586914063,3673.603271484375,350,-256.747802734375,0,204.5,10,15,-103,7634.97]
["2009-10-12T02:25:40",60.01300048828125,3673.553466796875,350,-256.747802734375,0,205,10,15,-103,7635.3]
["2009-10-12T02:25:42",60.013999938964844,3674.31201171875,350,-256.747802734375,0,205.5,10,15,-103,7635.63]
["2009-10-12T02:25:44",60.01300048828125,3674.537109375,350,-256.747802734375,0,206,10,15,-103,7635.96]
["2009-10-12T02:25:46",60.012001037597656,3673.8125,350,-167.43197631835937,0,206.5,10,15,-103,7636.29]
["2009-10-12T02:25:48",60.011001586914063,3673.20361328125,350,-167.43197631835937,0,207,10,15,-103,7636.62]
["2009-10-12T02:25:50",60.011001586914063,3672.563232421875,350,-167.43197631835937,0,207.5,10,15,-103,7636.95]
["2009-10-12T02:25:52",60.016998291015625,3673.067626953125,350,-167.43197631835937,0,208,10,15,-103,7637.28]
["2009-10-12T02:25:54",60.021999359130859,3672.38818359375,350,-167.43197631835937,0,208.5,10,15,-103,7637.61]
["2009-10-12T02:25:56",60.016998291015625,3672.51953125,350,-164.97340393066406,0,209,10,15,-103,7637.94]
["2009-10-12T02:25:58",60.013999938964844,3671.25,350,-164.97340393066406,0,209.5,10,15,-103,7638.27]
["2009-10-12T02:26:00",60.01300048828125,3671.2880859375,350,-164.97340393066406,0,210,10,15,-103,7638.6]
["2009-10-12T02:26:02",60.013999938964844,3672.989013671875,350,-164.97340393066406,0,210.5,10,15,-103,7638.93]
["2009-10-12T02:26:04",60.016998291015625,3672.981689453125,350,-164.97340393066406,0,211,10,15,-103,7639.26]
["2009-10-12T02:26:06",60.016998291015625,3672.915283203125,350,-157.62808227539062,0,211.5,10,15,-103,7639.59]
["2009-10-12T02:26:08",60.019001007080078,3671.95166015625,350,-157.62808227539062,0,212,10,15,-103,7639.92]
["2009-10-12T02:26:10",60.019001007080078,3671.193115234375,350,-157.62808227539062,0,212.5,10,15,-103,7640.25]
["2009-10-12T02:26:12",60.019001007080078,3671.627197265625,350,-157.62808227539062,0,213,10,15,-103,7640.58]
["2009-10-12T02:26:14",60.027000427246094,3671.18896484375,350,-157.62808227539062,0,213.5,10,15,-103,7640.91]
["2009-10-12T02:26:16",60.0260009765625,3668.610595703125,350,-155.53170776367187,0,214,10,15,-103,7641.24]
["2009-10-12T02:26:18",60.0260009765625,3665.232177734375,350,-155.53170776367187,0,214.5,10,15,-103,7641.57]
["2009-10-12T02:26:20",60.021999359130859,3664.4951171875,350,-155.53170776367187,0,215,10,15,-103,7641.9]
["2009-10-12T02:26:22",60.019001007080078,3666.061767578125,350,-155.53170776367187,0,215.5,10,15,-103,7642.23]
["2009-10-12T02:26:24",60.016998291015625,3666.82080078125,350,-155.53170776367187,0,216,10,15,-103,7642.56]
["2009-10-12T02:26:26",60.019001007080078,3666.787353515625,350,-160.44723510742187,0,216.5,10,15,-103,7642.89]
["2009-10-12T02:26:28",60.020000457763672,3670.45361328125,350,-160.44723510742187,0,217,10,15,-103,7643.22]
["2009-10-12T02:26:30",60.019001007080078,3670.266845703125,350,-160.44723510742187,0,217.5,10,15,-103,7643.55]
["2009-10-12T02:26:32",60.020999908447266,3671.66796875,350,-160.44723510742187,0,218,10,15,-103,7643.88]
["2009-10-12T02:26:34",60.020999908447266,3672.4931640625,350,-160.44723510742187,0,218.5,10,15,-103,7644.21]
["2009-10-12T02:26:36",60.020999908447266,3672.68505859375,350,-163.95860290527344,0,219,10,15,-103,7644.54]
["2009-10-12T02:26:38",60.019001007080078,3672.857421875,350,-163.95860290527344,0,219.5,10,15,-103,7644.87]
["2009-10-12T02:26:40",60.018001556396484,3672.1640625,350,-163.95860290527344,0,220,10,15,-103,7645.2]
["2009-10-12T02:26:42",60.021999359130859,3671.4130859375,350,-163.95860290527344,0,220.5,10,15,-103,7645.53]
["2009-10-12T02:26:44",60.030998229980469,3669.98291015625,350,-163.95860290527344,0,221,10,15,-103,7645.86]
["2009-10-12T02:26:46",60.036998748779297,3666.46728515625,350,-166.07244873046875,0,221.5,10,15,-103,7646.19]
["2009-10-12T02:26:48",60.036998748779297,3663.758056640625,350,-166.07244873046875,0,222,10,15,-103,7646.52]
["2009-10-12T02:26:50",60.035999298095703,3661.59912109375,350,-166.07244873046875,0,222.5,10,15,-103,7646.85]
["2009-10-12T02:26:52",60.036998748779297,3660.67236328125,350,-166.07244873046875,0,223,10,15,-103,7647.18]
["2009-10-12T02:26:54",60.046001434326172,3651.49169921875,350,-166.07244873046875,0,223.5,10,15,-103,7647.51]
["2009-10-12T02:26:56",60.048000335693359,3649.1904296875,350,-163.76658630371094,0,224,10,15,-103,7647.84]
["2009-10-12T02:26:58",60.048000335693359,3650.025146484375,350,-163.76658630371094,0,224.5,10,15,-103,7648.17]
["2009-10-12T02:27:00",60.042999267578125,3648.246337890625,350,-163.76658630371094,0,225,10,15,-103,7648.5]
["2009-10-12T02:27:02",60.041000366210938,3649.511962890625,350,-163.76658630371094,0,225.5,10,15,-103,7648.83]
["2009-10-12T02:27:04",60.041000366210938,3654.29443359375,350,-163.76658630371094,0,226,10,15,-103,7649.16]
["2009-10-12T02:27:06",60.041000366210938,3655.0068359375,350,-165.1016845703125,0,226.5,10,15,-103,7649.49]
["2009-10-12T02:27:08",60.03900146484375,3651.874267578125,350,-165.1016845703125,0,227,10,15,-103,7649.82]
["2009-10-12T02:27:10",60.041000366210938,3651.059326171875,350,-165.1016845703125,0,227.5,10,15,-103,7650.15]
["2009-10-12T02:27:12",60.042999267578125,3649.18701171875,350,-165.1016845703125,0,228,10,15,-103,7650.48]
["2009-10-12T02:27:14",60.044998168945313,3648.236328125,350,-165.1016845703125,0,228.5,10,15,-103,7650.81]
["2009-10-12T02:27:16",60.046001434326172,3645.386962890625,350,-165.47639465332031,0,229,10,15,-103,7651.14]
["2009-10-12T02:27:18",60.041000366210938,3644.627685546875,350,-165.47639465332031,0,229.5,10,15,-103,7651.47]
["2009-10-12T02:27:20",60.041000366210938,3645.44580078125,350,-165.47639465332031,0,230,10,15,-103,7651.8]
["2009-10-12T02:27:22",60.041000366210938,3640.68212890625,350,-165.47639465332031,0,230.5,10,15,-103,7652.13]
["2009-10-12T02:27:24",60.03900146484375,3641.191162109375,350,-165.47639465332031,0,231,10,15,-103,7652.46]
["2009-10-12T02:27:26",59.978000640869141,3659.46484375,350,-206.4591064453125,0,231.5,10,15,-103,7652.79]
["2009-10-12T02:27:28",59.852001190185547,3696.3623046875,350,-206.4591064453125,0,232,10,0,-103,7616]
["2009-10-12T02:27:30",59.83599853515625,3734.904296875,335,-206.4591064453125,0,232.5,10,0,-103,7626]
["2009-10-12T02:27:32",59.868999481201172,3734.672607421875,335,-206.4591064453125,0,233,10,0,-103,7632]
["2009-10-12T02:27:34",59.891998291015625,3737.15673828125,335,-206.4591064453125,0,233.5,10,0,-103,7632]
["2009-10-12T02:27:36",59.890998840332031,3761.24951171875,335,-211.25604248046875,0,234,10,0,-103,7632]
["2009-10-12T02:27:38",59.880001068115234,3766.113037109375,335,-211.25604248046875,1,234.5,10,0,-103,7632]
["2009-10-12T02:27:40",59.875999450683594,3766.19384765625,335,-211.25604248046875,1,235,10,0,-103,7632]
["2009-10-12T02:27:42",59.875,3768.876953125,335,-211.25604248046875,1,235.5,10,0,-103,7632]
["2009-10-12T02:27:44",59.882999420166016,3769.925048828125,335,-211.25604248046875,1,236,10,0,-103,7632]
["2009-10-12T02:27:46",59.887001037597656,3780.62060546875,335,-214.34669494628906,1,236.5,10,0,-103,7632]
["2009-10-12T02:27:48",59.886001586914063,3781.591796875,335,-214.34669494628906,1,237,10,0,-103,7632]
["2009-10-12T02:27:50",59.884998321533203,3782.49951171875,335,-214.34669494628906,1,237.5,10,0,-103,7632]
["2009-10-12T02:27:52",59.887001037597656,3784.9619140625,335,-214.34669494628906,2,238,10,0,-103,7632]
["2009-10-12T02:27:54",59.88800048828125,3784.729736328125,335,-214.34669494628906,3,238.5,10,0,-103,7632]
["2009-10-12T02:27:56",59.889999389648437,3784.4189453125,335,-212.17269897460937,4,239,10,0,-103,7632]
["2009-10-12T02:27:58",59.895000457763672,3788.072265625,335,-212.17269897460937,5,239.5,10,0,-103,7632]
["2009-10-12T02:28:00",59.894001007080078,3788.32763671875,335,-212.17269897460937,6,240,10,0,-103,7632]
["2009-10-12T02:28:02",59.893001556396484,3788.868408203125,335,-212.17269897460937,7,240.5,10,0,-103,7632]
["2009-10-12T02:28:04",59.894001007080078,3788.471923828125,335,-212.17269897460937,8,241,10,0,-103,7632]
["2009-10-12T02:28:06",59.894001007080078,3792.275634765625,335,-215.59817504882812,9,241.5,10,0,-103,7632]
["2009-10-12T02:28:08",59.890998840332031,3793.074462890625,335,-215.59817504882812,10,242,10,0,-103,7632]
["2009-10-12T02:28:10",59.889999389648437,3794.374267578125,335,-215.59817504882812,11,242.5,10,0,-103,7632]
["2009-10-12T02:28:12",59.884998321533203,3799.427734375,335,-215.59817504882812,12,243,10,0,-103,7632]
["2009-10-12T02:28:14",59.884998321533203,3800.427490234375,335,-215.59817504882812,13,243.5,10,0,-103,7632]
["2009-10-12T02:28:16",59.88800048828125,3799.959228515625,335,-218.32725524902344,14,244,10,0,-103,7632]
["2009-10-12T02:28:18",59.887001037597656,3803.625,335,-218.32725524902344,15,244.5,10,0,-103,7632]
["2009-10-12T02:28:20",59.88800048828125,3802.925048828125,335,-218.32725524902344,16,245,10,0,-103,7632]
["2009-10-12T02:28:22",59.88800048828125,3802.950927734375,335,-218.32725524902344,16,245.5,10,0,-103,7632]
["2009-10-12T02:28:24",59.889999389648437,3804.387939453125,335,-218.32725524902344,16,246,10,0,-103,7632]
["2009-10-12T02:28:26",59.888999938964844,3805.49609375,335,-217.37942504882812,16,246.5,10,0,-103,7632]
["2009-10-12T02:28:28",59.881999969482422,3805.61669921875,335,-217.37942504882812,16,247,10,0,-103,7632]
["2009-10-12T02:28:30",59.873001098632813,3809.2373046875,335,-217.37942504882812,16,247.5,10,0,-103,7631]
["2009-10-12T02:28:32",59.856998443603516,3811.5029296875,335,-217.37942504882812,16,248,10,0,-103,7625]
["2009-10-12T02:28:34",59.8489990234375,3814.8623046875,335,-217.37942504882812,16,248.5,10,0,-103,7623]
["2009-10-12T02:28:36",59.852001190185547,3815.888916015625,335,-214.83035278320312,16,249,10,0,-103,7621]
["2009-10-12T02:28:38",59.858001708984375,3825.642578125,335,-214.83035278320312,16,249.5,10,0,-103,7623]
["2009-10-12T02:28:40",59.862998962402344,3826.05322265625,335,-214.83035278320312,16,250,10,0,-103,7625]
["2009-10-12T02:28:42",59.866001129150391,3826.00244140625,335,-214.83035278320312,16,250.5,10,0,-103,7627]
["2009-10-12T02:28:44",59.865001678466797,3827.52392578125,335,-214.83035278320312,16,251,10,0,-103,7628]
["2009-10-12T02:28:46",59.867000579833984,3826.753173828125,335,-227.65591430664062,16,251.5,10,0,-103,7628]
["2009-10-12T02:28:48",59.866001129150391,3826.783447265625,335,-227.65591430664062,16,252,10,0,-103,7629]
["2009-10-12T02:28:50",59.870998382568359,3826.45361328125,335,-227.65591430664062,16,252.5,10,0,-103,7630]
["2009-10-12T02:28:52",59.874000549316406,3825.71337890625,335,-227.65591430664062,16,253,10,0,-103,7631]
["2009-10-12T02:28:54",59.879001617431641,3823.82568359375,335,-227.65591430664062,16,253.5,10,0,-103,7635]
["2009-10-12T02:28:56",59.880001068115234,3822.50537109375,335,-225.01808166503906,16,254,10,0,-103,7638]
["2009-10-12T02:28:58",59.882999420166016,3819.0810546875,335,-225.01808166503906,16,254.5,10,0,-103,7639]
["2009-10-12T02:29:00",59.886001586914063,3818.05517578125,335,-225.01808166503906,16,255,10,0,-103,7642]
["2009-10-12T02:29:02",59.889999389648437,3816.814697265625,335,-225.01808166503906,16,255.5,10,0,-103,7644]
["2009-10-12T02:29:04",59.891998291015625,3815.009765625,335,-225.01808166503906,16,256,10,0,-103,7645]
["2009-10-12T02:29:06",59.888999938964844,3813.78271484375,335,-228.36515808105469,16,256.5,10,0,-103,7647]
["2009-10-12T02:29:08",59.893001556396484,3811.83837890625,335,-228.36515808105469,16,257,10,0,-103,7648]
["2009-10-12T02:29:10",59.898998260498047,3809.65185546875,335,-228.36515808105469,16,257.5,10,0,-103,7649]
["2009-10-12T02:29:12",59.902999877929688,3806.97216796875,335,-228.36515808105469,16,258,10,0,-103,7650]
["2009-10-12T02:29:14",59.902000427246094,3805.59326171875,335,-228.36515808105469,16,258.5,10,0,-103,7651]
["2009-10-12T02:29:16",59.902000427246094,3804.1884765625,335,-234.07533264160156,16,259,10,0,-103,7652]
["2009-10-12T02:29:18",59.903999328613281,3796.07763671875,335,-234.07533264160156,16,259.5,10,0,-103,7653]
["2009-10-12T02:29:20",59.907001495361328,3793.97509765625,335,-234.07533264160156,16,260,10,0,-103,7654]
["2009-10-12T02:29:22",59.910999298095703,3792.16943359375,335,-234.07533264160156,16,260.5,10,0,-103,7655]
["2009-10-12T02:29:24",59.916000366210938,3791.501953125,335,-234.07533264160156,16,261,10,0,-103,7655]
["2009-10-12T02:29:26",59.916000366210938,3789.53369140625,335,-228.79815673828125,16,261.5,10,0,-103,7656]
["2009-10-12T02:29:28",59.916999816894531,3788.132080078125,335,-228.79815673828125,16,262,10,0,-103,7656]
["2009-10-12T02:29:30",59.917999267578125,3784.5634765625,335,-228.79815673828125,16,262.5,10,0,-103,7657]
["2009-10-12T02:29:32",59.919998168945313,3783.0283203125,335,-228.79815673828125,16,263,10,0,-103,7657]
["2009-10-12T02:29:34",59.921001434326172,3781.701171875,335,-228.79815673828125,16,263.5,10,0,-103,7658]
["2009-10-12T02:29:36",59.919998168945313,3776.3583984375,335,-229.46696472167969,16,264,10,0,-103,7658]
["2009-10-12T02:29:38",59.916999816894531,3775.635498046875,335,-229.46696472167969,16,264.5,10,0,-103,7659]
["2009-10-12T02:29:40",59.919998168945313,3774.604248046875,335,-229.46696472167969,16,265,10,0,-103,7659]
["2009-10-12T02:29:42",59.921001434326172,3773.333740234375,335,-229.46696472167969,16,265.5,10,0,-103,7659]
["2009-10-12T02:29:44",59.923000335693359,3773.957763671875,335,-229.46696472167969,16,266,10,0,-103,7660]
["2009-10-12T02:29:46",59.925998687744141,3772.722412109375,335,-228.98016357421875,16,266.5,10,0,-103,7660]
["2009-10-12T02:29:48",59.924999237060547,3771.67041015625,335,-228.98016357421875,16,267,10,0,-103,7661]
["2009-10-12T02:29:50",59.928001403808594,3769.629638671875,335,-228.98016357421875,16,267.5,10,0,-103,7661]
["2009-10-12T02:29:52",59.926998138427734,3768.70703125,335,-228.98016357421875,16,268,10,0,-103,7662]
["2009-10-12T02:29:54",59.931999206542969,3767.642822265625,335,-228.98016357421875,16,268.5,10,0,-103,7662]
["2009-10-12T02:29:56",59.926998138427734,3767.02099609375,335,-219.97555541992187,16,269,10,0,-103,7663]
["2009-10-12T02:29:58",59.928001403808594,3767.407958984375,335,-219.97555541992187,16,269.5,10,0,-103,7663]
["2009-10-12T02:30:00",59.930999755859375,3766.7880859375,335,-219.97555541992187,16,270,10,0,-103,7664]
["2009-10-12T02:30:02",59.929000854492187,3766.259033203125,335,-219.97555541992187,16,270.5,10,0,-103,7664]
["2009-10-12T02:30:04",59.930999755859375,3765.671630859375,335,-219.97555541992187,16,271,10,0,-103,7665]
["2009-10-12T02:30:06",59.932998657226562,3766.12255859375,335,-229.08924865722656,16,271.5,10,0,-103,7666]
["2009-10-12T02:30:08",59.937000274658203,3764.24267578125,335,-229.08924865722656,16,272,10,0,-103,7666]
["2009-10-12T02:30:10",59.937000274658203,3765.10498046875,335,-229.08924865722656,16,272.5,10,0,-103,7667]
["2009-10-12T02:30:12",59.944999694824219,3762.935302734375,335,-229.08924865722656,16,273,10,0,-103,7668]
["2009-10-12T02:30:14",59.949001312255859,3758.38720703125,335,-229.08924865722656,16,273.5,10,0,-103,7668]
["2009-10-12T02:30:16",59.946998596191406,3753.92236328125,335,-229.66326904296875,16,274,10,0,-103,7669]
["2009-10-12T02:30:18",59.942001342773438,3749.8671875,335,-229.66326904296875,16,274.5,10,0,-103,7669]
["2009-10-12T02:30:20",59.941001892089844,3746.888671875,335,-229.66326904296875,16,275,10,0,-103,7670]
["2009-10-12T02:30:22",59.942001342773438,3747.87548828125,335,-229.66326904296875,16,275.5,10,0,-103,7670]
["2009-10-12T02:30:24",59.944999694824219,3749.59326171875,335,-229.66326904296875,16,276,10,0,-103,7671]
["2009-10-12T02:30:26",59.948001861572266,3748.6611328125,335,-229.23385620117187,16,276.5,10,0,-103,7671]
["2009-10-12T02:30:28",59.946998596191406,3746.7060546875,335,-229.23385620117187,16,277,10,0,-103,7672]
["2009-10-12T02:30:30",59.949001312255859,3749.076904296875,335,-229.23385620117187,16,277.5,10,0,-103,7673]
["2009-10-12T02:30:32",59.951000213623047,3742.741455078125,335,-229.23385620117187,16,278,10,0,-103,7673]
["2009-10-12T02:30:34",59.951999664306641,3740.259033203125,350,-229.23385620117187,16,278.5,10,0,-103,7673]
["2009-10-12T02:30:36",59.952999114990234,3736.13916015625,350,-231.40988159179687,16,279,10,0,-103,7673]
["2009-10-12T02:30:38",59.951000213623047,3731.382080078125,350,-231.40988159179687,16,279.5,10,0,-103,7673]
["2009-10-12T02:30:40",59.951999664306641,3727.83837890625,350,-231.40988159179687,16,280,10,0,-103,7673]
["2009-10-12T02:30:42",59.951999664306641,3725.95166015625,350,-231.40988159179687,16,280.5,10,0,-103,7673]
["2009-10-12T02:30:44",59.951999664306641,3722.64892578125,350,-231.40988159179687,16,281,10,0,-103,7673]
["2009-10-12T02:30:46",59.955001831054688,3720.578125,350,-218.62228393554687,16,281.5,10,0,-103,7673]
["2009-10-12T02:30:48",59.951999664306641,3717.99609375,350,-218.62228393554687,16,282,10,0,-103,7673]
["2009-10-12T02:30:50",59.953998565673828,3718.141845703125,350,-218.62228393554687,16,282.5,10,0,-103,7673]
["2009-10-12T02:30:52",59.951999664306641,3715.752685546875,350,-218.62228393554687,16,283,10,0,-103,7673]
["2009-10-12T02:30:54",59.952999114990234,3713.69384765625,350,-218.62228393554687,16,283.5,10,0,-103,7673]
["2009-10-12T02:30:56",59.952999114990234,3713.483642578125,350,-213.53585815429687,16,284,10,0,-103,7673]
["2009-10-12T02:30:58",59.951999664306641,3710.84814453125,350,-213.53585815429687,16,284.5,10,0,-103,7673]
["2009-10-12T02:31:00",59.953998565673828,3710.81005859375,350,-213.53585815429687,16,285,10,0,-103,7673]
["2009-10-12T02:31:02",59.953998565673828,3712.091796875,350,-213.53585815429687,16,285.5,10,0,-103,7674]
["2009-10-12T02:31:04",59.958999633789063,3714.62255859375,350,-213.53585815429687,16,286,10,0,-103,7675]
["2009-10-12T02:31:06",59.957000732421875,3715.129638671875,350,-225.65185546875,16,286.5,10,0,-103,7676]
["2009-10-12T02:31:08",59.956001281738281,3716.168212890625,350,-225.65185546875,16,287,10,0,-103,7677]
["2009-10-12T02:31:10",59.953998565673828,3716.46142578125,350,-225.65185546875,16,287.5,10,0,-103,7678]
["2009-10-12T02:31:12",59.956001281738281,3716.97998046875,350,-225.65185546875,16,288,10,0,-103,7679]
["2009-10-12T02:31:14",59.955001831054688,3717.759033203125,350,-225.65185546875,16,288.5,10,0,-103,7680]
["2009-10-12T02:31:16",59.958000183105469,3722.361328125,350,-212.57363891601562,16,289,10,0,-103,7681]
["2009-10-12T02:31:18",59.96099853515625,3721.97314453125,350,-212.57363891601562,16,289.5,10,0,-103,7682]
["2009-10-12T02:31:20",59.962001800537109,3722.657958984375,350,-212.57363891601562,16,290,10,0,-103,7684]
["2009-10-12T02:31:22",59.962001800537109,3722.2666015625,350,-212.57363891601562,16,290.5,10,0,-103,7685]
["2009-10-12T02:31:24",59.967998504638672,3722.277587890625,350,-212.57363891601562,16,291,10,0,-103,7687]
["2009-10-12T02:31:26",59.965999603271484,3721.78662109375,350,-219.89729309082031,16,291.5,10,0,-103,7689]
["2009-10-12T02:31:28",59.965999603271484,3723.0908203125,350,-219.89729309082031,16,292,10,0,-103,7690]
["2009-10-12T02:31:30",59.967998504638672,3723.98388671875,350,-219.89729309082031,16,292.5,10,0,-103,7692]
["2009-10-12T02:31:32",59.970001220703125,3723.4345703125,350,-219.89729309082031,16,293,10,0,-103,7692]
["2009-10-12T02:31:34",59.9739990234375,3723.89306640625,350,-219.89729309082031,16,293.5,10,0,-103,7693]
["2009-10-12T02:31:36",59.970001220703125,3725.40283203125,350,-231.17539978027344,16,294,10,0,-103,7693]
["2009-10-12T02:31:38",59.969001770019531,3727.12109375,350,-231.17539978027344,16,294.5,10,0,-103,7694]
["2009-10-12T02:31:40",59.969001770019531,3728.052978515625,350,-231.17539978027344,16,295,10,0,-103,7694]
["2009-10-12T02:31:42",59.970001220703125,3731.1298828125,350,-231.17539978027344,16,295.5,10,0,-103,7695]
["2009-10-12T02:31:44",59.971000671386719,3732.530029296875,350,-231.17539978027344,16,296,10,0,-103,7695]
["2009-10-12T02:31:46",59.972999572753906,3733.3271484375,350,-226.63412475585937,16,296.5,10,0,-103,7695]
["2009-10-12T02:31:48",59.972999572753906,3736.53515625,350,-226.63412475585937,16,297,10,0,-103,7696]
["2009-10-12T02:31:50",59.976001739501953,3736.907470703125,350,-226.63412475585937,16,297.5,10,0,-103,7696]
["2009-10-12T02:31:52",59.978000640869141,3736.82177734375,350,-226.63412475585937,16,298,10,0,-103,7697]
["2009-10-12T02:31:54",59.978000640869141,3738.69921875,350,-226.63412475585937,16,298.5,10,0,-103,7697]
["2009-10-12T02:31:56",59.976001739501953,3739.94384765625,350,-227.25506591796875,16,299,10,0,-103,7697]
["2009-10-12T02:31:58",59.978000640869141,3740.876953125,350,-227.25506591796875,16,299.5,10,0,-103,7698]
["2009-10-12T02:32:00",59.976001739501953,3741.793701171875,350,-227.25506591796875,16,300,10,0,-103,7698]
["2009-10-12T02:32:02",59.978000640869141,3745.233642578125,350,-227.25506591796875,16,300.5,10,0,-103,7698.33]
["2009-10-12T02:32:04",59.977001190185547,3746.60791015625,350,-227.25506591796875,16,301,10,0,-103,7698.66]
["2009-10-12T02:32:06",59.979999542236328,3748.2998046875,350,-229.29022216796875,16,301.5,10,0,-103,7698.99]
["2009-10-12T02:32:08",59.981998443603516,3750.71630859375,350,-229.29022216796875,16,302,10,0,-103,7699.32]
["2009-10-12T02:32:10",59.980998992919922,3751.5576171875,350,-229.29022216796875,16,302.5,10,0,-103,7699.65]
["2009-10-12T02:32:12",59.979999542236328,3752.74755859375,350,-229.29022216796875,16,303,10,0,-103,7699.98]
["2009-10-12T02:32:14",59.979000091552734,3755.5986328125,350,-229.29022216796875,16,303.5,10,0,-103,7700.31]
["2009-10-12T02:32:16",59.979999542236328,3756.4072265625,350,-221.46136474609375,16,304,10,0,-103,7700.64]
["2009-10-12T02:32:18",59.979000091552734,3756.975341796875,350,-221.46136474609375,16,304.5,10,0,-103,7700.97]
["2009-10-12T02:32:20",59.983001708984375,3760.4052734375,350,-221.46136474609375,16,305,10,0,-103,7701.3]
["2009-10-12T02:32:22",59.983001708984375,3760.982177734375,350,-221.46136474609375,16,305.5,10,0,-103,7701.63]
["2009-10-12T02:32:24",59.984001159667969,3761.406982421875,350,-221.46136474609375,16,306,10,0,-103,7701.96]
["2009-10-12T02:32:26",59.987998962402344,3762.7373046875,350,-241.27436828613281,16,306.5,10,0,-103,7702.29]
["2009-10-12T02:32:28",59.988998413085937,3763.212158203125,350,-241.27436828613281,16,307,10,0,-103,7702.62]
["2009-10-12T02:32:30",59.98699951171875,3764.95751953125,350,-241.27436828613281,16,307.5,10,0,-103,7702.95]
["2009-10-12T02:32:32",59.98699951171875,3766.085205078125,350,-241.27436828613281,16,308,10,0,-103,7703.28]
["2009-10-12T02:32:34",59.991001129150391,3766.43310546875,350,-241.27436828613281,16,308.5,10,0,-103,7703.61]
["2009-10-12T02:32:36",59.993000030517578,3767.2509765625,350,-243.07185363769531,16,309,10,0,-103,7703.94]
["2009-10-12T02:32:38",59.992000579833984,3767.79248046875,350,-243.07185363769531,16,309.5,10,0,-103,7704.27]
["2009-10-12T02:32:40",59.991001129150391,3768.633544921875,350,-243.07185363769531,16,310,10,0,-103,7704.6]
["2009-10-12T02:32:42",59.988998413085937,3771.146484375,350,-243.07185363769531,16,310.5,10,0,-103,7704.93]
["2009-10-12T02:32:44",59.986000061035156,3772.444580078125,350,-243.07185363769531,16,311,10,0,-103,7705.26]
["2009-10-12T02:32:46",59.983001708984375,3773.69482421875,350,-241.67021179199219,16,311.5,10,0,-103,7705.59]
["2009-10-12T02:32:48",59.983001708984375,3774.66845703125,350,-241.67021179199219,16,312,10,0,-103,7705.92]
["2009-10-12T02:32:50",59.987998962402344,3775.8408203125,350,-241.67021179199219,16,312.5,10,0,-103,7706.25]
["2009-10-12T02:32:52",59.993000030517578,3775.36328125,350,-241.67021179199219,16,313,10,0,-103,7706.58]
["2009-10-12T02:32:54",59.995998382568359,3774.8662109375,350,-241.67021179199219,16,313.5,10,0,-103,7706.91]
["2009-10-12T02:32:56",59.998001098632813,3775.49169921875,350,-228.14930725097656,16,314,10,0,-103,7707.24]
["2009-10-12T02:32:58",59.999000549316406,3776.420166015625,350,-228.14930725097656,16,314.5,10,0,-103,7707.57]
["2009-10-12T02:33:00",60.000999450683594,3778.5537109375,350,-228.14930725097656,16,315,10,0,-103,7707.9]
["2009-10-12T02:33:02",59.999000549316406,3779.69189453125,350,-228.14930725097656,16,315.5,10,0,-103,7708.23]
["2009-10-12T02:33:04",59.999000549316406,3781.255859375,350,-228.14930725097656,16,316,10,0,-103,7708.56]
["2009-10-12T02:33:06",59.999000549316406,3780.594970703125,350,-235.12898254394531,16,316.5,10,0,-103,7708.89]
["2009-10-12T02:33:08",60.001998901367188,3783.092041015625,350,-235.12898254394531,16,317,10,0,-103,7709.22]
["2009-10-12T02:33:10",60.005001068115234,3783.8955078125,350,-235.12898254394531,16,317.5,10,0,-103,7709.55]
["2009-10-12T02:33:12",60.006999969482422,3784.4208984375,350,-235.12898254394531,16,318,10,0,-103,7709.88]
["2009-10-12T02:33:14",60.007999420166016,3785.76806640625,350,-235.12898254394531,16,318.5,10,0,-103,7710.21]
["2009-10-12T02:33:16",60.011001586914063,3785.462646484375,350,-246.43313598632812,16,319,10,0,-103,7710.54]
["2009-10-12T02:33:18",60.013999938964844,3786.850341796875,350,-246.43313598632812,16,319.5,10,0,-103,7710.87]
["2009-10-12T02:33:20",60.016998291015625,3786.30419921875,350,-246.43313598632812,16,320,10,0,-103,7711.2]
["2009-10-12T02:33:22",60.019001007080078,3787.25927734375,350,-246.43313598632812,16,320.5,10,0,-103,7711.53]
["2009-10-12T02:33:24",60.020999908447266,3787.515869140625,350,-246.43313598632812,16,321,10,0,-103,7711.86]
["2009-10-12T02:33:26",60.016998291015625,3787.955078125,350,-236.55354309082031,16,321.5,10,0,-103,7712.19]
["2009-10-12T02:33:28",60.016998291015625,3788.0302734375,350,-236.55354309082031,16,322,10,0,-103,7712.52]
["2009-10-12T02:33:30",60.019001007080078,3788.606689453125,350,-236.55354309082031,16,322.5,10,0,-103,7712.85]
["2009-10-12T02:33:32",60.022998809814453,3789.2158203125,350,-236.55354309082031,16,323,10,0,-103,7713.18]
["2009-10-12T02:33:34",60.023998260498047,3787.53662109375,350,-236.55354309082031,16,323.5,10,0,-103,7713.51]
["2009-10-12T02:33:36",60.025001525878906,3785.841796875,350,-230.29756164550781,16,324,10,0,-103,7713.84]
["2009-10-12T02:33:38",60.020999908447266,3786.07666015625,350,-230.29756164550781,16,324.5,10,0,-103,7714.17]
["2009-10-12T02:33:40",60.019001007080078,3787.930419921875,350,-230.29756164550781,16,325,10,0,-103,7714.5]
["2009-10-12T02:33:42",60.023998260498047,3788.76025390625,350,-230.29756164550781,16,325.5,10,0,-103,7714.83]
["2009-10-12T02:33:44",60.023998260498047,3786.874755859375,350,-230.29756164550781,16,326,10,0,-103,7715.16]
["2009-10-12T02:33:46",60.020999908447266,3786.5498046875,350,-231.175537109375,16,326.5,10,0,-103,7715.49]
["2009-10-12T02:33:48",60.020000457763672,3787.357666015625,350,-231.175537109375,16,327,10,0,-103,7715.82]
["2009-10-12T02:33:50",60.025001525878906,3785.01806640625,350,-231.175537109375,16,327.5,10,0,-103,7716.15]
["2009-10-12T02:33:52",60.023998260498047,3785.614013671875,350,-231.175537109375,16,328,10,0,-103,7716.48]
["2009-10-12T02:33:54",60.020000457763672,3785.94921875,350,-231.175537109375,16,328.5,10,0,-103,7716.81]
["2009-10-12T02:33:56",60.020000457763672,3785.8037109375,350,-225.61763000488281,16,329,10,0,-103,7717.14]
["2009-10-12T02:33:58",60.021999359130859,3786.8642578125,350,-225.61763000488281,16,329.5,10,0,-103,7717.47]
["2009-10-12T02:34:00",60.021999359130859,3786.877197265625,350,-225.61763000488281,16,330,10,0,-103,7717.8]
["2009-10-12T02:34:02",60.021999359130859,3785.25390625,350,-225.61763000488281,16,330.5,10,0,-103,7718.13]
["2009-10-12T02:34:04",60.020999908447266,3785.72607421875,350,-225.61763000488281,16,331,10,0,-103,7718.46]
["2009-10-12T02:34:06",60.020999908447266,3786.346923828125,350,-230.73442077636719,16,331.5,10,0,-103,7718.79]
["2009-10-12T02:34:08",60.022998809814453,3785.821044921875,350,-230.73442077636719,16,332,10,0,-103,7719.12]
["2009-10-12T02:34:10",60.022998809814453,3785.79833984375,350,-230.73442077636719,16,332.5,10,0,-103,7719.45]
["2009-10-12T02:34:12",60.021999359130859,3786.2841796875,350,-230.73442077636719,16,333,10,0,-103,7719.78]
["2009-10-12T02:34:14",60.019001007080078,3786.939208984375,350,-230.73442077636719,16,333.5,10,0,-103,7720.11]
["2009-10-12T02:34:16",60.015998840332031,3787.62744140625,350,-234.84710693359375,16,334,10,0,-103,7720.44]
["2009-10-12T02:34:18",60.018001556396484,3789.4443359375,350,-234.84710693359375,16,334.5,10,0,-103,7720.77]
["2009-10-12T02:34:20",60.018001556396484,3789.67333984375,350,-234.84710693359375,16,335,10,0,-103,7721.1]
["2009-10-12T02:34:22",60.018001556396484,3789.404296875,350,-234.84710693359375,16,335.5,10,0,-103,7721.43]
["2009-10-12T02:34:24",60.019001007080078,3788.478759765625,350,-234.84710693359375,16,336,10,0,-103,7721.76]
["2009-10-12T02:34:26",60.019001007080078,3789.183349609375,350,-228.96092224121094,16,336.5,10,0,-103,7722.09]
["2009-10-12T02:34:28",60.015998840332031,3789.368896484375,350,-228.96092224121094,16,337,10,0,-103,7722.42]
["2009-10-12T02:34:30",60.014999389648438,3789.0048828125,350,-228.96092224121094,16,337.5,10,0,-103,7722.75]
["2009-10-12T02:34:32",60.015998840332031,3788.66455078125,350,-228.96092224121094,16,338,10,0,-103,7723.08]
["2009-10-12T02:34:34",60.013999938964844,3788.932861328125,350,-228.96092224121094,16,338.5,10,0,-103,7723.41]
["2009-10-12T02:34:36",60.01300048828125,3790.6669921875,350,-231.17791748046875,16,339,10,0,-103,7723.74]
["2009-10-12T02:34:38",60.012001037597656,3790.80517578125,350,-231.17791748046875,16,339.5,10,0,-103,7724.07]
["2009-10-12T02:34:40",60.012001037597656,3790.4111328125,350,-231.17791748046875,16,340,10,0,-103,7724.4]
["2009-10-12T02:34:42",60.009998321533203,3789.7685546875,350,-231.17791748046875,16,340.5,10,0,-103,7724.73]
["2009-10-12T02:34:44",60.006999969482422,3791.539794921875,350,-231.17791748046875,16,341,10,0,-103,7725.06]
["2009-10-12T02:34:46",60.006999969482422,3792.9453125,350,-236.48928833007812,16,341.5,10,0,-103,7725.39]
["2009-10-12T02:34:48",60.008998870849609,3791.027099609375,350,-236.48928833007812,16,342,10,0,-103,7725.72]
["2009-10-12T02:34:50",60.008998870849609,3791.443115234375,350,-236.48928833007812,16,342.5,10,0,-103,7726.05]
["2009-10-12T02:34:52",60.009998321533203,3791.426025390625,350,-236.48928833007812,16,343,10,0,-103,7726.38]
["2009-10-12T02:34:54",60.002998352050781,3790.60302734375,350,-236.48928833007812,16,343.5,10,0,-103,7726.71]
["2009-10-12T02:34:56",59.999000549316406,3790.457275390625,350,-245.03892517089844,16,344,10,0,-103,7727.04]
["2009-10-12T02:34:58",59.994998931884766,3790.21630859375,350,-245.03892517089844,16,344.5,10,0,-103,7727.37]
["2009-10-12T02:35:00",59.992000579833984,3789.5849609375,350,-245.03892517089844,16,345,10,0,-103,7727.7]
["2009-10-12T02:35:02",59.991001129150391,3788.45703125,350,-245.03892517089844,16,345.5,10,0,-103,7728.03]
["2009-10-12T02:35:04",59.992000579833984,3788.10498046875,350,-245.03892517089844,16,346,10,0,-103,7728.36]
["2009-10-12T02:35:06",59.992000579833984,3788.05712890625,350,-223.60568237304687,16,346.5,10,0,-103,7728.69]
["2009-10-12T02:35:08",59.987998962402344,3788.189453125,350,-223.60568237304687,16,347,10,0,-103,7729.02]
["2009-10-12T02:35:10",59.986000061035156,3788.497314453125,350,-223.60568237304687,16,347.5,10,0,-103,7729.35]
["2009-10-12T02:35:12",59.985000610351563,3788.5400390625,350,-223.60568237304687,16,348,10,0,-103,7729.68]
["2009-10-12T02:35:14",59.984001159667969,3788.57080078125,350,-223.60568237304687,16,348.5,10,0,-103,7730.01]
["2009-10-12T02:35:16",59.985000610351563,3788.10107421875,350,-231.11935424804687,16,349,10,0,-103,7730.34]
["2009-10-12T02:35:18",59.984001159667969,3787.13330078125,350,-231.11935424804687,16,349.5,10,0,-103,7730.67]
["2009-10-12T02:35:20",59.981998443603516,3786.452880859375,350,-231.11935424804687,16,350,10,0,-103,7731]
["2009-10-12T02:35:22",59.980998992919922,3787.732421875,350,-231.11935424804687,16,350.5,10,0,-103,7731.33]
["2009-10-12T02:35:24",59.981998443603516,3788.8134765625,350,-231.11935424804687,16,351,10,0,-103,7731.66]
["2009-10-12T02:35:26",59.979000091552734,3789.28515625,350,-237.20664978027344,16,351.5,10,0,-103,7731.99]
["2009-10-12T02:35:28",59.977001190185547,3788.25634765625,350,-237.20664978027344,16,352,10,0,-103,7732.32]
["2009-10-12T02:35:30",59.976001739501953,3788.40966796875,350,-237.20664978027344,16,352.5,10,0,-103,7732.65]
["2009-10-12T02:35:32",59.976001739501953,3790.46728515625,350,-237.20664978027344,16,353,10,0,-103,7732.98]
["2009-10-12T02:35:34",59.979000091552734,3790.66455078125,350,-237.20664978027344,16,353.5,10,0,-103,7733.31]
["2009-10-12T02:35:36",59.981998443603516,3790.42041015625,350,-240.51637268066406,16,354,10,0,-103,7733.64]
["2009-10-12T02:35:38",59.978000640869141,3789.673828125,350,-240.51637268066406,16,354.5,10,0,-103,7733.97]
["2009-10-12T02:35:40",59.976001739501953,3789.26708984375,350,-240.51637268066406,16,355,10,0,-103,7734.3]
["2009-10-12T02:35:42",59.9739990234375,3789.14794921875,350,-240.51637268066406,16,355.5,10,0,-103,7734.63]
["2009-10-12T02:35:44",59.976001739501953,3790.430419921875,350,-240.51637268066406,16,356,10,0,-103,7734.96]
["2009-10-12T02:35:46",59.977001190185547,3789.914306640625,350,-237.56605529785156,16,356.5,10,0,-103,7735.29]
["2009-10-12T02:35:48",59.977001190185547,3786.2431640625,350,-237.56605529785156,16,357,10,0,-103,7735.62]
["2009-10-12T02:35:50",59.974998474121094,3787.442138671875,350,-237.56605529785156,16,357.5,10,0,-103,7735.95]
["2009-10-12T02:35:52",59.972999572753906,3788.962890625,350,-237.56605529785156,16,358,10,0,-103,7736.28]
["2009-10-12T02:35:54",59.969001770019531,3790.6015625,350,-237.56605529785156,16,358.5,10,0,-103,7736.61]
["2009-10-12T02:35:56",59.970001220703125,3791.876953125,350,-231.5814208984375,16,359,10,0,-103,7736.94]
["2009-10-12T02:35:58",59.971000671386719,3792.91064453125,350,-231.5814208984375,16,359.5,10,0,-103,7737.27]
["2009-10-12T02:36:00",59.972999572753906,3792.311279296875,350,-231.5814208984375,16,360,10,0,-103,7737.6]
["2009-10-12T02:36:02",59.978000640869141,3789.125,350,-231.5814208984375,16,360.5,10,0,-103,7737.93]
["2009-10-12T02:36:04",59.980998992919922,3788.07958984375,350,-231.5814208984375,16,361,10,0,-103,7738.26]
["2009-10-12T02:36:06",59.978000640869141,3787.843994140625,350,-235.85084533691406,16,361.5,10,0,-103,7738.59]
["2009-10-12T02:36:08",59.974998474121094,3787.135009765625,350,-235.85084533691406,16,362,10,0,-103,7738.92]
["2009-10-12T02:36:10",59.972000122070313,3787.164306640625,350,-235.85084533691406,16,362.5,10,0,-103,7739.25]
["2009-10-12T02:36:12",59.976001739501953,3786.99609375,350,-235.85084533691406,16,363,10,0,-103,7739.58]
["2009-10-12T02:36:14",59.974998474121094,3787.40478515625,350,-235.85084533691406,16,363.5,10,0,-103,7739.91]
["2009-10-12T02:36:16",59.972999572753906,3786.48681640625,350,-233.55998229980469,16,364,10,0,-103,7740.24]
["2009-10-12T02:36:18",59.969001770019531,3787.0791015625,350,-233.55998229980469,16,364.5,10,0,-103,7740.57]
["2009-10-12T02:36:20",59.965999603271484,3789.2138671875,350,-233.55998229980469,16,365,10,0,-103,7740.9]
["2009-10-12T02:36:22",59.965000152587891,3790.51171875,350,-233.55998229980469,16,365.5,10,0,-103,7741.23]
["2009-10-12T02:36:24",59.965999603271484,3791.22119140625,350,-233.55998229980469,16,366,10,0,-103,7741.56]
["2009-10-12T02:36:26",59.969001770019531,3792.21826171875,350,-219.00999450683594,16,366.5,10,0,-103,7741.89]
["2009-10-12T02:36:28",59.970001220703125,3790.95947265625,350,-219.00999450683594,16,367,10,0,-103,7742.22]
["2009-10-12T02:36:30",59.967998504638672,3788.82421875,350,-219.00999450683594,16,367.5,10,0,-103,7742.55]
["2009-10-12T02:36:32",59.965000152587891,3789.0263671875,350,-219.00999450683594,16,368,10,0,-103,7742.88]
["2009-10-12T02:36:34",59.964000701904297,3789.16748046875,350,-219.00999450683594,16,368.5,10,0,-103,7743.21]
["2009-10-12T02:36:36",59.970001220703125,3787.39404296875,350,-205.33891296386719,16,369,10,0,-103,7743.54]
["2009-10-12T02:36:38",59.972000122070313,3785.68994140625,350,-205.33891296386719,16,369.5,10,0,-103,7743.87]
["2009-10-12T02:36:40",59.966999053955078,3784.83056640625,350,-205.33891296386719,16,370,10,0,-103,7744.2]
["2009-10-12T02:36:42",59.966999053955078,3785.009521484375,350,-205.33891296386719,16,370.5,10,0,-103,7744.53]
["2009-10-12T02:36:44",59.969001770019531,3784.3203125,350,-205.33891296386719,16,371,10,0,-103,7744.86]
["2009-10-12T02:36:46",59.967998504638672,3782.80859375,350,-236.28535461425781,16,371.5,10,0,-103,7745.19]
["2009-10-12T02:36:48",59.969001770019531,3782.10986328125,350,-236.28535461425781,16,372,10,0,-103,7745.52]
["2009-10-12T02:36:50",59.966999053955078,3779.3515625,350,-236.28535461425781,16,372.5,10,0,-103,7745.85]
["2009-10-12T02:36:52",59.966999053955078,3779.05615234375,350,-236.28535461425781,16,373,10,0,-103,7746.18]
["2009-10-12T02:36:54",59.965999603271484,3778.63330078125,350,-236.28535461425781,16,373.5,10,0,-103,7746.51]
["2009-10-12T02:36:56",59.965000152587891,3779.211669921875,350,-223.01573181152344,16,374,10,0,-103,7746.84]
["2009-10-12T02:36:58",59.971000671386719,3779.334716796875,350,-223.01573181152344,16,374.5,10,0,-103,7747.17]
["2009-10-12T02:37:00",59.966999053955078,3776.42919921875,350,-223.01573181152344,16,375,10,0,-103,7747.5]
["2009-10-12T02:37:02",59.965000152587891,3775.646728515625,350,-223.01573181152344,16,375.5,10,0,-103,7747.83]
["2009-10-12T02:37:04",59.962001800537109,3776.5966796875,350,-223.01573181152344,16,376,10,0,-103,7748.16]
["2009-10-12T02:37:06",59.964000701904297,3776.55908203125,350,-223.01573181152344,16,376.5,10,0,-103,7748.49]
["2009-10-12T02:37:08",59.970001220703125,3776.02294921875,350,-223.01573181152344,16,377,10,0,-103,7748.82]
["2009-10-12T02:37:10",59.966999053955078,3773.169921875,350,-223.01573181152344,16,377.5,10,0,-103,7749.15]
["2009-10-12T02:37:12",59.969001770019531,3771.73046875,350,-223.01573181152344,16,378,10,0,-103,7749.48]
["2009-10-12T02:37:14",59.967998504638672,3768.79296875,350,-223.01573181152344,16,378.5,10,0,-103,7749.81]
["2009-10-12T02:37:16",59.963001251220703,3768.5029296875,350,-223.01573181152344,16,379,10,0,-103,7750.14]
["2009-10-12T02:37:18",59.965000152587891,3768.91748046875,350,-223.01573181152344,16,379.5,10,0,-103,7750.47]
["2009-10-12T02:37:20",59.970001220703125,3767.3662109375,350,-223.01573181152344,16,380,10,0,-103,7750.8]
["2009-10-12T02:37:22",59.972999572753906,3764.7861328125,350,-223.01573181152344,16,380.5,10,0,-103,7751.13]
["2009-10-12T02:37:24",59.967998504638672,3760.29541015625,350,-223.01573181152344,16,381,10,0,-103,7751.46]
["2009-10-12T02:37:26",59.965000152587891,3759.591796875,350,-223.01573181152344,16,381.5,10,0,-103,7751.79]
["2009-10-12T02:37:28",59.967998504638672,3761.893798828125,350,-223.01573181152344,16,382,10,0,-103,7752.12]
["2009-10-12T02:37:30",59.969001770019531,3761.776611328125,350,-223.01573181152344,16,382.5,10,0,-103,7752.45]
["2009-10-12T02:37:32",59.966999053955078,3760.58251953125,350,-223.01573181152344,16,383,10,0,-103,7752.78]
["2009-10-12T02:37:34",59.964000701904297,3760.157470703125,350,-223.01573181152344,16,383.5,10,0,-103,7753.11]
["2009-10-12T02:37:36",59.965999603271484,3759.781005859375,350,-223.01573181152344,16,384,10,0,-103,7753.44]
["2009-10-12T02:37:38",59.979000091552734,3759.494873046875,350,-223.01573181152344,16,384.5,10,0,-103,7753.77]
["2009-10-12T02:37:40",59.990001678466797,3757.77294921875,350,-223.01573181152344,16,385,10,0,-103,7754.1]
["2009-10-12T02:37:42",59.983001708984375,3753.277099609375,350,-223.01573181152344,16,385.5,10,0,-103,7754.43]
["2009-10-12T02:37:44",59.9739990234375,3753.08740234375,350,-223.01573181152344,16,386,10,0,-103,7754.76]
["2009-10-12T02:37:46",59.966999053955078,3751.63671875,350,-223.01573181152344,16,386.5,10,0,-103,7755.09]
["2009-10-12T02:37:48",59.965000152587891,3753.7509765625,350,-223.01573181152344,16,387,10,0,-103,7755.42]
["2009-10-12T02:37:50",59.962001800537109,3758.224609375,350,-223.01573181152344,16,387.5,10,0,-103,7755.75]
["2009-10-12T02:37:52",59.962001800537109,3759.249755859375,350,-223.01573181152344,16,388,10,0,-103,7756.08]
["2009-10-12T02:37:54",59.96099853515625,3758.041015625,350,-223.01573181152344,16,388.5,10,0,-103,7756.41]
["2009-10-12T02:37:56",59.96099853515625,3760.96484375,350,-223.01573181152344,16,389,10,0,-103,7756.74]
["2009-10-12T02:37:58",59.959999084472656,3762.022216796875,350,-223.01573181152344,16,389.5,10,0,-103,7757.07]
["2009-10-12T02:38:00",59.963001251220703,3763.822265625,350,-223.01573181152344,16,390,10,0,-103,7757.4]
["2009-10-12T02:38:02",59.958999633789063,3763.10009765625,350,-223.01573181152344,16,390.5,10,0,-103,7757.73]
["2009-10-12T02:38:04",59.956001281738281,3763.858154296875,350,-223.01573181152344,16,391,10,0,-103,7758.06]
["2009-10-12T02:38:06",59.951000213623047,3764.15771484375,350,-223.01573181152344,16,391.5,10,0,-103,7758.39]
["2009-10-12T02:38:08",59.952999114990234,3766.126708984375,350,-223.01573181152344,16,392,10,0,-103,7758.72]
["2009-10-12T02:38:10",59.953998565673828,3768.3388671875,350,-223.01573181152344,16,392.5,10,0,-103,7759.05]
["2009-10-12T02:38:12",59.957000732421875,3767.97216796875,350,-223.01573181152344,16,393,10,0,-103,7759.38]
["2009-10-12T02:38:14",59.956001281738281,3767.4375,350,-223.01573181152344,16,393.5,10,0,-103,7759.71]
["2009-10-12T02:38:16",59.96099853515625,3765.6064453125,350,-223.01573181152344,16,394,10,0,-103,7760.04]
["2009-10-12T02:38:18",59.963001251220703,3762.68798828125,350,-223.01573181152344,16,394.5,10,0,-103,7760.37]
["2009-10-12T02:38:20",59.96099853515625,3761.5703125,350,-223.01573181152344,16,395,10,0,-103,7760.7]
["2009-10-12T02:38:22",59.958999633789063,3761.919921875,350,-223.01573181152344,16,395.5,10,0,-103,7761.03]
["2009-10-12T02:38:24",59.963001251220703,3759.626953125,350,-223.01573181152344,16,396,10,0,-103,7761.36]
["2009-10-12T02:38:26",59.963001251220703,3758.52197265625,350,-223.01573181152344,16,396.5,10,0,-103,7761.69]
["2009-10-12T02:38:28",59.965000152587891,3752.4287109375,350,-223.01573181152344,16,397,10,0,-103,7762.02]
["2009-10-12T02:38:30",59.967998504638672,3750.1015625,350,-223.01573181152344,16,397.5,10,0,-103,7762.35]
["2009-10-12T02:38:32",59.967998504638672,3753.82958984375,350,-223.01573181152344,16,398,10,0,-103,7762.68]
["2009-10-12T02:38:34",59.967998504638672,3753.51025390625,350,-223.01573181152344,16,398.5,10,0,-103,7763.01]
["2009-10-12T02:38:36",59.970001220703125,3753.52294921875,350,-223.01573181152344,16,399,10,0,-103,7763.34]
["2009-10-12T02:38:38",59.972999572753906,3752.74072265625,350,-223.01573181152344,16,399.5,10,0,-103,7763.67]
["2009-10-12T02:38:40",59.971000671386719,3753.17822265625,350,-223.01573181152344,16,400,10,0,-103,7764]
["2009-10-12T02:38:42",59.965000152587891,3752.72900390625,350,-223.01573181152344,16,400.5,10,0,-103,7764.33]
["2009-10-12T02:38:44",59.966999053955078,3753.29052734375,350,-223.01573181152344,16,401,10,0,-103,7764.66]
["2009-10-12T02:38:46",59.966999053955078,3752.87158203125,350,-223.01573181152344,16,401.5,10,0,-103,7764.99]
["2009-10-12T02:38:48",59.972000122070313,3752.358642578125,350,-223.01573181152344,16,402,10,0,-103,7765.32]
["2009-10-12T02:38:50",59.976001739501953,3749.39794921875,350,-223.01573181152344,16,402.5,10,0,-103,7765.65]
["2009-10-12T02:38:52",59.974998474121094,3747.475830078125,350,-223.01573181152344,16,403,10,0,-103,7765.98]
["2009-10-12T02:38:54",59.969001770019531,3740.370361328125,350,-223.01573181152344,16,403.5,10,0,-103,7766.31]
["2009-10-12T02:38:56",59.972999572753906,3741.28515625,350,-223.01573181152344,16,404,10,0,-103,7766.64]
["2009-10-12T02:38:58",59.9739990234375,3746.65087890625,350,-223.01573181152344,16,404.5,10,0,-103,7766.97]
["2009-10-12T02:39:00",59.978000640869141,3745.73828125,350,-223.01573181152344,16,405,10,0,-103,7767.3]
["2009-10-12T02:39:02",59.980998992919922,3743.3505859375,350,-223.01573181152344,16,405.5,10,0,-103,7767.63]
["2009-10-12T02:39:04",59.980998992919922,3741.6181640625,350,-223.01573181152344,16,406,10,0,-103,7767.96]
["2009-10-12T02:39:06",59.980998992919922,3740.306396484375,350,-223.01573181152344,16,406.5,10,0,-103,7768.29]
["2009-10-12T02:39:08",59.981998443603516,3738.484375,350,-223.01573181152344,16,407,10,0,-103,7768.62]
["2009-10-12T02:39:10",59.981998443603516,3738.9013671875,350,-223.01573181152344,16,407.5,10,0,-103,7768.95]
["2009-10-12T02:39:12",59.984001159667969,3737.403564453125,350,-223.01573181152344,16,408,10,0,-103,7769.28]
["2009-10-12T02:39:14",59.981998443603516,3737.273193359375,350,-223.01573181152344,16,408.5,10,0,-103,7769.61]
["2009-10-12T02:39:16",59.980998992919922,3736.308349609375,350,-223.01573181152344,16,409,10,0,-103,7769.94]
["2009-10-12T02:39:18",59.979000091552734,3736.27197265625,350,-223.01573181152344,16,409.5,10,0,-103,7770.27]
["2009-10-12T02:39:20",59.979999542236328,3735.4482421875,350,-223.01573181152344,16,410,10,0,-103,7770.6]
["2009-10-12T02:39:22",59.978000640869141,3735.649658203125,350,-223.01573181152344,16,410.5,10,0,-103,7770.93]
["2009-10-12T02:39:24",59.978000640869141,3737.54052734375,350,-223.01573181152344,16,411,10,0,-103,7771.26]
["2009-10-12T02:39:26",59.979999542236328,3738.011962890625,350,-223.01573181152344,16,411.5,10,0,-103,7771.59]
["2009-10-12T02:39:28",59.980998992919922,3736.74755859375,350,-223.01573181152344,16,412,10,0,-103,7771.92]
["2009-10-12T02:39:30",59.979999542236328,3736.693115234375,350,-223.01573181152344,16,412.5,10,0,-103,7772.25]
["2009-10-12T02:39:32",59.978000640869141,3736.0673828125,350,-223.01573181152344,16,413,10,0,-103,7772.58]
["2009-10-12T02:39:34",59.976001739501953,3736.09423828125,350,-223.01573181152344,16,413.5,10,0,-103,7772.91]
["2009-10-12T02:39:36",59.972000122070313,3736.574951171875,350,-223.01573181152344,16,414,10,0,-103,7773.24]
["2009-10-12T02:39:38",59.971000671386719,3738.571044921875,350,-223.01573181152344,16,414.5,10,0,-103,7773.57]
["2009-10-12T02:39:40",59.969001770019531,3738.874755859375,350,-223.01573181152344,16,415,10,0,-103,7773.9]
["2009-10-12T02:39:42",59.9739990234375,3738.9345703125,350,-223.01573181152344,16,415.5,10,0,-103,7774.23]
["2009-10-12T02:39:44",59.974998474121094,3738.64697265625,350,-223.01573181152344,16,416,10,0,-103,7774.56]
["2009-10-12T02:39:46",59.976001739501953,3737.68408203125,350,-223.01573181152344,16,416.5,10,0,-103,7774.89]
["2009-10-12T02:39:48",59.972000122070313,3737.382080078125,350,-223.01573181152344,16,417,10,0,-103,7775.22]
["2009-10-12T02:39:50",59.969001770019531,3737.89208984375,350,-223.01573181152344,16,417.5,10,0,-103,7775.55]
["2009-10-12T02:39:52",59.971000671386719,3740.016845703125,350,-223.01573181152344,16,418,10,0,-103,7775.88]
["2009-10-12T02:39:54",59.9739990234375,3740.328857421875,350,-223.01573181152344,16,418.5,10,0,-103,7776.21]
["2009-10-12T02:39:56",59.972000122070313,3742.052734375,350,-223.01573181152344,16,419,10,0,-103,7776.54]
["2009-10-12T02:39:58",59.972000122070313,3742.423828125,350,-223.01573181152344,16,419.5,10,0,-103,7776.87]
["2009-10-12T02:40:00",59.972000122070313,3742.5244140625,350,-223.01573181152344,16,420,10,0,-103,7777.2]
["2009-10-12T02:40:02",59.977001190185547,3742.2451171875,350,-223.01573181152344,16,420.5,10,0,-103,7777.53]
["2009-10-12T02:40:04",59.981998443603516,3741.72314453125,350,-223.01573181152344,16,421,10,0,-103,7777.86]
["2009-10-12T02:40:06",59.978000640869141,3740.08544921875,350,-223.01573181152344,16,421.5,10,0,-103,7778.19]
["2009-10-12T02:40:08",59.976001739501953,3740.629150390625,350,-223.01573181152344,16,422,10,0,-103,7778.52]
["2009-10-12T02:40:10",59.972999572753906,3739.96435546875,350,-223.01573181152344,16,422.5,10,0,-103,7778.85]
["2009-10-12T02:40:12",59.9739990234375,3740.775146484375,350,-223.01573181152344,16,423,10,0,-103,7779.18]
["2009-10-12T02:40:14",59.977001190185547,3742.83251953125,350,-223.01573181152344,16,423.5,10,0,-103,7779.51]
["2009-10-12T02:40:16",59.977001190185547,3741.267822265625,350,-223.01573181152344,16,424,10,0,-103,7779.84]
["2009-10-12T02:40:18",59.978000640869141,3739.776123046875,350,-223.01573181152344,16,424.5,10,0,-103,7780.17]
["2009-10-12T02:40:20",59.979000091552734,3738.9658203125,350,-223.01573181152344,16,425,10,0,-103,7780.5]
["2009-10-12T02:40:22",59.980998992919922,3738.7060546875,350,-223.01573181152344,16,425.5,10,0,-103,7780.83]
["2009-10-12T02:40:24",59.977001190185547,3738.878662109375,350,-223.01573181152344,16,426,10,0,-103,7781.16]
["2009-10-12T02:40:26",59.9739990234375,3739.859619140625,350,-223.01573181152344,16,426.5,10,0,-103,7781.49]
["2009-10-12T02:40:28",59.971000671386719,3738.1015625,350,-223.01573181152344,16,427,10,0,-103,7781.82]
["2009-10-12T02:40:30",59.971000671386719,3738.557861328125,350,-223.01573181152344,16,427.5,10,0,-103,7782.15]
["2009-10-12T02:40:32",59.971000671386719,3743.5068359375,350,-223.01573181152344,16,428,10,0,-103,7782.48]
["2009-10-12T02:40:34",59.972000122070313,3743.418701171875,350,-223.01573181152344,16,428.5,10,0,-103,7782.81]
["2009-10-12T02:40:36",59.967998504638672,3745.250732421875,350,-223.01573181152344,16,429,10,0,-103,7783.14]
["2009-10-12T02:40:38",59.965999603271484,3745.744140625,350,-223.01573181152344,16,429.5,10,0,-103,7783.47]
["2009-10-12T02:40:40",59.965999603271484,3747.339599609375,350,-223.01573181152344,16,430,10,0,-103,7783.8]
["2009-10-12T02:40:42",59.971000671386719,3750.7001953125,350,-223.01573181152344,16,430.5,10,0,-103,7784.13]
["2009-10-12T02:40:44",59.972999572753906,3749.75,350,-223.01573181152344,16,431,10,0,-103,7784.46]
["2009-10-12T02:40:46",59.972000122070313,3746.216552734375,350,-223.01573181152344,16,431.5,10,0,-103,7784.79]
["2009-10-12T02:40:48",59.969001770019531,3744.6826171875,350,-223.01573181152344,16,432,10,0,-103,7785.12]
["2009-10-12T02:40:50",59.972000122070313,3743.7451171875,350,-223.01573181152344,16,432.5,10,0,-103,7785.45]
["2009-10-12T02:40:52",59.9739990234375,3743.14892578125,350,-223.01573181152344,16,433,10,0,-103,7785.78]
["2009-10-12T02:40:54",59.972999572753906,3740.298583984375,350,-223.01573181152344,16,433.5,10,0,-103,7786.11]
["2009-10-12T02:40:56",59.970001220703125,3739.45263671875,350,-223.01573181152344,16,434,10,0,-103,7786.44]
["2009-10-12T02:40:58",59.971000671386719,3733.3759765625,350,-223.01573181152344,16,434.5,10,0,-103,7786.77]
["2009-10-12T02:41:00",59.9739990234375,3731.82958984375,350,-223.01573181152344,16,435,10,0,-103,7787.1]
["2009-10-12T02:41:02",59.981998443603516,3737.58251953125,350,-223.01573181152344,16,435.5,10,0,-103,7787.43]
["2009-10-12T02:41:04",59.985000610351563,3736.2294921875,350,-223.01573181152344,16,436,10,0,-103,7787.76]
["2009-10-12T02:41:06",59.985000610351563,3734.896728515625,350,-223.01573181152344,16,436.5,10,0,-103,7788.09]
["2009-10-12T02:41:08",59.985000610351563,3733.433837890625,350,-223.01573181152344,16,437,10,0,-103,7788.42]
["2009-10-12T02:41:10",59.98699951171875,3733.115234375,350,-223.01573181152344,16,437.5,10,0,-103,7788.75]
["2009-10-12T02:41:12",59.988998413085937,3730.509765625,350,-223.01573181152344,16,438,10,0,-103,7789.08]
["2009-10-12T02:41:14",59.988998413085937,3729.18017578125,350,-223.01573181152344,16,438.5,10,0,-103,7789.41]
["2009-10-12T02:41:16",59.986000061035156,3725.458740234375,350,-223.01573181152344,16,439,10,0,-103,7789.74]
["2009-10-12T02:41:18",59.98699951171875,3724.78466796875,350,-223.01573181152344,16,439.5,10,0,-103,7790.07]
["2009-10-12T02:41:20",59.990001678466797,3720.10791015625,350,-223.01573181152344,16,440,10,0,-103,7790.4]
["2009-10-12T02:41:22",59.993999481201172,3720.938232421875,350,-223.01573181152344,16,440.5,10,0,-103,7790.73]
["2009-10-12T02:41:24",59.995998382568359,3725.661376953125,350,-223.01573181152344,16,441,10,0,-103,7791.06]
["2009-10-12T02:41:26",60.000999450683594,3725.6767578125,350,-223.01573181152344,16,441.5,10,0,-103,7791.39]
["2009-10-12T02:41:28",60.002998352050781,3727.754150390625,350,-223.01573181152344,16,442,10,0,-103,7791.72]
["2009-10-12T02:41:30",60.004001617431641,3727.82470703125,350,-223.01573181152344,16,442.5,10,0,-103,7792.05]
["2009-10-12T02:41:32",60.006000518798828,3727.683349609375,350,-223.01573181152344,16,443,10,0,-103,7792.38]
["2009-10-12T02:41:34",60.012001037597656,3727.2314453125,350,-223.01573181152344,16,443.5,10,0,-103,7792.71]
["2009-10-12T02:41:36",60.013999938964844,3725.01220703125,350,-223.01573181152344,16,444,10,0,-103,7793.04]
["2009-10-12T02:41:38",60.019001007080078,3726.4462890625,350,-223.01573181152344,16,444.5,10,0,-103,7793.37]
["2009-10-12T02:41:40",60.020999908447266,3726.015625,350,-223.01573181152344,16,445,10,0,-103,7793.7]
["2009-10-12T02:41:42",60.025001525878906,3719.123046875,350,-223.01573181152344,16,445.5,10,0,-103,7794.03]
["2009-10-12T02:41:44",60.0260009765625,3716.37451171875,350,-223.01573181152344,16,446,10,0,-103,7794.36]
["2009-10-12T02:41:46",60.027000427246094,3717.33251953125,350,-223.01573181152344,16,446.5,10,0,-103,7794.69]
["2009-10-12T02:41:48",60.028999328613281,3717.559814453125,350,-223.01573181152344,16,447,10,0,-103,7795.02]
["2009-10-12T02:41:50",60.028999328613281,3717.14208984375,350,-223.01573181152344,16,447.5,10,0,-103,7795.35]
["2009-10-12T02:41:52",60.036998748779297,3715.166015625,350,-223.01573181152344,16,448,10,0,-103,7795.68]
["2009-10-12T02:41:54",60.035999298095703,3713.6318359375,350,-223.01573181152344,16,448.5,10,0,-103,7796.01]
["2009-10-12T02:41:56",60.036998748779297,3710.283447265625,350,-223.01573181152344,16,449,10,0,-103,7796.34]
["2009-10-12T02:41:58",60.036998748779297,3710.15771484375,350,-223.01573181152344,16,449.5,10,0,-103,7796.67]
["2009-10-12T02:42:00",60.035999298095703,3699.355712890625,350,-223.01573181152344,16,450,10,0,-103,7797]
["2009-10-12T02:42:02",60.041000366210938,3698.591064453125,350,-223.01573181152344,16,450.5,10,0,-103,7797.33]
["2009-10-12T02:42:04",60.042999267578125,3704.59130859375,350,-223.01573181152344,16,451,10,0,-103,7797.66]
["2009-10-12T02:42:06",60.043998718261719,3703.275390625,350,-223.01573181152344,16,451.5,10,0,-103,7797.99]
["2009-10-12T02:42:08",60.042999267578125,3702.482421875,350,-223.01573181152344,16,452,10,0,-103,7798.32]
["2009-10-12T02:42:10",60.046001434326172,3701.31640625,350,-223.01573181152344,16,452.5,10,0,-103,7798.65]
["2009-10-12T02:42:12",60.048000335693359,3700.825927734375,350,-223.01573181152344,16,453,10,0,-103,7798.98]
["2009-10-12T02:42:14",60.046001434326172,3699.528564453125,350,-223.01573181152344,16,453.5,10,0,-103,7799.31]
["2009-10-12T02:42:16",60.046001434326172,3699.72607421875,350,-223.01573181152344,16,454,10,0,-103,7799.64]
["2009-10-12T02:42:18",60.042999267578125,3690.099609375,350,-223.01573181152344,16,454.5,10,0,-103,7799.97]
["2009-10-12T02:42:20",60.042999267578125,3690.477294921875,350,-223.01573181152344,16,455,10,0,-103,7800.3]
["2009-10-12T02:42:22",60.043998718261719,3696.864501953125,350,-223.01573181152344,16,455.5,10,0,-103,7800.63]
["2009-10-12T02:42:24",60.042999267578125,3696.877197265625,350,-223.01573181152344,16,456,10,0,-103,7800.96]
["2009-10-12T02:42:26",60.042999267578125,3696.181884765625,350,-223.01573181152344,16,456.5,10,0,-103,7801.29]
["2009-10-12T02:42:28",60.044998168945313,3696.541259765625,350,-223.01573181152344,16,457,10,0,-103,7801.62]
["2009-10-12T02:42:30",60.040000915527344,3696.9677734375,350,-223.01573181152344,16,457.5,10,0,-103,7801.95]
["2009-10-12T02:42:32",60.041000366210938,3698.68603515625,350,-223.01573181152344,16,458,10,0,-103,7802.28]
["2009-10-12T02:42:34",60.03900146484375,3699.630615234375,350,-223.01573181152344,16,458.5,10,0,-103,7802.61]
["2009-10-12T02:42:36",60.03900146484375,3698.786865234375,350,-223.01573181152344,16,459,10,0,-103,7802.94]
["2009-10-12T02:42:38",60.035999298095703,3699.712158203125,350,-223.01573181152344,16,459.5,10,0,-103,7803.27]
["2009-10-12T02:42:40",60.037998199462891,3700.105712890625,350,-223.01573181152344,16,460,10,0,-103,7803.6]
["2009-10-12T02:42:42",60.033000946044922,3699.968017578125,350,-223.01573181152344,16,460.5,10,0,-103,7803.93]
["2009-10-12T02:42:44",60.034000396728516,3701.121826171875,350,-223.01573181152344,16,461,10,0,-103,7804.26]
["2009-10-12T02:42:46",60.036998748779297,3701.865234375,350,-223.01573181152344,16,461.5,10,0,-103,7804.59]
["2009-10-12T02:42:48",60.036998748779297,3701.61376953125,350,-223.01573181152344,16,462,10,0,-103,7804.92]
["2009-10-12T02:42:50",60.034999847412109,3701.997802734375,350,-223.01573181152344,16,462.5,10,0,-103,7805.25]
["2009-10-12T02:42:52",60.029998779296875,3702.91259765625,350,-223.01573181152344,16,463,10,0,-103,7805.58]
["2009-10-12T02:42:54",60.033000946044922,3703.9091796875,350,-223.01573181152344,16,463.5,10,0,-103,7805.91]
["2009-10-12T02:42:56",60.035999298095703,3705.5224609375,350,-223.01573181152344,16,464,10,0,-103,7806.24]
["2009-10-12T02:42:58",60.033000946044922,3704.966796875,350,-223.01573181152344,16,464.5,10,0,-103,7806.57]
["2009-10-12T02:43:00",60.034000396728516,3704.08740234375,350,-223.01573181152344,16,465,10,0,-103,7806.9]
["2009-10-12T02:43:02",60.032001495361328,3702.770751953125,350,-223.01573181152344,16,465.5,10,0,-103,7807.23]
["2009-10-12T02:43:04",60.032001495361328,3703.706298828125,350,-223.01573181152344,16,466,10,0,-103,7807.56]
["2009-10-12T02:43:06",60.034000396728516,3704.9052734375,350,-223.01573181152344,16,466.5,10,0,-103,7807.89]
["2009-10-12T02:43:08",60.033000946044922,3705.435302734375,350,-223.01573181152344,16,467,10,0,-103,7808.22]
["2009-10-12T02:43:10",60.036998748779297,3704.360107421875,350,-223.01573181152344,16,467.5,10,0,-103,7808.55]
["2009-10-12T02:43:12",60.034999847412109,3702.587890625,350,-223.01573181152344,16,468,10,0,-103,7808.88]
["2009-10-12T02:43:14",60.034999847412109,3702.204345703125,350,-223.01573181152344,16,468.5,10,0,-103,7809.21]
["2009-10-12T02:43:16",60.035999298095703,3701.94189453125,350,-223.01573181152344,16,469,10,0,-103,7809.54]
["2009-10-12T02:43:18",60.03900146484375,3702.25048828125,350,-223.01573181152344,16,469.5,10,0,-103,7809.87]
["2009-10-12T02:43:20",60.036998748779297,3703.31787109375,350,-223.01573181152344,16,470,10,0,-103,7810.2]
["2009-10-12T02:43:22",60.03900146484375,3702.45703125,350,-223.01573181152344,16,470.5,10,0,-103,7810.53]
["2009-10-12T02:43:24",60.035999298095703,3702.52490234375,350,-223.01573181152344,16,471,10,0,-103,7810.86]
["2009-10-12T02:43:26",60.034000396728516,3703.2685546875,350,-223.01573181152344,16,471.5,10,0,-103,7811.19]
["2009-10-12T02:43:28",60.037998199462891,3703.843505859375,350,-223.01573181152344,16,472,10,0,-103,7811.52]
["2009-10-12T02:43:30",60.036998748779297,3702.865234375,350,-223.01573181152344,16,472.5,10,0,-103,7811.85]
["2009-10-12T02:43:32",60.036998748779297,3702.517578125,350,-223.01573181152344,16,473,10,0,-103,7812.18]
["2009-10-12T02:43:34",60.036998748779297,3702.279541015625,350,-223.01573181152344,16,473.5,10,0,-103,7812.51]
["2009-10-12T02:43:36",60.037998199462891,3692.427001953125,350,-223.01573181152344,16,474,10,0,-103,7812.84]
["2009-10-12T02:43:38",60.040000915527344,3692.177978515625,350,-223.01573181152344,16,474.5,10,0,-103,7813.17]
["2009-10-12T02:43:40",60.042999267578125,3700.27587890625,350,-223.01573181152344,16,475,10,0,-103,7813.5]
["2009-10-12T02:43:42",60.044998168945313,3698.75537109375,350,-223.01573181152344,16,475.5,10,0,-103,7813.83]
["2009-10-12T02:43:44",60.044998168945313,3697.728515625,350,-223.01573181152344,16,476,10,0,-103,7814.16]
["2009-10-12T02:43:46",60.041999816894531,3696.916015625,350,-223.01573181152344,16,476.5,10,0,-103,7814.49]
["2009-10-12T02:43:48",60.042999267578125,3697.368408203125,350,-223.01573181152344,16,477,10,0,-103,7814.82]
["2009-10-12T02:43:50",60.040000915527344,3697.345947265625,350,-223.01573181152344,16,477.5,10,0,-103,7815.15]
["2009-10-12T02:43:52",60.043998718261719,3698.42919921875,350,-223.01573181152344,16,478,10,0,-103,7815.48]
["2009-10-12T02:43:54",60.046001434326172,3694.762939453125,350,-223.01573181152344,16,478.5,10,0,-103,7815.81]
["2009-10-12T02:43:56",60.041999816894531,3693.583740234375,350,-223.01573181152344,16,479,10,0,-103,7816.14]
["2009-10-12T02:43:58",60.034000396728516,3693.24072265625,350,-223.01573181152344,16,479.5,10,0,-103,7816.47]
["2009-10-12T02:44:00",60.03900146484375,3696.79833984375,350,-223.01573181152344,16,480,10,0,-103,7816.8]
["2009-10-12T02:44:02",60.03900146484375,3699.3642578125,350,-223.01573181152344,16,480.5,10,0,-103,7817.13]
["2009-10-12T02:44:04",60.035999298095703,3701.791015625,350,-223.01573181152344,16,481,10,0,-103,7817.46]
["2009-10-12T02:44:06",60.036998748779297,3700.708251953125,350,-223.01573181152344,16,481.5,10,0,-103,7817.79]
["2009-10-12T02:44:08",60.034000396728516,3700.75341796875,350,-223.01573181152344,16,482,10,0,-103,7818.12]
["2009-10-12T02:44:10",60.033000946044922,3702.14794921875,350,-223.01573181152344,16,482.5,10,0,-103,7818.45]
["2009-10-12T02:44:12",60.032001495361328,3705.212646484375,350,-223.01573181152344,16,483,10,0,-103,7818.78]
["2009-10-12T02:44:14",60.030998229980469,3707.52099609375,350,-223.01573181152344,16,483.5,10,0,-103,7819.11]
["2009-10-12T02:44:16",60.033000946044922,3707.28662109375,350,-223.01573181152344,16,484,10,0,-103,7819.44]
["2009-10-12T02:44:18",60.027000427246094,3706.988037109375,350,-223.01573181152344,16,484.5,10,0,-103,7819.77]
["2009-10-12T02:44:20",60.030998229980469,3707.34033203125,350,-223.01573181152344,16,485,10,0,-103,7820.1]
["2009-10-12T02:44:22",60.032001495361328,3707.91650390625,350,-223.01573181152344,16,485.5,10,0,-103,7820.43]
["2009-10-12T02:44:24",60.030998229980469,3707.3837890625,350,-223.01573181152344,16,486,10,0,-103,7820.76]
["2009-10-12T02:44:26",60.030998229980469,3706.857421875,350,-223.01573181152344,16,486.5,10,0,-103,7821.09]
["2009-10-12T02:44:28",60.033000946044922,3707.615234375,350,-223.01573181152344,16,487,10,0,-103,7821.42]
["2009-10-12T02:44:30",60.03900146484375,3706.8232421875,350,-223.01573181152344,16,487.5,10,0,-103,7821.75]
["2009-10-12T02:44:32",60.03900146484375,3703.74609375,350,-223.01573181152344,16,488,10,0,-103,7822.08]
["2009-10-12T02:44:34",60.037998199462891,3701.58203125,350,-223.01573181152344,16,488.5,10,0,-103,7822.41]
["2009-10-12T02:44:36",60.036998748779297,3700.847412109375,350,-223.01573181152344,16,489,10,0,-103,7822.74]
["2009-10-12T02:44:38",60.034999847412109,3701.20751953125,350,-223.01573181152344,16,489.5,10,0,-103,7823.07]
["2009-10-12T02:44:40",60.036998748779297,3702.212158203125,350,-223.01573181152344,16,490,10,0,-103,7823.4]
["2009-10-12T02:44:42",60.040000915527344,3701.686279296875,350,-223.01573181152344,16,490.5,10,0,-103,7823.73]
["2009-10-12T02:44:44",60.041999816894531,3700.3974609375,350,-223.01573181152344,16,491,10,0,-103,7824.06]
["2009-10-12T02:44:46",60.034999847412109,3699.689697265625,350,-223.01573181152344,16,491.5,10,0,-103,7824.39]
["2009-10-12T02:44:48",60.035999298095703,3700.366455078125,350,-223.01573181152344,16,492,10,0,-103,7824.72]
["2009-10-12T02:44:50",60.040000915527344,3700.8271484375,350,-223.01573181152344,16,492.5,10,0,-103,7825.05]
["2009-10-12T02:44:52",60.044998168945313,3700.66162109375,350,-223.01573181152344,16,493,10,0,-103,7825.38]
["2009-10-12T02:44:54",60.044998168945313,3696.93505859375,350,-223.01573181152344,16,493.5,10,0,-103,7825.71]
["2009-10-12T02:44:56",60.048000335693359,3695.688232421875,350,-223.01573181152344,16,494,10,0,-103,7826.04]
["2009-10-12T02:44:58",60.041999816894531,3695.818603515625,350,-223.01573181152344,16,494.5,10,0,-103,7826.37]
["2009-10-12T02:45:00",60.043998718261719,3693.82421875,350,-223.01573181152344,16,495,10,0,-103,7826.7]
["2009-10-12T02:45:02",60.043998718261719,3694.799072265625,350,-223.01573181152344,16,495.5,10,0,-103,7827.03]
["2009-10-12T02:45:04",60.043998718261719,3696.89697265625,350,-223.01573181152344,16,496,10,0,-103,7827.36]
["2009-10-12T02:45:06",60.041000366210938,3696.022705078125,350,-223.01573181152344,16,496.5,10,0,-103,7827.69]
["2009-10-12T02:45:08",60.040000915527344,3697.50244140625,350,-223.01573181152344,16,497,10,0,-103,7828.02]
["2009-10-12T02:45:10",60.040000915527344,3698.42431640625,350,-223.01573181152344,16,497.5,10,0,-103,7828.35]
["2009-10-12T02:45:12",60.044998168945313,3699.4267578125,350,-223.01573181152344,16,498,10,0,-103,7828.68]
["2009-10-12T02:45:14",60.043998718261719,3700.1767578125,350,-223.01573181152344,16,498.5,10,0,-103,7829.01]
["2009-10-12T02:45:16",60.041999816894531,3699.806396484375,350,-223.01573181152344,16,499,10,0,-103,7829.34]
["2009-10-12T02:45:18",60.03900146484375,3697.577392578125,350,-223.01573181152344,16,499.5,10,0,-103,7829.67]
["2009-10-12T02:45:20",60.041999816894531,3697.6806640625,350,-223.01573181152344,16,500,10,0,-103,7830]
["2009-10-12T02:45:22",60.041999816894531,3698.50732421875,350,-223.01573181152344,16,500.5,10,0,-103,7830.33]
["2009-10-12T02:45:24",60.041000366210938,3698.35888671875,350,-223.01573181152344,16,501,10,0,-103,7830.66]
["2009-10-12T02:45:26",60.037998199462891,3698.4658203125,350,-223.01573181152344,16,501.5,10,0,-103,7830.99]
["2009-10-12T02:45:28",60.035999298095703,3699.0771484375,350,-223.01573181152344,16,502,10,0,-103,7831.32]
["2009-10-12T02:45:30",60.036998748779297,3700.26220703125,350,-223.01573181152344,16,502.5,10,0,-103,7831.65]
["2009-10-12T02:45:32",60.03900146484375,3701.591796875,350,-223.01573181152344,16,503,10,0,-103,7831.98]
["2009-10-12T02:45:34",60.037998199462891,3700.90234375,350,-223.01573181152344,16,503.5,10,0,-103,7832.31]
["2009-10-12T02:45:36",60.040000915527344,3700.142822265625,350,-223.01573181152344,16,504,10,0,-103,7832.64]
["2009-10-12T02:45:38",60.03900146484375,3700.27001953125,350,-223.01573181152344,16,504.5,10,0,-103,7832.97]
["2009-10-12T02:45:40",60.036998748779297,3701.139404296875,350,-223.01573181152344,16,505,10,0,-103,7833.3]
["2009-10-12T02:45:42",60.037998199462891,3701.585693359375,350,-223.01573181152344,16,505.5,10,0,-103,7833.63]
["2009-10-12T02:45:44",60.03900146484375,3700.264404296875,350,-223.01573181152344,16,506,10,0,-103,7833.96]
["2009-10-12T02:45:46",60.040000915527344,3699.45849609375,350,-223.01573181152344,16,506.5,10,0,-103,7834.29]
["2009-10-12T02:45:48",60.036998748779297,3699.72119140625,350,-223.01573181152344,16,507,10,0,-103,7834.62]
["2009-10-12T02:45:50",60.036998748779297,3700.45751953125,350,-223.01573181152344,16,507.5,10,0,-103,7834.95]
["2009-10-12T02:45:52",60.036998748779297,3699.505126953125,350,-223.01573181152344,16,508,10,0,-103,7835.28]
["2009-10-12T02:45:54",60.03900146484375,3698.79443359375,350,-223.01573181152344,16,508.5,10,0,-103,7835.61]
["2009-10-12T02:45:56",60.037998199462891,3699.216064453125,350,-223.01573181152344,16,509,10,0,-103,7835.94]
["2009-10-12T02:45:58",60.035999298095703,3699.400390625,350,-223.01573181152344,16,509.5,10,0,-103,7836.27]
["2009-10-12T02:46:00",60.034999847412109,3700.661376953125,350,-223.01573181152344,16,510,10,0,-103,7836.6]
["2009-10-12T02:46:02",60.033000946044922,3702.173095703125,350,-223.01573181152344,16,510.5,10,0,-103,7836.93]
["2009-10-12T02:46:04",60.030998229980469,3702.967529296875,350,-223.01573181152344,16,511,10,0,-103,7837.26]
["2009-10-12T02:46:06",60.029998779296875,3705.195068359375,350,-223.01573181152344,16,511.5,10,0,-103,7837.59]
["2009-10-12T02:46:08",60.032001495361328,3704.95166015625,350,-223.01573181152344,16,512,10,0,-103,7837.92]
["2009-10-12T02:46:10",60.032001495361328,3705.775146484375,350,-223.01573181152344,16,512.5,10,0,-103,7838.25]
["2009-10-12T02:46:12",60.036998748779297,3705.621337890625,350,-223.01573181152344,16,513,10,0,-103,7838.58]
["2009-10-12T02:46:14",60.041999816894531,3703.744140625,350,-223.01573181152344,16,513.5,10,0,-103,7838.91]
["2009-10-12T02:46:16",60.041000366210938,3701.981201171875,350,-223.01573181152344,16,514,10,0,-103,7839.24]
["2009-10-12T02:46:18",60.035999298095703,3700.75634765625,350,-223.01573181152344,16,514.5,10,0,-103,7839.57]
["2009-10-12T02:46:20",60.030998229980469,3700.7470703125,350,-223.01573181152344,16,515,10,0,-103,7839.9]
["2009-10-12T02:46:22",60.032001495361328,3702.212646484375,350,-223.01573181152344,16,515.5,10,0,-103,7840.23]
["2009-10-12T02:46:24",60.030998229980469,3705.059326171875,350,-223.01573181152344,16,516,10,0,-103,7840.56]
["2009-10-12T02:46:26",60.034000396728516,3705.513671875,350,-223.01573181152344,16,516.5,10,0,-103,7840.89]
["2009-10-12T02:46:28",60.034000396728516,3704.44873046875,350,-223.01573181152344,16,517,10,0,-103,7841.22]
["2009-10-12T02:46:30",60.032001495361328,3703.830810546875,350,-223.01573181152344,16,517.5,10,0,-103,7841.55]
["2009-10-12T02:46:32",60.037998199462891,3703.61962890625,350,-223.01573181152344,16,518,10,0,-103,7841.88]
["2009-10-12T02:46:34",60.042999267578125,3702.79541015625,350,-223.01573181152344,16,518.5,10,0,-103,7842.21]
["2009-10-12T02:46:36",60.043998718261719,3701.431640625,350,-223.01573181152344,16,519,10,0,-103,7842.54]
["2009-10-12T02:46:38",60.041999816894531,3697.38037109375,350,-223.01573181152344,16,519.5,10,0,-103,7842.87]
["2009-10-12T02:46:40",60.044998168945313,3696.24951171875,350,-223.01573181152344,16,520,10,0,-103,7843.2]
["2009-10-12T02:46:42",60.040000915527344,3696.302001953125,350,-223.01573181152344,16,520.5,10,0,-103,7843.53]
["2009-10-12T02:46:44",60.040000915527344,3693.51806640625,350,-223.01573181152344,16,521,10,0,-103,7843.86]
["2009-10-12T02:46:46",60.042999267578125,3693.5771484375,350,-223.01573181152344,16,521.5,10,0,-103,7844.19]
["2009-10-12T02:46:48",60.042999267578125,3695.197021484375,350,-223.01573181152344,16,522,10,0,-103,7844.52]
["2009-10-12T02:46:50",60.041000366210938,3695.185546875,350,-223.01573181152344,16,522.5,10,0,-103,7844.85]
["2009-10-12T02:46:52",60.040000915527344,3693.7861328125,350,-223.01573181152344,16,523,10,0,-103,7845.18]
["2009-10-12T02:46:54",60.037998199462891,3694.75341796875,350,-223.01573181152344,16,523.5,10,0,-103,7845.51]
["2009-10-12T02:46:56",60.042999267578125,3694.92626953125,350,-223.01573181152344,16,524,10,0,-103,7845.84]
["2009-10-12T02:46:58",60.043998718261719,3694.937744140625,350,-223.01573181152344,16,524.5,10,0,-103,7846.17]
["2009-10-12T02:47:00",60.041999816894531,3694.159423828125,350,-223.01573181152344,16,525,10,0,-103,7846.5]
["2009-10-12T02:47:02",60.035999298095703,3691.330078125,350,-223.01573181152344,16,525.5,10,0,-103,7846.83]
["2009-10-12T02:47:04",60.042999267578125,3692.686279296875,350,-223.01573181152344,16,526,10,0,-103,7847.16]
["2009-10-12T02:47:06",60.041000366210938,3693.23828125,350,-223.01573181152344,16,526.5,10,0,-103,7847.49]
["2009-10-12T02:47:08",60.041999816894531,3693.39013671875,350,-223.01573181152344,16,527,10,0,-103,7847.82]
["2009-10-12T02:47:10",60.042999267578125,3692.35693359375,350,-223.01573181152344,16,527.5,10,0,-103,7848.15]
["2009-10-12T02:47:12",60.042999267578125,3690.951416015625,350,-223.01573181152344,16,528,10,0,-103,7848.48]
["2009-10-12T02:47:14",60.035999298095703,3690.836181640625,350,-223.01573181152344,16,528.5,10,0,-103,7848.81]
["2009-10-12T02:47:16",60.03900146484375,3692.042236328125,350,-223.01573181152344,16,529,10,0,-103,7849.14]
["2009-10-12T02:47:18",60.03900146484375,3693.1142578125,350,-223.01573181152344,16,529.5,10,0,-103,7849.47]
["2009-10-12T02:47:20",60.036998748779297,3694.1171875,350,-223.01573181152344,16,530,10,0,-103,7849.8]
["2009-10-12T02:47:22",60.034000396728516,3695.25830078125,350,-223.01573181152344,16,530.5,10,0,-103,7850.13]
["2009-10-12T02:47:24",60.034999847412109,3695.580810546875,350,-223.01573181152344,16,531,10,0,-103,7850.46]
["2009-10-12T02:47:26",60.034999847412109,3695.94921875,350,-223.01573181152344,16,531.5,10,0,-103,7850.79]
["2009-10-12T02:47:28",60.034999847412109,3695.4912109375,350,-223.01573181152344,16,532,10,0,-103,7851.12]
["2009-10-12T02:47:30",60.035999298095703,3696.304931640625,350,-223.01573181152344,16,532.5,10,0,-103,7851.45]
["2009-10-12T02:47:32",60.029998779296875,3696.486328125,350,-223.01573181152344,16,533,10,0,-103,7851.78]
["2009-10-12T02:47:34",60.029998779296875,3697.335693359375,350,-223.01573181152344,16,533.5,10,0,-103,7852.11]
["2009-10-12T02:47:36",60.029998779296875,3699.1708984375,350,-223.01573181152344,16,534,10,0,-103,7852.44]
["2009-10-12T02:47:38",60.030998229980469,3699.35693359375,350,-223.01573181152344,16,534.5,10,0,-103,7852.77]
["2009-10-12T02:47:40",60.030998229980469,3699.251220703125,350,-223.01573181152344,16,535,10,0,-103,7853.1]
["2009-10-12T02:47:42",60.032001495361328,3699.1171875,350,-223.01573181152344,16,535.5,10,0,-103,7853.43]
["2009-10-12T02:47:44",60.030998229980469,3699.105224609375,350,-223.01573181152344,16,536,10,0,-103,7853.76]
["2009-10-12T02:47:46",60.032001495361328,3699.12646484375,350,-223.01573181152344,16,536.5,10,0,-103,7854.09]
["2009-10-12T02:47:48",60.032001495361328,3698.954345703125,350,-223.01573181152344,16,537,10,0,-103,7854.42]
["2009-10-12T02:47:50",60.032001495361328,3698.135986328125,350,-223.01573181152344,16,537.5,10,0,-103,7854.75]
["2009-10-12T02:47:52",60.033000946044922,3698.27734375,350,-223.01573181152344,16,538,10,0,-103,7855.08]
["2009-10-12T02:47:54",60.036998748779297,3697.411865234375,350,-223.01573181152344,16,538.5,10,0,-103,7855.41]
["2009-10-12T02:47:56",60.040000915527344,3695.9404296875,350,-223.01573181152344,16,539,10,0,-103,7855.74]
["2009-10-12T02:47:58",60.03900146484375,3693.73583984375,350,-223.01573181152344,16,539.5,10,0,-103,7856.07]
["2009-10-12T02:48:00",60.041999816894531,3693.2236328125,350,-223.01573181152344,16,540,10,0,-103,7856.4]
["2009-10-12T02:48:02",60.035999298095703,3691.758544921875,350,-223.01573181152344,16,540.5,10,0,-103,7856.73]
["2009-10-12T02:48:04",60.03900146484375,3691.9189453125,350,-223.01573181152344,16,541,10,0,-103,7857.06]
["2009-10-12T02:48:06",60.041000366210938,3692.79833984375,350,-223.01573181152344,16,541.5,10,0,-103,7857.39]
["2009-10-12T02:48:08",60.040000915527344,3691.58154296875,350,-223.01573181152344,16,542,10,0,-103,7857.72]
["2009-10-12T02:48:10",60.034999847412109,3692.37353515625,350,-223.01573181152344,16,542.5,10,0,-103,7858.05]
["2009-10-12T02:48:12",60.035999298095703,3693.3017578125,350,-223.01573181152344,16,543,10,0,-103,7858.38]
["2009-10-12T02:48:14",60.037998199462891,3694.710205078125,350,-223.01573181152344,16,543.5,10,0,-103,7858.71]
["2009-10-12T02:48:16",60.036998748779297,3694.331298828125,350,-223.01573181152344,16,544,10,0,-103,7859.04]
["2009-10-12T02:48:18",60.041000366210938,3693.814697265625,350,-223.01573181152344,16,544.5,10,0,-103,7859.37]
["2009-10-12T02:48:20",60.040000915527344,3693.6171875,350,-223.01573181152344,16,545,10,0,-103,7859.7]
["2009-10-12T02:48:22",60.035999298095703,3694.323974609375,350,-223.01573181152344,16,545.5,10,0,-103,7860.03]
["2009-10-12T02:48:24",60.033000946044922,3694.27001953125,350,-223.01573181152344,16,546,10,0,-103,7860.36]
["2009-10-12T02:48:26",60.034000396728516,3694.660400390625,350,-223.01573181152344,16,546.5,10,0,-103,7860.69]
["2009-10-12T02:48:28",60.037998199462891,3693.74755859375,350,-223.01573181152344,16,547,10,0,-103,7861.02]
["2009-10-12T02:48:30",60.040000915527344,3692.5322265625,350,-223.01573181152344,16,547.5,10,0,-103,7861.35]
["2009-10-12T02:48:32",60.041000366210938,3691.4453125,350,-223.01573181152344,16,548,10,0,-103,7861.68]
["2009-10-12T02:48:34",60.036998748779297,3691.01171875,350,-223.01573181152344,16,548.5,10,0,-103,7862.01]
["2009-10-12T02:48:36",60.036998748779297,3691.798828125,350,-223.01573181152344,16,549,10,0,-103,7862.34]
["2009-10-12T02:48:38",60.035999298095703,3693.07666015625,350,-223.01573181152344,16,549.5,10,0,-103,7862.67]
["2009-10-12T02:48:40",60.036998748779297,3693.72705078125,350,-223.01573181152344,16,550,10,0,-103,7863]
["2009-10-12T02:48:42",60.037998199462891,3693.1171875,350,-223.01573181152344,16,550.5,10,0,-103,7863.33]
["2009-10-12T02:48:44",60.03900146484375,3692.640625,350,-223.01573181152344,16,551,10,0,-103,7863.66]
["2009-10-12T02:48:46",60.037998199462891,3688.159423828125,350,-223.01573181152344,16,551.5,10,0,-103,7863.99]
["2009-10-12T02:48:48",60.034000396728516,3689.01953125,350,-223.01573181152344,16,552,10,0,-103,7864.32]
["2009-10-12T02:48:50",60.033000946044922,3688.20849609375,350,-223.01573181152344,16,552.5,10,0,-103,7864.65]
["2009-10-12T02:48:52",60.030998229980469,3690.091796875,350,-223.01573181152344,16,553,10,0,-103,7864.98]
["2009-10-12T02:48:54",60.034000396728516,3693.17236328125,350,-223.01573181152344,16,553.5,10,0,-103,7865.31]
["2009-10-12T02:48:56",60.028999328613281,3693.32080078125,350,-223.01573181152344,16,554,10,0,-103,7865.64]
["2009-10-12T02:48:58",60.028999328613281,3694.59326171875,350,-223.01573181152344,16,554.5,10,0,-103,7865.97]
["2009-10-12T02:49:00",60.030998229980469,3695.224853515625,350,-223.01573181152344,16,555,10,0,-103,7866.3]
["2009-10-12T02:49:02",60.029998779296875,3694.60888671875,350,-223.01573181152344,16,555.5,10,0,-103,7866.63]
["2009-10-12T02:49:04",60.029998779296875,3693.41162109375,350,-223.01573181152344,16,556,10,0,-103,7866.96]
["2009-10-12T02:49:06",60.0260009765625,3693.508544921875,350,-223.01573181152344,16,556.5,10,0,-103,7867.29]
["2009-10-12T02:49:08",60.021999359130859,3696.02587890625,350,-223.01573181152344,16,557,10,0,-103,7867.62]
["2009-10-12T02:49:10",60.020999908447266,3698.01220703125,350,-223.01573181152344,16,557.5,10,0,-103,7867.95]
["2009-10-12T02:49:12",60.023998260498047,3699.0615234375,350,-223.01573181152344,16,558,10,0,-103,7868.28]
["2009-10-12T02:49:14",60.022998809814453,3699.414306640625,350,-223.01573181152344,16,558.5,10,0,-103,7868.61]
["2009-10-12T02:49:16",60.020000457763672,3698.93505859375,350,-223.01573181152344,16,559,10,0,-103,7868.94]
["2009-10-12T02:49:18",60.020999908447266,3700.083740234375,350,-223.01573181152344,16,559.5,10,0,-103,7869.27]
["2009-10-12T02:49:20",60.022998809814453,3700.544189453125,350,-223.01573181152344,16,560,10,0,-103,7869.6]
["2009-10-12T02:49:22",60.025001525878906,3700.48583984375,350,-223.01573181152344,16,560.5,10,0,-103,7869.93]
["2009-10-12T02:49:24",60.0260009765625,3698.595703125,350,-223.01573181152344,16,561,10,0,-103,7870.26]
["2009-10-12T02:49:26",60.0260009765625,3697.960693359375,350,-223.01573181152344,16,561.5,10,0,-103,7870.59]
["2009-10-12T02:49:28",60.025001525878906,3699.913818359375,350,-223.01573181152344,16,562,10,0,-103,7870.92]
["2009-10-12T02:49:30",60.023998260498047,3700.802490234375,350,-223.01573181152344,16,562.5,10,0,-103,7871.25]
["2009-10-12T02:49:32",60.023998260498047,3701.30126953125,350,-223.01573181152344,16,563,10,0,-103,7871.58]
["2009-10-12T02:49:34",60.025001525878906,3701.4501953125,350,-223.01573181152344,16,563.5,10,0,-103,7871.91]
["2009-10-12T02:49:36",60.022998809814453,3701.3486328125,350,-223.01573181152344,16,564,10,0,-103,7872.24]
["2009-10-12T02:49:38",60.022998809814453,3701.09375,350,-223.01573181152344,16,564.5,10,0,-103,7872.57]
["2009-10-12T02:49:40",60.021999359130859,3701.70166015625,350,-223.01573181152344,16,565,10,0,-103,7872.9]
["2009-10-12T02:49:42",60.0260009765625,3702.0703125,350,-223.01573181152344,16,565.5,10,0,-103,7873.23]
["2009-10-12T02:49:44",60.028999328613281,3701.96484375,350,-223.01573181152344,16,566,10,0,-103,7873.56]
["2009-10-12T02:49:46",60.0260009765625,3700.268798828125,350,-223.01573181152344,16,566.5,10,0,-103,7873.89]
["2009-10-12T02:49:48",60.023998260498047,3700.2412109375,350,-223.01573181152344,16,567,10,0,-103,7874.22]
["2009-10-12T02:49:50",60.020999908447266,3701.08984375,350,-223.01573181152344,16,567.5,10,0,-103,7874.55]
["2009-10-12T02:49:52",60.025001525878906,3701.26806640625,350,-223.01573181152344,16,568,10,0,-103,7874.88]
["2009-10-12T02:49:54",60.025001525878906,3701.20458984375,350,-223.01573181152344,16,568.5,10,0,-103,7875.21]
["2009-10-12T02:49:56",60.025001525878906,3700.58740234375,350,-223.01573181152344,16,569,10,0,-103,7875.54]
["2009-10-12T02:49:58",60.022998809814453,3700.53173828125,350,-223.01573181152344,16,569.5,10,0,-103,7875.87]
["2009-10-12T02:50:00",60.0260009765625,3700.1767578125,350,-223.01573181152344,16,570,10,0,-103,7876.2]
["2009-10-12T02:50:02",60.023998260498047,3700.29541015625,350,-223.01573181152344,16,570.5,10,0,-103,7876.53]
["2009-10-12T02:50:04",60.021999359130859,3700.27734375,350,-223.01573181152344,16,571,10,0,-103,7876.86]
["2009-10-12T02:50:06",60.022998809814453,3700.8408203125,350,-223.01573181152344,16,571.5,10,0,-103,7877.19]
["2009-10-12T02:50:08",60.0260009765625,3700.86279296875,350,-223.01573181152344,16,572,10,0,-103,7877.52]
["2009-10-12T02:50:10",60.025001525878906,3700.26025390625,350,-223.01573181152344,16,572.5,10,0,-103,7877.85]
["2009-10-12T02:50:12",60.020000457763672,3700.052490234375,350,-223.01573181152344,16,573,10,0,-103,7878.18]
["2009-10-12T02:50:14",60.020000457763672,3699.925537109375,350,-223.01573181152344,16,573.5,10,0,-103,7878.51]
["2009-10-12T02:50:16",60.019001007080078,3700.96484375,350,-223.01573181152344,16,574,10,0,-103,7878.84]
["2009-10-12T02:50:18",60.014999389648438,3702.5810546875,350,-223.01573181152344,16,574.5,10,0,-103,7879.17]
["2009-10-12T02:50:20",60.015998840332031,3703.51611328125,350,-223.01573181152344,16,575,10,0,-103,7879.5]
["2009-10-12T02:50:22",60.016998291015625,3703.82373046875,350,-223.01573181152344,16,575.5,10,0,-103,7879.83]
["2009-10-12T02:50:24",60.014999389648438,3703.67236328125,350,-223.01573181152344,16,576,10,0,-103,7880.16]
["2009-10-12T02:50:26",60.014999389648438,3703.689453125,350,-223.01573181152344,16,576.5,10,0,-103,7880.49]
["2009-10-12T02:50:28",60.016998291015625,3703.00341796875,350,-223.01573181152344,16,577,10,0,-103,7880.82]
["2009-10-12T02:50:30",60.016998291015625,3702.92138671875,350,-223.01573181152344,16,577.5,10,0,-103,7881.15]
["2009-10-12T02:50:32",60.012001037597656,3702.99951171875,350,-223.01573181152344,16,578,10,0,-103,7881.48]
["2009-10-12T02:50:34",60.009998321533203,3703.166748046875,350,-223.01573181152344,16,578.5,10,0,-103,7881.81]
["2009-10-12T02:50:36",60.007999420166016,3703.918212890625,350,-223.01573181152344,16,579,10,0,-103,7882.14]
["2009-10-12T02:50:38",60.001998901367188,3703.61572265625,350,-223.01573181152344,16,579.5,10,0,-103,7882.47]
["2009-10-12T02:50:40",59.999000549316406,3703.775390625,350,-223.01573181152344,16,580,10,0,-103,7882.8]
["2009-10-12T02:50:42",59.999000549316406,3703.7509765625,350,-223.01573181152344,16,580.5,10,0,-103,7883.13]
["2009-10-12T02:50:44",60.001998901367188,3701.53369140625,350,-223.01573181152344,16,581,10,0,-103,7883.46]
["2009-10-12T02:50:46",60.002998352050781,3700.61669921875,350,-223.01573181152344,16,581.5,10,0,-103,7883.79]
["2009-10-12T02:50:48",60.004001617431641,3700.88037109375,350,-223.01573181152344,16,582,10,0,-103,7884.12]
["2009-10-12T02:50:50",60.000999450683594,3700.625244140625,350,-223.01573181152344,16,582.5,10,0,-103,7884.45]
["2009-10-12T02:50:52",59.995998382568359,3701.388916015625,350,-223.01573181152344,16,583,10,0,-103,7884.78]
["2009-10-12T02:50:54",59.993000030517578,3701.736572265625,350,-223.01573181152344,16,583.5,10,0,-103,7885.11]
["2009-10-12T02:50:56",59.992000579833984,3700.67138671875,350,-223.01573181152344,16,584,10,0,-103,7885.44]
["2009-10-12T02:50:58",59.988998413085937,3700.826416015625,350,-223.01573181152344,16,584.5,10,0,-103,7885.77]
["2009-10-12T02:51:00",59.98699951171875,3700.97705078125,350,-223.01573181152344,16,585,10,0,-103,7886.1]
["2009-10-12T02:51:02",59.985000610351563,3700.699951171875,350,-223.01573181152344,16,585.5,10,0,-103,7886.43]
["2009-10-12T02:51:04",59.985000610351563,3699.853759765625,350,-223.01573181152344,16,586,10,0,-103,7886.76]
["2009-10-12T02:51:06",59.986000061035156,3700.2373046875,350,-223.01573181152344,16,586.5,10,0,-103,7887.09]
["2009-10-12T02:51:08",59.984001159667969,3700.34228515625,350,-223.01573181152344,16,587,10,0,-103,7887.42]
["2009-10-12T02:51:10",59.980998992919922,3700.769775390625,350,-223.01573181152344,16,587.5,10,0,-103,7887.75]
["2009-10-12T02:51:12",59.979999542236328,3700.789306640625,350,-223.01573181152344,16,588,10,0,-103,7888.08]
["2009-10-12T02:51:14",59.977001190185547,3701.625244140625,350,-223.01573181152344,16,588.5,10,0,-103,7888.41]
["2009-10-12T02:51:16",59.974998474121094,3703.165771484375,350,-223.01573181152344,16,589,10,0,-103,7888.74]
["2009-10-12T02:51:18",59.976001739501953,3704.18701171875,350,-223.01573181152344,16,589.5,10,0,-103,7889.07]
["2009-10-12T02:51:20",59.972000122070313,3704.78466796875,350,-223.01573181152344,16,590,10,0,-103,7889.4]
["2009-10-12T02:51:22",59.9739990234375,3705.810546875,350,-223.01573181152344,16,590.5,10,0,-103,7889.73]
["2009-10-12T02:51:24",59.977001190185547,3706.9580078125,350,-223.01573181152344,16,591,10,0,-103,7890.06]
["2009-10-12T02:51:26",59.974998474121094,3706.68798828125,350,-223.01573181152344,16,591.5,10,0,-103,7890.39]
["2009-10-12T02:51:28",59.972999572753906,3706.54296875,350,-223.01573181152344,16,592,10,0,-103,7890.72]
["2009-10-12T02:51:30",59.971000671386719,3706.257080078125,350,-223.01573181152344,16,592.5,10,0,-103,7891.05]
["2009-10-12T02:51:32",59.971000671386719,3707.026611328125,350,-223.01573181152344,16,593,10,0,-103,7891.38]
["2009-10-12T02:51:34",59.976001739501953,3710.1181640625,350,-223.01573181152344,16,593.5,10,0,-103,7891.71]
["2009-10-12T02:51:36",59.979000091552734,3710.53125,350,-223.01573181152344,16,594,10,0,-103,7892.04]
["2009-10-12T02:51:38",59.979999542236328,3708.70068359375,350,-223.01573181152344,16,594.5,10,0,-103,7892.37]
["2009-10-12T02:51:40",59.979000091552734,3708.01806640625,350,-223.01573181152344,16,595,10,0,-103,7892.7]
["2009-10-12T02:51:42",59.981998443603516,3706.9423828125,350,-223.01573181152344,16,595.5,10,0,-103,7893.03]
["2009-10-12T02:51:44",59.981998443603516,3706.342529296875,350,-223.01573181152344,16,596,10,0,-103,7893.36]
["2009-10-12T02:51:46",59.983001708984375,3706.12548828125,350,-223.01573181152344,16,596.5,10,0,-103,7893.69]
["2009-10-12T02:51:48",59.980998992919922,3706.310546875,350,-223.01573181152344,16,597,10,0,-103,7894.02]
["2009-10-12T02:51:50",59.979000091552734,3706.11865234375,350,-223.01573181152344,16,597.5,10,0,-103,7894.35]
["2009-10-12T02:51:52",59.978000640869141,3706.1904296875,350,-223.01573181152344,16,598,10,0,-103,7894.68]
["2009-10-12T02:51:54",59.976001739501953,3707.720947265625,350,-223.01573181152344,16,598.5,10,0,-103,7895.01]
["2009-10-12T02:51:56",59.978000640869141,3709.408935546875,350,-223.01573181152344,16,599,10,0,-103,7895.34]
["2009-10-12T02:51:58",59.977001190185547,3708.971435546875,350,-223.01573181152344,16,599.5,10,0,-103,7895.67]
["2009-10-12T02:52:00",59.976001739501953,3708.530517578125,350,-223.01573181152344,16,600,10,0,-103,7896]
["2009-10-12T02:52:02",59.978000640869141,3708.07080078125,350,-223.01573181152344,16,600.5,10,0,-103,7896.33]
["2009-10-12T02:52:04",59.974998474121094,3707.239990234375,350,-223.01573181152344,16,601,10,0,-103,7896.66]
["2009-10-12T02:52:06",59.971000671386719,3709.212646484375,350,-223.01573181152344,16,601.5,10,0,-103,7896.99]
["2009-10-12T02:52:08",59.970001220703125,3709.961181640625,350,-223.01573181152344,16,602,10,0,-103,7897.32]
["2009-10-12T02:52:10",59.970001220703125,3711.75,350,-223.01573181152344,16,602.5,10,0,-103,7897.65]
["2009-10-12T02:52:12",59.971000671386719,3711.98046875,350,-223.01573181152344,16,603,10,0,-103,7897.98]
["2009-10-12T02:52:14",59.990001678466797,3710.6953125,350,-223.01573181152344,16,603.5,10,0,-103,7898.31]
["2009-10-12T02:52:16",59.998001098632813,3707.86669921875,350,-223.01573181152344,16,604,10,0,-103,7898.64]
["2009-10-12T02:52:18",59.999000549316406,3704.911865234375,350,-223.01573181152344,16,604.5,10,0,-103,7898.97]
["2009-10-12T02:52:20",59.999000549316406,3705.63916015625,350,-223.01573181152344,16,605,10,0,-103,7899.3]
["2009-10-12T02:52:22",59.998001098632813,3703.786865234375,350,-223.01573181152344,16,605.5,10,0,-103,7899.63]
["2009-10-12T02:52:24",59.999000549316406,3703.19091796875,350,-223.01573181152344,16,606,10,0,-103,7899.96]
["2009-10-12T02:52:26",60.002998352050781,3702.070556640625,350,-223.01573181152344,16,606.5,10,0,-103,7900.29]
["2009-10-12T02:52:28",60.005001068115234,3699.510009765625,350,-223.01573181152344,16,607,10,0,-103,7900.62]
["2009-10-12T02:52:30",60.005001068115234,3698.657958984375,350,-223.01573181152344,16,607.5,10,0,-103,7900.95]
["2009-10-12T02:52:32",60.009998321533203,3698.13671875,350,-223.01573181152344,16,608,10,0,-103,7901.28]
["2009-10-12T02:52:34",60.01300048828125,3697.882080078125,350,-223.01573181152344,16,608.5,10,0,-103,7901.61]
["2009-10-12T02:52:36",60.020000457763672,3698.668212890625,350,-223.01573181152344,16,609,10,0,-103,7901.94]
["2009-10-12T02:52:38",60.021999359130859,3698.6044921875,350,-223.01573181152344,16,609.5,10,0,-103,7902.27]
["2009-10-12T02:52:40",60.023998260498047,3697.868408203125,350,-223.01573181152344,16,610,10,0,-103,7902.6]
["2009-10-12T02:52:42",60.025001525878906,3694.671875,350,-223.01573181152344,16,610.5,10,0,-103,7902.93]
["2009-10-12T02:52:44",60.025001525878906,3693.912109375,350,-223.01573181152344,16,611,10,0,-103,7903.26]
["2009-10-12T02:52:46",60.023998260498047,3693.417724609375,350,-223.01573181152344,16,611.5,10,0,-103,7903.59]
["2009-10-12T02:52:48",60.022998809814453,3688.30126953125,350,-223.01573181152344,16,612,10,0,-103,7903.92]
["2009-10-12T02:52:50",60.028999328613281,3688.02099609375,350,-223.01573181152344,16,612.5,10,0,-103,7904.25]
["2009-10-12T02:52:52",60.028999328613281,3689.14306640625,350,-223.01573181152344,16,613,10,0,-103,7904.58]
["2009-10-12T02:52:54",60.028999328613281,3688.23681640625,350,-223.01573181152344,16,613.5,10,0,-103,7904.91]
["2009-10-12T02:52:56",60.027999877929687,3687.8779296875,350,-223.01573181152344,16,614,10,0,-103,7905.24]
["2009-10-12T02:52:58",60.027999877929687,3687.0263671875,350,-223.01573181152344,16,614.5,10,0,-103,7905.57]
["2009-10-12T02:53:00",60.030998229980469,3686.68310546875,350,-223.01573181152344,16,615,10,0,-103,7905.9]
["2009-10-12T02:53:02",60.032001495361328,3685.275634765625,350,-223.01573181152344,16,615.5,10,0,-103,7906.23]
["2009-10-12T02:53:04",60.033000946044922,3685.576171875,350,-223.01573181152344,16,616,10,0,-103,7906.56]
["2009-10-12T02:53:06",60.030998229980469,3685.98486328125,350,-223.01573181152344,16,616.5,10,0,-103,7906.89]
["2009-10-12T02:53:08",60.029998779296875,3686.41796875,350,-223.01573181152344,16,617,10,0,-103,7907.22]
["2009-10-12T02:53:10",60.021999359130859,3687.158935546875,350,-223.01573181152344,16,617.5,10,0,-103,7907.55]
["2009-10-12T02:53:12",60.020999908447266,3687.873046875,350,-223.01573181152344,16,618,10,0,-103,7907.88]
["2009-10-12T02:53:14",60.019001007080078,3688.9970703125,350,-223.01573181152344,16,618.5,10,0,-103,7908.21]
["2009-10-12T02:53:16",60.016998291015625,3690.42578125,350,-223.01573181152344,16,619,10,0,-103,7908.54]
["2009-10-12T02:53:18",60.016998291015625,3690.775634765625,350,-223.01573181152344,16,619.5,10,0,-103,7908.87]
["2009-10-12T02:53:20",60.016998291015625,3692.71533203125,350,-223.01573181152344,16,620,10,0,-103,7909.2]
["2009-10-12T02:53:22",60.015998840332031,3692.57763671875,350,-223.01573181152344,16,620.5,10,0,-103,7909.53]
["2009-10-12T02:53:24",60.014999389648438,3692.461669921875,350,-223.01573181152344,16,621,10,0,-103,7909.86]
["2009-10-12T02:53:26",60.014999389648438,3693.173095703125,350,-223.01573181152344,16,621.5,10,0,-103,7910.19]
["2009-10-12T02:53:28",60.012001037597656,3693.248779296875,350,-223.01573181152344,16,622,10,0,-103,7910.52]
["2009-10-12T02:53:30",60.008998870849609,3693.743408203125,350,-223.01573181152344,16,622.5,10,0,-103,7910.85]
["2009-10-12T02:53:32",60.007999420166016,3695.124267578125,350,-223.01573181152344,16,623,10,0,-103,7911.18]
["2009-10-12T02:53:34",60.007999420166016,3694.6806640625,350,-223.01573181152344,16,623.5,10,0,-103,7911.51]
["2009-10-12T02:53:36",60.005001068115234,3694.74072265625,350,-223.01573181152344,16,624,10,0,-103,7911.84]
["2009-10-12T02:53:38",60.005001068115234,3694.19873046875,350,-223.01573181152344,16,624.5,10,0,-103,7912.17]
["2009-10-12T02:53:40",60.002998352050781,3693.74951171875,350,-223.01573181152344,16,625,10,0,-103,7912.5]
["2009-10-12T02:53:42",59.999000549316406,3693.6240234375,350,-223.01573181152344,16,625.5,10,0,-103,7912.83]
["2009-10-12T02:53:44",59.997001647949219,3692.80615234375,350,-223.01573181152344,16,626,10,0,-103,7913.16]
["2009-10-12T02:53:46",59.999000549316406,3691.14990234375,350,-223.01573181152344,16,626.5,10,0,-103,7913.49]
["2009-10-12T02:53:48",60,3691.40673828125,350,-223.01573181152344,16,627,10,0,-103,7913.82]
["2009-10-12T02:53:50",59.998001098632813,3691.076904296875,350,-223.01573181152344,16,627.5,10,0,-103,7914.15]
["2009-10-12T02:53:52",59.994998931884766,3690.587646484375,350,-223.01573181152344,16,628,10,0,-103,7914.48]
["2009-10-12T02:53:54",59.993999481201172,3689.79736328125,350,-223.01573181152344,16,628.5,10,0,-103,7914.81]
["2009-10-12T02:53:56",59.992000579833984,3688.482666015625,350,-223.01573181152344,16,629,10,0,-103,7915.14]
["2009-10-12T02:53:58",59.993000030517578,3689.4453125,350,-223.01573181152344,16,629.5,10,0,-103,7915.47]
["2009-10-12T02:54:00",59.987998962402344,3689.553466796875,350,-223.01573181152344,16,630,10,0,-103,7915.8]
["2009-10-12T02:54:02",59.985000610351563,3689.52490234375,350,-223.01573181152344,16,630.5,10,0,-103,7916.13]
["2009-10-12T02:54:04",59.986000061035156,3689.735595703125,350,-223.01573181152344,16,631,10,0,-103,7916.46]
["2009-10-12T02:54:06",59.987998962402344,3688.852783203125,350,-223.01573181152344,16,631.5,10,0,-103,7916.79]
["2009-10-12T02:54:08",59.987998962402344,3688.240234375,350,-223.01573181152344,16,632,10,0,-103,7917.12]
["2009-10-12T02:54:10",59.985000610351563,3687.49365234375,350,-223.01573181152344,16,632.5,10,0,-103,7917.45]
["2009-10-12T02:54:12",59.983001708984375,3687.475341796875,350,-223.01573181152344,16,633,10,0,-103,7917.78]
["2009-10-12T02:54:14",59.983001708984375,3686.707275390625,350,-223.01573181152344,16,633.5,10,0,-103,7918.11]
["2009-10-12T02:54:16",59.985000610351563,3685.65966796875,350,-223.01573181152344,16,634,10,0,-103,7918.44]
["2009-10-12T02:54:18",59.986000061035156,3684.509765625,350,-223.01573181152344,16,634.5,10,0,-103,7918.77]
["2009-10-12T02:54:20",59.98699951171875,3684.33349609375,350,-223.01573181152344,16,635,10,0,-103,7919.1]
["2009-10-12T02:54:22",59.990001678466797,3683.910888671875,350,-223.01573181152344,16,635.5,10,0,-103,7919.43]
["2009-10-12T02:54:24",59.986000061035156,3683.73486328125,350,-223.01573181152344,16,636,10,0,-103,7919.76]
["2009-10-12T02:54:26",59.985000610351563,3684.208251953125,350,-223.01573181152344,16,636.5,10,0,-103,7920.09]
["2009-10-12T02:54:28",59.984001159667969,3683.81103515625,350,-223.01573181152344,16,637,10,0,-103,7920.42]
["2009-10-12T02:54:30",59.983001708984375,3683.47314453125,350,-223.01573181152344,16,637.5,10,0,-103,7920.75]
["2009-10-12T02:54:32",59.981998443603516,3684.2578125,350,-223.01573181152344,16,638,10,0,-103,7921.08]
["2009-10-12T02:54:34",59.981998443603516,3684.88427734375,350,-223.01573181152344,16,638.5,10,0,-103,7921.41]
["2009-10-12T02:54:36",59.979999542236328,3685.091796875,350,-223.01573181152344,16,639,10,0,-103,7921.74]
["2009-10-12T02:54:38",59.978000640869141,3685.654296875,350,-223.01573181152344,16,639.5,10,0,-103,7922.07]
["2009-10-12T02:54:40",59.977001190185547,3685.0869140625,350,-223.01573181152344,16,640,10,0,-103,7922.4]
["2009-10-12T02:54:42",59.974998474121094,3685.4912109375,350,-223.01573181152344,16,640.5,10,0,-103,7922.73]
["2009-10-12T02:54:44",59.972999572753906,3685.196044921875,350,-223.01573181152344,16,641,10,0,-103,7923.06]
["2009-10-12T02:54:46",59.974998474121094,3687.412353515625,350,-223.01573181152344,16,641.5,10,0,-103,7923.39]
["2009-10-12T02:54:48",59.976001739501953,3688.4169921875,350,-223.01573181152344,16,642,10,0,-103,7923.72]
["2009-10-12T02:54:50",59.976001739501953,3688.5986328125,350,-223.01573181152344,16,642.5,10,0,-103,7924.05]
["2009-10-12T02:54:52",59.979000091552734,3687.84765625,350,-223.01573181152344,16,643,10,0,-103,7924.38]
["2009-10-12T02:54:54",59.981998443603516,3686.67822265625,350,-223.01573181152344,16,643.5,10,0,-103,7924.71]
["2009-10-12T02:54:56",59.979000091552734,3685.7822265625,350,-223.01573181152344,16,644,10,0,-103,7925.04]
["2009-10-12T02:54:58",59.979000091552734,3684.89013671875,350,-223.01573181152344,16,644.5,10,0,-103,7925.37]
["2009-10-12T02:55:00",59.977001190185547,3685.142578125,350,-223.01573181152344,16,645,10,0,-103,7925.7]
["2009-10-12T02:55:02",59.977001190185547,3684.54931640625,350,-223.01573181152344,16,645.5,10,0,-103,7926.03]
["2009-10-12T02:55:04",59.978000640869141,3684.09326171875,350,-223.01573181152344,16,646,10,0,-103,7926.36]
["2009-10-12T02:55:06",59.978000640869141,3684.5546875,350,-223.01573181152344,16,646.5,10,0,-103,7926.69]
["2009-10-12T02:55:08",59.978000640869141,3682.814208984375,350,-223.01573181152344,16,647,10,0,-103,7927.02]
["2009-10-12T02:55:10",59.979000091552734,3682.317626953125,350,-223.01573181152344,16,647.5,10,0,-103,7927.35]
["2009-10-12T02:55:12",59.983001708984375,3682.36572265625,350,-223.01573181152344,16,648,10,0,-103,7927.68]
["2009-10-12T02:55:14",59.980998992919922,3682.6474609375,350,-223.01573181152344,16,648.5,10,0,-103,7928.01]
["2009-10-12T02:55:16",59.979999542236328,3682.85546875,350,-223.01573181152344,16,649,10,0,-103,7928.34]
["2009-10-12T02:55:18",59.978000640869141,3683.556640625,350,-223.01573181152344,16,649.5,10,0,-103,7928.67]
["2009-10-12T02:55:20",59.979000091552734,3684.0517578125,350,-223.01573181152344,16,650,10,0,-103,7929]
["2009-10-12T02:55:22",59.978000640869141,3684.318359375,350,-223.01573181152344,16,650.5,10,0,-103,7929.33]
["2009-10-12T02:55:24",59.979000091552734,3686.048828125,350,-223.01573181152344,16,651,10,0,-103,7929.66]
["2009-10-12T02:55:26",59.983001708984375,3686.62939453125,350,-223.01573181152344,16,651.5,10,0,-103,7929.99]
["2009-10-12T02:55:28",59.98699951171875,3685.286376953125,350,-223.01573181152344,16,652,10,0,-103,7930.32]
["2009-10-12T02:55:30",59.990001678466797,3683.41455078125,350,-223.01573181152344,16,652.5,10,0,-103,7930.65]
["2009-10-12T02:55:32",59.992000579833984,3682.416015625,350,-223.01573181152344,16,653,10,0,-103,7930.98]
["2009-10-12T02:55:34",59.993000030517578,3681.402587890625,350,-223.01573181152344,16,653.5,10,0,-103,7931.31]
["2009-10-12T02:55:36",59.990001678466797,3679.012451171875,350,-223.01573181152344,16,654,10,0,-103,7931.64]
["2009-10-12T02:55:38",59.987998962402344,3679.435791015625,350,-223.01573181152344,16,654.5,10,0,-103,7931.97]
["2009-10-12T02:55:40",59.987998962402344,3671.76123046875,350,-223.01573181152344,16,655,10,0,-103,7932.3]
["2009-10-12T02:55:42",59.990001678466797,3670.716796875,350,-223.01573181152344,16,655.5,10,0,-103,7932.63]
["2009-10-12T02:55:44",59.993000030517578,3670.159423828125,350,-223.01573181152344,16,656,10,0,-103,7932.96]
["2009-10-12T02:55:46",59.993999481201172,3679.00048828125,350,-223.01573181152344,16,656.5,10,0,-103,7933.29]
["2009-10-12T02:55:48",59.993000030517578,3680.17626953125,350,-223.01573181152344,16,657,10,0,-103,7933.62]
["2009-10-12T02:55:50",59.993999481201172,3681.798828125,350,-223.01573181152344,16,657.5,10,0,-103,7933.95]
["2009-10-12T02:55:52",59.993999481201172,3682.700439453125,350,-223.01573181152344,16,658,10,0,-103,7934.28]
["2009-10-12T02:55:54",59.993000030517578,3684.11572265625,350,-223.01573181152344,16,658.5,10,0,-103,7934.61]
["2009-10-12T02:55:56",59.988998413085937,3685.0302734375,350,-223.01573181152344,16,659,10,0,-103,7934.94]
["2009-10-12T02:55:58",59.984001159667969,3684.87841796875,350,-223.01573181152344,16,659.5,10,0,-103,7935.27]
["2009-10-12T02:56:00",59.986000061035156,3684.1650390625,350,-223.01573181152344,16,660,10,0,-103,7935.6]
["2009-10-12T02:56:02",59.985000610351563,3684.47802734375,350,-223.01573181152344,16,660.5,10,0,-103,7935.93]
["2009-10-12T02:56:04",59.987998962402344,3685.583740234375,350,-223.01573181152344,16,661,10,0,-103,7936.26]
["2009-10-12T02:56:06",59.98699951171875,3685.1484375,350,-223.01573181152344,16,661.5,10,0,-103,7936.59]
["2009-10-12T02:56:08",59.986000061035156,3684.586669921875,350,-223.01573181152344,16,662,10,0,-103,7936.92]
["2009-10-12T02:56:10",59.98699951171875,3684.97607421875,350,-223.01573181152344,16,662.5,10,0,-103,7937.25]
["2009-10-12T02:56:12",59.985000610351563,3683.67431640625,350,-223.01573181152344,16,663,10,0,-103,7937.58]
["2009-10-12T02:56:14",59.981998443603516,3684.8720703125,350,-223.01573181152344,16,663.5,10,0,-103,7937.91]
["2009-10-12T02:56:16",59.980998992919922,3684.24462890625,350,-223.01573181152344,16,664,10,0,-103,7938.24]
["2009-10-12T02:56:18",59.981998443603516,3684.71142578125,350,-223.01573181152344,16,664.5,10,0,-103,7938.57]
["2009-10-12T02:56:20",59.98699951171875,3685.589111328125,350,-223.01573181152344,16,665,10,0,-103,7938.9]
["2009-10-12T02:56:22",59.992000579833984,3683.73583984375,350,-223.01573181152344,16,665.5,10,0,-103,7939.23]
["2009-10-12T02:56:24",59.997001647949219,3682.578857421875,350,-223.01573181152344,16,666,10,0,-103,7939.56]
["2009-10-12T02:56:26",60,3682.234130859375,350,-223.01573181152344,16,666.5,10,0,-103,7939.89]
["2009-10-12T02:56:28",60.002998352050781,3682.1376953125,350,-223.01573181152344,16,667,10,0,-103,7940.22]
["2009-10-12T02:56:30",60.002998352050781,3682.223876953125,350,-223.01573181152344,16,667.5,10,0,-103,7940.55]
["2009-10-12T02:56:32",60.002998352050781,3681.68896484375,350,-223.01573181152344,16,668,10,0,-103,7940.88]
["2009-10-12T02:56:34",60.001998901367188,3681.45849609375,350,-223.01573181152344,16,668.5,10,0,-103,7941.21]
["2009-10-12T02:56:36",60.002998352050781,3681.650390625,350,-223.01573181152344,16,669,10,0,-103,7941.54]
["2009-10-12T02:56:38",60.001998901367188,3681.012939453125,350,-223.01573181152344,16,669.5,10,0,-103,7941.87]
["2009-10-12T02:56:40",60.002998352050781,3680.1669921875,350,-223.01573181152344,16,670,10,0,-103,7942.2]
["2009-10-12T02:56:42",60.004001617431641,3679.94287109375,350,-223.01573181152344,16,670.5,10,0,-103,7942.53]
["2009-10-12T02:56:44",60.005001068115234,3679.42919921875,350,-223.01573181152344,16,671,10,0,-103,7942.86]
["2009-10-12T02:56:46",60.006000518798828,3679.669189453125,350,-223.01573181152344,16,671.5,10,0,-103,7943.19]
["2009-10-12T02:56:48",60.008998870849609,3678.981201171875,350,-223.01573181152344,16,672,10,0,-103,7943.52]
["2009-10-12T02:56:50",60.012001037597656,3678.267333984375,350,-223.01573181152344,16,672.5,10,0,-103,7943.85]
["2009-10-12T02:56:52",60.016998291015625,3676.796142578125,350,-223.01573181152344,16,673,10,0,-103,7944.18]
["2009-10-12T02:56:54",60.020999908447266,3676.8095703125,350,-223.01573181152344,16,673.5,10,0,-103,7944.51]
["2009-10-12T02:56:56",60.021999359130859,3674.797607421875,350,-223.01573181152344,16,674,10,0,-103,7944.84]
["2009-10-12T02:56:58",60.020999908447266,3673.906005859375,350,-223.01573181152344,16,674.5,10,0,-103,7945.17]
["2009-10-12T02:57:00",60.020000457763672,3671.14501953125,350,-223.01573181152344,16,675,10,0,-103,7945.5]
["2009-10-12T02:57:02",60.018001556396484,3670.509765625,350,-223.01573181152344,16,675.5,10,0,-103,7945.83]
["2009-10-12T02:57:04",60.020999908447266,3673.64794921875,350,-223.01573181152344,16,676,10,0,-103,7946.16]
["2009-10-12T02:57:06",60.020000457763672,3673.683837890625,350,-223.01573181152344,16,676.5,10,0,-103,7946.49]
["2009-10-12T02:57:08",60.020000457763672,3675.86474609375,350,-223.01573181152344,16,677,10,0,-103,7946.82]
["2009-10-12T02:57:10",60.018001556396484,3676.67578125,350,-223.01573181152344,16,677.5,10,0,-103,7947.15]
["2009-10-12T02:57:12",60.018001556396484,3676.40380859375,350,-223.01573181152344,16,678,10,0,-103,7947.48]
["2009-10-12T02:57:14",60.019001007080078,3676.43701171875,350,-223.01573181152344,16,678.5,10,0,-103,7947.81]
["2009-10-12T02:57:16",60.019001007080078,3677.184814453125,350,-223.01573181152344,16,679,10,0,-103,7948.14]
["2009-10-12T02:57:18",60.018001556396484,3677.658935546875,350,-223.01573181152344,16,679.5,10,0,-103,7948.47]
["2009-10-12T02:57:20",60.016998291015625,3678.828369140625,350,-223.01573181152344,16,680,10,0,-103,7948.8]
["2009-10-12T02:57:22",60.015998840332031,3679.288818359375,350,-223.01573181152344,16,680.5,10,0,-103,7949.13]
["2009-10-12T02:57:24",60.015998840332031,3678.91455078125,350,-223.01573181152344,16,681,10,0,-103,7949.46]
["2009-10-12T02:57:26",60.015998840332031,3679.275634765625,350,-223.01573181152344,16,681.5,10,0,-103,7949.79]
["2009-10-12T02:57:28",60.014999389648438,3678.5986328125,350,-223.01573181152344,16,682,10,0,-103,7950.12]
["2009-10-12T02:57:30",60.013999938964844,3678.366943359375,350,-223.01573181152344,16,682.5,10,0,-103,7950.45]
["2009-10-12T02:57:32",60.013999938964844,3678.25048828125,350,-223.01573181152344,16,683,10,0,-103,7950.78]
["2009-10-12T02:57:34",60.01300048828125,3678.58935546875,350,-223.01573181152344,16,683.5,10,0,-103,7951.11]
["2009-10-12T02:57:36",60.01300048828125,3677.2509765625,350,-223.01573181152344,16,684,10,0,-103,7951.44]
["2009-10-12T02:57:38",60.014999389648438,3675.69775390625,350,-223.01573181152344,16,684.5,10,0,-103,7951.77]
["2009-10-12T02:57:40",60.016998291015625,3674.66943359375,350,-223.01573181152344,16,685,10,0,-103,7952.1]
["2009-10-12T02:57:42",60.015998840332031,3674.8701171875,350,-223.01573181152344,16,685.5,10,0,-103,7952.43]
["2009-10-12T02:57:44",60.019001007080078,3674.40185546875,350,-223.01573181152344,16,686,10,0,-103,7952.76]
["2009-10-12T02:57:46",60.020999908447266,3674.546142578125,350,-223.01573181152344,16,686.5,10,0,-103,7953.09]
["2009-10-12T02:57:48",60.020999908447266,3672.96875,350,-223.01573181152344,16,687,10,0,-103,7953.42]
["2009-10-12T02:57:50",60.020000457763672,3671.91357421875,350,-223.01573181152344,16,687.5,10,0,-103,7953.75]
["2009-10-12T02:57:52",60.021999359130859,3671.98193359375,350,-223.01573181152344,16,688,10,0,-103,7954.08]
["2009-10-12T02:57:54",60.023998260498047,3670.945556640625,350,-223.01573181152344,16,688.5,10,0,-103,7954.41]
["2009-10-12T02:57:56",60.0260009765625,3670.821044921875,350,-223.01573181152344,16,689,10,0,-103,7954.74]
["2009-10-12T02:57:58",60.025001525878906,3671.0595703125,350,-223.01573181152344,16,689.5,10,0,-103,7955.07]
["2009-10-12T02:58:00",60.0260009765625,3671.53857421875,350,-223.01573181152344,16,690,10,0,-103,7955.4]
["2009-10-12T02:58:02",60.021999359130859,3673.793701171875,350,-223.01573181152344,16,690.5,10,0,-103,7955.73]
["2009-10-12T02:58:04",60.020999908447266,3674.009521484375,350,-223.01573181152344,16,691,10,0,-103,7956.06]
["2009-10-12T02:58:06",60.021999359130859,3675.1015625,350,-223.01573181152344,16,691.5,10,0,-103,7956.39]
["2009-10-12T02:58:08",60.023998260498047,3675.2841796875,350,-223.01573181152344,16,692,10,0,-103,7956.72]
["2009-10-12T02:58:10",60.027000427246094,3676.05126953125,350,-223.01573181152344,16,692.5,10,0,-103,7957.05]
["2009-10-12T02:58:12",60.028999328613281,3675.70361328125,350,-223.01573181152344,16,693,10,0,-103,7957.38]
["2009-10-12T02:58:14",60.027999877929687,3672.58349609375,350,-223.01573181152344,16,693.5,10,0,-103,7957.71]
["2009-10-12T02:58:16",60.027999877929687,3671.3427734375,350,-223.01573181152344,16,694,10,0,-103,7958.04]
["2009-10-12T02:58:18",60.032001495361328,3670.231689453125,350,-223.01573181152344,16,694.5,10,0,-103,7958.37]
["2009-10-12T02:58:20",60.034999847412109,3668.65380859375,350,-223.01573181152344,16,695,10,0,-103,7958.7]
["2009-10-12T02:58:22",60.029998779296875,3668.76708984375,350,-223.01573181152344,16,695.5,10,0,-103,7959.03]
["2009-10-12T02:58:24",60.027999877929687,3666.312255859375,350,-223.01573181152344,16,696,10,0,-103,7959.36]
["2009-10-12T02:58:26",60.020999908447266,3667.32177734375,350,-223.01573181152344,16,696.5,10,0,-103,7959.69]
["2009-10-12T02:58:28",60.020999908447266,3657.1640625,350,-223.01573181152344,16,697,10,0,-103,7960.02]
["2009-10-12T02:58:30",60.023998260498047,3657.714111328125,350,-223.01573181152344,16,697.5,10,0,-103,7960.35]
["2009-10-12T02:58:32",60.025001525878906,3668.637451171875,350,-223.01573181152344,16,698,10,0,-103,7960.68]
["2009-10-12T02:58:34",60.023998260498047,3669.308837890625,350,-223.01573181152344,16,698.5,10,0,-103,7961.01]
["2009-10-12T02:58:36",60.021999359130859,3670.1123046875,350,-223.01573181152344,16,699,10,0,-103,7961.34]
["2009-10-12T02:58:38",60.022998809814453,3670.7353515625,350,-223.01573181152344,16,699.5,10,0,-103,7961.67]
["2009-10-12T02:58:40",60.020999908447266,3671.33203125,350,-223.01573181152344,16,700,10,0,-103,7962]
["2009-10-12T02:58:42",60.020000457763672,3672.095458984375,350,-223.01573181152344,16,700.5,10,0,-103,7962.33]
["2009-10-12T02:58:44",60.020000457763672,3672.68310546875,350,-223.01573181152344,16,701,10,0,-103,7962.66]
["2009-10-12T02:58:46",60.020000457763672,3673.83251953125,350,-223.01573181152344,16,701.5,10,0,-103,7962.99]
["2009-10-12T02:58:48",60.020000457763672,3674.644775390625,350,-223.01573181152344,16,702,10,0,-103,7963.32]
["2009-10-12T02:58:50",60.016998291015625,3675.640625,350,-223.01573181152344,16,702.5,10,0,-103,7963.65]
["2009-10-12T02:58:52",60.013999938964844,3675.970703125,350,-223.01573181152344,16,703,10,0,-103,7963.98]
["2009-10-12T02:58:54",60.012001037597656,3677.00927734375,350,-223.01573181152344,16,703.5,10,0,-103,7964.31]
["2009-10-12T02:58:56",60.009998321533203,3678.313720703125,350,-223.01573181152344,16,704,10,0,-103,7964.64]
["2009-10-12T02:58:58",60.011001586914063,3679.392822265625,350,-223.01573181152344,16,704.5,10,0,-103,7964.97]
["2009-10-12T02:59:00",60.009998321533203,3680.020263671875,350,-223.01573181152344,16,705,10,0,-103,7965.3]
["2009-10-12T02:59:02",60.009998321533203,3679.79150390625,350,-223.01573181152344,16,705.5,10,0,-103,7965.63]
["2009-10-12T02:59:04",60.009998321533203,3679.5966796875,350,-223.01573181152344,16,706,10,0,-103,7965.96]
["2009-10-12T02:59:06",60.012001037597656,3680.31494140625,350,-223.01573181152344,16,706.5,10,0,-103,7966.29]
["2009-10-12T02:59:08",60.012001037597656,3680.1103515625,350,-223.01573181152344,16,707,10,0,-103,7966.62]
["2009-10-12T02:59:10",60.01300048828125,3679.0615234375,350,-223.01573181152344,16,707.5,10,0,-103,7966.95]
["2009-10-12T02:59:12",60.013999938964844,3679.127197265625,350,-223.01573181152344,16,708,10,0,-103,7967.28]
["2009-10-12T02:59:14",60.01300048828125,3679.5869140625,350,-223.01573181152344,16,708.5,10,0,-103,7967.61]
["2009-10-12T02:59:16",60.012001037597656,3679.63671875,350,-223.01573181152344,16,709,10,0,-103,7967.94]
["2009-10-12T02:59:18",60.011001586914063,3679.02001953125,350,-223.01573181152344,16,709.5,10,0,-103,7968.27]
["2009-10-12T02:59:20",60.009998321533203,3678.417724609375,350,-223.01573181152344,16,710,10,0,-103,7968.6]
["2009-10-12T02:59:22",60.007999420166016,3679.383056640625,350,-223.01573181152344,16,710.5,10,0,-103,7968.93]
["2009-10-12T02:59:24",60.009998321533203,3679.680908203125,350,-223.01573181152344,16,711,10,0,-103,7969.26]
["2009-10-12T02:59:26",60.011001586914063,3679.932373046875,350,-223.01573181152344,16,711.5,10,0,-103,7969.59]
["2009-10-12T02:59:28",60.01300048828125,3679.13818359375,350,-223.01573181152344,16,712,10,0,-103,7969.92]
["2009-10-12T02:59:30",60.015998840332031,3678.46875,350,-223.01573181152344,16,712.5,10,0,-103,7970.25]
["2009-10-12T02:59:32",60.018001556396484,3678.49853515625,350,-223.01573181152344,16,713,10,0,-103,7970.58]
["2009-10-12T02:59:34",60.019001007080078,3678.45556640625,350,-223.01573181152344,16,713.5,10,0,-103,7970.91]
["2009-10-12T02:59:36",60.019001007080078,3677.615234375,350,-223.01573181152344,16,714,10,0,-103,7971.24]
["2009-10-12T02:59:38",60.019001007080078,3677.4462890625,350,-223.01573181152344,16,714.5,10,0,-103,7971.57]
["2009-10-12T02:59:40",60.020000457763672,3677.431396484375,350,-223.01573181152344,16,715,10,0,-103,7971.9]
["2009-10-12T02:59:42",60.020000457763672,3677.450927734375,350,-223.01573181152344,16,715.5,10,0,-103,7972.23]
["2009-10-12T02:59:44",60.018001556396484,3677.3154296875,350,-223.01573181152344,16,716,10,0,-103,7972.56]
["2009-10-12T02:59:46",60.018001556396484,3678.151123046875,350,-223.01573181152344,16,716.5,10,0,-103,7972.89]
["2009-10-12T02:59:48",60.015998840332031,3678.362060546875,350,-223.01573181152344,16,717,10,0,-103,7973.22]
["2009-10-12T02:59:50",60.015998840332031,3678.87353515625,350,-223.01573181152344,16,717.5,10,0,-103,7973.55]
["2009-10-12T02:59:52",60.019001007080078,3680.770751953125,350,-223.01573181152344,16,718,10,0,-103,7973.88]
["2009-10-12T02:59:54",60.022998809814453,3681.05810546875,350,-223.01573181152344,16,718.5,10,0,-103,7974.21]
["2009-10-12T02:59:56",60.021999359130859,3680.35302734375,350,-223.01573181152344,16,719,10,0,-103,7974.54]
["2009-10-12T02:59:58",60.018001556396484,3679.16650390625,350,-223.01573181152344,16,719.5,10,0,-103,7974.87]
["2009-10-12T03:00:00",60.014999389648438,3679.55322265625,350,-223.01573181152344,16,720,10,0,-103,7975.2]
["2009-10-12T03:00:02",60.015998840332031,3680.67236328125,350,-223.01573181152344,16,720.5,10,0,-103,7975.53]
["2009-10-12T03:00:04",60.016998291015625,3682.729736328125,350,-223.01573181152344,16,721,10,0,-103,7975.86]
["2009-10-12T03:00:06",60.014999389648438,3682.713623046875,350,-223.01573181152344,16,721.5,10,0,-103,7976.19]
["2009-10-12T03:00:08",60.009998321533203,3681.91455078125,350,-223.01573181152344,16,722,10,0,-103,7976.52]
["2009-10-12T03:00:10",60.004001617431641,3682.01025390625,350,-223.01573181152344,16,722.5,10,0,-103,7976.85]
["2009-10-12T03:00:12",59.999000549316406,3682.4833984375,350,-223.01573181152344,16,723,10,0,-103,7977.18]
["2009-10-12T03:00:14",59.994998931884766,3683.8134765625,350,-223.01573181152344,16,723.5,10,0,-103,7977.51]
["2009-10-12T03:00:16",59.990001678466797,3685.306396484375,350,-223.01573181152344,16,724,10,0,-103,7977.84]
["2009-10-12T03:00:18",59.981998443603516,3684.845703125,350,-223.01573181152344,16,724.5,10,0,-103,7978.17]
["2009-10-12T03:00:20",59.9739990234375,3684.642578125,350,-223.01573181152344,16,725,10,0,-103,7978.5]
["2009-10-12T03:00:22",59.970001220703125,3687.527099609375,350,-223.01573181152344,16,725.5,10,0,-103,7978.83]
["2009-10-12T03:00:24",59.970001220703125,3689.40380859375,350,-223.01573181152344,16,726,10,0,-103,7979.16]
["2009-10-12T03:00:26",59.967998504638672,3692.287353515625,350,-223.01573181152344,16,726.5,10,0,-103,7979.49]
["2009-10-12T03:00:28",59.967998504638672,3692.96630859375,350,-223.01573181152344,16,727,10,0,-103,7979.82]
["2009-10-12T03:00:30",59.967998504638672,3693.793212890625,350,-223.01573181152344,16,727.5,10,0,-103,7980.15]
["2009-10-12T03:00:32",59.972000122070313,3694.397216796875,350,-223.01573181152344,16,728,10,0,-103,7980.48]
["2009-10-12T03:00:34",59.966999053955078,3694.9736328125,350,-223.01573181152344,16,728.5,10,0,-103,7980.81]
["2009-10-12T03:00:36",59.965999603271484,3697.406982421875,350,-223.01573181152344,16,729,10,0,-103,7981.14]
["2009-10-12T03:00:38",59.964000701904297,3698.501953125,350,-223.01573181152344,16,729.5,10,0,-103,7981.47]
["2009-10-12T03:00:40",59.965000152587891,3698.616943359375,350,-223.01573181152344,16,730,10,0,-103,7981.8]
["2009-10-12T03:00:42",59.965999603271484,3698.992431640625,350,-223.01573181152344,16,730.5,10,0,-103,7982.13]
["2009-10-12T03:00:44",59.963001251220703,3699.85009765625,350,-223.01573181152344,16,731,10,0,-103,7982.46]
["2009-10-12T03:00:46",59.963001251220703,3702.644775390625,350,-223.01573181152344,16,731.5,10,0,-103,7982.79]
["2009-10-12T03:00:48",59.965000152587891,3701.988525390625,350,-223.01573181152344,16,732,10,0,-103,7983.12]
["2009-10-12T03:00:50",59.967998504638672,3702.218017578125,350,-223.01573181152344,16,732.5,10,0,-103,7983.45]
["2009-10-12T03:00:52",59.970001220703125,3704.0234375,350,-223.01573181152344,16,733,10,0,-103,7983.78]
["2009-10-12T03:00:54",59.970001220703125,3703.365478515625,350,-223.01573181152344,16,733.5,10,0,-103,7984.11]
["2009-10-12T03:00:56",59.970001220703125,3702.98828125,350,-223.01573181152344,16,734,10,0,-103,7984.44]
["2009-10-12T03:00:58",59.972999572753906,3703.813720703125,350,-223.01573181152344,16,734.5,10,0,-103,7984.77]
["2009-10-12T03:01:00",59.972000122070313,3704.8994140625,350,-223.01573181152344,16,735,10,0,-103,7985.1]
["2009-10-12T03:01:02",59.976001739501953,3705.625,350,-223.01573181152344,16,735.5,10,0,-103,7985.43]
["2009-10-12T03:01:04",59.974998474121094,3704.29345703125,350,-223.01573181152344,16,736,10,0,-103,7985.76]
["2009-10-12T03:01:06",59.974998474121094,3702.09423828125,350,-223.01573181152344,16,736.5,10,0,-103,7986.09]
["2009-10-12T03:01:08",59.977001190185547,3701.94384765625,350,-223.01573181152344,16,737,10,0,-103,7986.42]
["2009-10-12T03:01:10",59.976001739501953,3703.14208984375,350,-223.01573181152344,16,737.5,10,0,-103,7986.75]
["2009-10-12T03:01:12",59.976001739501953,3704.6689453125,350,-223.01573181152344,16,738,10,0,-103,7987.08]
["2009-10-12T03:01:14",59.9739990234375,3705.375732421875,350,-223.01573181152344,16,738.5,10,0,-103,7987.41]
["2009-10-12T03:01:16",59.974998474121094,3705.662353515625,350,-223.01573181152344,16,739,10,0,-103,7987.74]
["2009-10-12T03:01:18",59.9739990234375,3705.854736328125,350,-223.01573181152344,16,739.5,10,0,-103,7988.07]
["2009-10-12T03:01:20",59.9739990234375,3706.7763671875,350,-223.01573181152344,16,740,10,0,-103,7988.4]
["2009-10-12T03:01:22",59.976001739501953,3707.513916015625,350,-223.01573181152344,16,740.5,10,0,-103,7988.73]
["2009-10-12T03:01:24",59.977001190185547,3706.92822265625,350,-223.01573181152344,16,741,10,0,-103,7989.06]
["2009-10-12T03:01:26",59.979000091552734,3706.446044921875,350,-223.01573181152344,16,741.5,10,0,-103,7989.39]
["2009-10-12T03:01:28",59.980998992919922,3706.3349609375,350,-223.01573181152344,16,742,10,0,-103,7989.72]
["2009-10-12T03:01:30",59.983001708984375,3706.77099609375,350,-223.01573181152344,16,742.5,10,0,-103,7990.05]
["2009-10-12T03:01:32",59.985000610351563,3705.943115234375,350,-223.01573181152344,16,743,10,0,-103,7990.38]
["2009-10-12T03:01:34",59.983001708984375,3704.127197265625,350,-223.01573181152344,16,743.5,10,0,-103,7990.71]
["2009-10-12T03:01:36",59.979999542236328,3704.77734375,350,-223.01573181152344,16,744,10,0,-103,7991.04]
["2009-10-12T03:01:38",59.979000091552734,3705.974365234375,350,-223.01573181152344,16,744.5,10,0,-103,7991.37]
["2009-10-12T03:01:40",59.983001708984375,3705.967529296875,350,-223.01573181152344,16,745,10,0,-103,7991.7]
["2009-10-12T03:01:42",59.98699951171875,3705.3564453125,350,-223.01573181152344,16,745.5,10,0,-103,7992.03]
["2009-10-12T03:01:44",59.986000061035156,3704.68310546875,350,-223.01573181152344,16,746,10,0,-103,7992.36]
["2009-10-12T03:01:46",59.984001159667969,3703.913330078125,350,-223.01573181152344,16,746.5,10,0,-103,7992.69]
["2009-10-12T03:01:48",59.979999542236328,3704.360595703125,350,-223.01573181152344,16,747,10,0,-103,7993.02]
["2009-10-12T03:01:50",59.981998443603516,3704.98828125,350,-223.01573181152344,16,747.5,10,0,-103,7993.35]
["2009-10-12T03:01:52",59.984001159667969,3705.0498046875,350,-223.01573181152344,16,748,10,0,-103,7993.68]
["2009-10-12T03:01:54",59.985000610351563,3704.892822265625,350,-223.01573181152344,16,748.5,10,0,-103,7994.01]
["2009-10-12T03:01:56",59.98699951171875,3703.74072265625,350,-223.01573181152344,16,749,10,0,-103,7994.34]
["2009-10-12T03:01:58",59.988998413085937,3701.8310546875,350,-223.01573181152344,16,749.5,10,0,-103,7994.67]
["2009-10-12T03:02:00",59.992000579833984,3701.795166015625,350,-223.01573181152344,16,750,10,0,-103,7995]
["2009-10-12T03:02:02",59.995998382568359,3700.06982421875,350,-223.01573181152344,16,750.5,10,0,-103,7995.33]
["2009-10-12T03:02:04",59.999000549316406,3701.30810546875,350,-223.01573181152344,16,751,10,0,-103,7995.66]
["2009-10-12T03:02:06",59.997001647949219,3700.429443359375,350,-223.01573181152344,16,751.5,10,0,-103,7995.99]
["2009-10-12T03:02:08",59.997001647949219,3700.912841796875,350,-223.01573181152344,16,752,10,0,-103,7996.32]
["2009-10-12T03:02:10",59.997001647949219,3700.541015625,350,-223.01573181152344,16,752.5,10,0,-103,7996.65]
["2009-10-12T03:02:12",59.997001647949219,3699.926513671875,350,-223.01573181152344,16,753,10,0,-103,7996.98]
["2009-10-12T03:02:14",59.995998382568359,3700.858154296875,350,-223.01573181152344,16,753.5,10,0,-103,7997.31]
["2009-10-12T03:02:16",59.997001647949219,3700.548583984375,350,-223.01573181152344,16,754,10,0,-103,7997.64]
["2009-10-12T03:02:18",59.995998382568359,3700.613525390625,350,-223.01573181152344,16,754.5,10,0,-103,7997.97]
["2009-10-12T03:02:20",59.998001098632813,3700.223876953125,350,-223.01573181152344,16,755,10,0,-103,7998.3]
["2009-10-12T03:02:22",60.002998352050781,3699.5,350,-223.01573181152344,16,755.5,10,0,-103,7998.63]
["2009-10-12T03:02:24",60.008998870849609,3698.03173828125,350,-223.01573181152344,16,756,10,0,-103,7998.96]
["2009-10-12T03:02:26",60.009998321533203,3697.9599609375,350,-223.01573181152344,16,756.5,10,0,-103,7999.29]
["2009-10-12T03:02:28",60.007999420166016,3699.40869140625,350,-223.01573181152344,16,757,10,0,-103,7999.62]
["2009-10-12T03:02:30",60.005001068115234,3699.24072265625,350,-223.01573181152344,16,757.5,10,0,-103,7999.95]
["2009-10-12T03:02:32",60.004001617431641,3700.73828125,350,-223.01573181152344,16,758,10,0,-103,8000.28]
["2009-10-12T03:02:34",60.006000518798828,3701.10986328125,350,-223.01573181152344,16,758.5,10,0,-103,8000.61]
["2009-10-12T03:02:36",60.002998352050781,3701.23779296875,350,-223.01573181152344,16,759,10,0,-103,8000.94]
["2009-10-12T03:02:38",60.000999450683594,3699.99755859375,350,-223.01573181152344,16,759.5,10,0,-103,8001.27]
["2009-10-12T03:02:40",60.001998901367188,3700.22021484375,350,-223.01573181152344,16,760,10,0,-103,8001.6]
["2009-10-12T03:02:42",60.004001617431641,3701.82275390625,350,-223.01573181152344,16,760.5,10,0,-103,8001.93]
["2009-10-12T03:02:44",60.006999969482422,3702.55419921875,350,-223.01573181152344,16,761,10,0,-103,8002.26]
["2009-10-12T03:02:46",60.006999969482422,3702.27587890625,350,-223.01573181152344,16,761.5,10,0,-103,8002.59]
["2009-10-12T03:02:48",60.007999420166016,3701.0263671875,350,-223.01573181152344,16,762,10,0,-103,8002.92]
["2009-10-12T03:02:50",60.007999420166016,3701.9228515625,350,-223.01573181152344,16,762.5,10,0,-103,8003.25]
["2009-10-12T03:02:52",60.006000518798828,3702.943115234375,350,-223.01573181152344,16,763,10,0,-103,8003.58]
["2009-10-12T03:02:54",60.006000518798828,3704.0927734375,350,-223.01573181152344,16,763.5,10,0,-103,8003.91]
["2009-10-12T03:02:56",60.006000518798828,3703.96044921875,350,-223.01573181152344,16,764,10,0,-103,8004.24]
["2009-10-12T03:02:58",60.005001068115234,3703.8193359375,350,-223.01573181152344,16,764.5,10,0,-103,8004.57]
["2009-10-12T03:03:00",60,3704.455078125,350,-223.01573181152344,16,765,10,0,-103,8004.9]
["2009-10-12T03:03:02",59.999000549316406,3704.345703125,350,-223.01573181152344,16,765.5,10,0,-103,8005.23]
["2009-10-12T03:03:04",60,3705.3291015625,350,-223.01573181152344,16,766,10,0,-103,8005.56]
["2009-10-12T03:03:06",60,3704.93017578125,350,-223.01573181152344,16,766.5,10,0,-103,8005.89]
["2009-10-12T03:03:08",60.004001617431641,3704.40478515625,350,-223.01573181152344,16,767,10,0,-103,8006.22]
["2009-10-12T03:03:10",60.007999420166016,3703.67529296875,350,-223.01573181152344,16,767.5,10,0,-103,8006.55]
["2009-10-12T03:03:12",60.01300048828125,3702.748046875,350,-223.01573181152344,16,768,10,0,-103,8006.88]
["2009-10-12T03:03:14",60.014999389648438,3702.669189453125,350,-223.01573181152344,16,768.5,10,0,-103,8007.21]
["2009-10-12T03:03:16",60.014999389648438,3703.0166015625,350,-223.01573181152344,16,769,10,0,-103,8007.54]
["2009-10-12T03:03:18",60.012001037597656,3703.41552734375,350,-223.01573181152344,16,769.5,10,0,-103,8007.87]
["2009-10-12T03:03:20",60.008998870849609,3703.29736328125,350,-223.01573181152344,16,770,10,0,-103,8008.2]
["2009-10-12T03:03:22",60.005001068115234,3705.188720703125,350,-223.01573181152344,16,770.5,10,0,-103,8008.53]
["2009-10-12T03:03:24",60.007999420166016,3705.279052734375,350,-223.01573181152344,16,771,10,0,-103,8008.86]
["2009-10-12T03:03:26",60.011001586914063,3704.64599609375,350,-223.01573181152344,16,771.5,10,0,-103,8009.19]
["2009-10-12T03:03:28",60.011001586914063,3704.05126953125,350,-223.01573181152344,16,772,10,0,-103,8009.52]
["2009-10-12T03:03:30",60.01300048828125,3703.43798828125,350,-223.01573181152344,16,772.5,10,0,-103,8009.85]
["2009-10-12T03:03:32",60.015998840332031,3704.255126953125,350,-223.01573181152344,16,773,10,0,-103,8010.18]
["2009-10-12T03:03:34",60.018001556396484,3703.70751953125,350,-223.01573181152344,16,773.5,10,0,-103,8010.51]
["2009-10-12T03:03:36",60.018001556396484,3703.830322265625,350,-223.01573181152344,16,774,10,0,-103,8010.84]
["2009-10-12T03:03:38",60.019001007080078,3704.52392578125,350,-223.01573181152344,16,774.5,10,0,-103,8011.17]
["2009-10-12T03:03:40",60.018001556396484,3704.13916015625,350,-223.01573181152344,16,775,10,0,-103,8011.5]
["2009-10-12T03:03:42",60.01300048828125,3704.27001953125,350,-223.01573181152344,16,775.5,10,0,-103,8011.83]
["2009-10-12T03:03:44",60.011001586914063,3705.429443359375,350,-223.01573181152344,16,776,10,0,-103,8012.16]
["2009-10-12T03:03:46",60.008998870849609,3705.94189453125,350,-223.01573181152344,16,776.5,10,0,-103,8012.49]
["2009-10-12T03:03:48",60.008998870849609,3705.539794921875,350,-223.01573181152344,16,777,10,0,-103,8012.82]
["2009-10-12T03:03:50",60.007999420166016,3705.634033203125,350,-223.01573181152344,16,777.5,10,0,-103,8013.15]
["2009-10-12T03:03:52",60.008998870849609,3705.74853515625,350,-223.01573181152344,16,778,10,0,-103,8013.48]
["2009-10-12T03:03:54",60.011001586914063,3707.267333984375,350,-223.01573181152344,16,778.5,10,0,-103,8013.81]
["2009-10-12T03:03:56",60.014999389648438,3706.9453125,350,-223.01573181152344,16,779,10,0,-103,8014.14]
["2009-10-12T03:03:58",60.020000457763672,3706.6298828125,350,-223.01573181152344,16,779.5,10,0,-103,8014.47]
["2009-10-12T03:04:00",60.020999908447266,3705.654541015625,350,-223.01573181152344,16,780,10,0,-103,8014.8]
["2009-10-12T03:04:02",60.018001556396484,3703.894775390625,350,-223.01573181152344,16,780.5,10,0,-103,8015.13]
["2009-10-12T03:04:04",60.016998291015625,3704.223876953125,350,-223.01573181152344,16,781,10,0,-103,8015.46]
["2009-10-12T03:04:06",60.019001007080078,3703.886962890625,350,-223.01573181152344,16,781.5,10,0,-103,8015.79]
["2009-10-12T03:04:08",60.019001007080078,3704.6484375,350,-223.01573181152344,16,782,10,0,-103,8016.12]
["2009-10-12T03:04:10",60.020999908447266,3704.79541015625,350,-223.01573181152344,16,782.5,10,0,-103,8016.45]
["2009-10-12T03:04:12",60.021999359130859,3704.16650390625,350,-223.01573181152344,16,783,10,0,-103,8016.78]
["2009-10-12T03:04:14",60.025001525878906,3702.76416015625,350,-223.01573181152344,16,783.5,10,0,-103,8017.11]
["2009-10-12T03:04:16",60.027000427246094,3702.00830078125,350,-223.01573181152344,16,784,10,0,-103,8017.4400000000005]
["2009-10-12T03:04:18",60.029998779296875,3700.360107421875,350,-223.01573181152344,16,784.5,10,0,-103,8017.77]
["2009-10-12T03:04:20",60.027000427246094,3701.06298828125,350,-223.01573181152344,16,785,10,0,-103,8018.1]
["2009-10-12T03:04:22",60.022998809814453,3700.340087890625,350,-223.01573181152344,16,785.5,10,0,-103,8018.43]
["2009-10-12T03:04:24",60.020999908447266,3699.369384765625,350,-223.01573181152344,16,786,10,0,-103,8018.76]
["2009-10-12T03:04:26",60.022998809814453,3701.567626953125,350,-223.01573181152344,16,786.5,10,0,-103,8019.09]
["2009-10-12T03:04:28",60.022998809814453,3702.958740234375,350,-223.01573181152344,16,787,10,0,-103,8019.42]
["2009-10-12T03:04:30",60.020000457763672,3704.24951171875,350,-223.01573181152344,16,787.5,10,0,-103,8019.75]
["2009-10-12T03:04:32",60.023998260498047,3703.62109375,350,-223.01573181152344,16,788,10,0,-103,8020.08]
["2009-10-12T03:04:34",60.023998260498047,3703.3740234375,350,-223.01573181152344,16,788.5,10,0,-103,8020.41]
["2009-10-12T03:04:36",60.021999359130859,3703.035888671875,350,-223.01573181152344,16,789,10,0,-103,8020.74]
["2009-10-12T03:04:38",60.021999359130859,3703.9306640625,350,-223.01573181152344,16,789.5,10,0,-103,8021.07]
["2009-10-12T03:04:40",60.023998260498047,3704.947265625,350,-223.01573181152344,16,790,10,0,-103,8021.4]
["2009-10-12T03:04:42",60.025001525878906,3704.2080078125,350,-223.01573181152344,16,790.5,10,0,-103,8021.73]
["2009-10-12T03:04:44",60.022998809814453,3703.541259765625,350,-223.01573181152344,16,791,10,0,-103,8022.06]
["2009-10-12T03:04:46",60.023998260498047,3703.16015625,350,-223.01573181152344,16,791.5,10,0,-103,8022.39]
["2009-10-12T03:04:48",60.020000457763672,3703.3974609375,350,-223.01573181152344,16,792,10,0,-103,8022.72]
["2009-10-12T03:04:50",60.018001556396484,3704.37646484375,350,-223.01573181152344,16,792.5,10,0,-103,8023.05]
["2009-10-12T03:04:52",60.01300048828125,3705.441162109375,350,-223.01573181152344,16,793,10,0,-103,8023.38]
["2009-10-12T03:04:54",60.007999420166016,3706.994873046875,350,-223.01573181152344,16,793.5,10,0,-103,8023.71]
["2009-10-12T03:04:56",60.012001037597656,3710.072021484375,350,-223.01573181152344,16,794,10,0,-103,8024.04]
["2009-10-12T03:04:58",60.016998291015625,3707.970703125,350,-223.01573181152344,16,794.5,10,0,-103,8024.37]
["2009-10-12T03:05:00",60.019001007080078,3707.76708984375,350,-223.01573181152344,16,795,10,0,-103,8024.7]
["2009-10-12T03:05:02",60.019001007080078,3707.609375,350,-223.01573181152344,16,795.5,10,0,-103,8025.03]
["2009-10-12T03:05:04",60.014999389648438,3708.8310546875,350,-223.01573181152344,16,796,10,0,-103,8025.36]
["2009-10-12T03:05:06",60.015998840332031,3709.464599609375,350,-223.01573181152344,16,796.5,10,0,-103,8025.6900000000005]
["2009-10-12T03:05:08",60.014999389648438,3709.8134765625,350,-223.01573181152344,16,797,10,0,-103,8026.02]
["2009-10-12T03:05:10",60.015998840332031,3709.81689453125,350,-223.01573181152344,16,797.5,10,0,-103,8026.35]
["2009-10-12T03:05:12",60.013999938964844,3709.990478515625,350,-223.01573181152344,16,798,10,0,-103,8026.68]
["2009-10-12T03:05:14",60.015998840332031,3709.09375,350,-223.01573181152344,16,798.5,10,0,-103,8027.01]
["2009-10-12T03:05:16",60.018001556396484,3709.6416015625,350,-223.01573181152344,16,799,10,0,-103,8027.34]
["2009-10-12T03:05:18",60.019001007080078,3709.8115234375,350,-223.01573181152344,16,799.5,10,0,-103,8027.67]
["2009-10-12T03:05:20",60.015998840332031,3709.93310546875,350,-223.01573181152344,16,800,10,0,-103,8028]
["2009-10-12T03:05:22",60.013999938964844,3710.6767578125,350,-223.01573181152344,16,800.5,10,0,-103,8028.33]
["2009-10-12T03:05:24",60.013999938964844,3710.591064453125,350,-223.01573181152344,16,801,10,0,-103,8028.66]
["2009-10-12T03:05:26",60.018001556396484,3709.3544921875,350,-223.01573181152344,16,801.5,10,0,-103,8028.99]
["2009-10-12T03:05:28",60.021999359130859,3707.696044921875,350,-223.01573181152344,16,802,10,0,-103,8029.32]
["2009-10-12T03:05:30",60.022998809814453,3707.38037109375,350,-223.01573181152344,16,802.5,10,0,-103,8029.65]
["2009-10-12T03:05:32",60.023998260498047,3707.1201171875,350,-223.01573181152344,16,803,10,0,-103,8029.98]
["2009-10-12T03:05:34",60.0260009765625,3706.989990234375,350,-223.01573181152344,16,803.5,10,0,-103,8030.31]
["2009-10-12T03:05:36",60.0260009765625,3705.84814453125,350,-223.01573181152344,16,804,10,0,-103,8030.64]
["2009-10-12T03:05:38",60.023998260498047,3704.18505859375,350,-223.01573181152344,16,804.5,10,0,-103,8030.97]
["2009-10-12T03:05:40",60.021999359130859,3704.40576171875,350,-223.01573181152344,16,805,10,0,-103,8031.3]
["2009-10-12T03:05:42",60.020000457763672,3704.962646484375,350,-223.01573181152344,16,805.5,10,0,-103,8031.63]
["2009-10-12T03:05:44",60.019001007080078,3706.5673828125,350,-223.01573181152344,16,806,10,0,-103,8031.96]
["2009-10-12T03:05:46",60.021999359130859,3705.515869140625,350,-223.01573181152344,16,806.5,10,0,-103,8032.29]
["2009-10-12T03:05:48",60.025001525878906,3704.86865234375,350,-223.01573181152344,16,807,10,0,-103,8032.62]
["2009-10-12T03:05:50",60.027999877929687,3704.428466796875,350,-223.01573181152344,16,807.5,10,0,-103,8032.95]
["2009-10-12T03:05:52",60.029998779296875,3704.7734375,350,-223.01573181152344,16,808,10,0,-103,8033.28]
["2009-10-12T03:05:54",60.030998229980469,3703.53173828125,350,-223.01573181152344,16,808.5,10,0,-103,8033.61]
["2009-10-12T03:05:56",60.028999328613281,3702.685546875,350,-223.01573181152344,16,809,10,0,-103,8033.9400000000005]
["2009-10-12T03:05:58",60.0260009765625,3702.093017578125,350,-223.01573181152344,16,809.5,10,0,-103,8034.27]
["2009-10-12T03:06:00",60.0260009765625,3703.169189453125,350,-223.01573181152344,16,810,10,0,-103,8034.6]
["2009-10-12T03:06:02",60.028999328613281,3703.675537109375,350,-223.01573181152344,16,810.5,10,0,-103,8034.93]
["2009-10-12T03:06:04",60.029998779296875,3701.51953125,350,-223.01573181152344,16,811,10,0,-103,8035.26]
["2009-10-12T03:06:06",60.033000946044922,3700.106201171875,350,-223.01573181152344,16,811.5,10,0,-103,8035.59]
["2009-10-12T03:06:08",60.029998779296875,3698.2216796875,350,-223.01573181152344,16,812,10,0,-103,8035.92]
["2009-10-12T03:06:10",60.021999359130859,3698.0087890625,350,-223.01573181152344,16,812.5,10,0,-103,8036.25]
["2009-10-12T03:06:12",60.015998840332031,3700.27978515625,350,-223.01573181152344,16,813,10,0,-103,8036.58]
["2009-10-12T03:06:14",60.019001007080078,3703.1923828125,350,-223.01573181152344,16,813.5,10,0,-103,8036.91]
["2009-10-12T03:06:16",60.029998779296875,3703.814697265625,350,-223.01573181152344,16,814,10,0,-103,8037.24]
["2009-10-12T03:06:18",60.027999877929687,3701.86328125,350,-223.01573181152344,16,814.5,10,0,-103,8037.57]
["2009-10-12T03:06:20",60.020999908447266,3699.9560546875,350,-223.01573181152344,16,815,10,0,-103,8037.9]
["2009-10-12T03:06:22",60.014999389648438,3700.815673828125,350,-223.01573181152344,16,815.5,10,0,-103,8038.23]
["2009-10-12T03:06:24",60.014999389648438,3703.80224609375,350,-223.01573181152344,16,816,10,0,-103,8038.56]
["2009-10-12T03:06:26",60.012001037597656,3706.943359375,350,-223.01573181152344,16,816.5,10,0,-103,8038.89]
["2009-10-12T03:06:28",60.011001586914063,3708.52734375,350,-223.01573181152344,16,817,10,0,-103,8039.22]
["2009-10-12T03:06:30",60.013999938964844,3707.489501953125,350,-223.01573181152344,16,817.5,10,0,-103,8039.55]
["2009-10-12T03:06:32",60.01300048828125,3707.6474609375,350,-223.01573181152344,16,818,10,0,-103,8039.88]
["2009-10-12T03:06:34",60.013999938964844,3706.9912109375,350,-223.01573181152344,16,818.5,10,0,-103,8040.21]
["2009-10-12T03:06:36",60.015998840332031,3707.494873046875,350,-223.01573181152344,16,819,10,0,-103,8040.54]
["2009-10-12T03:06:38",60.015998840332031,3705.58447265625,350,-223.01573181152344,16,819.5,10,0,-103,8040.87]
["2009-10-12T03:06:40",60.014999389648438,3705.39794921875,350,-223.01573181152344,16,820,10,0,-103,8041.2]
["2009-10-12T03:06:42",60.01300048828125,3707.1201171875,350,-223.01573181152344,16,820.5,10,0,-103,8041.53]
["2009-10-12T03:06:44",60.006999969482422,3709.14404296875,350,-223.01573181152344,16,821,10,0,-103,8041.86]
["2009-10-12T03:06:46",59.997001647949219,3708.989501953125,350,-223.01573181152344,16,821.5,10,0,-103,8042.1900000000005]
["2009-10-12T03:06:48",59.993999481201172,3708.291015625,350,-223.01573181152344,16,822,10,0,-103,8042.52]
["2009-10-12T03:06:50",59.993000030517578,3706.192626953125,350,-223.01573181152344,16,822.5,10,0,-103,8042.85]
["2009-10-12T03:06:52",59.990001678466797,3707.3037109375,350,-223.01573181152344,16,823,10,0,-103,8043.18]
["2009-10-12T03:06:54",59.993000030517578,3707.9033203125,350,-223.01573181152344,16,823.5,10,0,-103,8043.51]
["2009-10-12T03:06:56",59.993999481201172,3706.76025390625,350,-223.01573181152344,16,824,10,0,-103,8043.84]
["2009-10-12T03:06:58",59.993000030517578,3706.921142578125,350,-223.01573181152344,16,824.5,10,0,-103,8044.17]
["2009-10-12T03:07:00",59.993999481201172,3706.68310546875,350,-223.01573181152344,16,825,10,0,-103,8044.5]
["2009-10-12T03:07:02",59.993000030517578,3706.887939453125,350,-223.01573181152344,16,825.5,10,0,-103,8044.83]
["2009-10-12T03:07:04",59.995998382568359,3704.93359375,350,-223.01573181152344,16,826,10,0,-103,8045.16]
["2009-10-12T03:07:06",59.987998962402344,3705.677734375,350,-223.01573181152344,16,826.5,10,0,-103,8045.49]
["2009-10-12T03:07:08",59.985000610351563,3706.48095703125,350,-223.01573181152344,16,827,10,0,-103,8045.82]
["2009-10-12T03:07:10",59.983001708984375,3707.0712890625,350,-223.01573181152344,16,827.5,10,0,-103,8046.15]
["2009-10-12T03:07:12",59.981998443603516,3706.6962890625,350,-223.01573181152344,16,828,10,0,-103,8046.48]
["2009-10-12T03:07:14",59.979999542236328,3707.478515625,350,-223.01573181152344,16,828.5,10,0,-103,8046.81]
["2009-10-12T03:07:16",59.977001190185547,3708.245849609375,350,-223.01573181152344,16,829,10,0,-103,8047.14]
["2009-10-12T03:07:18",59.980998992919922,3709.435791015625,350,-223.01573181152344,16,829.5,10,0,-103,8047.47]
["2009-10-12T03:07:20",59.981998443603516,3710.41943359375,350,-223.01573181152344,16,830,10,0,-103,8047.8]
["2009-10-12T03:07:22",59.978000640869141,3710.1337890625,350,-223.01573181152344,16,830.5,10,0,-103,8048.13]
["2009-10-12T03:07:24",59.979999542236328,3708.707763671875,350,-223.01573181152344,16,831,10,0,-103,8048.46]
["2009-10-12T03:07:26",59.979999542236328,3710.02392578125,350,-223.01573181152344,16,831.5,10,0,-103,8048.79]
["2009-10-12T03:07:28",59.977001190185547,3709.19189453125,350,-223.01573181152344,16,832,10,0,-103,8049.12]
["2009-10-12T03:07:30",59.979999542236328,3708.33544921875,350,-223.01573181152344,16,832.5,10,0,-103,8049.45]
["2009-10-12T03:07:32",59.983001708984375,3709.3994140625,350,-223.01573181152344,16,833,10,0,-103,8049.78]
["2009-10-12T03:07:34",59.984001159667969,3707.911376953125,350,-223.01573181152344,16,833.5,10,0,-103,8050.11]
["2009-10-12T03:07:36",59.980998992919922,3709.00390625,350,-223.01573181152344,16,834,10,0,-103,8050.4400000000005]
["2009-10-12T03:07:38",59.980998992919922,3707.63818359375,350,-223.01573181152344,16,834.5,10,0,-103,8050.77]
["2009-10-12T03:07:40",59.979999542236328,3709.68896484375,350,-223.01573181152344,16,835,10,0,-103,8051.1]
["2009-10-12T03:07:42",59.980998992919922,3708.9453125,350,-223.01573181152344,16,835.5,10,0,-103,8051.43]
["2009-10-12T03:07:44",59.980998992919922,3706.541015625,350,-223.01573181152344,16,836,10,0,-103,8051.76]
["2009-10-12T03:07:46",59.980998992919922,3711.25634765625,350,-223.01573181152344,16,836.5,10,0,-103,8052.09]
["2009-10-12T03:07:48",59.979999542236328,3711.362060546875,350,-223.01573181152344,16,837,10,0,-103,8052.42]
["2009-10-12T03:07:50",59.978000640869141,3712.30322265625,350,-223.01573181152344,16,837.5,10,0,-103,8052.75]
["2009-10-12T03:07:52",59.978000640869141,3712.01220703125,350,-223.01573181152344,16,838,10,0,-103,8053.08]
["2009-10-12T03:07:54",59.979000091552734,3711.703369140625,350,-223.01573181152344,16,838.5,10,0,-103,8053.41]
["2009-10-12T03:07:56",59.978000640869141,3712.0927734375,350,-223.01573181152344,16,839,10,0,-103,8053.74]
["2009-10-12T03:07:58",59.976001739501953,3713.99169921875,350,-223.01573181152344,16,null,null,null,null,8054.07]
["2009-10-12T03:08:00",59.976001739501953,3714.612060546875,350,-223.01573181152344,16,null,null,null,null,8054.4]
["2009-10-12T03:08:02",59.974998474121094,3715.08349609375,350,-223.01573181152344,16,null,null,null,null,8054.73]
["2009-10-12T03:08:04",59.976001739501953,3715.32275390625,350,-223.01573181152344,16,null,null,null,null,8055.06]
["2009-10-12T03:08:06",59.974998474121094,3714.7939453125,350,-223.01573181152344,16,null,null,null,null,8055.39]
["2009-10-12T03:08:08",59.979000091552734,3714.71728515625,350,-223.01573181152344,16,null,null,null,null,8055.72]
["2009-10-12T03:08:10",59.978000640869141,3715.161376953125,350,-223.01573181152344,16,null,null,null,null,8056.05]
["2009-10-12T03:08:12",59.974998474121094,3715.001220703125,350,-223.01573181152344,16,null,null,null,null,8056.38]
["2009-10-12T03:08:14",59.976001739501953,3713.996337890625,350,-223.01573181152344,16,null,null,null,null,8056.71]
["2009-10-12T03:08:16",59.980998992919922,3714.062744140625,350,-223.01573181152344,16,null,null,null,null,8057.04]
["2009-10-12T03:08:18",59.977001190185547,3714.334716796875,350,-223.01573181152344,16,null,null,null,null,8057.37]
["2009-10-12T03:08:20",59.974998474121094,3715.631103515625,350,-223.01573181152344,16,null,null,null,null,8057.7]
["2009-10-12T03:08:22",59.976001739501953,3715.6884765625,350,-223.01573181152344,16,null,null,null,null,8058.03]
["2009-10-12T03:08:24",59.979000091552734,3715.5673828125,350,-223.01573181152344,16,null,null,null,null,8058.36]
["2009-10-12T03:08:26",59.979999542236328,3715.724609375,350,-223.01573181152344,16,null,null,null,null,8058.6900000000005]
["2009-10-12T03:08:28",59.979000091552734,3714.84814453125,350,-223.01573181152344,16,null,null,null,null,8059.02]
["2009-10-12T03:08:30",59.978000640869141,3713.1416015625,350,-223.01573181152344,16,null,null,null,null,8059.35]
["2009-10-12T03:08:32",59.979000091552734,3713.3583984375,350,-223.01573181152344,16,null,null,null,null,8059.68]
["2009-10-12T03:08:34",59.981998443603516,3712.274658203125,350,-223.01573181152344,16,null,null,null,null,8060.01]
["2009-10-12T03:08:36",59.983001708984375,3712.619384765625,350,-223.01573181152344,16,null,null,null,null,8060.34]
["2009-10-12T03:08:38",59.98699951171875,3712.152587890625,350,-223.01573181152344,16,null,null,null,null,8060.67]
["2009-10-12T03:08:40",59.987998962402344,3710.05029296875,350,-223.01573181152344,16,null,null,null,null,8061]
["2009-10-12T03:08:42",59.984001159667969,3709.08154296875,350,-223.01573181152344,16,null,null,null,null,8061.33]
["2009-10-12T03:08:44",59.979999542236328,3710.471923828125,350,-223.01573181152344,16,null,null,null,null,8061.66]
["2009-10-12T03:08:46",59.979000091552734,3710.62353515625,350,-223.01573181152344,16,null,null,null,null,8061.99]
["2009-10-12T03:08:48",59.979999542236328,3710.9462890625,350,-223.01573181152344,16,null,null,null,null,8062.32]
["2009-10-12T03:08:50",59.979000091552734,3710.19970703125,350,-223.01573181152344,16,null,null,null,null,8062.65]
["2009-10-12T03:08:52",59.978000640869141,3710.474609375,350,-223.01573181152344,16,null,null,null,null,8062.98]
["2009-10-12T03:08:54",59.974998474121094,3709.462158203125,350,-223.01573181152344,16,null,null,null,null,8063.31]
["2009-10-12T03:08:56",59.979000091552734,3710.802978515625,350,-223.01573181152344,16,null,null,null,null,8063.64]
["2009-10-12T03:08:58",59.981998443603516,3709.285888671875,350,-223.01573181152344,16,null,null,null,null,8063.97]
["2009-10-12T03:09:00",59.983001708984375,3710.572998046875,350,-223.01573181152344,16,null,null,null,null,8064.3]
["2009-10-12T03:09:02",59.983001708984375,3709.525146484375,350,-223.01573181152344,16,null,null,null,null,8064.63]
["2009-10-12T03:09:04",59.985000610351563,3708.37109375,350,-223.01573181152344,16,null,null,null,null,8064.96]
["2009-10-12T03:09:06",59.990001678466797,3708.52734375,350,-223.01573181152344,16,null,null,null,null,8065.29]
["2009-10-12T03:09:08",59.98699951171875,3706.511962890625,350,-223.01573181152344,16,null,null,null,null,8065.62]
["2009-10-12T03:09:10",59.984001159667969,3707.490478515625,350,-223.01573181152344,16,null,null,null,null,8065.95]
["2009-10-12T03:09:12",59.976001739501953,3708.96240234375,350,-223.01573181152344,16,null,null,null,null,8066.28]
["2009-10-12T03:09:14",59.979000091552734,3709.89404296875,350,-223.01573181152344,16,null,null,null,null,8066.61]
["2009-10-12T03:09:16",59.985000610351563,3712.303466796875,350,-223.01573181152344,16,null,null,null,null,8066.9400000000005]
["2009-10-12T03:09:18",59.983001708984375,3711.35009765625,350,-223.01573181152344,16,null,null,null,null,8067.27]
["2009-10-12T03:09:20",59.979000091552734,3711.627197265625,350,-223.01573181152344,16,null,null,null,null,8067.6]
["2009-10-12T03:09:22",59.980998992919922,3712.076171875,350,-223.01573181152344,16,null,null,null,null,8067.93]
["2009-10-12T03:09:24",59.978000640869141,3712.392578125,350,-223.01573181152344,16,null,null,null,null,8068.26]
["2009-10-12T03:09:26",59.974998474121094,3712.99853515625,350,-223.01573181152344,16,null,null,null,null,8068.59]
["2009-10-12T03:09:28",59.978000640869141,3713.51025390625,350,-223.01573181152344,16,null,null,null,null,8068.92]
["2009-10-12T03:09:30",59.988998413085937,3716.625732421875,350,-223.01573181152344,16,null,null,null,null,8069.25]
["2009-10-12T03:09:32",59.999000549316406,3715.44287109375,350,-223.01573181152344,16,null,null,null,null,8069.58]
["2009-10-12T03:09:34",59.993999481201172,3712.091796875,350,-223.01573181152344,16,null,null,null,null,8069.91]
["2009-10-12T03:09:36",59.988998413085937,3713.906005859375,350,-223.01573181152344,16,null,null,null,null,8070.24]
["2009-10-12T03:09:38",59.986000061035156,3714.8935546875,350,-223.01573181152344,16,null,null,null,null,8070.57]
["2009-10-12T03:09:40",59.984001159667969,3714.953125,350,-223.01573181152344,16,null,null,null,null,8070.9]
["2009-10-12T03:09:42",59.983001708984375,3716.12158203125,350,-223.01573181152344,16,null,null,null,null,8071.23]
["2009-10-12T03:09:44",59.981998443603516,3716.308349609375,350,-223.01573181152344,16,null,null,null,null,8071.56]
["2009-10-12T03:09:46",59.979999542236328,3715.4384765625,350,-223.01573181152344,16,null,null,null,null,8071.89]
["2009-10-12T03:09:48",59.990001678466797,3714.763671875,350,-223.01573181152344,16,null,null,null,null,8072.22]
["2009-10-12T03:09:50",59.994998931884766,3714.714111328125,350,-223.01573181152344,16,null,null,null,null,8072.55]
["2009-10-12T03:09:52",59.994998931884766,3715.067626953125,350,-223.01573181152344,16,null,null,null,null,8072.88]
["2009-10-12T03:09:54",59.990001678466797,3715.9267578125,350,-223.01573181152344,16,null,null,null,null,8073.21]
["2009-10-12T03:09:56",59.988998413085937,3715.791259765625,350,-223.01573181152344,16,null,null,null,null,8073.54]
["2009-10-12T03:09:58",59.991001129150391,3716.28466796875,350,-223.01573181152344,16,null,null,null,null,8073.87]
["2009-10-12T03:10:00",59.995998382568359,3715.324462890625,350,-223.01573181152344,16,null,null,null,null,8074.2]
["2009-10-12T03:10:02",60,3714.46044921875,350,-223.01573181152344,16,null,null,null,null,8074.53]
["2009-10-12T03:10:04",60.001998901367188,3711.70849609375,350,-223.01573181152344,16,null,null,null,null,8074.86]
["2009-10-12T03:10:06",60.004001617431641,3712.697509765625,350,-223.01573181152344,16,null,null,null,null,8075.1900000000005]
["2009-10-12T03:10:08",60.004001617431641,3712.8505859375,350,-223.01573181152344,16,null,null,null,null,8075.52]
["2009-10-12T03:10:10",60.001998901367188,3713.361572265625,350,-223.01573181152344,16,null,null,null,null,8075.85]
["2009-10-12T03:10:12",59.999000549316406,3716.641357421875,350,-223.01573181152344,16,null,null,null,null,8076.18]
["2009-10-12T03:10:14",59.998001098632813,3718.29248046875,350,-223.01573181152344,16,null,null,null,null,8076.51]
["2009-10-12T03:10:16",59.994998931884766,3719.0791015625,350,-223.01573181152344,16,null,null,null,null,8076.84]
["2009-10-12T03:10:18",59.995998382568359,3718.2333984375,350,-223.01573181152344,16,null,null,null,null,8077.17]
["2009-10-12T03:10:20",60.000999450683594,3717.815185546875,350,-223.01573181152344,16,null,null,null,null,8077.5]
["2009-10-12T03:10:22",60.001998901367188,3717.888671875,350,-223.01573181152344,16,null,null,null,null,8077.83]
["2009-10-12T03:10:24",60.000999450683594,3718.560302734375,350,-223.01573181152344,16,null,null,null,null,8078.16]
["2009-10-12T03:10:26",60.002998352050781,3718.1953125,350,-223.01573181152344,16,null,null,null,null,8078.49]
["2009-10-12T03:10:28",60.005001068115234,3719.021240234375,350,-223.01573181152344,16,null,null,null,null,8078.82]
["2009-10-12T03:10:30",60.004001617431641,3718.8212890625,350,-223.01573181152344,16,null,null,null,null,8079.15]
["2009-10-12T03:10:32",60.004001617431641,3719.8974609375,350,-223.01573181152344,16,null,null,null,null,8079.48]
["2009-10-12T03:10:34",60.004001617431641,3719.29931640625,350,-223.01573181152344,16,null,null,null,null,8079.81]
["2009-10-12T03:10:36",60.006000518798828,3719.642822265625,350,-223.01573181152344,16,null,null,null,null,8080.14]
["2009-10-12T03:10:38",60.002998352050781,3719.52734375,350,-223.01573181152344,16,null,null,null,null,8080.47]
["2009-10-12T03:10:40",60.005001068115234,3719.73095703125,350,-223.01573181152344,16,null,null,null,null,8080.8]
["2009-10-12T03:10:42",60.006000518798828,3720.278564453125,350,-223.01573181152344,16,null,null,null,null,8081.13]
["2009-10-12T03:10:44",60.008998870849609,3718.57958984375,350,-223.01573181152344,16,null,null,null,null,8081.46]
["2009-10-12T03:10:46",60.008998870849609,3718.97607421875,350,-223.01573181152344,16,null,null,null,null,8081.79]
["2009-10-12T03:10:48",60.009998321533203,3718.982177734375,350,-223.01573181152344,16,null,null,null,null,8082.12]
["2009-10-12T03:10:50",60.008998870849609,3720.03369140625,350,-223.01573181152344,16,null,null,null,null,8082.45]
["2009-10-12T03:10:52",60.01300048828125,3720.60888671875,350,-223.01573181152344,16,null,null,null,null,8082.78]
["2009-10-12T03:10:54",60.014999389648438,3720.810546875,350,-223.01573181152344,16,null,null,null,null,8083.11]
["2009-10-12T03:10:56",60.013999938964844,3721.23876953125,350,-223.01573181152344,16,null,null,null,null,8083.4400000000005]
["2009-10-12T03:10:58",60.008998870849609,3720.38037109375,350,-223.01573181152344,16,null,null,null,null,8083.77]
["2009-10-12T03:11:00",60.008998870849609,3719.447265625,350,-223.01573181152344,16,null,null,null,null,8084.1]
["2009-10-12T03:11:02",60.007999420166016,3720.80712890625,350,-223.01573181152344,16,null,null,null,null,8084.43]
["2009-10-12T03:11:04",60.011001586914063,3721.272216796875,350,-223.01573181152344,16,null,null,null,null,8084.76]
["2009-10-12T03:11:06",60.009998321533203,3720.591552734375,350,-223.01573181152344,16,null,null,null,null,8085.09]
["2009-10-12T03:11:08",60.008998870849609,3721.24462890625,350,-223.01573181152344,16,null,null,null,null,8085.42]
["2009-10-12T03:11:10",60.01300048828125,3721.59375,350,-223.01573181152344,16,null,null,null,null,8085.75]
["2009-10-12T03:11:12",60.01300048828125,3722.17626953125,350,-223.01573181152344,16,null,null,null,null,8086.08]
["2009-10-12T03:11:14",60.013999938964844,3721.9990234375,350,-223.01573181152344,16,null,null,null,null,8086.41]
["2009-10-12T03:11:16",60.013999938964844,3721.64599609375,350,-223.01573181152344,16,null,null,null,null,8086.74]
["2009-10-12T03:11:18",60.012001037597656,3721.677734375,350,-223.01573181152344,16,null,null,null,null,8087.07]
["2009-10-12T03:11:20",60.009998321533203,3720.859619140625,350,-223.01573181152344,16,null,null,null,null,8087.4]
["2009-10-12T03:11:22",60.011001586914063,3721.645263671875,350,-223.01573181152344,16,null,null,null,null,8087.73]
["2009-10-12T03:11:24",60.006999969482422,3723.815673828125,350,-223.01573181152344,16,null,null,null,null,8088.06]
["2009-10-12T03:11:26",60.002998352050781,3725.0703125,350,-223.01573181152344,16,null,null,null,null,8088.39]
["2009-10-12T03:11:28",60.000999450683594,3724.656005859375,350,-223.01573181152344,16,null,null,null,null,8088.72]
["2009-10-12T03:11:30",60,3724.869384765625,350,-223.01573181152344,16,null,null,null,null,8089.05]
["2009-10-12T03:11:32",59.998001098632813,3724.66064453125,350,-223.01573181152344,16,null,null,null,null,8089.38]
["2009-10-12T03:11:34",59.998001098632813,3723.696044921875,350,-223.01573181152344,16,null,null,null,null,8089.71]
["2009-10-12T03:11:36",59.999000549316406,3723.580078125,350,-223.01573181152344,16,null,null,null,null,8090.04]
["2009-10-12T03:11:38",60.001998901367188,3723.4052734375,350,-223.01573181152344,16,null,null,null,null,8090.37]
["2009-10-12T03:11:40",60.002998352050781,3721.87890625,350,-223.01573181152344,16,null,null,null,null,8090.7]
["2009-10-12T03:11:42",60.002998352050781,3722.4013671875,350,-223.01573181152344,16,null,null,null,null,8091.03]
["2009-10-12T03:11:44",59.999000549316406,3722.906494140625,350,-223.01573181152344,16,null,null,null,null,8091.36]
["2009-10-12T03:11:46",59.998001098632813,3724.14208984375,350,-223.01573181152344,16,null,null,null,null,8091.6900000000005]
["2009-10-12T03:11:48",60.000999450683594,3723.650390625,350,-223.01573181152344,16,null,null,null,null,8092.02]
["2009-10-12T03:11:50",59.994998931884766,3723.201171875,350,-223.01573181152344,16,null,null,null,null,8092.35]
["2009-10-12T03:11:52",59.988998413085937,3723.638916015625,350,-223.01573181152344,16,null,null,null,null,8092.68]
["2009-10-12T03:11:54",59.98699951171875,3723.88134765625,350,-223.01573181152344,16,null,null,null,null,8093.01]
["2009-10-12T03:11:56",59.987998962402344,3724.654296875,350,-223.01573181152344,16,null,null,null,null,8093.34]
["2009-10-12T03:11:58",59.987998962402344,3725.36083984375,350,-223.01573181152344,16,null,null,null,null,8093.67]
["2009-10-12T03:12:00",59.990001678466797,3724.94384765625,350,-223.01573181152344,16,null,null,null,null,8094]

{"sheet":"Entry Data","index":1,"n_rows":36,"n_cols":4,"rows_kept":36,"cut":false,"hidden":false,"merged":[]}
["Balancing Authority Name:","My BA"]
["Balancing Authority Frequency Response Obligation (FRO from FRS Form 1)",-80]
[]
["Note: See \"Instruction\" tab for more detailed instructions."]
[]
["Step 1.","Copy and Paste Event Data into the appropriate cells of the  \"Data\" worksheet."]
[null,"Maintain date and time format of mm/dd/yy hh:mm:ss."]
["Step 2.","Determine Time of T(0) and edit formula in cell \"C8\" to reference the correct row of the \"Data\" worksheet.",{"$f":"Data!A469","v":40098.102384259262}]
[null,"T(0) is the first change in frequency of about 0.010 Hz (10 mHz) which should be the first scan of frequency data of the event."]
[]
["Step 3.","Time of Frequency Recovery to 60 Hz or Pre-Perturbation Hz",{"$f":"Data!A633","v":40098.106180555558}]
[]
[]
[]
["Step 4.","Enter MW output of generator or load that caused event (+ for gen loss, - for load loss)",633,"MW"]
[null,"(Value from NERC Event List.  If multiple units, enter total MW loss.)"]
[]
["Step 5.","Hit the big blue button to copy your data for pasting into FRS Form 1 \"BA Event Data\" worksheet."]
[]
[]
[]
[]
[]
[]
[]
[]
[]
[]
[]
[]
["Step 6.","Paste data into FRS Form 1 in the appropriate row on the \"BA Event Data\" worksheet."]
[]
["Step 7.","Save this workbook using the following file name format:MyBA_yymmdd_hhmm_FRS_Form2.xlsm"]
[null,{"$f":"Evaluation!G2","v":"2009-10-12T02:27:26"},"Date yymmdd"]
[null,{"$f":"Evaluation!G2","v":40098.102384259262},"Time hh:ss of T(0)"]
[null,"Where \"MyBA\" = your BA pneumonic"]

{"sheet":"IPFR","index":2,"n_rows":41,"n_cols":2,"rows_kept":41,"cut":false,"hidden":true,"merged":[]}
[]
[]
[]
[]
[]
[]
[]
[]
[]
[]
[]
[]
[]
[]
[]
[]
[]
[]
[]
[]
[]
[]
[]
[]
[]
[]
[]
[]
[]
[]
[]
[]
[]
[]
[]
[]
[]
[]
[]
[]
[null,"IPFR = Interconnection Primary Frequency Response"]

{"sheet":"Evaluation","index":3,"n_rows":529,"n_cols":122,"rows_kept":529,"cut":false,"hidden":false,"merged":[]}
["scan rate",2,"seconds",null,null,"Date:",{"$f":"G2","v":"2009-10-12T02:27:26"},null,null,null,"Balancing Authority",{"$f":"'Entry Data'!B1","v":"My BA"},null,null,null,null,null,null,null,null,null,null,"A Point",{"$f":"$B78","v":40098.102361111116},null,null,null,null,"A Point",{"$f":"$B$78","v":40098.102361111116},null,null,null,null,null,null,null,null,null,null,null,null,null,"Non-Conforming Load sign convention","+","(Data is positive for Load then enter \"+\" else \"-\"",null,null,null,null,null,null,null,null,null,null,null,"Date:",{"$f":"$BG$2","v":"2009-10-12T02:27:26"},null,null,null,null,null,null,null,null,null,null,null,null,"Date:",{"$f":"BU2","v":"2009-10-12T02:27:26"},null,null,null,null,null,null,null,null,null,null,null,null,"Date:",{"$f":"CI2","v":"2009-10-12T02:27:26"},null,null,null,null,null,null,null,null,null,null,null,null,"Date:",{"$f":"CW2","v":"2009-10-12T02:27:26"},null,null,null,null,null,null,null,null,null,null,null,null,"Date:",{"$f":"DK2","v":"2009-10-12T02:27:26"}]
[null,null,null,null,null,"Time of T(0)",{"$f":"'Entry Data'!C8","v":40098.102384259262},null,null,null,"Grid Nominal Frequency",60,"Hz",null,null,null,null,null,null,null,null,null,"FPointA",{"$f":"$C78","v":60.03900146484375},{"$f":"$B78","v":40098.102361111116},null,null,null,"FPointA",{"$f":"$C$78","v":60.03900146484375},{"$f":"$B$78","v":40098.102361111116},null,null,null,null,null,null,null,null,null,null,null,null,null,null,null,null,null,null,null,null,null,null,null,null,null,null,"Time of T(0)",{"$f":"G2","v":40098.102384259262},null,null,null,null,null,null,null,null,null,null,null,null,"Time of T(0)",{"$f":"$G2","v":40098.102384259262},null,null,null,null,null,null,null,null,null,null,null,null,"Time of T(0)",{"$f":"$G2","v":40098.102384259262},null,null,null,null,null,null,null,null,null,null,null,null,"Time of T(0)",{"$f":"$G2","v":40098.102384259262},null,null,null,null,null,null,null,null,null,null,null,null,"Time of T(0)",{"$f":"$G2","v":40098.102384259262}]
[null,null,null,null,null,"Time of Frequency Recovery to 60 Hz or Pre-Perturbation Hz",{"$f":"'Entry Data'!C11","v":40098.106180555558},null,null,null,"Capacity @ Droop for Minimum Performance",{"$f":"L7*-M4*10","v":2400},"MW",null,null,null,null,null,null,null,null,null,"A Value",{"$f":"AVERAGE($C71:$C78)","v":60.042125225067139},null,null,null,null,"A Value",{"$f":"AVERAGE($C$71:$C$78)","v":60.042125225067139},null,null,null,null,null,null,null,null,null,null,null,null,null,null,null,null,null,null,null,null,null,null,null,null,null,null,null,"Time of Frequency Recovery to 60 Hz or Pre-Perturbation Hz",{"$f":"G3","v":40098.106180555558},null,null,null,null,null,null,null,null,null,null,null,null,"Time of Frequency Recovery to 60 Hz or Pre-Perturbation Hz",{"$f":"$G3","v":40098.106180555558},null,null,null,null,null,null,null,null,null,null,null,null,"Time of Frequency Recovery to 60 Hz or Pre-Perturbation Hz",{"$f":"$G3","v":40098.106180555558},null,null,null,null,null,null,null,null,null,null,null,null,"Time of Frequency Recovery to 60 Hz or Pre-Perturbation Hz",{"$f":"$G3","v":40098.106180555558},null,null,null,null,null,null,null,null,null,null,null,null,"Time of Frequency Recovery to 60 Hz or Pre-Perturbation Hz",{"$f":"$G3","v":40098.106180555558}]
[null,null,null,null,null,"Value A Pre-Perturbation Average Frequency [T(-2 ) to T(-16)]",{"$f":"AVERAGE($C$71:$C$78)","v":60.042125225067139},"Hz",null,null,"Droop Setting",0.05,{"$f":"L4*L2","v":3},"Hz",null,null,null,null,null,null,null,null,"C Value",{"$f":"IF($K$16=\"Low Hz\",MIN($C$79:$C$88),MAX($C$79:$C$88))","v":59.83599853515625},{"$f":"LOOKUP($X$4,$C$79:$C$88,$B$79:$B$88)","v":{"$error":"#N/A"}},null,null,null,"C Value",{"$f":"IF($K$16=\"Low Hz\",MIN($C$79:$C$88),MAX($C$79:$C$88))","v":59.83599853515625},{"$f":"LOOKUP($X$6,$C$79:$C$88,$B$79:$B$88)","v":{"$error":"#N/A"}},null,null,null,null,null,null,null,null,null,null,null,null,null,null,null,null,null,null,null,null,null,null,null,null,null,null,"Value A Pre-Perturbation Average Frequency [T(-2 ) to T(-16)]",{"$f":"AVERAGE($AP$71:$AP$78)","v":60.042125225067139},"Hz",null,null,null,null,null,null,null,null,null,null,null,"Value A Pre-Perturbation Average Frequency [T(-2 ) to T(-16)]",{"$f":"AVERAGE($AP$71:$AP$78)","v":60.042125225067139},"Hz",null,null,null,null,null,null,null,null,null,null,null,"Value A Pre-Perturbation Average Frequency [T(-2 ) to T(-16)]",{"$f":"AVERAGE($AP$71:$AP$78)","v":60.042125225067139},"Hz",null,null,null,null,null,null,null,null,null,null,null,"Value A Pre-Perturbation Average Frequency [T(-2 ) to T(-16)]",{"$f":"AVERAGE($AP$71:$AP$78)","v":60.042125225067139},"Hz",null,null,null,null,null,null,null,null,null,null,null,"Value A Pre-Perturbation Average Frequency [T(-2 ) to T(-16)]",{"$f":"AVERAGE($AP$71:$AP$78)","v":60.042125225067139},"Hz"]
[null,null,null,null,null,"Value B Post-Perturbation Average Frequency [T(+20 to T(+52)]",{"$f":"AVERAGE($C$89:$C$105)","v":59.889117745792163},"Hz",null,null,"Deadband Setting",0,"Hz",null,null,null,null,null,null,null,null,null,"Delta FCA",{"$f":"X4-X3","v":-0.20612668991088867},null,null,null,null,"Delta FC",null,null,null,null,null,null,null,null,null,null,null,null,null,null,null,null,null,null,null,null,null,null,null,null,null,null,null,null,"Value B Post-Perturbation Average Frequency [T(+12 to T(+24)]",{"$f":"AVERAGE($AP$85:$AP$91)","v":59.88257162911551},"Hz",null,null,null,null,null,null,null,null,null,null,null,"Value B Post-Perturbation Average Frequency [T(+18 to T(+30)]",{"$f":"AVERAGE($AP$88:$AP$94)","v":59.884428841727122},"Hz",null,null,null,null,null,null,null,null,null,null,null,"Value B Post-Perturbation Average Frequency [T(+20 to T(+40)]",{"$f":"AVERAGE($AP$89:$AP$99)","v":59.889273210005328},"Hz",null,null,null,null,null,null,null,null,null,null,null,"Value B Post-Perturbation Average Frequency [T(+18 to T(+52)]",{"$f":"AVERAGE($AP$88:$AP$105)","v":59.88833342658149},"Hz",null,null,null,null,null,null,null,null,null,null,null,"Value B Post-Perturbation Average Frequency [T(+20 to T(+52)]",{"$f":"AVERAGE($AP$89:$AP$105)","v":59.889117745792163},"Hz"]
[null,null,null,null,null,"Pre to Post Perturbation Delta Frequency Actual",{"$f":"G5-G4","v":-0.15300747927497582},"Hz",null,null,"Hz Span",{"$f":"M4-L5","v":3},"Hz",null,null,null,null,null,null,null,null,null,"FR C",{"$f":"X8/(X5*10)","v":-307.09269152561194},"MW/0.1 Hz",null,null,null,null,null,null,null,null,null,null,null,null,null,null,null,null,null,null,null,null,null,null,null,null,null,null,null,null,null,null,null,null,"Pre to Post Perturbation Delta Frequency Actual",{"$f":"BG5-BG4","v":-0.15955359595162832},"Hz",null,null,null,null,null,null,null,null,null,null,null,"Pre to Post Perturbation Delta Frequency Actual",{"$f":"BU5-BU4","v":-0.15769638334001712},"Hz",null,null,null,null,null,null,null,null,null,null,null,"Pre to Post Perturbation Delta Frequency Actual",{"$f":"CI5-CI4","v":-0.15285201506181068},"Hz",null,null,null,null,null,null,null,null,null,null,null,"Pre to Post Perturbation Delta Frequency Actual",{"$f":"CW5-CW4","v":-0.15379179848564917},"Hz",null,null,null,null,null,null,null,null,null,null,null,"Pre to Post Perturbation Delta Frequency Actual",{"$f":"DK5-DK4","v":-0.15300747927497582},"Hz"]
[null,null,null,null,null,"Value A Pre-Perturbation Average Interchange MW [T(-2 ) to T(-16)]",{"$f":"AVERAGE($D$71:$D$78)","v":3645.72705078125},"MW",null,null,"Frequency Response Obligation (FRO)",{"$f":"'Entry Data'!B2","v":-80},"MW/0.1 Hz",null,null,null,null,null,null,null,null,null,"Slope A-C dF/dT",{"$f":"(X4-X2)/(Y4-Y2)/86400","v":{"$error":"#N/A"}},"Hz/second",null,null,null,null,"Value B","FR B","Value B","FR B","Value B","FR B","Value B","FR B","Value B","FR B",null,null,null,null,null,null,null,null,null,null,null,null,null,null,null,null,null,null,"Value A Pre-Perturbation Average Interchange MW [T(-2 ) to T(-16)]",{"$f":"AVERAGE($D$71:$D$78)","v":3645.72705078125},"MW",null,null,null,null,null,null,null,null,null,null,null,"Value A Pre-Perturbation Average Interchange MW [T(-2 ) to T(-16)]",{"$f":"AVERAGE($D$71:$D$78)","v":3645.72705078125},"MW",null,null,null,null,null,null,null,null,null,null,null,"Value A Pre-Perturbation Average Interchange MW [T(-2 ) to T(-16)]",{"$f":"AVERAGE($D$71:$D$78)","v":3645.72705078125},"MW",null,null,null,null,null,null,null,null,null,null,null,"Value A Pre-Perturbation Average Interchange MW [T(-2 ) to T(-16)]",{"$f":"AVERAGE($D$71:$D$78)","v":3645.72705078125},"MW",null,null,null,null,null,null,null,null,null,null,null,"Value A Pre-Perturbation Average Interchange MW [T(-2 ) to T(-16)]",{"$f":"AVERAGE($D$71:$D$78)","v":3645.72705078125},"MW"]
[null,null,null,null,null,"Value B Post-Perturbation Average Interchange MW [T(+20 to T(+52)]",{"$f":"AVERAGE($D$89:$D$105)","v":3788.3545065487133},"MW",null,null,null,null,null,null,null,null,null,null,null,null,null,null,"C Value Maximum Resource Loss",{"$f":"MAX(Z79:Z88)","v":633},null,null,null,null,null,"12 to 24 sec","12 to 24 sec","18 to 30 sec","18 to 30 sec","20 to 40 sec","20 to 40 sec","18 to 52 sec","18 to 52 sec","20 to 52 sec","20 to 52 sec",null,null,null,null,null,null,null,null,null,null,null,null,null,null,null,null,null,null,"Value B Post-Perturbation Average Interchange MW [T(+12 to T(+24)]",{"$f":"AVERAGE($D$85:$D$91)","v":3770.6529715401784},"MW",null,null,null,null,null,null,null,null,null,null,null,"Value B Post-Perturbation Average Interchange MW [T(+18 to T(+30)]",{"$f":"AVERAGE($D$88:$D$94)","v":3779.0293666294642},"MW",null,null,null,null,null,null,null,null,null,null,null,"Value B Post-Perturbation Average Interchange MW [T(+20 to T(+40)]",{"$f":"AVERAGE($D$89:$D$99)","v":3783.8625266335225},"MW",null,null,null,null,null,null,null,null,null,null,null,"Value B Post-Perturbation Average Interchange MW [T(+18 to T(+52)]",{"$f":"AVERAGE($D$88:$D$105)","v":3787.272420247396},"MW",null,null,null,null,null,null,null,null,null,null,null,"Value B Post-Perturbation Average Interchange MW [T(+20 to T(+52)]",{"$f":"AVERAGE($D$89:$D$105)","v":3788.3545065487133},"MW"]
[null,null,null,null,null,"Pre to Post Perturbation Interchange Delta MW Actual",{"$f":"G8-G7","v":142.62745576746329},"MW",null,null,null,null,null,null,null,null,null,null,null,null,null,null,"Secondary C Value",{"$f":"IF((MIN(C89:C139)<X4),MIN(C89:C139),\"No\")","v":"No"},{"$f":"IF(X9=\"No\",\"n/a \",(LOOKUP(X9,C89:C139,B89:B139)))","v":"n/a "},"Time",null,null,"B Frequency Value",{"$f":"AVERAGE($C$85:$C$91)","v":59.88257162911551},null,{"$f":"AVERAGE($C$88:$C$94)","v":59.884428841727122},null,{"$f":"AVERAGE($E$89:$E$99)","v":59.889117745792184},null,{"$f":"AVERAGE($C$88:$C$105)","v":59.88833342658149},null,{"$f":"AVERAGE($C$89:$C$105)","v":59.889117745792163},null,null,null,null,null,null,null,null,null,null,null,null,null,null,null,null,null,null,null,"Pre to Post Perturbation Interchange Delta MW Actual",{"$f":"BG8-BG7","v":124.92592075892844},"MW",null,null,null,null,null,null,null,null,null,null,null,"Pre to Post Perturbation Interchange Delta MW Actual",{"$f":"BU8-BU7","v":133.30231584821422},"MW",null,null,null,null,null,null,null,null,null,null,null,"Pre to Post Perturbation Interchange Delta MW Actual",{"$f":"CI8-CI7","v":138.13547585227252},"MW",null,null,null,null,null,null,null,null,null,null,null,"Pre to Post Perturbation Interchange Delta MW Actual",{"$f":"CW8-CW7","v":141.54536946614598},"MW",null,null,null,null,null,null,null,null,null,null,null,"Pre to Post Perturbation Interchange Delta MW Actual",{"$f":"DK8-DK7","v":142.62745576746329},"MW"]
[null,null,null,null,null,"Initial Performance Ramp Magnitude Adjustment",{"$f":"(D77-D49)*0.59","v":-15.40208251953125},"MW",null,null,null,null,null,null,null,null,null,null,null,null,null,null,null,null,null,null,null,null,"Delta FB",{"$f":"AD9-$AD$3","v":-0.15955359595162832},{"$f":"AVERAGE($AA$85:$AA$91)","v":-397.19960544267985},{"$f":"AF9-$AD$3","v":-0.15769638334001712},{"$f":"AVERAGE($AA$88:$AA$94)","v":-401.66999207903092},{"$f":"AH9-$AD$3","v":-0.15300747927495451},{"$f":"AVERAGE($AA$89:$AA$99)","v":-414.40454165799855},{"$f":"AJ9-$AD$3","v":-0.15379179848564917},{"$f":"AVERAGE($AA$88:$AA$105)","v":-411.99633140597354},{"$f":"AL9-$AD$3","v":-0.15300747927497582},{"$f":"AVERAGE($AA$89:$AA$105)","v":-413.95153300118005},null,null,null,null,null,null,null,null,null,null,null,null,null,null,null,null,null,null,"Net Total Adjustments",{"$f":"BG30","v":39.865710122244991},"MW",null,null,null,null,null,null,null,null,null,null,null,"Net Total Adjustments",{"$f":"BU30","v":43.075982775006878},"MW",null,null,null,null,null,null,null,null,null,null,null,"Net Total Adjustments",{"$f":"CI30","v":45.82232423262144},"MW",null,null,null,null,null,null,null,null,null,null,null,"Net Total Adjustments",{"$f":"CW30","v":50.567033979627809},"MW",null,null,null,null,null,null,null,null,null,null,null,"Net Total Adjustments",{"$f":"DK30","v":51.195525001077272},"MW"]
[null,null,null,null,null,"EPFR Pre-Perturbation Average",{"$f":"AVERAGE(H71:H78)","v":-33.700180053710938},"MW",null,null,null,null,null,null,null,null,null,null,null,null,null,null,null,null,null,null,null,null,"Slope B dF/dT",{"$f":"AD10/20","v":-7.9776797975814155E-3},null,{"$f":"AF10/20","v":-7.8848191670008554E-3},null,{"$f":"AH10/20","v":-7.6503739637477251E-3},null,{"$f":"AJ10/20","v":-7.689589924282458E-3},null,{"$f":"AL10/20","v":-7.6503739637487911E-3},null,null,null,null,null,null,null,null,null,null,null,null,null,null,null,null,null,null,null,"EPFR for FRO Pre-Perturbation Average",{"$f":"AVERAGE(AZ71:AZ78)","v":-33.700180053710938},"MW",null,null,null,null,null,null,null,null,null,null,null,"EPFR for FRO Pre-Perturbation Average",{"$f":"AVERAGE(BM71:BM78)","v":-33.700180053710938},"MW",null,null,null,null,null,null,null,null,null,null,null,"EPFR for FRO Pre-Perturbation Average",{"$f":"AVERAGE(CO71:CO78)","v":-33.700180053710938},"MW",null,null,null,null,null,null,null,null,null,null,null,"EPFR for FRO Pre-Perturbation Average",{"$f":"AVERAGE(DC71:DC78)","v":-33.700180053710938},"MW",null,null,null,null,null,null,null,null,null,null,null,"EPFR for FRO Pre-Perturbation Average",{"$f":"AVERAGE(DQ71:DQ78)","v":-33.700180053710938},"MW"]
[null,null,null,null,null,"EPFR Post-Perturbation Average",{"$f":"AVERAGE(H89:H105)","v":88.705803366268384},"MW",null,null,null,null,null,null,null,null,null,null,null,null,null,null,null,null,null,null,null,null,"RatioB-C",{"$f":"(100*(AD10/$X$5))","v":77.405597509282018},null,{"$f":"(100*(AF10/$X$5))","v":76.504592107015043},null,{"$f":"(100*(AH10/$X$5))","v":74.229824066500896},null,{"$f":"(100*(AJ10/$X$5))","v":74.610327537950283},null,{"$f":"(100*(AL10/$X$5))","v":74.229824066511227},null,null,null,null,null,null,null,null,null,null,null,null,null,null,null,null,null,null,null,"EPFR for FRO Post-Perturbation Average",{"$f":"AVERAGE($AZ85:$AZ91)","v":93.942696707589292},"MW",null,null,null,null,null,null,null,null,null,null,null,"EPFR for FRO Post-Perturbation Average",{"$f":"AVERAGE($AZ88:$AZ94)","v":92.456926618303569},"MW",null,null,null,null,null,null,null,null,null,null,null,"EPFR for FRO Post-Perturbation Average",{"$f":"AVERAGE($AZ89:$AZ99)","v":88.58143199573864},"MW",null,null,null,null,null,null,null,null,null,null,null,"EPFR for FRO Post-Perturbation Average",{"$f":"AVERAGE($AZ88:$AZ105)","v":89.333258734809021},"MW",null,null,null,null,null,null,null,null,null,null,null,"EPFR for FRO Post-Perturbation Average",{"$f":"AVERAGE($AZ89:$AZ105)","v":88.705803366268384},"MW"]
[null,null,null,null,null,"EPFR Delta",{"$f":"G12-G11","v":122.40598341997932},"MW",null,null,"TC (frequency response filter constant)",0.35,"Time Constant for delayed delivery of PFR during Sustained Measure",null,null,null,null,null,null,null,null,null,null,null,null,null,null,null,"Sustainability Index",{"$f":"AVERAGE($C$110:$C$119)-AD9","v":-1.717131478445566E-2},null,{"$f":"AVERAGE($C$110:$C$119)-AF9","v":-1.9028527396066863E-2},null,{"$f":"AVERAGE($C$110:$C$119)-AH9","v":-2.3717431461129479E-2},null,{"$f":"AVERAGE($C$110:$C$119)-AJ9","v":-2.2933112250434817E-2},null,{"$f":"AVERAGE($C$110:$C$119)-AL9","v":-2.3717431461108163E-2},null,null,null,null,null,null,null,null,null,null,null,null,null,null,null,null,null,null,null,"EPFR for FRO Delta",{"$f":"BG12-BG11","v":127.64287676130023},"MW",null,null,null,null,null,null,null,null,null,null,null,"EPFR for FRO Delta",{"$f":"BU12-BU11","v":126.15710667201451},"MW",null,null,null,null,null,null,null,null,null,null,null,"EPFR for FRO Delta",{"$f":"CI12-CI11","v":122.28161204944958},"MW",null,null,null,null,null,null,null,null,null,null,null,"EPFR for FRO Delta",{"$f":"CW12-CW11","v":123.03343878851996},"MW",null,null,null,null,null,null,null,null,null,null,null,"EPFR for FRO Delta",{"$f":"DK12-DK11","v":122.40598341997932},"MW"]
[null,null,null,null,null,null,null,null,null,null,null,null,null,null,null,null,null,null,null,null,null,null,"Tzero",{"$f":"B78","v":40098.102361111116},null,null,null,null,null,null,null,null,null,null,null,null,null,null,null,null,null,null,null,null,null,null,null,null,null,null,null,null,null,null,null,null,null,"EPFR for FRO Adjusted",{"$f":"BG13+BG10","v":167.50858688354521},"MW",null,null,null,null,null,null,null,null,null,null,null,"EPFR for FRO Adjusted",{"$f":"BU13+BU10","v":169.23308944702137},"MW",null,null,null,null,null,null,null,null,null,null,null,"EPFR for FRO Adjusted",{"$f":"CI13+CI10","v":168.103936282071},"MW",null,null,null,null,null,null,null,null,null,null,null,"EPFR for FRO Adjusted",{"$f":"CW13+CW10","v":173.60047276814777},"MW",null,null,null,null,null,null,null,null,null,null,null,"EPFR for FRO Adjusted",{"$f":"DK13+DK10","v":173.60150842105659},"MW"]
[null,null,null,null,null,null,null,null,null,null,null,null,null,null,null,null,null,null,null,null,null,null,"FT+4",{"$f":"C81","v":59.83599853515625},null,null,null,null,null,null,null,null,null,null,null,null,null,null,null,null,null,null,null,null,null,null,null,null,null,null,null,null,null,null,null,null,null,"Pre JOU Dynamic Schedules MW",{"$f":"AVERAGE($AR$71:$AR$78)","v":350},null,null,null,"Pre-Perturbation Bias Setting",{"$f":"AVERAGE($AX$71:$AX$78)","v":-103},"MW/0.1 Hz",null,null,null,null,null,null,"Pre JOU Dynamic Schedules MW",{"$f":"AVERAGE($AR$71:$AR$78)","v":350},null,null,null,"Pre-Perturbation Bias Setting",{"$f":"AVERAGE($AX$71:$AX$78)","v":-103},"MW/0.1 Hz",null,null,null,null,null,null,"Pre JOU Dynamic Schedules MW",{"$f":"AVERAGE($AR$71:$AR$78)","v":350},"MW",null,null,"Pre-Perturbation Bias Setting",{"$f":"AVERAGE($AX$71:$AX$78)","v":-103},"MW/0.1 Hz",null,null,null,null,null,null,"Pre JOU Dynamic Schedules MW",{"$f":"AVERAGE($AR$71:$AR$78)","v":350},"MW",null,null,"Pre-Perturbation Bias Setting",{"$f":"AVERAGE($AX$71:$AX$78)","v":-103},"MW/0.1 Hz",null,null,null,null,null,null,"Pre JOU Dynamic Schedules MW",{"$f":"AVERAGE($AR$71:$AR$78)","v":350},"MW",null,null,"Pre-Perturbation Bias Setting",{"$f":"AVERAGE($AX$71:$AX$78)","v":-103},"MW/0.1 Hz"]
[null,null,null,null,null,null,null,null,null,null,{"$f":"IF(G6<0,\"Low Hz\",\"High Hz\")","v":"Low Hz"},"Delta Hz Event",null,null,null,null,null,null,null,null,null,null,"FT+10",{"$f":"C84","v":59.891998291015625},null,null,null,null,null,null,null,null,null,null,null,null,null,null,null,null,null,null,null,null,null,null,null,null,null,null,null,null,null,null,null,null,null,"Pre Non-Conforming Load MW",{"$f":"AVERAGE($AS$71:$AS$78)","v":165.33587837219238},null,null,null,"Post-Perturbation Bias Setting",{"$f":"AVERAGE($AX$85:$AX$91)","v":-103},"MW/0.1 Hz",null,null,null,null,null,null,"Pre Non-Conforming Load MW",{"$f":"AVERAGE($AS$71:$AS$78)","v":165.33587837219238},null,null,null,"Post-Perturbation Bias Setting",{"$f":"AVERAGE($AX$88:$AX$94)","v":-103},"MW/0.1 Hz",null,null,null,null,null,null,"Pre Non-Conforming Load MW",{"$f":"AVERAGE($AS$71:$AS$78)","v":165.33587837219238},"MW",null,null,"Post-Perturbation Bias Setting",{"$f":"AVERAGE($AX$89:$AX$99)","v":-103},"MW/0.1 Hz",null,null,null,null,null,null,"Pre Non-Conforming Load MW",{"$f":"AVERAGE($AS$71:$AS$78)","v":165.33587837219238},"MW",null,null,"Post-Perturbation Bias Setting",{"$f":"AVERAGE($AX$88:$AX$105)","v":-103},"MW/0.1 Hz",null,null,null,null,null,null,"Pre Non-Conforming Load MW",{"$f":"AVERAGE($AS$71:$AS$78)","v":165.33587837219238},"MW",null,null,"Post-Perturbation Bias Setting",{"$f":"AVERAGE($AX$89:$AX$105)","v":-103},"MW/0.1 Hz"]
[null,null,null,null,null,null,null,null,null,null,{"$f":"LOOKUP(G3,B43:B529,N43:N529)","v":3764.4572842684661},"Actual Interchange MW Average during frequency recovery period",null,null,null,null,null,null,null,null,null,null,"FT+20",{"$f":"C89","v":59.882999420166016},null,null,null,null,null,null,null,null,null,null,null,null,null,null,null,null,null,null,null,null,null,null,null,null,null,null,null,null,null,null,null,null,null,"Pre Pumped Hydro MW",{"$f":"AVERAGE($AT$71:$AT$78)","v":0},null,null,null,"EPFR for Bias Setting Pre-Perturbation Average",{"$f":"(BG4-$L$2)*10*BL15","v":-43.388981819152832},"MW",null,null,null,null,null,null,"Pre Pumped Hydro MW",{"$f":"AVERAGE($AT$71:$AT$78)","v":0},null,null,null,"EPFR for Bias Setting Pre-Perturbation Average",{"$f":"(BU4-$L$2)*10*BZ15","v":-43.388981819152832},"MW",null,null,null,null,null,null,"Pre Pumped Hydro MW",{"$f":"AVERAGE($AT$71:$AT$78)","v":0},"MW",null,null,"EPFR for Bias Setting Pre-Perturbation Average",{"$f":"(CI4-$L$2)*10*CN15","v":-43.388981819152832},"MW",null,null,null,null,null,null,"Pre Pumped Hydro MW",{"$f":"AVERAGE($AT$71:$AT$78)","v":0},"MW",null,null,"EPFR for Bias Setting Pre-Perturbation Average",{"$f":"(CW4-$L$2)*10*DB15","v":-43.388981819152832},"MW",null,null,null,null,null,null,"Pre Pumped Hydro MW",{"$f":"AVERAGE($AT$71:$AT$78)","v":0},"MW",null,null,"EPFR for Bias Setting Pre-Perturbation Average",{"$f":"(DK4-$L$2)*10*DP15","v":-43.388981819152832},"MW"]
[null,null,null,null,null,null,null,null,null,null,{"$f":"LOOKUP(G3,B43:B529,O43:O529)","v":3774.7801085443834},"Target Interchange MW Average during frequency recovery period",null,null,null,null,null,null,null,null,null,null,"FT+60",{"$f":"C109","v":59.889999389648437},null,null,null,null,null,null,null,null,null,null,null,null,null,null,null,null,null,null,null,null,null,null,null,null,null,null,null,null,null,null,null,null,null,"Pre Ramping Units MW",{"$f":"AVERAGE($AU$71:$AU$78)","v":229.25},null,null,null,"EPFR for Bias Setting Post-Perturbation Average",{"$f":"(BG5-$L$2)*10*BL16","v":120.95122201102434},"MW",null,null,null,null,null,null,"Pre Ramping Units MW",{"$f":"AVERAGE($AU$71:$AU$78)","v":229.25},null,null,null,"EPFR for Bias Setting Post-Perturbation Average",{"$f":"(BU5-$L$2)*10*BZ16","v":119.0382930210648},"MW",null,null,null,null,null,null,"Pre Ramping Units MW",{"$f":"AVERAGE($AU$71:$AU$78)","v":229.25},"MW",null,null,"EPFR for Bias Setting Post-Perturbation Average",{"$f":"(CI5-$L$2)*10*CN16","v":114.04859369451216},"MW",null,null,null,null,null,null,"Pre Ramping Units MW",{"$f":"AVERAGE($AU$71:$AU$78)","v":229.25},"MW",null,null,"EPFR for Bias Setting Post-Perturbation Average",{"$f":"(CW5-$L$2)*10*DB16","v":115.01657062106581},"MW",null,null,null,null,null,null,"Pre Ramping Units MW",{"$f":"AVERAGE($AU$71:$AU$78)","v":229.25},"MW",null,null,"EPFR for Bias Setting Post-Perturbation Average",{"$f":"(DK5-$L$2)*10*DP16","v":114.20872183407226},"MW"]
[null,null,null,"EPFR = Expected Primary Frequency Response",null,"EPFR(Final)",{"$f":"G13+G10","v":107.00390090044807},"MW",null,null,{"$f":"LOOKUP(G3,B49:B529,Q49:Q529)","v":3719.6464083853552},"Interchange Average Ramp MW during frequency recovery period",null,null,null,null,null,null,null,null,"Interconnection Evaluation",null,null,null,null,null,null,null,null,null,null,null,null,null,null,null,null,null,null,null,null,null,null,null,null,null,null,null,null,null,null,null,null,null,null,null,null,"Pre Transferred Frequency Response MW",{"$f":"AVERAGE($AV$71:$AV$78)*-10*(BG4-$L$2)","v":-4.2125225067138672},null,null,null,"EPFR for Bias Setting Delta",{"$f":"BL18-BL17","v":164.34020383017719},"MW",null,null,null,null,null,null,"Pre Transferred Frequency Response MW",{"$f":"AVERAGE($AV$71:$AV$78)*-10*(BU4-$L$2)","v":-4.2125225067138672},null,null,null,"EPFR for Bias Setting Delta",{"$f":"BZ18-BZ17","v":162.42727484021765},"MW",null,null,null,null,null,null,"Pre Transferred Frequency Response MW",{"$f":"AVERAGE($AV$71:$AV$78)*-10*(CI4-$L$2)","v":-4.2125225067138672},"MW",null,null,"EPFR for Bias Setting Delta",{"$f":"CN18-CN17","v":157.437575513665},"MW",null,null,null,null,null,null,"Pre Transferred Frequency Response MW",{"$f":"AVERAGE($AV$71:$AV$78)*-10*(CW4-$L$2)","v":-4.2125225067138672},"MW",null,null,"EPFR for Bias Setting Delta",{"$f":"DB18-DB17","v":158.40555244021863},"MW",null,null,null,null,null,null,"Pre Transferred Frequency Response MW",{"$f":"AVERAGE($AV$71:$AV$78)*-10*(DK4-$L$2)","v":-4.2125225067138672},"MW",null,null,"EPFR for Bias Setting Delta",{"$f":"DP18-DP17","v":157.5977036532251},"MW"]
[null,null,null,null,null,"MW Response in right direction for frequency delta",{"$f":"IF((G6*G9)<0,\"Yes\",\"No\")","v":"Yes"},null,null,null,{"$f":"D77","v":3640.68212890625},"Actual MW @ T(-4)",null,null,null,null,null,null,null,null,null,null,null,null,null,null,null,null,null,null,null,null,null,null,null,null,null,null,null,null,null,null,null,null,null,null,null,null,null,null,null,null,null,null,null,null,null,"Pre Contingent BA Lost Generation MW",{"$f":"AVERAGE($AW$71:$AW$78)","v":15},null,null,null,"Primary Frequency Response Delivery of Bias",{"$f":"BG9/BL19","v":0.76016651949648339},null,null,null,null,null,null,null,"Pre Contingent BA Lost Generation MW",{"$f":"AVERAGE($AW$71:$AW$78)","v":15},null,null,null,"Primary Frequency Response Delivery of Bias",{"$f":"BU9/BZ19","v":0.8206892344856852},null,null,null,null,null,null,null,"Pre Contingent BA Lost Generation MW",{"$f":"AVERAGE($AW$71:$AW$78)","v":15},"MW",null,null,"Primary Frequency Response Delivery of Bias",{"$f":"CI9/CN19","v":0.87739839362733885},null,null,null,null,null,null,null,"Pre Contingent BA Lost Generation MW",{"$f":"AVERAGE($AW$71:$AW$78)","v":15},"MW",null,null,"Primary Frequency Response Delivery of Bias",{"$f":"CW9/DB19","v":0.89356318188129435},null,null,null,null,null,null,null,"Pre Contingent BA Lost Generation MW",{"$f":"AVERAGE($AW$71:$AW$78)","v":15},"MW",null,null,"Primary Frequency Response Delivery of Bias",{"$f":"DK9/DP19","v":0.905009733398768}]
[null,null,null,null,null,null,null,null,null,null,{"$f":"LOOKUP(G3,B43:B524,D43:D524)-D77+I77-LOOKUP(G3,B43:B524,I43:I524)","v":92.162045994395143},"Starting and Ending Difference in Interchange MW during frequency recovery period (indicates ramp direction during recovery period)",null,null,null,null,null,null,null,null,null,null,null,null,null,null,null,null,null,null,null,null,null,null,null,null,null,null,null,null,null,null,null,null,null,null,null,null,null,null,null,null,null,null,null,null,null,"Sum of Pre Perturbation Adjustments",{"$f":"SUM(BG15:BG20)","v":755.37335586547852},null,null,null,null,null,null,null,null,null,null,null,null,"Sum of Pre Perturbation Adjustments",{"$f":"SUM(BU15:BU20)","v":755.37335586547852},null,null,null,null,null,null,null,null,null,null,null,null,"Sum of Pre Perturbation Adjustments",{"$f":"SUM(CI15:CI20)","v":755.37335586547852},"MW",null,null,null,null,null,null,null,null,null,null,null,"Sum of Pre Perturbation Adjustments",{"$f":"SUM(CW15:CW20)","v":755.37335586547852},"MW",null,null,null,null,null,null,null,null,null,null,null,"Sum of Pre Perturbation Adjustments",{"$f":"SUM(DK15:DK20)","v":755.37335586547852},"MW"]
[null,null,null,null,null,null,null,null,null,null,{"$f":"G3-G2","v":"00:05:28"},"Event Duration (h:mm:ss)"]
[null,null,null,null,null,null,null,null,null,null,{"$f":"IF(K18-K20<0,\"Yes\",\"No\")","v":"No"},"Target MW Average minus MW @ T(-4) less than zero",null,null,null,null,null,null,null,null,null,null,"B Value Average Resource Loss",{"$f":"AVERAGE(R89:X105)","v":633},null,null,null,null,null,null,null,null,null,null,null,null,null,null,null,null,null,null,null,null,null,null,null,null,null,null,null,null,null,null,null,null,null,"Post JOU Dynamic Schedules MW",{"$f":"AVERAGE($AR$85:$AR$91)","v":335},null,null,null,"Pre-Perturbation BA Load",{"$f":"AVERAGE($AY$71:$AY$78)","v":7651.3049999999994},"MW",null,null,null,null,null,null,"Post JOU Dynamic Schedules MW",{"$f":"AVERAGE($AR$88:$AR$94)","v":335},null,null,null,"Pre-Perturbation BA Load",{"$f":"AVERAGE($AY$71:$AY$78)","v":7651.3049999999994},"MW",null,null,null,null,null,null,"Post JOU Dynamic Schedules MW",{"$f":"AVERAGE($AR$89:$AR$99)","v":335},"MW",null,null,"Pre-Perturbation BA Load",{"$f":"AVERAGE($AY$71:$AY$78)","v":7651.3049999999994},"MW",null,null,null,null,null,null,"Post JOU Dynamic Schedules MW",{"$f":"AVERAGE($AR$88:$AR$105)","v":335},"MW",null,null,"Pre-Perturbation BA Load",{"$f":"AVERAGE($AY$71:$AY$78)","v":7651.3049999999994},"MW",null,null,null,null,null,null,"Post JOU Dynamic Schedules MW",{"$f":"AVERAGE($AR$89:$AR$105)","v":335},"MW",null,null,"Pre-Perturbation BA Load",{"$f":"AVERAGE($AY$71:$AY$78)","v":7651.3049999999994},"MW"]
[null,null,null,null,null,null,null,null,null,null,{"$f":"IF(K21>0,K18-K20,K18-(K20+K21))","v":134.09797963813344},"Interchange Target Relative Average Change - MW (Low Frequency Event)",null,null,null,null,null,null,null,null,null,null,"B Value Average LaaR Loss",{"$f":"AVERAGE(Y89:Y105)","v":0},null,null,null,null,null,null,null,null,null,null,null,null,null,null,null,null,null,null,null,null,null,null,null,null,null,null,null,null,null,null,null,null,null,"Post Non-Conforming Load MW",{"$f":"AVERAGE($AS$85:$AS$91)","v":212.13908604213171},null,null,null,"Post-Perturbation BA Load",{"$f":"AVERAGE($AY$85:$AY$91)","v":7632},"MW",null,null,null,null,null,null,"Post Non-Conforming Load MW",{"$f":"AVERAGE($AS$88:$AS$94)","v":213.4636513846261},null,null,null,"Post-Perturbation BA Load",{"$f":"AVERAGE($AY$88:$AY$94)","v":7632},"MW",null,null,null,null,null,null,"Post Non-Conforming Load MW",{"$f":"AVERAGE($AS$89:$AS$99)","v":213.07754655317828},"MW",null,null,"Post-Perturbation BA Load",{"$f":"AVERAGE($AY$89:$AY$99)","v":7632},"MW",null,null,null,null,null,null,"Post Non-Conforming Load MW",{"$f":"AVERAGE($AS$88:$AS$105)","v":213.96817694769965},"MW",null,null,"Post-Perturbation BA Load",{"$f":"AVERAGE($AY$88:$AY$105)","v":7632},"MW",null,null,null,null,null,null,"Post Non-Conforming Load MW",{"$f":"AVERAGE($AS$89:$AS$105)","v":214.12771426930146},"MW",null,null,"Post-Perturbation BA Load",{"$f":"AVERAGE($AY$89:$AY$105)","v":7632},"MW"]
[null,null,null,null,null,null,null,null,null,null,{"$f":"IF(K21>0,K17-K20,K17-(K20+K21))","v":123.77515536221608},"Interchange Actual Relative Average Change - MW (Low Frequency Event)",null,null,null,null,null,null,null,null,null,null,"B Value Average Net Loss",{"$f":"X23-X24","v":633},null,null,null,null,null,null,null,null,null,null,null,null,null,null,null,null,null,null,null,null,null,null,null,null,null,null,null,null,null,null,null,null,null,"Post Pumped Hydro MW",{"$f":"AVERAGE($AT$85:$AT$91)","v":0.8571428571428571},null,null,null,"Pre to Post Perturbation BA Load Change",{"$f":"BL24-BL23","v":-19.304999999999382},"MW",null,null,null,null,null,null,"Post Pumped Hydro MW",{"$f":"AVERAGE($AT$88:$AT$94)","v":1.4285714285714286},null,null,null,"Pre to Post Perturbation BA Load Change",{"$f":"BZ24-BZ23","v":-19.304999999999382},"MW",null,null,null,null,null,null,"Post Pumped Hydro MW",{"$f":"AVERAGE($AT$89:$AT$99)","v":3.5454545454545454},"MW",null,null,"Pre to Post Perturbation BA Load Change",{"$f":"CN24-CN23","v":-19.304999999999382},"MW",null,null,null,null,null,null,"Post Pumped Hydro MW",{"$f":"AVERAGE($AT$88:$AT$105)","v":6.0555555555555554},"MW",null,null,"Pre to Post Perturbation BA Load Change",{"$f":"DB24-DB23","v":-19.304999999999382},"MW",null,null,null,null,null,null,"Post Pumped Hydro MW",{"$f":"AVERAGE($AT$89:$AT$105)","v":6.3529411764705879},"MW",null,null,"Pre to Post Perturbation BA Load Change",{"$f":"DP24-DP23","v":-19.304999999999382},"MW"]
[null,null,null,null,null,null,null,null,null,null,{"$f":"IF(K17-K20<0,\"Yes\",\"No\")","v":"No"},"Interchange Actual Average minus MW @ T(-4) less than zero",null,null,null,null,null,null,null,null,null,null,null,null,null,null,null,null,null,null,null,null,null,null,null,null,null,null,null,null,null,null,null,null,null,null,null,null,null,null,null,null,null,null,null,null,null,"Post Ramping Units MW",{"$f":"AVERAGE($AU$85:$AU$91)","v":235.5},null,null,null,"Load Dampening Frequency Response",{"$f":"BL25/(BG6*-10)","v":-12.099382583550204},"MW/0.1 Hz",null,null,null,null,null,null,"Post Ramping Units MW",{"$f":"AVERAGE($AU$88:$AU$94)","v":237},null,null,null,"Load Dampening Frequency Response",{"$f":"BZ25/(BU6*-10)","v":-12.241878723607059},"MW/0.1 Hz",null,null,null,null,null,null,"Post Ramping Units MW",{"$f":"AVERAGE($AU$89:$AU$99)","v":238.5},"MW",null,null,"Load Dampening Frequency Response",{"$f":"CN25/(CI6*-10)","v":-12.629862937817848},"MW/0.1 Hz",null,null,null,null,null,null,"Post Ramping Units MW",{"$f":"AVERAGE($AU$88:$AU$105)","v":239.75},"MW",null,null,"Load Dampening Frequency Response",{"$f":"DB25/(CW6*-10)","v":-12.552684987165161},"MW/0.1 Hz",null,null,null,null,null,null,"Post Ramping Units MW",{"$f":"AVERAGE($AU$89:$AU$105)","v":240},"MW",null,null,"Load Dampening Frequency Response",{"$f":"DP25/(DK6*-10)","v":-12.61703028601994},"MW/0.1 Hz"]
[null,null,null,null,null,null,null,null,null,null,{"$f":"IF(K17-K20>0,\"Yes\",\"No\")","v":"Yes"},"Interchange Average MW minus MW @ T(-4) greater than zero",null,null,null,null,null,null,null,null,null,null,null,null,null,"Interconnection Bias Total",null,null,null,null,null,null,null,null,null,null,null,null,null,null,null,null,null,null,null,null,null,null,null,null,null,null,null,null,null,null,null,"Post Transferred Frequency Response MW",{"$f":"AVERAGE($AV$85:$AV$91)*-10*(BG5-$L$2)","v":11.742837088448965},null,null,null,"Load Dampening % of Total BA Frequency Response",{"$f":"BL25/BG9*-1","v":0.15453158065772876},null,null,null,null,null,null,null,"Post Transferred Frequency Response MW",{"$f":"AVERAGE($AV$88:$AV$94)*-10*(BU5-$L$2)","v":11.557115827287845},null,null,null,"Load Dampening % of Total BA Frequency Response",{"$f":"BZ25/BU9*-1","v":0.14482118991826953},null,null,null,null,null,null,null,"Post Transferred Frequency Response MW",{"$f":"AVERAGE($AV$89:$AV$99)*-10*(CI5-$L$2)","v":11.0726789994672},"MW",null,null,"Load Dampening % of Total BA Frequency Response",{"$f":"CN25/CI9*-1","v":0.13975410647330672},null,null,null,null,null,null,null,"Post Transferred Frequency Response MW",{"$f":"AVERAGE($AV$88:$AV$105)*-10*(CW5-$L$2)","v":11.16665734185105},"MW",null,null,"Load Dampening % of Total BA Frequency Response",{"$f":"DB25/CW9*-1","v":0.13638736521590444},null,null,null,null,null,null,null,"Post Transferred Frequency Response MW",{"$f":"AVERAGE($AV$89:$AV$105)*-10*(DK5-$L$2)","v":11.088225420783715},"MW",null,null,"Load Dampening % of Total BA Frequency Response",{"$f":"DP25/DK9*-1","v":0.13535262124757969}]
[null,null,null,null,null,null,null,null,null,null,{"$f":"IF(K18-K20>0,\"Yes\",\"No\")","v":"Yes"},"Interchange Target MW Average minus MW @ T(-4) greater than zero",null,null,null,null,null,null,null,null,null,null,null,null,null,"EI","ERCOT","WECC",null,null,null,null,null,null,null,null,null,null,null,null,null,null,null,null,null,null,null,null,null,null,null,null,null,null,null,null,null,"Post Contingent BA Lost Generation MW",{"$f":"AVERAGE($AW$85:$AW$91)","v":0},null,null,null,null,null,null,null,null,null,null,null,null,"Post Contingent BA Lost Generation MW",{"$f":"AVERAGE($AW$88:$AW$94)","v":0},null,null,null,null,null,null,null,null,null,null,null,null,"Post Contingent BA Lost Generation MW",{"$f":"AVERAGE($AW$89:$AW$99)","v":0},"MW",null,null,null,null,null,null,null,null,null,null,null,"Post Contingent BA Lost Generation MW",{"$f":"AVERAGE($AW$88:$AW$105)","v":0},"MW",null,null,null,null,null,null,null,null,null,null,null,"Post Contingent BA Lost Generation MW",{"$f":"AVERAGE($AW$89:$AW$105)","v":0},"MW"]
[null,null,null,null,null,null,null,null,null,null,{"$f":"IF(K21>0,K18-(K20+K21),K18-K20)","v":41.935933643738281},"Interchange Target Relative Average Change - MW (High Frequency Event)",null,null,null,null,null,null,null,null,null,null,"Interconnection Bias Setting",-660,null,-6349,-660,-2024,null,null,null,null,null,null,null,null,null,null,null,null,null,null,null,null,null,null,null,null,null,null,null,null,null,null,null,null,null,"Sum of Post Perturbation Adjustments",{"$f":"SUM(BG23:BG28)","v":795.23906598772351},null,null,null,null,null,null,null,null,null,null,null,null,"Sum of Post Perturbation Adjustments",{"$f":"SUM(BU23:BU28)","v":798.44933864048539},null,null,null,null,null,null,null,null,null,null,null,null,"Sum of Post Perturbation Adjustments",{"$f":"SUM(CI23:CI28)","v":801.19568009809996},"MW",null,null,null,null,null,null,null,null,null,null,null,"Sum of Post Perturbation Adjustments",{"$f":"SUM(CW23:CW28)","v":805.94038984510632},"MW",null,null,null,null,null,null,null,null,null,null,null,"Sum of Post Perturbation Adjustments",{"$f":"SUM(DK23:DK28)","v":806.56888086655579},"MW"]
[null,null,null,null,null,null,null,null,null,null,{"$f":"IF(K21>0,K17-(K20+K21),K17-K20)","v":31.613109367820925},"Interchange Actual Relative Average Change - MW (High Frequency Event)",null,null,null,null,null,null,null,null,null,null,"IPFR as a % of Bias Setting",{"$f":"X28/X29","v":0},null,null,null,null,null,null,null,null,null,null,null,null,null,null,null,null,null,null,null,null,null,null,null,null,null,null,null,null,null,null,null,null,null,"Net Total Adjustments MW",{"$f":"BG29-BG21","v":39.865710122244991},null,null,null,null,null,null,null,null,null,null,null,null,"Net Total Adjustments MW",{"$f":"BU29-BU21","v":43.075982775006878},null,null,null,null,null,null,null,null,null,null,null,null,"Net Total Adjustments MW",{"$f":"CI29-CI21","v":45.82232423262144},"MW",null,null,null,null,null,null,null,null,null,null,null,"Net Total Adjustments MW",{"$f":"CW29-CW21","v":50.567033979627809},"MW",null,null,null,null,null,null,null,null,null,null,null,"Net Total Adjustments MW",{"$f":"DK29-DK21","v":51.195525001077272},"MW"]
[null,null,null,null,null,null,null,null,null,null,{"$f":"IF(K21>=0,\"Up\",\"Down\")","v":"Up"},"Ramp Direction during frequency recovery period",null,null,null,null,null,null,null,null,null,null,"Interconnection Total Energy",37446,{"$f":"X31/X32","v":0.60068336033622616}]
[null,null,null,null,null,null,null,null,null,null,null,null,null,null,null,null,null,null,null,null,null,null,"Interconnection Peak Energy",62339,null,null,null,null,"Frequency and Interconnection Frequency Response @ different Average periods of B",null,null,null,null,null,null,null,null,null,null,null,"Frequency, Actual Interchange, Adjustment Data, Bias and Load used in the evaluation",null,null,null,null,null,null,null,null,null,null,null,null,"12 to 24 second Average Period Evaluation",null,null,null,null,null,null,null,null,null,null,null,null,null,"18 to 30 second Average Period Evaluation",null,null,null,null,null,null,null,null,null,null,null,null,null,"20 to 40 second Average Period Evaluation",null,null,null,null,null,null,null,null,null,null,null,null,null,"18 to 52 second Average Period Evaluation",null,null,null,null,null,null,null,null,null,null,null,null,null,"20 to 52 second Average Period Evaluation"]
[null,null,null,null,null,"Initial Response P.U. Performance ",{"$f":"IF(G20=\"Yes\",G9/G19,\"No Evaluation\")","v":1.3329182821115828},"P.U.",null,null,{"$f":"IF(G33=\"No Evaluation\",\"No Evaluation\",IF(K16=\"Low Hz\",IF(K23=\"Yes\",IF(K17>K18,1,IF(K17>K19,0.75,0)),IF(K27=\"Yes\",IF((K25/K24)>2,2,K25/K24),IF(K17>K19,0.75,0))),IF(K23=\"Yes\",IF(K27=\"Yes\",IF(K17<K19,0.75,0),IF((K17/K18)>2,2,K17/K18)),IF(K17<K18,1,IF(K17<K19,0.75,0)))))","v":0.92302028484117549},"P.U.   Sustianed Response P.U. Performance",null,null,null,null,null,null,null,null,null,null,null,null,null,null,null,null,null,null,null,null,null,null,null,null,null,null,null,null,null,null,null,null,null,null,null,null,null,null,null,null,null,null,null,null,null,"Initial P.U. Performance for FRO",{"$f":"BG9/BG13","v":0.97871439385174108},"P.U.",null,null,null,null,null,null,null,null,null,null,null,"Initial P.U. Performance for FRO",{"$f":"BU9/BU13","v":1.0566373894003129},"P.U.",null,null,null,null,null,null,null,null,null,null,null,"Initial P.U. Performance for FRO",{"$f":"CI9/CI13","v":1.1296504317951892},"P.U.",null,null,null,null,null,null,null,null,null,null,null,"Initial P.U. Performance for FRO",{"$f":"CW9/CW13","v":1.1504625966721604},"P.U.",null,null,null,null,null,null,null,null,null,null,null,"Initial P.U. Performance for FRO",{"$f":"DK9/DK13","v":1.1652000317509266},"P.U."]
[null,null,null,null,null,null,null,null,null,null,null,null,null,null,null,null,null,null,null,null,null,null,null,null,null,null,null,null,null,null,null,null,null,null,null,null,null,null,null,null,null,null,null,null,null,null,null,null,null,null,null,null,null,null,null,null,null,"Initial P.U. Performance Adjusted for FRO",{"$f":"BG9/BG14","v":0.74578815977821511},"P.U.",null,null,null,null,null,null,null,null,null,null,null,"Initial P.U. Performance Adjusted for FRO",{"$f":"BU9/BU14","v":0.78768470329169682},"P.U.",null,null,null,null,null,null,null,null,null,null,null,"Initial P.U. Performance Adjusted for FRO",{"$f":"CI9/CI14","v":0.82172659907551049},"P.U.",null,null,null,null,null,null,null,null,null,null,null,"Initial P.U. Performance Adjusted for FRO",{"$f":"CW9/CW14","v":0.81535129028817221},"P.U.",null,null,null,null,null,null,null,null,null,null,null,"Initial P.U. Performance Adjusted for FRO",{"$f":"DK9/DK14","v":0.82157958801562825},"P.U."]
[null,null,null,null,null,null,null,null,null,null,"Initial",null,null,null,null,null,null,"Generator","Generator","Generator","Generator","Generator","Generator","Generator","LaaR","Total","Interconnection","FR B",null,null,null,null,null,null,null,null,null,null,null,null,null,null,null,"JOU","Non-",null,null,"Transferred","Contingent",null,null,null,null,null,null,null,"JOU","Non-",null,null,"Transferred","Contingent",null,null,null,"Expected",null,null,null,null,"JOU","Non-",null,null,"Transferred","Contingent",null,null,null,"Expected",null,null,null,null,"JOU","Non-",null,null,"Transferred","Contingent",null,null,null,"Expected",null,null,null,null,"JOU","Non-",null,null,"Transferred","Contingent",null,null,null,"Expected",null,null,null,null,"JOU","Non-",null,null,"Transferred","Contingent",null,null,null,"Expected"]
[null,null,null,null,null,null,null,"FRO",null,null,"Measure",null,null,"Average","Average",null,"Average","Trip","Trip","Trip","Trip","Trip","Trip","Trip","Trip","Generation","Primary","20 to 52 sec",null,"Value B","FR B","Value B","FR B","Value B","FR B","Value B","FR B","Value B","FR B",null,null,null,"Net","Dynamic","Conforming","Pumped","Ramping","Frequency","BA","BA","BA","Expected",null,null,null,"Net","Dynamic","Conforming","Pumped","Ramping","Frequency","BA","BA","BA",null,"Net",null,null,null,"Net","Dynamic","Conforming","Pumped","Ramping","Frequency","BA","BA","BA",null,"Net",null,null,null,"Net","Dynamic","Conforming","Pumped","Ramping","Frequency","BA","BA","BA",null,"Net",null,null,null,"Net","Dynamic","Conforming","Pumped","Ramping","Frequency","BA","BA","BA",null,"Net",null,null,null,"Net","Dynamic","Conforming","Pumped","Ramping","Frequency","BA","BA","BA",null,"Net"]
[null,null,null,null,null,null,null,"(EPFR)","(TC)",null,"Final",null,null,"Output","Target",null,"Ramp","MW","MW","MW","MW","MW","MW","MW","MW","Trip","Frequency","Average",null,"12 to 24 sec","12 to 24 sec","18 to 30 sec","18 to 30 sec","20 to 40 sec","20 to 40 sec","18 to 52 sec","18 to 52 sec","20 to 52 sec","20 to 52 sec",null,null,null,"Actual","Schedules","Load","Hydro","Units","Response","Lost Generation","Bias","Load","Primary",null,null,null,"Actual","Schedules","Load","Hydro","Units","Response","Lost Generation","Bias","Load",null,"Actual",null,null,null,"Actual","Schedules","Load","Hydro","Units","Response","Lost Generation","Bias","Load",null,"Actual",null,null,null,"Actual","Schedules","Load","Hydro","Units","Response","Lost Generation","Bias","Load",null,"Actual",null,null,null,"Actual","Schedules","Load","Hydro","Units","Response","Lost Generation","Bias","Load",null,"Actual",null,null,null,"Actual","Schedules","Load","Hydro","Units","Response","Lost Generation","Bias","Load",null,"Actual"]
[null,null,null,null,"Value B",null,null,"Expected","Delayed",null,"Expected",null,"Recovery","During","During","Recovery","During",null,null,null,null,null,null,null,null,"MW","Response","MW",null,"Average","Average","Average","Average","Average","Average","Average","Average","Average","Average",null,null,"Frequency","Interchange","Imp(-) Exp (+)","Load (-)","Load (-) Gen (+)","Gen (+)","Rec (-) Del (+)","Load (-) Gen (+)","Setting",null,"Freq Response",null,null,"Frequency","Interchange","Imp(-) Exp (+)","Load (-)","Load (-) Gen (+)","Gen (+)","Rec (-) Del (+)","Load (-) Gen (+)","Setting",null,"EPFR","Interchange",null,null,"Frequency","Interchange","Imp(-) Exp (+)","Load (-)","Load (-) Gen (+)","Gen (+)","Rec (-) Del (+)","Load (-) Gen (+)","Setting",null,"EPFR","Interchange",null,null,"Frequency","Interchange","Imp(-) Exp (+)","Load (-)","Load (-) Gen (+)","Gen (+)","Rec (-) Del (+)","Load (-) Gen (+)","Setting",null,"EPFR","Interchange",null,null,"Frequency","Interchange","Imp(-) Exp (+)","Load (-)","Load (-) Gen (+)","Gen (+)","Rec (-) Del (+)","Load (-) Gen (+)","Setting",null,"EPFR","Interchange",null,null,"Frequency","Interchange","Imp(-) Exp (+)","Load (-)","Load (-) Gen (+)","Gen (+)","Rec (-) Del (+)","Load (-) Gen (+)","Setting",null,"EPFR","Interchange"]
[null,null,null,null,"20 to 52 sec",null,null,"Primary","Delivery",null,"Primary","Average","Period","Recovery","Recovery","Period","Recovery",null,null,null,null,null,null,null,null,null,null,null,null,"Frequency","MW","Frequency","MW","Frequency","MW","Frequency","MW","Frequency","MW",null,"T","Hz","MW","MW","MW","MW","MW","MW/0.1 Hz","MW","MW/0.1 Hz","MW","MW",null,"T","Hz","MW","MW","MW","MW","MW","MW/0.1 Hz","MW","MW/0.1 Hz","MW","MW","MW",null,"T","Hz","MW","MW","MW","MW","MW","MW/0.1 Hz","MW","MW/0.1 Hz","MW","MW","MW",null,"T","Hz","MW","MW","MW","MW","MW","MW/0.1 Hz","MW","MW/0.1 Hz","MW","MW","MW",null,"T","Hz","MW","MW","MW","MW","MW","MW/0.1 Hz","MW","MW/0.1 Hz","MW","MW","MW",null,"T","Hz","MW","MW","MW","MW","MW","MW/0.1 Hz","MW","MW/0.1 Hz","MW","MW","MW"]
[null,null,"Frequency","Interchange","Average","Average",null,"Frequency","Frequency",null,"Frequency","Ramp","Target","Period","Period","Ramp","Period"]
[null,"T","Hz","MW","Frequency","MW",null,"Response","Response",null,"Response","MW/scan","MW","MW","MW","MW","MW",{"$f":"'Entry Data'!C15","v":633},null,null,null,null,null,null,null,null,"MW/0.1 Hz"]
[null,null,null,null,null,null,null,null,null,null,null,null,null,null,null,null,null,null,null,null,null,null,null,null,null,{"$f":"SUM(R42:Y42)","v":0}]
["T-72 sec",{"$f":"B44-TIME(0,0,$B$1)","v":40098.101550925996},{"$f":"LOOKUP($B43,Data!$A$6:$A$1806,Data!$B$6:$B$1806)","v":60.027000427246094},{"$f":"LOOKUP(B43,Data!$A$6:$A$1806,Data!C$6:C$1806)","v":3671.18896484375},null,null,null,{"$f":"(IF((C43-L$2)>0,((C43-L$2-L$5)/((L$4*L$2)-L$5)*L$3*-1),((C43-L$2+L$5)/((L$4*L$2)-L$5)*L$3*-1)))","v":-21.600341796875},{"$f":"L$13*H43+(1-L$13)*I42","v":-7.5601196289062491},null,null,null,null,null,null,null,null,null,null,null,null,null,null,null,null,{"$f":"SUM(R43:Y43)","v":0},null,null,{"$f":"A43","v":"T-72 sec"},null,null,null,null,null,null,null,null,null,null,"T-72 sec",{"$f":"AO44-TIME(0,0,$B$1)","v":40098.101550925996},{"$f":"LOOKUP($AO43,Data!$A$6:$A$1806,Data!$B$6:$B$1806)","v":60.027000427246094},{"$f":"LOOKUP($AO43,Data!$A$6:$A$1806,Data!$C$6:$C$1806)","v":3671.18896484375},{"$f":"LOOKUP($AO43,Data!$A$6:$A$1806,Data!$D$6:$D$1806)","v":350},{"$f":"IF($AS$1=\"+\",LOOKUP($AO43,Data!$A$6:$A$1806,Data!$E$6:$E$1806)*-1,LOOKUP($AO43,Data!$A$6:$A$1806,Data!$E$6:$E$1806))","v":157.62808227539062},{"$f":"LOOKUP($AO43,Data!$A$6:$A$1806,Data!$F$6:$F$1806)","v":0},{"$f":"LOOKUP($AO43,Data!$A$6:$A$1806,Data!$G$6:$G$1806)","v":213.5},{"$f":"LOOKUP($AO43,Data!$A$6:$A$1806,Data!$H$6:$H$1806)","v":10},{"$f":"LOOKUP($AO43,Data!$A$6:$A$1806,Data!$I$6:$I$1806)","v":15},{"$f":"LOOKUP($AO43,Data!$A$6:$A$1806,Data!$J$6:$J$1806)","v":-103},{"$f":"LOOKUP($AO43,Data!$A$6:$A$1806,Data!$K$6:$K$1806)","v":7640.91},{"$f":"(IF((AP43-$L$2)>0,((AP43-$L$2-$L$5)/(($L$4*$L$2)-$L$5)*$L$3*-1),((AP43-$L$2+$L$5)/(($L$4*$L$2)-$L$5)*$L$3*-1)))","v":-21.600341796875},"T-72 sec",{"$f":"BB44-TIME(0,0,$B$1)","v":40098.101550925996},null,null,null,null,null,null,null,null,null,null,null,null,"T-72 sec",{"$f":"BP44-TIME(0,0,$B$1)","v":40098.101550925996},null,null,null,null,null,null,null,null,null,null,null,null,"T-72 sec",{"$f":"CD44-TIME(0,0,$B$1)","v":40098.101550925996},null,null,null,null,null,null,null,null,null,null,null,null,"T-72 sec",{"$f":"CR44-TIME(0,0,$B$1)","v":40098.101550925996},null,null,null,null,null,null,null,null,null,null,null,null,"T-72 sec",{"$f":"DF44-TIME(0,0,$B$1)","v":40098.101550925996}]
["T-70 sec",40098.101574074142,{"$f":"LOOKUP(B44,Data!$A$6:$A$1806,Data!B$6:B$1806)","v":60.0260009765625},{"$f":"LOOKUP(B44,Data!$A$6:$A$1806,Data!C$6:C$1806)","v":3668.610595703125},null,null,null,{"$f":"(IF((C44-L$2)>0,((C44-L$2-L$5)/((L$4*L$2)-L$5)*L$3*-1),((C44-L$2+L$5)/((L$4*L$2)-L$5)*L$3*-1)))","v":-20.80078125},-12.194351196289063,null,null,null,null,null,null,null,null,null,null,null,null,null,null,null,null,0,null,null,{"$f":"A44","v":"T-70 sec"},null,null,null,null,null,null,null,null,null,null,"T-70 sec",40098.101574074142,{"$f":"LOOKUP($AO44,Data!$A$6:$A$1806,Data!$B$6:$B$1806)","v":60.0260009765625},{"$f":"LOOKUP($AO44,Data!$A$6:$A$1806,Data!$C$6:$C$1806)","v":3668.610595703125},{"$f":"LOOKUP($AO44,Data!$A$6:$A$1806,Data!$D$6:$D$1806)","v":350},{"$f":"IF($AS$1=\"+\",LOOKUP($AO44,Data!$A$6:$A$1806,Data!$E$6:$E$1806)*-1,LOOKUP($AO44,Data!$A$6:$A$1806,Data!$E$6:$E$1806))","v":155.53170776367187},{"$f":"LOOKUP($AO44,Data!$A$6:$A$1806,Data!$F$6:$F$1806)","v":0},{"$f":"LOOKUP($AO44,Data!$A$6:$A$1806,Data!$G$6:$G$1806)","v":214},{"$f":"LOOKUP($AO44,Data!$A$6:$A$1806,Data!$H$6:$H$1806)","v":10},{"$f":"LOOKUP($AO44,Data!$A$6:$A$1806,Data!$I$6:$I$1806)","v":15},{"$f":"LOOKUP($AO44,Data!$A$6:$A$1806,Data!$J$6:$J$1806)","v":-103},{"$f":"LOOKUP($AO44,Data!$A$6:$A$1806,Data!$K$6:$K$1806)","v":7641.24},{"$f":"(IF((AP44-$L$2)>0,((AP44-$L$2-$L$5)/(($L$4*$L$2)-$L$5)*$L$3*-1),((AP44-$L$2+$L$5)/(($L$4*$L$2)-$L$5)*$L$3*-1)))","v":-20.80078125},"T-70 sec",40098.101574074142,null,null,null,null,null,null,null,null,null,null,null,null,"T-70 sec",40098.101574074142,null,null,null,null,null,null,null,null,null,null,null,null,"T-70 sec",40098.101574074142,null,null,null,null,null,null,null,null,null,null,null,null,"T-70 sec",40098.101574074142,null,null,null,null,null,null,null,null,null,null,null,null,"T-70 sec",40098.101574074142]
["T-68 sec",40098.101597222289,{"$f":"LOOKUP(B45,Data!$A$6:$A$1806,Data!B$6:B$1806)","v":60.0260009765625},{"$f":"LOOKUP(B45,Data!$A$6:$A$1806,Data!C$6:C$1806)","v":3665.232177734375},null,null,null,-20.80078125,-15.20660171508789,null,null,null,null,null,null,null,null,null,null,null,null,null,null,null,null,0,null,null,"T-68 sec",null,null,null,null,null,null,null,null,null,null,"T-68 sec",40098.101597222289,{"$f":"LOOKUP($AO45,Data!$A$6:$A$1806,Data!$B$6:$B$1806)","v":60.0260009765625},{"$f":"LOOKUP($AO45,Data!$A$6:$A$1806,Data!$C$6:$C$1806)","v":3665.232177734375},{"$f":"LOOKUP($AO45,Data!$A$6:$A$1806,Data!$D$6:$D$1806)","v":350},{"$f":"IF($AS$1=\"+\",LOOKUP($AO45,Data!$A$6:$A$1806,Data!$E$6:$E$1806)*-1,LOOKUP($AO45,Data!$A$6:$A$1806,Data!$E$6:$E$1806))","v":155.53170776367187},{"$f":"LOOKUP($AO45,Data!$A$6:$A$1806,Data!$F$6:$F$1806)","v":0},{"$f":"LOOKUP($AO45,Data!$A$6:$A$1806,Data!$G$6:$G$1806)","v":214.5},{"$f":"LOOKUP($AO45,Data!$A$6:$A$1806,Data!$H$6:$H$1806)","v":10},{"$f":"LOOKUP($AO45,Data!$A$6:$A$1806,Data!$I$6:$I$1806)","v":15},{"$f":"LOOKUP($AO45,Data!$A$6:$A$1806,Data!$J$6:$J$1806)","v":-103},{"$f":"LOOKUP($AO45,Data!$A$6:$A$1806,Data!$K$6:$K$1806)","v":7641.57},-20.80078125,"T-68 sec",40098.101597222289,null,null,null,null,null,null,null,null,null,null,null,null,"T-68 sec",40098.101597222289,null,null,null,null,null,null,null,null,null,null,null,null,"T-68 sec",40098.101597222289,null,null,null,null,null,null,null,null,null,null,null,null,"T-68 sec",40098.101597222289,null,null,null,null,null,null,null,null,null,null,null,null,"T-68 sec",40098.101597222289]
["T-66 sec",{"$f":"B47-TIME(0,0,$B$1)","v":40098.101620370435},{"$f":"LOOKUP(B46,Data!$A$6:$A$1806,Data!B$6:B$1806)","v":60.021999359130859},{"$f":"LOOKUP(B46,Data!$A$6:$A$1806,Data!C$6:C$1806)","v":3664.4951171875},null,null,null,-17.5994873046875,-16.044111671447752,null,null,null,null,null,null,null,null,null,null,null,null,null,null,null,null,0,null,null,"T-66 sec",null,null,null,null,null,null,null,null,null,null,"T-66 sec",40098.101620370435,{"$f":"LOOKUP($AO46,Data!$A$6:$A$1806,Data!$B$6:$B$1806)","v":60.021999359130859},{"$f":"LOOKUP($AO46,Data!$A$6:$A$1806,Data!$C$6:$C$1806)","v":3664.4951171875},{"$f":"LOOKUP($AO46,Data!$A$6:$A$1806,Data!$D$6:$D$1806)","v":350},{"$f":"IF($AS$1=\"+\",LOOKUP($AO46,Data!$A$6:$A$1806,Data!$E$6:$E$1806)*-1,LOOKUP($AO46,Data!$A$6:$A$1806,Data!$E$6:$E$1806))","v":155.53170776367187},{"$f":"LOOKUP($AO46,Data!$A$6:$A$1806,Data!$F$6:$F$1806)","v":0},{"$f":"LOOKUP($AO46,Data!$A$6:$A$1806,Data!$G$6:$G$1806)","v":215},{"$f":"LOOKUP($AO46,Data!$A$6:$A$1806,Data!$H$6:$H$1806)","v":10},{"$f":"LOOKUP($AO46,Data!$A$6:$A$1806,Data!$I$6:$I$1806)","v":15},{"$f":"LOOKUP($AO46,Data!$A$6:$A$1806,Data!$J$6:$J$1806)","v":-103},{"$f":"LOOKUP($AO46,Data!$A$6:$A$1806,Data!$K$6:$K$1806)","v":7641.9},-17.5994873046875,"T-66 sec",40098.101620370435,null,null,null,null,null,null,null,null,null,null,null,null,"T-66 sec",40098.101620370435,null,null,null,null,null,null,null,null,null,null,null,null,"T-66 sec",40098.101620370435,null,null,null,null,null,null,null,null,null,null,null,null,"T-66 sec",40098.101620370435,null,null,null,null,null,null,null,null,null,null,null,null,"T-66 sec",40098.101620370435]
["T-64 sec",40098.101643518581,{"$f":"LOOKUP(B47,Data!$A$6:$A$1806,Data!B$6:B$1806)","v":60.019001007080078},{"$f":"LOOKUP(B47,Data!$A$6:$A$1806,Data!C$6:C$1806)","v":3666.061767578125},null,null,null,-15.2008056640625,-15.748954568862914,null,null,null,null,null,null,null,null,null,null,null,null,null,null,null,null,0,null,null,"T-64 sec",null,null,null,null,null,null,null,null,null,null,"T-64 sec",40098.101643518581,{"$f":"LOOKUP($AO47,Data!$A$6:$A$1806,Data!$B$6:$B$1806)","v":60.019001007080078},{"$f":"LOOKUP($AO47,Data!$A$6:$A$1806,Data!$C$6:$C$1806)","v":3666.061767578125},{"$f":"LOOKUP($AO47,Data!$A$6:$A$1806,Data!$D$6:$D$1806)","v":350},{"$f":"IF($AS$1=\"+\",LOOKUP($AO47,Data!$A$6:$A$1806,Data!$E$6:$E$1806)*-1,LOOKUP($AO47,Data!$A$6:$A$1806,Data!$E$6:$E$1806))","v":155.53170776367187},{"$f":"LOOKUP($AO47,Data!$A$6:$A$1806,Data!$F$6:$F$1806)","v":0},{"$f":"LOOKUP($AO47,Data!$A$6:$A$1806,Data!$G$6:$G$1806)","v":215.5},{"$f":"LOOKUP($AO47,Data!$A$6:$A$1806,Data!$H$6:$H$1806)","v":10},{"$f":"LOOKUP($AO47,Data!$A$6:$A$1806,Data!$I$6:$I$1806)","v":15},{"$f":"LOOKUP($AO47,Data!$A$6:$A$1806,Data!$J$6:$J$1806)","v":-103},{"$f":"LOOKUP($AO47,Data!$A$6:$A$1806,Data!$K$6:$K$1806)","v":7642.23},-15.2008056640625,"T-64 sec",40098.101643518581,null,null,null,null,null,null,null,null,null,null,null,null,"T-64 sec",40098.101643518581,null,null,null,null,null,null,null,null,null,null,null,null,"T-64 sec",40098.101643518581,null,null,null,null,null,null,null,null,null,null,null,null,"T-64 sec",40098.101643518581,null,null,null,null,null,null,null,null,null,null,null,null,"T-64 sec",40098.101643518581]
["T-62 sec",40098.101666666727,{"$f":"LOOKUP(B48,Data!$A$6:$A$1806,Data!B$6:B$1806)","v":60.016998291015625},{"$f":"LOOKUP(B48,Data!$A$6:$A$1806,Data!C$6:C$1806)","v":3666.82080078125},null,null,null,-13.5986328125,-14.996341954135895,null,null,null,null,null,null,null,null,null,null,null,null,null,null,null,null,0,null,null,"T-62 sec",null,null,null,null,null,null,null,null,null,null,"T-62 sec",40098.101666666727,{"$f":"LOOKUP($AO48,Data!$A$6:$A$1806,Data!$B$6:$B$1806)","v":60.016998291015625},{"$f":"LOOKUP($AO48,Data!$A$6:$A$1806,Data!$C$6:$C$1806)","v":3666.82080078125},{"$f":"LOOKUP($AO48,Data!$A$6:$A$1806,Data!$D$6:$D$1806)","v":350},{"$f":"IF($AS$1=\"+\",LOOKUP($AO48,Data!$A$6:$A$1806,Data!$E$6:$E$1806)*-1,LOOKUP($AO48,Data!$A$6:$A$1806,Data!$E$6:$E$1806))","v":155.53170776367187},{"$f":"LOOKUP($AO48,Data!$A$6:$A$1806,Data!$F$6:$F$1806)","v":0},{"$f":"LOOKUP($AO48,Data!$A$6:$A$1806,Data!$G$6:$G$1806)","v":216},{"$f":"LOOKUP($AO48,Data!$A$6:$A$1806,Data!$H$6:$H$1806)","v":10},{"$f":"LOOKUP($AO48,Data!$A$6:$A$1806,Data!$I$6:$I$1806)","v":15},{"$f":"LOOKUP($AO48,Data!$A$6:$A$1806,Data!$J$6:$J$1806)","v":-103},{"$f":"LOOKUP($AO48,Data!$A$6:$A$1806,Data!$K$6:$K$1806)","v":7642.56},-13.5986328125,"T-62 sec",40098.101666666727,null,null,null,null,null,null,null,null,null,null,null,null,"T-62 sec",40098.101666666727,null,null,null,null,null,null,null,null,null,null,null,null,"T-62 sec",40098.101666666727,null,null,null,null,null,null,null,null,null,null,null,null,"T-62 sec",40098.101666666727,null,null,null,null,null,null,null,null,null,null,null,null,"T-62 sec",40098.101666666727]
["T-60 sec",40098.101689814874,{"$f":"LOOKUP(B49,Data!$A$6:$A$1806,Data!B$6:B$1806)","v":60.019001007080078},{"$f":"LOOKUP(B49,Data!$A$6:$A$1806,Data!C$6:C$1806)","v":3666.787353515625},null,null,null,-15.2008056640625,-15.067904252610207,null,null,{"$f":"(D$78-D$49-I$78+I$49)/29","v":-0.27611264965090554},{"$f":"M50-L49-(I50-I49)","v":3666.78735351562},null,null,null,null,null,null,null,null,null,null,null,null,0,null,null,"T-60 sec",null,null,null,null,null,null,null,null,null,null,"T-60 sec",40098.101689814874,{"$f":"LOOKUP($AO49,Data!$A$6:$A$1806,Data!$B$6:$B$1806)","v":60.019001007080078},{"$f":"LOOKUP($AO49,Data!$A$6:$A$1806,Data!$C$6:$C$1806)","v":3666.787353515625},{"$f":"LOOKUP($AO49,Data!$A$6:$A$1806,Data!$D$6:$D$1806)","v":350},{"$f":"IF($AS$1=\"+\",LOOKUP($AO49,Data!$A$6:$A$1806,Data!$E$6:$E$1806)*-1,LOOKUP($AO49,Data!$A$6:$A$1806,Data!$E$6:$E$1806))","v":160.44723510742187},{"$f":"LOOKUP($AO49,Data!$A$6:$A$1806,Data!$F$6:$F$1806)","v":0},{"$f":"LOOKUP($AO49,Data!$A$6:$A$1806,Data!$G$6:$G$1806)","v":216.5},{"$f":"LOOKUP($AO49,Data!$A$6:$A$1806,Data!$H$6:$H$1806)","v":10},{"$f":"LOOKUP($AO49,Data!$A$6:$A$1806,Data!$I$6:$I$1806)","v":15},{"$f":"LOOKUP($AO49,Data!$A$6:$A$1806,Data!$J$6:$J$1806)","v":-103},{"$f":"LOOKUP($AO49,Data!$A$6:$A$1806,Data!$K$6:$K$1806)","v":7642.89},-15.2008056640625,"T-60 sec",40098.101689814874,null,null,null,null,null,null,null,null,null,null,null,null,"T-60 sec",40098.101689814874,null,null,null,null,null,null,null,null,null,null,null,null,"T-60 sec",40098.101689814874,null,null,null,null,null,null,null,null,null,null,null,null,"T-60 sec",40098.101689814874,null,null,null,null,null,null,null,null,null,null,null,null,"T-60 sec",40098.101689814874]
["T-58 sec",40098.10171296302,{"$f":"LOOKUP(B50,Data!$A$6:$A$1806,Data!B$6:B$1806)","v":60.020000457763672},{"$f":"LOOKUP(B50,Data!$A$6:$A$1806,Data!C$6:C$1806)","v":3670.45361328125},null,null,null,-16.0003662109375,-15.394265938024759,null,null,-0.27611264965090554,{"$f":"M51-L50-(I51-I50)","v":3666.1848791805546},null,null,null,null,null,null,null,null,null,null,null,null,0,null,null,"T-58 sec",null,null,null,null,null,null,null,null,null,null,"T-58 sec",40098.10171296302,{"$f":"LOOKUP($AO50,Data!$A$6:$A$1806,Data!$B$6:$B$1806)","v":60.020000457763672},{"$f":"LOOKUP($AO50,Data!$A$6:$A$1806,Data!$C$6:$C$1806)","v":3670.45361328125},{"$f":"LOOKUP($AO50,Data!$A$6:$A$1806,Data!$D$6:$D$1806)","v":350},{"$f":"IF($AS$1=\"+\",LOOKUP($AO50,Data!$A$6:$A$1806,Data!$E$6:$E$1806)*-1,LOOKUP($AO50,Data!$A$6:$A$1806,Data!$E$6:$E$1806))","v":160.44723510742187},{"$f":"LOOKUP($AO50,Data!$A$6:$A$1806,Data!$F$6:$F$1806)","v":0},{"$f":"LOOKUP($AO50,Data!$A$6:$A$1806,Data!$G$6:$G$1806)","v":217},{"$f":"LOOKUP($AO50,Data!$A$6:$A$1806,Data!$H$6:$H$1806)","v":10},{"$f":"LOOKUP($AO50,Data!$A$6:$A$1806,Data!$I$6:$I$1806)","v":15},{"$f":"LOOKUP($AO50,Data!$A$6:$A$1806,Data!$J$6:$J$1806)","v":-103},{"$f":"LOOKUP($AO50,Data!$A$6:$A$1806,Data!$K$6:$K$1806)","v":7643.22},-16.0003662109375,"T-58 sec",40098.10171296302,null,null,null,null,null,null,null,null,null,null,null,null,"T-58 sec",40098.10171296302,null,null,null,null,null,null,null,null,null,null,null,null,"T-58 sec",40098.10171296302,null,null,null,null,null,null,null,null,null,null,null,null,"T-58 sec",40098.10171296302,null,null,null,null,null,null,null,null,null,null,null,null,"T-58 sec",40098.10171296302]
["T-56 sec",40098.101736111166,{"$f":"LOOKUP(B51,Data!$A$6:$A$1806,Data!B$6:B$1806)","v":60.019001007080078},{"$f":"LOOKUP(B51,Data!$A$6:$A$1806,Data!C$6:C$1806)","v":3670.266845703125},null,null,null,-15.2008056640625,-15.326554842137968,null,null,-0.27611264965090554,3665.9764776267907,null,null,null,null,null,null,null,null,null,null,null,null,0,null,null,"T-56 sec",null,null,null,null,null,null,null,null,null,null,"T-56 sec",40098.101736111166,{"$f":"LOOKUP($AO51,Data!$A$6:$A$1806,Data!$B$6:$B$1806)","v":60.019001007080078},{"$f":"LOOKUP($AO51,Data!$A$6:$A$1806,Data!$C$6:$C$1806)","v":3670.266845703125},{"$f":"LOOKUP($AO51,Data!$A$6:$A$1806,Data!$D$6:$D$1806)","v":350},{"$f":"IF($AS$1=\"+\",LOOKUP($AO51,Data!$A$6:$A$1806,Data!$E$6:$E$1806)*-1,LOOKUP($AO51,Data!$A$6:$A$1806,Data!$E$6:$E$1806))","v":160.44723510742187},{"$f":"LOOKUP($AO51,Data!$A$6:$A$1806,Data!$F$6:$F$1806)","v":0},{"$f":"LOOKUP($AO51,Data!$A$6:$A$1806,Data!$G$6:$G$1806)","v":217.5},{"$f":"LOOKUP($AO51,Data!$A$6:$A$1806,Data!$H$6:$H$1806)","v":10},{"$f":"LOOKUP($AO51,Data!$A$6:$A$1806,Data!$I$6:$I$1806)","v":15},{"$f":"LOOKUP($AO51,Data!$A$6:$A$1806,Data!$J$6:$J$1806)","v":-103},{"$f":"LOOKUP($AO51,Data!$A$6:$A$1806,Data!$K$6:$K$1806)","v":7643.55},-15.2008056640625,"T-56 sec",40098.101736111166,null,null,null,null,null,null,null,null,null,null,null,null,"T-56 sec",40098.101736111166,null,null,null,null,null,null,null,null,null,null,null,null,"T-56 sec",40098.101736111166,null,null,null,null,null,null,null,null,null,null,null,null,"T-56 sec",40098.101736111166,null,null,null,null,null,null,null,null,null,null,null,null,"T-56 sec",40098.101736111166]
["T-54 sec",40098.101759259313,{"$f":"LOOKUP(B52,Data!$A$6:$A$1806,Data!B$6:B$1806)","v":60.020999908447266},{"$f":"LOOKUP(B52,Data!$A$6:$A$1806,Data!C$6:C$1806)","v":3671.66796875},null,null,null,-16.7999267578125,-15.842235012624055,null,null,-0.27611264965090554,3665.1846848066539,null,null,null,null,null,null,null,null,null,null,null,null,0,null,null,"T-54 sec",null,null,null,null,null,null,null,null,null,null,"T-54 sec",40098.101759259313,{"$f":"LOOKUP($AO52,Data!$A$6:$A$1806,Data!$B$6:$B$1806)","v":60.020999908447266},{"$f":"LOOKUP($AO52,Data!$A$6:$A$1806,Data!$C$6:$C$1806)","v":3671.66796875},{"$f":"LOOKUP($AO52,Data!$A$6:$A$1806,Data!$D$6:$D$1806)","v":350},{"$f":"IF($AS$1=\"+\",LOOKUP($AO52,Data!$A$6:$A$1806,Data!$E$6:$E$1806)*-1,LOOKUP($AO52,Data!$A$6:$A$1806,Data!$E$6:$E$1806))","v":160.44723510742187},{"$f":"LOOKUP($AO52,Data!$A$6:$A$1806,Data!$F$6:$F$1806)","v":0},{"$f":"LOOKUP($AO52,Data!$A$6:$A$1806,Data!$G$6:$G$1806)","v":218},{"$f":"LOOKUP($AO52,Data!$A$6:$A$1806,Data!$H$6:$H$1806)","v":10},{"$f":"LOOKUP($AO52,Data!$A$6:$A$1806,Data!$I$6:$I$1806)","v":15},{"$f":"LOOKUP($AO52,Data!$A$6:$A$1806,Data!$J$6:$J$1806)","v":-103},{"$f":"LOOKUP($AO52,Data!$A$6:$A$1806,Data!$K$6:$K$1806)","v":7643.88},-16.7999267578125,"T-54 sec",40098.101759259313,null,null,null,null,null,null,null,null,null,null,null,null,"T-54 sec",40098.101759259313,null,null,null,null,null,null,null,null,null,null,null,null,"T-54 sec",40098.101759259313,null,null,null,null,null,null,null,null,null,null,null,null,"T-54 sec",40098.101759259313,null,null,null,null,null,null,null,null,null,null,null,null,"T-54 sec",40098.101759259313]
["T-52 sec",40098.101782407459,{"$f":"LOOKUP(B53,Data!$A$6:$A$1806,Data!B$6:B$1806)","v":60.020999908447266},{"$f":"LOOKUP(B53,Data!$A$6:$A$1806,Data!C$6:C$1806)","v":3672.4931640625},null,null,null,-16.7999267578125,-16.177427123440012,null,null,-0.27611264965090554,3664.5733800461871,null,null,null,null,null,null,null,null,null,null,null,null,0,null,null,"T-52 sec",null,null,null,null,null,null,null,null,null,null,"T-52 sec",40098.101782407459,{"$f":"LOOKUP($AO53,Data!$A$6:$A$1806,Data!$B$6:$B$1806)","v":60.020999908447266},{"$f":"LOOKUP($AO53,Data!$A$6:$A$1806,Data!$C$6:$C$1806)","v":3672.4931640625},{"$f":"LOOKUP($AO53,Data!$A$6:$A$1806,Data!$D$6:$D$1806)","v":350},{"$f":"IF($AS$1=\"+\",LOOKUP($AO53,Data!$A$6:$A$1806,Data!$E$6:$E$1806)*-1,LOOKUP($AO53,Data!$A$6:$A$1806,Data!$E$6:$E$1806))","v":160.44723510742187},{"$f":"LOOKUP($AO53,Data!$A$6:$A$1806,Data!$F$6:$F$1806)","v":0},{"$f":"LOOKUP($AO53,Data!$A$6:$A$1806,Data!$G$6:$G$1806)","v":218.5},{"$f":"LOOKUP($AO53,Data!$A$6:$A$1806,Data!$H$6:$H$1806)","v":10},{"$f":"LOOKUP($AO53,Data!$A$6:$A$1806,Data!$I$6:$I$1806)","v":15},{"$f":"LOOKUP($AO53,Data!$A$6:$A$1806,Data!$J$6:$J$1806)","v":-103},{"$f":"LOOKUP($AO53,Data!$A$6:$A$1806,Data!$K$6:$K$1806)","v":7644.21},-16.7999267578125,"T-52 sec",40098.101782407459,null,null,null,null,null,null,null,null,null,null,null,null,"T-52 sec",40098.101782407459,null,null,null,null,null,null,null,null,null,null,null,null,"T-52 sec",40098.101782407459,null,null,null,null,null,null,null,null,null,null,null,null,"T-52 sec",40098.101782407459,null,null,null,null,null,null,null,null,null,null,null,null,"T-52 sec",40098.101782407459]
["T-50 sec",40098.101805555605,{"$f":"LOOKUP(B54,Data!$A$6:$A$1806,Data!B$6:B$1806)","v":60.020999908447266},{"$f":"LOOKUP(B54,Data!$A$6:$A$1806,Data!C$6:C$1806)","v":3672.68505859375},null,null,null,-16.7999267578125,-16.395301995470383,null,null,-0.27611264965090554,3664.0793925245061,null,null,null,null,null,null,null,null,null,null,null,null,0,null,null,"T-50 sec",null,null,null,null,null,null,null,null,null,null,"T-50 sec",40098.101805555605,{"$f":"LOOKUP($AO54,Data!$A$6:$A$1806,Data!$B$6:$B$1806)","v":60.020999908447266},{"$f":"LOOKUP($AO54,Data!$A$6:$A$1806,Data!$C$6:$C$1806)","v":3672.68505859375},{"$f":"LOOKUP($AO54,Data!$A$6:$A$1806,Data!$D$6:$D$1806)","v":350},{"$f":"IF($AS$1=\"+\",LOOKUP($AO54,Data!$A$6:$A$1806,Data!$E$6:$E$1806)*-1,LOOKUP($AO54,Data!$A$6:$A$1806,Data!$E$6:$E$1806))","v":163.95860290527344},{"$f":"LOOKUP($AO54,Data!$A$6:$A$1806,Data!$F$6:$F$1806)","v":0},{"$f":"LOOKUP($AO54,Data!$A$6:$A$1806,Data!$G$6:$G$1806)","v":219},{"$f":"LOOKUP($AO54,Data!$A$6:$A$1806,Data!$H$6:$H$1806)","v":10},{"$f":"LOOKUP($AO54,Data!$A$6:$A$1806,Data!$I$6:$I$1806)","v":15},{"$f":"LOOKUP($AO54,Data!$A$6:$A$1806,Data!$J$6:$J$1806)","v":-103},{"$f":"LOOKUP($AO54,Data!$A$6:$A$1806,Data!$K$6:$K$1806)","v":7644.54},-16.7999267578125,"T-50 sec",40098.101805555605,null,null,null,null,null,null,null,null,null,null,null,null,"T-50 sec",40098.101805555605,null,null,null,null,null,null,null,null,null,null,null,null,"T-50 sec",40098.101805555605,null,null,null,null,null,null,null,null,null,null,null,null,"T-50 sec",40098.101805555605,null,null,null,null,null,null,null,null,null,null,null,null,"T-50 sec",40098.101805555605]
["T-48 sec",40098.101828703751,{"$f":"LOOKUP(B55,Data!$A$6:$A$1806,Data!B$6:B$1806)","v":60.019001007080078},{"$f":"LOOKUP(B55,Data!$A$6:$A$1806,Data!C$6:C$1806)","v":3672.857421875},null,null,null,-15.2008056640625,-15.977228279477625,null,null,-0.27611264965090554,3664.2213535908481,null,null,null,null,null,null,null,null,null,null,null,null,0,null,null,"T-48 sec",null,null,null,null,null,null,null,null,null,null,"T-48 sec",40098.101828703751,{"$f":"LOOKUP($AO55,Data!$A$6:$A$1806,Data!$B$6:$B$1806)","v":60.019001007080078},{"$f":"LOOKUP($AO55,Data!$A$6:$A$1806,Data!$C$6:$C$1806)","v":3672.857421875},{"$f":"LOOKUP($AO55,Data!$A$6:$A$1806,Data!$D$6:$D$1806)","v":350},{"$f":"IF($AS$1=\"+\",LOOKUP($AO55,Data!$A$6:$A$1806,Data!$E$6:$E$1806)*-1,LOOKUP($AO55,Data!$A$6:$A$1806,Data!$E$6:$E$1806))","v":163.95860290527344},{"$f":"LOOKUP($AO55,Data!$A$6:$A$1806,Data!$F$6:$F$1806)","v":0},{"$f":"LOOKUP($AO55,Data!$A$6:$A$1806,Data!$G$6:$G$1806)","v":219.5},{"$f":"LOOKUP($AO55,Data!$A$6:$A$1806,Data!$H$6:$H$1806)","v":10},{"$f":"LOOKUP($AO55,Data!$A$6:$A$1806,Data!$I$6:$I$1806)","v":15},{"$f":"LOOKUP($AO55,Data!$A$6:$A$1806,Data!$J$6:$J$1806)","v":-103},{"$f":"LOOKUP($AO55,Data!$A$6:$A$1806,Data!$K$6:$K$1806)","v":7644.87},-15.2008056640625,"T-48 sec",40098.101828703751,null,null,null,null,null,null,null,null,null,null,null,null,"T-48 sec",40098.101828703751,null,null,null,null,null,null,null,null,null,null,null,null,"T-48 sec",40098.101828703751,null,null,null,null,null,null,null,null,null,null,null,null,"T-48 sec",40098.101828703751,null,null,null,null,null,null,null,null,null,null,null,null,"T-48 sec",40098.101828703751]
["T-46 sec",40098.101851851898,{"$f":"LOOKUP(B56,Data!$A$6:$A$1806,Data!B$6:B$1806)","v":60.018001556396484},{"$f":"LOOKUP(B56,Data!$A$6:$A$1806,Data!C$6:C$1806)","v":3672.1640625},null,null,null,-14.4012451171875,-15.425634172676082,null,null,-0.27611264965090554,3664.496835047999,null,null,null,null,null,null,null,null,null,null,null,null,0,null,null,"T-46 sec",null,null,null,null,null,null,null,null,null,null,"T-46 sec",40098.101851851898,{"$f":"LOOKUP($AO56,Data!$A$6:$A$1806,Data!$B$6:$B$1806)","v":60.018001556396484},{"$f":"LOOKUP($AO56,Data!$A$6:$A$1806,Data!$C$6:$C$1806)","v":3672.1640625},{"$f":"LOOKUP($AO56,Data!$A$6:$A$1806,Data!$D$6:$D$1806)","v":350},{"$f":"IF($AS$1=\"+\",LOOKUP($AO56,Data!$A$6:$A$1806,Data!$E$6:$E$1806)*-1,LOOKUP($AO56,Data!$A$6:$A$1806,Data!$E$6:$E$1806))","v":163.95860290527344},{"$f":"LOOKUP($AO56,Data!$A$6:$A$1806,Data!$F$6:$F$1806)","v":0},{"$f":"LOOKUP($AO56,Data!$A$6:$A$1806,Data!$G$6:$G$1806)","v":220},{"$f":"LOOKUP($AO56,Data!$A$6:$A$1806,Data!$H$6:$H$1806)","v":10},{"$f":"LOOKUP($AO56,Data!$A$6:$A$1806,Data!$I$6:$I$1806)","v":15},{"$f":"LOOKUP($AO56,Data!$A$6:$A$1806,Data!$J$6:$J$1806)","v":-103},{"$f":"LOOKUP($AO56,Data!$A$6:$A$1806,Data!$K$6:$K$1806)","v":7645.2},-14.4012451171875,"T-46 sec",40098.101851851898,null,null,null,null,null,null,null,null,null,null,null,null,"T-46 sec",40098.101851851898,null,null,null,null,null,null,null,null,null,null,null,null,"T-46 sec",40098.101851851898,null,null,null,null,null,null,null,null,null,null,null,null,"T-46 sec",40098.101851851898,null,null,null,null,null,null,null,null,null,null,null,null,"T-46 sec",40098.101851851898]
["T-44 sec",40098.101875000044,{"$f":"LOOKUP(B57,Data!$A$6:$A$1806,Data!B$6:B$1806)","v":60.021999359130859},{"$f":"LOOKUP(B57,Data!$A$6:$A$1806,Data!C$6:C$1806)","v":3671.4130859375},null,null,null,-17.5994873046875,-16.186482768880079,null,null,-0.27611264965090554,3663.4598738021441,null,null,null,null,null,null,null,null,null,null,null,null,0,null,null,"T-44 sec",null,null,null,null,null,null,null,null,null,null,"T-44 sec",40098.101875000044,{"$f":"LOOKUP($AO57,Data!$A$6:$A$1806,Data!$B$6:$B$1806)","v":60.021999359130859},{"$f":"LOOKUP($AO57,Data!$A$6:$A$1806,Data!$C$6:$C$1806)","v":3671.4130859375},{"$f":"LOOKUP($AO57,Data!$A$6:$A$1806,Data!$D$6:$D$1806)","v":350},{"$f":"IF($AS$1=\"+\",LOOKUP($AO57,Data!$A$6:$A$1806,Data!$E$6:$E$1806)*-1,LOOKUP($AO57,Data!$A$6:$A$1806,Data!$E$6:$E$1806))","v":163.95860290527344},{"$f":"LOOKUP($AO57,Data!$A$6:$A$1806,Data!$F$6:$F$1806)","v":0},{"$f":"LOOKUP($AO57,Data!$A$6:$A$1806,Data!$G$6:$G$1806)","v":220.5},{"$f":"LOOKUP($AO57,Data!$A$6:$A$1806,Data!$H$6:$H$1806)","v":10},{"$f":"LOOKUP($AO57,Data!$A$6:$A$1806,Data!$I$6:$I$1806)","v":15},{"$f":"LOOKUP($AO57,Data!$A$6:$A$1806,Data!$J$6:$J$1806)","v":-103},{"$f":"LOOKUP($AO57,Data!$A$6:$A$1806,Data!$K$6:$K$1806)","v":7645.53},-17.5994873046875,"T-44 sec",40098.101875000044,null,null,null,null,null,null,null,null,null,null,null,null,"T-44 sec",40098.101875000044,null,null,null,null,null,null,null,null,null,null,null,null,"T-44 sec",40098.101875000044,null,null,null,null,null,null,null,null,null,null,null,null,"T-44 sec",40098.101875000044,null,null,null,null,null,null,null,null,null,null,null,null,"T-44 sec",40098.101875000044]
["T-42 sec",40098.10189814819,{"$f":"LOOKUP(B58,Data!$A$6:$A$1806,Data!B$6:B$1806)","v":60.030998229980469},{"$f":"LOOKUP(B58,Data!$A$6:$A$1806,Data!C$6:C$1806)","v":3669.98291015625},null,null,null,-24.798583984375,-19.200718194303303,null,null,-0.27611264965090554,3660.1695257270703,null,null,null,null,null,null,null,null,null,null,null,null,0,null,null,"T-42 sec",null,null,null,null,null,null,null,null,null,null,"T-42 sec",40098.10189814819,{"$f":"LOOKUP($AO58,Data!$A$6:$A$1806,Data!$B$6:$B$1806)","v":60.030998229980469},{"$f":"LOOKUP($AO58,Data!$A$6:$A$1806,Data!$C$6:$C$1806)","v":3669.98291015625},{"$f":"LOOKUP($AO58,Data!$A$6:$A$1806,Data!$D$6:$D$1806)","v":350},{"$f":"IF($AS$1=\"+\",LOOKUP($AO58,Data!$A$6:$A$1806,Data!$E$6:$E$1806)*-1,LOOKUP($AO58,Data!$A$6:$A$1806,Data!$E$6:$E$1806))","v":163.95860290527344},{"$f":"LOOKUP($AO58,Data!$A$6:$A$1806,Data!$F$6:$F$1806)","v":0},{"$f":"LOOKUP($AO58,Data!$A$6:$A$1806,Data!$G$6:$G$1806)","v":221},{"$f":"LOOKUP($AO58,Data!$A$6:$A$1806,Data!$H$6:$H$1806)","v":10},{"$f":"LOOKUP($AO58,Data!$A$6:$A$1806,Data!$I$6:$I$1806)","v":15},{"$f":"LOOKUP($AO58,Data!$A$6:$A$1806,Data!$J$6:$J$1806)","v":-103},{"$f":"LOOKUP($AO58,Data!$A$6:$A$1806,Data!$K$6:$K$1806)","v":7645.86},-24.798583984375,"T-42 sec",40098.10189814819,null,null,null,null,null,null,null,null,null,null,null,null,"T-42 sec",40098.10189814819,null,null,null,null,null,null,null,null,null,null,null,null,"T-42 sec",40098.10189814819,null,null,null,null,null,null,null,null,null,null,null,null,"T-42 sec",40098.10189814819,null,null,null,null,null,null,null,null,null,null,null,null,"T-42 sec",40098.10189814819]
["T-40 sec",40098.101921296337,{"$f":"LOOKUP(B59,Data!$A$6:$A$1806,Data!B$6:B$1806)","v":60.036998748779297},{"$f":"LOOKUP(B59,Data!$A$6:$A$1806,Data!C$6:C$1806)","v":3666.46728515625},null,null,null,-29.5989990234375,-22.840116484500271,null,null,-0.27611264965090554,3656.2540147872228,null,null,null,null,null,null,null,null,null,null,null,null,0,null,null,"T-40 sec",null,null,null,null,null,null,null,null,null,null,"T-40 sec",40098.101921296337,{"$f":"LOOKUP($AO59,Data!$A$6:$A$1806,Data!$B$6:$B$1806)","v":60.036998748779297},{"$f":"LOOKUP($AO59,Data!$A$6:$A$1806,Data!$C$6:$C$1806)","v":3666.46728515625},{"$f":"LOOKUP($AO59,Data!$A$6:$A$1806,Data!$D$6:$D$1806)","v":350},{"$f":"IF($AS$1=\"+\",LOOKUP($AO59,Data!$A$6:$A$1806,Data!$E$6:$E$1806)*-1,LOOKUP($AO59,Data!$A$6:$A$1806,Data!$E$6:$E$1806))","v":166.07244873046875},{"$f":"LOOKUP($AO59,Data!$A$6:$A$1806,Data!$F$6:$F$1806)","v":0},{"$f":"LOOKUP($AO59,Data!$A$6:$A$1806,Data!$G$6:$G$1806)","v":221.5},{"$f":"LOOKUP($AO59,Data!$A$6:$A$1806,Data!$H$6:$H$1806)","v":10},{"$f":"LOOKUP($AO59,Data!$A$6:$A$1806,Data!$I$6:$I$1806)","v":15},{"$f":"LOOKUP($AO59,Data!$A$6:$A$1806,Data!$J$6:$J$1806)","v":-103},{"$f":"LOOKUP($AO59,Data!$A$6:$A$1806,Data!$K$6:$K$1806)","v":7646.19},-29.5989990234375,"T-40 sec",40098.101921296337,null,null,null,null,null,null,null,null,null,null,null,null,"T-40 sec",40098.101921296337,null,null,null,null,null,null,null,null,null,null,null,null,"T-40 sec",40098.101921296337,null,null,null,null,null,null,null,null,null,null,null,null,"T-40 sec",40098.101921296337,null,null,null,null,null,null,null,null,null,null,null,null,"T-40 sec",40098.101921296337]
["T-38 sec",40098.101944444483,{"$f":"LOOKUP(B60,Data!$A$6:$A$1806,Data!B$6:B$1806)","v":60.036998748779297},{"$f":"LOOKUP(B60,Data!$A$6:$A$1806,Data!C$6:C$1806)","v":3663.758056640625},null,null,null,-29.5989990234375,-25.205725373128303,null,null,-0.27611264965090554,3653.6122932489438,null,null,null,null,null,null,null,null,null,null,null,null,0,null,null,"T-38 sec",null,null,null,null,null,null,null,null,null,null,"T-38 sec",40098.101944444483,{"$f":"LOOKUP($AO60,Data!$A$6:$A$1806,Data!$B$6:$B$1806)","v":60.036998748779297},{"$f":"LOOKUP($AO60,Data!$A$6:$A$1806,Data!$C$6:$C$1806)","v":3663.758056640625},{"$f":"LOOKUP($AO60,Data!$A$6:$A$1806,Data!$D$6:$D$1806)","v":350},{"$f":"IF($AS$1=\"+\",LOOKUP($AO60,Data!$A$6:$A$1806,Data!$E$6:$E$1806)*-1,LOOKUP($AO60,Data!$A$6:$A$1806,Data!$E$6:$E$1806))","v":166.07244873046875},{"$f":"LOOKUP($AO60,Data!$A$6:$A$1806,Data!$F$6:$F$1806)","v":0},{"$f":"LOOKUP($AO60,Data!$A$6:$A$1806,Data!$G$6:$G$1806)","v":222},{"$f":"LOOKUP($AO60,Data!$A$6:$A$1806,Data!$H$6:$H$1806)","v":10},{"$f":"LOOKUP($AO60,Data!$A$6:$A$1806,Data!$I$6:$I$1806)","v":15},{"$f":"LOOKUP($AO60,Data!$A$6:$A$1806,Data!$J$6:$J$1806)","v":-103},{"$f":"LOOKUP($AO60,Data!$A$6:$A$1806,Data!$K$6:$K$1806)","v":7646.52},-29.5989990234375,"T-38 sec",40098.101944444483,null,null,null,null,null,null,null,null,null,null,null,null,"T-38 sec",40098.101944444483,null,null,null,null,null,null,null,null,null,null,null,null,"T-38 sec",40098.101944444483,null,null,null,null,null,null,null,null,null,null,null,null,"T-38 sec",40098.101944444483,null,null,null,null,null,null,null,null,null,null,null,null,"T-38 sec",40098.101944444483]
["T-36 sec",40098.101967592629,{"$f":"LOOKUP(B61,Data!$A$6:$A$1806,Data!B$6:B$1806)","v":60.035999298095703},{"$f":"LOOKUP(B61,Data!$A$6:$A$1806,Data!C$6:C$1806)","v":3661.59912109375},null,null,null,-28.7994384765625,-26.463524959330272,null,null,-0.27611264965090554,3652.0783810130911,null,null,null,null,null,null,null,null,null,null,null,null,0,null,null,"T-36 sec",null,null,null,null,null,null,null,null,null,null,"T-36 sec",40098.101967592629,{"$f":"LOOKUP($AO61,Data!$A$6:$A$1806,Data!$B$6:$B$1806)","v":60.035999298095703},{"$f":"LOOKUP($AO61,Data!$A$6:$A$1806,Data!$C$6:$C$1806)","v":3661.59912109375},{"$f":"LOOKUP($AO61,Data!$A$6:$A$1806,Data!$D$6:$D$1806)","v":350},{"$f":"IF($AS$1=\"+\",LOOKUP($AO61,Data!$A$6:$A$1806,Data!$E$6:$E$1806)*-1,LOOKUP($AO61,Data!$A$6:$A$1806,Data!$E$6:$E$1806))","v":166.07244873046875},{"$f":"LOOKUP($AO61,Data!$A$6:$A$1806,Data!$F$6:$F$1806)","v":0},{"$f":"LOOKUP($AO61,Data!$A$6:$A$1806,Data!$G$6:$G$1806)","v":222.5},{"$f":"LOOKUP($AO61,Data!$A$6:$A$1806,Data!$H$6:$H$1806)","v":10},{"$f":"LOOKUP($AO61,Data!$A$6:$A$1806,Data!$I$6:$I$1806)","v":15},{"$f":"LOOKUP($AO61,Data!$A$6:$A$1806,Data!$J$6:$J$1806)","v":-103},{"$f":"LOOKUP($AO61,Data!$A$6:$A$1806,Data!$K$6:$K$1806)","v":7646.85},-28.7994384765625,"T-36 sec",40098.101967592629,null,null,null,null,null,null,null,null,null,null,null,null,"T-36 sec",40098.101967592629,null,null,null,null,null,null,null,null,null,null,null,null,"T-36 sec",40098.101967592629,null,null,null,null,null,null,null,null,null,null,null,null,"T-36 sec",40098.101967592629,null,null,null,null,null,null,null,null,null,null,null,null,"T-36 sec",40098.101967592629]
["T-34 sec",40098.101990740775,{"$f":"LOOKUP(B62,Data!$A$6:$A$1806,Data!B$6:B$1806)","v":60.036998748779297},{"$f":"LOOKUP(B62,Data!$A$6:$A$1806,Data!C$6:C$1806)","v":3660.67236328125},null,null,null,-29.5989990234375,-27.560940881767802,null,null,-0.27611264965090554,3650.7048524410029,null,null,null,null,null,null,null,null,null,null,null,null,0,null,null,"T-34 sec",null,null,null,null,null,null,null,null,null,null,"T-34 sec",40098.101990740775,{"$f":"LOOKUP($AO62,Data!$A$6:$A$1806,Data!$B$6:$B$1806)","v":60.036998748779297},{"$f":"LOOKUP($AO62,Data!$A$6:$A$1806,Data!$C$6:$C$1806)","v":3660.67236328125},{"$f":"LOOKUP($AO62,Data!$A$6:$A$1806,Data!$D$6:$D$1806)","v":350},{"$f":"IF($AS$1=\"+\",LOOKUP($AO62,Data!$A$6:$A$1806,Data!$E$6:$E$1806)*-1,LOOKUP($AO62,Data!$A$6:$A$1806,Data!$E$6:$E$1806))","v":166.07244873046875},{"$f":"LOOKUP($AO62,Data!$A$6:$A$1806,Data!$F$6:$F$1806)","v":0},{"$f":"LOOKUP($AO62,Data!$A$6:$A$1806,Data!$G$6:$G$1806)","v":223},{"$f":"LOOKUP($AO62,Data!$A$6:$A$1806,Data!$H$6:$H$1806)","v":10},{"$f":"LOOKUP($AO62,Data!$A$6:$A$1806,Data!$I$6:$I$1806)","v":15},{"$f":"LOOKUP($AO62,Data!$A$6:$A$1806,Data!$J$6:$J$1806)","v":-103},{"$f":"LOOKUP($AO62,Data!$A$6:$A$1806,Data!$K$6:$K$1806)","v":7647.18},-29.5989990234375,"T-34 sec",40098.101990740775,null,null,null,null,null,null,null,null,null,null,null,null,"T-34 sec",40098.101990740775,null,null,null,null,null,null,null,null,null,null,null,null,"T-34 sec",40098.101990740775,null,null,null,null,null,null,null,null,null,null,null,null,"T-34 sec",40098.101990740775,null,null,null,null,null,null,null,null,null,null,null,null,"T-34 sec",40098.101990740775]
["T-32 sec",40098.102013888922,{"$f":"LOOKUP(B63,Data!$A$6:$A$1806,Data!B$6:B$1806)","v":60.046001434326172},{"$f":"LOOKUP(B63,Data!$A$6:$A$1806,Data!C$6:C$1806)","v":3651.49169921875},null,null,null,-36.8011474609375,-30.795013184477199,null,null,-0.27611264965090554,3647.1946674886426,null,null,null,null,null,null,null,null,null,null,null,null,0,null,null,"T-32 sec",null,null,null,null,null,null,null,null,null,null,"T-32 sec",40098.102013888922,{"$f":"LOOKUP($AO63,Data!$A$6:$A$1806,Data!$B$6:$B$1806)","v":60.046001434326172},{"$f":"LOOKUP($AO63,Data!$A$6:$A$1806,Data!$C$6:$C$1806)","v":3651.49169921875},{"$f":"LOOKUP($AO63,Data!$A$6:$A$1806,Data!$D$6:$D$1806)","v":350},{"$f":"IF($AS$1=\"+\",LOOKUP($AO63,Data!$A$6:$A$1806,Data!$E$6:$E$1806)*-1,LOOKUP($AO63,Data!$A$6:$A$1806,Data!$E$6:$E$1806))","v":166.07244873046875},{"$f":"LOOKUP($AO63,Data!$A$6:$A$1806,Data!$F$6:$F$1806)","v":0},{"$f":"LOOKUP($AO63,Data!$A$6:$A$1806,Data!$G$6:$G$1806)","v":223.5},{"$f":"LOOKUP($AO63,Data!$A$6:$A$1806,Data!$H$6:$H$1806)","v":10},{"$f":"LOOKUP($AO63,Data!$A$6:$A$1806,Data!$I$6:$I$1806)","v":15},{"$f":"LOOKUP($AO63,Data!$A$6:$A$1806,Data!$J$6:$J$1806)","v":-103},{"$f":"LOOKUP($AO63,Data!$A$6:$A$1806,Data!$K$6:$K$1806)","v":7647.51},-36.8011474609375,"T-32 sec",40098.102013888922,null,null,null,null,null,null,null,null,null,null,null,null,"T-32 sec",40098.102013888922,null,null,null,null,null,null,null,null,null,null,null,null,"T-32 sec",40098.102013888922,null,null,null,null,null,null,null,null,null,null,null,null,"T-32 sec",40098.102013888922,null,null,null,null,null,null,null,null,null,null,null,null,"T-32 sec",40098.102013888922]
["T-30 sec",40098.102037037068,{"$f":"LOOKUP(B64,Data!$A$6:$A$1806,Data!B$6:B$1806)","v":60.048000335693359},{"$f":"LOOKUP(B64,Data!$A$6:$A$1806,Data!C$6:C$1806)","v":3649.1904296875},null,null,null,-38.4002685546875,-33.456852564050806,null,null,-0.27611264965090554,3644.2567154594185,null,null,null,null,null,null,null,null,null,null,null,null,0,null,null,"T-30 sec",null,null,null,null,null,null,null,null,null,null,"T-30 sec",40098.102037037068,{"$f":"LOOKUP($AO64,Data!$A$6:$A$1806,Data!$B$6:$B$1806)","v":60.048000335693359},{"$f":"LOOKUP($AO64,Data!$A$6:$A$1806,Data!$C$6:$C$1806)","v":3649.1904296875},{"$f":"LOOKUP($AO64,Data!$A$6:$A$1806,Data!$D$6:$D$1806)","v":350},{"$f":"IF($AS$1=\"+\",LOOKUP($AO64,Data!$A$6:$A$1806,Data!$E$6:$E$1806)*-1,LOOKUP($AO64,Data!$A$6:$A$1806,Data!$E$6:$E$1806))","v":163.76658630371094},{"$f":"LOOKUP($AO64,Data!$A$6:$A$1806,Data!$F$6:$F$1806)","v":0},{"$f":"LOOKUP($AO64,Data!$A$6:$A$1806,Data!$G$6:$G$1806)","v":224},{"$f":"LOOKUP($AO64,Data!$A$6:$A$1806,Data!$H$6:$H$1806)","v":10},{"$f":"LOOKUP($AO64,Data!$A$6:$A$1806,Data!$I$6:$I$1806)","v":15},{"$f":"LOOKUP($AO64,Data!$A$6:$A$1806,Data!$J$6:$J$1806)","v":-103},{"$f":"LOOKUP($AO64,Data!$A$6:$A$1806,Data!$K$6:$K$1806)","v":7647.84},-38.4002685546875,"T-30 sec",40098.102037037068,null,null,null,null,null,null,null,null,null,null,null,null,"T-30 sec",40098.102037037068,null,null,null,null,null,null,null,null,null,null,null,null,"T-30 sec",40098.102037037068,null,null,null,null,null,null,null,null,null,null,null,null,"T-30 sec",40098.102037037068,null,null,null,null,null,null,null,null,null,null,null,null,"T-30 sec",40098.102037037068]
["T-28 sec",40098.102060185214,{"$f":"LOOKUP(B65,Data!$A$6:$A$1806,Data!B$6:B$1806)","v":60.048000335693359},{"$f":"LOOKUP(B65,Data!$A$6:$A$1806,Data!C$6:C$1806)","v":3650.025146484375},null,null,null,-38.4002685546875,-35.187048160773649,null,null,-0.27611264965090554,3642.250407213045,null,null,null,null,null,null,null,null,null,null,null,null,0,null,null,"T-28 sec",null,null,null,null,null,null,null,null,null,null,"T-28 sec",40098.102060185214,{"$f":"LOOKUP($AO65,Data!$A$6:$A$1806,Data!$B$6:$B$1806)","v":60.048000335693359},{"$f":"LOOKUP($AO65,Data!$A$6:$A$1806,Data!$C$6:$C$1806)","v":3650.025146484375},{"$f":"LOOKUP($AO65,Data!$A$6:$A$1806,Data!$D$6:$D$1806)","v":350},{"$f":"IF($AS$1=\"+\",LOOKUP($AO65,Data!$A$6:$A$1806,Data!$E$6:$E$1806)*-1,LOOKUP($AO65,Data!$A$6:$A$1806,Data!$E$6:$E$1806))","v":163.76658630371094},{"$f":"LOOKUP($AO65,Data!$A$6:$A$1806,Data!$F$6:$F$1806)","v":0},{"$f":"LOOKUP($AO65,Data!$A$6:$A$1806,Data!$G$6:$G$1806)","v":224.5},{"$f":"LOOKUP($AO65,Data!$A$6:$A$1806,Data!$H$6:$H$1806)","v":10},{"$f":"LOOKUP($AO65,Data!$A$6:$A$1806,Data!$I$6:$I$1806)","v":15},{"$f":"LOOKUP($AO65,Data!$A$6:$A$1806,Data!$J$6:$J$1806)","v":-103},{"$f":"LOOKUP($AO65,Data!$A$6:$A$1806,Data!$K$6:$K$1806)","v":7648.17},-38.4002685546875,"T-28 sec",40098.102060185214,null,null,null,null,null,null,null,null,null,null,null,null,"T-28 sec",40098.102060185214,null,null,null,null,null,null,null,null,null,null,null,null,"T-28 sec",40098.102060185214,null,null,null,null,null,null,null,null,null,null,null,null,"T-28 sec",40098.102060185214,null,null,null,null,null,null,null,null,null,null,null,null,"T-28 sec",40098.102060185214]
["T-26 sec",40098.10208333336,{"$f":"LOOKUP(B66,Data!$A$6:$A$1806,Data!B$6:B$1806)","v":60.042999267578125},{"$f":"LOOKUP(B66,Data!$A$6:$A$1806,Data!C$6:C$1806)","v":3648.246337890625},null,null,null,-34.3994140625,-34.911376226377868,null,null,-0.27611264965090554,3642.24996649779,null,null,null,null,null,null,null,null,null,null,null,null,0,null,null,"T-26 sec",null,null,null,null,null,null,null,null,null,null,"T-26 sec",40098.10208333336,{"$f":"LOOKUP($AO66,Data!$A$6:$A$1806,Data!$B$6:$B$1806)","v":60.042999267578125},{"$f":"LOOKUP($AO66,Data!$A$6:$A$1806,Data!$C$6:$C$1806)","v":3648.246337890625},{"$f":"LOOKUP($AO66,Data!$A$6:$A$1806,Data!$D$6:$D$1806)","v":350},{"$f":"IF($AS$1=\"+\",LOOKUP($AO66,Data!$A$6:$A$1806,Data!$E$6:$E$1806)*-1,LOOKUP($AO66,Data!$A$6:$A$1806,Data!$E$6:$E$1806))","v":163.76658630371094},{"$f":"LOOKUP($AO66,Data!$A$6:$A$1806,Data!$F$6:$F$1806)","v":0},{"$f":"LOOKUP($AO66,Data!$A$6:$A$1806,Data!$G$6:$G$1806)","v":225},{"$f":"LOOKUP($AO66,Data!$A$6:$A$1806,Data!$H$6:$H$1806)","v":10},{"$f":"LOOKUP($AO66,Data!$A$6:$A$1806,Data!$I$6:$I$1806)","v":15},{"$f":"LOOKUP($AO66,Data!$A$6:$A$1806,Data!$J$6:$J$1806)","v":-103},{"$f":"LOOKUP($AO66,Data!$A$6:$A$1806,Data!$K$6:$K$1806)","v":7648.5},-34.3994140625,"T-26 sec",40098.10208333336,null,null,null,null,null,null,null,null,null,null,null,null,"T-26 sec",40098.10208333336,null,null,null,null,null,null,null,null,null,null,null,null,"T-26 sec",40098.10208333336,null,null,null,null,null,null,null,null,null,null,null,null,"T-26 sec",40098.10208333336,null,null,null,null,null,null,null,null,null,null,null,null,"T-26 sec",40098.10208333336]
["T-24 sec",40098.102106481507,{"$f":"LOOKUP(B67,Data!$A$6:$A$1806,Data!B$6:B$1806)","v":60.041000366210938},{"$f":"LOOKUP(B67,Data!$A$6:$A$1806,Data!C$6:C$1806)","v":3649.511962890625},null,null,null,-32.80029296875,-34.172497086208111,null,null,-0.27611264965090554,3642.7127329883092,null,null,null,null,null,null,null,null,null,null,null,null,0,null,null,"T-24 sec",null,null,null,null,null,null,null,null,null,null,"T-24 sec",40098.102106481507,{"$f":"LOOKUP($AO67,Data!$A$6:$A$1806,Data!$B$6:$B$1806)","v":60.041000366210938},{"$f":"LOOKUP($AO67,Data!$A$6:$A$1806,Data!$C$6:$C$1806)","v":3649.511962890625},{"$f":"LOOKUP($AO67,Data!$A$6:$A$1806,Data!$D$6:$D$1806)","v":350},{"$f":"IF($AS$1=\"+\",LOOKUP($AO67,Data!$A$6:$A$1806,Data!$E$6:$E$1806)*-1,LOOKUP($AO67,Data!$A$6:$A$1806,Data!$E$6:$E$1806))","v":163.76658630371094},{"$f":"LOOKUP($AO67,Data!$A$6:$A$1806,Data!$F$6:$F$1806)","v":0},{"$f":"LOOKUP($AO67,Data!$A$6:$A$1806,Data!$G$6:$G$1806)","v":225.5},{"$f":"LOOKUP($AO67,Data!$A$6:$A$1806,Data!$H$6:$H$1806)","v":10},{"$f":"LOOKUP($AO67,Data!$A$6:$A$1806,Data!$I$6:$I$1806)","v":15},{"$f":"LOOKUP($AO67,Data!$A$6:$A$1806,Data!$J$6:$J$1806)","v":-103},{"$f":"LOOKUP($AO67,Data!$A$6:$A$1806,Data!$K$6:$K$1806)","v":7648.83},-32.80029296875,"T-24 sec",40098.102106481507,null,null,null,null,null,null,null,null,null,null,null,null,"T-24 sec",40098.102106481507,null,null,null,null,null,null,null,null,null,null,null,null,"T-24 sec",40098.102106481507,null,null,null,null,null,null,null,null,null,null,null,null,"T-24 sec",40098.102106481507,null,null,null,null,null,null,null,null,null,null,null,null,"T-24 sec",40098.102106481507]
["T-22 sec",40098.102129629653,{"$f":"LOOKUP(B68,Data!$A$6:$A$1806,Data!B$6:B$1806)","v":60.041000366210938},{"$f":"LOOKUP(B68,Data!$A$6:$A$1806,Data!C$6:C$1806)","v":3654.29443359375},null,null,null,-32.80029296875,-33.692225645097771,null,null,-0.27611264965090554,3642.9168917797688,null,null,null,null,null,null,null,null,null,null,null,null,0,null,null,"T-22 sec",null,null,null,null,null,null,null,null,null,null,"T-22 sec",40098.102129629653,{"$f":"LOOKUP($AO68,Data!$A$6:$A$1806,Data!$B$6:$B$1806)","v":60.041000366210938},{"$f":"LOOKUP($AO68,Data!$A$6:$A$1806,Data!$C$6:$C$1806)","v":3654.29443359375},{"$f":"LOOKUP($AO68,Data!$A$6:$A$1806,Data!$D$6:$D$1806)","v":350},{"$f":"IF($AS$1=\"+\",LOOKUP($AO68,Data!$A$6:$A$1806,Data!$E$6:$E$1806)*-1,LOOKUP($AO68,Data!$A$6:$A$1806,Data!$E$6:$E$1806))","v":163.76658630371094},{"$f":"LOOKUP($AO68,Data!$A$6:$A$1806,Data!$F$6:$F$1806)","v":0},{"$f":"LOOKUP($AO68,Data!$A$6:$A$1806,Data!$G$6:$G$1806)","v":226},{"$f":"LOOKUP($AO68,Data!$A$6:$A$1806,Data!$H$6:$H$1806)","v":10},{"$f":"LOOKUP($AO68,Data!$A$6:$A$1806,Data!$I$6:$I$1806)","v":15},{"$f":"LOOKUP($AO68,Data!$A$6:$A$1806,Data!$J$6:$J$1806)","v":-103},{"$f":"LOOKUP($AO68,Data!$A$6:$A$1806,Data!$K$6:$K$1806)","v":7649.16},-32.80029296875,"T-22 sec",40098.102129629653,null,null,null,null,null,null,null,null,null,null,null,null,"T-22 sec",40098.102129629653,null,null,null,null,null,null,null,null,null,null,null,null,"T-22 sec",40098.102129629653,null,null,null,null,null,null,null,null,null,null,null,null,"T-22 sec",40098.102129629653,null,null,null,null,null,null,null,null,null,null,null,null,"T-22 sec",40098.102129629653]
["T-20 sec",40098.102152777799,{"$f":"LOOKUP(B69,Data!$A$6:$A$1806,Data!B$6:B$1806)","v":60.041000366210938},{"$f":"LOOKUP(B69,Data!$A$6:$A$1806,Data!C$6:C$1806)","v":3655.0068359375},null,null,null,-32.80029296875,-33.38004920837605,null,null,-0.27611264965090554,3642.9529555668396,null,null,null,null,null,null,null,null,null,null,null,null,0,null,null,"T-20 sec",null,null,null,null,null,null,null,null,null,null,"T-20 sec",40098.102152777799,{"$f":"LOOKUP($AO69,Data!$A$6:$A$1806,Data!$B$6:$B$1806)","v":60.041000366210938},{"$f":"LOOKUP($AO69,Data!$A$6:$A$1806,Data!$C$6:$C$1806)","v":3655.0068359375},{"$f":"LOOKUP($AO69,Data!$A$6:$A$1806,Data!$D$6:$D$1806)","v":350},{"$f":"IF($AS$1=\"+\",LOOKUP($AO69,Data!$A$6:$A$1806,Data!$E$6:$E$1806)*-1,LOOKUP($AO69,Data!$A$6:$A$1806,Data!$E$6:$E$1806))","v":165.1016845703125},{"$f":"LOOKUP($AO69,Data!$A$6:$A$1806,Data!$F$6:$F$1806)","v":0},{"$f":"LOOKUP($AO69,Data!$A$6:$A$1806,Data!$G$6:$G$1806)","v":226.5},{"$f":"LOOKUP($AO69,Data!$A$6:$A$1806,Data!$H$6:$H$1806)","v":10},{"$f":"LOOKUP($AO69,Data!$A$6:$A$1806,Data!$I$6:$I$1806)","v":15},{"$f":"LOOKUP($AO69,Data!$A$6:$A$1806,Data!$J$6:$J$1806)","v":-103},{"$f":"LOOKUP($AO69,Data!$A$6:$A$1806,Data!$K$6:$K$1806)","v":7649.49},-32.80029296875,"T-20 sec",40098.102152777799,null,null,null,null,null,null,null,null,null,null,null,null,"T-20 sec",40098.102152777799,null,null,null,null,null,null,null,null,null,null,null,null,"T-20 sec",40098.102152777799,null,null,null,null,null,null,null,null,null,null,null,null,"T-20 sec",40098.102152777799,null,null,null,null,null,null,null,null,null,null,null,null,"T-20 sec",40098.102152777799]
["T-18 sec",40098.102175925946,{"$f":"LOOKUP(B70,Data!$A$6:$A$1806,Data!B$6:B$1806)","v":60.03900146484375},{"$f":"LOOKUP(B70,Data!$A$6:$A$1806,Data!C$6:C$1806)","v":3651.874267578125},null,null,null,-31.201171875,-32.617442141694433,null,null,-0.27611264965090554,3643.4394499838704,null,null,null,null,null,null,null,null,null,null,null,null,0,null,null,"T-18 sec",null,null,null,null,null,null,null,null,null,null,"T-18 sec",40098.102175925946,{"$f":"LOOKUP($AO70,Data!$A$6:$A$1806,Data!$B$6:$B$1806)","v":60.03900146484375},{"$f":"LOOKUP($AO70,Data!$A$6:$A$1806,Data!$C$6:$C$1806)","v":3651.874267578125},{"$f":"LOOKUP($AO70,Data!$A$6:$A$1806,Data!$D$6:$D$1806)","v":350},{"$f":"IF($AS$1=\"+\",LOOKUP($AO70,Data!$A$6:$A$1806,Data!$E$6:$E$1806)*-1,LOOKUP($AO70,Data!$A$6:$A$1806,Data!$E$6:$E$1806))","v":165.1016845703125},{"$f":"LOOKUP($AO70,Data!$A$6:$A$1806,Data!$F$6:$F$1806)","v":0},{"$f":"LOOKUP($AO70,Data!$A$6:$A$1806,Data!$G$6:$G$1806)","v":227},{"$f":"LOOKUP($AO70,Data!$A$6:$A$1806,Data!$H$6:$H$1806)","v":10},{"$f":"LOOKUP($AO70,Data!$A$6:$A$1806,Data!$I$6:$I$1806)","v":15},{"$f":"LOOKUP($AO70,Data!$A$6:$A$1806,Data!$J$6:$J$1806)","v":-103},{"$f":"LOOKUP($AO70,Data!$A$6:$A$1806,Data!$K$6:$K$1806)","v":7649.82},-31.201171875,"T-18 sec",40098.102175925946,null,null,null,null,null,null,null,null,null,null,null,null,"T-18 sec",40098.102175925946,null,null,null,null,null,null,null,null,null,null,null,null,"T-18 sec",40098.102175925946,null,null,null,null,null,null,null,null,null,null,null,null,"T-18 sec",40098.102175925946,null,null,null,null,null,null,null,null,null,null,null,null,"T-18 sec",40098.102175925946]
["T-16 sec",40098.102199074092,{"$f":"LOOKUP(B71,Data!$A$6:$A$1806,Data!B$6:B$1806)","v":60.041000366210938},{"$f":"LOOKUP(B71,Data!$A$6:$A$1806,Data!C$6:C$1806)","v":3651.059326171875},{"$f":"AVERAGE($C$71:$C$78)","v":60.042125225067139},{"$f":"AVERAGE($D$71:$D$78)","v":3645.72705078125},null,{"$f":"(IF((C71-$L$2)>0,((C71-$L$2-$L$5)/(($L$4*$L$2)-$L$5)*$L$3*-1),((C71-$L$2+$L$5)/(($L$4*$L$2)-$L$5)*$L$3*-1)))","v":-32.80029296875},-32.681439931163879,null,null,-0.27611264965090554,3643.0993395447504,null,null,null,null,null,null,null,null,null,null,null,null,0,null,null,"T-16 sec",{"$f":"AVERAGE($C$71:$C$78)","v":60.042125225067139},null,null,null,null,null,null,null,null,null,"T-16 sec",40098.102199074092,{"$f":"LOOKUP($AO71,Data!$A$6:$A$1806,Data!$B$6:$B$1806)","v":60.041000366210938},{"$f":"LOOKUP($AO71,Data!$A$6:$A$1806,Data!$C$6:$C$1806)","v":3651.059326171875},{"$f":"LOOKUP($AO71,Data!$A$6:$A$1806,Data!$D$6:$D$1806)","v":350},{"$f":"IF($AS$1=\"+\",LOOKUP($AO71,Data!$A$6:$A$1806,Data!$E$6:$E$1806)*-1,LOOKUP($AO71,Data!$A$6:$A$1806,Data!$E$6:$E$1806))","v":165.1016845703125},{"$f":"LOOKUP($AO71,Data!$A$6:$A$1806,Data!$F$6:$F$1806)","v":0},{"$f":"LOOKUP($AO71,Data!$A$6:$A$1806,Data!$G$6:$G$1806)","v":227.5},{"$f":"LOOKUP($AO71,Data!$A$6:$A$1806,Data!$H$6:$H$1806)","v":10},{"$f":"LOOKUP($AO71,Data!$A$6:$A$1806,Data!$I$6:$I$1806)","v":15},{"$f":"LOOKUP($AO71,Data!$A$6:$A$1806,Data!$J$6:$J$1806)","v":-103},{"$f":"LOOKUP($AO71,Data!$A$6:$A$1806,Data!$K$6:$K$1806)","v":7650.15},-32.80029296875,"T-16 sec",40098.102199074092,{"$f":"AVERAGE($AP$71:$AP$78)","v":60.042125225067139},{"$f":"AVERAGE($AQ$71:$AQ$78)","v":3645.72705078125},{"$f":"AVERAGE($AR$71:$AR$78)","v":350},{"$f":"AVERAGE($AS$71:$AS$78)","v":165.33587837219238},{"$f":"AVERAGE($AT$71:$AT$78)","v":0},{"$f":"AVERAGE($AU$71:$AU$78)","v":229.25},{"$f":"AVERAGE($AV$71:$AV$78)","v":10},{"$f":"AVERAGE($AW$71:$AW$78)","v":15},{"$f":"AVERAGE($AX$71:$AX$78)","v":-103},{"$f":"AVERAGE($AY$71:$AY$78)","v":7651.3049999999994},{"$f":"AVERAGE($AZ$71:$AZ$78)","v":-33.700180053710938},null,"T-16 sec",40098.102199074092,{"$f":"AVERAGE($AP$71:$AP$78)","v":60.042125225067139},{"$f":"AVERAGE($AQ$71:$AQ$78)","v":3645.72705078125},{"$f":"AVERAGE($AR$71:$AR$78)","v":350},{"$f":"AVERAGE($AS$71:$AS$78)","v":165.33587837219238},{"$f":"AVERAGE($AT$71:$AT$78)","v":0},{"$f":"AVERAGE($AU$71:$AU$78)","v":229.25},{"$f":"AVERAGE($AV$71:$AV$78)","v":10},{"$f":"AVERAGE($AW$71:$AW$78)","v":15},{"$f":"AVERAGE($AX$71:$AX$78)","v":-103},{"$f":"AVERAGE($AY$71:$AY$78)","v":7651.3049999999994},{"$f":"AVERAGE($AZ$71:$AZ$78)","v":-33.700180053710938},null,"T-16 sec",40098.102199074092,{"$f":"AVERAGE($AP$71:$AP$78)","v":60.042125225067139},{"$f":"AVERAGE($AQ$71:$AQ$78)","v":3645.72705078125},{"$f":"AVERAGE($AR$71:$AR$78)","v":350},{"$f":"AVERAGE($AS$71:$AS$78)","v":165.33587837219238},{"$f":"AVERAGE($AT$71:$AT$78)","v":0},{"$f":"AVERAGE($AU$71:$AU$78)","v":229.25},{"$f":"AVERAGE($AV$71:$AV$78)","v":10},{"$f":"AVERAGE($AW$71:$AW$78)","v":15},{"$f":"AVERAGE($AX$71:$AX$78)","v":-103},{"$f":"AVERAGE($AY$71:$AY$78)","v":7651.3049999999994},{"$f":"AVERAGE($AZ$71:$AZ$78)","v":-33.700180053710938},null,"T-16 sec",40098.102199074092,{"$f":"AVERAGE($AP$71:$AP$78)","v":60.042125225067139},{"$f":"AVERAGE($AQ$71:$AQ$78)","v":3645.72705078125},{"$f":"AVERAGE($AR$71:$AR$78)","v":350},{"$f":"AVERAGE($AS$71:$AS$78)","v":165.33587837219238},{"$f":"AVERAGE($AT$71:$AT$78)","v":0},{"$f":"AVERAGE($AU$71:$AU$78)","v":229.25},{"$f":"AVERAGE($AV$71:$AV$78)","v":10},{"$f":"AVERAGE($AW$71:$AW$78)","v":15},{"$f":"AVERAGE($AX$71:$AX$78)","v":-103},{"$f":"AVERAGE($AY$71:$AY$78)","v":7651.3049999999994},{"$f":"AVERAGE($AZ$71:$AZ$78)","v":-33.700180053710938},null,"T-16 sec",40098.102199074092,{"$f":"AVERAGE($AP$71:$AP$78)","v":60.042125225067139},{"$f":"AVERAGE($AQ$71:$AQ$78)","v":3645.72705078125},{"$f":"AVERAGE($AR$71:$AR$78)","v":350},{"$f":"AVERAGE($AS$71:$AS$78)","v":165.33587837219238},{"$f":"AVERAGE($AT$71:$AT$78)","v":0},{"$f":"AVERAGE($AU$71:$AU$78)","v":229.25},{"$f":"AVERAGE($AV$71:$AV$78)","v":10},{"$f":"AVERAGE($AW$71:$AW$78)","v":15},{"$f":"AVERAGE($AX$71:$AX$78)","v":-103},{"$f":"AVERAGE($AY$71:$AY$78)","v":7651.3049999999994},{"$f":"AVERAGE($AZ$71:$AZ$78)","v":-33.700180053710938}]
["T-14 sec",40098.102222222238,{"$f":"LOOKUP(B72,Data!$A$6:$A$1806,Data!B$6:B$1806)","v":60.042999267578125},{"$f":"LOOKUP(B72,Data!$A$6:$A$1806,Data!C$6:C$1806)","v":3649.18701171875},{"$f":"AVERAGE($C$71:$C$78)","v":60.042125225067139},{"$f":"AVERAGE($D$71:$D$78)","v":3645.72705078125},null,-34.3994140625,-33.282730877131527,null,null,-0.27611264965090554,3642.2219359491319,null,null,null,null,null,null,null,null,null,null,null,null,0,null,null,"T-14 sec",{"$f":"AVERAGE($C$71:$C$78)","v":60.042125225067139},null,null,null,null,null,null,null,null,null,"T-14 sec",40098.102222222238,{"$f":"LOOKUP($AO72,Data!$A$6:$A$1806,Data!$B$6:$B$1806)","v":60.042999267578125},{"$f":"LOOKUP($AO72,Data!$A$6:$A$1806,Data!$C$6:$C$1806)","v":3649.18701171875},{"$f":"LOOKUP($AO72,Data!$A$6:$A$1806,Data!$D$6:$D$1806)","v":350},{"$f":"IF($AS$1=\"+\",LOOKUP($AO72,Data!$A$6:$A$1806,Data!$E$6:$E$1806)*-1,LOOKUP($AO72,Data!$A$6:$A$1806,Data!$E$6:$E$1806))","v":165.1016845703125},{"$f":"LOOKUP($AO72,Data!$A$6:$A$1806,Data!$F$6:$F$1806)","v":0},{"$f":"LOOKUP($AO72,Data!$A$6:$A$1806,Data!$G$6:$G$1806)","v":228},{"$f":"LOOKUP($AO72,Data!$A$6:$A$1806,Data!$H$6:$H$1806)","v":10},{"$f":"LOOKUP($AO72,Data!$A$6:$A$1806,Data!$I$6:$I$1806)","v":15},{"$f":"LOOKUP($AO72,Data!$A$6:$A$1806,Data!$J$6:$J$1806)","v":-103},{"$f":"LOOKUP($AO72,Data!$A$6:$A$1806,Data!$K$6:$K$1806)","v":7650.48},-34.3994140625,"T-14 sec",40098.102222222238,{"$f":"AVERAGE($AP$71:$AP$78)","v":60.042125225067139},{"$f":"AVERAGE($AQ$71:$AQ$78)","v":3645.72705078125},{"$f":"AVERAGE($AR$71:$AR$78)","v":350},{"$f":"AVERAGE($AS$71:$AS$78)","v":165.33587837219238},{"$f":"AVERAGE($AT$71:$AT$78)","v":0},{"$f":"AVERAGE($AU$71:$AU$78)","v":229.25},{"$f":"AVERAGE($AV$71:$AV$78)","v":10},{"$f":"AVERAGE($AW$71:$AW$78)","v":15},{"$f":"AVERAGE($AX$71:$AX$78)","v":-103},{"$f":"AVERAGE($AY$71:$AY$78)","v":7651.3049999999994},{"$f":"AVERAGE($AZ$71:$AZ$78)","v":-33.700180053710938},null,"T-14 sec",40098.102222222238,{"$f":"AVERAGE($AP$71:$AP$78)","v":60.042125225067139},{"$f":"AVERAGE($AQ$71:$AQ$78)","v":3645.72705078125},{"$f":"AVERAGE($AR$71:$AR$78)","v":350},{"$f":"AVERAGE($AS$71:$AS$78)","v":165.33587837219238},{"$f":"AVERAGE($AT$71:$AT$78)","v":0},{"$f":"AVERAGE($AU$71:$AU$78)","v":229.25},{"$f":"AVERAGE($AV$71:$AV$78)","v":10},{"$f":"AVERAGE($AW$71:$AW$78)","v":15},{"$f":"AVERAGE($AX$71:$AX$78)","v":-103},{"$f":"AVERAGE($AY$71:$AY$78)","v":7651.3049999999994},{"$f":"AVERAGE($AZ$71:$AZ$78)","v":-33.700180053710938},null,"T-14 sec",40098.102222222238,{"$f":"AVERAGE($AP$71:$AP$78)","v":60.042125225067139},{"$f":"AVERAGE($AQ$71:$AQ$78)","v":3645.72705078125},{"$f":"AVERAGE($AR$71:$AR$78)","v":350},{"$f":"AVERAGE($AS$71:$AS$78)","v":165.33587837219238},{"$f":"AVERAGE($AT$71:$AT$78)","v":0},{"$f":"AVERAGE($AU$71:$AU$78)","v":229.25},{"$f":"AVERAGE($AV$71:$AV$78)","v":10},{"$f":"AVERAGE($AW$71:$AW$78)","v":15},{"$f":"AVERAGE($AX$71:$AX$78)","v":-103},{"$f":"AVERAGE($AY$71:$AY$78)","v":7651.3049999999994},{"$f":"AVERAGE($AZ$71:$AZ$78)","v":-33.700180053710938},null,"T-14 sec",40098.102222222238,{"$f":"AVERAGE($AP$71:$AP$78)","v":60.042125225067139},{"$f":"AVERAGE($AQ$71:$AQ$78)","v":3645.72705078125},{"$f":"AVERAGE($AR$71:$AR$78)","v":350},{"$f":"AVERAGE($AS$71:$AS$78)","v":165.33587837219238},{"$f":"AVERAGE($AT$71:$AT$78)","v":0},{"$f":"AVERAGE($AU$71:$AU$78)","v":229.25},{"$f":"AVERAGE($AV$71:$AV$78)","v":10},{"$f":"AVERAGE($AW$71:$AW$78)","v":15},{"$f":"AVERAGE($AX$71:$AX$78)","v":-103},{"$f":"AVERAGE($AY$71:$AY$78)","v":7651.3049999999994},{"$f":"AVERAGE($AZ$71:$AZ$78)","v":-33.700180053710938},null,"T-14 sec",40098.102222222238,{"$f":"AVERAGE($AP$71:$AP$78)","v":60.042125225067139},{"$f":"AVERAGE($AQ$71:$AQ$78)","v":3645.72705078125},{"$f":"AVERAGE($AR$71:$AR$78)","v":350},{"$f":"AVERAGE($AS$71:$AS$78)","v":165.33587837219238},{"$f":"AVERAGE($AT$71:$AT$78)","v":0},{"$f":"AVERAGE($AU$71:$AU$78)","v":229.25},{"$f":"AVERAGE($AV$71:$AV$78)","v":10},{"$f":"AVERAGE($AW$71:$AW$78)","v":15},{"$f":"AVERAGE($AX$71:$AX$78)","v":-103},{"$f":"AVERAGE($AY$71:$AY$78)","v":7651.3049999999994},{"$f":"AVERAGE($AZ$71:$AZ$78)","v":-33.700180053710938}]
["T-12 sec",40098.102245370384,{"$f":"LOOKUP(B73,Data!$A$6:$A$1806,Data!B$6:B$1806)","v":60.044998168945313},{"$f":"LOOKUP(B73,Data!$A$6:$A$1806,Data!C$6:C$1806)","v":3648.236328125},60.042125225067139,3645.72705078125,null,-35.99853515625,-34.233262374822992,null,null,-0.27611264965090554,3640.9952918017898,null,null,null,null,null,null,null,null,null,null,null,null,0,null,null,"T-12 sec",60.042125225067139,null,null,null,null,null,null,null,null,null,"T-12 sec",40098.102245370384,{"$f":"LOOKUP($AO73,Data!$A$6:$A$1806,Data!$B$6:$B$1806)","v":60.044998168945313},{"$f":"LOOKUP($AO73,Data!$A$6:$A$1806,Data!$C$6:$C$1806)","v":3648.236328125},{"$f":"LOOKUP($AO73,Data!$A$6:$A$1806,Data!$D$6:$D$1806)","v":350},{"$f":"IF($AS$1=\"+\",LOOKUP($AO73,Data!$A$6:$A$1806,Data!$E$6:$E$1806)*-1,LOOKUP($AO73,Data!$A$6:$A$1806,Data!$E$6:$E$1806))","v":165.1016845703125},{"$f":"LOOKUP($AO73,Data!$A$6:$A$1806,Data!$F$6:$F$1806)","v":0},{"$f":"LOOKUP($AO73,Data!$A$6:$A$1806,Data!$G$6:$G$1806)","v":228.5},{"$f":"LOOKUP($AO73,Data!$A$6:$A$1806,Data!$H$6:$H$1806)","v":10},{"$f":"LOOKUP($AO73,Data!$A$6:$A$1806,Data!$I$6:$I$1806)","v":15},{"$f":"LOOKUP($AO73,Data!$A$6:$A$1806,Data!$J$6:$J$1806)","v":-103},{"$f":"LOOKUP($AO73,Data!$A$6:$A$1806,Data!$K$6:$K$1806)","v":7650.81},-35.99853515625,"T-12 sec",40098.102245370384,60.042125225067139,3645.72705078125,350,165.33587837219238,0,229.25,10,15,-103,7651.3049999999994,-33.700180053710938,null,"T-12 sec",40098.102245370384,60.042125225067139,3645.72705078125,350,165.33587837219238,0,229.25,10,15,-103,7651.3049999999994,-33.700180053710938,null,"T-12 sec",40098.102245370384,60.042125225067139,3645.72705078125,350,165.33587837219238,0,229.25,10,15,-103,7651.3049999999994,-33.700180053710938,null,"T-12 sec",40098.102245370384,60.042125225067139,3645.72705078125,350,165.33587837219238,0,229.25,10,15,-103,7651.3049999999994,-33.700180053710938,null,"T-12 sec",40098.102245370384,60.042125225067139,3645.72705078125,350,165.33587837219238,0,229.25,10,15,-103,7651.3049999999994,-33.700180053710938]
["T-10 sec",40098.102268518531,{"$f":"LOOKUP(B74,Data!$A$6:$A$1806,Data!B$6:B$1806)","v":60.046001434326172},{"$f":"LOOKUP(B74,Data!$A$6:$A$1806,Data!C$6:C$1806)","v":3645.386962890625},60.042125225067139,3645.72705078125,null,-36.8011474609375,-35.132022154963067,null,null,-0.27611264965090554,3639.8204193719989,null,null,null,null,null,null,null,null,null,null,null,null,0,null,null,"T-10 sec",60.042125225067139,null,null,null,null,null,null,null,null,null,"T-10 sec",40098.102268518531,{"$f":"LOOKUP($AO74,Data!$A$6:$A$1806,Data!$B$6:$B$1806)","v":60.046001434326172},{"$f":"LOOKUP($AO74,Data!$A$6:$A$1806,Data!$C$6:$C$1806)","v":3645.386962890625},{"$f":"LOOKUP($AO74,Data!$A$6:$A$1806,Data!$D$6:$D$1806)","v":350},{"$f":"IF($AS$1=\"+\",LOOKUP($AO74,Data!$A$6:$A$1806,Data!$E$6:$E$1806)*-1,LOOKUP($AO74,Data!$A$6:$A$1806,Data!$E$6:$E$1806))","v":165.47639465332031},{"$f":"LOOKUP($AO74,Data!$A$6:$A$1806,Data!$F$6:$F$1806)","v":0},{"$f":"LOOKUP($AO74,Data!$A$6:$A$1806,Data!$G$6:$G$1806)","v":229},{"$f":"LOOKUP($AO74,Data!$A$6:$A$1806,Data!$H$6:$H$1806)","v":10},{"$f":"LOOKUP($AO74,Data!$A$6:$A$1806,Data!$I$6:$I$1806)","v":15},{"$f":"LOOKUP($AO74,Data!$A$6:$A$1806,Data!$J$6:$J$1806)","v":-103},{"$f":"LOOKUP($AO74,Data!$A$6:$A$1806,Data!$K$6:$K$1806)","v":7651.14},-36.8011474609375,"T-10 sec",40098.102268518531,60.042125225067139,3645.72705078125,350,165.33587837219238,0,229.25,10,15,-103,7651.3049999999994,-33.700180053710938,null,"T-10 sec",40098.102268518531,60.042125225067139,3645.72705078125,350,165.33587837219238,0,229.25,10,15,-103,7651.3049999999994,-33.700180053710938,null,"T-10 sec",40098.102268518531,60.042125225067139,3645.72705078125,350,165.33587837219238,0,229.25,10,15,-103,7651.3049999999994,-33.700180053710938,null,"T-10 sec",40098.102268518531,60.042125225067139,3645.72705078125,350,165.33587837219238,0,229.25,10,15,-103,7651.3049999999994,-33.700180053710938,null,"T-10 sec",40098.102268518531,60.042125225067139,3645.72705078125,350,165.33587837219238,0,229.25,10,15,-103,7651.3049999999994,-33.700180053710938]
["T-08 sec",40098.102291666677,{"$f":"LOOKUP(B75,Data!$A$6:$A$1806,Data!B$6:B$1806)","v":60.041000366210938},{"$f":"LOOKUP(B75,Data!$A$6:$A$1806,Data!C$6:C$1806)","v":3644.627685546875},60.042125225067139,3645.72705078125,null,-32.80029296875,-34.315916939788494,null,null,-0.27611264965090554,3640.3604119375227,null,null,null,null,null,null,null,null,null,null,null,null,0,null,null,"T-08 sec",60.042125225067139,null,null,null,null,null,null,null,null,null,"T-08 sec",40098.102291666677,{"$f":"LOOKUP($AO75,Data!$A$6:$A$1806,Data!$B$6:$B$1806)","v":60.041000366210938},{"$f":"LOOKUP($AO75,Data!$A$6:$A$1806,Data!$C$6:$C$1806)","v":3644.627685546875},{"$f":"LOOKUP($AO75,Data!$A$6:$A$1806,Data!$D$6:$D$1806)","v":350},{"$f":"IF($AS$1=\"+\",LOOKUP($AO75,Data!$A$6:$A$1806,Data!$E$6:$E$1806)*-1,LOOKUP($AO75,Data!$A$6:$A$1806,Data!$E$6:$E$1806))","v":165.47639465332031},{"$f":"LOOKUP($AO75,Data!$A$6:$A$1806,Data!$F$6:$F$1806)","v":0},{"$f":"LOOKUP($AO75,Data!$A$6:$A$1806,Data!$G$6:$G$1806)","v":229.5},{"$f":"LOOKUP($AO75,Data!$A$6:$A$1806,Data!$H$6:$H$1806)","v":10},{"$f":"LOOKUP($AO75,Data!$A$6:$A$1806,Data!$I$6:$I$1806)","v":15},{"$f":"LOOKUP($AO75,Data!$A$6:$A$1806,Data!$J$6:$J$1806)","v":-103},{"$f":"LOOKUP($AO75,Data!$A$6:$A$1806,Data!$K$6:$K$1806)","v":7651.47},-32.80029296875,"T-08 sec",40098.102291666677,60.042125225067139,3645.72705078125,350,165.33587837219238,0,229.25,10,15,-103,7651.3049999999994,-33.700180053710938,null,"T-08 sec",40098.102291666677,60.042125225067139,3645.72705078125,350,165.33587837219238,0,229.25,10,15,-103,7651.3049999999994,-33.700180053710938,null,"T-08 sec",40098.102291666677,60.042125225067139,3645.72705078125,350,165.33587837219238,0,229.25,10,15,-103,7651.3049999999994,-33.700180053710938,null,"T-08 sec",40098.102291666677,60.042125225067139,3645.72705078125,350,165.33587837219238,0,229.25,10,15,-103,7651.3049999999994,-33.700180053710938,null,"T-08 sec",40098.102291666677,60.042125225067139,3645.72705078125,350,165.33587837219238,0,229.25,10,15,-103,7651.3049999999994,-33.700180053710938]
["T-06 sec",40098.102314814823,{"$f":"LOOKUP(B76,Data!$A$6:$A$1806,Data!B$6:B$1806)","v":60.041000366210938},{"$f":"LOOKUP(B76,Data!$A$6:$A$1806,Data!C$6:C$1806)","v":3645.44580078125},60.042125225067139,3645.72705078125,null,-32.80029296875,-33.785448549925022,null,null,-0.27611264965090554,3640.6147676777355,null,null,null,null,null,null,null,null,null,null,null,null,0,null,null,"T-06 sec",60.042125225067139,null,null,null,null,null,null,null,null,null,"T-06 sec",40098.102314814823,{"$f":"LOOKUP($AO76,Data!$A$6:$A$1806,Data!$B$6:$B$1806)","v":60.041000366210938},{"$f":"LOOKUP($AO76,Data!$A$6:$A$1806,Data!$C$6:$C$1806)","v":3645.44580078125},{"$f":"LOOKUP($AO76,Data!$A$6:$A$1806,Data!$D$6:$D$1806)","v":350},{"$f":"IF($AS$1=\"+\",LOOKUP($AO76,Data!$A$6:$A$1806,Data!$E$6:$E$1806)*-1,LOOKUP($AO76,Data!$A$6:$A$1806,Data!$E$6:$E$1806))","v":165.47639465332031},{"$f":"LOOKUP($AO76,Data!$A$6:$A$1806,Data!$F$6:$F$1806)","v":0},{"$f":"LOOKUP($AO76,Data!$A$6:$A$1806,Data!$G$6:$G$1806)","v":230},{"$f":"LOOKUP($AO76,Data!$A$6:$A$1806,Data!$H$6:$H$1806)","v":10},{"$f":"LOOKUP($AO76,Data!$A$6:$A$1806,Data!$I$6:$I$1806)","v":15},{"$f":"LOOKUP($AO76,Data!$A$6:$A$1806,Data!$J$6:$J$1806)","v":-103},{"$f":"LOOKUP($AO76,Data!$A$6:$A$1806,Data!$K$6:$K$1806)","v":7651.8},-32.80029296875,"T-06 sec",40098.102314814823,60.042125225067139,3645.72705078125,350,165.33587837219238,0,229.25,10,15,-103,7651.3049999999994,-33.700180053710938,null,"T-06 sec",40098.102314814823,60.042125225067139,3645.72705078125,350,165.33587837219238,0,229.25,10,15,-103,7651.3049999999994,-33.700180053710938,null,"T-06 sec",40098.102314814823,60.042125225067139,3645.72705078125,350,165.33587837219238,0,229.25,10,15,-103,7651.3049999999994,-33.700180053710938,null,"T-06 sec",40098.102314814823,60.042125225067139,3645.72705078125,350,165.33587837219238,0,229.25,10,15,-103,7651.3049999999994,-33.700180053710938,null,"T-06 sec",40098.102314814823,60.042125225067139,3645.72705078125,350,165.33587837219238,0,229.25,10,15,-103,7651.3049999999994,-33.700180053710938]
["T-04 sec",40098.10233796297,{"$f":"LOOKUP(B77,Data!$A$6:$A$1806,Data!B$6:B$1806)","v":60.041000366210938},{"$f":"LOOKUP(B77,Data!$A$6:$A$1806,Data!C$6:C$1806)","v":3640.68212890625},60.042125225067139,3645.72705078125,null,-32.80029296875,-33.440644096513765,null,null,-0.27611264965090554,3640.6834594814959,null,null,null,null,null,null,null,null,null,null,null,null,0,null,null,"T-04 sec",60.042125225067139,null,null,null,null,null,null,null,null,null,"T-04 sec",40098.10233796297,{"$f":"LOOKUP($AO77,Data!$A$6:$A$1806,Data!$B$6:$B$1806)","v":60.041000366210938},{"$f":"LOOKUP($AO77,Data!$A$6:$A$1806,Data!$C$6:$C$1806)","v":3640.68212890625},{"$f":"LOOKUP($AO77,Data!$A$6:$A$1806,Data!$D$6:$D$1806)","v":350},{"$f":"IF($AS$1=\"+\",LOOKUP($AO77,Data!$A$6:$A$1806,Data!$E$6:$E$1806)*-1,LOOKUP($AO77,Data!$A$6:$A$1806,Data!$E$6:$E$1806))","v":165.47639465332031},{"$f":"LOOKUP($AO77,Data!$A$6:$A$1806,Data!$F$6:$F$1806)","v":0},{"$f":"LOOKUP($AO77,Data!$A$6:$A$1806,Data!$G$6:$G$1806)","v":230.5},{"$f":"LOOKUP($AO77,Data!$A$6:$A$1806,Data!$H$6:$H$1806)","v":10},{"$f":"LOOKUP($AO77,Data!$A$6:$A$1806,Data!$I$6:$I$1806)","v":15},{"$f":"LOOKUP($AO77,Data!$A$6:$A$1806,Data!$J$6:$J$1806)","v":-103},{"$f":"LOOKUP($AO77,Data!$A$6:$A$1806,Data!$K$6:$K$1806)","v":7652.13},-32.80029296875,"T-04 sec",40098.10233796297,60.042125225067139,3645.72705078125,350,165.33587837219238,0,229.25,10,15,-103,7651.3049999999994,-33.700180053710938,null,"T-04 sec",40098.10233796297,60.042125225067139,3645.72705078125,350,165.33587837219238,0,229.25,10,15,-103,7651.3049999999994,-33.700180053710938,null,"T-04 sec",40098.10233796297,60.042125225067139,3645.72705078125,350,165.33587837219238,0,229.25,10,15,-103,7651.3049999999994,-33.700180053710938,null,"T-04 sec",40098.10233796297,60.042125225067139,3645.72705078125,350,165.33587837219238,0,229.25,10,15,-103,7651.3049999999994,-33.700180053710938,null,"T-04 sec",40098.10233796297,60.042125225067139,3645.72705078125,350,165.33587837219238,0,229.25,10,15,-103,7651.3049999999994,-33.700180053710938]
["T-02 sec",{"$f":"B79-TIME(0,0,$B$1)","v":40098.102361111116},{"$f":"LOOKUP(B78,Data!$A$6:$A$1806,Data!B$6:B$1806)","v":60.03900146484375},{"$f":"LOOKUP(B78,Data!$A$6:$A$1806,Data!C$6:C$1806)","v":3641.191162109375},60.042125225067139,3645.72705078125,null,-31.201171875,-32.656828818983946,null,null,-0.27611264965090554,{"$f":"D78","v":3641.191162109375},null,null,null,null,null,null,null,null,null,null,null,null,0,null,null,"T-02 sec",60.042125225067139,null,null,null,null,null,null,null,null,null,"T-02 sec",{"$f":"AO79-TIME(0,0,$B$1)","v":40098.102361111116},{"$f":"LOOKUP($AO78,Data!$A$6:$A$1806,Data!$B$6:$B$1806)","v":60.03900146484375},{"$f":"LOOKUP($AO78,Data!$A$6:$A$1806,Data!$C$6:$C$1806)","v":3641.191162109375},{"$f":"LOOKUP($AO78,Data!$A$6:$A$1806,Data!$D$6:$D$1806)","v":350},{"$f":"IF($AS$1=\"+\",LOOKUP($AO78,Data!$A$6:$A$1806,Data!$E$6:$E$1806)*-1,LOOKUP($AO78,Data!$A$6:$A$1806,Data!$E$6:$E$1806))","v":165.47639465332031},{"$f":"LOOKUP($AO78,Data!$A$6:$A$1806,Data!$F$6:$F$1806)","v":0},{"$f":"LOOKUP($AO78,Data!$A$6:$A$1806,Data!$G$6:$G$1806)","v":231},{"$f":"LOOKUP($AO78,Data!$A$6:$A$1806,Data!$H$6:$H$1806)","v":10},{"$f":"LOOKUP($AO78,Data!$A$6:$A$1806,Data!$I$6:$I$1806)","v":15},{"$f":"LOOKUP($AO78,Data!$A$6:$A$1806,Data!$J$6:$J$1806)","v":-103},{"$f":"LOOKUP($AO78,Data!$A$6:$A$1806,Data!$K$6:$K$1806)","v":7652.46},-31.201171875,"T-02 sec",{"$f":"BB79-TIME(0,0,$B$1)","v":40098.102361111116},60.042125225067139,3645.72705078125,350,165.33587837219238,0,229.25,10,15,-103,7651.3049999999994,-33.700180053710938,null,"T-02 sec",{"$f":"BP79-TIME(0,0,$B$1)","v":40098.102361111116},60.042125225067139,3645.72705078125,350,165.33587837219238,0,229.25,10,15,-103,7651.3049999999994,-33.700180053710938,null,"T-02 sec",{"$f":"CD79-TIME(0,0,$B$1)","v":40098.102361111116},60.042125225067139,3645.72705078125,350,165.33587837219238,0,229.25,10,15,-103,7651.3049999999994,-33.700180053710938,null,"T-02 sec",{"$f":"CR79-TIME(0,0,$B$1)","v":40098.102361111116},60.042125225067139,3645.72705078125,350,165.33587837219238,0,229.25,10,15,-103,7651.3049999999994,-33.700180053710938,null,"T-02 sec",{"$f":"DF79-TIME(0,0,$B$1)","v":40098.102361111116},60.042125225067139,3645.72705078125,350,165.33587837219238,0,229.25,10,15,-103,7651.3049999999994,-33.700180053710938]
["T+0 sec",{"$f":"G2","v":40098.102384259262},{"$f":"LOOKUP(B79,Data!$A$6:$A$1806,Data!B$6:B$1806)","v":59.978000640869141},{"$f":"LOOKUP(B79,Data!$A$6:$A$1806,Data!C$6:C$1806)","v":3659.46484375},null,null,null,17.5994873046875,-15.067118175698941,null,null,0,{"$f":"M78+L79+(I79-I78)","v":3658.7808727526599},null,null,null,null,{"$f":"R$41","v":633},null,null,null,null,null,null,null,633,{"$f":"Z79/((C79-G$4)*10)","v":-987.14090378423396},null,"T+0 sec",null,null,null,null,null,null,null,null,null,null,"T+0 sec",{"$f":"$G2","v":40098.102384259262},{"$f":"LOOKUP($AO79,Data!$A$6:$A$1806,Data!$B$6:$B$1806)","v":59.978000640869141},{"$f":"LOOKUP($AO79,Data!$A$6:$A$1806,Data!$C$6:$C$1806)","v":3659.46484375},{"$f":"LOOKUP($AO79,Data!$A$6:$A$1806,Data!$D$6:$D$1806)","v":350},{"$f":"IF($AS$1=\"+\",LOOKUP($AO79,Data!$A$6:$A$1806,Data!$E$6:$E$1806)*-1,LOOKUP($AO79,Data!$A$6:$A$1806,Data!$E$6:$E$1806))","v":206.4591064453125},{"$f":"LOOKUP($AO79,Data!$A$6:$A$1806,Data!$F$6:$F$1806)","v":0},{"$f":"LOOKUP($AO79,Data!$A$6:$A$1806,Data!$G$6:$G$1806)","v":231.5},{"$f":"LOOKUP($AO79,Data!$A$6:$A$1806,Data!$H$6:$H$1806)","v":10},{"$f":"LOOKUP($AO79,Data!$A$6:$A$1806,Data!$I$6:$I$1806)","v":15},{"$f":"LOOKUP($AO79,Data!$A$6:$A$1806,Data!$J$6:$J$1806)","v":-103},{"$f":"LOOKUP($AO79,Data!$A$6:$A$1806,Data!$K$6:$K$1806)","v":7652.79},17.5994873046875,"T+0 sec",{"$f":"$G2","v":40098.102384259262},null,null,null,null,null,null,null,null,null,null,null,null,"T+0 sec",{"$f":"$G2","v":40098.102384259262},null,null,null,null,null,null,null,null,null,null,null,null,"T+0 sec",{"$f":"$G2","v":40098.102384259262},null,null,null,null,null,null,null,null,null,null,null,null,"T+0 sec",{"$f":"$G2","v":40098.102384259262},null,null,null,null,null,null,null,null,null,null,null,null,"T+0 sec",{"$f":"$G2","v":40098.102384259262}]
["T+02 sec",{"$f":"B79+TIME(0,0,$B$1)","v":40098.102407407408},{"$f":"LOOKUP(B80,Data!$A$6:$A$1806,Data!B$6:B$1806)","v":59.852001190185547},{"$f":"LOOKUP(B80,Data!$A$6:$A$1806,Data!C$6:C$1806)","v":3696.3623046875},null,null,null,118.3990478515625,31.646039933842566,null,null,{"$f":"IF(B80>G$3,0,(K$21*0.000023148/K$22))","v":0.56196009855523055},{"$f":"M79+L80+(I80-I79)","v":3706.0559909607564},{"$f":"AVERAGE(D$79:D80)","v":3677.91357421875},{"$f":"AVERAGE(M$79:M80)","v":3682.4184318567081},{"$f":"K20+L78-I77","v":3673.8466603531128},{"$f":"AVERAGE(P$79:P80)","v":3673.8466603531128},{"$f":"R$41","v":633},null,null,null,null,null,null,null,633,{"$f":"Z80/((C80-G$4)*10)","v":-332.94054609888167},null,"T+02 sec",null,null,null,null,null,null,null,null,null,null,"T+02 sec",{"$f":"AO79+TIME(0,0,$B$1)","v":40098.102407407408},{"$f":"LOOKUP($AO80,Data!$A$6:$A$1806,Data!$B$6:$B$1806)","v":59.852001190185547},{"$f":"LOOKUP($AO80,Data!$A$6:$A$1806,Data!$C$6:$C$1806)","v":3696.3623046875},{"$f":"LOOKUP($AO80,Data!$A$6:$A$1806,Data!$D$6:$D$1806)","v":350},{"$f":"IF($AS$1=\"+\",LOOKUP($AO80,Data!$A$6:$A$1806,Data!$E$6:$E$1806)*-1,LOOKUP($AO80,Data!$A$6:$A$1806,Data!$E$6:$E$1806))","v":206.4591064453125},{"$f":"LOOKUP($AO80,Data!$A$6:$A$1806,Data!$F$6:$F$1806)","v":0},{"$f":"LOOKUP($AO80,Data!$A$6:$A$1806,Data!$G$6:$G$1806)","v":232},{"$f":"LOOKUP($AO80,Data!$A$6:$A$1806,Data!$H$6:$H$1806)","v":10},{"$f":"LOOKUP($AO80,Data!$A$6:$A$1806,Data!$I$6:$I$1806)","v":0},{"$f":"LOOKUP($AO80,Data!$A$6:$A$1806,Data!$J$6:$J$1806)","v":-103},{"$f":"LOOKUP($AO80,Data!$A$6:$A$1806,Data!$K$6:$K$1806)","v":7616},118.3990478515625,"T+02 sec",{"$f":"BB79+TIME(0,0,$B$1)","v":40098.102407407408},null,null,null,null,null,null,null,null,null,null,null,null,"T+02 sec",{"$f":"BP79+TIME(0,0,$B$1)","v":40098.102407407408},null,null,null,null,null,null,null,null,null,null,null,null,"T+02 sec",{"$f":"CD79+TIME(0,0,$B$1)","v":40098.102407407408},null,null,null,null,null,null,null,null,null,null,null,null,"T+02 sec",{"$f":"CR79+TIME(0,0,$B$1)","v":40098.102407407408},null,null,null,null,null,null,null,null,null,null,null,null,"T+02 sec",{"$f":"DF79+TIME(0,0,$B$1)","v":40098.102407407408}]
["T+04 sec",{"$f":"B80+TIME(0,0,$B$1)","v":40098.102430555555},{"$f":"LOOKUP(B81,Data!$A$6:$A$1806,Data!B$6:B$1806)","v":59.83599853515625},{"$f":"LOOKUP(B81,Data!$A$6:$A$1806,Data!C$6:C$1806)","v":3734.904296875},null,null,null,131.201171875,66.490336113247665,null,null,0.56196009855523055,3741.4622472387168,{"$f":"AVERAGE(D$79:D81)","v":3696.9104817708335},{"$f":"AVERAGE(M$79:M81)","v":3702.099703650711},{"$f":"P80+L81","v":3674.408620451668},{"$f":"AVERAGE(P$79:P81)","v":3674.1276404023902},{"$f":"R$41","v":633},null,null,null,null,null,null,null,633,-307.09269152561194,null,"T+04 sec",null,null,null,null,null,null,null,null,null,null,"T+04 sec",{"$f":"AO80+TIME(0,0,$B$1)","v":40098.102430555555},{"$f":"LOOKUP($AO81,Data!$A$6:$A$1806,Data!$B$6:$B$1806)","v":59.83599853515625},{"$f":"LOOKUP($AO81,Data!$A$6:$A$1806,Data!$C$6:$C$1806)","v":3734.904296875},{"$f":"LOOKUP($AO81,Data!$A$6:$A$1806,Data!$D$6:$D$1806)","v":335},{"$f":"IF($AS$1=\"+\",LOOKUP($AO81,Data!$A$6:$A$1806,Data!$E$6:$E$1806)*-1,LOOKUP($AO81,Data!$A$6:$A$1806,Data!$E$6:$E$1806))","v":206.4591064453125},{"$f":"LOOKUP($AO81,Data!$A$6:$A$1806,Data!$F$6:$F$1806)","v":0},{"$f":"LOOKUP($AO81,Data!$A$6:$A$1806,Data!$G$6:$G$1806)","v":232.5},{"$f":"LOOKUP($AO81,Data!$A$6:$A$1806,Data!$H$6:$H$1806)","v":10},{"$f":"LOOKUP($AO81,Data!$A$6:$A$1806,Data!$I$6:$I$1806)","v":0},{"$f":"LOOKUP($AO81,Data!$A$6:$A$1806,Data!$J$6:$J$1806)","v":-103},{"$f":"LOOKUP($AO81,Data!$A$6:$A$1806,Data!$K$6:$K$1806)","v":7626},131.201171875,"T+04 sec",{"$f":"BB80+TIME(0,0,$B$1)","v":40098.102430555555},null,null,null,null,null,null,null,null,null,null,null,null,"T+04 sec",{"$f":"BP80+TIME(0,0,$B$1)","v":40098.102430555555},null,null,null,null,null,null,null,null,null,null,null,null,"T+04 sec",{"$f":"CD80+TIME(0,0,$B$1)","v":40098.102430555555},null,null,null,null,null,null,null,null,null,null,null,null,"T+04 sec",{"$f":"CR80+TIME(0,0,$B$1)","v":40098.102430555555},null,null,null,null,null,null,null,null,null,null,null,null,"T+04 sec",{"$f":"DF80+TIME(0,0,$B$1)","v":40098.102430555555}]
["T+06 sec",40098.102453703701,{"$f":"LOOKUP(B82,Data!$A$6:$A$1806,Data!B$6:B$1806)","v":59.868999481201172},{"$f":"LOOKUP(B82,Data!$A$6:$A$1806,Data!C$6:C$1806)","v":3734.672607421875},null,null,null,104.8004150390625,79.898863737282852,null,null,0.56196009855523055,3755.4327349613072,{"$f":"AVERAGE(D$79:D82)","v":3706.3510131835937},{"$f":"AVERAGE(M$79:M82)","v":3715.4329614783601},{"$f":"P81+L82","v":3674.9705805502231},{"$f":"AVERAGE(P$79:P82)","v":3674.408620451668},633,null,null,null,null,null,null,0,633,-365.63019795026315,null,"T+06 sec",null,null,null,null,null,null,null,null,null,null,"T+06 sec",40098.102453703701,{"$f":"LOOKUP($AO82,Data!$A$6:$A$1806,Data!$B$6:$B$1806)","v":59.868999481201172},{"$f":"LOOKUP($AO82,Data!$A$6:$A$1806,Data!$C$6:$C$1806)","v":3734.672607421875},{"$f":"LOOKUP($AO82,Data!$A$6:$A$1806,Data!$D$6:$D$1806)","v":335},{"$f":"IF($AS$1=\"+\",LOOKUP($AO82,Data!$A$6:$A$1806,Data!$E$6:$E$1806)*-1,LOOKUP($AO82,Data!$A$6:$A$1806,Data!$E$6:$E$1806))","v":206.4591064453125},{"$f":"LOOKUP($AO82,Data!$A$6:$A$1806,Data!$F$6:$F$1806)","v":0},{"$f":"LOOKUP($AO82,Data!$A$6:$A$1806,Data!$G$6:$G$1806)","v":233},{"$f":"LOOKUP($AO82,Data!$A$6:$A$1806,Data!$H$6:$H$1806)","v":10},{"$f":"LOOKUP($AO82,Data!$A$6:$A$1806,Data!$I$6:$I$1806)","v":0},{"$f":"LOOKUP($AO82,Data!$A$6:$A$1806,Data!$J$6:$J$1806)","v":-103},{"$f":"LOOKUP($AO82,Data!$A$6:$A$1806,Data!$K$6:$K$1806)","v":7632},104.8004150390625,"T+06 sec",40098.102453703701,null,null,null,null,null,null,null,null,null,null,null,null,"T+06 sec",40098.102453703701,null,null,null,null,null,null,null,null,null,null,null,null,"T+06 sec",40098.102453703701,null,null,null,null,null,null,null,null,null,null,null,null,"T+06 sec",40098.102453703701,null,null,null,null,null,null,null,null,null,null,null,null,"T+06 sec",40098.102453703701]
["T+08 sec",40098.102476851847,{"$f":"LOOKUP(B83,Data!$A$6:$A$1806,Data!B$6:B$1806)","v":59.868999481201172},{"$f":"LOOKUP(B83,Data!$A$6:$A$1806,Data!C$6:C$1806)","v":3734.672607421875},null,null,null,104.8004150390625,88.614406692905732,null,null,0.56196009855523055,3764.7102380154852,{"$f":"AVERAGE(D$79:D83)","v":3712.0153320312502},{"$f":"AVERAGE(M$79:M83)","v":3725.2884167857856},3675.5325406487782,{"$f":"AVERAGE(P$79:P83)","v":3674.6896005009457},633,null,null,null,null,null,null,0,633,-365.63019795026315,null,"T+08 sec",null,null,null,null,null,null,null,null,null,null,"T+08 sec",40098.102476851847,{"$f":"LOOKUP($AO83,Data!$A$6:$A$1806,Data!$B$6:$B$1806)","v":59.868999481201172},{"$f":"LOOKUP($AO83,Data!$A$6:$A$1806,Data!$C$6:$C$1806)","v":3734.672607421875},{"$f":"LOOKUP($AO83,Data!$A$6:$A$1806,Data!$D$6:$D$1806)","v":335},{"$f":"IF($AS$1=\"+\",LOOKUP($AO83,Data!$A$6:$A$1806,Data!$E$6:$E$1806)*-1,LOOKUP($AO83,Data!$A$6:$A$1806,Data!$E$6:$E$1806))","v":206.4591064453125},{"$f":"LOOKUP($AO83,Data!$A$6:$A$1806,Data!$F$6:$F$1806)","v":0},{"$f":"LOOKUP($AO83,Data!$A$6:$A$1806,Data!$G$6:$G$1806)","v":233},{"$f":"LOOKUP($AO83,Data!$A$6:$A$1806,Data!$H$6:$H$1806)","v":10},{"$f":"LOOKUP($AO83,Data!$A$6:$A$1806,Data!$I$6:$I$1806)","v":0},{"$f":"LOOKUP($AO83,Data!$A$6:$A$1806,Data!$J$6:$J$1806)","v":-103},{"$f":"LOOKUP($AO83,Data!$A$6:$A$1806,Data!$K$6:$K$1806)","v":7632},104.8004150390625,"T+08 sec",40098.102476851847,null,null,null,null,null,null,null,null,null,null,null,null,"T+08 sec",40098.102476851847,null,null,null,null,null,null,null,null,null,null,null,null,"T+08 sec",40098.102476851847,null,null,null,null,null,null,null,null,null,null,null,null,"T+08 sec",40098.102476851847,null,null,null,null,null,null,null,null,null,null,null,null,"T+08 sec",40098.102476851847]
["T+10 sec",40098.102499999994,{"$f":"LOOKUP(B84,Data!$A$6:$A$1806,Data!B$6:B$1806)","v":59.891998291015625},{"$f":"LOOKUP(B84,Data!$A$6:$A$1806,Data!C$6:C$1806)","v":3737.15673828125},null,null,null,86.4013671875,87.839842866013726,null,null,0.56196009855523055,3764.4976342871482,{"$f":"AVERAGE(D$79:D84)","v":3716.20556640625},{"$f":"AVERAGE(M$79:M84)","v":3731.8232863693461},3676.0945007473333,{"$f":"AVERAGE(P$79:P84)","v":3674.9705805502235},633,null,null,null,null,null,null,0,633,-421.6431941404972,null,"T+10 sec",null,null,null,null,null,null,null,null,null,null,"T+10 sec",40098.102499999994,{"$f":"LOOKUP($AO84,Data!$A$6:$A$1806,Data!$B$6:$B$1806)","v":59.891998291015625},{"$f":"LOOKUP($AO84,Data!$A$6:$A$1806,Data!$C$6:$C$1806)","v":3737.15673828125},{"$f":"LOOKUP($AO84,Data!$A$6:$A$1806,Data!$D$6:$D$1806)","v":335},{"$f":"IF($AS$1=\"+\",LOOKUP($AO84,Data!$A$6:$A$1806,Data!$E$6:$E$1806)*-1,LOOKUP($AO84,Data!$A$6:$A$1806,Data!$E$6:$E$1806))","v":206.4591064453125},{"$f":"LOOKUP($AO84,Data!$A$6:$A$1806,Data!$F$6:$F$1806)","v":0},{"$f":"LOOKUP($AO84,Data!$A$6:$A$1806,Data!$G$6:$G$1806)","v":233.5},{"$f":"LOOKUP($AO84,Data!$A$6:$A$1806,Data!$H$6:$H$1806)","v":10},{"$f":"LOOKUP($AO84,Data!$A$6:$A$1806,Data!$I$6:$I$1806)","v":0},{"$f":"LOOKUP($AO84,Data!$A$6:$A$1806,Data!$J$6:$J$1806)","v":-103},{"$f":"LOOKUP($AO84,Data!$A$6:$A$1806,Data!$K$6:$K$1806)","v":7632},86.4013671875,"T+10 sec",40098.102499999994,null,null,null,null,null,null,null,null,null,null,null,null,"T+10 sec",40098.102499999994,null,null,null,null,null,null,null,null,null,null,null,null,"T+10 sec",40098.102499999994,null,null,null,null,null,null,null,null,null,null,null,null,"T+10 sec",40098.102499999994,null,null,null,null,null,null,null,null,null,null,null,null,"T+10 sec",40098.102499999994]
["T+12 sec",40098.10252314814,{"$f":"LOOKUP(B85,Data!$A$6:$A$1806,Data!B$6:B$1806)","v":59.890998840332031},{"$f":"LOOKUP(B85,Data!$A$6:$A$1806,Data!C$6:C$1806)","v":3761.24951171875},null,null,null,87.200927734375,87.616222569940163,null,null,0.56196009855523055,3764.8359740896299,{"$f":"AVERAGE(D$79:D85)","v":3722.6404157366073},{"$f":"AVERAGE(M$79:M85)","v":3736.539384615101},3676.6564608458884,{"$f":"AVERAGE(P$79:P85)","v":3675.2515605995009},633,null,null,null,null,null,null,0,633,-418.85472289270672,null,"T+12 sec",{"$f":"AVERAGE($C$85:$C$91)","v":59.88257162911551},{"$f":"AVERAGE($AA$85:$AA$91)","v":-397.19960544267985},null,null,null,null,null,null,null,null,"T+12 sec",40098.10252314814,{"$f":"LOOKUP($AO85,Data!$A$6:$A$1806,Data!$B$6:$B$1806)","v":59.890998840332031},{"$f":"LOOKUP($AO85,Data!$A$6:$A$1806,Data!$C$6:$C$1806)","v":3761.24951171875},{"$f":"LOOKUP($AO85,Data!$A$6:$A$1806,Data!$D$6:$D$1806)","v":335},{"$f":"IF($AS$1=\"+\",LOOKUP($AO85,Data!$A$6:$A$1806,Data!$E$6:$E$1806)*-1,LOOKUP($AO85,Data!$A$6:$A$1806,Data!$E$6:$E$1806))","v":211.25604248046875},{"$f":"LOOKUP($AO85,Data!$A$6:$A$1806,Data!$F$6:$F$1806)","v":0},{"$f":"LOOKUP($AO85,Data!$A$6:$A$1806,Data!$G$6:$G$1806)","v":234},{"$f":"LOOKUP($AO85,Data!$A$6:$A$1806,Data!$H$6:$H$1806)","v":10},{"$f":"LOOKUP($AO85,Data!$A$6:$A$1806,Data!$I$6:$I$1806)","v":0},{"$f":"LOOKUP($AO85,Data!$A$6:$A$1806,Data!$J$6:$J$1806)","v":-103},{"$f":"LOOKUP($AO85,Data!$A$6:$A$1806,Data!$K$6:$K$1806)","v":7632},87.200927734375,"T+12 sec",40098.10252314814,{"$f":"AVERAGE($AP$85:$AP$91)","v":59.88257162911551},{"$f":"AVERAGE($AQ$85:$AQ$91)","v":3770.6529715401784},{"$f":"AVERAGE($AR$85:$AR$91)","v":335},{"$f":"AVERAGE($AS$85:$AS$91)","v":212.13908604213171},{"$f":"AVERAGE($AT$85:$AT$91)","v":0.8571428571428571},{"$f":"AVERAGE($AU$85:$AU$91)","v":235.5},{"$f":"AVERAGE($AV$85:$AV$91)","v":10},{"$f":"AVERAGE($AW$85:$AW$91)","v":0},{"$f":"AVERAGE($AX$85:$AX$91)","v":-103},{"$f":"AVERAGE($AY$85:$AY$91)","v":7632},{"$f":"AVERAGE($AZ$85:$AZ$91)","v":93.942696707589292},{"$f":"BG$7+BG$14","v":3813.2356376647954},"T+12 sec",40098.10252314814,null,null,null,null,null,null,null,null,null,null,null,null,"T+12 sec",40098.10252314814,null,null,null,null,null,null,null,null,null,null,null,null,"T+12 sec",40098.10252314814,null,null,null,null,null,null,null,null,null,null,null,null,"T+12 sec",40098.10252314814]
["T+14 sec",40098.102546296286,{"$f":"LOOKUP(B86,Data!$A$6:$A$1806,Data!B$6:B$1806)","v":59.880001068115234},{"$f":"LOOKUP(B86,Data!$A$6:$A$1806,Data!C$6:C$1806)","v":3766.113037109375},null,null,null,95.9991455078125,90.550245598195488,null,null,0.56196009855523055,3768.3319572164405,{"$f":"AVERAGE(D$79:D86)","v":3728.0744934082031},{"$f":"AVERAGE(M$79:M86)","v":3740.5134561902682},3677.2184209444436,{"$f":"AVERAGE(P$79:P86)","v":3675.5325406487782},633,null,null,null,null,null,null,0,633,-390.44150600442941,null,"T+14 sec",{"$f":"AVERAGE($C$85:$C$91)","v":59.88257162911551},{"$f":"AVERAGE($AA$85:$AA$91)","v":-397.19960544267985},null,null,null,null,null,null,null,null,"T+14 sec",40098.102546296286,{"$f":"LOOKUP($AO86,Data!$A$6:$A$1806,Data!$B$6:$B$1806)","v":59.880001068115234},{"$f":"LOOKUP($AO86,Data!$A$6:$A$1806,Data!$C$6:$C$1806)","v":3766.113037109375},{"$f":"LOOKUP($AO86,Data!$A$6:$A$1806,Data!$D$6:$D$1806)","v":335},{"$f":"IF($AS$1=\"+\",LOOKUP($AO86,Data!$A$6:$A$1806,Data!$E$6:$E$1806)*-1,LOOKUP($AO86,Data!$A$6:$A$1806,Data!$E$6:$E$1806))","v":211.25604248046875},{"$f":"LOOKUP($AO86,Data!$A$6:$A$1806,Data!$F$6:$F$1806)","v":1},{"$f":"LOOKUP($AO86,Data!$A$6:$A$1806,Data!$G$6:$G$1806)","v":234.5},{"$f":"LOOKUP($AO86,Data!$A$6:$A$1806,Data!$H$6:$H$1806)","v":10},{"$f":"LOOKUP($AO86,Data!$A$6:$A$1806,Data!$I$6:$I$1806)","v":0},{"$f":"LOOKUP($AO86,Data!$A$6:$A$1806,Data!$J$6:$J$1806)","v":-103},{"$f":"LOOKUP($AO86,Data!$A$6:$A$1806,Data!$K$6:$K$1806)","v":7632},95.9991455078125,"T+14 sec",40098.102546296286,{"$f":"AVERAGE($AP$85:$AP$91)","v":59.88257162911551},{"$f":"AVERAGE($AQ$85:$AQ$91)","v":3770.6529715401784},{"$f":"AVERAGE($AR$85:$AR$91)","v":335},{"$f":"AVERAGE($AS$85:$AS$91)","v":212.13908604213171},{"$f":"AVERAGE($AT$85:$AT$91)","v":0.8571428571428571},{"$f":"AVERAGE($AU$85:$AU$91)","v":235.5},{"$f":"AVERAGE($AV$85:$AV$91)","v":10},{"$f":"AVERAGE($AW$85:$AW$91)","v":0},{"$f":"AVERAGE($AX$85:$AX$91)","v":-103},{"$f":"AVERAGE($AY$85:$AY$91)","v":7632},{"$f":"AVERAGE($AZ$85:$AZ$91)","v":93.942696707589292},{"$f":"BG$7+BG$14","v":3813.2356376647954},"T+14 sec",40098.102546296286,null,null,null,null,null,null,null,null,null,null,null,null,"T+14 sec",40098.102546296286,null,null,null,null,null,null,null,null,null,null,null,null,"T+14 sec",40098.102546296286,null,null,null,null,null,null,null,null,null,null,null,null,"T+14 sec",40098.102546296286]
["T+16 sec",40098.102569444432,{"$f":"LOOKUP(B87,Data!$A$6:$A$1806,Data!B$6:B$1806)","v":59.875999450683594},{"$f":"LOOKUP(B87,Data!$A$6:$A$1806,Data!C$6:C$1806)","v":3766.19384765625},null,null,null,99.200439453125,93.577813447420823,null,null,0.56196009855523055,3771.9214851642209,{"$f":"AVERAGE(D$79:D87)","v":3732.3099772135415},{"$f":"AVERAGE(M$79:M87)","v":3744.003237187374},3677.7803810429987,{"$f":"AVERAGE(P$79:P87)","v":3675.8135206980555},633,null,null,null,null,null,null,0,633,-381.0365985344053,null,"T+16 sec",59.88257162911551,-397.19960544267985,null,null,null,null,null,null,null,null,"T+16 sec",40098.102569444432,{"$f":"LOOKUP($AO87,Data!$A$6:$A$1806,Data!$B$6:$B$1806)","v":59.875999450683594},{"$f":"LOOKUP($AO87,Data!$A$6:$A$1806,Data!$C$6:$C$1806)","v":3766.19384765625},{"$f":"LOOKUP($AO87,Data!$A$6:$A$1806,Data!$D$6:$D$1806)","v":335},{"$f":"IF($AS$1=\"+\",LOOKUP($AO87,Data!$A$6:$A$1806,Data!$E$6:$E$1806)*-1,LOOKUP($AO87,Data!$A$6:$A$1806,Data!$E$6:$E$1806))","v":211.25604248046875},{"$f":"LOOKUP($AO87,Data!$A$6:$A$1806,Data!$F$6:$F$1806)","v":1},{"$f":"LOOKUP($AO87,Data!$A$6:$A$1806,Data!$G$6:$G$1806)","v":235},{"$f":"LOOKUP($AO87,Data!$A$6:$A$1806,Data!$H$6:$H$1806)","v":10},{"$f":"LOOKUP($AO87,Data!$A$6:$A$1806,Data!$I$6:$I$1806)","v":0},{"$f":"LOOKUP($AO87,Data!$A$6:$A$1806,Data!$J$6:$J$1806)","v":-103},{"$f":"LOOKUP($AO87,Data!$A$6:$A$1806,Data!$K$6:$K$1806)","v":7632},99.200439453125,"T+16 sec",40098.102569444432,59.88257162911551,3770.6529715401784,335,212.13908604213171,0.8571428571428571,235.5,10,0,-103,7632,93.942696707589292,3813.2356376647954,"T+16 sec",40098.102569444432,null,null,null,null,null,null,null,null,null,null,null,null,"T+16 sec",40098.102569444432,null,null,null,null,null,null,null,null,null,null,null,null,"T+16 sec",40098.102569444432,null,null,null,null,null,null,null,null,null,null,null,null,"T+16 sec",40098.102569444432]
["T+18 sec",40098.102592592579,{"$f":"LOOKUP(B88,Data!$A$6:$A$1806,Data!B$6:B$1806)","v":59.875},{"$f":"LOOKUP(B88,Data!$A$6:$A$1806,Data!C$6:C$1806)","v":3768.876953125},null,null,null,100,95.825578740823545,null,null,0.56196009855523055,3774.7312105561787,{"$f":"AVERAGE(D$79:D88)","v":3735.9666748046875},{"$f":"AVERAGE(M$79:M88)","v":3747.0760345242547},3678.3423411415538,{"$f":"AVERAGE(P$79:P88)","v":3676.0945007473329},633,null,null,null,null,null,null,0,633,-378.75790428746285,null,"T+18 sec",59.88257162911551,-397.19960544267985,{"$f":"AVERAGE($C$88:$C$94)","v":59.884428841727122},{"$f":"AVERAGE($AA$88:$AA$94)","v":-401.66999207903092},null,null,{"$f":"AVERAGE($C$88:$C$105)","v":59.88833342658149},{"$f":"AVERAGE($AA$88:$AA$105)","v":-411.99633140597354},null,null,"T+18 sec",40098.102592592579,{"$f":"LOOKUP($AO88,Data!$A$6:$A$1806,Data!$B$6:$B$1806)","v":59.875},{"$f":"LOOKUP($AO88,Data!$A$6:$A$1806,Data!$C$6:$C$1806)","v":3768.876953125},{"$f":"LOOKUP($AO88,Data!$A$6:$A$1806,Data!$D$6:$D$1806)","v":335},{"$f":"IF($AS$1=\"+\",LOOKUP($AO88,Data!$A$6:$A$1806,Data!$E$6:$E$1806)*-1,LOOKUP($AO88,Data!$A$6:$A$1806,Data!$E$6:$E$1806))","v":211.25604248046875},{"$f":"LOOKUP($AO88,Data!$A$6:$A$1806,Data!$F$6:$F$1806)","v":1},{"$f":"LOOKUP($AO88,Data!$A$6:$A$1806,Data!$G$6:$G$1806)","v":235.5},{"$f":"LOOKUP($AO88,Data!$A$6:$A$1806,Data!$H$6:$H$1806)","v":10},{"$f":"LOOKUP($AO88,Data!$A$6:$A$1806,Data!$I$6:$I$1806)","v":0},{"$f":"LOOKUP($AO88,Data!$A$6:$A$1806,Data!$J$6:$J$1806)","v":-103},{"$f":"LOOKUP($AO88,Data!$A$6:$A$1806,Data!$K$6:$K$1806)","v":7632},100,"T+18 sec",40098.102592592579,59.88257162911551,3770.6529715401784,335,212.13908604213171,0.8571428571428571,235.5,10,0,-103,7632,93.942696707589292,3813.2356376647954,"T+18 sec",40098.102592592579,{"$f":"AVERAGE($AP$88:$AP$94)","v":59.884428841727122},{"$f":"AVERAGE($AQ$88:$AQ$94)","v":3779.0293666294642},{"$f":"AVERAGE($AR$88:$AR$94)","v":335},{"$f":"AVERAGE($AS$88:$AS$94)","v":213.4636513846261},{"$f":"AVERAGE($AT$88:$AT$94)","v":1.4285714285714286},{"$f":"AVERAGE($AU$88:$AU$94)","v":237},{"$f":"AVERAGE($AV$88:$AV$94)","v":10},{"$f":"AVERAGE($AW$88:$AW$94)","v":0},{"$f":"AVERAGE($AX$88:$AX$94)","v":-103},{"$f":"AVERAGE($AY$88:$AY$94)","v":7632},{"$f":"AVERAGE($AZ$88:$AZ$94)","v":92.456926618303569},{"$f":"BU$7+BU$14","v":3814.9601402282715},"T+18 sec",40098.102592592579,null,null,null,null,null,null,null,null,null,null,null,null,"T+18 sec",40098.102592592579,{"$f":"AVERAGE($AP$88:$AP$105)","v":59.88833342658149},{"$f":"AVERAGE($AQ$88:$AQ$105)","v":3787.272420247396},{"$f":"AVERAGE($AR$88:$AR$105)","v":335},{"$f":"AVERAGE($AS$88:$AS$105)","v":213.96817694769965},{"$f":"AVERAGE($AT$88:$AT$105)","v":6.0555555555555554},{"$f":"AVERAGE($AU$88:$AU$105)","v":239.75},{"$f":"AVERAGE($AV$88:$AV$105)","v":10},{"$f":"AVERAGE($AW$88:$AW$105)","v":0},{"$f":"AVERAGE($AX$88:$AX$105)","v":-103},{"$f":"AVERAGE($AY$88:$AY$105)","v":7632},{"$f":"AVERAGE($AZ$88:$AZ$105)","v":89.333258734809021},{"$f":"CW$7+CW$14","v":3819.3275235493979},"T+18 sec",40098.102592592579]
["T+20 sec",40098.102615740725,{"$f":"LOOKUP(B89,Data!$A$6:$A$1806,Data!B$6:B$1806)","v":59.882999420166016},{"$f":"LOOKUP(B89,Data!$A$6:$A$1806,Data!C$6:C$1806)","v":3769.925048828125},{"$f":"AVERAGE($C$89:$C$105)","v":59.889117745792163},{"$f":"AVERAGE($D$89:$D$105)","v":3788.3545065487133},null,93.6004638671875,95.046788535050922,null,{"$f":"G$19+G$7","v":3752.7309516816981},0.56196009855523055,3774.5143804489612,{"$f":"AVERAGE(D$79:D89)","v":3739.053799715909},{"$f":"AVERAGE(M$79:M89)","v":3749.570429608319},3678.9043012401089,{"$f":"AVERAGE(P$79:P89)","v":3676.3754807966106},633,null,null,null,null,null,null,0,633,-397.79845914578783,{"$f":"AVERAGE(AA$89:AA$105)","v":-413.95153300118005},"T+20 sec",59.88257162911551,-397.19960544267985,{"$f":"AVERAGE($C$88:$C$94)","v":59.884428841727122},{"$f":"AVERAGE($AA$88:$AA$94)","v":-401.66999207903092},{"$f":"AVERAGE($E$89:$E$99)","v":59.889117745792184},{"$f":"AVERAGE($AA$89:$AA$99)","v":-414.40454165799855},{"$f":"AVERAGE($C$88:$C$105)","v":59.88833342658149},{"$f":"AVERAGE($AA$88:$AA$105)","v":-411.99633140597354},{"$f":"AVERAGE($C$89:$C$105)","v":59.889117745792163},{"$f":"AVERAGE($AA$89:$AA$105)","v":-413.95153300118005},"T+20 sec",40098.102615740725,{"$f":"LOOKUP($AO89,Data!$A$6:$A$1806,Data!$B$6:$B$1806)","v":59.882999420166016},{"$f":"LOOKUP($AO89,Data!$A$6:$A$1806,Data!$C$6:$C$1806)","v":3769.925048828125},{"$f":"LOOKUP($AO89,Data!$A$6:$A$1806,Data!$D$6:$D$1806)","v":335},{"$f":"IF($AS$1=\"+\",LOOKUP($AO89,Data!$A$6:$A$1806,Data!$E$6:$E$1806)*-1,LOOKUP($AO89,Data!$A$6:$A$1806,Data!$E$6:$E$1806))","v":211.25604248046875},{"$f":"LOOKUP($AO89,Data!$A$6:$A$1806,Data!$F$6:$F$1806)","v":1},{"$f":"LOOKUP($AO89,Data!$A$6:$A$1806,Data!$G$6:$G$1806)","v":236},{"$f":"LOOKUP($AO89,Data!$A$6:$A$1806,Data!$H$6:$H$1806)","v":10},{"$f":"LOOKUP($AO89,Data!$A$6:$A$1806,Data!$I$6:$I$1806)","v":0},{"$f":"LOOKUP($AO89,Data!$A$6:$A$1806,Data!$J$6:$J$1806)","v":-103},{"$f":"LOOKUP($AO89,Data!$A$6:$A$1806,Data!$K$6:$K$1806)","v":7632},93.6004638671875,"T+20 sec",40098.102615740725,59.88257162911551,3770.6529715401784,335,212.13908604213171,0.8571428571428571,235.5,10,0,-103,7632,93.942696707589292,3813.2356376647954,"T+20 sec",40098.102615740725,{"$f":"AVERAGE($AP$88:$AP$94)","v":59.884428841727122},{"$f":"AVERAGE($AQ$88:$AQ$94)","v":3779.0293666294642},{"$f":"AVERAGE($AR$88:$AR$94)","v":335},{"$f":"AVERAGE($AS$88:$AS$94)","v":213.4636513846261},{"$f":"AVERAGE($AT$88:$AT$94)","v":1.4285714285714286},{"$f":"AVERAGE($AU$88:$AU$94)","v":237},{"$f":"AVERAGE($AV$88:$AV$94)","v":10},{"$f":"AVERAGE($AW$88:$AW$94)","v":0},{"$f":"AVERAGE($AX$88:$AX$94)","v":-103},{"$f":"AVERAGE($AY$88:$AY$94)","v":7632},{"$f":"AVERAGE($AZ$88:$AZ$94)","v":92.456926618303569},{"$f":"BU$7+BU$14","v":3814.9601402282715},"T+20 sec",40098.102615740725,{"$f":"AVERAGE($AP$89:$AP$99)","v":59.889273210005328},{"$f":"AVERAGE($AQ$89:$AQ$99)","v":3783.8625266335225},{"$f":"AVERAGE($AR$89:$AR$99)","v":335},{"$f":"AVERAGE($AS$89:$AS$99)","v":213.07754655317828},{"$f":"AVERAGE($AT$89:$AT$99)","v":3.5454545454545454},{"$f":"AVERAGE($AU$89:$AU$99)","v":238.5},{"$f":"AVERAGE($AV$89:$AV$99)","v":10},{"$f":"AVERAGE($AW$89:$AW$99)","v":0},{"$f":"AVERAGE($AX$89:$AX$99)","v":-103},{"$f":"AVERAGE($AY$89:$AY$99)","v":7632},{"$f":"AVERAGE($AZ$89:$AZ$99)","v":88.58143199573864},{"$f":"CI$7+CI$14","v":3813.8309870633211},"T+20 sec",40098.102615740725,{"$f":"AVERAGE($AP$88:$AP$105)","v":59.88833342658149},{"$f":"AVERAGE($AQ$88:$AQ$105)","v":3787.272420247396},{"$f":"AVERAGE($AR$88:$AR$105)","v":335},{"$f":"AVERAGE($AS$88:$AS$105)","v":213.96817694769965},{"$f":"AVERAGE($AT$88:$AT$105)","v":6.0555555555555554},{"$f":"AVERAGE($AU$88:$AU$105)","v":239.75},{"$f":"AVERAGE($AV$88:$AV$105)","v":10},{"$f":"AVERAGE($AW$88:$AW$105)","v":0},{"$f":"AVERAGE($AX$88:$AX$105)","v":-103},{"$f":"AVERAGE($AY$88:$AY$105)","v":7632},{"$f":"AVERAGE($AZ$88:$AZ$105)","v":89.333258734809021},{"$f":"CW$7+CW$14","v":3819.3275235493979},"T+20 sec",40098.102615740725,{"$f":"AVERAGE($AP$89:$AP$105)","v":59.889117745792163},{"$f":"AVERAGE($AQ$89:$AQ$105)","v":3788.3545065487133},{"$f":"AVERAGE($AR$89:$AR$105)","v":335},{"$f":"AVERAGE($AS$89:$AS$105)","v":214.12771426930146},{"$f":"AVERAGE($AT$89:$AT$105)","v":6.3529411764705879},{"$f":"AVERAGE($AU$89:$AU$105)","v":240},{"$f":"AVERAGE($AV$89:$AV$105)","v":10},{"$f":"AVERAGE($AW$89:$AW$105)","v":0},{"$f":"AVERAGE($AX$89:$AX$105)","v":-103},{"$f":"AVERAGE($AY$89:$AY$105)","v":7632},{"$f":"AVERAGE($AZ$89:$AZ$105)","v":88.705803366268384},{"$f":"DK$7+DK$14","v":3819.3285592023067}]
["T+22 sec",40098.102638888871,{"$f":"LOOKUP(B90,Data!$A$6:$A$1806,Data!B$6:B$1806)","v":59.887001037597656},{"$f":"LOOKUP(B90,Data!$A$6:$A$1806,Data!C$6:C$1806)","v":3780.62060546875},{"$f":"AVERAGE($C$89:$C$105)","v":59.889117745792163},{"$f":"AVERAGE($D$89:$D$105)","v":3788.3545065487133},null,90.399169921875,93.420122020439351,null,{"$f":"G$19+G$7","v":3752.7309516816981},0.56196009855523055,3773.4496740329046,{"$f":"AVERAGE(D$79:D90)","v":3742.5177001953125},{"$f":"AVERAGE(M$79:M90)","v":3751.5603666437014},3679.466261338664,{"$f":"AVERAGE(P$79:P90)","v":3676.656460845888},633,null,null,null,null,null,null,0,633,-408.06015510929274,{"$f":"AVERAGE(AA$89:AA$105)","v":-413.95153300118005},"T+22 sec",59.88257162911551,-397.19960544267985,{"$f":"AVERAGE($C$88:$C$94)","v":59.884428841727122},-401.66999207903092,{"$f":"AVERAGE($E$89:$E$99)","v":59.889117745792184},{"$f":"AVERAGE($AA$89:$AA$99)","v":-414.40454165799855},59.88833342658149,-411.99633140597354,{"$f":"AVERAGE($C$89:$C$105)","v":59.889117745792163},{"$f":"AVERAGE($AA$89:$AA$105)","v":-413.95153300118005},"T+22 sec",40098.102638888871,{"$f":"LOOKUP($AO90,Data!$A$6:$A$1806,Data!$B$6:$B$1806)","v":59.887001037597656},{"$f":"LOOKUP($AO90,Data!$A$6:$A$1806,Data!$C$6:$C$1806)","v":3780.62060546875},{"$f":"LOOKUP($AO90,Data!$A$6:$A$1806,Data!$D$6:$D$1806)","v":335},{"$f":"IF($AS$1=\"+\",LOOKUP($AO90,Data!$A$6:$A$1806,Data!$E$6:$E$1806)*-1,LOOKUP($AO90,Data!$A$6:$A$1806,Data!$E$6:$E$1806))","v":214.34669494628906},{"$f":"LOOKUP($AO90,Data!$A$6:$A$1806,Data!$F$6:$F$1806)","v":1},{"$f":"LOOKUP($AO90,Data!$A$6:$A$1806,Data!$G$6:$G$1806)","v":236.5},{"$f":"LOOKUP($AO90,Data!$A$6:$A$1806,Data!$H$6:$H$1806)","v":10},{"$f":"LOOKUP($AO90,Data!$A$6:$A$1806,Data!$I$6:$I$1806)","v":0},{"$f":"LOOKUP($AO90,Data!$A$6:$A$1806,Data!$J$6:$J$1806)","v":-103},{"$f":"LOOKUP($AO90,Data!$A$6:$A$1806,Data!$K$6:$K$1806)","v":7632},90.399169921875,"T+22 sec",40098.102638888871,59.88257162911551,3770.6529715401784,335,212.13908604213171,0.8571428571428571,235.5,10,0,-103,7632,93.942696707589292,3813.2356376647954,"T+22 sec",40098.102638888871,59.884428841727122,3779.0293666294642,335,213.4636513846261,1.4285714285714286,237,10,0,-103,7632,92.456926618303569,3814.9601402282715,"T+22 sec",40098.102638888871,{"$f":"AVERAGE($AP$89:$AP$99)","v":59.889273210005328},{"$f":"AVERAGE($AQ$89:$AQ$99)","v":3783.8625266335225},{"$f":"AVERAGE($AR$89:$AR$99)","v":335},{"$f":"AVERAGE($AS$89:$AS$99)","v":213.07754655317828},{"$f":"AVERAGE($AT$89:$AT$99)","v":3.5454545454545454},{"$f":"AVERAGE($AU$89:$AU$99)","v":238.5},{"$f":"AVERAGE($AV$89:$AV$99)","v":10},{"$f":"AVERAGE($AW$89:$AW$99)","v":0},{"$f":"AVERAGE($AX$89:$AX$99)","v":-103},{"$f":"AVERAGE($AY$89:$AY$99)","v":7632},{"$f":"AVERAGE($AZ$89:$AZ$99)","v":88.58143199573864},{"$f":"CI$7+CI$14","v":3813.8309870633211},"T+22 sec",40098.102638888871,59.88833342658149,3787.272420247396,335,213.96817694769965,6.0555555555555554,239.75,10,0,-103,7632,89.333258734809021,3819.3275235493979,"T+22 sec",40098.102638888871,{"$f":"AVERAGE($AP$89:$AP$105)","v":59.889117745792163},{"$f":"AVERAGE($AQ$89:$AQ$105)","v":3788.3545065487133},{"$f":"AVERAGE($AR$89:$AR$105)","v":335},{"$f":"AVERAGE($AS$89:$AS$105)","v":214.12771426930146},{"$f":"AVERAGE($AT$89:$AT$105)","v":6.3529411764705879},{"$f":"AVERAGE($AU$89:$AU$105)","v":240},{"$f":"AVERAGE($AV$89:$AV$105)","v":10},{"$f":"AVERAGE($AW$89:$AW$105)","v":0},{"$f":"AVERAGE($AX$89:$AX$105)","v":-103},{"$f":"AVERAGE($AY$89:$AY$105)","v":7632},{"$f":"AVERAGE($AZ$89:$AZ$105)","v":88.705803366268384},{"$f":"DK$7+DK$14","v":3819.3285592023067}]
["T+24 sec",40098.102662037018,{"$f":"LOOKUP(B91,Data!$A$6:$A$1806,Data!B$6:B$1806)","v":59.886001586914063},{"$f":"LOOKUP(B91,Data!$A$6:$A$1806,Data!C$6:C$1806)","v":3781.591796875},59.889117745792163,3788.3545065487133,null,91.19873046875,92.642634977348081,null,3752.7309516816981,0.56196009855523055,3773.2341470883684,{"$f":"AVERAGE(D$79:D91)","v":3745.5233999399038},{"$f":"AVERAGE(M$79:M91)","v":3753.2275805240602},3680.0282214372191,{"$f":"AVERAGE(P$79:P91)","v":3676.9374408951658},633,null,null,null,null,null,null,0,633,-405.44789212467356,-413.95153300118005,"T+24 sec",59.88257162911551,-397.19960544267985,59.884428841727122,-401.66999207903092,59.889117745792184,-414.40454165799855,59.88833342658149,-411.99633140597354,59.889117745792163,-413.95153300118005,"T+24 sec",40098.102662037018,{"$f":"LOOKUP($AO91,Data!$A$6:$A$1806,Data!$B$6:$B$1806)","v":59.886001586914063},{"$f":"LOOKUP($AO91,Data!$A$6:$A$1806,Data!$C$6:$C$1806)","v":3781.591796875},{"$f":"LOOKUP($AO91,Data!$A$6:$A$1806,Data!$D$6:$D$1806)","v":335},{"$f":"IF($AS$1=\"+\",LOOKUP($AO91,Data!$A$6:$A$1806,Data!$E$6:$E$1806)*-1,LOOKUP($AO91,Data!$A$6:$A$1806,Data!$E$6:$E$1806))","v":214.34669494628906},{"$f":"LOOKUP($AO91,Data!$A$6:$A$1806,Data!$F$6:$F$1806)","v":1},{"$f":"LOOKUP($AO91,Data!$A$6:$A$1806,Data!$G$6:$G$1806)","v":237},{"$f":"LOOKUP($AO91,Data!$A$6:$A$1806,Data!$H$6:$H$1806)","v":10},{"$f":"LOOKUP($AO91,Data!$A$6:$A$1806,Data!$I$6:$I$1806)","v":0},{"$f":"LOOKUP($AO91,Data!$A$6:$A$1806,Data!$J$6:$J$1806)","v":-103},{"$f":"LOOKUP($AO91,Data!$A$6:$A$1806,Data!$K$6:$K$1806)","v":7632},91.19873046875,"T+24 sec",40098.102662037018,59.88257162911551,3770.6529715401784,335,212.13908604213171,0.8571428571428571,235.5,10,0,-103,7632,93.942696707589292,3813.2356376647954,"T+24 sec",40098.102662037018,59.884428841727122,3779.0293666294642,335,213.4636513846261,1.4285714285714286,237,10,0,-103,7632,92.456926618303569,3814.9601402282715,"T+24 sec",40098.102662037018,59.889273210005328,3783.8625266335225,335,213.07754655317828,3.5454545454545454,238.5,10,0,-103,7632,88.58143199573864,3813.8309870633211,"T+24 sec",40098.102662037018,59.88833342658149,3787.272420247396,335,213.96817694769965,6.0555555555555554,239.75,10,0,-103,7632,89.333258734809021,3819.3275235493979,"T+24 sec",40098.102662037018,59.889117745792163,3788.3545065487133,335,214.12771426930146,6.3529411764705879,240,10,0,-103,7632,88.705803366268384,3819.3285592023067]
["T+26 sec",40098.102685185164,{"$f":"LOOKUP(B92,Data!$A$6:$A$1806,Data!B$6:B$1806)","v":59.884998321533203},{"$f":"LOOKUP(B92,Data!$A$6:$A$1806,Data!C$6:C$1806)","v":3782.49951171875},59.889117745792163,3788.3545065487133,null,92.0013427734375,92.418182705979376,null,3752.7309516816981,0.56196009855523055,3773.571654915555,{"$f":"AVERAGE(D$79:D92)","v":3748.16455078125},{"$f":"AVERAGE(M$79:M92)","v":3754.6807286948815},3680.5901815357743,{"$f":"AVERAGE(P$79:P92)","v":3677.2184209444431},633,null,null,null,null,null,null,0,633,-402.85908126693755,-413.95153300118005,"T+26 sec",null,null,59.884428841727122,-401.66999207903092,59.889117745792184,-414.40454165799855,59.88833342658149,-411.99633140597354,59.889117745792163,-413.95153300118005,"T+26 sec",40098.102685185164,{"$f":"LOOKUP($AO92,Data!$A$6:$A$1806,Data!$B$6:$B$1806)","v":59.884998321533203},{"$f":"LOOKUP($AO92,Data!$A$6:$A$1806,Data!$C$6:$C$1806)","v":3782.49951171875},{"$f":"LOOKUP($AO92,Data!$A$6:$A$1806,Data!$D$6:$D$1806)","v":335},{"$f":"IF($AS$1=\"+\",LOOKUP($AO92,Data!$A$6:$A$1806,Data!$E$6:$E$1806)*-1,LOOKUP($AO92,Data!$A$6:$A$1806,Data!$E$6:$E$1806))","v":214.34669494628906},{"$f":"LOOKUP($AO92,Data!$A$6:$A$1806,Data!$F$6:$F$1806)","v":1},{"$f":"LOOKUP($AO92,Data!$A$6:$A$1806,Data!$G$6:$G$1806)","v":237.5},{"$f":"LOOKUP($AO92,Data!$A$6:$A$1806,Data!$H$6:$H$1806)","v":10},{"$f":"LOOKUP($AO92,Data!$A$6:$A$1806,Data!$I$6:$I$1806)","v":0},{"$f":"LOOKUP($AO92,Data!$A$6:$A$1806,Data!$J$6:$J$1806)","v":-103},{"$f":"LOOKUP($AO92,Data!$A$6:$A$1806,Data!$K$6:$K$1806)","v":7632},92.0013427734375,"T+26 sec",40098.102685185164,null,null,null,null,null,null,null,null,null,null,null,null,"T+26 sec",40098.102685185164,59.884428841727122,3779.0293666294642,335,213.4636513846261,1.4285714285714286,237,10,0,-103,7632,92.456926618303569,3814.9601402282715,"T+26 sec",40098.102685185164,59.889273210005328,3783.8625266335225,335,213.07754655317828,3.5454545454545454,238.5,10,0,-103,7632,88.58143199573864,3813.8309870633211,"T+26 sec",40098.102685185164,59.88833342658149,3787.272420247396,335,213.96817694769965,6.0555555555555554,239.75,10,0,-103,7632,89.333258734809021,3819.3275235493979,"T+26 sec",40098.102685185164,59.889117745792163,3788.3545065487133,335,214.12771426930146,6.3529411764705879,240,10,0,-103,7632,88.705803366268384,3819.3285592023067]
["T+28 sec",40098.10270833331,{"$f":"LOOKUP(B93,Data!$A$6:$A$1806,Data!B$6:B$1806)","v":59.887001037597656},{"$f":"LOOKUP(B93,Data!$A$6:$A$1806,Data!C$6:C$1806)","v":3784.9619140625},59.889117745792163,3788.3545065487133,null,90.399169921875,91.711528231542843,null,3752.7309516816981,0.56196009855523055,3773.4269605396735,{"$f":"AVERAGE(D$79:D93)","v":3750.6177083333332},{"$f":"AVERAGE(M$79:M93)","v":3755.9304774845345},3681.1521416343294,{"$f":"AVERAGE(P$79:P93)","v":3677.4994009937209},633,null,null,null,null,null,null,0,633,-408.06015510929274,-413.95153300118005,"T+28 sec",null,null,59.884428841727122,-401.66999207903092,59.889117745792184,-414.40454165799855,59.88833342658149,-411.99633140597354,59.889117745792163,-413.95153300118005,"T+28 sec",40098.10270833331,{"$f":"LOOKUP($AO93,Data!$A$6:$A$1806,Data!$B$6:$B$1806)","v":59.887001037597656},{"$f":"LOOKUP($AO93,Data!$A$6:$A$1806,Data!$C$6:$C$1806)","v":3784.9619140625},{"$f":"LOOKUP($AO93,Data!$A$6:$A$1806,Data!$D$6:$D$1806)","v":335},{"$f":"IF($AS$1=\"+\",LOOKUP($AO93,Data!$A$6:$A$1806,Data!$E$6:$E$1806)*-1,LOOKUP($AO93,Data!$A$6:$A$1806,Data!$E$6:$E$1806))","v":214.34669494628906},{"$f":"LOOKUP($AO93,Data!$A$6:$A$1806,Data!$F$6:$F$1806)","v":2},{"$f":"LOOKUP($AO93,Data!$A$6:$A$1806,Data!$G$6:$G$1806)","v":238},{"$f":"LOOKUP($AO93,Data!$A$6:$A$1806,Data!$H$6:$H$1806)","v":10},{"$f":"LOOKUP($AO93,Data!$A$6:$A$1806,Data!$I$6:$I$1806)","v":0},{"$f":"LOOKUP($AO93,Data!$A$6:$A$1806,Data!$J$6:$J$1806)","v":-103},{"$f":"LOOKUP($AO93,Data!$A$6:$A$1806,Data!$K$6:$K$1806)","v":7632},90.399169921875,"T+28 sec",40098.10270833331,null,null,null,null,null,null,null,null,null,null,null,null,"T+28 sec",40098.10270833331,59.884428841727122,3779.0293666294642,335,213.4636513846261,1.4285714285714286,237,10,0,-103,7632,92.456926618303569,3814.9601402282715,"T+28 sec",40098.10270833331,59.889273210005328,3783.8625266335225,335,213.07754655317828,3.5454545454545454,238.5,10,0,-103,7632,88.58143199573864,3813.8309870633211,"T+28 sec",40098.10270833331,59.88833342658149,3787.272420247396,335,213.96817694769965,6.0555555555555554,239.75,10,0,-103,7632,89.333258734809021,3819.3275235493979,"T+28 sec",40098.10270833331,59.889117745792163,3788.3545065487133,335,214.12771426930146,6.3529411764705879,240,10,0,-103,7632,88.705803366268384,3819.3285592023067]
["T+30 sec",40098.102731481456,{"$f":"LOOKUP(B94,Data!$A$6:$A$1806,Data!B$6:B$1806)","v":59.88800048828125},{"$f":"LOOKUP(B94,Data!$A$6:$A$1806,Data!C$6:C$1806)","v":3784.729736328125},59.889117745792163,3788.3545065487133,null,89.599609375,90.972356631752845,null,3752.7309516816981,0.56196009855523055,3773.2497490384385,{"$f":"AVERAGE(D$79:D94)","v":3752.7497100830078},{"$f":"AVERAGE(M$79:M94)","v":3757.0129319566536},3681.7141017328845,{"$f":"AVERAGE(P$79:P94)","v":3677.7803810429982},633,null,null,null,null,null,null,0,633,-410.70629750976877,-413.95153300118005,"T+30 sec",null,null,59.884428841727122,-401.66999207903092,59.889117745792184,-414.40454165799855,59.88833342658149,-411.99633140597354,59.889117745792163,-413.95153300118005,"T+30 sec",40098.102731481456,{"$f":"LOOKUP($AO94,Data!$A$6:$A$1806,Data!$B$6:$B$1806)","v":59.88800048828125},{"$f":"LOOKUP($AO94,Data!$A$6:$A$1806,Data!$C$6:$C$1806)","v":3784.729736328125},{"$f":"LOOKUP($AO94,Data!$A$6:$A$1806,Data!$D$6:$D$1806)","v":335},{"$f":"IF($AS$1=\"+\",LOOKUP($AO94,Data!$A$6:$A$1806,Data!$E$6:$E$1806)*-1,LOOKUP($AO94,Data!$A$6:$A$1806,Data!$E$6:$E$1806))","v":214.34669494628906},{"$f":"LOOKUP($AO94,Data!$A$6:$A$1806,Data!$F$6:$F$1806)","v":3},{"$f":"LOOKUP($AO94,Data!$A$6:$A$1806,Data!$G$6:$G$1806)","v":238.5},{"$f":"LOOKUP($AO94,Data!$A$6:$A$1806,Data!$H$6:$H$1806)","v":10},{"$f":"LOOKUP($AO94,Data!$A$6:$A$1806,Data!$I$6:$I$1806)","v":0},{"$f":"LOOKUP($AO94,Data!$A$6:$A$1806,Data!$J$6:$J$1806)","v":-103},{"$f":"LOOKUP($AO94,Data!$A$6:$A$1806,Data!$K$6:$K$1806)","v":7632},89.599609375,"T+30 sec",40098.102731481456,null,null,null,null,null,null,null,null,null,null,null,null,"T+30 sec",40098.102731481456,59.884428841727122,3779.0293666294642,335,213.4636513846261,1.4285714285714286,237,10,0,-103,7632,92.456926618303569,3814.9601402282715,"T+30 sec",40098.102731481456,59.889273210005328,3783.8625266335225,335,213.07754655317828,3.5454545454545454,238.5,10,0,-103,7632,88.58143199573864,3813.8309870633211,"T+30 sec",40098.102731481456,59.88833342658149,3787.272420247396,335,213.96817694769965,6.0555555555555554,239.75,10,0,-103,7632,89.333258734809021,3819.3275235493979,"T+30 sec",40098.102731481456,59.889117745792163,3788.3545065487133,335,214.12771426930146,6.3529411764705879,240,10,0,-103,7632,88.705803366268384,3819.3285592023067]
["T+32 sec",40098.102754629603,{"$f":"LOOKUP(B95,Data!$A$6:$A$1806,Data!B$6:B$1806)","v":59.889999389648437},{"$f":"LOOKUP(B95,Data!$A$6:$A$1806,Data!C$6:C$1806)","v":3784.4189453125},59.889117745792163,3788.3545065487133,null,88.00048828125,89.932202709076847,null,3752.7309516816981,0.56196009855523055,3772.7715552143177,{"$f":"AVERAGE(D$79:D95)","v":3754.6126062729782},{"$f":"AVERAGE(M$79:M95)","v":3757.9399097953396},3682.2760618314396,{"$f":"AVERAGE(P$79:P95)","v":3678.061361092276},633,null,null,null,null,null,null,0,633,-416.10289156853094,-413.95153300118005,"T+32 sec",null,null,null,null,59.889117745792184,-414.40454165799855,59.88833342658149,-411.99633140597354,59.889117745792163,-413.95153300118005,"T+32 sec",40098.102754629603,{"$f":"LOOKUP($AO95,Data!$A$6:$A$1806,Data!$B$6:$B$1806)","v":59.889999389648437},{"$f":"LOOKUP($AO95,Data!$A$6:$A$1806,Data!$C$6:$C$1806)","v":3784.4189453125},{"$f":"LOOKUP($AO95,Data!$A$6:$A$1806,Data!$D$6:$D$1806)","v":335},{"$f":"IF($AS$1=\"+\",LOOKUP($AO95,Data!$A$6:$A$1806,Data!$E$6:$E$1806)*-1,LOOKUP($AO95,Data!$A$6:$A$1806,Data!$E$6:$E$1806))","v":212.17269897460937},{"$f":"LOOKUP($AO95,Data!$A$6:$A$1806,Data!$F$6:$F$1806)","v":4},{"$f":"LOOKUP($AO95,Data!$A$6:$A$1806,Data!$G$6:$G$1806)","v":239},{"$f":"LOOKUP($AO95,Data!$A$6:$A$1806,Data!$H$6:$H$1806)","v":10},{"$f":"LOOKUP($AO95,Data!$A$6:$A$1806,Data!$I$6:$I$1806)","v":0},{"$f":"LOOKUP($AO95,Data!$A$6:$A$1806,Data!$J$6:$J$1806)","v":-103},{"$f":"LOOKUP($AO95,Data!$A$6:$A$1806,Data!$K$6:$K$1806)","v":7632},88.00048828125,"T+32 sec",40098.102754629603,null,null,null,null,null,null,null,null,null,null,null,null,"T+32 sec",40098.102754629603,null,null,null,null,null,null,null,null,null,null,null,null,"T+32 sec",40098.102754629603,59.889273210005328,3783.8625266335225,335,213.07754655317828,3.5454545454545454,238.5,10,0,-103,7632,88.58143199573864,3813.8309870633211,"T+32 sec",40098.102754629603,59.88833342658149,3787.272420247396,335,213.96817694769965,6.0555555555555554,239.75,10,0,-103,7632,89.333258734809021,3819.3275235493979,"T+32 sec",40098.102754629603,59.889117745792163,3788.3545065487133,335,214.12771426930146,6.3529411764705879,240,10,0,-103,7632,88.705803366268384,3819.3285592023067]
["T+34 sec",40098.102777777749,{"$f":"LOOKUP(B96,Data!$A$6:$A$1806,Data!B$6:B$1806)","v":59.895000457763672},{"$f":"LOOKUP(B96,Data!$A$6:$A$1806,Data!C$6:C$1806)","v":3788.072265625},59.889117745792163,3788.3545065487133,null,83.9996337890625,87.855803587071819,null,3752.7309516816981,0.56196009855523055,3771.2571161908677,{"$f":"AVERAGE(D$79:D96)","v":3756.471476236979},{"$f":"AVERAGE(M$79:M96)","v":3758.6797545950913},3682.8380219299947,{"$f":"AVERAGE(P$79:P96)","v":3678.3423411415533},633,null,null,null,null,null,null,0,633,-430.24706961428393,-413.95153300118005,"T+34 sec",null,null,null,null,59.889117745792184,-414.40454165799855,59.88833342658149,-411.99633140597354,59.889117745792163,-413.95153300118005,"T+34 sec",40098.102777777749,{"$f":"LOOKUP($AO96,Data!$A$6:$A$1806,Data!$B$6:$B$1806)","v":59.895000457763672},{"$f":"LOOKUP($AO96,Data!$A$6:$A$1806,Data!$C$6:$C$1806)","v":3788.072265625},{"$f":"LOOKUP($AO96,Data!$A$6:$A$1806,Data!$D$6:$D$1806)","v":335},{"$f":"IF($AS$1=\"+\",LOOKUP($AO96,Data!$A$6:$A$1806,Data!$E$6:$E$1806)*-1,LOOKUP($AO96,Data!$A$6:$A$1806,Data!$E$6:$E$1806))","v":212.17269897460937},{"$f":"LOOKUP($AO96,Data!$A$6:$A$1806,Data!$F$6:$F$1806)","v":5},{"$f":"LOOKUP($AO96,Data!$A$6:$A$1806,Data!$G$6:$G$1806)","v":239.5},{"$f":"LOOKUP($AO96,Data!$A$6:$A$1806,Data!$H$6:$H$1806)","v":10},{"$f":"LOOKUP($AO96,Data!$A$6:$A$1806,Data!$I$6:$I$1806)","v":0},{"$f":"LOOKUP($AO96,Data!$A$6:$A$1806,Data!$J$6:$J$1806)","v":-103},{"$f":"LOOKUP($AO96,Data!$A$6:$A$1806,Data!$K$6:$K$1806)","v":7632},83.9996337890625,"T+34 sec",40098.102777777749,null,null,null,null,null,null,null,null,null,null,null,null,"T+34 sec",40098.102777777749,null,null,null,null,null,null,null,null,null,null,null,null,"T+34 sec",40098.102777777749,59.889273210005328,3783.8625266335225,335,213.07754655317828,3.5454545454545454,238.5,10,0,-103,7632,88.58143199573864,3813.8309870633211,"T+34 sec",40098.102777777749,59.88833342658149,3787.272420247396,335,213.96817694769965,6.0555555555555554,239.75,10,0,-103,7632,89.333258734809021,3819.3275235493979,"T+34 sec",40098.102777777749,59.889117745792163,3788.3545065487133,335,214.12771426930146,6.3529411764705879,240,10,0,-103,7632,88.705803366268384,3819.3285592023067]
["T+36 sec",40098.102800925895,{"$f":"LOOKUP(B97,Data!$A$6:$A$1806,Data!B$6:B$1806)","v":59.894001007080078},{"$f":"LOOKUP(B97,Data!$A$6:$A$1806,Data!C$6:C$1806)","v":3788.32763671875},59.889117745792163,3788.3545065487133,null,84.7991943359375,86.78599034917481,null,3752.7309516816981,0.56196009855523055,3770.7492630515258,{"$f":"AVERAGE(D$79:D97)","v":3758.1481162623354},{"$f":"AVERAGE(M$79:M97)","v":3759.3149918822714},3683.3999820285499,{"$f":"AVERAGE(P$79:P97)","v":3678.6233211908311},633,null,null,null,null,null,null,0,633,-427.34402827719634,-413.95153300118005,"T+36 sec",null,null,null,null,59.889117745792184,-414.40454165799855,59.88833342658149,-411.99633140597354,59.889117745792163,-413.95153300118005,"T+36 sec",40098.102800925895,{"$f":"LOOKUP($AO97,Data!$A$6:$A$1806,Data!$B$6:$B$1806)","v":59.894001007080078},{"$f":"LOOKUP($AO97,Data!$A$6:$A$1806,Data!$C$6:$C$1806)","v":3788.32763671875},{"$f":"LOOKUP($AO97,Data!$A$6:$A$1806,Data!$D$6:$D$1806)","v":335},{"$f":"IF($AS$1=\"+\",LOOKUP($AO97,Data!$A$6:$A$1806,Data!$E$6:$E$1806)*-1,LOOKUP($AO97,Data!$A$6:$A$1806,Data!$E$6:$E$1806))","v":212.17269897460937},{"$f":"LOOKUP($AO97,Data!$A$6:$A$1806,Data!$F$6:$F$1806)","v":6},{"$f":"LOOKUP($AO97,Data!$A$6:$A$1806,Data!$G$6:$G$1806)","v":240},{"$f":"LOOKUP($AO97,Data!$A$6:$A$1806,Data!$H$6:$H$1806)","v":10},{"$f":"LOOKUP($AO97,Data!$A$6:$A$1806,Data!$I$6:$I$1806)","v":0},{"$f":"LOOKUP($AO97,Data!$A$6:$A$1806,Data!$J$6:$J$1806)","v":-103},{"$f":"LOOKUP($AO97,Data!$A$6:$A$1806,Data!$K$6:$K$1806)","v":7632},84.7991943359375,"T+36 sec",40098.102800925895,null,null,null,null,null,null,null,null,null,null,null,null,"T+36 sec",40098.102800925895,null,null,null,null,null,null,null,null,null,null,null,null,"T+36 sec",40098.102800925895,59.889273210005328,3783.8625266335225,335,213.07754655317828,3.5454545454545454,238.5,10,0,-103,7632,88.58143199573864,3813.8309870633211,"T+36 sec",40098.102800925895,59.88833342658149,3787.272420247396,335,213.96817694769965,6.0555555555555554,239.75,10,0,-103,7632,89.333258734809021,3819.3275235493979,"T+36 sec",40098.102800925895,59.889117745792163,3788.3545065487133,335,214.12771426930146,6.3529411764705879,240,10,0,-103,7632,88.705803366268384,3819.3285592023067]
["T+38 sec",40098.102824074042,{"$f":"LOOKUP(B98,Data!$A$6:$A$1806,Data!B$6:B$1806)","v":59.893001556396484},{"$f":"LOOKUP(B98,Data!$A$6:$A$1806,Data!C$6:C$1806)","v":3788.868408203125},59.889117745792163,3788.3545065487133,null,85.5987548828125,86.370457935947996,null,3752.7309516816981,0.56196009855523055,3770.8956907368542,{"$f":"AVERAGE(D$79:D98)","v":3759.6841308593748},{"$f":"AVERAGE(M$79:M98)","v":3759.8940268250008},3683.961942127105,{"$f":"AVERAGE(P$79:P98)","v":3678.9043012401089},633,null,null,null,null,null,null,0,633,-424.47990023502325,-413.95153300118005,"T+38 sec",null,null,null,null,59.889117745792184,-414.40454165799855,59.88833342658149,-411.99633140597354,59.889117745792163,-413.95153300118005,"T+38 sec",40098.102824074042,{"$f":"LOOKUP($AO98,Data!$A$6:$A$1806,Data!$B$6:$B$1806)","v":59.893001556396484},{"$f":"LOOKUP($AO98,Data!$A$6:$A$1806,Data!$C$6:$C$1806)","v":3788.868408203125},{"$f":"LOOKUP($AO98,Data!$A$6:$A$1806,Data!$D$6:$D$1806)","v":335},{"$f":"IF($AS$1=\"+\",LOOKUP($AO98,Data!$A$6:$A$1806,Data!$E$6:$E$1806)*-1,LOOKUP($AO98,Data!$A$6:$A$1806,Data!$E$6:$E$1806))","v":212.17269897460937},{"$f":"LOOKUP($AO98,Data!$A$6:$A$1806,Data!$F$6:$F$1806)","v":7},{"$f":"LOOKUP($AO98,Data!$A$6:$A$1806,Data!$G$6:$G$1806)","v":240.5},{"$f":"LOOKUP($AO98,Data!$A$6:$A$1806,Data!$H$6:$H$1806)","v":10},{"$f":"LOOKUP($AO98,Data!$A$6:$A$1806,Data!$I$6:$I$1806)","v":0},{"$f":"LOOKUP($AO98,Data!$A$6:$A$1806,Data!$J$6:$J$1806)","v":-103},{"$f":"LOOKUP($AO98,Data!$A$6:$A$1806,Data!$K$6:$K$1806)","v":7632},85.5987548828125,"T+38 sec",40098.102824074042,null,null,null,null,null,null,null,null,null,null,null,null,"T+38 sec",40098.102824074042,null,null,null,null,null,null,null,null,null,null,null,null,"T+38 sec",40098.102824074042,59.889273210005328,3783.8625266335225,335,213.07754655317828,3.5454545454545454,238.5,10,0,-103,7632,88.58143199573864,3813.8309870633211,"T+38 sec",40098.102824074042,59.88833342658149,3787.272420247396,335,213.96817694769965,6.0555555555555554,239.75,10,0,-103,7632,89.333258734809021,3819.3275235493979,"T+38 sec",40098.102824074042,59.889117745792163,3788.3545065487133,335,214.12771426930146,6.3529411764705879,240,10,0,-103,7632,88.705803366268384,3819.3285592023067]
["T+40 sec",40098.102847222188,{"$f":"LOOKUP(B99,Data!$A$6:$A$1806,Data!B$6:B$1806)","v":59.894001007080078},{"$f":"LOOKUP(B99,Data!$A$6:$A$1806,Data!C$6:C$1806)","v":3788.471923828125},59.889117745792163,3788.3545065487133,null,84.7991943359375,85.820515675944321,null,3752.7309516816981,0.56196009855523055,3770.9077085754056,{"$f":"AVERAGE(D$79:D99)","v":3761.0549781436011},{"$f":"AVERAGE(M$79:M99)","v":3760.4184878607348},3684.5239022256601,{"$f":"AVERAGE(P$79:P99)","v":3679.1852812893862},633,null,null,null,null,null,null,0,633,-427.34402827719634,-413.95153300118005,"T+40 sec",null,null,null,null,59.889117745792184,-414.40454165799855,59.88833342658149,-411.99633140597354,59.889117745792163,-413.95153300118005,"T+40 sec",40098.102847222188,{"$f":"LOOKUP($AO99,Data!$A$6:$A$1806,Data!$B$6:$B$1806)","v":59.894001007080078},{"$f":"LOOKUP($AO99,Data!$A$6:$A$1806,Data!$C$6:$C$1806)","v":3788.471923828125},{"$f":"LOOKUP($AO99,Data!$A$6:$A$1806,Data!$D$6:$D$1806)","v":335},{"$f":"IF($AS$1=\"+\",LOOKUP($AO99,Data!$A$6:$A$1806,Data!$E$6:$E$1806)*-1,LOOKUP($AO99,Data!$A$6:$A$1806,Data!$E$6:$E$1806))","v":212.17269897460937},{"$f":"LOOKUP($AO99,Data!$A$6:$A$1806,Data!$F$6:$F$1806)","v":8},{"$f":"LOOKUP($AO99,Data!$A$6:$A$1806,Data!$G$6:$G$1806)","v":241},{"$f":"LOOKUP($AO99,Data!$A$6:$A$1806,Data!$H$6:$H$1806)","v":10},{"$f":"LOOKUP($AO99,Data!$A$6:$A$1806,Data!$I$6:$I$1806)","v":0},{"$f":"LOOKUP($AO99,Data!$A$6:$A$1806,Data!$J$6:$J$1806)","v":-103},{"$f":"LOOKUP($AO99,Data!$A$6:$A$1806,Data!$K$6:$K$1806)","v":7632},84.7991943359375,"T+40 sec",40098.102847222188,null,null,null,null,null,null,null,null,null,null,null,null,"T+40 sec",40098.102847222188,null,null,null,null,null,null,null,null,null,null,null,null,"T+40 sec",40098.102847222188,59.889273210005328,3783.8625266335225,335,213.07754655317828,3.5454545454545454,238.5,10,0,-103,7632,88.58143199573864,3813.8309870633211,"T+40 sec",40098.102847222188,59.88833342658149,3787.272420247396,335,213.96817694769965,6.0555555555555554,239.75,10,0,-103,7632,89.333258734809021,3819.3275235493979,"T+40 sec",40098.102847222188,59.889117745792163,3788.3545065487133,335,214.12771426930146,6.3529411764705879,240,10,0,-103,7632,88.705803366268384,3819.3285592023067]
["T+42 sec",40098.102870370334,{"$f":"LOOKUP(B100,Data!$A$6:$A$1806,Data!B$6:B$1806)","v":59.894001007080078},{"$f":"LOOKUP(B100,Data!$A$6:$A$1806,Data!C$6:C$1806)","v":3792.275634765625},59.889117745792163,3788.3545065487133,null,84.7991943359375,85.463053206941936,null,3752.7309516816981,0.56196009855523055,3771.1122062049585,{"$f":"AVERAGE(D$79:D100)","v":3762.4740988991475},{"$f":"AVERAGE(M$79:M100)","v":3760.9045659672902},3685.0858623242152,{"$f":"AVERAGE(P$79:P100)","v":3679.4662613386636},633,null,null,null,null,null,null,0,633,-427.34402827719634,-413.95153300118005,"T+42 sec",null,null,null,null,null,null,59.88833342658149,-411.99633140597354,59.889117745792163,-413.95153300118005,"T+42 sec",40098.102870370334,{"$f":"LOOKUP($AO100,Data!$A$6:$A$1806,Data!$B$6:$B$1806)","v":59.894001007080078},{"$f":"LOOKUP($AO100,Data!$A$6:$A$1806,Data!$C$6:$C$1806)","v":3792.275634765625},{"$f":"LOOKUP($AO100,Data!$A$6:$A$1806,Data!$D$6:$D$1806)","v":335},{"$f":"IF($AS$1=\"+\",LOOKUP($AO100,Data!$A$6:$A$1806,Data!$E$6:$E$1806)*-1,LOOKUP($AO100,Data!$A$6:$A$1806,Data!$E$6:$E$1806))","v":215.59817504882812},{"$f":"LOOKUP($AO100,Data!$A$6:$A$1806,Data!$F$6:$F$1806)","v":9},{"$f":"LOOKUP($AO100,Data!$A$6:$A$1806,Data!$G$6:$G$1806)","v":241.5},{"$f":"LOOKUP($AO100,Data!$A$6:$A$1806,Data!$H$6:$H$1806)","v":10},{"$f":"LOOKUP($AO100,Data!$A$6:$A$1806,Data!$I$6:$I$1806)","v":0},{"$f":"LOOKUP($AO100,Data!$A$6:$A$1806,Data!$J$6:$J$1806)","v":-103},{"$f":"LOOKUP($AO100,Data!$A$6:$A$1806,Data!$K$6:$K$1806)","v":7632},84.7991943359375,"T+42 sec",40098.102870370334,null,null,null,null,null,null,null,null,null,null,null,null,"T+42 sec",40098.102870370334,null,null,null,null,null,null,null,null,null,null,null,null,"T+42 sec",40098.102870370334,null,null,null,null,null,null,null,null,null,null,null,null,"T+42 sec",40098.102870370334,59.88833342658149,3787.272420247396,335,213.96817694769965,6.0555555555555554,239.75,10,0,-103,7632,89.333258734809021,3819.3275235493979,"T+42 sec",40098.102870370334,59.889117745792163,3788.3545065487133,335,214.12771426930146,6.3529411764705879,240,10,0,-103,7632,88.705803366268384,3819.3285592023067]
["T+44 sec",40098.10289351848,{"$f":"LOOKUP(B101,Data!$A$6:$A$1806,Data!B$6:B$1806)","v":59.890998840332031},{"$f":"LOOKUP(B101,Data!$A$6:$A$1806,Data!C$6:C$1806)","v":3793.074462890625},59.889117745792163,3788.3545065487133,null,87.200927734375,86.0713092915435,null,3752.7309516816981,0.56196009855523055,3772.2824223881153,{"$f":"AVERAGE(D$79:D101)","v":3763.804549507473},{"$f":"AVERAGE(M$79:M101)","v":3761.3992553768912},3685.6478224227703,{"$f":"AVERAGE(P$79:P101)","v":3679.7472413879414},633,null,null,null,null,null,null,0,633,-418.85472289270672,-413.95153300118005,"T+44 sec",null,null,null,null,null,null,59.88833342658149,-411.99633140597354,59.889117745792163,-413.95153300118005,"T+44 sec",40098.10289351848,{"$f":"LOOKUP($AO101,Data!$A$6:$A$1806,Data!$B$6:$B$1806)","v":59.890998840332031},{"$f":"LOOKUP($AO101,Data!$A$6:$A$1806,Data!$C$6:$C$1806)","v":3793.074462890625},{"$f":"LOOKUP($AO101,Data!$A$6:$A$1806,Data!$D$6:$D$1806)","v":335},{"$f":"IF($AS$1=\"+\",LOOKUP($AO101,Data!$A$6:$A$1806,Data!$E$6:$E$1806)*-1,LOOKUP($AO101,Data!$A$6:$A$1806,Data!$E$6:$E$1806))","v":215.59817504882812},{"$f":"LOOKUP($AO101,Data!$A$6:$A$1806,Data!$F$6:$F$1806)","v":10},{"$f":"LOOKUP($AO101,Data!$A$6:$A$1806,Data!$G$6:$G$1806)","v":242},{"$f":"LOOKUP($AO101,Data!$A$6:$A$1806,Data!$H$6:$H$1806)","v":10},{"$f":"LOOKUP($AO101,Data!$A$6:$A$1806,Data!$I$6:$I$1806)","v":0},{"$f":"LOOKUP($AO101,Data!$A$6:$A$1806,Data!$J$6:$J$1806)","v":-103},{"$f":"LOOKUP($AO101,Data!$A$6:$A$1806,Data!$K$6:$K$1806)","v":7632},87.200927734375,"T+44 sec",40098.10289351848,null,null,null,null,null,null,null,null,null,null,null,null,"T+44 sec",40098.10289351848,null,null,null,null,null,null,null,null,null,null,null,null,"T+44 sec",40098.10289351848,null,null,null,null,null,null,null,null,null,null,null,null,"T+44 sec",40098.10289351848,59.88833342658149,3787.272420247396,335,213.96817694769965,6.0555555555555554,239.75,10,0,-103,7632,89.333258734809021,3819.3275235493979,"T+44 sec",40098.10289351848,59.889117745792163,3788.3545065487133,335,214.12771426930146,6.3529411764705879,240,10,0,-103,7632,88.705803366268384,3819.3285592023067]
["T+46 sec",40098.102916666627,{"$f":"LOOKUP(B102,Data!$A$6:$A$1806,Data!B$6:B$1806)","v":59.889999389648437},{"$f":"LOOKUP(B102,Data!$A$6:$A$1806,Data!C$6:C$1806)","v":3794.374267578125},59.889117745792163,3788.3545065487133,null,88.00048828125,86.74652193794077,null,3752.7309516816981,0.56196009855523055,3773.5195951330675,{"$f":"AVERAGE(D$79:D102)","v":3765.0782877604165},{"$f":"AVERAGE(M$79:M102)","v":3761.9042695333987},3686.2097825213255,{"$f":"AVERAGE(P$79:P102)","v":3680.0282214372191},633,null,null,null,null,null,null,0,633,-416.10289156853094,-413.95153300118005,"T+46 sec",null,null,null,null,null,null,59.88833342658149,-411.99633140597354,59.889117745792163,-413.95153300118005,"T+46 sec",40098.102916666627,{"$f":"LOOKUP($AO102,Data!$A$6:$A$1806,Data!$B$6:$B$1806)","v":59.889999389648437},{"$f":"LOOKUP($AO102,Data!$A$6:$A$1806,Data!$C$6:$C$1806)","v":3794.374267578125},{"$f":"LOOKUP($AO102,Data!$A$6:$A$1806,Data!$D$6:$D$1806)","v":335},{"$f":"IF($AS$1=\"+\",LOOKUP($AO102,Data!$A$6:$A$1806,Data!$E$6:$E$1806)*-1,LOOKUP($AO102,Data!$A$6:$A$1806,Data!$E$6:$E$1806))","v":215.59817504882812},{"$f":"LOOKUP($AO102,Data!$A$6:$A$1806,Data!$F$6:$F$1806)","v":11},{"$f":"LOOKUP($AO102,Data!$A$6:$A$1806,Data!$G$6:$G$1806)","v":242.5},{"$f":"LOOKUP($AO102,Data!$A$6:$A$1806,Data!$H$6:$H$1806)","v":10},{"$f":"LOOKUP($AO102,Data!$A$6:$A$1806,Data!$I$6:$I$1806)","v":0},{"$f":"LOOKUP($AO102,Data!$A$6:$A$1806,Data!$J$6:$J$1806)","v":-103},{"$f":"LOOKUP($AO102,Data!$A$6:$A$1806,Data!$K$6:$K$1806)","v":7632},88.00048828125,"T+46 sec",40098.102916666627,null,null,null,null,null,null,null,null,null,null,null,null,"T+46 sec",40098.102916666627,null,null,null,null,null,null,null,null,null,null,null,null,"T+46 sec",40098.102916666627,null,null,null,null,null,null,null,null,null,null,null,null,"T+46 sec",40098.102916666627,59.88833342658149,3787.272420247396,335,213.96817694769965,6.0555555555555554,239.75,10,0,-103,7632,89.333258734809021,3819.3275235493979,"T+46 sec",40098.102916666627,59.889117745792163,3788.3545065487133,335,214.12771426930146,6.3529411764705879,240,10,0,-103,7632,88.705803366268384,3819.3285592023067]
["T+48 sec",40098.102939814773,{"$f":"LOOKUP(B103,Data!$A$6:$A$1806,Data!B$6:B$1806)","v":59.884998321533203},{"$f":"LOOKUP(B103,Data!$A$6:$A$1806,Data!C$6:C$1806)","v":3799.427734375},59.889117745792163,3788.3545065487133,null,92.0013427734375,88.585709230364628,null,3752.7309516816981,0.56196009855523055,3775.9207425240465,{"$f":"AVERAGE(D$79:D103)","v":3766.4522656250001},{"$f":"AVERAGE(M$79:M103)","v":3762.4649284530246},3686.7717426198806,{"$f":"AVERAGE(P$79:P103)","v":3680.3092014864965},633,null,null,null,null,null,null,0,633,-402.85908126693755,-413.95153300118005,"T+48 sec",null,null,null,null,null,null,59.88833342658149,-411.99633140597354,59.889117745792163,-413.95153300118005,"T+48 sec",40098.102939814773,{"$f":"LOOKUP($AO103,Data!$A$6:$A$1806,Data!$B$6:$B$1806)","v":59.884998321533203},{"$f":"LOOKUP($AO103,Data!$A$6:$A$1806,Data!$C$6:$C$1806)","v":3799.427734375},{"$f":"LOOKUP($AO103,Data!$A$6:$A$1806,Data!$D$6:$D$1806)","v":335},{"$f":"IF($AS$1=\"+\",LOOKUP($AO103,Data!$A$6:$A$1806,Data!$E$6:$E$1806)*-1,LOOKUP($AO103,Data!$A$6:$A$1806,Data!$E$6:$E$1806))","v":215.59817504882812},{"$f":"LOOKUP($AO103,Data!$A$6:$A$1806,Data!$F$6:$F$1806)","v":12},{"$f":"LOOKUP($AO103,Data!$A$6:$A$1806,Data!$G$6:$G$1806)","v":243},{"$f":"LOOKUP($AO103,Data!$A$6:$A$1806,Data!$H$6:$H$1806)","v":10},{"$f":"LOOKUP($AO103,Data!$A$6:$A$1806,Data!$I$6:$I$1806)","v":0},{"$f":"LOOKUP($AO103,Data!$A$6:$A$1806,Data!$J$6:$J$1806)","v":-103},{"$f":"LOOKUP($AO103,Data!$A$6:$A$1806,Data!$K$6:$K$1806)","v":7632},92.0013427734375,"T+48 sec",40098.102939814773,null,null,null,null,null,null,null,null,null,null,null,null,"T+48 sec",40098.102939814773,null,null,null,null,null,null,null,null,null,null,null,null,"T+48 sec",40098.102939814773,null,null,null,null,null,null,null,null,null,null,null,null,"T+48 sec",40098.102939814773,59.88833342658149,3787.272420247396,335,213.96817694769965,6.0555555555555554,239.75,10,0,-103,7632,89.333258734809021,3819.3275235493979,"T+48 sec",40098.102939814773,59.889117745792163,3788.3545065487133,335,214.12771426930146,6.3529411764705879,240,10,0,-103,7632,88.705803366268384,3819.3285592023067]
["T+50 sec",40098.102962962919,{"$f":"LOOKUP(B104,Data!$A$6:$A$1806,Data!B$6:B$1806)","v":59.884998321533203},{"$f":"LOOKUP(B104,Data!$A$6:$A$1806,Data!C$6:C$1806)","v":3800.427490234375},59.889117745792163,3788.3545065487133,null,92.0013427734375,89.781180970440133,null,3752.7309516816981,0.56196009855523055,3777.6781743626771,{"$f":"AVERAGE(D$79:D104)","v":3767.7590050330527},{"$f":"AVERAGE(M$79:M104)","v":3763.0500532957035},3687.3337027184357,{"$f":"AVERAGE(P$79:P104)","v":3680.5901815357738},633,null,null,null,null,null,null,0,633,-402.85908126693755,-413.95153300118005,"T+50 sec",null,null,null,null,null,null,59.88833342658149,-411.99633140597354,59.889117745792163,-413.95153300118005,"T+50 sec",40098.102962962919,{"$f":"LOOKUP($AO104,Data!$A$6:$A$1806,Data!$B$6:$B$1806)","v":59.884998321533203},{"$f":"LOOKUP($AO104,Data!$A$6:$A$1806,Data!$C$6:$C$1806)","v":3800.427490234375},{"$f":"LOOKUP($AO104,Data!$A$6:$A$1806,Data!$D$6:$D$1806)","v":335},{"$f":"IF($AS$1=\"+\",LOOKUP($AO104,Data!$A$6:$A$1806,Data!$E$6:$E$1806)*-1,LOOKUP($AO104,Data!$A$6:$A$1806,Data!$E$6:$E$1806))","v":215.59817504882812},{"$f":"LOOKUP($AO104,Data!$A$6:$A$1806,Data!$F$6:$F$1806)","v":13},{"$f":"LOOKUP($AO104,Data!$A$6:$A$1806,Data!$G$6:$G$1806)","v":243.5},{"$f":"LOOKUP($AO104,Data!$A$6:$A$1806,Data!$H$6:$H$1806)","v":10},{"$f":"LOOKUP($AO104,Data!$A$6:$A$1806,Data!$I$6:$I$1806)","v":0},{"$f":"LOOKUP($AO104,Data!$A$6:$A$1806,Data!$J$6:$J$1806)","v":-103},{"$f":"LOOKUP($AO104,Data!$A$6:$A$1806,Data!$K$6:$K$1806)","v":7632},92.0013427734375,"T+50 sec",40098.102962962919,null,null,null,null,null,null,null,null,null,null,null,null,"T+50 sec",40098.102962962919,null,null,null,null,null,null,null,null,null,null,null,null,"T+50 sec",40098.102962962919,null,null,null,null,null,null,null,null,null,null,null,null,"T+50 sec",40098.102962962919,59.88833342658149,3787.272420247396,335,213.96817694769965,6.0555555555555554,239.75,10,0,-103,7632,89.333258734809021,3819.3275235493979,"T+50 sec",40098.102962962919,59.889117745792163,3788.3545065487133,335,214.12771426930146,6.3529411764705879,240,10,0,-103,7632,88.705803366268384,3819.3285592023067]
["T+52 sec",40098.102986111066,{"$f":"LOOKUP(B105,Data!$A$6:$A$1806,Data!B$6:B$1806)","v":59.88800048828125},{"$f":"LOOKUP(B105,Data!$A$6:$A$1806,Data!C$6:C$1806)","v":3799.959228515625},59.889117745792163,3788.3545065487133,null,89.599609375,89.717630912036086,null,3752.7309516816981,0.56196009855523055,3778.1765844028282,{"$f":"AVERAGE(D$79:D105)","v":3768.9516059027778},{"$f":"AVERAGE(M$79:M105)","v":3763.61029518856},3687.8956628169908,{"$f":"AVERAGE(P$79:P105)","v":3680.8711615850511},633,null,null,null,null,null,null,0,633,-410.70629750976877,-413.95153300118005,"T+52 sec",null,null,null,null,null,null,59.88833342658149,-411.99633140597354,59.889117745792163,-413.95153300118005,"T+52 sec",40098.102986111066,{"$f":"LOOKUP($AO105,Data!$A$6:$A$1806,Data!$B$6:$B$1806)","v":59.88800048828125},{"$f":"LOOKUP($AO105,Data!$A$6:$A$1806,Data!$C$6:$C$1806)","v":3799.959228515625},{"$f":"LOOKUP($AO105,Data!$A$6:$A$1806,Data!$D$6:$D$1806)","v":335},{"$f":"IF($AS$1=\"+\",LOOKUP($AO105,Data!$A$6:$A$1806,Data!$E$6:$E$1806)*-1,LOOKUP($AO105,Data!$A$6:$A$1806,Data!$E$6:$E$1806))","v":218.32725524902344},{"$f":"LOOKUP($AO105,Data!$A$6:$A$1806,Data!$F$6:$F$1806)","v":14},{"$f":"LOOKUP($AO105,Data!$A$6:$A$1806,Data!$G$6:$G$1806)","v":244},{"$f":"LOOKUP($AO105,Data!$A$6:$A$1806,Data!$H$6:$H$1806)","v":10},{"$f":"LOOKUP($AO105,Data!$A$6:$A$1806,Data!$I$6:$I$1806)","v":0},{"$f":"LOOKUP($AO105,Data!$A$6:$A$1806,Data!$J$6:$J$1806)","v":-103},{"$f":"LOOKUP($AO105,Data!$A$6:$A$1806,Data!$K$6:$K$1806)","v":7632},89.599609375,"T+52 sec",40098.102986111066,null,null,null,null,null,null,null,null,null,null,null,null,"T+52 sec",40098.102986111066,null,null,null,null,null,null,null,null,null,null,null,null,"T+52 sec",40098.102986111066,null,null,null,null,null,null,null,null,null,null,null,null,"T+52 sec",40098.102986111066,59.88833342658149,3787.272420247396,335,213.96817694769965,6.0555555555555554,239.75,10,0,-103,7632,89.333258734809021,3819.3275235493979,"T+52 sec",40098.102986111066,59.889117745792163,3788.3545065487133,335,214.12771426930146,6.3529411764705879,240,10,0,-103,7632,88.705803366268384,3819.3285592023067]
["T+54 sec",40098.103009259212,{"$f":"LOOKUP(B106,Data!$A$6:$A$1806,Data!B$6:B$1806)","v":59.887001037597656},{"$f":"LOOKUP(B106,Data!$A$6:$A$1806,Data!C$6:C$1806)","v":3803.625},null,null,null,90.399169921875,89.956169565479698,null,null,0.56196009855523055,3778.9770831548271,{"$f":"AVERAGE(D$79:D106)","v":3770.18994140625},{"$f":"AVERAGE(M$79:M106)","v":3764.1591090444977},3688.4576229155459,{"$f":"AVERAGE(P$79:P106)","v":3681.1521416343289},633,null,null,null,null,null,null,0,633,-408.06015510929274,null,"T+54 sec",null,null,null,null,null,null,null,null,null,null,"T+54 sec",40098.103009259212,{"$f":"LOOKUP($AO106,Data!$A$6:$A$1806,Data!$B$6:$B$1806)","v":59.887001037597656},{"$f":"LOOKUP($AO106,Data!$A$6:$A$1806,Data!$C$6:$C$1806)","v":3803.625},{"$f":"LOOKUP($AO106,Data!$A$6:$A$1806,Data!$D$6:$D$1806)","v":335},{"$f":"IF($AS$1=\"+\",LOOKUP($AO106,Data!$A$6:$A$1806,Data!$E$6:$E$1806)*-1,LOOKUP($AO106,Data!$A$6:$A$1806,Data!$E$6:$E$1806))","v":218.32725524902344},{"$f":"LOOKUP($AO106,Data!$A$6:$A$1806,Data!$F$6:$F$1806)","v":15},{"$f":"LOOKUP($AO106,Data!$A$6:$A$1806,Data!$G$6:$G$1806)","v":244.5},{"$f":"LOOKUP($AO106,Data!$A$6:$A$1806,Data!$H$6:$H$1806)","v":10},{"$f":"LOOKUP($AO106,Data!$A$6:$A$1806,Data!$I$6:$I$1806)","v":0},{"$f":"LOOKUP($AO106,Data!$A$6:$A$1806,Data!$J$6:$J$1806)","v":-103},{"$f":"LOOKUP($AO106,Data!$A$6:$A$1806,Data!$K$6:$K$1806)","v":7632},90.399169921875,"T+54 sec",40098.103009259212,null,null,null,null,null,null,null,null,null,null,null,null,"T+54 sec",40098.103009259212,null,null,null,null,null,null,null,null,null,null,null,null,"T+54 sec",40098.103009259212,null,null,null,null,null,null,null,null,null,null,null,null,"T+54 sec",40098.103009259212,null,null,null,null,null,null,null,null,null,null,null,null,"T+54 sec",40098.103009259212]
["T+56 sec",40098.103032407358,{"$f":"LOOKUP(B107,Data!$A$6:$A$1806,Data!B$6:B$1806)","v":59.88800048828125},{"$f":"LOOKUP(B107,Data!$A$6:$A$1806,Data!C$6:C$1806)","v":3802.925048828125},null,null,null,89.599609375,{"$f":"L$13*H107+(1-L$13)*I106","v":89.8313734988118},null,null,0.56196009855523055,3779.4142471867144,{"$f":"AVERAGE(D$79:D107)","v":3771.3187382139008},{"$f":"AVERAGE(M$79:M107)","v":3764.6851482907809},3689.019583014101,{"$f":"AVERAGE(P$79:P107)","v":3681.4331216836067},633,null,null,null,null,null,null,0,{"$f":"SUM(R107:Y107)","v":633},-410.70629750976877,null,"T+56 sec",null,null,null,null,null,null,null,null,null,null,"T+56 sec",40098.103032407358,{"$f":"LOOKUP($AO107,Data!$A$6:$A$1806,Data!$B$6:$B$1806)","v":59.88800048828125},{"$f":"LOOKUP($AO107,Data!$A$6:$A$1806,Data!$C$6:$C$1806)","v":3802.925048828125},{"$f":"LOOKUP($AO107,Data!$A$6:$A$1806,Data!$D$6:$D$1806)","v":335},{"$f":"IF($AS$1=\"+\",LOOKUP($AO107,Data!$A$6:$A$1806,Data!$E$6:$E$1806)*-1,LOOKUP($AO107,Data!$A$6:$A$1806,Data!$E$6:$E$1806))","v":218.32725524902344},{"$f":"LOOKUP($AO107,Data!$A$6:$A$1806,Data!$F$6:$F$1806)","v":16},{"$f":"LOOKUP($AO107,Data!$A$6:$A$1806,Data!$G$6:$G$1806)","v":245},{"$f":"LOOKUP($AO107,Data!$A$6:$A$1806,Data!$H$6:$H$1806)","v":10},{"$f":"LOOKUP($AO107,Data!$A$6:$A$1806,Data!$I$6:$I$1806)","v":0},{"$f":"LOOKUP($AO107,Data!$A$6:$A$1806,Data!$J$6:$J$1806)","v":-103},{"$f":"LOOKUP($AO107,Data!$A$6:$A$1806,Data!$K$6:$K$1806)","v":7632},89.599609375,"T+56 sec",40098.103032407358,null,null,null,null,null,null,null,null,null,null,null,null,"T+56 sec",40098.103032407358,null,null,null,null,null,null,null,null,null,null,null,null,"T+56 sec",40098.103032407358,null,null,null,null,null,null,null,null,null,null,null,null,"T+56 sec",40098.103032407358,null,null,null,null,null,null,null,null,null,null,null,null,"T+56 sec",40098.103032407358]
["T+58 sec",40098.103055555504,{"$f":"LOOKUP(B108,Data!$A$6:$A$1806,Data!B$6:B$1806)","v":59.88800048828125},{"$f":"LOOKUP(B108,Data!$A$6:$A$1806,Data!C$6:C$1806)","v":3802.950927734375},null,null,null,{"$f":"(IF((C108-L$2)>0,((C108-L$2-L$5)/((L$4*L$2)-L$5)*L$3*-1),((C108-L$2+L$5)/((L$4*L$2)-L$5)*L$3*-1)))","v":89.599609375},89.750256055477664,null,null,0.56196009855523055,3779.8950898419353,{"$f":"AVERAGE(D$79:D108)","v":3772.3731445312501},{"$f":"AVERAGE(M$79:M108)","v":3765.1921463424865},3689.5815431126562,{"$f":"AVERAGE(P$79:P108)","v":3681.714101732884},633,null,null,null,null,null,null,0,633,-410.70629750976877,null,{"$f":"A108","v":"T+58 sec"},null,null,null,null,null,null,null,null,null,null,"T+58 sec",40098.103055555504,{"$f":"LOOKUP($AO108,Data!$A$6:$A$1806,Data!$B$6:$B$1806)","v":59.88800048828125},{"$f":"LOOKUP($AO108,Data!$A$6:$A$1806,Data!$C$6:$C$1806)","v":3802.950927734375},{"$f":"LOOKUP($AO108,Data!$A$6:$A$1806,Data!$D$6:$D$1806)","v":335},{"$f":"IF($AS$1=\"+\",LOOKUP($AO108,Data!$A$6:$A$1806,Data!$E$6:$E$1806)*-1,LOOKUP($AO108,Data!$A$6:$A$1806,Data!$E$6:$E$1806))","v":218.32725524902344},{"$f":"LOOKUP($AO108,Data!$A$6:$A$1806,Data!$F$6:$F$1806)","v":16},{"$f":"LOOKUP($AO108,Data!$A$6:$A$1806,Data!$G$6:$G$1806)","v":245.5},{"$f":"LOOKUP($AO108,Data!$A$6:$A$1806,Data!$H$6:$H$1806)","v":10},{"$f":"LOOKUP($AO108,Data!$A$6:$A$1806,Data!$I$6:$I$1806)","v":0},{"$f":"LOOKUP($AO108,Data!$A$6:$A$1806,Data!$J$6:$J$1806)","v":-103},{"$f":"LOOKUP($AO108,Data!$A$6:$A$1806,Data!$K$6:$K$1806)","v":7632},{"$f":"(IF((AP108-$L$2)>0,((AP108-$L$2-$L$5)/(($L$4*$L$2)-$L$5)*$L$3*-1),((AP108-$L$2+$L$5)/(($L$4*$L$2)-$L$5)*$L$3*-1)))","v":89.599609375},"T+58 sec",40098.103055555504,null,null,null,null,null,null,null,null,null,null,null,null,"T+58 sec",40098.103055555504,null,null,null,null,null,null,null,null,null,null,null,null,"T+58 sec",40098.103055555504,null,null,null,null,null,null,null,null,null,null,null,null,"T+58 sec",40098.103055555504,null,null,null,null,null,null,null,null,null,null,null,null,"T+58 sec",40098.103055555504]
["T+60 sec",40098.103078703651,{"$f":"LOOKUP(B109,Data!$A$6:$A$1806,Data!B$6:B$1806)","v":59.889999389648437},{"$f":"LOOKUP(B109,Data!$A$6:$A$1806,Data!C$6:C$1806)","v":3804.387939453125},null,null,null,88.00048828125,89.137837334497974,null,null,0.56196009855523055,3779.8446312195106,{"$f":"AVERAGE(D$79:D109)","v":3773.4058798513106},{"$f":"AVERAGE(M$79:M109)","v":3765.6648071449713},3690.1435032112113,{"$f":"AVERAGE(P$79:P109)","v":3681.9950817821614},633,null,null,null,null,null,null,0,633,-416.10289156853094,null,"T+60 sec",null,null,null,null,null,null,null,null,null,null,"T+60 sec",40098.103078703651,{"$f":"LOOKUP($AO109,Data!$A$6:$A$1806,Data!$B$6:$B$1806)","v":59.889999389648437},{"$f":"LOOKUP($AO109,Data!$A$6:$A$1806,Data!$C$6:$C$1806)","v":3804.387939453125},{"$f":"LOOKUP($AO109,Data!$A$6:$A$1806,Data!$D$6:$D$1806)","v":335},{"$f":"IF($AS$1=\"+\",LOOKUP($AO109,Data!$A$6:$A$1806,Data!$E$6:$E$1806)*-1,LOOKUP($AO109,Data!$A$6:$A$1806,Data!$E$6:$E$1806))","v":218.32725524902344},{"$f":"LOOKUP($AO109,Data!$A$6:$A$1806,Data!$F$6:$F$1806)","v":16},{"$f":"LOOKUP($AO109,Data!$A$6:$A$1806,Data!$G$6:$G$1806)","v":246},{"$f":"LOOKUP($AO109,Data!$A$6:$A$1806,Data!$H$6:$H$1806)","v":10},{"$f":"LOOKUP($AO109,Data!$A$6:$A$1806,Data!$I$6:$I$1806)","v":0},{"$f":"LOOKUP($AO109,Data!$A$6:$A$1806,Data!$J$6:$J$1806)","v":-103},{"$f":"LOOKUP($AO109,Data!$A$6:$A$1806,Data!$K$6:$K$1806)","v":7632},88.00048828125,"T+60 sec",40098.103078703651,null,null,null,null,null,null,null,null,null,null,null,null,"T+60 sec",40098.103078703651,null,null,null,null,null,null,null,null,null,null,null,null,"T+60 sec",40098.103078703651,null,null,null,null,null,null,null,null,null,null,null,null,"T+60 sec",40098.103078703651,null,null,null,null,null,null,null,null,null,null,null,null,"T+60 sec",40098.103078703651]
["T+62 sec",{"$f":"B109+TIME(0,0,$B$1)","v":40098.103101851797},{"$f":"LOOKUP(B110,Data!$A$6:$A$1806,Data!B$6:B$1806)","v":59.888999938964844},{"$f":"LOOKUP(B110,Data!$A$6:$A$1806,Data!C$6:C$1806)","v":3805.49609375},null,null,null,88.800048828125,89.019611357267436,null,null,0.56196009855523055,3780.2883653408353,{"$f":"AVERAGE(D$79:D110)","v":3774.4086990356445},{"$f":"AVERAGE(M$79:M110)","v":3766.1217933385919},3690.7054633097664,{"$f":"AVERAGE(P$79:P110)","v":3682.2760618314392},633,null,null,null,null,null,null,0,633,-413.3869827202322,null,"T+62 sec",null,null,null,null,null,null,null,null,null,null,"T+62 sec",40098.103101851797,{"$f":"LOOKUP($AO110,Data!$A$6:$A$1806,Data!$B$6:$B$1806)","v":59.888999938964844},{"$f":"LOOKUP($AO110,Data!$A$6:$A$1806,Data!$C$6:$C$1806)","v":3805.49609375},{"$f":"LOOKUP($AO110,Data!$A$6:$A$1806,Data!$D$6:$D$1806)","v":335},{"$f":"IF($AS$1=\"+\",LOOKUP($AO110,Data!$A$6:$A$1806,Data!$E$6:$E$1806)*-1,LOOKUP($AO110,Data!$A$6:$A$1806,Data!$E$6:$E$1806))","v":217.37942504882812},{"$f":"LOOKUP($AO110,Data!$A$6:$A$1806,Data!$F$6:$F$1806)","v":16},{"$f":"LOOKUP($AO110,Data!$A$6:$A$1806,Data!$G$6:$G$1806)","v":246.5},{"$f":"LOOKUP($AO110,Data!$A$6:$A$1806,Data!$H$6:$H$1806)","v":10},{"$f":"LOOKUP($AO110,Data!$A$6:$A$1806,Data!$I$6:$I$1806)","v":0},{"$f":"LOOKUP($AO110,Data!$A$6:$A$1806,Data!$J$6:$J$1806)","v":-103},{"$f":"LOOKUP($AO110,Data!$A$6:$A$1806,Data!$K$6:$K$1806)","v":7632},88.800048828125,"T+62 sec",40098.103101851797,null,null,null,null,null,null,null,null,null,null,null,null,"T+62 sec",40098.103101851797,null,null,null,null,null,null,null,null,null,null,null,null,"T+62 sec",40098.103101851797,null,null,null,null,null,null,null,null,null,null,null,null,"T+62 sec",40098.103101851797,null,null,null,null,null,null,null,null,null,null,null,null,"T+62 sec",40098.103101851797]
["T+64 sec",40098.103124999943,{"$f":"LOOKUP(B111,Data!$A$6:$A$1806,Data!B$6:B$1806)","v":59.881999969482422},{"$f":"LOOKUP(B111,Data!$A$6:$A$1806,Data!C$6:C$1806)","v":3805.61669921875},null,null,null,94.4000244140625,90.902755927145705,null,null,0.56196009855523055,3782.7334700092688,{"$f":"AVERAGE(D$79:D111)","v":3775.35439601089},{"$f":"AVERAGE(M$79:M111)","v":3766.6251774801276},3691.2674234083215,{"$f":"AVERAGE(P$79:P111)","v":3682.557041880717},633,null,null,null,null,null,null,0,633,-395.31552826474729,null,"T+64 sec",null,null,null,null,null,null,null,null,null,null,"T+64 sec",40098.103124999943,{"$f":"LOOKUP($AO111,Data!$A$6:$A$1806,Data!$B$6:$B$1806)","v":59.881999969482422},{"$f":"LOOKUP($AO111,Data!$A$6:$A$1806,Data!$C$6:$C$1806)","v":3805.61669921875},{"$f":"LOOKUP($AO111,Data!$A$6:$A$1806,Data!$D$6:$D$1806)","v":335},{"$f":"IF($AS$1=\"+\",LOOKUP($AO111,Data!$A$6:$A$1806,Data!$E$6:$E$1806)*-1,LOOKUP($AO111,Data!$A$6:$A$1806,Data!$E$6:$E$1806))","v":217.37942504882812},{"$f":"LOOKUP($AO111,Data!$A$6:$A$1806,Data!$F$6:$F$1806)","v":16},{"$f":"LOOKUP($AO111,Data!$A$6:$A$1806,Data!$G$6:$G$1806)","v":247},{"$f":"LOOKUP($AO111,Data!$A$6:$A$1806,Data!$H$6:$H$1806)","v":10},{"$f":"LOOKUP($AO111,Data!$A$6:$A$1806,Data!$I$6:$I$1806)","v":0},{"$f":"LOOKUP($AO111,Data!$A$6:$A$1806,Data!$J$6:$J$1806)","v":-103},{"$f":"LOOKUP($AO111,Data!$A$6:$A$1806,Data!$K$6:$K$1806)","v":7632},94.4000244140625,"T+64 sec",40098.103124999943,null,null,null,null,null,null,null,null,null,null,null,null,"T+64 sec",40098.103124999943,null,null,null,null,null,null,null,null,null,null,null,null,"T+64 sec",40098.103124999943,null,null,null,null,null,null,null,null,null,null,null,null,"T+64 sec",40098.103124999943,null,null,null,null,null,null,null,null,null,null,null,null,"T+64 sec",40098.103124999943]
["T+66 sec",40098.10314814809,{"$f":"LOOKUP(B112,Data!$A$6:$A$1806,Data!B$6:B$1806)","v":59.873001098632813},{"$f":"LOOKUP(B112,Data!$A$6:$A$1806,Data!C$6:C$1806)","v":3809.2373046875},null,null,null,101.59912109375,94.64648373545721,null,null,0.56196009855523055,3787.0391579161355,{"$f":"AVERAGE(D$79:D112)","v":3776.3509521484375},{"$f":"AVERAGE(M$79:M112)","v":3767.225588669422},3691.8293835068766,{"$f":"AVERAGE(P$79:P112)","v":3682.8380219299943},633,null,null,null,null,null,null,0,633,-374.28131239797113,null,"T+66 sec",null,null,null,null,null,null,null,null,null,null,"T+66 sec",40098.10314814809,{"$f":"LOOKUP($AO112,Data!$A$6:$A$1806,Data!$B$6:$B$1806)","v":59.873001098632813},{"$f":"LOOKUP($AO112,Data!$A$6:$A$1806,Data!$C$6:$C$1806)","v":3809.2373046875},{"$f":"LOOKUP($AO112,Data!$A$6:$A$1806,Data!$D$6:$D$1806)","v":335},{"$f":"IF($AS$1=\"+\",LOOKUP($AO112,Data!$A$6:$A$1806,Data!$E$6:$E$1806)*-1,LOOKUP($AO112,Data!$A$6:$A$1806,Data!$E$6:$E$1806))","v":217.37942504882812},{"$f":"LOOKUP($AO112,Data!$A$6:$A$1806,Data!$F$6:$F$1806)","v":16},{"$f":"LOOKUP($AO112,Data!$A$6:$A$1806,Data!$G$6:$G$1806)","v":247.5},{"$f":"LOOKUP($AO112,Data!$A$6:$A$1806,Data!$H$6:$H$1806)","v":10},{"$f":"LOOKUP($AO112,Data!$A$6:$A$1806,Data!$I$6:$I$1806)","v":0},{"$f":"LOOKUP($AO112,Data!$A$6:$A$1806,Data!$J$6:$J$1806)","v":-103},{"$f":"LOOKUP($AO112,Data!$A$6:$A$1806,Data!$K$6:$K$1806)","v":7631},101.59912109375,"T+66 sec",40098.10314814809,null,null,null,null,null,null,null,null,null,null,null,null,"T+66 sec",40098.10314814809,null,null,null,null,null,null,null,null,null,null,null,null,"T+66 sec",40098.10314814809,null,null,null,null,null,null,null,null,null,null,null,null,"T+66 sec",40098.10314814809,null,null,null,null,null,null,null,null,null,null,null,null,"T+66 sec",40098.10314814809]
["T+68 sec",40098.103171296236,{"$f":"LOOKUP(B113,Data!$A$6:$A$1806,Data!B$6:B$1806)","v":59.856998443603516},{"$f":"LOOKUP(B113,Data!$A$6:$A$1806,Data!C$6:C$1806)","v":3811.5029296875},null,null,null,114.4012451171875,101.56065021906281,null,null,0.56196009855523055,3794.5152844982963,{"$f":"AVERAGE(D$79:D113)","v":3777.3552943638392},{"$f":"AVERAGE(M$79:M113)","v":3768.0052942645329},3692.3913436054318,{"$f":"AVERAGE(P$79:P113)","v":3683.1190019792721},633,null,null,null,null,null,null,0,633,-341.92783723428096,null,"T+68 sec",null,null,null,null,null,null,null,null,null,null,"T+68 sec",40098.103171296236,{"$f":"LOOKUP($AO113,Data!$A$6:$A$1806,Data!$B$6:$B$1806)","v":59.856998443603516},{"$f":"LOOKUP($AO113,Data!$A$6:$A$1806,Data!$C$6:$C$1806)","v":3811.5029296875},{"$f":"LOOKUP($AO113,Data!$A$6:$A$1806,Data!$D$6:$D$1806)","v":335},{"$f":"IF($AS$1=\"+\",LOOKUP($AO113,Data!$A$6:$A$1806,Data!$E$6:$E$1806)*-1,LOOKUP($AO113,Data!$A$6:$A$1806,Data!$E$6:$E$1806))","v":217.37942504882812},{"$f":"LOOKUP($AO113,Data!$A$6:$A$1806,Data!$F$6:$F$1806)","v":16},{"$f":"LOOKUP($AO113,Data!$A$6:$A$1806,Data!$G$6:$G$1806)","v":248},{"$f":"LOOKUP($AO113,Data!$A$6:$A$1806,Data!$H$6:$H$1806)","v":10},{"$f":"LOOKUP($AO113,Data!$A$6:$A$1806,Data!$I$6:$I$1806)","v":0},{"$f":"LOOKUP($AO113,Data!$A$6:$A$1806,Data!$J$6:$J$1806)","v":-103},{"$f":"LOOKUP($AO113,Data!$A$6:$A$1806,Data!$K$6:$K$1806)","v":7625},114.4012451171875,"T+68 sec",40098.103171296236,null,null,null,null,null,null,null,null,null,null,null,null,"T+68 sec",40098.103171296236,null,null,null,null,null,null,null,null,null,null,null,null,"T+68 sec",40098.103171296236,null,null,null,null,null,null,null,null,null,null,null,null,"T+68 sec",40098.103171296236,null,null,null,null,null,null,null,null,null,null,null,null,"T+68 sec",40098.103171296236]
["T+70 sec",40098.103194444382,{"$f":"LOOKUP(B114,Data!$A$6:$A$1806,Data!B$6:B$1806)","v":59.8489990234375},{"$f":"LOOKUP(B114,Data!$A$6:$A$1806,Data!C$6:C$1806)","v":3814.8623046875},null,null,null,120.80078125,108.29469607989083,null,null,0.56196009855523055,3801.8112904576792,{"$f":"AVERAGE(D$79:D114)","v":3778.3971557617187},{"$f":"AVERAGE(M$79:M114)","v":3768.944349714342},3692.9533037039869,{"$f":"AVERAGE(P$79:P114)","v":3683.3999820285494},633,null,null,null,null,null,null,0,633,-327.76495092774343,null,"T+70 sec",null,null,null,null,null,null,null,null,null,null,"T+70 sec",40098.103194444382,{"$f":"LOOKUP($AO114,Data!$A$6:$A$1806,Data!$B$6:$B$1806)","v":59.8489990234375},{"$f":"LOOKUP($AO114,Data!$A$6:$A$1806,Data!$C$6:$C$1806)","v":3814.8623046875},{"$f":"LOOKUP($AO114,Data!$A$6:$A$1806,Data!$D$6:$D$1806)","v":335},{"$f":"IF($AS$1=\"+\",LOOKUP($AO114,Data!$A$6:$A$1806,Data!$E$6:$E$1806)*-1,LOOKUP($AO114,Data!$A$6:$A$1806,Data!$E$6:$E$1806))","v":217.37942504882812},{"$f":"LOOKUP($AO114,Data!$A$6:$A$1806,Data!$F$6:$F$1806)","v":16},{"$f":"LOOKUP($AO114,Data!$A$6:$A$1806,Data!$G$6:$G$1806)","v":248.5},{"$f":"LOOKUP($AO114,Data!$A$6:$A$1806,Data!$H$6:$H$1806)","v":10},{"$f":"LOOKUP($AO114,Data!$A$6:$A$1806,Data!$I$6:$I$1806)","v":0},{"$f":"LOOKUP($AO114,Data!$A$6:$A$1806,Data!$J$6:$J$1806)","v":-103},{"$f":"LOOKUP($AO114,Data!$A$6:$A$1806,Data!$K$6:$K$1806)","v":7623},120.80078125,"T+70 sec",40098.103194444382,null,null,null,null,null,null,null,null,null,null,null,null,"T+70 sec",40098.103194444382,null,null,null,null,null,null,null,null,null,null,null,null,"T+70 sec",40098.103194444382,null,null,null,null,null,null,null,null,null,null,null,null,"T+70 sec",40098.103194444382,null,null,null,null,null,null,null,null,null,null,null,null,"T+70 sec",40098.103194444382]
["T+72 sec",40098.103217592528,{"$f":"LOOKUP(B115,Data!$A$6:$A$1806,Data!B$6:B$1806)","v":59.852001190185547},{"$f":"LOOKUP(B115,Data!$A$6:$A$1806,Data!C$6:C$1806)","v":3815.888916015625},null,null,null,118.3990478515625,111.83121919997592,null,null,0.56196009855523055,3805.9097736763192,{"$f":"AVERAGE(D$79:D115)","v":3779.4104465793921},{"$f":"AVERAGE(M$79:M115)","v":3769.9434152268277},3693.515263802542,{"$f":"AVERAGE(P$79:P115)","v":3683.6809620778272},633,null,null,null,null,null,null,0,633,-332.94054609888167,null,"T+72 sec",null,null,null,null,null,null,null,null,null,null,"T+72 sec",40098.103217592528,{"$f":"LOOKUP($AO115,Data!$A$6:$A$1806,Data!$B$6:$B$1806)","v":59.852001190185547},{"$f":"LOOKUP($AO115,Data!$A$6:$A$1806,Data!$C$6:$C$1806)","v":3815.888916015625},{"$f":"LOOKUP($AO115,Data!$A$6:$A$1806,Data!$D$6:$D$1806)","v":335},{"$f":"IF($AS$1=\"+\",LOOKUP($AO115,Data!$A$6:$A$1806,Data!$E$6:$E$1806)*-1,LOOKUP($AO115,Data!$A$6:$A$1806,Data!$E$6:$E$1806))","v":214.83035278320312},{"$f":"LOOKUP($AO115,Data!$A$6:$A$1806,Data!$F$6:$F$1806)","v":16},{"$f":"LOOKUP($AO115,Data!$A$6:$A$1806,Data!$G$6:$G$1806)","v":249},{"$f":"LOOKUP($AO115,Data!$A$6:$A$1806,Data!$H$6:$H$1806)","v":10},{"$f":"LOOKUP($AO115,Data!$A$6:$A$1806,Data!$I$6:$I$1806)","v":0},{"$f":"LOOKUP($AO115,Data!$A$6:$A$1806,Data!$J$6:$J$1806)","v":-103},{"$f":"LOOKUP($AO115,Data!$A$6:$A$1806,Data!$K$6:$K$1806)","v":7621},118.3990478515625,"T+72 sec",40098.103217592528,null,null,null,null,null,null,null,null,null,null,null,null,"T+72 sec",40098.103217592528,null,null,null,null,null,null,null,null,null,null,null,null,"T+72 sec",40098.103217592528,null,null,null,null,null,null,null,null,null,null,null,null,"T+72 sec",40098.103217592528,null,null,null,null,null,null,null,null,null,null,null,null,"T+72 sec",40098.103217592528]
["T+74 sec",40098.103240740675,{"$f":"LOOKUP(B116,Data!$A$6:$A$1806,Data!B$6:B$1806)","v":59.858001708984375},{"$f":"LOOKUP(B116,Data!$A$6:$A$1806,Data!C$6:C$1806)","v":3825.642578125},null,null,null,113.5986328125,112.44981396435935,null,null,0.56196009855523055,3807.0903285392578,{"$f":"AVERAGE(D$79:D116)","v":3780.6270816200658},{"$f":"AVERAGE(M$79:M116)","v":3770.9209655771547},3694.0772239010971,{"$f":"AVERAGE(P$79:P116)","v":3683.9619421271041},633,null,null,null,null,null,null,0,633,-343.79095808460772,null,"T+74 sec",null,null,null,null,null,null,null,null,null,null,"T+74 sec",40098.103240740675,{"$f":"LOOKUP($AO116,Data!$A$6:$A$1806,Data!$B$6:$B$1806)","v":59.858001708984375},{"$f":"LOOKUP($AO116,Data!$A$6:$A$1806,Data!$C$6:$C$1806)","v":3825.642578125},{"$f":"LOOKUP($AO116,Data!$A$6:$A$1806,Data!$D$6:$D$1806)","v":335},{"$f":"IF($AS$1=\"+\",LOOKUP($AO116,Data!$A$6:$A$1806,Data!$E$6:$E$1806)*-1,LOOKUP($AO116,Data!$A$6:$A$1806,Data!$E$6:$E$1806))","v":214.83035278320312},{"$f":"LOOKUP($AO116,Data!$A$6:$A$1806,Data!$F$6:$F$1806)","v":16},{"$f":"LOOKUP($AO116,Data!$A$6:$A$1806,Data!$G$6:$G$1806)","v":249.5},{"$f":"LOOKUP($AO116,Data!$A$6:$A$1806,Data!$H$6:$H$1806)","v":10},{"$f":"LOOKUP($AO116,Data!$A$6:$A$1806,Data!$I$6:$I$1806)","v":0},{"$f":"LOOKUP($AO116,Data!$A$6:$A$1806,Data!$J$6:$J$1806)","v":-103},{"$f":"LOOKUP($AO116,Data!$A$6:$A$1806,Data!$K$6:$K$1806)","v":7623},113.5986328125,"T+74 sec",40098.103240740675,null,null,null,null,null,null,null,null,null,null,null,null,"T+74 sec",40098.103240740675,null,null,null,null,null,null,null,null,null,null,null,null,"T+74 sec",40098.103240740675,null,null,null,null,null,null,null,null,null,null,null,null,"T+74 sec",40098.103240740675,null,null,null,null,null,null,null,null,null,null,null,null,"T+74 sec",40098.103240740675]
["T+76 sec",40098.103263888821,{"$f":"LOOKUP(B117,Data!$A$6:$A$1806,Data!B$6:B$1806)","v":59.862998962402344},{"$f":"LOOKUP(B117,Data!$A$6:$A$1806,Data!C$6:C$1806)","v":3826.05322265625},null,null,null,109.600830078125,111.45266960417733,null,null,0.56196009855523055,3806.6551442776308,{"$f":"AVERAGE(D$79:D117)","v":3781.7918544671475},{"$f":"AVERAGE(M$79:M117)","v":3771.8372265694748},3694.6391839996522,{"$f":"AVERAGE(P$79:P117)","v":3684.2429221763819},633,null,null,null,null,null,null,0,633,-353.38201701028868,null,"T+76 sec",null,null,null,null,null,null,null,null,null,null,"T+76 sec",40098.103263888821,{"$f":"LOOKUP($AO117,Data!$A$6:$A$1806,Data!$B$6:$B$1806)","v":59.862998962402344},{"$f":"LOOKUP($AO117,Data!$A$6:$A$1806,Data!$C$6:$C$1806)","v":3826.05322265625},{"$f":"LOOKUP($AO117,Data!$A$6:$A$1806,Data!$D$6:$D$1806)","v":335},{"$f":"IF($AS$1=\"+\",LOOKUP($AO117,Data!$A$6:$A$1806,Data!$E$6:$E$1806)*-1,LOOKUP($AO117,Data!$A$6:$A$1806,Data!$E$6:$E$1806))","v":214.83035278320312},{"$f":"LOOKUP($AO117,Data!$A$6:$A$1806,Data!$F$6:$F$1806)","v":16},{"$f":"LOOKUP($AO117,Data!$A$6:$A$1806,Data!$G$6:$G$1806)","v":250},{"$f":"LOOKUP($AO117,Data!$A$6:$A$1806,Data!$H$6:$H$1806)","v":10},{"$f":"LOOKUP($AO117,Data!$A$6:$A$1806,Data!$I$6:$I$1806)","v":0},{"$f":"LOOKUP($AO117,Data!$A$6:$A$1806,Data!$J$6:$J$1806)","v":-103},{"$f":"LOOKUP($AO117,Data!$A$6:$A$1806,Data!$K$6:$K$1806)","v":7625},109.600830078125,"T+76 sec",40098.103263888821,null,null,null,null,null,null,null,null,null,null,null,null,"T+76 sec",40098.103263888821,null,null,null,null,null,null,null,null,null,null,null,null,"T+76 sec",40098.103263888821,null,null,null,null,null,null,null,null,null,null,null,null,"T+76 sec",40098.103263888821,null,null,null,null,null,null,null,null,null,null,null,null,"T+76 sec",40098.103263888821]
["T+78 sec",40098.103287036967,{"$f":"LOOKUP(B118,Data!$A$6:$A$1806,Data!B$6:B$1806)","v":59.866001129150391},{"$f":"LOOKUP(B118,Data!$A$6:$A$1806,Data!C$6:C$1806)","v":3826.00244140625},null,null,null,107.1990966796875,109.96391908060589,null,null,0.56196009855523055,3805.7283538526144,{"$f":"AVERAGE(D$79:D118)","v":3782.8971191406249},{"$f":"AVERAGE(M$79:M118)","v":3772.6845047515535},3695.2011440982074,{"$f":"AVERAGE(P$79:P118)","v":3684.5239022256596},633,null,null,null,null,null,null,0,633,-359.40567740328515,null,"T+78 sec",null,null,null,null,null,null,null,null,null,null,"T+78 sec",40098.103287036967,{"$f":"LOOKUP($AO118,Data!$A$6:$A$1806,Data!$B$6:$B$1806)","v":59.866001129150391},{"$f":"LOOKUP($AO118,Data!$A$6:$A$1806,Data!$C$6:$C$1806)","v":3826.00244140625},{"$f":"LOOKUP($AO118,Data!$A$6:$A$1806,Data!$D$6:$D$1806)","v":335},{"$f":"IF($AS$1=\"+\",LOOKUP($AO118,Data!$A$6:$A$1806,Data!$E$6:$E$1806)*-1,LOOKUP($AO118,Data!$A$6:$A$1806,Data!$E$6:$E$1806))","v":214.83035278320312},{"$f":"LOOKUP($AO118,Data!$A$6:$A$1806,Data!$F$6:$F$1806)","v":16},{"$f":"LOOKUP($AO118,Data!$A$6:$A$1806,Data!$G$6:$G$1806)","v":250.5},{"$f":"LOOKUP($AO118,Data!$A$6:$A$1806,Data!$H$6:$H$1806)","v":10},{"$f":"LOOKUP($AO118,Data!$A$6:$A$1806,Data!$I$6:$I$1806)","v":0},{"$f":"LOOKUP($AO118,Data!$A$6:$A$1806,Data!$J$6:$J$1806)","v":-103},{"$f":"LOOKUP($AO118,Data!$A$6:$A$1806,Data!$K$6:$K$1806)","v":7627},107.1990966796875,"T+78 sec",40098.103287036967,null,null,null,null,null,null,null,null,null,null,null,null,"T+78 sec",40098.103287036967,null,null,null,null,null,null,null,null,null,null,null,null,"T+78 sec",40098.103287036967,null,null,null,null,null,null,null,null,null,null,null,null,"T+78 sec",40098.103287036967,null,null,null,null,null,null,null,null,null,null,null,null,"T+78 sec",40098.103287036967]
["T+80 sec",40098.103310185114,{"$f":"LOOKUP(B119,Data!$A$6:$A$1806,Data!B$6:B$1806)","v":59.865001678466797},{"$f":"LOOKUP(B119,Data!$A$6:$A$1806,Data!C$6:C$1806)","v":3827.52392578125},null,null,null,107.9986572265625,109.27607743169071,null,null,0.56196009855523055,3805.6024723022542,{"$f":"AVERAGE(D$79:D119)","v":3783.985577839177},{"$f":"AVERAGE(M$79:M119)","v":3773.4873820088874},3695.7631041967625,{"$f":"AVERAGE(P$79:P119)","v":3684.804882274937},633,null,null,null,null,null,null,0,633,-357.37766781978974,null,"T+80 sec",null,null,null,null,null,null,null,null,null,null,"T+80 sec",40098.103310185114,{"$f":"LOOKUP($AO119,Data!$A$6:$A$1806,Data!$B$6:$B$1806)","v":59.865001678466797},{"$f":"LOOKUP($AO119,Data!$A$6:$A$1806,Data!$C$6:$C$1806)","v":3827.52392578125},{"$f":"LOOKUP($AO119,Data!$A$6:$A$1806,Data!$D$6:$D$1806)","v":335},{"$f":"IF($AS$1=\"+\",LOOKUP($AO119,Data!$A$6:$A$1806,Data!$E$6:$E$1806)*-1,LOOKUP($AO119,Data!$A$6:$A$1806,Data!$E$6:$E$1806))","v":214.83035278320312},{"$f":"LOOKUP($AO119,Data!$A$6:$A$1806,Data!$F$6:$F$1806)","v":16},{"$f":"LOOKUP($AO119,Data!$A$6:$A$1806,Data!$G$6:$G$1806)","v":251},{"$f":"LOOKUP($AO119,Data!$A$6:$A$1806,Data!$H$6:$H$1806)","v":10},{"$f":"LOOKUP($AO119,Data!$A$6:$A$1806,Data!$I$6:$I$1806)","v":0},{"$f":"LOOKUP($AO119,Data!$A$6:$A$1806,Data!$J$6:$J$1806)","v":-103},{"$f":"LOOKUP($AO119,Data!$A$6:$A$1806,Data!$K$6:$K$1806)","v":7628},107.9986572265625,"T+80 sec",40098.103310185114,null,null,null,null,null,null,null,null,null,null,null,null,"T+80 sec",40098.103310185114,null,null,null,null,null,null,null,null,null,null,null,null,"T+80 sec",40098.103310185114,null,null,null,null,null,null,null,null,null,null,null,null,"T+80 sec",40098.103310185114,null,null,null,null,null,null,null,null,null,null,null,null,"T+80 sec",40098.103310185114]
[null,40098.10333333326,{"$f":"LOOKUP(B120,Data!$A$6:$A$1806,Data!B$6:B$1806)","v":59.867000579833984},{"$f":"LOOKUP(B120,Data!$A$6:$A$1806,Data!C$6:C$1806)","v":3826.753173828125},null,null,null,106.3995361328125,108.26928797708334,null,null,0.56196009855523055,3805.157642946202,{"$f":"AVERAGE(D$79:D120)","v":3785.0038539341517},{"$f":"AVERAGE(M$79:M120)","v":3774.2414358407282},3696.3250642953176,{"$f":"AVERAGE(P$79:P120)","v":3685.0858623242148},633,null,null,null,null,null,null,0,633,-361.45683502013543,null,null,null,null,null,null,null,null,null,null,null,null,null,40098.10333333326,{"$f":"LOOKUP($AO120,Data!$A$6:$A$1806,Data!$B$6:$B$1806)","v":59.867000579833984},{"$f":"LOOKUP($AO120,Data!$A$6:$A$1806,Data!$C$6:$C$1806)","v":3826.753173828125},{"$f":"LOOKUP($AO120,Data!$A$6:$A$1806,Data!$D$6:$D$1806)","v":335},{"$f":"IF($AS$1=\"+\",LOOKUP($AO120,Data!$A$6:$A$1806,Data!$E$6:$E$1806)*-1,LOOKUP($AO120,Data!$A$6:$A$1806,Data!$E$6:$E$1806))","v":227.65591430664062},{"$f":"LOOKUP($AO120,Data!$A$6:$A$1806,Data!$F$6:$F$1806)","v":16},{"$f":"LOOKUP($AO120,Data!$A$6:$A$1806,Data!$G$6:$G$1806)","v":251.5},{"$f":"LOOKUP($AO120,Data!$A$6:$A$1806,Data!$H$6:$H$1806)","v":10},{"$f":"LOOKUP($AO120,Data!$A$6:$A$1806,Data!$I$6:$I$1806)","v":0},{"$f":"LOOKUP($AO120,Data!$A$6:$A$1806,Data!$J$6:$J$1806)","v":-103},{"$f":"LOOKUP($AO120,Data!$A$6:$A$1806,Data!$K$6:$K$1806)","v":7628},106.3995361328125]
[null,40098.103356481406,{"$f":"LOOKUP(B121,Data!$A$6:$A$1806,Data!B$6:B$1806)","v":59.866001129150391},{"$f":"LOOKUP(B121,Data!$A$6:$A$1806,Data!C$6:C$1806)","v":3826.783447265625},null,null,null,107.1990966796875,107.8947210229948,null,null,0.56196009855523055,3805.3450360906686,{"$f":"AVERAGE(D$79:D121)","v":3785.9754723837209},{"$f":"AVERAGE(M$79:M121)","v":3774.9647753814243},3696.8870243938727,{"$f":"AVERAGE(P$79:P121)","v":3685.3668423734916},633,null,null,null,null,null,null,0,633,-359.40567740328515,null,null,null,null,null,null,null,null,null,null,null,null,null,40098.103356481406,{"$f":"LOOKUP($AO121,Data!$A$6:$A$1806,Data!$B$6:$B$1806)","v":59.866001129150391},{"$f":"LOOKUP($AO121,Data!$A$6:$A$1806,Data!$C$6:$C$1806)","v":3826.783447265625},{"$f":"LOOKUP($AO121,Data!$A$6:$A$1806,Data!$D$6:$D$1806)","v":335},{"$f":"IF($AS$1=\"+\",LOOKUP($AO121,Data!$A$6:$A$1806,Data!$E$6:$E$1806)*-1,LOOKUP($AO121,Data!$A$6:$A$1806,Data!$E$6:$E$1806))","v":227.65591430664062},{"$f":"LOOKUP($AO121,Data!$A$6:$A$1806,Data!$F$6:$F$1806)","v":16},{"$f":"LOOKUP($AO121,Data!$A$6:$A$1806,Data!$G$6:$G$1806)","v":252},{"$f":"LOOKUP($AO121,Data!$A$6:$A$1806,Data!$H$6:$H$1806)","v":10},{"$f":"LOOKUP($AO121,Data!$A$6:$A$1806,Data!$I$6:$I$1806)","v":0},{"$f":"LOOKUP($AO121,Data!$A$6:$A$1806,Data!$J$6:$J$1806)","v":-103},{"$f":"LOOKUP($AO121,Data!$A$6:$A$1806,Data!$K$6:$K$1806)","v":7629},107.1990966796875]
[null,40098.103379629552,{"$f":"LOOKUP(B122,Data!$A$6:$A$1806,Data!B$6:B$1806)","v":59.870998382568359},{"$f":"LOOKUP(B122,Data!$A$6:$A$1806,Data!C$6:C$1806)","v":3826.45361328125},null,null,null,103.2012939453125,106.252021545806,null,null,0.56196009855523055,3804.264296712035,{"$f":"AVERAGE(D$79:D122)","v":3786.895430131392},{"$f":"AVERAGE(M$79:M122)","v":3775.6306735934836},3697.4489844924278,{"$f":"AVERAGE(P$79:P122)","v":3685.6478224227694},633,null,null,null,null,null,null,0,633,-369.90105745947801,null,null,null,null,null,null,null,null,null,null,null,null,null,40098.103379629552,{"$f":"LOOKUP($AO122,Data!$A$6:$A$1806,Data!$B$6:$B$1806)","v":59.870998382568359},{"$f":"LOOKUP($AO122,Data!$A$6:$A$1806,Data!$C$6:$C$1806)","v":3826.45361328125},{"$f":"LOOKUP($AO122,Data!$A$6:$A$1806,Data!$D$6:$D$1806)","v":335},{"$f":"IF($AS$1=\"+\",LOOKUP($AO122,Data!$A$6:$A$1806,Data!$E$6:$E$1806)*-1,LOOKUP($AO122,Data!$A$6:$A$1806,Data!$E$6:$E$1806))","v":227.65591430664062},{"$f":"LOOKUP($AO122,Data!$A$6:$A$1806,Data!$F$6:$F$1806)","v":16},{"$f":"LOOKUP($AO122,Data!$A$6:$A$1806,Data!$G$6:$G$1806)","v":252.5},{"$f":"LOOKUP($AO122,Data!$A$6:$A$1806,Data!$H$6:$H$1806)","v":10},{"$f":"LOOKUP($AO122,Data!$A$6:$A$1806,Data!$I$6:$I$1806)","v":0},{"$f":"LOOKUP($AO122,Data!$A$6:$A$1806,Data!$J$6:$J$1806)","v":-103},{"$f":"LOOKUP($AO122,Data!$A$6:$A$1806,Data!$K$6:$K$1806)","v":7630},103.2012939453125]
[null,40098.103402777699,{"$f":"LOOKUP(B123,Data!$A$6:$A$1806,Data!B$6:B$1806)","v":59.874000549316406},{"$f":"LOOKUP(B123,Data!$A$6:$A$1806,Data!C$6:C$1806)","v":3825.71337890625},null,null,null,100.799560546875,104.34366019618015,null,null,0.56196009855523055,3802.9178954609642,{"$f":"AVERAGE(D$79:D123)","v":3787.7580512152776},{"$f":"AVERAGE(M$79:M123)","v":3776.2370563016498},3698.0109445909829,{"$f":"AVERAGE(P$79:P123)","v":3685.9288024720472},633,null,null,null,null,null,null,0,633,-376.50630234583065,null,null,null,null,null,null,null,null,null,null,null,null,null,40098.103402777699,{"$f":"LOOKUP($AO123,Data!$A$6:$A$1806,Data!$B$6:$B$1806)","v":59.874000549316406},{"$f":"LOOKUP($AO123,Data!$A$6:$A$1806,Data!$C$6:$C$1806)","v":3825.71337890625},{"$f":"LOOKUP($AO123,Data!$A$6:$A$1806,Data!$D$6:$D$1806)","v":335},{"$f":"IF($AS$1=\"+\",LOOKUP($AO123,Data!$A$6:$A$1806,Data!$E$6:$E$1806)*-1,LOOKUP($AO123,Data!$A$6:$A$1806,Data!$E$6:$E$1806))","v":227.65591430664062},{"$f":"LOOKUP($AO123,Data!$A$6:$A$1806,Data!$F$6:$F$1806)","v":16},{"$f":"LOOKUP($AO123,Data!$A$6:$A$1806,Data!$G$6:$G$1806)","v":253},{"$f":"LOOKUP($AO123,Data!$A$6:$A$1806,Data!$H$6:$H$1806)","v":10},{"$f":"LOOKUP($AO123,Data!$A$6:$A$1806,Data!$I$6:$I$1806)","v":0},{"$f":"LOOKUP($AO123,Data!$A$6:$A$1806,Data!$J$6:$J$1806)","v":-103},{"$f":"LOOKUP($AO123,Data!$A$6:$A$1806,Data!$K$6:$K$1806)","v":7631},100.799560546875]
[null,40098.103425925845,{"$f":"LOOKUP(B124,Data!$A$6:$A$1806,Data!B$6:B$1806)","v":59.879001617431641},{"$f":"LOOKUP(B124,Data!$A$6:$A$1806,Data!C$6:C$1806)","v":3823.82568359375},null,null,null,96.7987060546875,101.70292624665773,null,null,0.56196009855523055,3800.8391216099972,{"$f":"AVERAGE(D$79:D124)","v":3788.542130180027},{"$f":"AVERAGE(M$79:M124)","v":3776.7718838083529},3698.5729046895381,{"$f":"AVERAGE(P$79:P124)","v":3686.2097825213245},633,null,null,null,null,null,null,0,633,-388.04928923252311,null,null,null,null,null,null,null,null,null,null,null,null,null,40098.103425925845,{"$f":"LOOKUP($AO124,Data!$A$6:$A$1806,Data!$B$6:$B$1806)","v":59.879001617431641},{"$f":"LOOKUP($AO124,Data!$A$6:$A$1806,Data!$C$6:$C$1806)","v":3823.82568359375},{"$f":"LOOKUP($AO124,Data!$A$6:$A$1806,Data!$D$6:$D$1806)","v":335},{"$f":"IF($AS$1=\"+\",LOOKUP($AO124,Data!$A$6:$A$1806,Data!$E$6:$E$1806)*-1,LOOKUP($AO124,Data!$A$6:$A$1806,Data!$E$6:$E$1806))","v":227.65591430664062},{"$f":"LOOKUP($AO124,Data!$A$6:$A$1806,Data!$F$6:$F$1806)","v":16},{"$f":"LOOKUP($AO124,Data!$A$6:$A$1806,Data!$G$6:$G$1806)","v":253.5},{"$f":"LOOKUP($AO124,Data!$A$6:$A$1806,Data!$H$6:$H$1806)","v":10},{"$f":"LOOKUP($AO124,Data!$A$6:$A$1806,Data!$I$6:$I$1806)","v":0},{"$f":"LOOKUP($AO124,Data!$A$6:$A$1806,Data!$J$6:$J$1806)","v":-103},{"$f":"LOOKUP($AO124,Data!$A$6:$A$1806,Data!$K$6:$K$1806)","v":7635},96.7987060546875]
[null,40098.103449073991,{"$f":"LOOKUP(B125,Data!$A$6:$A$1806,Data!B$6:B$1806)","v":59.880001068115234},{"$f":"LOOKUP(B125,Data!$A$6:$A$1806,Data!C$6:C$1806)","v":3822.50537109375},null,null,null,95.9991455078125,99.706602988061903,null,null,0.56196009855523055,3799.4047584499563,{"$f":"AVERAGE(D$79:D125)","v":3789.2647523271276},{"$f":"AVERAGE(M$79:M125)","v":3777.2534343326424},3699.1348647880932,{"$f":"AVERAGE(P$79:P125)","v":3686.4907625706023},633,null,null,null,null,null,null,0,633,-390.44150600442941,null,null,null,null,null,null,null,null,null,null,null,null,null,40098.103449073991,{"$f":"LOOKUP($AO125,Data!$A$6:$A$1806,Data!$B$6:$B$1806)","v":59.880001068115234},{"$f":"LOOKUP($AO125,Data!$A$6:$A$1806,Data!$C$6:$C$1806)","v":3822.50537109375},{"$f":"LOOKUP($AO125,Data!$A$6:$A$1806,Data!$D$6:$D$1806)","v":335},{"$f":"IF($AS$1=\"+\",LOOKUP($AO125,Data!$A$6:$A$1806,Data!$E$6:$E$1806)*-1,LOOKUP($AO125,Data!$A$6:$A$1806,Data!$E$6:$E$1806))","v":225.01808166503906},{"$f":"LOOKUP($AO125,Data!$A$6:$A$1806,Data!$F$6:$F$1806)","v":16},{"$f":"LOOKUP($AO125,Data!$A$6:$A$1806,Data!$G$6:$G$1806)","v":254},{"$f":"LOOKUP($AO125,Data!$A$6:$A$1806,Data!$H$6:$H$1806)","v":10},{"$f":"LOOKUP($AO125,Data!$A$6:$A$1806,Data!$I$6:$I$1806)","v":0},{"$f":"LOOKUP($AO125,Data!$A$6:$A$1806,Data!$J$6:$J$1806)","v":-103},{"$f":"LOOKUP($AO125,Data!$A$6:$A$1806,Data!$K$6:$K$1806)","v":7638},95.9991455078125]
[null,40098.103472222137,{"$f":"LOOKUP(B126,Data!$A$6:$A$1806,Data!B$6:B$1806)","v":59.882999420166016},{"$f":"LOOKUP(B126,Data!$A$6:$A$1806,Data!C$6:C$1806)","v":3819.0810546875},null,null,null,93.6004638671875,97.569454295755861,null,null,0.56196009855523055,3797.8295698562051,{"$f":"AVERAGE(D$79:D126)","v":3789.8859252929687},{"$f":"AVERAGE(M$79:M126)","v":3777.6821038227167},3699.6968248866483,{"$f":"AVERAGE(P$79:P126)","v":3686.7717426198801},633,null,null,null,null,null,null,0,633,-397.79845914578783,null,null,null,null,null,null,null,null,null,null,null,null,null,40098.103472222137,{"$f":"LOOKUP($AO126,Data!$A$6:$A$1806,Data!$B$6:$B$1806)","v":59.882999420166016},{"$f":"LOOKUP($AO126,Data!$A$6:$A$1806,Data!$C$6:$C$1806)","v":3819.0810546875},{"$f":"LOOKUP($AO126,Data!$A$6:$A$1806,Data!$D$6:$D$1806)","v":335},{"$f":"IF($AS$1=\"+\",LOOKUP($AO126,Data!$A$6:$A$1806,Data!$E$6:$E$1806)*-1,LOOKUP($AO126,Data!$A$6:$A$1806,Data!$E$6:$E$1806))","v":225.01808166503906},{"$f":"LOOKUP($AO126,Data!$A$6:$A$1806,Data!$F$6:$F$1806)","v":16},{"$f":"LOOKUP($AO126,Data!$A$6:$A$1806,Data!$G$6:$G$1806)","v":254.5},{"$f":"LOOKUP($AO126,Data!$A$6:$A$1806,Data!$H$6:$H$1806)","v":10},{"$f":"LOOKUP($AO126,Data!$A$6:$A$1806,Data!$I$6:$I$1806)","v":0},{"$f":"LOOKUP($AO126,Data!$A$6:$A$1806,Data!$J$6:$J$1806)","v":-103},{"$f":"LOOKUP($AO126,Data!$A$6:$A$1806,Data!$K$6:$K$1806)","v":7639},93.6004638671875]
[null,40098.103495370284,{"$f":"LOOKUP(B127,Data!$A$6:$A$1806,Data!B$6:B$1806)","v":59.886001586914063},{"$f":"LOOKUP(B127,Data!$A$6:$A$1806,Data!C$6:C$1806)","v":3818.05517578125},null,null,null,91.19873046875,95.339700956303815,null,null,0.56196009855523055,3796.1617766153081,{"$f":"AVERAGE(D$79:D127)","v":3790.4608079559948},{"$f":"AVERAGE(M$79:M127)","v":3778.0592400021574},3700.2587849852034,{"$f":"AVERAGE(P$79:P127)","v":3687.0527226691574},633,null,null,null,null,null,null,0,633,-405.44789212467356,null,null,null,null,null,null,null,null,null,null,null,null,null,40098.103495370284,{"$f":"LOOKUP($AO127,Data!$A$6:$A$1806,Data!$B$6:$B$1806)","v":59.886001586914063},{"$f":"LOOKUP($AO127,Data!$A$6:$A$1806,Data!$C$6:$C$1806)","v":3818.05517578125},{"$f":"LOOKUP($AO127,Data!$A$6:$A$1806,Data!$D$6:$D$1806)","v":335},{"$f":"IF($AS$1=\"+\",LOOKUP($AO127,Data!$A$6:$A$1806,Data!$E$6:$E$1806)*-1,LOOKUP($AO127,Data!$A$6:$A$1806,Data!$E$6:$E$1806))","v":225.01808166503906},{"$f":"LOOKUP($AO127,Data!$A$6:$A$1806,Data!$F$6:$F$1806)","v":16},{"$f":"LOOKUP($AO127,Data!$A$6:$A$1806,Data!$G$6:$G$1806)","v":255},{"$f":"LOOKUP($AO127,Data!$A$6:$A$1806,Data!$H$6:$H$1806)","v":10},{"$f":"LOOKUP($AO127,Data!$A$6:$A$1806,Data!$I$6:$I$1806)","v":0},{"$f":"LOOKUP($AO127,Data!$A$6:$A$1806,Data!$J$6:$J$1806)","v":-103},{"$f":"LOOKUP($AO127,Data!$A$6:$A$1806,Data!$K$6:$K$1806)","v":7642},91.19873046875]
[null,40098.10351851843,{"$f":"LOOKUP(B128,Data!$A$6:$A$1806,Data!B$6:B$1806)","v":59.889999389648437},{"$f":"LOOKUP(B128,Data!$A$6:$A$1806,Data!C$6:C$1806)","v":3816.814697265625},null,null,null,88.00048828125,92.770976520034978,null,null,0.56196009855523055,3794.1550122775943,{"$f":"AVERAGE(D$79:D128)","v":3790.9878857421877},{"$f":"AVERAGE(M$79:M128)","v":3778.3811554476661},3700.8207450837585,{"$f":"AVERAGE(P$79:P128)","v":3687.3337027184352},633,null,null,null,null,null,null,0,633,-416.10289156853094,null,null,null,null,null,null,null,null,null,null,null,null,null,40098.10351851843,{"$f":"LOOKUP($AO128,Data!$A$6:$A$1806,Data!$B$6:$B$1806)","v":59.889999389648437},{"$f":"LOOKUP($AO128,Data!$A$6:$A$1806,Data!$C$6:$C$1806)","v":3816.814697265625},{"$f":"LOOKUP($AO128,Data!$A$6:$A$1806,Data!$D$6:$D$1806)","v":335},{"$f":"IF($AS$1=\"+\",LOOKUP($AO128,Data!$A$6:$A$1806,Data!$E$6:$E$1806)*-1,LOOKUP($AO128,Data!$A$6:$A$1806,Data!$E$6:$E$1806))","v":225.01808166503906},{"$f":"LOOKUP($AO128,Data!$A$6:$A$1806,Data!$F$6:$F$1806)","v":16},{"$f":"LOOKUP($AO128,Data!$A$6:$A$1806,Data!$G$6:$G$1806)","v":255.5},{"$f":"LOOKUP($AO128,Data!$A$6:$A$1806,Data!$H$6:$H$1806)","v":10},{"$f":"LOOKUP($AO128,Data!$A$6:$A$1806,Data!$I$6:$I$1806)","v":0},{"$f":"LOOKUP($AO128,Data!$A$6:$A$1806,Data!$J$6:$J$1806)","v":-103},{"$f":"LOOKUP($AO128,Data!$A$6:$A$1806,Data!$K$6:$K$1806)","v":7644},88.00048828125]
[null,40098.103541666576,{"$f":"LOOKUP(B129,Data!$A$6:$A$1806,Data!B$6:B$1806)","v":59.891998291015625},{"$f":"LOOKUP(B129,Data!$A$6:$A$1806,Data!C$6:C$1806)","v":3815.009765625},null,null,null,86.4013671875,90.541613253647739,null,null,0.56196009855523055,3792.4876091097622,{"$f":"AVERAGE(D$79:D129)","v":3791.4589029947915},{"$f":"AVERAGE(M$79:M129)","v":3778.657752578295},3701.3827051823137,{"$f":"AVERAGE(P$79:P129)","v":3687.6146827677126},633,null,null,null,null,null,null,0,633,-421.6431941404972,null,null,null,null,null,null,null,null,null,null,null,null,null,40098.103541666576,{"$f":"LOOKUP($AO129,Data!$A$6:$A$1806,Data!$B$6:$B$1806)","v":59.891998291015625},{"$f":"LOOKUP($AO129,Data!$A$6:$A$1806,Data!$C$6:$C$1806)","v":3815.009765625},{"$f":"LOOKUP($AO129,Data!$A$6:$A$1806,Data!$D$6:$D$1806)","v":335},{"$f":"IF($AS$1=\"+\",LOOKUP($AO129,Data!$A$6:$A$1806,Data!$E$6:$E$1806)*-1,LOOKUP($AO129,Data!$A$6:$A$1806,Data!$E$6:$E$1806))","v":225.01808166503906},{"$f":"LOOKUP($AO129,Data!$A$6:$A$1806,Data!$F$6:$F$1806)","v":16},{"$f":"LOOKUP($AO129,Data!$A$6:$A$1806,Data!$G$6:$G$1806)","v":256},{"$f":"LOOKUP($AO129,Data!$A$6:$A$1806,Data!$H$6:$H$1806)","v":10},{"$f":"LOOKUP($AO129,Data!$A$6:$A$1806,Data!$I$6:$I$1806)","v":0},{"$f":"LOOKUP($AO129,Data!$A$6:$A$1806,Data!$J$6:$J$1806)","v":-103},{"$f":"LOOKUP($AO129,Data!$A$6:$A$1806,Data!$K$6:$K$1806)","v":7645},86.4013671875]
[null,40098.103564814723,{"$f":"LOOKUP(B130,Data!$A$6:$A$1806,Data!B$6:B$1806)","v":59.888999938964844},{"$f":"LOOKUP(B130,Data!$A$6:$A$1806,Data!C$6:C$1806)","v":3813.78271484375},null,null,null,88.800048828125,89.932065704714773,null,null,0.56196009855523055,3792.4400216593845,{"$f":"AVERAGE(D$79:D130)","v":3791.8882070688101},{"$f":"AVERAGE(M$79:M130)","v":3778.9227962144701},3701.9446652808688,{"$f":"AVERAGE(P$79:P130)","v":3687.8956628169899},633,null,null,null,null,null,null,0,633,-413.3869827202322,null,null,null,null,null,null,null,null,null,null,null,null,null,40098.103564814723,{"$f":"LOOKUP($AO130,Data!$A$6:$A$1806,Data!$B$6:$B$1806)","v":59.888999938964844},{"$f":"LOOKUP($AO130,Data!$A$6:$A$1806,Data!$C$6:$C$1806)","v":3813.78271484375},{"$f":"LOOKUP($AO130,Data!$A$6:$A$1806,Data!$D$6:$D$1806)","v":335},{"$f":"IF($AS$1=\"+\",LOOKUP($AO130,Data!$A$6:$A$1806,Data!$E$6:$E$1806)*-1,LOOKUP($AO130,Data!$A$6:$A$1806,Data!$E$6:$E$1806))","v":228.36515808105469},{"$f":"LOOKUP($AO130,Data!$A$6:$A$1806,Data!$F$6:$F$1806)","v":16},{"$f":"LOOKUP($AO130,Data!$A$6:$A$1806,Data!$G$6:$G$1806)","v":256.5},{"$f":"LOOKUP($AO130,Data!$A$6:$A$1806,Data!$H$6:$H$1806)","v":10},{"$f":"LOOKUP($AO130,Data!$A$6:$A$1806,Data!$I$6:$I$1806)","v":0},{"$f":"LOOKUP($AO130,Data!$A$6:$A$1806,Data!$J$6:$J$1806)","v":-103},{"$f":"LOOKUP($AO130,Data!$A$6:$A$1806,Data!$K$6:$K$1806)","v":7647},88.800048828125]
[null,40098.103587962869,{"$f":"LOOKUP(B131,Data!$A$6:$A$1806,Data!B$6:B$1806)","v":59.893001556396484},{"$f":"LOOKUP(B131,Data!$A$6:$A$1806,Data!C$6:C$1806)","v":3811.83837890625},null,null,null,85.5987548828125,88.415406917048969,null,null,0.56196009855523055,3791.485322970274,{"$f":"AVERAGE(D$79:D131)","v":3792.2646254053657},{"$f":"AVERAGE(M$79:M131)","v":3779.1598250211837},3702.5066253794239,{"$f":"AVERAGE(P$79:P131)","v":3688.1766428662677},633,null,null,null,null,null,null,0,633,-424.47990023502325,null,null,null,null,null,null,null,null,null,null,null,null,null,40098.103587962869,{"$f":"LOOKUP($AO131,Data!$A$6:$A$1806,Data!$B$6:$B$1806)","v":59.893001556396484},{"$f":"LOOKUP($AO131,Data!$A$6:$A$1806,Data!$C$6:$C$1806)","v":3811.83837890625},{"$f":"LOOKUP($AO131,Data!$A$6:$A$1806,Data!$D$6:$D$1806)","v":335},{"$f":"IF($AS$1=\"+\",LOOKUP($AO131,Data!$A$6:$A$1806,Data!$E$6:$E$1806)*-1,LOOKUP($AO131,Data!$A$6:$A$1806,Data!$E$6:$E$1806))","v":228.36515808105469},{"$f":"LOOKUP($AO131,Data!$A$6:$A$1806,Data!$F$6:$F$1806)","v":16},{"$f":"LOOKUP($AO131,Data!$A$6:$A$1806,Data!$G$6:$G$1806)","v":257},{"$f":"LOOKUP($AO131,Data!$A$6:$A$1806,Data!$H$6:$H$1806)","v":10},{"$f":"LOOKUP($AO131,Data!$A$6:$A$1806,Data!$I$6:$I$1806)","v":0},{"$f":"LOOKUP($AO131,Data!$A$6:$A$1806,Data!$J$6:$J$1806)","v":-103},{"$f":"LOOKUP($AO131,Data!$A$6:$A$1806,Data!$K$6:$K$1806)","v":7648},85.5987548828125]
[null,40098.103611111015,{"$f":"LOOKUP(B132,Data!$A$6:$A$1806,Data!B$6:B$1806)","v":59.898998260498047},{"$f":"LOOKUP(B132,Data!$A$6:$A$1806,Data!C$6:C$1806)","v":3809.65185546875},null,null,null,80.8013916015625,85.750501556628706,null,null,0.56196009855523055,3789.382377708409,{"$f":"AVERAGE(D$79:D132)","v":3792.5866111472801},{"$f":"AVERAGE(M$79:M132)","v":3779.3491315524288},3703.068585477979,{"$f":"AVERAGE(P$79:P132)","v":3688.4576229155455},633,null,null,null,null,null,null,0,633,-442.26467172398628,null,null,null,null,null,null,null,null,null,null,null,null,null,40098.103611111015,{"$f":"LOOKUP($AO132,Data!$A$6:$A$1806,Data!$B$6:$B$1806)","v":59.898998260498047},{"$f":"LOOKUP($AO132,Data!$A$6:$A$1806,Data!$C$6:$C$1806)","v":3809.65185546875},{"$f":"LOOKUP($AO132,Data!$A$6:$A$1806,Data!$D$6:$D$1806)","v":335},{"$f":"IF($AS$1=\"+\",LOOKUP($AO132,Data!$A$6:$A$1806,Data!$E$6:$E$1806)*-1,LOOKUP($AO132,Data!$A$6:$A$1806,Data!$E$6:$E$1806))","v":228.36515808105469},{"$f":"LOOKUP($AO132,Data!$A$6:$A$1806,Data!$F$6:$F$1806)","v":16},{"$f":"LOOKUP($AO132,Data!$A$6:$A$1806,Data!$G$6:$G$1806)","v":257.5},{"$f":"LOOKUP($AO132,Data!$A$6:$A$1806,Data!$H$6:$H$1806)","v":10},{"$f":"LOOKUP($AO132,Data!$A$6:$A$1806,Data!$I$6:$I$1806)","v":0},{"$f":"LOOKUP($AO132,Data!$A$6:$A$1806,Data!$J$6:$J$1806)","v":-103},{"$f":"LOOKUP($AO132,Data!$A$6:$A$1806,Data!$K$6:$K$1806)","v":7649},80.8013916015625]
[null,40098.103634259161,{"$f":"LOOKUP(B133,Data!$A$6:$A$1806,Data!B$6:B$1806)","v":59.902999877929688},{"$f":"LOOKUP(B133,Data!$A$6:$A$1806,Data!C$6:C$1806)","v":3806.97216796875},null,null,null,77.60009765625,82.897860191496164,null,null,0.56196009855523055,3787.0916964418316,{"$f":"AVERAGE(D$79:D133)","v":3792.8481667258525},{"$f":"AVERAGE(M$79:M133)","v":3779.4899054595089},3703.6305455765341,{"$f":"AVERAGE(P$79:P133)","v":3688.7386029648228},633,null,null,null,null,null,null,0,633,-454.98538765521801,null,null,null,null,null,null,null,null,null,null,null,null,null,40098.103634259161,{"$f":"LOOKUP($AO133,Data!$A$6:$A$1806,Data!$B$6:$B$1806)","v":59.902999877929688},{"$f":"LOOKUP($AO133,Data!$A$6:$A$1806,Data!$C$6:$C$1806)","v":3806.97216796875},{"$f":"LOOKUP($AO133,Data!$A$6:$A$1806,Data!$D$6:$D$1806)","v":335},{"$f":"IF($AS$1=\"+\",LOOKUP($AO133,Data!$A$6:$A$1806,Data!$E$6:$E$1806)*-1,LOOKUP($AO133,Data!$A$6:$A$1806,Data!$E$6:$E$1806))","v":228.36515808105469},{"$f":"LOOKUP($AO133,Data!$A$6:$A$1806,Data!$F$6:$F$1806)","v":16},{"$f":"LOOKUP($AO133,Data!$A$6:$A$1806,Data!$G$6:$G$1806)","v":258},{"$f":"LOOKUP($AO133,Data!$A$6:$A$1806,Data!$H$6:$H$1806)","v":10},{"$f":"LOOKUP($AO133,Data!$A$6:$A$1806,Data!$I$6:$I$1806)","v":0},{"$f":"LOOKUP($AO133,Data!$A$6:$A$1806,Data!$J$6:$J$1806)","v":-103},{"$f":"LOOKUP($AO133,Data!$A$6:$A$1806,Data!$K$6:$K$1806)","v":7650},77.60009765625]
[null,40098.103657407308,{"$f":"LOOKUP(B134,Data!$A$6:$A$1806,Data!B$6:B$1806)","v":59.902000427246094},{"$f":"LOOKUP(B134,Data!$A$6:$A$1806,Data!C$6:C$1806)","v":3805.59326171875},null,null,null,78.399658203125,81.323489495566264,null,null,0.56196009855523055,3786.079285844457,{"$f":"AVERAGE(D$79:D134)","v":3793.0757577078684},{"$f":"AVERAGE(M$79:M134)","v":3779.607572966383},3704.1925056750893,{"$f":"AVERAGE(P$79:P134)","v":3689.0195830141006},633,null,null,null,null,null,null,0,633,-451.7401700792546,null,null,null,null,null,null,null,null,null,null,null,null,null,40098.103657407308,{"$f":"LOOKUP($AO134,Data!$A$6:$A$1806,Data!$B$6:$B$1806)","v":59.902000427246094},{"$f":"LOOKUP($AO134,Data!$A$6:$A$1806,Data!$C$6:$C$1806)","v":3805.59326171875},{"$f":"LOOKUP($AO134,Data!$A$6:$A$1806,Data!$D$6:$D$1806)","v":335},{"$f":"IF($AS$1=\"+\",LOOKUP($AO134,Data!$A$6:$A$1806,Data!$E$6:$E$1806)*-1,LOOKUP($AO134,Data!$A$6:$A$1806,Data!$E$6:$E$1806))","v":228.36515808105469},{"$f":"LOOKUP($AO134,Data!$A$6:$A$1806,Data!$F$6:$F$1806)","v":16},{"$f":"LOOKUP($AO134,Data!$A$6:$A$1806,Data!$G$6:$G$1806)","v":258.5},{"$f":"LOOKUP($AO134,Data!$A$6:$A$1806,Data!$H$6:$H$1806)","v":10},{"$f":"LOOKUP($AO134,Data!$A$6:$A$1806,Data!$I$6:$I$1806)","v":0},{"$f":"LOOKUP($AO134,Data!$A$6:$A$1806,Data!$J$6:$J$1806)","v":-103},{"$f":"LOOKUP($AO134,Data!$A$6:$A$1806,Data!$K$6:$K$1806)","v":7651},78.399658203125]
[null,40098.103680555454,{"$f":"LOOKUP(B135,Data!$A$6:$A$1806,Data!B$6:B$1806)","v":59.902000427246094},{"$f":"LOOKUP(B135,Data!$A$6:$A$1806,Data!C$6:C$1806)","v":3804.1884765625},null,null,null,78.399658203125,80.300148543211833,null,null,0.56196009855523055,3785.6179049906577,{"$f":"AVERAGE(D$79:D135)","v":3793.2707176877743},{"$f":"AVERAGE(M$79:M135)","v":3779.7130173878613},3704.7544657736444,{"$f":"AVERAGE(P$79:P135)","v":3689.3005630633779},633,null,null,null,null,null,null,0,633,-451.7401700792546,null,null,null,null,null,null,null,null,null,null,null,null,null,40098.103680555454,{"$f":"LOOKUP($AO135,Data!$A$6:$A$1806,Data!$B$6:$B$1806)","v":59.902000427246094},{"$f":"LOOKUP($AO135,Data!$A$6:$A$1806,Data!$C$6:$C$1806)","v":3804.1884765625},{"$f":"LOOKUP($AO135,Data!$A$6:$A$1806,Data!$D$6:$D$1806)","v":335},{"$f":"IF($AS$1=\"+\",LOOKUP($AO135,Data!$A$6:$A$1806,Data!$E$6:$E$1806)*-1,LOOKUP($AO135,Data!$A$6:$A$1806,Data!$E$6:$E$1806))","v":234.07533264160156},{"$f":"LOOKUP($AO135,Data!$A$6:$A$1806,Data!$F$6:$F$1806)","v":16},{"$f":"LOOKUP($AO135,Data!$A$6:$A$1806,Data!$G$6:$G$1806)","v":259},{"$f":"LOOKUP($AO135,Data!$A$6:$A$1806,Data!$H$6:$H$1806)","v":10},{"$f":"LOOKUP($AO135,Data!$A$6:$A$1806,Data!$I$6:$I$1806)","v":0},{"$f":"LOOKUP($AO135,Data!$A$6:$A$1806,Data!$J$6:$J$1806)","v":-103},{"$f":"LOOKUP($AO135,Data!$A$6:$A$1806,Data!$K$6:$K$1806)","v":7652},78.399658203125]
[null,40098.1037037036,{"$f":"LOOKUP(B136,Data!$A$6:$A$1806,Data!B$6:B$1806)","v":59.903999328613281},{"$f":"LOOKUP(B136,Data!$A$6:$A$1806,Data!C$6:C$1806)","v":3796.07763671875},null,null,null,76.800537109375,79.075284541368944,null,null,0.56196009855523055,3784.95500108737,{"$f":"AVERAGE(D$79:D136)","v":3793.3191128434805},{"$f":"AVERAGE(M$79:M136)","v":3779.8033964171632},3705.3164258721995,{"$f":"AVERAGE(P$79:P136)","v":3689.5815431126557},633,null,null,null,null,null,null,0,633,-458.2775686899966,null,null,null,null,null,null,null,null,null,null,null,null,null,40098.1037037036,{"$f":"LOOKUP($AO136,Data!$A$6:$A$1806,Data!$B$6:$B$1806)","v":59.903999328613281},{"$f":"LOOKUP($AO136,Data!$A$6:$A$1806,Data!$C$6:$C$1806)","v":3796.07763671875},{"$f":"LOOKUP($AO136,Data!$A$6:$A$1806,Data!$D$6:$D$1806)","v":335},{"$f":"IF($AS$1=\"+\",LOOKUP($AO136,Data!$A$6:$A$1806,Data!$E$6:$E$1806)*-1,LOOKUP($AO136,Data!$A$6:$A$1806,Data!$E$6:$E$1806))","v":234.07533264160156},{"$f":"LOOKUP($AO136,Data!$A$6:$A$1806,Data!$F$6:$F$1806)","v":16},{"$f":"LOOKUP($AO136,Data!$A$6:$A$1806,Data!$G$6:$G$1806)","v":259.5},{"$f":"LOOKUP($AO136,Data!$A$6:$A$1806,Data!$H$6:$H$1806)","v":10},{"$f":"LOOKUP($AO136,Data!$A$6:$A$1806,Data!$I$6:$I$1806)","v":0},{"$f":"LOOKUP($AO136,Data!$A$6:$A$1806,Data!$J$6:$J$1806)","v":-103},{"$f":"LOOKUP($AO136,Data!$A$6:$A$1806,Data!$K$6:$K$1806)","v":7653},76.800537109375]
[null,40098.103726851747,{"$f":"LOOKUP(B137,Data!$A$6:$A$1806,Data!B$6:B$1806)","v":59.907001495361328},{"$f":"LOOKUP(B137,Data!$A$6:$A$1806,Data!C$6:C$1806)","v":3793.97509765625},null,null,null,74.3988037109375,77.438516250717939,null,null,0.56196009855523055,3783.8801928952739,{"$f":"AVERAGE(D$79:D137)","v":3793.3302312301375},{"$f":"AVERAGE(M$79:M137)","v":3779.8724946625548},3705.8783859707546,{"$f":"AVERAGE(P$79:P137)","v":3689.862523161933},633,null,null,null,null,null,null,0,633,-468.45953806793119,null,null,null,null,null,null,null,null,null,null,null,null,null,40098.103726851747,{"$f":"LOOKUP($AO137,Data!$A$6:$A$1806,Data!$B$6:$B$1806)","v":59.907001495361328},{"$f":"LOOKUP($AO137,Data!$A$6:$A$1806,Data!$C$6:$C$1806)","v":3793.97509765625},{"$f":"LOOKUP($AO137,Data!$A$6:$A$1806,Data!$D$6:$D$1806)","v":335},{"$f":"IF($AS$1=\"+\",LOOKUP($AO137,Data!$A$6:$A$1806,Data!$E$6:$E$1806)*-1,LOOKUP($AO137,Data!$A$6:$A$1806,Data!$E$6:$E$1806))","v":234.07533264160156},{"$f":"LOOKUP($AO137,Data!$A$6:$A$1806,Data!$F$6:$F$1806)","v":16},{"$f":"LOOKUP($AO137,Data!$A$6:$A$1806,Data!$G$6:$G$1806)","v":260},{"$f":"LOOKUP($AO137,Data!$A$6:$A$1806,Data!$H$6:$H$1806)","v":10},{"$f":"LOOKUP($AO137,Data!$A$6:$A$1806,Data!$I$6:$I$1806)","v":0},{"$f":"LOOKUP($AO137,Data!$A$6:$A$1806,Data!$J$6:$J$1806)","v":-103},{"$f":"LOOKUP($AO137,Data!$A$6:$A$1806,Data!$K$6:$K$1806)","v":7654},74.3988037109375]
[null,40098.103749999893,{"$f":"LOOKUP(B138,Data!$A$6:$A$1806,Data!B$6:B$1806)","v":59.910999298095703},{"$f":"LOOKUP(B138,Data!$A$6:$A$1806,Data!C$6:C$1806)","v":3792.16943359375},null,null,null,71.2005615234375,75.255232096169777,null,null,0.56196009855523055,3782.2588688392807,{"$f":"AVERAGE(D$79:D138)","v":3793.3108846028645},{"$f":"AVERAGE(M$79:M138)","v":3779.9122675655003},3706.4403460693097,{"$f":"AVERAGE(P$79:P138)","v":3690.1435032112108},633,null,null,null,null,null,null,0,633,-482.74205919466453,null,null,null,null,null,null,null,null,null,null,null,null,null,40098.103749999893,{"$f":"LOOKUP($AO138,Data!$A$6:$A$1806,Data!$B$6:$B$1806)","v":59.910999298095703},{"$f":"LOOKUP($AO138,Data!$A$6:$A$1806,Data!$C$6:$C$1806)","v":3792.16943359375},{"$f":"LOOKUP($AO138,Data!$A$6:$A$1806,Data!$D$6:$D$1806)","v":335},{"$f":"IF($AS$1=\"+\",LOOKUP($AO138,Data!$A$6:$A$1806,Data!$E$6:$E$1806)*-1,LOOKUP($AO138,Data!$A$6:$A$1806,Data!$E$6:$E$1806))","v":234.07533264160156},{"$f":"LOOKUP($AO138,Data!$A$6:$A$1806,Data!$F$6:$F$1806)","v":16},{"$f":"LOOKUP($AO138,Data!$A$6:$A$1806,Data!$G$6:$G$1806)","v":260.5},{"$f":"LOOKUP($AO138,Data!$A$6:$A$1806,Data!$H$6:$H$1806)","v":10},{"$f":"LOOKUP($AO138,Data!$A$6:$A$1806,Data!$I$6:$I$1806)","v":0},{"$f":"LOOKUP($AO138,Data!$A$6:$A$1806,Data!$J$6:$J$1806)","v":-103},{"$f":"LOOKUP($AO138,Data!$A$6:$A$1806,Data!$K$6:$K$1806)","v":7655},71.2005615234375]
[null,40098.103773148039,{"$f":"LOOKUP(B139,Data!$A$6:$A$1806,Data!B$6:B$1806)","v":59.916000366210938},{"$f":"LOOKUP(B139,Data!$A$6:$A$1806,Data!C$6:C$1806)","v":3791.501953125},null,null,null,67.19970703125,72.435798323447855,null,null,0.56196009855523055,3780.001395165114,{"$f":"AVERAGE(D$79:D139)","v":3793.2812299884736},{"$f":"AVERAGE(M$79:M139)","v":3779.9137286736905},3707.0023061678648,{"$f":"AVERAGE(P$79:P139)","v":3690.4244832604882},633,null,null,null,null,null,null,0,633,-501.88361417450841,null,null,null,null,null,null,null,null,null,null,null,null,null,40098.103773148039,{"$f":"LOOKUP($AO139,Data!$A$6:$A$1806,Data!$B$6:$B$1806)","v":59.916000366210938},{"$f":"LOOKUP($AO139,Data!$A$6:$A$1806,Data!$C$6:$C$1806)","v":3791.501953125},{"$f":"LOOKUP($AO139,Data!$A$6:$A$1806,Data!$D$6:$D$1806)","v":335},{"$f":"IF($AS$1=\"+\",LOOKUP($AO139,Data!$A$6:$A$1806,Data!$E$6:$E$1806)*-1,LOOKUP($AO139,Data!$A$6:$A$1806,Data!$E$6:$E$1806))","v":234.07533264160156},{"$f":"LOOKUP($AO139,Data!$A$6:$A$1806,Data!$F$6:$F$1806)","v":16},{"$f":"LOOKUP($AO139,Data!$A$6:$A$1806,Data!$G$6:$G$1806)","v":261},{"$f":"LOOKUP($AO139,Data!$A$6:$A$1806,Data!$H$6:$H$1806)","v":10},{"$f":"LOOKUP($AO139,Data!$A$6:$A$1806,Data!$I$6:$I$1806)","v":0},{"$f":"LOOKUP($AO139,Data!$A$6:$A$1806,Data!$J$6:$J$1806)","v":-103},{"$f":"LOOKUP($AO139,Data!$A$6:$A$1806,Data!$K$6:$K$1806)","v":7655},67.19970703125]
[null,40098.103796296185,{"$f":"LOOKUP(B140,Data!$A$6:$A$1806,Data!B$6:B$1806)","v":59.916000366210938},{"$f":"LOOKUP(B140,Data!$A$6:$A$1806,Data!C$6:C$1806)","v":3789.53369140625},null,null,null,67.19970703125,70.603166371178617,null,null,0.56196009855523055,3778.7307233113997,{"$f":"AVERAGE(D$79:D140)","v":3793.2207858177921},{"$f":"AVERAGE(M$79:M140)","v":3779.8946479420406},3707.56426626642,{"$f":"AVERAGE(P$79:P140)","v":3690.7054633097655},633,null,null,null,null,null,null,0,633,-501.88361417450841,null,null,null,null,null,null,null,null,null,null,null,null,null,40098.103796296185,{"$f":"LOOKUP($AO140,Data!$A$6:$A$1806,Data!$B$6:$B$1806)","v":59.916000366210938},{"$f":"LOOKUP($AO140,Data!$A$6:$A$1806,Data!$C$6:$C$1806)","v":3789.53369140625},{"$f":"LOOKUP($AO140,Data!$A$6:$A$1806,Data!$D$6:$D$1806)","v":335},{"$f":"IF($AS$1=\"+\",LOOKUP($AO140,Data!$A$6:$A$1806,Data!$E$6:$E$1806)*-1,LOOKUP($AO140,Data!$A$6:$A$1806,Data!$E$6:$E$1806))","v":228.79815673828125},{"$f":"LOOKUP($AO140,Data!$A$6:$A$1806,Data!$F$6:$F$1806)","v":16},{"$f":"LOOKUP($AO140,Data!$A$6:$A$1806,Data!$G$6:$G$1806)","v":261.5},{"$f":"LOOKUP($AO140,Data!$A$6:$A$1806,Data!$H$6:$H$1806)","v":10},{"$f":"LOOKUP($AO140,Data!$A$6:$A$1806,Data!$I$6:$I$1806)","v":0},{"$f":"LOOKUP($AO140,Data!$A$6:$A$1806,Data!$J$6:$J$1806)","v":-103},{"$f":"LOOKUP($AO140,Data!$A$6:$A$1806,Data!$K$6:$K$1806)","v":7656},67.19970703125]
[null,40098.103819444332,{"$f":"LOOKUP(B141,Data!$A$6:$A$1806,Data!B$6:B$1806)","v":59.916999816894531},{"$f":"LOOKUP(B141,Data!$A$6:$A$1806,Data!C$6:C$1806)","v":3788.132080078125},null,null,null,66.400146484375,69.132109410797355,null,null,0.56196009855523055,3777.8216264495736,{"$f":"AVERAGE(D$79:D141)","v":3793.1400127108136},{"$f":"AVERAGE(M$79:M141)","v":3779.8617428389857},3708.1262263649751,{"$f":"AVERAGE(P$79:P141)","v":3690.9864433590433},633,null,null,null,null,null,null,0,633,-505.89245561284571,null,null,null,null,null,null,null,null,null,null,null,null,null,40098.103819444332,{"$f":"LOOKUP($AO141,Data!$A$6:$A$1806,Data!$B$6:$B$1806)","v":59.916999816894531},{"$f":"LOOKUP($AO141,Data!$A$6:$A$1806,Data!$C$6:$C$1806)","v":3788.132080078125},{"$f":"LOOKUP($AO141,Data!$A$6:$A$1806,Data!$D$6:$D$1806)","v":335},{"$f":"IF($AS$1=\"+\",LOOKUP($AO141,Data!$A$6:$A$1806,Data!$E$6:$E$1806)*-1,LOOKUP($AO141,Data!$A$6:$A$1806,Data!$E$6:$E$1806))","v":228.79815673828125},{"$f":"LOOKUP($AO141,Data!$A$6:$A$1806,Data!$F$6:$F$1806)","v":16},{"$f":"LOOKUP($AO141,Data!$A$6:$A$1806,Data!$G$6:$G$1806)","v":262},{"$f":"LOOKUP($AO141,Data!$A$6:$A$1806,Data!$H$6:$H$1806)","v":10},{"$f":"LOOKUP($AO141,Data!$A$6:$A$1806,Data!$I$6:$I$1806)","v":0},{"$f":"LOOKUP($AO141,Data!$A$6:$A$1806,Data!$J$6:$J$1806)","v":-103},{"$f":"LOOKUP($AO141,Data!$A$6:$A$1806,Data!$K$6:$K$1806)","v":7656},66.400146484375]
[null,40098.103842592478,{"$f":"LOOKUP(B142,Data!$A$6:$A$1806,Data!B$6:B$1806)","v":59.917999267578125},{"$f":"LOOKUP(B142,Data!$A$6:$A$1806,Data!C$6:C$1806)","v":3784.5634765625},null,null,null,65.6005859375,67.89607619514328,null,null,0.56196009855523055,3777.1475533324747,{"$f":"AVERAGE(D$79:D142)","v":3793.0060043334961},{"$f":"AVERAGE(M$79:M142)","v":3779.8193336279464},3708.6881864635302,{"$f":"AVERAGE(P$79:P142)","v":3691.2674234083206},633,null,null,null,null,null,null,0,633,-509.96585468919869,null,null,null,null,null,null,null,null,null,null,null,null,null,40098.103842592478,{"$f":"LOOKUP($AO142,Data!$A$6:$A$1806,Data!$B$6:$B$1806)","v":59.917999267578125},{"$f":"LOOKUP($AO142,Data!$A$6:$A$1806,Data!$C$6:$C$1806)","v":3784.5634765625},{"$f":"LOOKUP($AO142,Data!$A$6:$A$1806,Data!$D$6:$D$1806)","v":335},{"$f":"IF($AS$1=\"+\",LOOKUP($AO142,Data!$A$6:$A$1806,Data!$E$6:$E$1806)*-1,LOOKUP($AO142,Data!$A$6:$A$1806,Data!$E$6:$E$1806))","v":228.79815673828125},{"$f":"LOOKUP($AO142,Data!$A$6:$A$1806,Data!$F$6:$F$1806)","v":16},{"$f":"LOOKUP($AO142,Data!$A$6:$A$1806,Data!$G$6:$G$1806)","v":262.5},{"$f":"LOOKUP($AO142,Data!$A$6:$A$1806,Data!$H$6:$H$1806)","v":10},{"$f":"LOOKUP($AO142,Data!$A$6:$A$1806,Data!$I$6:$I$1806)","v":0},{"$f":"LOOKUP($AO142,Data!$A$6:$A$1806,Data!$J$6:$J$1806)","v":-103},{"$f":"LOOKUP($AO142,Data!$A$6:$A$1806,Data!$K$6:$K$1806)","v":7657},65.6005859375]
[null,40098.103865740624,{"$f":"LOOKUP(B143,Data!$A$6:$A$1806,Data!B$6:B$1806)","v":59.919998168945313},{"$f":"LOOKUP(B143,Data!$A$6:$A$1806,Data!C$6:C$1806)","v":3783.0283203125},null,null,null,64.00146484375,66.532962222155632,null,null,0.56196009855523055,3776.346399458042,{"$f":"AVERAGE(D$79:D143)","v":3792.8525015024038},{"$f":"AVERAGE(M$79:M143)","v":3779.7659038714864},3709.2501465620853,{"$f":"AVERAGE(P$79:P143)","v":3691.5484034575984},633,null,null,null,null,null,null,0,633,-518.3126655968515,null,null,null,null,null,null,null,null,null,null,null,null,null,40098.103865740624,{"$f":"LOOKUP($AO143,Data!$A$6:$A$1806,Data!$B$6:$B$1806)","v":59.919998168945313},{"$f":"LOOKUP($AO143,Data!$A$6:$A$1806,Data!$C$6:$C$1806)","v":3783.0283203125},{"$f":"LOOKUP($AO143,Data!$A$6:$A$1806,Data!$D$6:$D$1806)","v":335},{"$f":"IF($AS$1=\"+\",LOOKUP($AO143,Data!$A$6:$A$1806,Data!$E$6:$E$1806)*-1,LOOKUP($AO143,Data!$A$6:$A$1806,Data!$E$6:$E$1806))","v":228.79815673828125},{"$f":"LOOKUP($AO143,Data!$A$6:$A$1806,Data!$F$6:$F$1806)","v":16},{"$f":"LOOKUP($AO143,Data!$A$6:$A$1806,Data!$G$6:$G$1806)","v":263},{"$f":"LOOKUP($AO143,Data!$A$6:$A$1806,Data!$H$6:$H$1806)","v":10},{"$f":"LOOKUP($AO143,Data!$A$6:$A$1806,Data!$I$6:$I$1806)","v":0},{"$f":"LOOKUP($AO143,Data!$A$6:$A$1806,Data!$J$6:$J$1806)","v":-103},{"$f":"LOOKUP($AO143,Data!$A$6:$A$1806,Data!$K$6:$K$1806)","v":7657},64.00146484375]
[null,40098.103888888771,{"$f":"LOOKUP(B144,Data!$A$6:$A$1806,Data!B$6:B$1806)","v":59.921001434326172},{"$f":"LOOKUP(B144,Data!$A$6:$A$1806,Data!C$6:C$1806)","v":3781.701171875},null,null,null,63.1988525390625,65.366023833073029,null,null,{"$f":"IF(B144>G$3,0,(K$21*0.000023148/K$22))","v":0.56196009855523055},{"$f":"M143+L144+(I144-I143)","v":3775.7414211675145},{"$f":"AVERAGE(D$79:D144)","v":3792.6835419625945},{"$f":"AVERAGE(M$79:M144)","v":3779.7049268608198},3709.8121066606404,{"$f":"AVERAGE(P$79:P144)","v":3691.8293835068762},633,null,null,null,null,null,null,0,633,{"$f":"Z144/((C144-G$4)*10)","v":-522.60583666318917},null,null,null,null,null,null,null,null,null,null,null,null,null,40098.103888888771,{"$f":"LOOKUP($AO144,Data!$A$6:$A$1806,Data!$B$6:$B$1806)","v":59.921001434326172},{"$f":"LOOKUP($AO144,Data!$A$6:$A$1806,Data!$C$6:$C$1806)","v":3781.701171875},{"$f":"LOOKUP($AO144,Data!$A$6:$A$1806,Data!$D$6:$D$1806)","v":335},{"$f":"IF($AS$1=\"+\",LOOKUP($AO144,Data!$A$6:$A$1806,Data!$E$6:$E$1806)*-1,LOOKUP($AO144,Data!$A$6:$A$1806,Data!$E$6:$E$1806))","v":228.79815673828125},{"$f":"LOOKUP($AO144,Data!$A$6:$A$1806,Data!$F$6:$F$1806)","v":16},{"$f":"LOOKUP($AO144,Data!$A$6:$A$1806,Data!$G$6:$G$1806)","v":263.5},{"$f":"LOOKUP($AO144,Data!$A$6:$A$1806,Data!$H$6:$H$1806)","v":10},{"$f":"LOOKUP($AO144,Data!$A$6:$A$1806,Data!$I$6:$I$1806)","v":0},{"$f":"LOOKUP($AO144,Data!$A$6:$A$1806,Data!$J$6:$J$1806)","v":-103},{"$f":"LOOKUP($AO144,Data!$A$6:$A$1806,Data!$K$6:$K$1806)","v":7658},63.1988525390625]
[null,40098.103912036917,{"$f":"LOOKUP(B145,Data!$A$6:$A$1806,Data!B$6:B$1806)","v":59.919998168945313},{"$f":"LOOKUP(B145,Data!$A$6:$A$1806,Data!C$6:C$1806)","v":3776.3583984375},null,null,null,64.00146484375,64.888428186809961,null,null,0.56196009855523055,3775.8257856198065,{"$f":"AVERAGE(D$79:D145)","v":3792.4398831040112},{"$f":"AVERAGE(M$79:M145)","v":3779.647029230357},3710.3740667591956,{"$f":"AVERAGE(P$79:P145)","v":3692.1103635561535},{"$f":"R$41","v":633},null,null,null,null,null,null,0,633,-518.3126655968515,null,null,null,null,null,null,null,null,null,null,null,null,null,{"$f":"AO144+TIME(0,0,$B$1)","v":40098.103912036917},{"$f":"LOOKUP($AO145,Data!$A$6:$A$1806,Data!$B$6:$B$1806)","v":59.919998168945313},{"$f":"LOOKUP($AO145,Data!$A$6:$A$1806,Data!$C$6:$C$1806)","v":3776.3583984375},{"$f":"LOOKUP($AO145,Data!$A$6:$A$1806,Data!$D$6:$D$1806)","v":335},{"$f":"IF($AS$1=\"+\",LOOKUP($AO145,Data!$A$6:$A$1806,Data!$E$6:$E$1806)*-1,LOOKUP($AO145,Data!$A$6:$A$1806,Data!$E$6:$E$1806))","v":229.46696472167969},{"$f":"LOOKUP($AO145,Data!$A$6:$A$1806,Data!$F$6:$F$1806)","v":16},{"$f":"LOOKUP($AO145,Data!$A$6:$A$1806,Data!$G$6:$G$1806)","v":264},{"$f":"LOOKUP($AO145,Data!$A$6:$A$1806,Data!$H$6:$H$1806)","v":10},{"$f":"LOOKUP($AO145,Data!$A$6:$A$1806,Data!$I$6:$I$1806)","v":0},{"$f":"LOOKUP($AO145,Data!$A$6:$A$1806,Data!$J$6:$J$1806)","v":-103},{"$f":"LOOKUP($AO145,Data!$A$6:$A$1806,Data!$K$6:$K$1806)","v":7658},64.00146484375]
[null,40098.103935185063,{"$f":"LOOKUP(B146,Data!$A$6:$A$1806,Data!B$6:B$1806)","v":59.916999816894531},{"$f":"LOOKUP(B146,Data!$A$6:$A$1806,Data!C$6:C$1806)","v":3775.635498046875},null,null,null,66.400146484375,65.417529590957727,null,null,0.56196009855523055,3776.9168471225094,{"$f":"AVERAGE(D$79:D146)","v":3792.1927597943472},{"$f":"AVERAGE(M$79:M146)","v":3779.6068794934772},{"$f":"P145+L146","v":3710.9360268577507},{"$f":"AVERAGE(P$79:P146)","v":3692.3913436054313},633,null,null,null,null,null,null,0,633,-505.89245561284571,null,null,null,null,null,null,null,null,null,null,null,null,null,40098.103935185063,{"$f":"LOOKUP($AO146,Data!$A$6:$A$1806,Data!$B$6:$B$1806)","v":59.916999816894531},{"$f":"LOOKUP($AO146,Data!$A$6:$A$1806,Data!$C$6:$C$1806)","v":3775.635498046875},{"$f":"LOOKUP($AO146,Data!$A$6:$A$1806,Data!$D$6:$D$1806)","v":335},{"$f":"IF($AS$1=\"+\",LOOKUP($AO146,Data!$A$6:$A$1806,Data!$E$6:$E$1806)*-1,LOOKUP($AO146,Data!$A$6:$A$1806,Data!$E$6:$E$1806))","v":229.46696472167969},{"$f":"LOOKUP($AO146,Data!$A$6:$A$1806,Data!$F$6:$F$1806)","v":16},{"$f":"LOOKUP($AO146,Data!$A$6:$A$1806,Data!$G$6:$G$1806)","v":264.5},{"$f":"LOOKUP($AO146,Data!$A$6:$A$1806,Data!$H$6:$H$1806)","v":10},{"$f":"LOOKUP($AO146,Data!$A$6:$A$1806,Data!$I$6:$I$1806)","v":0},{"$f":"LOOKUP($AO146,Data!$A$6:$A$1806,Data!$J$6:$J$1806)","v":-103},{"$f":"LOOKUP($AO146,Data!$A$6:$A$1806,Data!$K$6:$K$1806)","v":7659},66.400146484375]
[null,40098.103958333209,{"$f":"LOOKUP(B147,Data!$A$6:$A$1806,Data!B$6:B$1806)","v":59.919998168945313},{"$f":"LOOKUP(B147,Data!$A$6:$A$1806,Data!C$6:C$1806)","v":3774.604248046875},null,null,null,64.00146484375,64.921906929435025,null,null,0.56196009855523055,3776.9831845595418,{"$f":"AVERAGE(D$79:D147)","v":3791.937853826993},{"$f":"AVERAGE(M$79:M147)","v":3779.5688549292172},3711.4979869563058,{"$f":"AVERAGE(P$79:P147)","v":3692.6723236547086},633,null,null,null,null,null,null,0,633,-518.3126655968515,null,null,null,null,null,null,null,null,null,null,null,null,null,40098.103958333209,{"$f":"LOOKUP($AO147,Data!$A$6:$A$1806,Data!$B$6:$B$1806)","v":59.919998168945313},{"$f":"LOOKUP($AO147,Data!$A$6:$A$1806,Data!$C$6:$C$1806)","v":3774.604248046875},{"$f":"LOOKUP($AO147,Data!$A$6:$A$1806,Data!$D$6:$D$1806)","v":335},{"$f":"IF($AS$1=\"+\",LOOKUP($AO147,Data!$A$6:$A$1806,Data!$E$6:$E$1806)*-1,LOOKUP($AO147,Data!$A$6:$A$1806,Data!$E$6:$E$1806))","v":229.46696472167969},{"$f":"LOOKUP($AO147,Data!$A$6:$A$1806,Data!$F$6:$F$1806)","v":16},{"$f":"LOOKUP($AO147,Data!$A$6:$A$1806,Data!$G$6:$G$1806)","v":265},{"$f":"LOOKUP($AO147,Data!$A$6:$A$1806,Data!$H$6:$H$1806)","v":10},{"$f":"LOOKUP($AO147,Data!$A$6:$A$1806,Data!$I$6:$I$1806)","v":0},{"$f":"LOOKUP($AO147,Data!$A$6:$A$1806,Data!$J$6:$J$1806)","v":-103},{"$f":"LOOKUP($AO147,Data!$A$6:$A$1806,Data!$K$6:$K$1806)","v":7659},64.00146484375]
[null,40098.103981481356,{"$f":"LOOKUP(B148,Data!$A$6:$A$1806,Data!B$6:B$1806)","v":59.921001434326172},{"$f":"LOOKUP(B148,Data!$A$6:$A$1806,Data!C$6:C$1806)","v":3773.333740234375},null,null,null,63.1988525390625,64.318837892804652,null,null,0.56196009855523055,3776.9420756214663,{"$f":"AVERAGE(D$79:D148)","v":3791.6720807756697},{"$f":"AVERAGE(M$79:M148)","v":3779.5313295105348},3712.0599470548609,{"$f":"AVERAGE(P$79:P148)","v":3692.9533037039864},633,null,null,null,null,null,null,0,633,-522.60583666318917,null,null,null,null,null,null,null,null,null,null,null,null,null,40098.103981481356,{"$f":"LOOKUP($AO148,Data!$A$6:$A$1806,Data!$B$6:$B$1806)","v":59.921001434326172},{"$f":"LOOKUP($AO148,Data!$A$6:$A$1806,Data!$C$6:$C$1806)","v":3773.333740234375},{"$f":"LOOKUP($AO148,Data!$A$6:$A$1806,Data!$D$6:$D$1806)","v":335},{"$f":"IF($AS$1=\"+\",LOOKUP($AO148,Data!$A$6:$A$1806,Data!$E$6:$E$1806)*-1,LOOKUP($AO148,Data!$A$6:$A$1806,Data!$E$6:$E$1806))","v":229.46696472167969},{"$f":"LOOKUP($AO148,Data!$A$6:$A$1806,Data!$F$6:$F$1806)","v":16},{"$f":"LOOKUP($AO148,Data!$A$6:$A$1806,Data!$G$6:$G$1806)","v":265.5},{"$f":"LOOKUP($AO148,Data!$A$6:$A$1806,Data!$H$6:$H$1806)","v":10},{"$f":"LOOKUP($AO148,Data!$A$6:$A$1806,Data!$I$6:$I$1806)","v":0},{"$f":"LOOKUP($AO148,Data!$A$6:$A$1806,Data!$J$6:$J$1806)","v":-103},{"$f":"LOOKUP($AO148,Data!$A$6:$A$1806,Data!$K$6:$K$1806)","v":7659},63.1988525390625]
[null,40098.104004629502,{"$f":"LOOKUP(B149,Data!$A$6:$A$1806,Data!B$6:B$1806)","v":59.923000335693359},{"$f":"LOOKUP(B149,Data!$A$6:$A$1806,Data!C$6:C$1806)","v":3773.957763671875},null,null,null,61.5997314453125,63.367150636182402,null,null,0.56196009855523055,3776.5523484633991,{"$f":"AVERAGE(D$79:D149)","v":3791.4225833516725},{"$f":"AVERAGE(M$79:M149)","v":3779.4893720309974},3712.621907153416,{"$f":"AVERAGE(P$79:P149)","v":3693.2342837532642},633,null,null,null,null,null,null,0,633,-531.37509997077927,null,null,null,null,null,null,null,null,null,null,null,null,null,40098.104004629502,{"$f":"LOOKUP($AO149,Data!$A$6:$A$1806,Data!$B$6:$B$1806)","v":59.923000335693359},{"$f":"LOOKUP($AO149,Data!$A$6:$A$1806,Data!$C$6:$C$1806)","v":3773.957763671875},{"$f":"LOOKUP($AO149,Data!$A$6:$A$1806,Data!$D$6:$D$1806)","v":335},{"$f":"IF($AS$1=\"+\",LOOKUP($AO149,Data!$A$6:$A$1806,Data!$E$6:$E$1806)*-1,LOOKUP($AO149,Data!$A$6:$A$1806,Data!$E$6:$E$1806))","v":229.46696472167969},{"$f":"LOOKUP($AO149,Data!$A$6:$A$1806,Data!$F$6:$F$1806)","v":16},{"$f":"LOOKUP($AO149,Data!$A$6:$A$1806,Data!$G$6:$G$1806)","v":266},{"$f":"LOOKUP($AO149,Data!$A$6:$A$1806,Data!$H$6:$H$1806)","v":10},{"$f":"LOOKUP($AO149,Data!$A$6:$A$1806,Data!$I$6:$I$1806)","v":0},{"$f":"LOOKUP($AO149,Data!$A$6:$A$1806,Data!$J$6:$J$1806)","v":-103},{"$f":"LOOKUP($AO149,Data!$A$6:$A$1806,Data!$K$6:$K$1806)","v":7660},61.5997314453125]
[null,40098.104027777648,{"$f":"LOOKUP(B150,Data!$A$6:$A$1806,Data!B$6:B$1806)","v":59.925998687744141},{"$f":"LOOKUP(B150,Data!$A$6:$A$1806,Data!C$6:C$1806)","v":3772.722412109375},null,null,null,59.2010498046875,61.90901534515919,null,null,0.56196009855523055,3775.656173270931,{"$f":"AVERAGE(D$79:D150)","v":3791.162858751085},{"$f":"AVERAGE(M$79:M150)","v":3779.43613315933},3713.1838672519712,{"$f":"AVERAGE(P$79:P150)","v":3693.5152638025415},633,null,null,null,null,null,null,0,633,-545.09504424415377,null,null,null,null,null,null,null,null,null,null,null,null,null,40098.104027777648,{"$f":"LOOKUP($AO150,Data!$A$6:$A$1806,Data!$B$6:$B$1806)","v":59.925998687744141},{"$f":"LOOKUP($AO150,Data!$A$6:$A$1806,Data!$C$6:$C$1806)","v":3772.722412109375},{"$f":"LOOKUP($AO150,Data!$A$6:$A$1806,Data!$D$6:$D$1806)","v":335},{"$f":"IF($AS$1=\"+\",LOOKUP($AO150,Data!$A$6:$A$1806,Data!$E$6:$E$1806)*-1,LOOKUP($AO150,Data!$A$6:$A$1806,Data!$E$6:$E$1806))","v":228.98016357421875},{"$f":"LOOKUP($AO150,Data!$A$6:$A$1806,Data!$F$6:$F$1806)","v":16},{"$f":"LOOKUP($AO150,Data!$A$6:$A$1806,Data!$G$6:$G$1806)","v":266.5},{"$f":"LOOKUP($AO150,Data!$A$6:$A$1806,Data!$H$6:$H$1806)","v":10},{"$f":"LOOKUP($AO150,Data!$A$6:$A$1806,Data!$I$6:$I$1806)","v":0},{"$f":"LOOKUP($AO150,Data!$A$6:$A$1806,Data!$J$6:$J$1806)","v":-103},{"$f":"LOOKUP($AO150,Data!$A$6:$A$1806,Data!$K$6:$K$1806)","v":7660},59.2010498046875]
[null,40098.104050925795,{"$f":"LOOKUP(B151,Data!$A$6:$A$1806,Data!B$6:B$1806)","v":59.924999237060547},{"$f":"LOOKUP(B151,Data!$A$6:$A$1806,Data!C$6:C$1806)","v":3771.67041015625},null,null,null,60.0006103515625,61.241073597400352,null,null,0.56196009855523055,3775.5501916217272,{"$f":"AVERAGE(D$79:D151)","v":3790.89583890732},{"$f":"AVERAGE(M$79:M151)","v":3779.3829010834725},3713.7458273505263,{"$f":"AVERAGE(P$79:P151)","v":3693.7962438518193},633,null,null,null,null,null,null,0,633,-540.44368015437794,null,null,null,null,null,null,null,null,null,null,null,null,null,40098.104050925795,{"$f":"LOOKUP($AO151,Data!$A$6:$A$1806,Data!$B$6:$B$1806)","v":59.924999237060547},{"$f":"LOOKUP($AO151,Data!$A$6:$A$1806,Data!$C$6:$C$1806)","v":3771.67041015625},{"$f":"LOOKUP($AO151,Data!$A$6:$A$1806,Data!$D$6:$D$1806)","v":335},{"$f":"IF($AS$1=\"+\",LOOKUP($AO151,Data!$A$6:$A$1806,Data!$E$6:$E$1806)*-1,LOOKUP($AO151,Data!$A$6:$A$1806,Data!$E$6:$E$1806))","v":228.98016357421875},{"$f":"LOOKUP($AO151,Data!$A$6:$A$1806,Data!$F$6:$F$1806)","v":16},{"$f":"LOOKUP($AO151,Data!$A$6:$A$1806,Data!$G$6:$G$1806)","v":267},{"$f":"LOOKUP($AO151,Data!$A$6:$A$1806,Data!$H$6:$H$1806)","v":10},{"$f":"LOOKUP($AO151,Data!$A$6:$A$1806,Data!$I$6:$I$1806)","v":0},{"$f":"LOOKUP($AO151,Data!$A$6:$A$1806,Data!$J$6:$J$1806)","v":-103},{"$f":"LOOKUP($AO151,Data!$A$6:$A$1806,Data!$K$6:$K$1806)","v":7661},60.0006103515625]
[null,40098.104074073941,{"$f":"LOOKUP(B152,Data!$A$6:$A$1806,Data!B$6:B$1806)","v":59.928001403808594},{"$f":"LOOKUP(B152,Data!$A$6:$A$1806,Data!C$6:C$1806)","v":3769.629638671875},null,null,null,57.598876953125,59.966304771903978,null,null,0.56196009855523055,3774.8373828947861,{"$f":"AVERAGE(D$79:D152)","v":3790.6084578230575},{"$f":"AVERAGE(M$79:M152)","v":3779.3214751620035},3714.3077874490814,{"$f":"AVERAGE(P$79:P152)","v":3694.0772239010971},633,null,null,null,null,null,null,0,633,-554.66071239058226,null,null,null,null,null,null,null,null,null,null,null,null,null,40098.104074073941,{"$f":"LOOKUP($AO152,Data!$A$6:$A$1806,Data!$B$6:$B$1806)","v":59.928001403808594},{"$f":"LOOKUP($AO152,Data!$A$6:$A$1806,Data!$C$6:$C$1806)","v":3769.629638671875},{"$f":"LOOKUP($AO152,Data!$A$6:$A$1806,Data!$D$6:$D$1806)","v":335},{"$f":"IF($AS$1=\"+\",LOOKUP($AO152,Data!$A$6:$A$1806,Data!$E$6:$E$1806)*-1,LOOKUP($AO152,Data!$A$6:$A$1806,Data!$E$6:$E$1806))","v":228.98016357421875},{"$f":"LOOKUP($AO152,Data!$A$6:$A$1806,Data!$F$6:$F$1806)","v":16},{"$f":"LOOKUP($AO152,Data!$A$6:$A$1806,Data!$G$6:$G$1806)","v":267.5},{"$f":"LOOKUP($AO152,Data!$A$6:$A$1806,Data!$H$6:$H$1806)","v":10},{"$f":"LOOKUP($AO152,Data!$A$6:$A$1806,Data!$I$6:$I$1806)","v":0},{"$f":"LOOKUP($AO152,Data!$A$6:$A$1806,Data!$J$6:$J$1806)","v":-103},{"$f":"LOOKUP($AO152,Data!$A$6:$A$1806,Data!$K$6:$K$1806)","v":7661},57.598876953125]
[null,40098.104097222087,{"$f":"LOOKUP(B153,Data!$A$6:$A$1806,Data!B$6:B$1806)","v":59.926998138427734},{"$f":"LOOKUP(B153,Data!$A$6:$A$1806,Data!C$6:C$1806)","v":3768.70703125},null,null,null,58.4014892578125,59.418619341971961,null,null,0.56196009855523055,3774.8516575634094,{"$f":"AVERAGE(D$79:D153)","v":3790.3164388020832},{"$f":"AVERAGE(M$79:M153)","v":3779.2618775940223},3714.8697475476365,{"$f":"AVERAGE(P$79:P153)","v":3694.3582039503744},633,null,null,null,null,null,null,0,633,-549.82716793889972,null,null,null,null,null,null,null,null,null,null,null,null,null,40098.104097222087,{"$f":"LOOKUP($AO153,Data!$A$6:$A$1806,Data!$B$6:$B$1806)","v":59.926998138427734},{"$f":"LOOKUP($AO153,Data!$A$6:$A$1806,Data!$C$6:$C$1806)","v":3768.70703125},{"$f":"LOOKUP($AO153,Data!$A$6:$A$1806,Data!$D$6:$D$1806)","v":335},{"$f":"IF($AS$1=\"+\",LOOKUP($AO153,Data!$A$6:$A$1806,Data!$E$6:$E$1806)*-1,LOOKUP($AO153,Data!$A$6:$A$1806,Data!$E$6:$E$1806))","v":228.98016357421875},{"$f":"LOOKUP($AO153,Data!$A$6:$A$1806,Data!$F$6:$F$1806)","v":16},{"$f":"LOOKUP($AO153,Data!$A$6:$A$1806,Data!$G$6:$G$1806)","v":268},{"$f":"LOOKUP($AO153,Data!$A$6:$A$1806,Data!$H$6:$H$1806)","v":10},{"$f":"LOOKUP($AO153,Data!$A$6:$A$1806,Data!$I$6:$I$1806)","v":0},{"$f":"LOOKUP($AO153,Data!$A$6:$A$1806,Data!$J$6:$J$1806)","v":-103},{"$f":"LOOKUP($AO153,Data!$A$6:$A$1806,Data!$K$6:$K$1806)","v":7662},58.4014892578125]
[null,40098.104120370233,{"$f":"LOOKUP(B154,Data!$A$6:$A$1806,Data!B$6:B$1806)","v":59.931999206542969},{"$f":"LOOKUP(B154,Data!$A$6:$A$1806,Data!C$6:C$1806)","v":3767.642822265625},null,null,null,54.400634765625,57.662324740250526,null,null,0.56196009855523055,3773.657323060243,{"$f":"AVERAGE(D$79:D154)","v":3790.0181017423929},{"$f":"AVERAGE(M$79:M154)","v":3779.18813345542},3715.4317076461916,{"$f":"AVERAGE(P$79:P154)","v":3694.6391839996518},633,null,null,null,null,null,null,0,633,-574.79604591450129,null,null,null,null,null,null,null,null,null,null,null,null,null,40098.104120370233,{"$f":"LOOKUP($AO154,Data!$A$6:$A$1806,Data!$B$6:$B$1806)","v":59.931999206542969},{"$f":"LOOKUP($AO154,Data!$A$6:$A$1806,Data!$C$6:$C$1806)","v":3767.642822265625},{"$f":"LOOKUP($AO154,Data!$A$6:$A$1806,Data!$D$6:$D$1806)","v":335},{"$f":"IF($AS$1=\"+\",LOOKUP($AO154,Data!$A$6:$A$1806,Data!$E$6:$E$1806)*-1,LOOKUP($AO154,Data!$A$6:$A$1806,Data!$E$6:$E$1806))","v":228.98016357421875},{"$f":"LOOKUP($AO154,Data!$A$6:$A$1806,Data!$F$6:$F$1806)","v":16},{"$f":"LOOKUP($AO154,Data!$A$6:$A$1806,Data!$G$6:$G$1806)","v":268.5},{"$f":"LOOKUP($AO154,Data!$A$6:$A$1806,Data!$H$6:$H$1806)","v":10},{"$f":"LOOKUP($AO154,Data!$A$6:$A$1806,Data!$I$6:$I$1806)","v":0},{"$f":"LOOKUP($AO154,Data!$A$6:$A$1806,Data!$J$6:$J$1806)","v":-103},{"$f":"LOOKUP($AO154,Data!$A$6:$A$1806,Data!$K$6:$K$1806)","v":7662},54.400634765625]
[null,40098.10414351838,{"$f":"LOOKUP(B155,Data!$A$6:$A$1806,Data!B$6:B$1806)","v":59.926998138427734},{"$f":"LOOKUP(B155,Data!$A$6:$A$1806,Data!C$6:C$1806)","v":3767.02099609375},null,null,null,58.4014892578125,57.92103232139722,null,null,0.56196009855523055,3774.4779907399447,{"$f":"AVERAGE(D$79:D155)","v":3789.7194380326705},{"$f":"AVERAGE(M$79:M155)","v":3779.1269627708029},3715.9936677447467,{"$f":"AVERAGE(P$79:P155)","v":3694.9201640489291},633,null,null,null,null,null,null,0,633,-549.82716793889972,null,null,null,null,null,null,null,null,null,null,null,null,null,40098.10414351838,{"$f":"LOOKUP($AO155,Data!$A$6:$A$1806,Data!$B$6:$B$1806)","v":59.926998138427734},{"$f":"LOOKUP($AO155,Data!$A$6:$A$1806,Data!$C$6:$C$1806)","v":3767.02099609375},{"$f":"LOOKUP($AO155,Data!$A$6:$A$1806,Data!$D$6:$D$1806)","v":335},{"$f":"IF($AS$1=\"+\",LOOKUP($AO155,Data!$A$6:$A$1806,Data!$E$6:$E$1806)*-1,LOOKUP($AO155,Data!$A$6:$A$1806,Data!$E$6:$E$1806))","v":219.97555541992187},{"$f":"LOOKUP($AO155,Data!$A$6:$A$1806,Data!$F$6:$F$1806)","v":16},{"$f":"LOOKUP($AO155,Data!$A$6:$A$1806,Data!$G$6:$G$1806)","v":269},{"$f":"LOOKUP($AO155,Data!$A$6:$A$1806,Data!$H$6:$H$1806)","v":10},{"$f":"LOOKUP($AO155,Data!$A$6:$A$1806,Data!$I$6:$I$1806)","v":0},{"$f":"LOOKUP($AO155,Data!$A$6:$A$1806,Data!$J$6:$J$1806)","v":-103},{"$f":"LOOKUP($AO155,Data!$A$6:$A$1806,Data!$K$6:$K$1806)","v":7663},58.4014892578125]
[null,40098.104166666526,{"$f":"LOOKUP(B156,Data!$A$6:$A$1806,Data!B$6:B$1806)","v":59.928001403808594},{"$f":"LOOKUP(B156,Data!$A$6:$A$1806,Data!C$6:C$1806)","v":3767.407958984375},null,null,null,57.598876953125,57.808277942501945,null,null,0.56196009855523055,3774.9271964596046,{"$f":"AVERAGE(D$79:D156)","v":3789.4333934294873},{"$f":"AVERAGE(M$79:M156)","v":3779.0731196129673},3716.5556278433019,{"$f":"AVERAGE(P$79:P156)","v":3695.2011440982069},633,null,null,null,null,null,null,0,633,-554.66071239058226,null,null,null,null,null,null,null,null,null,null,null,null,null,40098.104166666526,{"$f":"LOOKUP($AO156,Data!$A$6:$A$1806,Data!$B$6:$B$1806)","v":59.928001403808594},{"$f":"LOOKUP($AO156,Data!$A$6:$A$1806,Data!$C$6:$C$1806)","v":3767.407958984375},{"$f":"LOOKUP($AO156,Data!$A$6:$A$1806,Data!$D$6:$D$1806)","v":335},{"$f":"IF($AS$1=\"+\",LOOKUP($AO156,Data!$A$6:$A$1806,Data!$E$6:$E$1806)*-1,LOOKUP($AO156,Data!$A$6:$A$1806,Data!$E$6:$E$1806))","v":219.97555541992187},{"$f":"LOOKUP($AO156,Data!$A$6:$A$1806,Data!$F$6:$F$1806)","v":16},{"$f":"LOOKUP($AO156,Data!$A$6:$A$1806,Data!$G$6:$G$1806)","v":269.5},{"$f":"LOOKUP($AO156,Data!$A$6:$A$1806,Data!$H$6:$H$1806)","v":10},{"$f":"LOOKUP($AO156,Data!$A$6:$A$1806,Data!$I$6:$I$1806)","v":0},{"$f":"LOOKUP($AO156,Data!$A$6:$A$1806,Data!$J$6:$J$1806)","v":-103},{"$f":"LOOKUP($AO156,Data!$A$6:$A$1806,Data!$K$6:$K$1806)","v":7663},57.598876953125]
[null,40098.104189814672,{"$f":"LOOKUP(B157,Data!$A$6:$A$1806,Data!B$6:B$1806)","v":59.930999755859375},{"$f":"LOOKUP(B157,Data!$A$6:$A$1806,Data!C$6:C$1806)","v":3766.7880859375},null,null,null,55.2001953125,56.895449022001266,null,null,0.56196009855523055,3774.5763276376592,{"$f":"AVERAGE(D$79:D157)","v":3789.1467439675635},{"$f":"AVERAGE(M$79:M157)","v":3779.0161981955584},3717.117587941857,{"$f":"AVERAGE(P$79:P157)","v":3695.4821241474847},633,null,null,null,null,null,null,0,633,-569.62639124296811,null,null,null,null,null,null,null,null,null,null,null,null,null,40098.104189814672,{"$f":"LOOKUP($AO157,Data!$A$6:$A$1806,Data!$B$6:$B$1806)","v":59.930999755859375},{"$f":"LOOKUP($AO157,Data!$A$6:$A$1806,Data!$C$6:$C$1806)","v":3766.7880859375},{"$f":"LOOKUP($AO157,Data!$A$6:$A$1806,Data!$D$6:$D$1806)","v":335},{"$f":"IF($AS$1=\"+\",LOOKUP($AO157,Data!$A$6:$A$1806,Data!$E$6:$E$1806)*-1,LOOKUP($AO157,Data!$A$6:$A$1806,Data!$E$6:$E$1806))","v":219.97555541992187},{"$f":"LOOKUP($AO157,Data!$A$6:$A$1806,Data!$F$6:$F$1806)","v":16},{"$f":"LOOKUP($AO157,Data!$A$6:$A$1806,Data!$G$6:$G$1806)","v":270},{"$f":"LOOKUP($AO157,Data!$A$6:$A$1806,Data!$H$6:$H$1806)","v":10},{"$f":"LOOKUP($AO157,Data!$A$6:$A$1806,Data!$I$6:$I$1806)","v":0},{"$f":"LOOKUP($AO157,Data!$A$6:$A$1806,Data!$J$6:$J$1806)","v":-103},{"$f":"LOOKUP($AO157,Data!$A$6:$A$1806,Data!$K$6:$K$1806)","v":7664},55.2001953125]
[null,40098.104212962819,{"$f":"LOOKUP(B158,Data!$A$6:$A$1806,Data!B$6:B$1806)","v":59.929000854492187},{"$f":"LOOKUP(B158,Data!$A$6:$A$1806,Data!C$6:C$1806)","v":3766.259033203125},null,null,null,56.79931640625,56.861802606488325,null,null,0.56196009855523055,3775.1046413207014,{"$f":"AVERAGE(D$79:D158)","v":3788.8606475830079},{"$f":"AVERAGE(M$79:M158)","v":3778.9673037346229},3717.6795480404121,{"$f":"AVERAGE(P$79:P158)","v":3695.7631041967625},633,null,null,null,null,null,null,0,633,-559.56112443569566,null,null,null,null,null,null,null,null,null,null,null,null,null,40098.104212962819,{"$f":"LOOKUP($AO158,Data!$A$6:$A$1806,Data!$B$6:$B$1806)","v":59.929000854492187},{"$f":"LOOKUP($AO158,Data!$A$6:$A$1806,Data!$C$6:$C$1806)","v":3766.259033203125},{"$f":"LOOKUP($AO158,Data!$A$6:$A$1806,Data!$D$6:$D$1806)","v":335},{"$f":"IF($AS$1=\"+\",LOOKUP($AO158,Data!$A$6:$A$1806,Data!$E$6:$E$1806)*-1,LOOKUP($AO158,Data!$A$6:$A$1806,Data!$E$6:$E$1806))","v":219.97555541992187},{"$f":"LOOKUP($AO158,Data!$A$6:$A$1806,Data!$F$6:$F$1806)","v":16},{"$f":"LOOKUP($AO158,Data!$A$6:$A$1806,Data!$G$6:$G$1806)","v":270.5},{"$f":"LOOKUP($AO158,Data!$A$6:$A$1806,Data!$H$6:$H$1806)","v":10},{"$f":"LOOKUP($AO158,Data!$A$6:$A$1806,Data!$I$6:$I$1806)","v":0},{"$f":"LOOKUP($AO158,Data!$A$6:$A$1806,Data!$J$6:$J$1806)","v":-103},{"$f":"LOOKUP($AO158,Data!$A$6:$A$1806,Data!$K$6:$K$1806)","v":7664},56.79931640625]
[null,40098.104236110965,{"$f":"LOOKUP(B159,Data!$A$6:$A$1806,Data!B$6:B$1806)","v":59.930999755859375},{"$f":"LOOKUP(B159,Data!$A$6:$A$1806,Data!C$6:C$1806)","v":3765.671630859375},null,null,null,55.2001953125,56.280240053592415,null,null,0.56196009855523055,3775.0850388663607,{"$f":"AVERAGE(D$79:D159)","v":3788.5743634259261},{"$f":"AVERAGE(M$79:M159)","v":3778.9193745387183},3718.2415081389672,{"$f":"AVERAGE(P$79:P159)","v":3696.0440842460398},633,null,null,null,null,null,null,0,633,-569.62639124296811,null,null,null,null,null,null,null,null,null,null,null,null,null,40098.104236110965,{"$f":"LOOKUP($AO159,Data!$A$6:$A$1806,Data!$B$6:$B$1806)","v":59.930999755859375},{"$f":"LOOKUP($AO159,Data!$A$6:$A$1806,Data!$C$6:$C$1806)","v":3765.671630859375},{"$f":"LOOKUP($AO159,Data!$A$6:$A$1806,Data!$D$6:$D$1806)","v":335},{"$f":"IF($AS$1=\"+\",LOOKUP($AO159,Data!$A$6:$A$1806,Data!$E$6:$E$1806)*-1,LOOKUP($AO159,Data!$A$6:$A$1806,Data!$E$6:$E$1806))","v":219.97555541992187},{"$f":"LOOKUP($AO159,Data!$A$6:$A$1806,Data!$F$6:$F$1806)","v":16},{"$f":"LOOKUP($AO159,Data!$A$6:$A$1806,Data!$G$6:$G$1806)","v":271},{"$f":"LOOKUP($AO159,Data!$A$6:$A$1806,Data!$H$6:$H$1806)","v":10},{"$f":"LOOKUP($AO159,Data!$A$6:$A$1806,Data!$I$6:$I$1806)","v":0},{"$f":"LOOKUP($AO159,Data!$A$6:$A$1806,Data!$J$6:$J$1806)","v":-103},{"$f":"LOOKUP($AO159,Data!$A$6:$A$1806,Data!$K$6:$K$1806)","v":7665},55.2001953125]
[null,40098.104259259111,{"$f":"LOOKUP(B160,Data!$A$6:$A$1806,Data!B$6:B$1806)","v":59.932998657226562},{"$f":"LOOKUP(B160,Data!$A$6:$A$1806,Data!C$6:C$1806)","v":3766.12255859375},null,null,null,53.60107421875,55.342532011397573,null,null,0.56196009855523055,3774.7092909227208,{"$f":"AVERAGE(D$79:D160)","v":3788.3005609279726},{"$f":"AVERAGE(M$79:M160)","v":3778.8680320555968},3718.8034682375223,{"$f":"AVERAGE(P$79:P160)","v":3696.3250642953171},633,null,null,null,null,null,null,0,633,-580.06039457298289,null,null,null,null,null,null,null,null,null,null,null,null,null,40098.104259259111,{"$f":"LOOKUP($AO160,Data!$A$6:$A$1806,Data!$B$6:$B$1806)","v":59.932998657226562},{"$f":"LOOKUP($AO160,Data!$A$6:$A$1806,Data!$C$6:$C$1806)","v":3766.12255859375},{"$f":"LOOKUP($AO160,Data!$A$6:$A$1806,Data!$D$6:$D$1806)","v":335},{"$f":"IF($AS$1=\"+\",LOOKUP($AO160,Data!$A$6:$A$1806,Data!$E$6:$E$1806)*-1,LOOKUP($AO160,Data!$A$6:$A$1806,Data!$E$6:$E$1806))","v":229.08924865722656},{"$f":"LOOKUP($AO160,Data!$A$6:$A$1806,Data!$F$6:$F$1806)","v":16},{"$f":"LOOKUP($AO160,Data!$A$6:$A$1806,Data!$G$6:$G$1806)","v":271.5},{"$f":"LOOKUP($AO160,Data!$A$6:$A$1806,Data!$H$6:$H$1806)","v":10},{"$f":"LOOKUP($AO160,Data!$A$6:$A$1806,Data!$I$6:$I$1806)","v":0},{"$f":"LOOKUP($AO160,Data!$A$6:$A$1806,Data!$J$6:$J$1806)","v":-103},{"$f":"LOOKUP($AO160,Data!$A$6:$A$1806,Data!$K$6:$K$1806)","v":7666},53.60107421875]
[null,40098.104282407257,{"$f":"LOOKUP(B161,Data!$A$6:$A$1806,Data!B$6:B$1806)","v":59.937000274658203},{"$f":"LOOKUP(B161,Data!$A$6:$A$1806,Data!C$6:C$1806)","v":3764.24267578125},null,null,null,50.3997802734375,53.612568903111551,null,null,0.56196009855523055,3773.5412879129899,{"$f":"AVERAGE(D$79:D161)","v":3788.0107068900602},{"$f":"AVERAGE(M$79:M161)","v":3778.8038544153242},3719.3654283360775,{"$f":"AVERAGE(P$79:P161)","v":3696.6060443445949},633,null,null,null,null,null,null,0,633,-602.14059320611625,null,null,null,null,null,null,null,null,null,null,null,null,null,40098.104282407257,{"$f":"LOOKUP($AO161,Data!$A$6:$A$1806,Data!$B$6:$B$1806)","v":59.937000274658203},{"$f":"LOOKUP($AO161,Data!$A$6:$A$1806,Data!$C$6:$C$1806)","v":3764.24267578125},{"$f":"LOOKUP($AO161,Data!$A$6:$A$1806,Data!$D$6:$D$1806)","v":335},{"$f":"IF($AS$1=\"+\",LOOKUP($AO161,Data!$A$6:$A$1806,Data!$E$6:$E$1806)*-1,LOOKUP($AO161,Data!$A$6:$A$1806,Data!$E$6:$E$1806))","v":229.08924865722656},{"$f":"LOOKUP($AO161,Data!$A$6:$A$1806,Data!$F$6:$F$1806)","v":16},{"$f":"LOOKUP($AO161,Data!$A$6:$A$1806,Data!$G$6:$G$1806)","v":272},{"$f":"LOOKUP($AO161,Data!$A$6:$A$1806,Data!$H$6:$H$1806)","v":10},{"$f":"LOOKUP($AO161,Data!$A$6:$A$1806,Data!$I$6:$I$1806)","v":0},{"$f":"LOOKUP($AO161,Data!$A$6:$A$1806,Data!$J$6:$J$1806)","v":-103},{"$f":"LOOKUP($AO161,Data!$A$6:$A$1806,Data!$K$6:$K$1806)","v":7666},50.3997802734375]
[null,40098.104305555404,{"$f":"LOOKUP(B162,Data!$A$6:$A$1806,Data!B$6:B$1806)","v":59.937000274658203},{"$f":"LOOKUP(B162,Data!$A$6:$A$1806,Data!C$6:C$1806)","v":3765.10498046875},null,null,null,50.3997802734375,52.488092882725631,null,null,0.56196009855523055,3772.9787719911592,{"$f":"AVERAGE(D$79:D162)","v":3787.7380196707591},{"$f":"AVERAGE(M$79:M162)","v":3778.7345081959888},3719.9273884346326,{"$f":"AVERAGE(P$79:P162)","v":3696.8870243938727},633,null,null,null,null,null,null,0,633,-602.14059320611625,null,null,null,null,null,null,null,null,null,null,null,null,null,40098.104305555404,{"$f":"LOOKUP($AO162,Data!$A$6:$A$1806,Data!$B$6:$B$1806)","v":59.937000274658203},{"$f":"LOOKUP($AO162,Data!$A$6:$A$1806,Data!$C$6:$C$1806)","v":3765.10498046875},{"$f":"LOOKUP($AO162,Data!$A$6:$A$1806,Data!$D$6:$D$1806)","v":335},{"$f":"IF($AS$1=\"+\",LOOKUP($AO162,Data!$A$6:$A$1806,Data!$E$6:$E$1806)*-1,LOOKUP($AO162,Data!$A$6:$A$1806,Data!$E$6:$E$1806))","v":229.08924865722656},{"$f":"LOOKUP($AO162,Data!$A$6:$A$1806,Data!$F$6:$F$1806)","v":16},{"$f":"LOOKUP($AO162,Data!$A$6:$A$1806,Data!$G$6:$G$1806)","v":272.5},{"$f":"LOOKUP($AO162,Data!$A$6:$A$1806,Data!$H$6:$H$1806)","v":10},{"$f":"LOOKUP($AO162,Data!$A$6:$A$1806,Data!$I$6:$I$1806)","v":0},{"$f":"LOOKUP($AO162,Data!$A$6:$A$1806,Data!$J$6:$J$1806)","v":-103},{"$f":"LOOKUP($AO162,Data!$A$6:$A$1806,Data!$K$6:$K$1806)","v":7667},50.3997802734375]
[null,40098.10432870355,{"$f":"LOOKUP(B163,Data!$A$6:$A$1806,Data!B$6:B$1806)","v":59.944999694824219},{"$f":"LOOKUP(B163,Data!$A$6:$A$1806,Data!C$6:C$1806)","v":3762.935302734375},null,null,null,44.000244140625,49.517345822990414,null,null,0.56196009855523055,3770.5699850299793,{"$f":"AVERAGE(D$79:D163)","v":3787.446223000919},{"$f":"AVERAGE(M$79:M163)","v":3778.6384549822715},3720.4893485331877,{"$f":"AVERAGE(P$79:P163)","v":3697.1680044431505},633,null,null,null,null,null,null,0,633,-651.73389367019001,null,null,null,null,null,null,null,null,null,null,null,null,null,40098.10432870355,{"$f":"LOOKUP($AO163,Data!$A$6:$A$1806,Data!$B$6:$B$1806)","v":59.944999694824219},{"$f":"LOOKUP($AO163,Data!$A$6:$A$1806,Data!$C$6:$C$1806)","v":3762.935302734375},{"$f":"LOOKUP($AO163,Data!$A$6:$A$1806,Data!$D$6:$D$1806)","v":335},{"$f":"IF($AS$1=\"+\",LOOKUP($AO163,Data!$A$6:$A$1806,Data!$E$6:$E$1806)*-1,LOOKUP($AO163,Data!$A$6:$A$1806,Data!$E$6:$E$1806))","v":229.08924865722656},{"$f":"LOOKUP($AO163,Data!$A$6:$A$1806,Data!$F$6:$F$1806)","v":16},{"$f":"LOOKUP($AO163,Data!$A$6:$A$1806,Data!$G$6:$G$1806)","v":273},{"$f":"LOOKUP($AO163,Data!$A$6:$A$1806,Data!$H$6:$H$1806)","v":10},{"$f":"LOOKUP($AO163,Data!$A$6:$A$1806,Data!$I$6:$I$1806)","v":0},{"$f":"LOOKUP($AO163,Data!$A$6:$A$1806,Data!$J$6:$J$1806)","v":-103},{"$f":"LOOKUP($AO163,Data!$A$6:$A$1806,Data!$K$6:$K$1806)","v":7668},44.000244140625]
[null,40098.104351851696,{"$f":"LOOKUP(B164,Data!$A$6:$A$1806,Data!B$6:B$1806)","v":59.949001312255859},{"$f":"LOOKUP(B164,Data!$A$6:$A$1806,Data!C$6:C$1806)","v":3758.38720703125},null,null,null,40.7989501953125,46.465907353303145,null,null,0.56196009855523055,3768.0805066588473,{"$f":"AVERAGE(D$79:D164)","v":3787.1083274663879},{"$f":"AVERAGE(M$79:M164)","v":3778.5156881413009},3721.0513086317428,{"$f":"AVERAGE(P$79:P164)","v":3697.4489844924278},633,null,null,null,null,null,null,0,633,-679.73947924934077,null,null,null,null,null,null,null,null,null,null,null,null,null,40098.104351851696,{"$f":"LOOKUP($AO164,Data!$A$6:$A$1806,Data!$B$6:$B$1806)","v":59.949001312255859},{"$f":"LOOKUP($AO164,Data!$A$6:$A$1806,Data!$C$6:$C$1806)","v":3758.38720703125},{"$f":"LOOKUP($AO164,Data!$A$6:$A$1806,Data!$D$6:$D$1806)","v":335},{"$f":"IF($AS$1=\"+\",LOOKUP($AO164,Data!$A$6:$A$1806,Data!$E$6:$E$1806)*-1,LOOKUP($AO164,Data!$A$6:$A$1806,Data!$E$6:$E$1806))","v":229.08924865722656},{"$f":"LOOKUP($AO164,Data!$A$6:$A$1806,Data!$F$6:$F$1806)","v":16},{"$f":"LOOKUP($AO164,Data!$A$6:$A$1806,Data!$G$6:$G$1806)","v":273.5},{"$f":"LOOKUP($AO164,Data!$A$6:$A$1806,Data!$H$6:$H$1806)","v":10},{"$f":"LOOKUP($AO164,Data!$A$6:$A$1806,Data!$I$6:$I$1806)","v":0},{"$f":"LOOKUP($AO164,Data!$A$6:$A$1806,Data!$J$6:$J$1806)","v":-103},{"$f":"LOOKUP($AO164,Data!$A$6:$A$1806,Data!$K$6:$K$1806)","v":7668},40.7989501953125]
[null,40098.104374999843,{"$f":"LOOKUP(B165,Data!$A$6:$A$1806,Data!B$6:B$1806)","v":59.946998596191406},{"$f":"LOOKUP(B165,Data!$A$6:$A$1806,Data!C$6:C$1806)","v":3753.92236328125},null,null,null,42.401123046875,45.043232846053293,null,null,0.56196009855523055,3767.2197922501528,{"$f":"AVERAGE(D$79:D165)","v":3786.7268796021913},{"$f":"AVERAGE(M$79:M165)","v":3778.3858502574944},3721.6132687302979,{"$f":"AVERAGE(P$79:P165)","v":3697.7299645417052},633,null,null,null,null,null,null,0,633,-665.42881575979345,null,null,null,null,null,null,null,null,null,null,null,null,null,40098.104374999843,{"$f":"LOOKUP($AO165,Data!$A$6:$A$1806,Data!$B$6:$B$1806)","v":59.946998596191406},{"$f":"LOOKUP($AO165,Data!$A$6:$A$1806,Data!$C$6:$C$1806)","v":3753.92236328125},{"$f":"LOOKUP($AO165,Data!$A$6:$A$1806,Data!$D$6:$D$1806)","v":335},{"$f":"IF($AS$1=\"+\",LOOKUP($AO165,Data!$A$6:$A$1806,Data!$E$6:$E$1806)*-1,LOOKUP($AO165,Data!$A$6:$A$1806,Data!$E$6:$E$1806))","v":229.66326904296875},{"$f":"LOOKUP($AO165,Data!$A$6:$A$1806,Data!$F$6:$F$1806)","v":16},{"$f":"LOOKUP($AO165,Data!$A$6:$A$1806,Data!$G$6:$G$1806)","v":274},{"$f":"LOOKUP($AO165,Data!$A$6:$A$1806,Data!$H$6:$H$1806)","v":10},{"$f":"LOOKUP($AO165,Data!$A$6:$A$1806,Data!$I$6:$I$1806)","v":0},{"$f":"LOOKUP($AO165,Data!$A$6:$A$1806,Data!$J$6:$J$1806)","v":-103},{"$f":"LOOKUP($AO165,Data!$A$6:$A$1806,Data!$K$6:$K$1806)","v":7669},42.401123046875]
[null,40098.104398147989,{"$f":"LOOKUP(B166,Data!$A$6:$A$1806,Data!B$6:B$1806)","v":59.942001342773438},{"$f":"LOOKUP(B166,Data!$A$6:$A$1806,Data!C$6:C$1806)","v":3749.8671875},null,null,null,46.39892578125,45.517725373372144,null,null,0.56196009855523055,3768.2562448760268,{"$f":"AVERAGE(D$79:D166)","v":3786.3080194646664},{"$f":"AVERAGE(M$79:M166)","v":3778.2707411054321},3722.1752288288531,{"$f":"AVERAGE(P$79:P166)","v":3698.0109445909829},633,null,null,null,null,null,null,0,633,-632.21679533277768,null,null,null,null,null,null,null,null,null,null,null,null,null,40098.104398147989,{"$f":"LOOKUP($AO166,Data!$A$6:$A$1806,Data!$B$6:$B$1806)","v":59.942001342773438},{"$f":"LOOKUP($AO166,Data!$A$6:$A$1806,Data!$C$6:$C$1806)","v":3749.8671875},{"$f":"LOOKUP($AO166,Data!$A$6:$A$1806,Data!$D$6:$D$1806)","v":335},{"$f":"IF($AS$1=\"+\",LOOKUP($AO166,Data!$A$6:$A$1806,Data!$E$6:$E$1806)*-1,LOOKUP($AO166,Data!$A$6:$A$1806,Data!$E$6:$E$1806))","v":229.66326904296875},{"$f":"LOOKUP($AO166,Data!$A$6:$A$1806,Data!$F$6:$F$1806)","v":16},{"$f":"LOOKUP($AO166,Data!$A$6:$A$1806,Data!$G$6:$G$1806)","v":274.5},{"$f":"LOOKUP($AO166,Data!$A$6:$A$1806,Data!$H$6:$H$1806)","v":10},{"$f":"LOOKUP($AO166,Data!$A$6:$A$1806,Data!$I$6:$I$1806)","v":0},{"$f":"LOOKUP($AO166,Data!$A$6:$A$1806,Data!$J$6:$J$1806)","v":-103},{"$f":"LOOKUP($AO166,Data!$A$6:$A$1806,Data!$K$6:$K$1806)","v":7669},46.39892578125]
[null,40098.104421296135,{"$f":"LOOKUP(B167,Data!$A$6:$A$1806,Data!B$6:B$1806)","v":59.941001892089844},{"$f":"LOOKUP(B167,Data!$A$6:$A$1806,Data!C$6:C$1806)","v":3746.888671875},null,null,null,47.198486328125,46.105991707535644,null,null,0.56196009855523055,3769.4064713087455,{"$f":"AVERAGE(D$79:D167)","v":3785.8651054468046},{"$f":"AVERAGE(M$79:M167)","v":3778.1711425683907},3722.7371889274082,{"$f":"AVERAGE(P$79:P167)","v":3698.2919246402603},633,null,null,null,null,null,null,0,633,-625.96829175134746,null,null,null,null,null,null,null,null,null,null,null,null,null,40098.104421296135,{"$f":"LOOKUP($AO167,Data!$A$6:$A$1806,Data!$B$6:$B$1806)","v":59.941001892089844},{"$f":"LOOKUP($AO167,Data!$A$6:$A$1806,Data!$C$6:$C$1806)","v":3746.888671875},{"$f":"LOOKUP($AO167,Data!$A$6:$A$1806,Data!$D$6:$D$1806)","v":335},{"$f":"IF($AS$1=\"+\",LOOKUP($AO167,Data!$A$6:$A$1806,Data!$E$6:$E$1806)*-1,LOOKUP($AO167,Data!$A$6:$A$1806,Data!$E$6:$E$1806))","v":229.66326904296875},{"$f":"LOOKUP($AO167,Data!$A$6:$A$1806,Data!$F$6:$F$1806)","v":16},{"$f":"LOOKUP($AO167,Data!$A$6:$A$1806,Data!$G$6:$G$1806)","v":275},{"$f":"LOOKUP($AO167,Data!$A$6:$A$1806,Data!$H$6:$H$1806)","v":10},{"$f":"LOOKUP($AO167,Data!$A$6:$A$1806,Data!$I$6:$I$1806)","v":0},{"$f":"LOOKUP($AO167,Data!$A$6:$A$1806,Data!$J$6:$J$1806)","v":-103},{"$f":"LOOKUP($AO167,Data!$A$6:$A$1806,Data!$K$6:$K$1806)","v":7670},47.198486328125]
[null,40098.104444444281,{"$f":"LOOKUP(B168,Data!$A$6:$A$1806,Data!B$6:B$1806)","v":59.942001342773438},{"$f":"LOOKUP(B168,Data!$A$6:$A$1806,Data!C$6:C$1806)","v":3747.87548828125},null,null,null,46.39892578125,46.208518633335672,null,null,0.56196009855523055,3770.0709583331009,{"$f":"AVERAGE(D$79:D168)","v":3785.4429985894099},{"$f":"AVERAGE(M$79:M168)","v":3778.0811405213317},3723.2991490259633,{"$f":"AVERAGE(P$79:P168)","v":3698.5729046895385},633,null,null,null,null,null,null,0,633,-632.21679533277768,null,null,null,null,null,null,null,null,null,null,null,null,null,40098.104444444281,{"$f":"LOOKUP($AO168,Data!$A$6:$A$1806,Data!$B$6:$B$1806)","v":59.942001342773438},{"$f":"LOOKUP($AO168,Data!$A$6:$A$1806,Data!$C$6:$C$1806)","v":3747.87548828125},{"$f":"LOOKUP($AO168,Data!$A$6:$A$1806,Data!$D$6:$D$1806)","v":335},{"$f":"IF($AS$1=\"+\",LOOKUP($AO168,Data!$A$6:$A$1806,Data!$E$6:$E$1806)*-1,LOOKUP($AO168,Data!$A$6:$A$1806,Data!$E$6:$E$1806))","v":229.66326904296875},{"$f":"LOOKUP($AO168,Data!$A$6:$A$1806,Data!$F$6:$F$1806)","v":16},{"$f":"LOOKUP($AO168,Data!$A$6:$A$1806,Data!$G$6:$G$1806)","v":275.5},{"$f":"LOOKUP($AO168,Data!$A$6:$A$1806,Data!$H$6:$H$1806)","v":10},{"$f":"LOOKUP($AO168,Data!$A$6:$A$1806,Data!$I$6:$I$1806)","v":0},{"$f":"LOOKUP($AO168,Data!$A$6:$A$1806,Data!$J$6:$J$1806)","v":-103},{"$f":"LOOKUP($AO168,Data!$A$6:$A$1806,Data!$K$6:$K$1806)","v":7670},46.39892578125]
[null,40098.104467592428,{"$f":"LOOKUP(B169,Data!$A$6:$A$1806,Data!B$6:B$1806)","v":59.944999694824219},{"$f":"LOOKUP(B169,Data!$A$6:$A$1806,Data!C$6:C$1806)","v":3749.59326171875},null,null,null,44.000244140625,45.435622560886934,null,null,0.56196009855523055,3769.8600223592071,{"$f":"AVERAGE(D$79:D169)","v":3785.0490454369847},{"$f":"AVERAGE(M$79:M169)","v":3777.9907985635059},3723.8611091245184,{"$f":"AVERAGE(P$79:P169)","v":3698.8538847388159},633,null,null,null,null,null,null,0,633,-651.73389367019001,null,null,null,null,null,null,null,null,null,null,null,null,null,40098.104467592428,{"$f":"LOOKUP($AO169,Data!$A$6:$A$1806,Data!$B$6:$B$1806)","v":59.944999694824219},{"$f":"LOOKUP($AO169,Data!$A$6:$A$1806,Data!$C$6:$C$1806)","v":3749.59326171875},{"$f":"LOOKUP($AO169,Data!$A$6:$A$1806,Data!$D$6:$D$1806)","v":335},{"$f":"IF($AS$1=\"+\",LOOKUP($AO169,Data!$A$6:$A$1806,Data!$E$6:$E$1806)*-1,LOOKUP($AO169,Data!$A$6:$A$1806,Data!$E$6:$E$1806))","v":229.66326904296875},{"$f":"LOOKUP($AO169,Data!$A$6:$A$1806,Data!$F$6:$F$1806)","v":16},{"$f":"LOOKUP($AO169,Data!$A$6:$A$1806,Data!$G$6:$G$1806)","v":276},{"$f":"LOOKUP($AO169,Data!$A$6:$A$1806,Data!$H$6:$H$1806)","v":10},{"$f":"LOOKUP($AO169,Data!$A$6:$A$1806,Data!$I$6:$I$1806)","v":0},{"$f":"LOOKUP($AO169,Data!$A$6:$A$1806,Data!$J$6:$J$1806)","v":-103},{"$f":"LOOKUP($AO169,Data!$A$6:$A$1806,Data!$K$6:$K$1806)","v":7671},44.000244140625]
[null,40098.104490740574,{"$f":"LOOKUP(B170,Data!$A$6:$A$1806,Data!B$6:B$1806)","v":59.948001861572266},{"$f":"LOOKUP(B170,Data!$A$6:$A$1806,Data!C$6:C$1806)","v":3748.6611328125},null,null,null,41.5985107421875,44.092633424342132,null,null,0.56196009855523055,3769.0789933212172,{"$f":"AVERAGE(D$79:D170)","v":3784.6535246475883},{"$f":"AVERAGE(M$79:M170)","v":3777.8939311152203},3724.4230692230735,{"$f":"AVERAGE(P$79:P170)","v":3699.1348647880932},633,null,null,null,null,null,null,0,633,-672.52165296290104,null,null,null,null,null,null,null,null,null,null,null,null,null,40098.104490740574,{"$f":"LOOKUP($AO170,Data!$A$6:$A$1806,Data!$B$6:$B$1806)","v":59.948001861572266},{"$f":"LOOKUP($AO170,Data!$A$6:$A$1806,Data!$C$6:$C$1806)","v":3748.6611328125},{"$f":"LOOKUP($AO170,Data!$A$6:$A$1806,Data!$D$6:$D$1806)","v":335},{"$f":"IF($AS$1=\"+\",LOOKUP($AO170,Data!$A$6:$A$1806,Data!$E$6:$E$1806)*-1,LOOKUP($AO170,Data!$A$6:$A$1806,Data!$E$6:$E$1806))","v":229.23385620117187},{"$f":"LOOKUP($AO170,Data!$A$6:$A$1806,Data!$F$6:$F$1806)","v":16},{"$f":"LOOKUP($AO170,Data!$A$6:$A$1806,Data!$G$6:$G$1806)","v":276.5},{"$f":"LOOKUP($AO170,Data!$A$6:$A$1806,Data!$H$6:$H$1806)","v":10},{"$f":"LOOKUP($AO170,Data!$A$6:$A$1806,Data!$I$6:$I$1806)","v":0},{"$f":"LOOKUP($AO170,Data!$A$6:$A$1806,Data!$J$6:$J$1806)","v":-103},{"$f":"LOOKUP($AO170,Data!$A$6:$A$1806,Data!$K$6:$K$1806)","v":7671},41.5985107421875]
[null,40098.10451388872,{"$f":"LOOKUP(B171,Data!$A$6:$A$1806,Data!B$6:B$1806)","v":59.946998596191406},{"$f":"LOOKUP(B171,Data!$A$6:$A$1806,Data!C$6:C$1806)","v":3746.7060546875},null,null,null,42.401123046875,{"$f":"L$13*H171+(1-L$13)*I170","v":43.500604792228636},null,null,0.56196009855523055,3769.048924787659,{"$f":"AVERAGE(D$79:D171)","v":3784.2454873361894},{"$f":"AVERAGE(M$79:M171)","v":3777.7988235203002},3724.9850293216286,{"$f":"AVERAGE(P$79:P171)","v":3699.4158448373705},633,null,null,null,null,null,null,0,{"$f":"SUM(R171:Y171)","v":633},-665.42881575979345,null,null,null,null,null,null,null,null,null,null,null,null,null,40098.10451388872,{"$f":"LOOKUP($AO171,Data!$A$6:$A$1806,Data!$B$6:$B$1806)","v":59.946998596191406},{"$f":"LOOKUP($AO171,Data!$A$6:$A$1806,Data!$C$6:$C$1806)","v":3746.7060546875},{"$f":"LOOKUP($AO171,Data!$A$6:$A$1806,Data!$D$6:$D$1806)","v":335},{"$f":"IF($AS$1=\"+\",LOOKUP($AO171,Data!$A$6:$A$1806,Data!$E$6:$E$1806)*-1,LOOKUP($AO171,Data!$A$6:$A$1806,Data!$E$6:$E$1806))","v":229.23385620117187},{"$f":"LOOKUP($AO171,Data!$A$6:$A$1806,Data!$F$6:$F$1806)","v":16},{"$f":"LOOKUP($AO171,Data!$A$6:$A$1806,Data!$G$6:$G$1806)","v":277},{"$f":"LOOKUP($AO171,Data!$A$6:$A$1806,Data!$H$6:$H$1806)","v":10},{"$f":"LOOKUP($AO171,Data!$A$6:$A$1806,Data!$I$6:$I$1806)","v":0},{"$f":"LOOKUP($AO171,Data!$A$6:$A$1806,Data!$J$6:$J$1806)","v":-103},{"$f":"LOOKUP($AO171,Data!$A$6:$A$1806,Data!$K$6:$K$1806)","v":7672},42.401123046875]
[null,40098.104537036867,{"$f":"LOOKUP(B172,Data!$A$6:$A$1806,Data!B$6:B$1806)","v":59.949001312255859},{"$f":"LOOKUP(B172,Data!$A$6:$A$1806,Data!C$6:C$1806)","v":3749.076904296875},null,null,null,{"$f":"(IF((C172-L$2)>0,((C172-L$2-L$5)/((L$4*L$2)-L$5)*L$3*-1),((C172-L$2+L$5)/((L$4*L$2)-L$5)*L$3*-1)))","v":40.7989501953125},42.555025683307989,null,null,0.56196009855523055,3768.6653057772933,{"$f":"AVERAGE(D$79:D172)","v":3783.8713534740691},{"$f":"AVERAGE(M$79:M172)","v":3777.7016584379276},3725.5469894201838,{"$f":"AVERAGE(P$79:P172)","v":3699.6968248866483},633,null,null,null,null,null,null,0,633,-679.73947924934077,null,null,null,null,null,null,null,null,null,null,null,null,null,40098.104537036867,{"$f":"LOOKUP($AO172,Data!$A$6:$A$1806,Data!$B$6:$B$1806)","v":59.949001312255859},{"$f":"LOOKUP($AO172,Data!$A$6:$A$1806,Data!$C$6:$C$1806)","v":3749.076904296875},{"$f":"LOOKUP($AO172,Data!$A$6:$A$1806,Data!$D$6:$D$1806)","v":335},{"$f":"IF($AS$1=\"+\",LOOKUP($AO172,Data!$A$6:$A$1806,Data!$E$6:$E$1806)*-1,LOOKUP($AO172,Data!$A$6:$A$1806,Data!$E$6:$E$1806))","v":229.23385620117187},{"$f":"LOOKUP($AO172,Data!$A$6:$A$1806,Data!$F$6:$F$1806)","v":16},{"$f":"LOOKUP($AO172,Data!$A$6:$A$1806,Data!$G$6:$G$1806)","v":277.5},{"$f":"LOOKUP($AO172,Data!$A$6:$A$1806,Data!$H$6:$H$1806)","v":10},{"$f":"LOOKUP($AO172,Data!$A$6:$A$1806,Data!$I$6:$I$1806)","v":0},{"$f":"LOOKUP($AO172,Data!$A$6:$A$1806,Data!$J$6:$J$1806)","v":-103},{"$f":"LOOKUP($AO172,Data!$A$6:$A$1806,Data!$K$6:$K$1806)","v":7673},{"$f":"(IF((AP172-$L$2)>0,((AP172-$L$2-$L$5)/(($L$4*$L$2)-$L$5)*$L$3*-1),((AP172-$L$2+$L$5)/(($L$4*$L$2)-$L$5)*$L$3*-1)))","v":40.7989501953125}]
[null,40098.104560185013,{"$f":"LOOKUP(B173,Data!$A$6:$A$1806,Data!B$6:B$1806)","v":59.951000213623047},{"$f":"LOOKUP(B173,Data!$A$6:$A$1806,Data!C$6:C$1806)","v":3742.741455078125},null,null,null,39.1998291015625,41.380706879697073,null,null,0.56196009855523055,3768.0529470722377,{"$f":"AVERAGE(D$79:D173)","v":3783.4384071751647},{"$f":"AVERAGE(M$79:M173)","v":3777.6000930551313},3726.1089495187389,{"$f":"AVERAGE(P$79:P173)","v":3699.9778049359261},633,null,null,null,null,null,null,0,633,-694.65011852247221,null,null,null,null,null,null,null,null,null,null,null,null,null,40098.104560185013,{"$f":"LOOKUP($AO173,Data!$A$6:$A$1806,Data!$B$6:$B$1806)","v":59.951000213623047},{"$f":"LOOKUP($AO173,Data!$A$6:$A$1806,Data!$C$6:$C$1806)","v":3742.741455078125},{"$f":"LOOKUP($AO173,Data!$A$6:$A$1806,Data!$D$6:$D$1806)","v":335},{"$f":"IF($AS$1=\"+\",LOOKUP($AO173,Data!$A$6:$A$1806,Data!$E$6:$E$1806)*-1,LOOKUP($AO173,Data!$A$6:$A$1806,Data!$E$6:$E$1806))","v":229.23385620117187},{"$f":"LOOKUP($AO173,Data!$A$6:$A$1806,Data!$F$6:$F$1806)","v":16},{"$f":"LOOKUP($AO173,Data!$A$6:$A$1806,Data!$G$6:$G$1806)","v":278},{"$f":"LOOKUP($AO173,Data!$A$6:$A$1806,Data!$H$6:$H$1806)","v":10},{"$f":"LOOKUP($AO173,Data!$A$6:$A$1806,Data!$I$6:$I$1806)","v":0},{"$f":"LOOKUP($AO173,Data!$A$6:$A$1806,Data!$J$6:$J$1806)","v":-103},{"$f":"LOOKUP($AO173,Data!$A$6:$A$1806,Data!$K$6:$K$1806)","v":7673},39.1998291015625]
[null,{"$f":"B173+TIME(0,0,$B$1)","v":40098.104583333159},{"$f":"LOOKUP(B174,Data!$A$6:$A$1806,Data!B$6:B$1806)","v":59.951999664306641},{"$f":"LOOKUP(B174,Data!$A$6:$A$1806,Data!C$6:C$1806)","v":3740.259033203125},null,null,null,38.4002685546875,40.337553465943728,null,null,0.56196009855523055,3767.5717537570395,{"$f":"AVERAGE(D$79:D174)","v":3782.9886220296225},{"$f":"AVERAGE(M$79:M174)","v":3777.4956311874425},3726.670909617294,{"$f":"AVERAGE(P$79:P174)","v":3700.2587849852034},633,null,null,null,null,null,null,0,633,-702.35346627373588,null,null,null,null,null,null,null,null,null,null,null,null,null,40098.104583333159,{"$f":"LOOKUP($AO174,Data!$A$6:$A$1806,Data!$B$6:$B$1806)","v":59.951999664306641},{"$f":"LOOKUP($AO174,Data!$A$6:$A$1806,Data!$C$6:$C$1806)","v":3740.259033203125},{"$f":"LOOKUP($AO174,Data!$A$6:$A$1806,Data!$D$6:$D$1806)","v":350},{"$f":"IF($AS$1=\"+\",LOOKUP($AO174,Data!$A$6:$A$1806,Data!$E$6:$E$1806)*-1,LOOKUP($AO174,Data!$A$6:$A$1806,Data!$E$6:$E$1806))","v":229.23385620117187},{"$f":"LOOKUP($AO174,Data!$A$6:$A$1806,Data!$F$6:$F$1806)","v":16},{"$f":"LOOKUP($AO174,Data!$A$6:$A$1806,Data!$G$6:$G$1806)","v":278.5},{"$f":"LOOKUP($AO174,Data!$A$6:$A$1806,Data!$H$6:$H$1806)","v":10},{"$f":"LOOKUP($AO174,Data!$A$6:$A$1806,Data!$I$6:$I$1806)","v":0},{"$f":"LOOKUP($AO174,Data!$A$6:$A$1806,Data!$J$6:$J$1806)","v":-103},{"$f":"LOOKUP($AO174,Data!$A$6:$A$1806,Data!$K$6:$K$1806)","v":7673},38.4002685546875]
[null,40098.104606481305,{"$f":"LOOKUP(B175,Data!$A$6:$A$1806,Data!B$6:B$1806)","v":59.952999114990234},{"$f":"LOOKUP(B175,Data!$A$6:$A$1806,Data!C$6:C$1806)","v":3736.13916015625},null,null,null,37.6007080078125,39.379657555597802,null,null,0.56196009855523055,3767.1758179452486,{"$f":"AVERAGE(D$79:D175)","v":3782.5056378865979},{"$f":"AVERAGE(M$79:M175)","v":3777.3892413602034},3727.2328697158491,{"$f":"AVERAGE(P$79:P175)","v":3700.5397650344808},633,null,null,null,null,null,null,0,633,-710.22958306359715,null,null,null,null,null,null,null,null,null,null,null,null,null,40098.104606481305,{"$f":"LOOKUP($AO175,Data!$A$6:$A$1806,Data!$B$6:$B$1806)","v":59.952999114990234},{"$f":"LOOKUP($AO175,Data!$A$6:$A$1806,Data!$C$6:$C$1806)","v":3736.13916015625},{"$f":"LOOKUP($AO175,Data!$A$6:$A$1806,Data!$D$6:$D$1806)","v":350},{"$f":"IF($AS$1=\"+\",LOOKUP($AO175,Data!$A$6:$A$1806,Data!$E$6:$E$1806)*-1,LOOKUP($AO175,Data!$A$6:$A$1806,Data!$E$6:$E$1806))","v":231.40988159179687},{"$f":"LOOKUP($AO175,Data!$A$6:$A$1806,Data!$F$6:$F$1806)","v":16},{"$f":"LOOKUP($AO175,Data!$A$6:$A$1806,Data!$G$6:$G$1806)","v":279},{"$f":"LOOKUP($AO175,Data!$A$6:$A$1806,Data!$H$6:$H$1806)","v":10},{"$f":"LOOKUP($AO175,Data!$A$6:$A$1806,Data!$I$6:$I$1806)","v":0},{"$f":"LOOKUP($AO175,Data!$A$6:$A$1806,Data!$J$6:$J$1806)","v":-103},{"$f":"LOOKUP($AO175,Data!$A$6:$A$1806,Data!$K$6:$K$1806)","v":7673},37.6007080078125]
[null,40098.104629629452,{"$f":"LOOKUP(B176,Data!$A$6:$A$1806,Data!B$6:B$1806)","v":59.951000213623047},{"$f":"LOOKUP(B176,Data!$A$6:$A$1806,Data!C$6:C$1806)","v":3731.382080078125},null,null,null,39.1998291015625,39.31671759668545,null,null,0.56196009855523055,3767.6748380848912,{"$f":"AVERAGE(D$79:D176)","v":3781.9839689293685},{"$f":"AVERAGE(M$79:M176)","v":3777.2901147961697},3727.7948298144042,{"$f":"AVERAGE(P$79:P176)","v":3700.8207450837585},633,null,null,null,null,null,null,0,633,-694.65011852247221,null,null,null,null,null,null,null,null,null,null,null,null,null,40098.104629629452,{"$f":"LOOKUP($AO176,Data!$A$6:$A$1806,Data!$B$6:$B$1806)","v":59.951000213623047},{"$f":"LOOKUP($AO176,Data!$A$6:$A$1806,Data!$C$6:$C$1806)","v":3731.382080078125},{"$f":"LOOKUP($AO176,Data!$A$6:$A$1806,Data!$D$6:$D$1806)","v":350},{"$f":"IF($AS$1=\"+\",LOOKUP($AO176,Data!$A$6:$A$1806,Data!$E$6:$E$1806)*-1,LOOKUP($AO176,Data!$A$6:$A$1806,Data!$E$6:$E$1806))","v":231.40988159179687},{"$f":"LOOKUP($AO176,Data!$A$6:$A$1806,Data!$F$6:$F$1806)","v":16},{"$f":"LOOKUP($AO176,Data!$A$6:$A$1806,Data!$G$6:$G$1806)","v":279.5},{"$f":"LOOKUP($AO176,Data!$A$6:$A$1806,Data!$H$6:$H$1806)","v":10},{"$f":"LOOKUP($AO176,Data!$A$6:$A$1806,Data!$I$6:$I$1806)","v":0},{"$f":"LOOKUP($AO176,Data!$A$6:$A$1806,Data!$J$6:$J$1806)","v":-103},{"$f":"LOOKUP($AO176,Data!$A$6:$A$1806,Data!$K$6:$K$1806)","v":7673},39.1998291015625]
[null,40098.104652777598,{"$f":"LOOKUP(B177,Data!$A$6:$A$1806,Data!B$6:B$1806)","v":59.951999664306641},{"$f":"LOOKUP(B177,Data!$A$6:$A$1806,Data!C$6:C$1806)","v":3727.83837890625},null,null,null,38.4002685546875,38.99596043198617,null,null,0.56196009855523055,3767.9160410187469,{"$f":"AVERAGE(D$79:D177)","v":3781.4370437776201},{"$f":"AVERAGE(M$79:M177)","v":3777.1954271822565},3728.3567899129594,{"$f":"AVERAGE(P$79:P177)","v":3701.1017251330363},633,null,null,null,null,null,null,0,633,-702.35346627373588,null,null,null,null,null,null,null,null,null,null,null,null,null,40098.104652777598,{"$f":"LOOKUP($AO177,Data!$A$6:$A$1806,Data!$B$6:$B$1806)","v":59.951999664306641},{"$f":"LOOKUP($AO177,Data!$A$6:$A$1806,Data!$C$6:$C$1806)","v":3727.83837890625},{"$f":"LOOKUP($AO177,Data!$A$6:$A$1806,Data!$D$6:$D$1806)","v":350},{"$f":"IF($AS$1=\"+\",LOOKUP($AO177,Data!$A$6:$A$1806,Data!$E$6:$E$1806)*-1,LOOKUP($AO177,Data!$A$6:$A$1806,Data!$E$6:$E$1806))","v":231.40988159179687},{"$f":"LOOKUP($AO177,Data!$A$6:$A$1806,Data!$F$6:$F$1806)","v":16},{"$f":"LOOKUP($AO177,Data!$A$6:$A$1806,Data!$G$6:$G$1806)","v":280},{"$f":"LOOKUP($AO177,Data!$A$6:$A$1806,Data!$H$6:$H$1806)","v":10},{"$f":"LOOKUP($AO177,Data!$A$6:$A$1806,Data!$I$6:$I$1806)","v":0},{"$f":"LOOKUP($AO177,Data!$A$6:$A$1806,Data!$J$6:$J$1806)","v":-103},{"$f":"LOOKUP($AO177,Data!$A$6:$A$1806,Data!$K$6:$K$1806)","v":7673},38.4002685546875]
[null,40098.104675925744,{"$f":"LOOKUP(B178,Data!$A$6:$A$1806,Data!B$6:B$1806)","v":59.951999664306641},{"$f":"LOOKUP(B178,Data!$A$6:$A$1806,Data!C$6:C$1806)","v":3725.95166015625},null,null,null,38.4002685546875,38.787468274931641,null,null,0.56196009855523055,3768.2695089602475,{"$f":"AVERAGE(D$79:D178)","v":3780.8821899414061},{"$f":"AVERAGE(M$79:M178)","v":3777.1061680000362},3728.9187500115145,{"$f":"AVERAGE(P$79:P178)","v":3701.3827051823141},633,null,null,null,null,null,null,0,633,-702.35346627373588,null,null,null,null,null,null,null,null,null,null,null,null,null,40098.104675925744,{"$f":"LOOKUP($AO178,Data!$A$6:$A$1806,Data!$B$6:$B$1806)","v":59.951999664306641},{"$f":"LOOKUP($AO178,Data!$A$6:$A$1806,Data!$C$6:$C$1806)","v":3725.95166015625},{"$f":"LOOKUP($AO178,Data!$A$6:$A$1806,Data!$D$6:$D$1806)","v":350},{"$f":"IF($AS$1=\"+\",LOOKUP($AO178,Data!$A$6:$A$1806,Data!$E$6:$E$1806)*-1,LOOKUP($AO178,Data!$A$6:$A$1806,Data!$E$6:$E$1806))","v":231.40988159179687},{"$f":"LOOKUP($AO178,Data!$A$6:$A$1806,Data!$F$6:$F$1806)","v":16},{"$f":"LOOKUP($AO178,Data!$A$6:$A$1806,Data!$G$6:$G$1806)","v":280.5},{"$f":"LOOKUP($AO178,Data!$A$6:$A$1806,Data!$H$6:$H$1806)","v":10},{"$f":"LOOKUP($AO178,Data!$A$6:$A$1806,Data!$I$6:$I$1806)","v":0},{"$f":"LOOKUP($AO178,Data!$A$6:$A$1806,Data!$J$6:$J$1806)","v":-103},{"$f":"LOOKUP($AO178,Data!$A$6:$A$1806,Data!$K$6:$K$1806)","v":7673},38.4002685546875]
[null,40098.104699073891,{"$f":"LOOKUP(B179,Data!$A$6:$A$1806,Data!B$6:B$1806)","v":59.951999664306641},{"$f":"LOOKUP(B179,Data!$A$6:$A$1806,Data!C$6:C$1806)","v":3722.64892578125},null,null,null,38.4002685546875,38.651948372846192,null,null,0.56196009855523055,3768.6959491567172,{"$f":"AVERAGE(D$79:D179)","v":3780.3056229695235},{"$f":"AVERAGE(M$79:M179)","v":3777.0228985065378},3729.4807101100696,{"$f":"AVERAGE(P$79:P179)","v":3701.6636852315914},633,null,null,null,null,null,null,0,633,-702.35346627373588,null,null,null,null,null,null,null,null,null,null,null,null,null,40098.104699073891,{"$f":"LOOKUP($AO179,Data!$A$6:$A$1806,Data!$B$6:$B$1806)","v":59.951999664306641},{"$f":"LOOKUP($AO179,Data!$A$6:$A$1806,Data!$C$6:$C$1806)","v":3722.64892578125},{"$f":"LOOKUP($AO179,Data!$A$6:$A$1806,Data!$D$6:$D$1806)","v":350},{"$f":"IF($AS$1=\"+\",LOOKUP($AO179,Data!$A$6:$A$1806,Data!$E$6:$E$1806)*-1,LOOKUP($AO179,Data!$A$6:$A$1806,Data!$E$6:$E$1806))","v":231.40988159179687},{"$f":"LOOKUP($AO179,Data!$A$6:$A$1806,Data!$F$6:$F$1806)","v":16},{"$f":"LOOKUP($AO179,Data!$A$6:$A$1806,Data!$G$6:$G$1806)","v":281},{"$f":"LOOKUP($AO179,Data!$A$6:$A$1806,Data!$H$6:$H$1806)","v":10},{"$f":"LOOKUP($AO179,Data!$A$6:$A$1806,Data!$I$6:$I$1806)","v":0},{"$f":"LOOKUP($AO179,Data!$A$6:$A$1806,Data!$J$6:$J$1806)","v":-103},{"$f":"LOOKUP($AO179,Data!$A$6:$A$1806,Data!$K$6:$K$1806)","v":7673},38.4002685546875]
[null,40098.104722222037,{"$f":"LOOKUP(B180,Data!$A$6:$A$1806,Data!B$6:B$1806)","v":59.955001831054688},{"$f":"LOOKUP(B180,Data!$A$6:$A$1806,Data!C$6:C$1806)","v":3720.578125},null,null,null,35.99853515625,37.723253747037525,null,null,0.56196009855523055,3768.3292146294639,{"$f":"AVERAGE(D$79:D180)","v":3779.7200592639401},{"$f":"AVERAGE(M$79:M180)","v":3776.937666311665},3730.0426702086247,{"$f":"AVERAGE(P$79:P180)","v":3701.9446652808688},633,null,null,null,null,null,null,0,633,-726.5557169519077,null,null,null,null,null,null,null,null,null,null,null,null,null,40098.104722222037,{"$f":"LOOKUP($AO180,Data!$A$6:$A$1806,Data!$B$6:$B$1806)","v":59.955001831054688},{"$f":"LOOKUP($AO180,Data!$A$6:$A$1806,Data!$C$6:$C$1806)","v":3720.578125},{"$f":"LOOKUP($AO180,Data!$A$6:$A$1806,Data!$D$6:$D$1806)","v":350},{"$f":"IF($AS$1=\"+\",LOOKUP($AO180,Data!$A$6:$A$1806,Data!$E$6:$E$1806)*-1,LOOKUP($AO180,Data!$A$6:$A$1806,Data!$E$6:$E$1806))","v":218.62228393554687},{"$f":"LOOKUP($AO180,Data!$A$6:$A$1806,Data!$F$6:$F$1806)","v":16},{"$f":"LOOKUP($AO180,Data!$A$6:$A$1806,Data!$G$6:$G$1806)","v":281.5},{"$f":"LOOKUP($AO180,Data!$A$6:$A$1806,Data!$H$6:$H$1806)","v":10},{"$f":"LOOKUP($AO180,Data!$A$6:$A$1806,Data!$I$6:$I$1806)","v":0},{"$f":"LOOKUP($AO180,Data!$A$6:$A$1806,Data!$J$6:$J$1806)","v":-103},{"$f":"LOOKUP($AO180,Data!$A$6:$A$1806,Data!$K$6:$K$1806)","v":7673},35.99853515625]
[null,40098.104745370183,{"$f":"LOOKUP(B181,Data!$A$6:$A$1806,Data!B$6:B$1806)","v":59.951999664306641},{"$f":"LOOKUP(B181,Data!$A$6:$A$1806,Data!C$6:C$1806)","v":3717.99609375},null,null,null,38.4002685546875,37.960208929715016,null,null,0.56196009855523055,3769.1281299106963,{"$f":"AVERAGE(D$79:D181)","v":3779.1207974628337},{"$f":"AVERAGE(M$79:M181)","v":3776.8618455699079},3730.6046303071798,{"$f":"AVERAGE(P$79:P181)","v":3702.2256453301461},633,null,null,null,null,null,null,0,633,-702.35346627373588,null,null,null,null,null,null,null,null,null,null,null,null,null,40098.104745370183,{"$f":"LOOKUP($AO181,Data!$A$6:$A$1806,Data!$B$6:$B$1806)","v":59.951999664306641},{"$f":"LOOKUP($AO181,Data!$A$6:$A$1806,Data!$C$6:$C$1806)","v":3717.99609375},{"$f":"LOOKUP($AO181,Data!$A$6:$A$1806,Data!$D$6:$D$1806)","v":350},{"$f":"IF($AS$1=\"+\",LOOKUP($AO181,Data!$A$6:$A$1806,Data!$E$6:$E$1806)*-1,LOOKUP($AO181,Data!$A$6:$A$1806,Data!$E$6:$E$1806))","v":218.62228393554687},{"$f":"LOOKUP($AO181,Data!$A$6:$A$1806,Data!$F$6:$F$1806)","v":16},{"$f":"LOOKUP($AO181,Data!$A$6:$A$1806,Data!$G$6:$G$1806)","v":282},{"$f":"LOOKUP($AO181,Data!$A$6:$A$1806,Data!$H$6:$H$1806)","v":10},{"$f":"LOOKUP($AO181,Data!$A$6:$A$1806,Data!$I$6:$I$1806)","v":0},{"$f":"LOOKUP($AO181,Data!$A$6:$A$1806,Data!$J$6:$J$1806)","v":-103},{"$f":"LOOKUP($AO181,Data!$A$6:$A$1806,Data!$K$6:$K$1806)","v":7673},38.4002685546875]
[null,40098.104768518329,{"$f":"LOOKUP(B182,Data!$A$6:$A$1806,Data!B$6:B$1806)","v":59.953998565673828},{"$f":"LOOKUP(B182,Data!$A$6:$A$1806,Data!C$6:C$1806)","v":3718.141845703125},null,null,null,36.8011474609375,37.554537415642884,null,null,0.56196009855523055,3769.2844184951791,{"$f":"AVERAGE(D$79:D182)","v":3778.5344613882212},{"$f":"AVERAGE(M$79:M182)","v":3776.7889856941893},3731.166590405735,{"$f":"AVERAGE(P$79:P182)","v":3702.5066253794239},633,null,null,null,null,null,null,0,633,-718.28434704975245,null,null,null,null,null,null,null,null,null,null,null,null,null,40098.104768518329,{"$f":"LOOKUP($AO182,Data!$A$6:$A$1806,Data!$B$6:$B$1806)","v":59.953998565673828},{"$f":"LOOKUP($AO182,Data!$A$6:$A$1806,Data!$C$6:$C$1806)","v":3718.141845703125},{"$f":"LOOKUP($AO182,Data!$A$6:$A$1806,Data!$D$6:$D$1806)","v":350},{"$f":"IF($AS$1=\"+\",LOOKUP($AO182,Data!$A$6:$A$1806,Data!$E$6:$E$1806)*-1,LOOKUP($AO182,Data!$A$6:$A$1806,Data!$E$6:$E$1806))","v":218.62228393554687},{"$f":"LOOKUP($AO182,Data!$A$6:$A$1806,Data!$F$6:$F$1806)","v":16},{"$f":"LOOKUP($AO182,Data!$A$6:$A$1806,Data!$G$6:$G$1806)","v":282.5},{"$f":"LOOKUP($AO182,Data!$A$6:$A$1806,Data!$H$6:$H$1806)","v":10},{"$f":"LOOKUP($AO182,Data!$A$6:$A$1806,Data!$I$6:$I$1806)","v":0},{"$f":"LOOKUP($AO182,Data!$A$6:$A$1806,Data!$J$6:$J$1806)","v":-103},{"$f":"LOOKUP($AO182,Data!$A$6:$A$1806,Data!$K$6:$K$1806)","v":7673},36.8011474609375]
[null,40098.104791666476,{"$f":"LOOKUP(B183,Data!$A$6:$A$1806,Data!B$6:B$1806)","v":59.951999664306641},{"$f":"LOOKUP(B183,Data!$A$6:$A$1806,Data!C$6:C$1806)","v":3715.752685546875},null,null,null,38.4002685546875,37.850543314308496,null,null,0.56196009855523055,3770.1423844923997,{"$f":"AVERAGE(D$79:D183)","v":3777.9365397135416},{"$f":"AVERAGE(M$79:M183)","v":3776.7256847303629},3731.7285505042901,{"$f":"AVERAGE(P$79:P183)","v":3702.7876054287017},633,null,null,null,null,null,null,0,633,-702.35346627373588,null,null,null,null,null,null,null,null,null,null,null,null,null,40098.104791666476,{"$f":"LOOKUP($AO183,Data!$A$6:$A$1806,Data!$B$6:$B$1806)","v":59.951999664306641},{"$f":"LOOKUP($AO183,Data!$A$6:$A$1806,Data!$C$6:$C$1806)","v":3715.752685546875},{"$f":"LOOKUP($AO183,Data!$A$6:$A$1806,Data!$D$6:$D$1806)","v":350},{"$f":"IF($AS$1=\"+\",LOOKUP($AO183,Data!$A$6:$A$1806,Data!$E$6:$E$1806)*-1,LOOKUP($AO183,Data!$A$6:$A$1806,Data!$E$6:$E$1806))","v":218.62228393554687},{"$f":"LOOKUP($AO183,Data!$A$6:$A$1806,Data!$F$6:$F$1806)","v":16},{"$f":"LOOKUP($AO183,Data!$A$6:$A$1806,Data!$G$6:$G$1806)","v":283},{"$f":"LOOKUP($AO183,Data!$A$6:$A$1806,Data!$H$6:$H$1806)","v":10},{"$f":"LOOKUP($AO183,Data!$A$6:$A$1806,Data!$I$6:$I$1806)","v":0},{"$f":"LOOKUP($AO183,Data!$A$6:$A$1806,Data!$J$6:$J$1806)","v":-103},{"$f":"LOOKUP($AO183,Data!$A$6:$A$1806,Data!$K$6:$K$1806)","v":7673},38.4002685546875]
[null,40098.104814814622,{"$f":"LOOKUP(B184,Data!$A$6:$A$1806,Data!B$6:B$1806)","v":59.952999114990234},{"$f":"LOOKUP(B184,Data!$A$6:$A$1806,Data!C$6:C$1806)","v":3713.69384765625},null,null,null,37.6007080078125,37.763100957034894,null,null,0.56196009855523055,3770.6169022336812,{"$f":"AVERAGE(D$79:D184)","v":3777.3304765809257},{"$f":"AVERAGE(M$79:M184)","v":3776.668054706809},3732.2905106028452,{"$f":"AVERAGE(P$79:P184)","v":3703.068585477979},633,null,null,null,null,null,null,0,633,-710.22958306359715,null,null,null,null,null,null,null,null,null,null,null,null,null,40098.104814814622,{"$f":"LOOKUP($AO184,Data!$A$6:$A$1806,Data!$B$6:$B$1806)","v":59.952999114990234},{"$f":"LOOKUP($AO184,Data!$A$6:$A$1806,Data!$C$6:$C$1806)","v":3713.69384765625},{"$f":"LOOKUP($AO184,Data!$A$6:$A$1806,Data!$D$6:$D$1806)","v":350},{"$f":"IF($AS$1=\"+\",LOOKUP($AO184,Data!$A$6:$A$1806,Data!$E$6:$E$1806)*-1,LOOKUP($AO184,Data!$A$6:$A$1806,Data!$E$6:$E$1806))","v":218.62228393554687},{"$f":"LOOKUP($AO184,Data!$A$6:$A$1806,Data!$F$6:$F$1806)","v":16},{"$f":"LOOKUP($AO184,Data!$A$6:$A$1806,Data!$G$6:$G$1806)","v":283.5},{"$f":"LOOKUP($AO184,Data!$A$6:$A$1806,Data!$H$6:$H$1806)","v":10},{"$f":"LOOKUP($AO184,Data!$A$6:$A$1806,Data!$I$6:$I$1806)","v":0},{"$f":"LOOKUP($AO184,Data!$A$6:$A$1806,Data!$J$6:$J$1806)","v":-103},{"$f":"LOOKUP($AO184,Data!$A$6:$A$1806,Data!$K$6:$K$1806)","v":7673},37.6007080078125]
[null,40098.104837962768,{"$f":"LOOKUP(B185,Data!$A$6:$A$1806,Data!B$6:B$1806)","v":59.952999114990234},{"$f":"LOOKUP(B185,Data!$A$6:$A$1806,Data!C$6:C$1806)","v":3713.483642578125},null,null,null,37.6007080078125,37.706263424807055,null,null,0.56196009855523055,3771.1220248000086,{"$f":"AVERAGE(D$79:D185)","v":3776.7337771977218},{"$f":"AVERAGE(M$79:M185)","v":3776.6162226516053},3732.8524707014003,{"$f":"AVERAGE(P$79:P185)","v":3703.3495655272563},633,null,null,null,null,null,null,0,633,-710.22958306359715,null,null,null,null,null,null,null,null,null,null,null,null,null,40098.104837962768,{"$f":"LOOKUP($AO185,Data!$A$6:$A$1806,Data!$B$6:$B$1806)","v":59.952999114990234},{"$f":"LOOKUP($AO185,Data!$A$6:$A$1806,Data!$C$6:$C$1806)","v":3713.483642578125},{"$f":"LOOKUP($AO185,Data!$A$6:$A$1806,Data!$D$6:$D$1806)","v":350},{"$f":"IF($AS$1=\"+\",LOOKUP($AO185,Data!$A$6:$A$1806,Data!$E$6:$E$1806)*-1,LOOKUP($AO185,Data!$A$6:$A$1806,Data!$E$6:$E$1806))","v":213.53585815429687},{"$f":"LOOKUP($AO185,Data!$A$6:$A$1806,Data!$F$6:$F$1806)","v":16},{"$f":"LOOKUP($AO185,Data!$A$6:$A$1806,Data!$G$6:$G$1806)","v":284},{"$f":"LOOKUP($AO185,Data!$A$6:$A$1806,Data!$H$6:$H$1806)","v":10},{"$f":"LOOKUP($AO185,Data!$A$6:$A$1806,Data!$I$6:$I$1806)","v":0},{"$f":"LOOKUP($AO185,Data!$A$6:$A$1806,Data!$J$6:$J$1806)","v":-103},{"$f":"LOOKUP($AO185,Data!$A$6:$A$1806,Data!$K$6:$K$1806)","v":7673},37.6007080078125]
[null,40098.104861110914,{"$f":"LOOKUP(B186,Data!$A$6:$A$1806,Data!B$6:B$1806)","v":59.951999664306641},{"$f":"LOOKUP(B186,Data!$A$6:$A$1806,Data!C$6:C$1806)","v":3710.84814453125},null,null,null,38.4002685546875,37.949165220265215,null,null,0.56196009855523055,3771.926886694022,{"$f":"AVERAGE(D$79:D186)","v":3776.1237250434028},{"$f":"AVERAGE(M$79:M186)","v":3776.5728028742201},3733.4144307999554,{"$f":"AVERAGE(P$79:P186)","v":3703.6305455765337},633,null,null,null,null,null,null,0,633,-702.35346627373588,null,null,null,null,null,null,null,null,null,null,null,null,null,40098.104861110914,{"$f":"LOOKUP($AO186,Data!$A$6:$A$1806,Data!$B$6:$B$1806)","v":59.951999664306641},{"$f":"LOOKUP($AO186,Data!$A$6:$A$1806,Data!$C$6:$C$1806)","v":3710.84814453125},{"$f":"LOOKUP($AO186,Data!$A$6:$A$1806,Data!$D$6:$D$1806)","v":350},{"$f":"IF($AS$1=\"+\",LOOKUP($AO186,Data!$A$6:$A$1806,Data!$E$6:$E$1806)*-1,LOOKUP($AO186,Data!$A$6:$A$1806,Data!$E$6:$E$1806))","v":213.53585815429687},{"$f":"LOOKUP($AO186,Data!$A$6:$A$1806,Data!$F$6:$F$1806)","v":16},{"$f":"LOOKUP($AO186,Data!$A$6:$A$1806,Data!$G$6:$G$1806)","v":284.5},{"$f":"LOOKUP($AO186,Data!$A$6:$A$1806,Data!$H$6:$H$1806)","v":10},{"$f":"LOOKUP($AO186,Data!$A$6:$A$1806,Data!$I$6:$I$1806)","v":0},{"$f":"LOOKUP($AO186,Data!$A$6:$A$1806,Data!$J$6:$J$1806)","v":-103},{"$f":"LOOKUP($AO186,Data!$A$6:$A$1806,Data!$K$6:$K$1806)","v":7673},38.4002685546875]
[null,40098.104884259061,{"$f":"LOOKUP(B187,Data!$A$6:$A$1806,Data!B$6:B$1806)","v":59.953998565673828},{"$f":"LOOKUP(B187,Data!$A$6:$A$1806,Data!C$6:C$1806)","v":3710.81005859375},null,null,null,36.8011474609375,37.547359004500514,null,null,0.56196009855523055,3772.0870405768123,{"$f":"AVERAGE(D$79:D187)","v":3775.5245170943235},{"$f":"AVERAGE(M$79:M187)","v":3776.5316490916753},3733.9763908985105,{"$f":"AVERAGE(P$79:P187)","v":3703.9115256258115},633,null,null,null,null,null,null,0,633,-718.28434704975245,null,null,null,null,null,null,null,null,null,null,null,null,null,40098.104884259061,{"$f":"LOOKUP($AO187,Data!$A$6:$A$1806,Data!$B$6:$B$1806)","v":59.953998565673828},{"$f":"LOOKUP($AO187,Data!$A$6:$A$1806,Data!$C$6:$C$1806)","v":3710.81005859375},{"$f":"LOOKUP($AO187,Data!$A$6:$A$1806,Data!$D$6:$D$1806)","v":350},{"$f":"IF($AS$1=\"+\",LOOKUP($AO187,Data!$A$6:$A$1806,Data!$E$6:$E$1806)*-1,LOOKUP($AO187,Data!$A$6:$A$1806,Data!$E$6:$E$1806))","v":213.53585815429687},{"$f":"LOOKUP($AO187,Data!$A$6:$A$1806,Data!$F$6:$F$1806)","v":16},{"$f":"LOOKUP($AO187,Data!$A$6:$A$1806,Data!$G$6:$G$1806)","v":285},{"$f":"LOOKUP($AO187,Data!$A$6:$A$1806,Data!$H$6:$H$1806)","v":10},{"$f":"LOOKUP($AO187,Data!$A$6:$A$1806,Data!$I$6:$I$1806)","v":0},{"$f":"LOOKUP($AO187,Data!$A$6:$A$1806,Data!$J$6:$J$1806)","v":-103},{"$f":"LOOKUP($AO187,Data!$A$6:$A$1806,Data!$K$6:$K$1806)","v":7673},36.8011474609375]
[null,40098.104907407207,{"$f":"LOOKUP(B188,Data!$A$6:$A$1806,Data!B$6:B$1806)","v":59.953998565673828},{"$f":"LOOKUP(B188,Data!$A$6:$A$1806,Data!C$6:C$1806)","v":3712.091796875},null,null,null,36.8011474609375,37.286184964253465,null,null,0.56196009855523055,3772.3878266351203,{"$f":"AVERAGE(D$79:D188)","v":3774.9478560014204},{"$f":"AVERAGE(M$79:M188)","v":3776.4939779784336},3734.5383509970657,{"$f":"AVERAGE(P$79:P188)","v":3704.1925056750893},633,null,null,null,null,null,null,0,633,-718.28434704975245,null,null,null,null,null,null,null,null,null,null,null,null,null,40098.104907407207,{"$f":"LOOKUP($AO188,Data!$A$6:$A$1806,Data!$B$6:$B$1806)","v":59.953998565673828},{"$f":"LOOKUP($AO188,Data!$A$6:$A$1806,Data!$C$6:$C$1806)","v":3712.091796875},{"$f":"LOOKUP($AO188,Data!$A$6:$A$1806,Data!$D$6:$D$1806)","v":350},{"$f":"IF($AS$1=\"+\",LOOKUP($AO188,Data!$A$6:$A$1806,Data!$E$6:$E$1806)*-1,LOOKUP($AO188,Data!$A$6:$A$1806,Data!$E$6:$E$1806))","v":213.53585815429687},{"$f":"LOOKUP($AO188,Data!$A$6:$A$1806,Data!$F$6:$F$1806)","v":16},{"$f":"LOOKUP($AO188,Data!$A$6:$A$1806,Data!$G$6:$G$1806)","v":285.5},{"$f":"LOOKUP($AO188,Data!$A$6:$A$1806,Data!$H$6:$H$1806)","v":10},{"$f":"LOOKUP($AO188,Data!$A$6:$A$1806,Data!$I$6:$I$1806)","v":0},{"$f":"LOOKUP($AO188,Data!$A$6:$A$1806,Data!$J$6:$J$1806)","v":-103},{"$f":"LOOKUP($AO188,Data!$A$6:$A$1806,Data!$K$6:$K$1806)","v":7674},36.8011474609375]
[null,40098.104930555353,{"$f":"LOOKUP(B189,Data!$A$6:$A$1806,Data!B$6:B$1806)","v":59.958999633789063},{"$f":"LOOKUP(B189,Data!$A$6:$A$1806,Data!C$6:C$1806)","v":3714.62255859375},null,null,null,32.80029296875,35.716122765827251,null,null,0.56196009855523055,3771.3797245352494,{"$f":"AVERAGE(D$79:D189)","v":3774.4043848536035},{"$f":"AVERAGE(M$79:M189)","v":3776.4479036230896},3735.1003110956208,{"$f":"AVERAGE(P$79:P189)","v":3704.4734857243666},633,null,null,null,null,null,null,0,633,-761.49834276962258,null,null,null,null,null,null,null,null,null,null,null,null,null,40098.104930555353,{"$f":"LOOKUP($AO189,Data!$A$6:$A$1806,Data!$B$6:$B$1806)","v":59.958999633789063},{"$f":"LOOKUP($AO189,Data!$A$6:$A$1806,Data!$C$6:$C$1806)","v":3714.62255859375},{"$f":"LOOKUP($AO189,Data!$A$6:$A$1806,Data!$D$6:$D$1806)","v":350},{"$f":"IF($AS$1=\"+\",LOOKUP($AO189,Data!$A$6:$A$1806,Data!$E$6:$E$1806)*-1,LOOKUP($AO189,Data!$A$6:$A$1806,Data!$E$6:$E$1806))","v":213.53585815429687},{"$f":"LOOKUP($AO189,Data!$A$6:$A$1806,Data!$F$6:$F$1806)","v":16},{"$f":"LOOKUP($AO189,Data!$A$6:$A$1806,Data!$G$6:$G$1806)","v":286},{"$f":"LOOKUP($AO189,Data!$A$6:$A$1806,Data!$H$6:$H$1806)","v":10},{"$f":"LOOKUP($AO189,Data!$A$6:$A$1806,Data!$I$6:$I$1806)","v":0},{"$f":"LOOKUP($AO189,Data!$A$6:$A$1806,Data!$J$6:$J$1806)","v":-103},{"$f":"LOOKUP($AO189,Data!$A$6:$A$1806,Data!$K$6:$K$1806)","v":7675},32.80029296875]
[null,40098.1049537035,{"$f":"LOOKUP(B190,Data!$A$6:$A$1806,Data!B$6:B$1806)","v":59.957000732421875},{"$f":"LOOKUP(B190,Data!$A$6:$A$1806,Data!C$6:C$1806)","v":3715.129638671875},null,null,null,34.3994140625,35.255274719662715,null,null,0.56196009855523055,3771.4808365876397,{"$f":"AVERAGE(D$79:D190)","v":3773.8751460484095},{"$f":"AVERAGE(M$79:M190)","v":3776.4035548102734},3735.6622711941759,{"$f":"AVERAGE(P$79:P190)","v":3704.7544657736439},633,null,null,null,null,null,null,0,633,-743.61676684274505,null,null,null,null,null,null,null,null,null,null,null,null,null,40098.1049537035,{"$f":"LOOKUP($AO190,Data!$A$6:$A$1806,Data!$B$6:$B$1806)","v":59.957000732421875},{"$f":"LOOKUP($AO190,Data!$A$6:$A$1806,Data!$C$6:$C$1806)","v":3715.129638671875},{"$f":"LOOKUP($AO190,Data!$A$6:$A$1806,Data!$D$6:$D$1806)","v":350},{"$f":"IF($AS$1=\"+\",LOOKUP($AO190,Data!$A$6:$A$1806,Data!$E$6:$E$1806)*-1,LOOKUP($AO190,Data!$A$6:$A$1806,Data!$E$6:$E$1806))","v":225.65185546875},{"$f":"LOOKUP($AO190,Data!$A$6:$A$1806,Data!$F$6:$F$1806)","v":16},{"$f":"LOOKUP($AO190,Data!$A$6:$A$1806,Data!$G$6:$G$1806)","v":286.5},{"$f":"LOOKUP($AO190,Data!$A$6:$A$1806,Data!$H$6:$H$1806)","v":10},{"$f":"LOOKUP($AO190,Data!$A$6:$A$1806,Data!$I$6:$I$1806)","v":0},{"$f":"LOOKUP($AO190,Data!$A$6:$A$1806,Data!$J$6:$J$1806)","v":-103},{"$f":"LOOKUP($AO190,Data!$A$6:$A$1806,Data!$K$6:$K$1806)","v":7676},34.3994140625]
[null,40098.104976851646,{"$f":"LOOKUP(B191,Data!$A$6:$A$1806,Data!B$6:B$1806)","v":59.956001281738281},{"$f":"LOOKUP(B191,Data!$A$6:$A$1806,Data!C$6:C$1806)","v":3716.168212890625},null,null,null,35.198974609375,35.235569681062017,null,null,0.56196009855523055,3772.0230916475944,{"$f":"AVERAGE(D$79:D191)","v":3773.3644652240046},{"$f":"AVERAGE(M$79:M191)","v":3776.3647896495418},3736.224231292731,{"$f":"AVERAGE(P$79:P191)","v":3705.0354458229217},633,null,null,null,null,null,null,0,633,-734.98724690640313,null,null,null,null,null,null,null,null,null,null,null,null,null,40098.104976851646,{"$f":"LOOKUP($AO191,Data!$A$6:$A$1806,Data!$B$6:$B$1806)","v":59.956001281738281},{"$f":"LOOKUP($AO191,Data!$A$6:$A$1806,Data!$C$6:$C$1806)","v":3716.168212890625},{"$f":"LOOKUP($AO191,Data!$A$6:$A$1806,Data!$D$6:$D$1806)","v":350},{"$f":"IF($AS$1=\"+\",LOOKUP($AO191,Data!$A$6:$A$1806,Data!$E$6:$E$1806)*-1,LOOKUP($AO191,Data!$A$6:$A$1806,Data!$E$6:$E$1806))","v":225.65185546875},{"$f":"LOOKUP($AO191,Data!$A$6:$A$1806,Data!$F$6:$F$1806)","v":16},{"$f":"LOOKUP($AO191,Data!$A$6:$A$1806,Data!$G$6:$G$1806)","v":287},{"$f":"LOOKUP($AO191,Data!$A$6:$A$1806,Data!$H$6:$H$1806)","v":10},{"$f":"LOOKUP($AO191,Data!$A$6:$A$1806,Data!$I$6:$I$1806)","v":0},{"$f":"LOOKUP($AO191,Data!$A$6:$A$1806,Data!$J$6:$J$1806)","v":-103},{"$f":"LOOKUP($AO191,Data!$A$6:$A$1806,Data!$K$6:$K$1806)","v":7677},35.198974609375]
[null,40098.104999999792,{"$f":"LOOKUP(B192,Data!$A$6:$A$1806,Data!B$6:B$1806)","v":59.953998565673828},{"$f":"LOOKUP(B192,Data!$A$6:$A$1806,Data!C$6:C$1806)","v":3716.46142578125},null,null,null,36.8011474609375,35.783521904018436,null,null,0.56196009855523055,3773.1330039691061,{"$f":"AVERAGE(D$79:D192)","v":3772.8653157552085},{"$f":"AVERAGE(M$79:M192)","v":3776.3364406523451},3736.7861913912861,{"$f":"AVERAGE(P$79:P192)","v":3705.316425872199},633,null,null,null,null,null,null,0,633,-718.28434704975245,null,null,null,null,null,null,null,null,null,null,null,null,null,40098.104999999792,{"$f":"LOOKUP($AO192,Data!$A$6:$A$1806,Data!$B$6:$B$1806)","v":59.953998565673828},{"$f":"LOOKUP($AO192,Data!$A$6:$A$1806,Data!$C$6:$C$1806)","v":3716.46142578125},{"$f":"LOOKUP($AO192,Data!$A$6:$A$1806,Data!$D$6:$D$1806)","v":350},{"$f":"IF($AS$1=\"+\",LOOKUP($AO192,Data!$A$6:$A$1806,Data!$E$6:$E$1806)*-1,LOOKUP($AO192,Data!$A$6:$A$1806,Data!$E$6:$E$1806))","v":225.65185546875},{"$f":"LOOKUP($AO192,Data!$A$6:$A$1806,Data!$F$6:$F$1806)","v":16},{"$f":"LOOKUP($AO192,Data!$A$6:$A$1806,Data!$G$6:$G$1806)","v":287.5},{"$f":"LOOKUP($AO192,Data!$A$6:$A$1806,Data!$H$6:$H$1806)","v":10},{"$f":"LOOKUP($AO192,Data!$A$6:$A$1806,Data!$I$6:$I$1806)","v":0},{"$f":"LOOKUP($AO192,Data!$A$6:$A$1806,Data!$J$6:$J$1806)","v":-103},{"$f":"LOOKUP($AO192,Data!$A$6:$A$1806,Data!$K$6:$K$1806)","v":7678},36.8011474609375]
[null,40098.105023147938,{"$f":"LOOKUP(B193,Data!$A$6:$A$1806,Data!B$6:B$1806)","v":59.956001281738281},{"$f":"LOOKUP(B193,Data!$A$6:$A$1806,Data!C$6:C$1806)","v":3716.97998046875},null,null,null,35.198974609375,35.578930350893231,null,null,0.56196009855523055,3773.4903725145359,{"$f":"AVERAGE(D$79:D193)","v":3772.3793563179347},{"$f":"AVERAGE(M$79:M193)","v":3776.3116922337554},3737.3481514898413,{"$f":"AVERAGE(P$79:P193)","v":3705.5974059214768},633,null,null,null,null,null,null,0,633,-734.98724690640313,null,null,null,null,null,null,null,null,null,null,null,null,null,40098.105023147938,{"$f":"LOOKUP($AO193,Data!$A$6:$A$1806,Data!$B$6:$B$1806)","v":59.956001281738281},{"$f":"LOOKUP($AO193,Data!$A$6:$A$1806,Data!$C$6:$C$1806)","v":3716.97998046875},{"$f":"LOOKUP($AO193,Data!$A$6:$A$1806,Data!$D$6:$D$1806)","v":350},{"$f":"IF($AS$1=\"+\",LOOKUP($AO193,Data!$A$6:$A$1806,Data!$E$6:$E$1806)*-1,LOOKUP($AO193,Data!$A$6:$A$1806,Data!$E$6:$E$1806))","v":225.65185546875},{"$f":"LOOKUP($AO193,Data!$A$6:$A$1806,Data!$F$6:$F$1806)","v":16},{"$f":"LOOKUP($AO193,Data!$A$6:$A$1806,Data!$G$6:$G$1806)","v":288},{"$f":"LOOKUP($AO193,Data!$A$6:$A$1806,Data!$H$6:$H$1806)","v":10},{"$f":"LOOKUP($AO193,Data!$A$6:$A$1806,Data!$I$6:$I$1806)","v":0},{"$f":"LOOKUP($AO193,Data!$A$6:$A$1806,Data!$J$6:$J$1806)","v":-103},{"$f":"LOOKUP($AO193,Data!$A$6:$A$1806,Data!$K$6:$K$1806)","v":7679},35.198974609375]
[null,40098.105046296085,{"$f":"LOOKUP(B194,Data!$A$6:$A$1806,Data!B$6:B$1806)","v":59.955001831054688},{"$f":"LOOKUP(B194,Data!$A$6:$A$1806,Data!C$6:C$1806)","v":3717.759033203125},null,null,null,35.99853515625,35.725792032768098,null,null,0.56196009855523055,3774.1991942949658,{"$f":"AVERAGE(D$79:D194)","v":3771.9084914634968},{"$f":"AVERAGE(M$79:M194)","v":3776.2934810446277},3737.9101115883964,{"$f":"AVERAGE(P$79:P194)","v":3705.8783859707542},633,null,null,null,null,null,null,0,633,-726.5557169519077,null,null,null,null,null,null,null,null,null,null,null,null,null,40098.105046296085,{"$f":"LOOKUP($AO194,Data!$A$6:$A$1806,Data!$B$6:$B$1806)","v":59.955001831054688},{"$f":"LOOKUP($AO194,Data!$A$6:$A$1806,Data!$C$6:$C$1806)","v":3717.759033203125},{"$f":"LOOKUP($AO194,Data!$A$6:$A$1806,Data!$D$6:$D$1806)","v":350},{"$f":"IF($AS$1=\"+\",LOOKUP($AO194,Data!$A$6:$A$1806,Data!$E$6:$E$1806)*-1,LOOKUP($AO194,Data!$A$6:$A$1806,Data!$E$6:$E$1806))","v":225.65185546875},{"$f":"LOOKUP($AO194,Data!$A$6:$A$1806,Data!$F$6:$F$1806)","v":16},{"$f":"LOOKUP($AO194,Data!$A$6:$A$1806,Data!$G$6:$G$1806)","v":288.5},{"$f":"LOOKUP($AO194,Data!$A$6:$A$1806,Data!$H$6:$H$1806)","v":10},{"$f":"LOOKUP($AO194,Data!$A$6:$A$1806,Data!$I$6:$I$1806)","v":0},{"$f":"LOOKUP($AO194,Data!$A$6:$A$1806,Data!$J$6:$J$1806)","v":-103},{"$f":"LOOKUP($AO194,Data!$A$6:$A$1806,Data!$K$6:$K$1806)","v":7680},35.99853515625]
[null,40098.105069444231,{"$f":"LOOKUP(B195,Data!$A$6:$A$1806,Data!B$6:B$1806)","v":59.958000183105469},{"$f":"LOOKUP(B195,Data!$A$6:$A$1806,Data!C$6:C$1806)","v":3722.361328125},null,null,null,33.599853515625,34.98171355176801,null,null,0.56196009855523055,3774.0170759125208,{"$f":"AVERAGE(D$79:D195)","v":3771.4850114349624},{"$f":"AVERAGE(M$79:M195)","v":3776.274024590507},3738.4720716869515,{"$f":"AVERAGE(P$79:P195)","v":3706.1593660200315},633,null,null,null,null,null,null,0,633,-752.45133344291844,null,null,null,null,null,null,null,null,null,null,null,null,null,40098.105069444231,{"$f":"LOOKUP($AO195,Data!$A$6:$A$1806,Data!$B$6:$B$1806)","v":59.958000183105469},{"$f":"LOOKUP($AO195,Data!$A$6:$A$1806,Data!$C$6:$C$1806)","v":3722.361328125},{"$f":"LOOKUP($AO195,Data!$A$6:$A$1806,Data!$D$6:$D$1806)","v":350},{"$f":"IF($AS$1=\"+\",LOOKUP($AO195,Data!$A$6:$A$1806,Data!$E$6:$E$1806)*-1,LOOKUP($AO195,Data!$A$6:$A$1806,Data!$E$6:$E$1806))","v":212.57363891601562},{"$f":"LOOKUP($AO195,Data!$A$6:$A$1806,Data!$F$6:$F$1806)","v":16},{"$f":"LOOKUP($AO195,Data!$A$6:$A$1806,Data!$G$6:$G$1806)","v":289},{"$f":"LOOKUP($AO195,Data!$A$6:$A$1806,Data!$H$6:$H$1806)","v":10},{"$f":"LOOKUP($AO195,Data!$A$6:$A$1806,Data!$I$6:$I$1806)","v":0},{"$f":"LOOKUP($AO195,Data!$A$6:$A$1806,Data!$J$6:$J$1806)","v":-103},{"$f":"LOOKUP($AO195,Data!$A$6:$A$1806,Data!$K$6:$K$1806)","v":7681},33.599853515625]
[null,40098.105092592377,{"$f":"LOOKUP(B196,Data!$A$6:$A$1806,Data!B$6:B$1806)","v":59.96099853515625},{"$f":"LOOKUP(B196,Data!$A$6:$A$1806,Data!C$6:C$1806)","v":3721.97314453125},null,null,null,31.201171875,33.658523964899203,null,null,0.56196009855523055,3773.255846424207,{"$f":"AVERAGE(D$79:D196)","v":3771.0654193425585},{"$f":"AVERAGE(M$79:M196)","v":3776.2484468094367},3739.0340317855066,{"$f":"AVERAGE(P$79:P196)","v":3706.4403460693093},633,null,null,null,null,null,null,0,633,-780.26109618832106,null,null,null,null,null,null,null,null,null,null,null,null,null,40098.105092592377,{"$f":"LOOKUP($AO196,Data!$A$6:$A$1806,Data!$B$6:$B$1806)","v":59.96099853515625},{"$f":"LOOKUP($AO196,Data!$A$6:$A$1806,Data!$C$6:$C$1806)","v":3721.97314453125},{"$f":"LOOKUP($AO196,Data!$A$6:$A$1806,Data!$D$6:$D$1806)","v":350},{"$f":"IF($AS$1=\"+\",LOOKUP($AO196,Data!$A$6:$A$1806,Data!$E$6:$E$1806)*-1,LOOKUP($AO196,Data!$A$6:$A$1806,Data!$E$6:$E$1806))","v":212.57363891601562},{"$f":"LOOKUP($AO196,Data!$A$6:$A$1806,Data!$F$6:$F$1806)","v":16},{"$f":"LOOKUP($AO196,Data!$A$6:$A$1806,Data!$G$6:$G$1806)","v":289.5},{"$f":"LOOKUP($AO196,Data!$A$6:$A$1806,Data!$H$6:$H$1806)","v":10},{"$f":"LOOKUP($AO196,Data!$A$6:$A$1806,Data!$I$6:$I$1806)","v":0},{"$f":"LOOKUP($AO196,Data!$A$6:$A$1806,Data!$J$6:$J$1806)","v":-103},{"$f":"LOOKUP($AO196,Data!$A$6:$A$1806,Data!$K$6:$K$1806)","v":7682},31.201171875]
[null,40098.105115740524,{"$f":"LOOKUP(B197,Data!$A$6:$A$1806,Data!B$6:B$1806)","v":59.962001800537109},{"$f":"LOOKUP(B197,Data!$A$6:$A$1806,Data!C$6:C$1806)","v":3722.657958984375},null,null,null,30.3985595703125,32.517536426793853,null,null,0.56196009855523055,3772.6768189846566,{"$f":"AVERAGE(D$79:D197)","v":3770.6586339613968},{"$f":"AVERAGE(M$79:M197)","v":3776.2184331302369},3739.5959918840617,{"$f":"AVERAGE(P$79:P197)","v":3706.7213261185866},633,null,null,null,null,null,null,0,633,-790.03113473109124,null,null,null,null,null,null,null,null,null,null,null,null,null,40098.105115740524,{"$f":"LOOKUP($AO197,Data!$A$6:$A$1806,Data!$B$6:$B$1806)","v":59.962001800537109},{"$f":"LOOKUP($AO197,Data!$A$6:$A$1806,Data!$C$6:$C$1806)","v":3722.657958984375},{"$f":"LOOKUP($AO197,Data!$A$6:$A$1806,Data!$D$6:$D$1806)","v":350},{"$f":"IF($AS$1=\"+\",LOOKUP($AO197,Data!$A$6:$A$1806,Data!$E$6:$E$1806)*-1,LOOKUP($AO197,Data!$A$6:$A$1806,Data!$E$6:$E$1806))","v":212.57363891601562},{"$f":"LOOKUP($AO197,Data!$A$6:$A$1806,Data!$F$6:$F$1806)","v":16},{"$f":"LOOKUP($AO197,Data!$A$6:$A$1806,Data!$G$6:$G$1806)","v":290},{"$f":"LOOKUP($AO197,Data!$A$6:$A$1806,Data!$H$6:$H$1806)","v":10},{"$f":"LOOKUP($AO197,Data!$A$6:$A$1806,Data!$I$6:$I$1806)","v":0},{"$f":"LOOKUP($AO197,Data!$A$6:$A$1806,Data!$J$6:$J$1806)","v":-103},{"$f":"LOOKUP($AO197,Data!$A$6:$A$1806,Data!$K$6:$K$1806)","v":7684},30.3985595703125]
[null,40098.10513888867,{"$f":"LOOKUP(B198,Data!$A$6:$A$1806,Data!B$6:B$1806)","v":59.962001800537109},{"$f":"LOOKUP(B198,Data!$A$6:$A$1806,Data!C$6:C$1806)","v":3722.2666015625},null,null,null,30.3985595703125,31.775894527025379,null,null,0.56196009855523055,3772.4971371834431,{"$f":"AVERAGE(D$79:D198)","v":3770.2553670247394},{"$f":"AVERAGE(M$79:M198)","v":3776.1874223306804},3740.1579519826169,{"$f":"AVERAGE(P$79:P198)","v":3707.0023061678644},633,null,null,null,null,null,null,0,633,-790.03113473109124,null,null,null,null,null,null,null,null,null,null,null,null,null,40098.10513888867,{"$f":"LOOKUP($AO198,Data!$A$6:$A$1806,Data!$B$6:$B$1806)","v":59.962001800537109},{"$f":"LOOKUP($AO198,Data!$A$6:$A$1806,Data!$C$6:$C$1806)","v":3722.2666015625},{"$f":"LOOKUP($AO198,Data!$A$6:$A$1806,Data!$D$6:$D$1806)","v":350},{"$f":"IF($AS$1=\"+\",LOOKUP($AO198,Data!$A$6:$A$1806,Data!$E$6:$E$1806)*-1,LOOKUP($AO198,Data!$A$6:$A$1806,Data!$E$6:$E$1806))","v":212.57363891601562},{"$f":"LOOKUP($AO198,Data!$A$6:$A$1806,Data!$F$6:$F$1806)","v":16},{"$f":"LOOKUP($AO198,Data!$A$6:$A$1806,Data!$G$6:$G$1806)","v":290.5},{"$f":"LOOKUP($AO198,Data!$A$6:$A$1806,Data!$H$6:$H$1806)","v":10},{"$f":"LOOKUP($AO198,Data!$A$6:$A$1806,Data!$I$6:$I$1806)","v":0},{"$f":"LOOKUP($AO198,Data!$A$6:$A$1806,Data!$J$6:$J$1806)","v":-103},{"$f":"LOOKUP($AO198,Data!$A$6:$A$1806,Data!$K$6:$K$1806)","v":7685},30.3985595703125]
[null,40098.105162036816,{"$f":"LOOKUP(B199,Data!$A$6:$A$1806,Data!B$6:B$1806)","v":59.967998504638672},{"$f":"LOOKUP(B199,Data!$A$6:$A$1806,Data!C$6:C$1806)","v":3722.277587890625},null,null,null,25.6011962890625,29.614750143738373,null,null,0.56196009855523055,3770.8979528987111,{"$f":"AVERAGE(D$79:D199)","v":3769.8588564533834},{"$f":"AVERAGE(M$79:M199)","v":3776.1437077072756},3740.719912081172,{"$f":"AVERAGE(P$79:P199)","v":3707.2832862171422},633,null,null,null,null,null,null,0,633,-853.94308063426718,null,null,null,null,null,null,null,null,null,null,null,null,null,40098.105162036816,{"$f":"LOOKUP($AO199,Data!$A$6:$A$1806,Data!$B$6:$B$1806)","v":59.967998504638672},{"$f":"LOOKUP($AO199,Data!$A$6:$A$1806,Data!$C$6:$C$1806)","v":3722.277587890625},{"$f":"LOOKUP($AO199,Data!$A$6:$A$1806,Data!$D$6:$D$1806)","v":350},{"$f":"IF($AS$1=\"+\",LOOKUP($AO199,Data!$A$6:$A$1806,Data!$E$6:$E$1806)*-1,LOOKUP($AO199,Data!$A$6:$A$1806,Data!$E$6:$E$1806))","v":212.57363891601562},{"$f":"LOOKUP($AO199,Data!$A$6:$A$1806,Data!$F$6:$F$1806)","v":16},{"$f":"LOOKUP($AO199,Data!$A$6:$A$1806,Data!$G$6:$G$1806)","v":291},{"$f":"LOOKUP($AO199,Data!$A$6:$A$1806,Data!$H$6:$H$1806)","v":10},{"$f":"LOOKUP($AO199,Data!$A$6:$A$1806,Data!$I$6:$I$1806)","v":0},{"$f":"LOOKUP($AO199,Data!$A$6:$A$1806,Data!$J$6:$J$1806)","v":-103},{"$f":"LOOKUP($AO199,Data!$A$6:$A$1806,Data!$K$6:$K$1806)","v":7687},25.6011962890625]
[null,40098.105185184962,{"$f":"LOOKUP(B200,Data!$A$6:$A$1806,Data!B$6:B$1806)","v":59.965999603271484},{"$f":"LOOKUP(B200,Data!$A$6:$A$1806,Data!C$6:C$1806)","v":3721.78662109375},null,null,null,27.2003173828125,28.769698677414318,null,null,0.56196009855523055,3770.6148615309421,{"$f":"AVERAGE(D$79:D200)","v":3769.4648217373206},{"$f":"AVERAGE(M$79:M200)","v":3776.0983892959944},3741.2818721797271,{"$f":"AVERAGE(P$79:P200)","v":3707.5642662664195},633,null,null,null,null,null,null,0,633,-831.5203016655496,null,null,null,null,null,null,null,null,null,null,null,null,null,40098.105185184962,{"$f":"LOOKUP($AO200,Data!$A$6:$A$1806,Data!$B$6:$B$1806)","v":59.965999603271484},{"$f":"LOOKUP($AO200,Data!$A$6:$A$1806,Data!$C$6:$C$1806)","v":3721.78662109375},{"$f":"LOOKUP($AO200,Data!$A$6:$A$1806,Data!$D$6:$D$1806)","v":350},{"$f":"IF($AS$1=\"+\",LOOKUP($AO200,Data!$A$6:$A$1806,Data!$E$6:$E$1806)*-1,LOOKUP($AO200,Data!$A$6:$A$1806,Data!$E$6:$E$1806))","v":219.89729309082031},{"$f":"LOOKUP($AO200,Data!$A$6:$A$1806,Data!$F$6:$F$1806)","v":16},{"$f":"LOOKUP($AO200,Data!$A$6:$A$1806,Data!$G$6:$G$1806)","v":291.5},{"$f":"LOOKUP($AO200,Data!$A$6:$A$1806,Data!$H$6:$H$1806)","v":10},{"$f":"LOOKUP($AO200,Data!$A$6:$A$1806,Data!$I$6:$I$1806)","v":0},{"$f":"LOOKUP($AO200,Data!$A$6:$A$1806,Data!$J$6:$J$1806)","v":-103},{"$f":"LOOKUP($AO200,Data!$A$6:$A$1806,Data!$K$6:$K$1806)","v":7689},27.2003173828125]
[null,40098.105208333109,{"$f":"LOOKUP(B201,Data!$A$6:$A$1806,Data!B$6:B$1806)","v":59.965999603271484},{"$f":"LOOKUP(B201,Data!$A$6:$A$1806,Data!C$6:C$1806)","v":3723.0908203125},null,null,null,27.2003173828125,28.220415224303682,null,null,0.56196009855523055,3770.6275381763867,{"$f":"AVERAGE(D$79:D201)","v":3769.0877973354927},{"$f":"AVERAGE(M$79:M201)","v":3776.053910831607},3741.8438322782822,{"$f":"AVERAGE(P$79:P201)","v":3707.8452463156973},633,null,null,null,null,null,null,0,633,-831.5203016655496,null,null,null,null,null,null,null,null,null,null,null,null,null,40098.105208333109,{"$f":"LOOKUP($AO201,Data!$A$6:$A$1806,Data!$B$6:$B$1806)","v":59.965999603271484},{"$f":"LOOKUP($AO201,Data!$A$6:$A$1806,Data!$C$6:$C$1806)","v":3723.0908203125},{"$f":"LOOKUP($AO201,Data!$A$6:$A$1806,Data!$D$6:$D$1806)","v":350},{"$f":"IF($AS$1=\"+\",LOOKUP($AO201,Data!$A$6:$A$1806,Data!$E$6:$E$1806)*-1,LOOKUP($AO201,Data!$A$6:$A$1806,Data!$E$6:$E$1806))","v":219.89729309082031},{"$f":"LOOKUP($AO201,Data!$A$6:$A$1806,Data!$F$6:$F$1806)","v":16},{"$f":"LOOKUP($AO201,Data!$A$6:$A$1806,Data!$G$6:$G$1806)","v":292},{"$f":"LOOKUP($AO201,Data!$A$6:$A$1806,Data!$H$6:$H$1806)","v":10},{"$f":"LOOKUP($AO201,Data!$A$6:$A$1806,Data!$I$6:$I$1806)","v":0},{"$f":"LOOKUP($AO201,Data!$A$6:$A$1806,Data!$J$6:$J$1806)","v":-103},{"$f":"LOOKUP($AO201,Data!$A$6:$A$1806,Data!$K$6:$K$1806)","v":7690},27.2003173828125]
[null,40098.105231481255,{"$f":"LOOKUP(B202,Data!$A$6:$A$1806,Data!B$6:B$1806)","v":59.967998504638672},{"$f":"LOOKUP(B202,Data!$A$6:$A$1806,Data!C$6:C$1806)","v":3723.98388671875},null,null,null,25.6011962890625,27.30368859696927,null,null,0.56196009855523055,3770.2727716476074,{"$f":"AVERAGE(D$79:D202)","v":3768.7240561208419},{"$f":"AVERAGE(M$79:M202)","v":3776.0072887414135},3742.4057923768373,{"$f":"AVERAGE(P$79:P202)","v":3708.1262263649746},633,null,null,null,null,null,null,0,633,-853.94308063426718,null,null,null,null,null,null,null,null,null,null,null,null,null,40098.105231481255,{"$f":"LOOKUP($AO202,Data!$A$6:$A$1806,Data!$B$6:$B$1806)","v":59.967998504638672},{"$f":"LOOKUP($AO202,Data!$A$6:$A$1806,Data!$C$6:$C$1806)","v":3723.98388671875},{"$f":"LOOKUP($AO202,Data!$A$6:$A$1806,Data!$D$6:$D$1806)","v":350},{"$f":"IF($AS$1=\"+\",LOOKUP($AO202,Data!$A$6:$A$1806,Data!$E$6:$E$1806)*-1,LOOKUP($AO202,Data!$A$6:$A$1806,Data!$E$6:$E$1806))","v":219.89729309082031},{"$f":"LOOKUP($AO202,Data!$A$6:$A$1806,Data!$F$6:$F$1806)","v":16},{"$f":"LOOKUP($AO202,Data!$A$6:$A$1806,Data!$G$6:$G$1806)","v":292.5},{"$f":"LOOKUP($AO202,Data!$A$6:$A$1806,Data!$H$6:$H$1806)","v":10},{"$f":"LOOKUP($AO202,Data!$A$6:$A$1806,Data!$I$6:$I$1806)","v":0},{"$f":"LOOKUP($AO202,Data!$A$6:$A$1806,Data!$J$6:$J$1806)","v":-103},{"$f":"LOOKUP($AO202,Data!$A$6:$A$1806,Data!$K$6:$K$1806)","v":7692},25.6011962890625]
[null,40098.105254629401,{"$f":"LOOKUP(B203,Data!$A$6:$A$1806,Data!B$6:B$1806)","v":59.970001220703125},{"$f":"LOOKUP(B203,Data!$A$6:$A$1806,Data!C$6:C$1806)","v":3723.4345703125},null,null,null,23.9990234375,26.147055791155026,null,null,0.56196009855523055,3769.6780989403483,{"$f":"AVERAGE(D$79:D203)","v":3768.3617402343748},{"$f":"AVERAGE(M$79:M203)","v":3775.9566552230049},3742.9677524753924,{"$f":"AVERAGE(P$79:P203)","v":3708.4072064142524},633,null,null,null,null,null,null,0,633,-877.6550963604509,null,null,null,null,null,null,null,null,null,null,null,null,null,40098.105254629401,{"$f":"LOOKUP($AO203,Data!$A$6:$A$1806,Data!$B$6:$B$1806)","v":59.970001220703125},{"$f":"LOOKUP($AO203,Data!$A$6:$A$1806,Data!$C$6:$C$1806)","v":3723.4345703125},{"$f":"LOOKUP($AO203,Data!$A$6:$A$1806,Data!$D$6:$D$1806)","v":350},{"$f":"IF($AS$1=\"+\",LOOKUP($AO203,Data!$A$6:$A$1806,Data!$E$6:$E$1806)*-1,LOOKUP($AO203,Data!$A$6:$A$1806,Data!$E$6:$E$1806))","v":219.89729309082031},{"$f":"LOOKUP($AO203,Data!$A$6:$A$1806,Data!$F$6:$F$1806)","v":16},{"$f":"LOOKUP($AO203,Data!$A$6:$A$1806,Data!$G$6:$G$1806)","v":293},{"$f":"LOOKUP($AO203,Data!$A$6:$A$1806,Data!$H$6:$H$1806)","v":10},{"$f":"LOOKUP($AO203,Data!$A$6:$A$1806,Data!$I$6:$I$1806)","v":0},{"$f":"LOOKUP($AO203,Data!$A$6:$A$1806,Data!$J$6:$J$1806)","v":-103},{"$f":"LOOKUP($AO203,Data!$A$6:$A$1806,Data!$K$6:$K$1806)","v":7692},23.9990234375]
[null,40098.105277777548,{"$f":"LOOKUP(B204,Data!$A$6:$A$1806,Data!B$6:B$1806)","v":59.9739990234375},{"$f":"LOOKUP(B204,Data!$A$6:$A$1806,Data!C$6:C$1806)","v":3723.89306640625},null,null,null,20.80078125,24.275859701750768,null,null,0.56196009855523055,3768.3688629494991,{"$f":"AVERAGE(D$79:D204)","v":3768.008814251612},{"$f":"AVERAGE(M$79:M204)","v":3775.8964346494058},3743.5297125739476,{"$f":"AVERAGE(P$79:P204)","v":3708.6881864635302},633,null,null,null,null,null,null,0,633,-929.15792288148054,null,null,null,null,null,null,null,null,null,null,null,null,null,40098.105277777548,{"$f":"LOOKUP($AO204,Data!$A$6:$A$1806,Data!$B$6:$B$1806)","v":59.9739990234375},{"$f":"LOOKUP($AO204,Data!$A$6:$A$1806,Data!$C$6:$C$1806)","v":3723.89306640625},{"$f":"LOOKUP($AO204,Data!$A$6:$A$1806,Data!$D$6:$D$1806)","v":350},{"$f":"IF($AS$1=\"+\",LOOKUP($AO204,Data!$A$6:$A$1806,Data!$E$6:$E$1806)*-1,LOOKUP($AO204,Data!$A$6:$A$1806,Data!$E$6:$E$1806))","v":219.89729309082031},{"$f":"LOOKUP($AO204,Data!$A$6:$A$1806,Data!$F$6:$F$1806)","v":16},{"$f":"LOOKUP($AO204,Data!$A$6:$A$1806,Data!$G$6:$G$1806)","v":293.5},{"$f":"LOOKUP($AO204,Data!$A$6:$A$1806,Data!$H$6:$H$1806)","v":10},{"$f":"LOOKUP($AO204,Data!$A$6:$A$1806,Data!$I$6:$I$1806)","v":0},{"$f":"LOOKUP($AO204,Data!$A$6:$A$1806,Data!$J$6:$J$1806)","v":-103},{"$f":"LOOKUP($AO204,Data!$A$6:$A$1806,Data!$K$6:$K$1806)","v":7693},20.80078125]
[null,40098.105300925694,{"$f":"LOOKUP(B205,Data!$A$6:$A$1806,Data!B$6:B$1806)","v":59.970001220703125},{"$f":"LOOKUP(B205,Data!$A$6:$A$1806,Data!C$6:C$1806)","v":3725.40283203125},null,null,null,23.9990234375,24.178967009262998,null,null,0.56196009855523055,3768.8339303555663,{"$f":"AVERAGE(D$79:D205)","v":3767.6733340766486},{"$f":"AVERAGE(M$79:M205)","v":3775.8408243793751},3744.0916726725027,{"$f":"AVERAGE(P$79:P205)","v":3708.9691665128075},633,null,null,null,null,null,null,0,633,-877.6550963604509,null,null,null,null,null,null,null,null,null,null,null,null,null,40098.105300925694,{"$f":"LOOKUP($AO205,Data!$A$6:$A$1806,Data!$B$6:$B$1806)","v":59.970001220703125},{"$f":"LOOKUP($AO205,Data!$A$6:$A$1806,Data!$C$6:$C$1806)","v":3725.40283203125},{"$f":"LOOKUP($AO205,Data!$A$6:$A$1806,Data!$D$6:$D$1806)","v":350},{"$f":"IF($AS$1=\"+\",LOOKUP($AO205,Data!$A$6:$A$1806,Data!$E$6:$E$1806)*-1,LOOKUP($AO205,Data!$A$6:$A$1806,Data!$E$6:$E$1806))","v":231.17539978027344},{"$f":"LOOKUP($AO205,Data!$A$6:$A$1806,Data!$F$6:$F$1806)","v":16},{"$f":"LOOKUP($AO205,Data!$A$6:$A$1806,Data!$G$6:$G$1806)","v":294},{"$f":"LOOKUP($AO205,Data!$A$6:$A$1806,Data!$H$6:$H$1806)","v":10},{"$f":"LOOKUP($AO205,Data!$A$6:$A$1806,Data!$I$6:$I$1806)","v":0},{"$f":"LOOKUP($AO205,Data!$A$6:$A$1806,Data!$J$6:$J$1806)","v":-103},{"$f":"LOOKUP($AO205,Data!$A$6:$A$1806,Data!$K$6:$K$1806)","v":7693},23.9990234375]
[null,40098.10532407384,{"$f":"LOOKUP(B206,Data!$A$6:$A$1806,Data!B$6:B$1806)","v":59.969001770019531},{"$f":"LOOKUP(B206,Data!$A$6:$A$1806,Data!C$6:C$1806)","v":3727.12109375},null,null,null,24.798583984375,24.395832950552197,null,null,0.56196009855523055,3769.6127563954105,{"$f":"AVERAGE(D$79:D206)","v":3767.3565196990967},{"$f":"AVERAGE(M$79:M206)","v":3775.7921675982507},3744.6536327710578,{"$f":"AVERAGE(P$79:P206)","v":3709.2501465620849},633,null,null,null,null,null,null,0,633,-865.6593149050218,null,null,null,null,null,null,null,null,null,null,null,null,null,40098.10532407384,{"$f":"LOOKUP($AO206,Data!$A$6:$A$1806,Data!$B$6:$B$1806)","v":59.969001770019531},{"$f":"LOOKUP($AO206,Data!$A$6:$A$1806,Data!$C$6:$C$1806)","v":3727.12109375},{"$f":"LOOKUP($AO206,Data!$A$6:$A$1806,Data!$D$6:$D$1806)","v":350},{"$f":"IF($AS$1=\"+\",LOOKUP($AO206,Data!$A$6:$A$1806,Data!$E$6:$E$1806)*-1,LOOKUP($AO206,Data!$A$6:$A$1806,Data!$E$6:$E$1806))","v":231.17539978027344},{"$f":"LOOKUP($AO206,Data!$A$6:$A$1806,Data!$F$6:$F$1806)","v":16},{"$f":"LOOKUP($AO206,Data!$A$6:$A$1806,Data!$G$6:$G$1806)","v":294.5},{"$f":"LOOKUP($AO206,Data!$A$6:$A$1806,Data!$H$6:$H$1806)","v":10},{"$f":"LOOKUP($AO206,Data!$A$6:$A$1806,Data!$I$6:$I$1806)","v":0},{"$f":"LOOKUP($AO206,Data!$A$6:$A$1806,Data!$J$6:$J$1806)","v":-103},{"$f":"LOOKUP($AO206,Data!$A$6:$A$1806,Data!$K$6:$K$1806)","v":7694},24.798583984375]
[null,40098.105347221986,{"$f":"LOOKUP(B207,Data!$A$6:$A$1806,Data!B$6:B$1806)","v":59.969001770019531},{"$f":"LOOKUP(B207,Data!$A$6:$A$1806,Data!C$6:C$1806)","v":3728.052978515625},null,null,null,24.798583984375,24.536795812390181,null,null,0.56196009855523055,3770.3156793558037,{"$f":"AVERAGE(D$79:D207)","v":3767.0518410852715},{"$f":"AVERAGE(M$79:M207)","v":3775.7497142010225},3745.2155928696129,{"$f":"AVERAGE(P$79:P207)","v":3709.5311266113627},633,null,null,null,null,null,null,0,633,-865.6593149050218,null,null,null,null,null,null,null,null,null,null,null,null,null,40098.105347221986,{"$f":"LOOKUP($AO207,Data!$A$6:$A$1806,Data!$B$6:$B$1806)","v":59.969001770019531},{"$f":"LOOKUP($AO207,Data!$A$6:$A$1806,Data!$C$6:$C$1806)","v":3728.052978515625},{"$f":"LOOKUP($AO207,Data!$A$6:$A$1806,Data!$D$6:$D$1806)","v":350},{"$f":"IF($AS$1=\"+\",LOOKUP($AO207,Data!$A$6:$A$1806,Data!$E$6:$E$1806)*-1,LOOKUP($AO207,Data!$A$6:$A$1806,Data!$E$6:$E$1806))","v":231.17539978027344},{"$f":"LOOKUP($AO207,Data!$A$6:$A$1806,Data!$F$6:$F$1806)","v":16},{"$f":"LOOKUP($AO207,Data!$A$6:$A$1806,Data!$G$6:$G$1806)","v":295},{"$f":"LOOKUP($AO207,Data!$A$6:$A$1806,Data!$H$6:$H$1806)","v":10},{"$f":"LOOKUP($AO207,Data!$A$6:$A$1806,Data!$I$6:$I$1806)","v":0},{"$f":"LOOKUP($AO207,Data!$A$6:$A$1806,Data!$J$6:$J$1806)","v":-103},{"$f":"LOOKUP($AO207,Data!$A$6:$A$1806,Data!$K$6:$K$1806)","v":7694},24.798583984375]
[null,40098.105370370133,{"$f":"LOOKUP(B208,Data!$A$6:$A$1806,Data!B$6:B$1806)","v":59.970001220703125},{"$f":"LOOKUP(B208,Data!$A$6:$A$1806,Data!C$6:C$1806)","v":3731.1298828125},null,null,null,23.9990234375,24.348575481178621,null,null,{"$f":"IF(B208>G$3,0,(K$21*0.000023148/K$22))","v":0.56196009855523055},{"$f":"M207+L208+(I208-I207)","v":3770.6894191231472},{"$f":"AVERAGE(D$79:D208)","v":3766.775518329327},{"$f":"AVERAGE(M$79:M208)","v":3775.7107888542696},3745.777552968168,{"$f":"AVERAGE(P$79:P208)","v":3709.8121066606404},633,null,null,null,null,null,null,0,633,{"$f":"Z208/((C208-G$4)*10)","v":-877.6550963604509},null,null,null,null,null,null,null,null,null,null,null,null,null,40098.105370370133,{"$f":"LOOKUP($AO208,Data!$A$6:$A$1806,Data!$B$6:$B$1806)","v":59.970001220703125},{"$f":"LOOKUP($AO208,Data!$A$6:$A$1806,Data!$C$6:$C$1806)","v":3731.1298828125},{"$f":"LOOKUP($AO208,Data!$A$6:$A$1806,Data!$D$6:$D$1806)","v":350},{"$f":"IF($AS$1=\"+\",LOOKUP($AO208,Data!$A$6:$A$1806,Data!$E$6:$E$1806)*-1,LOOKUP($AO208,Data!$A$6:$A$1806,Data!$E$6:$E$1806))","v":231.17539978027344},{"$f":"LOOKUP($AO208,Data!$A$6:$A$1806,Data!$F$6:$F$1806)","v":16},{"$f":"LOOKUP($AO208,Data!$A$6:$A$1806,Data!$G$6:$G$1806)","v":295.5},{"$f":"LOOKUP($AO208,Data!$A$6:$A$1806,Data!$H$6:$H$1806)","v":10},{"$f":"LOOKUP($AO208,Data!$A$6:$A$1806,Data!$I$6:$I$1806)","v":0},{"$f":"LOOKUP($AO208,Data!$A$6:$A$1806,Data!$J$6:$J$1806)","v":-103},{"$f":"LOOKUP($AO208,Data!$A$6:$A$1806,Data!$K$6:$K$1806)","v":7695},23.9990234375]
[null,40098.105393518279,{"$f":"LOOKUP(B209,Data!$A$6:$A$1806,Data!B$6:B$1806)","v":59.971000671386719},{"$f":"LOOKUP(B209,Data!$A$6:$A$1806,Data!C$6:C$1806)","v":3732.530029296875},null,null,null,23.199462890625,23.946386074484856,null,null,0.56196009855523055,3770.8491898150087,{"$f":"AVERAGE(D$79:D209)","v":3766.5141023825145},{"$f":"AVERAGE(M$79:M209)","v":3775.6736774112219},3746.3395130667232,{"$f":"AVERAGE(P$79:P209)","v":3710.0930867099182},{"$f":"R$41","v":633},null,null,null,null,null,null,0,633,-889.98801011001683,null,null,null,null,null,null,null,null,null,null,null,null,null,{"$f":"AO208+TIME(0,0,$B$1)","v":40098.105393518279},{"$f":"LOOKUP($AO209,Data!$A$6:$A$1806,Data!$B$6:$B$1806)","v":59.971000671386719},{"$f":"LOOKUP($AO209,Data!$A$6:$A$1806,Data!$C$6:$C$1806)","v":3732.530029296875},{"$f":"LOOKUP($AO209,Data!$A$6:$A$1806,Data!$D$6:$D$1806)","v":350},{"$f":"IF($AS$1=\"+\",LOOKUP($AO209,Data!$A$6:$A$1806,Data!$E$6:$E$1806)*-1,LOOKUP($AO209,Data!$A$6:$A$1806,Data!$E$6:$E$1806))","v":231.17539978027344},{"$f":"LOOKUP($AO209,Data!$A$6:$A$1806,Data!$F$6:$F$1806)","v":16},{"$f":"LOOKUP($AO209,Data!$A$6:$A$1806,Data!$G$6:$G$1806)","v":296},{"$f":"LOOKUP($AO209,Data!$A$6:$A$1806,Data!$H$6:$H$1806)","v":10},{"$f":"LOOKUP($AO209,Data!$A$6:$A$1806,Data!$I$6:$I$1806)","v":0},{"$f":"LOOKUP($AO209,Data!$A$6:$A$1806,Data!$J$6:$J$1806)","v":-103},{"$f":"LOOKUP($AO209,Data!$A$6:$A$1806,Data!$K$6:$K$1806)","v":7695},23.199462890625]
[null,40098.105416666425,{"$f":"LOOKUP(B210,Data!$A$6:$A$1806,Data!B$6:B$1806)","v":59.972999572753906},{"$f":"LOOKUP(B210,Data!$A$6:$A$1806,Data!C$6:C$1806)","v":3733.3271484375},null,null,null,21.600341796875,23.125270577321405,null,null,0.56196009855523055,3770.5900344164002,{"$f":"AVERAGE(D$79:D210)","v":3766.2626860647492},{"$f":"AVERAGE(M$79:M210)","v":3775.6351649642916},{"$f":"P209+L210","v":3746.9014731652783},{"$f":"AVERAGE(P$79:P210)","v":3710.3740667591956},633,null,null,null,null,null,null,0,633,-915.72372746901021,null,null,null,null,null,null,null,null,null,null,null,null,null,40098.105416666425,{"$f":"LOOKUP($AO210,Data!$A$6:$A$1806,Data!$B$6:$B$1806)","v":59.972999572753906},{"$f":"LOOKUP($AO210,Data!$A$6:$A$1806,Data!$C$6:$C$1806)","v":3733.3271484375},{"$f":"LOOKUP($AO210,Data!$A$6:$A$1806,Data!$D$6:$D$1806)","v":350},{"$f":"IF($AS$1=\"+\",LOOKUP($AO210,Data!$A$6:$A$1806,Data!$E$6:$E$1806)*-1,LOOKUP($AO210,Data!$A$6:$A$1806,Data!$E$6:$E$1806))","v":226.63412475585937},{"$f":"LOOKUP($AO210,Data!$A$6:$A$1806,Data!$F$6:$F$1806)","v":16},{"$f":"LOOKUP($AO210,Data!$A$6:$A$1806,Data!$G$6:$G$1806)","v":296.5},{"$f":"LOOKUP($AO210,Data!$A$6:$A$1806,Data!$H$6:$H$1806)","v":10},{"$f":"LOOKUP($AO210,Data!$A$6:$A$1806,Data!$I$6:$I$1806)","v":0},{"$f":"LOOKUP($AO210,Data!$A$6:$A$1806,Data!$J$6:$J$1806)","v":-103},{"$f":"LOOKUP($AO210,Data!$A$6:$A$1806,Data!$K$6:$K$1806)","v":7695},21.600341796875]
[null,40098.105439814572,{"$f":"LOOKUP(B211,Data!$A$6:$A$1806,Data!B$6:B$1806)","v":59.972999572753906},{"$f":"LOOKUP(B211,Data!$A$6:$A$1806,Data!C$6:C$1806)","v":3736.53515625},null,null,null,21.600341796875,22.591545504165165,null,null,0.56196009855523055,3770.6182694417989,{"$f":"AVERAGE(D$79:D211)","v":3766.0391708029842},{"$f":"AVERAGE(M$79:M211)","v":3775.5974439453257},3747.4634332638334,{"$f":"AVERAGE(P$79:P211)","v":3710.6550468084729},633,null,null,null,null,null,null,0,633,-915.72372746901021,null,null,null,null,null,null,null,null,null,null,null,null,null,40098.105439814572,{"$f":"LOOKUP($AO211,Data!$A$6:$A$1806,Data!$B$6:$B$1806)","v":59.972999572753906},{"$f":"LOOKUP($AO211,Data!$A$6:$A$1806,Data!$C$6:$C$1806)","v":3736.53515625},{"$f":"LOOKUP($AO211,Data!$A$6:$A$1806,Data!$D$6:$D$1806)","v":350},{"$f":"IF($AS$1=\"+\",LOOKUP($AO211,Data!$A$6:$A$1806,Data!$E$6:$E$1806)*-1,LOOKUP($AO211,Data!$A$6:$A$1806,Data!$E$6:$E$1806))","v":226.63412475585937},{"$f":"LOOKUP($AO211,Data!$A$6:$A$1806,Data!$F$6:$F$1806)","v":16},{"$f":"LOOKUP($AO211,Data!$A$6:$A$1806,Data!$G$6:$G$1806)","v":297},{"$f":"LOOKUP($AO211,Data!$A$6:$A$1806,Data!$H$6:$H$1806)","v":10},{"$f":"LOOKUP($AO211,Data!$A$6:$A$1806,Data!$I$6:$I$1806)","v":0},{"$f":"LOOKUP($AO211,Data!$A$6:$A$1806,Data!$J$6:$J$1806)","v":-103},{"$f":"LOOKUP($AO211,Data!$A$6:$A$1806,Data!$K$6:$K$1806)","v":7696},21.600341796875]
[null,40098.105462962718,{"$f":"LOOKUP(B212,Data!$A$6:$A$1806,Data!B$6:B$1806)","v":59.976001739501953},{"$f":"LOOKUP(B212,Data!$A$6:$A$1806,Data!C$6:C$1806)","v":3736.907470703125},null,null,null,19.1986083984375,21.404017517160483,null,null,0.56196009855523055,3769.9927015533494,{"$f":"AVERAGE(D$79:D212)","v":3765.8217700559703},{"$f":"AVERAGE(M$79:M212)","v":3775.5556175095644},3748.0253933623885,{"$f":"AVERAGE(P$79:P212)","v":3710.9360268577507},633,null,null,null,null,null,null,0,633,-957.29980745794001,null,null,null,null,null,null,null,null,null,null,null,null,null,40098.105462962718,{"$f":"LOOKUP($AO212,Data!$A$6:$A$1806,Data!$B$6:$B$1806)","v":59.976001739501953},{"$f":"LOOKUP($AO212,Data!$A$6:$A$1806,Data!$C$6:$C$1806)","v":3736.907470703125},{"$f":"LOOKUP($AO212,Data!$A$6:$A$1806,Data!$D$6:$D$1806)","v":350},{"$f":"IF($AS$1=\"+\",LOOKUP($AO212,Data!$A$6:$A$1806,Data!$E$6:$E$1806)*-1,LOOKUP($AO212,Data!$A$6:$A$1806,Data!$E$6:$E$1806))","v":226.63412475585937},{"$f":"LOOKUP($AO212,Data!$A$6:$A$1806,Data!$F$6:$F$1806)","v":16},{"$f":"LOOKUP($AO212,Data!$A$6:$A$1806,Data!$G$6:$G$1806)","v":297.5},{"$f":"LOOKUP($AO212,Data!$A$6:$A$1806,Data!$H$6:$H$1806)","v":10},{"$f":"LOOKUP($AO212,Data!$A$6:$A$1806,Data!$I$6:$I$1806)","v":0},{"$f":"LOOKUP($AO212,Data!$A$6:$A$1806,Data!$J$6:$J$1806)","v":-103},{"$f":"LOOKUP($AO212,Data!$A$6:$A$1806,Data!$K$6:$K$1806)","v":7696},19.1986083984375]
[null,40098.105486110864,{"$f":"LOOKUP(B213,Data!$A$6:$A$1806,Data!B$6:B$1806)","v":59.978000640869141},{"$f":"LOOKUP(B213,Data!$A$6:$A$1806,Data!C$6:C$1806)","v":3736.82177734375},null,null,null,17.5994873046875,20.072431942794939,null,null,0.56196009855523055,3769.2230760775392,{"$f":"AVERAGE(D$79:D213)","v":3765.606955295139},{"$f":"AVERAGE(M$79:M213)","v":3775.5087097952533},3748.5873534609436,{"$f":"AVERAGE(P$79:P213)","v":3711.217006907028},633,null,null,null,null,null,null,0,633,-987.14090378423396,null,null,null,null,null,null,null,null,null,null,null,null,null,40098.105486110864,{"$f":"LOOKUP($AO213,Data!$A$6:$A$1806,Data!$B$6:$B$1806)","v":59.978000640869141},{"$f":"LOOKUP($AO213,Data!$A$6:$A$1806,Data!$C$6:$C$1806)","v":3736.82177734375},{"$f":"LOOKUP($AO213,Data!$A$6:$A$1806,Data!$D$6:$D$1806)","v":350},{"$f":"IF($AS$1=\"+\",LOOKUP($AO213,Data!$A$6:$A$1806,Data!$E$6:$E$1806)*-1,LOOKUP($AO213,Data!$A$6:$A$1806,Data!$E$6:$E$1806))","v":226.63412475585937},{"$f":"LOOKUP($AO213,Data!$A$6:$A$1806,Data!$F$6:$F$1806)","v":16},{"$f":"LOOKUP($AO213,Data!$A$6:$A$1806,Data!$G$6:$G$1806)","v":298},{"$f":"LOOKUP($AO213,Data!$A$6:$A$1806,Data!$H$6:$H$1806)","v":10},{"$f":"LOOKUP($AO213,Data!$A$6:$A$1806,Data!$I$6:$I$1806)","v":0},{"$f":"LOOKUP($AO213,Data!$A$6:$A$1806,Data!$J$6:$J$1806)","v":-103},{"$f":"LOOKUP($AO213,Data!$A$6:$A$1806,Data!$K$6:$K$1806)","v":7697},17.5994873046875]
[null,40098.10550925901,{"$f":"LOOKUP(B214,Data!$A$6:$A$1806,Data!B$6:B$1806)","v":59.978000640869141},{"$f":"LOOKUP(B214,Data!$A$6:$A$1806,Data!C$6:C$1806)","v":3738.69921875},null,null,null,17.5994873046875,19.206901319457337,null,null,0.56196009855523055,3768.9195055527566,{"$f":"AVERAGE(D$79:D214)","v":3765.4091042911305},{"$f":"AVERAGE(M$79:M214)","v":3775.4602597640583},3749.1493135594988,{"$f":"AVERAGE(P$79:P214)","v":3711.4979869563058},633,null,null,null,null,null,null,0,633,-987.14090378423396,null,null,null,null,null,null,null,null,null,null,null,null,null,40098.10550925901,{"$f":"LOOKUP($AO214,Data!$A$6:$A$1806,Data!$B$6:$B$1806)","v":59.978000640869141},{"$f":"LOOKUP($AO214,Data!$A$6:$A$1806,Data!$C$6:$C$1806)","v":3738.69921875},{"$f":"LOOKUP($AO214,Data!$A$6:$A$1806,Data!$D$6:$D$1806)","v":350},{"$f":"IF($AS$1=\"+\",LOOKUP($AO214,Data!$A$6:$A$1806,Data!$E$6:$E$1806)*-1,LOOKUP($AO214,Data!$A$6:$A$1806,Data!$E$6:$E$1806))","v":226.63412475585937},{"$f":"LOOKUP($AO214,Data!$A$6:$A$1806,Data!$F$6:$F$1806)","v":16},{"$f":"LOOKUP($AO214,Data!$A$6:$A$1806,Data!$G$6:$G$1806)","v":298.5},{"$f":"LOOKUP($AO214,Data!$A$6:$A$1806,Data!$H$6:$H$1806)","v":10},{"$f":"LOOKUP($AO214,Data!$A$6:$A$1806,Data!$I$6:$I$1806)","v":0},{"$f":"LOOKUP($AO214,Data!$A$6:$A$1806,Data!$J$6:$J$1806)","v":-103},{"$f":"LOOKUP($AO214,Data!$A$6:$A$1806,Data!$K$6:$K$1806)","v":7697},17.5994873046875]
[null,40098.105532407157,{"$f":"LOOKUP(B215,Data!$A$6:$A$1806,Data!B$6:B$1806)","v":59.976001739501953},{"$f":"LOOKUP(B215,Data!$A$6:$A$1806,Data!C$6:C$1806)","v":3739.94384765625},null,null,null,19.1986083984375,19.203998797100397,null,null,0.56196009855523055,3769.4785631289546,{"$f":"AVERAGE(D$79:D215)","v":3765.2232265054745},{"$f":"AVERAGE(M$79:M215)","v":3775.4165977448238},3749.7112736580539,{"$f":"AVERAGE(P$79:P215)","v":3711.7789670055831},633,null,null,null,null,null,null,0,633,-957.29980745794001,null,null,null,null,null,null,null,null,null,null,null,null,null,40098.105532407157,{"$f":"LOOKUP($AO215,Data!$A$6:$A$1806,Data!$B$6:$B$1806)","v":59.976001739501953},{"$f":"LOOKUP($AO215,Data!$A$6:$A$1806,Data!$C$6:$C$1806)","v":3739.94384765625},{"$f":"LOOKUP($AO215,Data!$A$6:$A$1806,Data!$D$6:$D$1806)","v":350},{"$f":"IF($AS$1=\"+\",LOOKUP($AO215,Data!$A$6:$A$1806,Data!$E$6:$E$1806)*-1,LOOKUP($AO215,Data!$A$6:$A$1806,Data!$E$6:$E$1806))","v":227.25506591796875},{"$f":"LOOKUP($AO215,Data!$A$6:$A$1806,Data!$F$6:$F$1806)","v":16},{"$f":"LOOKUP($AO215,Data!$A$6:$A$1806,Data!$G$6:$G$1806)","v":299},{"$f":"LOOKUP($AO215,Data!$A$6:$A$1806,Data!$H$6:$H$1806)","v":10},{"$f":"LOOKUP($AO215,Data!$A$6:$A$1806,Data!$I$6:$I$1806)","v":0},{"$f":"LOOKUP($AO215,Data!$A$6:$A$1806,Data!$J$6:$J$1806)","v":-103},{"$f":"LOOKUP($AO215,Data!$A$6:$A$1806,Data!$K$6:$K$1806)","v":7697},19.1986083984375]
[null,40098.105555555303,{"$f":"LOOKUP(B216,Data!$A$6:$A$1806,Data!B$6:B$1806)","v":59.978000640869141},{"$f":"LOOKUP(B216,Data!$A$6:$A$1806,Data!C$6:C$1806)","v":3740.876953125},null,null,null,17.5994873046875,18.642419774755883,null,null,0.56196009855523055,3769.4789442051651,{"$f":"AVERAGE(D$79:D216)","v":3765.0468042346015},{"$f":"AVERAGE(M$79:M216)","v":3775.3735712698985},3750.273233756609,{"$f":"AVERAGE(P$79:P216)","v":3712.0599470548609},633,null,null,null,null,null,null,0,633,-987.14090378423396,null,null,null,null,null,null,null,null,null,null,null,null,null,40098.105555555303,{"$f":"LOOKUP($AO216,Data!$A$6:$A$1806,Data!$B$6:$B$1806)","v":59.978000640869141},{"$f":"LOOKUP($AO216,Data!$A$6:$A$1806,Data!$C$6:$C$1806)","v":3740.876953125},{"$f":"LOOKUP($AO216,Data!$A$6:$A$1806,Data!$D$6:$D$1806)","v":350},{"$f":"IF($AS$1=\"+\",LOOKUP($AO216,Data!$A$6:$A$1806,Data!$E$6:$E$1806)*-1,LOOKUP($AO216,Data!$A$6:$A$1806,Data!$E$6:$E$1806))","v":227.25506591796875},{"$f":"LOOKUP($AO216,Data!$A$6:$A$1806,Data!$F$6:$F$1806)","v":16},{"$f":"LOOKUP($AO216,Data!$A$6:$A$1806,Data!$G$6:$G$1806)","v":299.5},{"$f":"LOOKUP($AO216,Data!$A$6:$A$1806,Data!$H$6:$H$1806)","v":10},{"$f":"LOOKUP($AO216,Data!$A$6:$A$1806,Data!$I$6:$I$1806)","v":0},{"$f":"LOOKUP($AO216,Data!$A$6:$A$1806,Data!$J$6:$J$1806)","v":-103},{"$f":"LOOKUP($AO216,Data!$A$6:$A$1806,Data!$K$6:$K$1806)","v":7698},17.5994873046875]
[null,40098.105578703449,{"$f":"LOOKUP(B217,Data!$A$6:$A$1806,Data!B$6:B$1806)","v":59.976001739501953},{"$f":"LOOKUP(B217,Data!$A$6:$A$1806,Data!C$6:C$1806)","v":3741.793701171875},null,null,null,19.1986083984375,18.837085793044452,null,null,0.56196009855523055,3770.2355703220087,{"$f":"AVERAGE(D$79:D217)","v":3764.879515723359},{"$f":"AVERAGE(M$79:M217)","v":3775.3366072343019},3750.8351938551641,{"$f":"AVERAGE(P$79:P217)","v":3712.3409271041382},633,null,null,null,null,null,null,0,633,-957.29980745794001,null,null,null,null,null,null,null,null,null,null,null,null,null,40098.105578703449,{"$f":"LOOKUP($AO217,Data!$A$6:$A$1806,Data!$B$6:$B$1806)","v":59.976001739501953},{"$f":"LOOKUP($AO217,Data!$A$6:$A$1806,Data!$C$6:$C$1806)","v":3741.793701171875},{"$f":"LOOKUP($AO217,Data!$A$6:$A$1806,Data!$D$6:$D$1806)","v":350},{"$f":"IF($AS$1=\"+\",LOOKUP($AO217,Data!$A$6:$A$1806,Data!$E$6:$E$1806)*-1,LOOKUP($AO217,Data!$A$6:$A$1806,Data!$E$6:$E$1806))","v":227.25506591796875},{"$f":"LOOKUP($AO217,Data!$A$6:$A$1806,Data!$F$6:$F$1806)","v":16},{"$f":"LOOKUP($AO217,Data!$A$6:$A$1806,Data!$G$6:$G$1806)","v":300},{"$f":"LOOKUP($AO217,Data!$A$6:$A$1806,Data!$H$6:$H$1806)","v":10},{"$f":"LOOKUP($AO217,Data!$A$6:$A$1806,Data!$I$6:$I$1806)","v":0},{"$f":"LOOKUP($AO217,Data!$A$6:$A$1806,Data!$J$6:$J$1806)","v":-103},{"$f":"LOOKUP($AO217,Data!$A$6:$A$1806,Data!$K$6:$K$1806)","v":7698},19.1986083984375]
[null,40098.105601851596,{"$f":"LOOKUP(B218,Data!$A$6:$A$1806,Data!B$6:B$1806)","v":59.978000640869141},{"$f":"LOOKUP(B218,Data!$A$6:$A$1806,Data!C$6:C$1806)","v":3745.233642578125},null,null,null,17.5994873046875,18.403926322119517,null,null,0.56196009855523055,3770.3643709496387,{"$f":"AVERAGE(D$79:D218)","v":3764.7391880580358},{"$f":"AVERAGE(M$79:M218)","v":3775.3010912608406},3751.3971539537192,{"$f":"AVERAGE(P$79:P218)","v":3712.621907153416},633,null,null,null,null,null,null,0,633,-987.14090378423396,null,null,null,null,null,null,null,null,null,null,null,null,null,40098.105601851596,{"$f":"LOOKUP($AO218,Data!$A$6:$A$1806,Data!$B$6:$B$1806)","v":59.978000640869141},{"$f":"LOOKUP($AO218,Data!$A$6:$A$1806,Data!$C$6:$C$1806)","v":3745.233642578125},{"$f":"LOOKUP($AO218,Data!$A$6:$A$1806,Data!$D$6:$D$1806)","v":350},{"$f":"IF($AS$1=\"+\",LOOKUP($AO218,Data!$A$6:$A$1806,Data!$E$6:$E$1806)*-1,LOOKUP($AO218,Data!$A$6:$A$1806,Data!$E$6:$E$1806))","v":227.25506591796875},{"$f":"LOOKUP($AO218,Data!$A$6:$A$1806,Data!$F$6:$F$1806)","v":16},{"$f":"LOOKUP($AO218,Data!$A$6:$A$1806,Data!$G$6:$G$1806)","v":300.5},{"$f":"LOOKUP($AO218,Data!$A$6:$A$1806,Data!$H$6:$H$1806)","v":10},{"$f":"LOOKUP($AO218,Data!$A$6:$A$1806,Data!$I$6:$I$1806)","v":0},{"$f":"LOOKUP($AO218,Data!$A$6:$A$1806,Data!$J$6:$J$1806)","v":-103},{"$f":"LOOKUP($AO218,Data!$A$6:$A$1806,Data!$K$6:$K$1806)","v":7698.33},17.5994873046875]
[null,40098.105624999742,{"$f":"LOOKUP(B219,Data!$A$6:$A$1806,Data!B$6:B$1806)","v":59.977001190185547},{"$f":"LOOKUP(B219,Data!$A$6:$A$1806,Data!C$6:C$1806)","v":3746.60791015625},null,null,null,18.3990478515625,18.402218857424561,null,null,0.56196009855523055,3770.9246235834989,{"$f":"AVERAGE(D$79:D219)","v":3764.6105974346187},{"$f":"AVERAGE(M$79:M219)","v":3775.2700524829866},3751.9591140522743,{"$f":"AVERAGE(P$79:P219)","v":3712.9028872026938},633,null,null,null,null,null,null,0,633,-971.99137177375064,null,null,null,null,null,null,null,null,null,null,null,null,null,40098.105624999742,{"$f":"LOOKUP($AO219,Data!$A$6:$A$1806,Data!$B$6:$B$1806)","v":59.977001190185547},{"$f":"LOOKUP($AO219,Data!$A$6:$A$1806,Data!$C$6:$C$1806)","v":3746.60791015625},{"$f":"LOOKUP($AO219,Data!$A$6:$A$1806,Data!$D$6:$D$1806)","v":350},{"$f":"IF($AS$1=\"+\",LOOKUP($AO219,Data!$A$6:$A$1806,Data!$E$6:$E$1806)*-1,LOOKUP($AO219,Data!$A$6:$A$1806,Data!$E$6:$E$1806))","v":227.25506591796875},{"$f":"LOOKUP($AO219,Data!$A$6:$A$1806,Data!$F$6:$F$1806)","v":16},{"$f":"LOOKUP($AO219,Data!$A$6:$A$1806,Data!$G$6:$G$1806)","v":301},{"$f":"LOOKUP($AO219,Data!$A$6:$A$1806,Data!$H$6:$H$1806)","v":10},{"$f":"LOOKUP($AO219,Data!$A$6:$A$1806,Data!$I$6:$I$1806)","v":0},{"$f":"LOOKUP($AO219,Data!$A$6:$A$1806,Data!$J$6:$J$1806)","v":-103},{"$f":"LOOKUP($AO219,Data!$A$6:$A$1806,Data!$K$6:$K$1806)","v":7698.66},18.3990478515625]
[null,40098.105648147888,{"$f":"LOOKUP(B220,Data!$A$6:$A$1806,Data!B$6:B$1806)","v":59.979999542236328},{"$f":"LOOKUP(B220,Data!$A$6:$A$1806,Data!C$6:C$1806)","v":3748.2998046875},null,null,null,16.0003662109375,17.561570431154088,null,null,0.56196009855523055,3770.6459352557836,{"$f":"AVERAGE(D$79:D220)","v":3764.4957326969629},{"$f":"AVERAGE(M$79:M220)","v":3775.2374882771614},3752.5210741508295,{"$f":"AVERAGE(P$79:P220)","v":3713.1838672519712},633,null,null,null,null,null,null,0,633,-1018.9022818853762,null,null,null,null,null,null,null,null,null,null,null,null,null,40098.105648147888,{"$f":"LOOKUP($AO220,Data!$A$6:$A$1806,Data!$B$6:$B$1806)","v":59.979999542236328},{"$f":"LOOKUP($AO220,Data!$A$6:$A$1806,Data!$C$6:$C$1806)","v":3748.2998046875},{"$f":"LOOKUP($AO220,Data!$A$6:$A$1806,Data!$D$6:$D$1806)","v":350},{"$f":"IF($AS$1=\"+\",LOOKUP($AO220,Data!$A$6:$A$1806,Data!$E$6:$E$1806)*-1,LOOKUP($AO220,Data!$A$6:$A$1806,Data!$E$6:$E$1806))","v":229.29022216796875},{"$f":"LOOKUP($AO220,Data!$A$6:$A$1806,Data!$F$6:$F$1806)","v":16},{"$f":"LOOKUP($AO220,Data!$A$6:$A$1806,Data!$G$6:$G$1806)","v":301.5},{"$f":"LOOKUP($AO220,Data!$A$6:$A$1806,Data!$H$6:$H$1806)","v":10},{"$f":"LOOKUP($AO220,Data!$A$6:$A$1806,Data!$I$6:$I$1806)","v":0},{"$f":"LOOKUP($AO220,Data!$A$6:$A$1806,Data!$J$6:$J$1806)","v":-103},{"$f":"LOOKUP($AO220,Data!$A$6:$A$1806,Data!$K$6:$K$1806)","v":7698.99},16.0003662109375]
[null,40098.105671296034,{"$f":"LOOKUP(B221,Data!$A$6:$A$1806,Data!B$6:B$1806)","v":59.981998443603516},{"$f":"LOOKUP(B221,Data!$A$6:$A$1806,Data!C$6:C$1806)","v":3750.71630859375},null,null,null,14.4012451171875,16.455456571265785,null,null,0.56196009855523055,3770.1017814944503,{"$f":"AVERAGE(D$79:D221)","v":3764.3993730878497},{"$f":"AVERAGE(M$79:M221)","v":3775.2015742437156},3753.0830342493846,{"$f":"AVERAGE(P$79:P221)","v":3713.4648473012485},633,null,null,null,null,null,null,0,633,-1052.7754597723938,null,null,null,null,null,null,null,null,null,null,null,null,null,40098.105671296034,{"$f":"LOOKUP($AO221,Data!$A$6:$A$1806,Data!$B$6:$B$1806)","v":59.981998443603516},{"$f":"LOOKUP($AO221,Data!$A$6:$A$1806,Data!$C$6:$C$1806)","v":3750.71630859375},{"$f":"LOOKUP($AO221,Data!$A$6:$A$1806,Data!$D$6:$D$1806)","v":350},{"$f":"IF($AS$1=\"+\",LOOKUP($AO221,Data!$A$6:$A$1806,Data!$E$6:$E$1806)*-1,LOOKUP($AO221,Data!$A$6:$A$1806,Data!$E$6:$E$1806))","v":229.29022216796875},{"$f":"LOOKUP($AO221,Data!$A$6:$A$1806,Data!$F$6:$F$1806)","v":16},{"$f":"LOOKUP($AO221,Data!$A$6:$A$1806,Data!$G$6:$G$1806)","v":302},{"$f":"LOOKUP($AO221,Data!$A$6:$A$1806,Data!$H$6:$H$1806)","v":10},{"$f":"LOOKUP($AO221,Data!$A$6:$A$1806,Data!$I$6:$I$1806)","v":0},{"$f":"LOOKUP($AO221,Data!$A$6:$A$1806,Data!$J$6:$J$1806)","v":-103},{"$f":"LOOKUP($AO221,Data!$A$6:$A$1806,Data!$K$6:$K$1806)","v":7699.32},14.4012451171875]
[null,40098.105694444181,{"$f":"LOOKUP(B222,Data!$A$6:$A$1806,Data!B$6:B$1806)","v":59.980998992919922},{"$f":"LOOKUP(B222,Data!$A$6:$A$1806,Data!C$6:C$1806)","v":3751.5576171875},null,null,null,15.2008056640625,16.016328753744638,null,null,0.56196009855523055,3770.2246137754842,{"$f":"AVERAGE(D$79:D222)","v":3764.3101942274307},{"$f":"AVERAGE(M$79:M222)","v":3775.1670120182421},3753.6449943479397,{"$f":"AVERAGE(P$79:P222)","v":3713.7458273505263},633,null,null,null,null,null,null,0,633,-1035.5619474066043,null,null,null,null,null,null,null,null,null,null,null,null,null,40098.105694444181,{"$f":"LOOKUP($AO222,Data!$A$6:$A$1806,Data!$B$6:$B$1806)","v":59.980998992919922},{"$f":"LOOKUP($AO222,Data!$A$6:$A$1806,Data!$C$6:$C$1806)","v":3751.5576171875},{"$f":"LOOKUP($AO222,Data!$A$6:$A$1806,Data!$D$6:$D$1806)","v":350},{"$f":"IF($AS$1=\"+\",LOOKUP($AO222,Data!$A$6:$A$1806,Data!$E$6:$E$1806)*-1,LOOKUP($AO222,Data!$A$6:$A$1806,Data!$E$6:$E$1806))","v":229.29022216796875},{"$f":"LOOKUP($AO222,Data!$A$6:$A$1806,Data!$F$6:$F$1806)","v":16},{"$f":"LOOKUP($AO222,Data!$A$6:$A$1806,Data!$G$6:$G$1806)","v":302.5},{"$f":"LOOKUP($AO222,Data!$A$6:$A$1806,Data!$H$6:$H$1806)","v":10},{"$f":"LOOKUP($AO222,Data!$A$6:$A$1806,Data!$I$6:$I$1806)","v":0},{"$f":"LOOKUP($AO222,Data!$A$6:$A$1806,Data!$J$6:$J$1806)","v":-103},{"$f":"LOOKUP($AO222,Data!$A$6:$A$1806,Data!$K$6:$K$1806)","v":7699.65},15.2008056640625]
[null,40098.105717592327,{"$f":"LOOKUP(B223,Data!$A$6:$A$1806,Data!B$6:B$1806)","v":59.979999542236328},{"$f":"LOOKUP(B223,Data!$A$6:$A$1806,Data!C$6:C$1806)","v":3752.74755859375},null,null,null,16.0003662109375,16.010741863762142,null,null,0.56196009855523055,3770.7809869840567,{"$f":"AVERAGE(D$79:D223)","v":3764.2304519127156},{"$f":"AVERAGE(M$79:M223)","v":3775.1367635697302},3754.2069544464948,{"$f":"AVERAGE(P$79:P223)","v":3714.0268073998036},633,null,null,null,null,null,null,0,633,-1018.9022818853762,null,null,null,null,null,null,null,null,null,null,null,null,null,40098.105717592327,{"$f":"LOOKUP($AO223,Data!$A$6:$A$1806,Data!$B$6:$B$1806)","v":59.979999542236328},{"$f":"LOOKUP($AO223,Data!$A$6:$A$1806,Data!$C$6:$C$1806)","v":3752.74755859375},{"$f":"LOOKUP($AO223,Data!$A$6:$A$1806,Data!$D$6:$D$1806)","v":350},{"$f":"IF($AS$1=\"+\",LOOKUP($AO223,Data!$A$6:$A$1806,Data!$E$6:$E$1806)*-1,LOOKUP($AO223,Data!$A$6:$A$1806,Data!$E$6:$E$1806))","v":229.29022216796875},{"$f":"LOOKUP($AO223,Data!$A$6:$A$1806,Data!$F$6:$F$1806)","v":16},{"$f":"LOOKUP($AO223,Data!$A$6:$A$1806,Data!$G$6:$G$1806)","v":303},{"$f":"LOOKUP($AO223,Data!$A$6:$A$1806,Data!$H$6:$H$1806)","v":10},{"$f":"LOOKUP($AO223,Data!$A$6:$A$1806,Data!$I$6:$I$1806)","v":0},{"$f":"LOOKUP($AO223,Data!$A$6:$A$1806,Data!$J$6:$J$1806)","v":-103},{"$f":"LOOKUP($AO223,Data!$A$6:$A$1806,Data!$K$6:$K$1806)","v":7699.98},16.0003662109375]
[null,40098.105740740473,{"$f":"LOOKUP(B224,Data!$A$6:$A$1806,Data!B$6:B$1806)","v":59.979000091552734},{"$f":"LOOKUP(B224,Data!$A$6:$A$1806,Data!C$6:C$1806)","v":3755.5986328125},null,null,null,16.7999267578125,16.286956576679767,null,null,0.56196009855523055,3771.6191617955292,{"$f":"AVERAGE(D$79:D224)","v":3764.1713298640839},{"$f":"AVERAGE(M$79:M224)","v":3775.1126704068929},3754.7689145450499,{"$f":"AVERAGE(P$79:P224)","v":3714.3077874490814},633,null,null,null,null,null,null,0,633,-1002.7701562889495,null,null,null,null,null,null,null,null,null,null,null,null,null,40098.105740740473,{"$f":"LOOKUP($AO224,Data!$A$6:$A$1806,Data!$B$6:$B$1806)","v":59.979000091552734},{"$f":"LOOKUP($AO224,Data!$A$6:$A$1806,Data!$C$6:$C$1806)","v":3755.5986328125},{"$f":"LOOKUP($AO224,Data!$A$6:$A$1806,Data!$D$6:$D$1806)","v":350},{"$f":"IF($AS$1=\"+\",LOOKUP($AO224,Data!$A$6:$A$1806,Data!$E$6:$E$1806)*-1,LOOKUP($AO224,Data!$A$6:$A$1806,Data!$E$6:$E$1806))","v":229.29022216796875},{"$f":"LOOKUP($AO224,Data!$A$6:$A$1806,Data!$F$6:$F$1806)","v":16},{"$f":"LOOKUP($AO224,Data!$A$6:$A$1806,Data!$G$6:$G$1806)","v":303.5},{"$f":"LOOKUP($AO224,Data!$A$6:$A$1806,Data!$H$6:$H$1806)","v":10},{"$f":"LOOKUP($AO224,Data!$A$6:$A$1806,Data!$I$6:$I$1806)","v":0},{"$f":"LOOKUP($AO224,Data!$A$6:$A$1806,Data!$J$6:$J$1806)","v":-103},{"$f":"LOOKUP($AO224,Data!$A$6:$A$1806,Data!$K$6:$K$1806)","v":7700.31},16.7999267578125]
[null,40098.10576388862,{"$f":"LOOKUP(B225,Data!$A$6:$A$1806,Data!B$6:B$1806)","v":59.979999542236328},{"$f":"LOOKUP(B225,Data!$A$6:$A$1806,Data!C$6:C$1806)","v":3756.4072265625},null,null,null,16.0003662109375,16.186649948669974,null,null,0.56196009855523055,3772.0808152660743,{"$f":"AVERAGE(D$79:D225)","v":3764.1185128348216},{"$f":"AVERAGE(M$79:M225)","v":3775.0920455419896},3755.3308746436051,{"$f":"AVERAGE(P$79:P225)","v":3714.5887674983592},633,null,null,null,null,null,null,0,633,-1018.9022818853762,null,null,null,null,null,null,null,null,null,null,null,null,null,40098.10576388862,{"$f":"LOOKUP($AO225,Data!$A$6:$A$1806,Data!$B$6:$B$1806)","v":59.979999542236328},{"$f":"LOOKUP($AO225,Data!$A$6:$A$1806,Data!$C$6:$C$1806)","v":3756.4072265625},{"$f":"LOOKUP($AO225,Data!$A$6:$A$1806,Data!$D$6:$D$1806)","v":350},{"$f":"IF($AS$1=\"+\",LOOKUP($AO225,Data!$A$6:$A$1806,Data!$E$6:$E$1806)*-1,LOOKUP($AO225,Data!$A$6:$A$1806,Data!$E$6:$E$1806))","v":221.46136474609375},{"$f":"LOOKUP($AO225,Data!$A$6:$A$1806,Data!$F$6:$F$1806)","v":16},{"$f":"LOOKUP($AO225,Data!$A$6:$A$1806,Data!$G$6:$G$1806)","v":304},{"$f":"LOOKUP($AO225,Data!$A$6:$A$1806,Data!$H$6:$H$1806)","v":10},{"$f":"LOOKUP($AO225,Data!$A$6:$A$1806,Data!$I$6:$I$1806)","v":0},{"$f":"LOOKUP($AO225,Data!$A$6:$A$1806,Data!$J$6:$J$1806)","v":-103},{"$f":"LOOKUP($AO225,Data!$A$6:$A$1806,Data!$K$6:$K$1806)","v":7700.64},16.0003662109375]
[null,40098.105787036766,{"$f":"LOOKUP(B226,Data!$A$6:$A$1806,Data!B$6:B$1806)","v":59.979000091552734},{"$f":"LOOKUP(B226,Data!$A$6:$A$1806,Data!C$6:C$1806)","v":3756.975341796875},null,null,null,16.7999267578125,16.401296831869857,null,null,0.56196009855523055,3772.8574222478292,{"$f":"AVERAGE(D$79:D226)","v":3764.0702481656463},{"$f":"AVERAGE(M$79:M226)","v":3775.0769467359482},3755.8928347421602,{"$f":"AVERAGE(P$79:P226)","v":3714.869747547637},633,null,null,null,null,null,null,0,633,-1002.7701562889495,null,null,null,null,null,null,null,null,null,null,null,null,null,40098.105787036766,{"$f":"LOOKUP($AO226,Data!$A$6:$A$1806,Data!$B$6:$B$1806)","v":59.979000091552734},{"$f":"LOOKUP($AO226,Data!$A$6:$A$1806,Data!$C$6:$C$1806)","v":3756.975341796875},{"$f":"LOOKUP($AO226,Data!$A$6:$A$1806,Data!$D$6:$D$1806)","v":350},{"$f":"IF($AS$1=\"+\",LOOKUP($AO226,Data!$A$6:$A$1806,Data!$E$6:$E$1806)*-1,LOOKUP($AO226,Data!$A$6:$A$1806,Data!$E$6:$E$1806))","v":221.46136474609375},{"$f":"LOOKUP($AO226,Data!$A$6:$A$1806,Data!$F$6:$F$1806)","v":16},{"$f":"LOOKUP($AO226,Data!$A$6:$A$1806,Data!$G$6:$G$1806)","v":304.5},{"$f":"LOOKUP($AO226,Data!$A$6:$A$1806,Data!$H$6:$H$1806)","v":10},{"$f":"LOOKUP($AO226,Data!$A$6:$A$1806,Data!$I$6:$I$1806)","v":0},{"$f":"LOOKUP($AO226,Data!$A$6:$A$1806,Data!$J$6:$J$1806)","v":-103},{"$f":"LOOKUP($AO226,Data!$A$6:$A$1806,Data!$K$6:$K$1806)","v":7700.97},16.7999267578125]
[null,40098.105810184912,{"$f":"LOOKUP(B227,Data!$A$6:$A$1806,Data!B$6:B$1806)","v":59.983001708984375},{"$f":"LOOKUP(B227,Data!$A$6:$A$1806,Data!C$6:C$1806)","v":3760.4052734375},null,null,null,13.5986328125,15.420364425090407,null,null,0.56196009855523055,3772.4384499396047,{"$f":"AVERAGE(D$79:D227)","v":3764.0456510198196},{"$f":"AVERAGE(M$79:M227)","v":3775.0592387037582},3756.4547948407153,{"$f":"AVERAGE(P$79:P227)","v":3715.1507275969152},633,null,null,null,null,null,null,0,633,-1070.639978708132,null,null,null,null,null,null,null,null,null,null,null,null,null,40098.105810184912,{"$f":"LOOKUP($AO227,Data!$A$6:$A$1806,Data!$B$6:$B$1806)","v":59.983001708984375},{"$f":"LOOKUP($AO227,Data!$A$6:$A$1806,Data!$C$6:$C$1806)","v":3760.4052734375},{"$f":"LOOKUP($AO227,Data!$A$6:$A$1806,Data!$D$6:$D$1806)","v":350},{"$f":"IF($AS$1=\"+\",LOOKUP($AO227,Data!$A$6:$A$1806,Data!$E$6:$E$1806)*-1,LOOKUP($AO227,Data!$A$6:$A$1806,Data!$E$6:$E$1806))","v":221.46136474609375},{"$f":"LOOKUP($AO227,Data!$A$6:$A$1806,Data!$F$6:$F$1806)","v":16},{"$f":"LOOKUP($AO227,Data!$A$6:$A$1806,Data!$G$6:$G$1806)","v":305},{"$f":"LOOKUP($AO227,Data!$A$6:$A$1806,Data!$H$6:$H$1806)","v":10},{"$f":"LOOKUP($AO227,Data!$A$6:$A$1806,Data!$I$6:$I$1806)","v":0},{"$f":"LOOKUP($AO227,Data!$A$6:$A$1806,Data!$J$6:$J$1806)","v":-103},{"$f":"LOOKUP($AO227,Data!$A$6:$A$1806,Data!$K$6:$K$1806)","v":7701.3},13.5986328125]
[null,40098.105833333058,{"$f":"LOOKUP(B228,Data!$A$6:$A$1806,Data!B$6:B$1806)","v":59.983001708984375},{"$f":"LOOKUP(B228,Data!$A$6:$A$1806,Data!C$6:C$1806)","v":3760.982177734375},null,null,null,13.5986328125,14.782758360683765,null,null,0.56196009855523055,3772.3628039737532,{"$f":"AVERAGE(D$79:D228)","v":3764.0252278645835},{"$f":"AVERAGE(M$79:M228)","v":3775.0412624722244},3757.0167549392704,{"$f":"AVERAGE(P$79:P228)","v":3715.4317076461921},633,null,null,null,null,null,null,0,633,-1070.639978708132,null,null,null,null,null,null,null,null,null,null,null,null,null,40098.105833333058,{"$f":"LOOKUP($AO228,Data!$A$6:$A$1806,Data!$B$6:$B$1806)","v":59.983001708984375},{"$f":"LOOKUP($AO228,Data!$A$6:$A$1806,Data!$C$6:$C$1806)","v":3760.982177734375},{"$f":"LOOKUP($AO228,Data!$A$6:$A$1806,Data!$D$6:$D$1806)","v":350},{"$f":"IF($AS$1=\"+\",LOOKUP($AO228,Data!$A$6:$A$1806,Data!$E$6:$E$1806)*-1,LOOKUP($AO228,Data!$A$6:$A$1806,Data!$E$6:$E$1806))","v":221.46136474609375},{"$f":"LOOKUP($AO228,Data!$A$6:$A$1806,Data!$F$6:$F$1806)","v":16},{"$f":"LOOKUP($AO228,Data!$A$6:$A$1806,Data!$G$6:$G$1806)","v":305.5},{"$f":"LOOKUP($AO228,Data!$A$6:$A$1806,Data!$H$6:$H$1806)","v":10},{"$f":"LOOKUP($AO228,Data!$A$6:$A$1806,Data!$I$6:$I$1806)","v":0},{"$f":"LOOKUP($AO228,Data!$A$6:$A$1806,Data!$J$6:$J$1806)","v":-103},{"$f":"LOOKUP($AO228,Data!$A$6:$A$1806,Data!$K$6:$K$1806)","v":7701.63},13.5986328125]
[null,40098.105856481205,{"$f":"LOOKUP(B229,Data!$A$6:$A$1806,Data!B$6:B$1806)","v":59.984001159667969},{"$f":"LOOKUP(B229,Data!$A$6:$A$1806,Data!C$6:C$1806)","v":3761.406982421875},null,null,null,12.799072265625,14.088468227413198,null,null,0.56196009855523055,3772.2304739390379,{"$f":"AVERAGE(D$79:D229)","v":3764.0078884907907},{"$f":"AVERAGE(M$79:M229)","v":3775.022647978627},3757.5787150378255,{"$f":"AVERAGE(P$79:P229)","v":3715.7126876954694},633,null,null,null,null,null,null,0,633,-1089.0497690635382,null,null,null,null,null,null,null,null,null,null,null,null,null,40098.105856481205,{"$f":"LOOKUP($AO229,Data!$A$6:$A$1806,Data!$B$6:$B$1806)","v":59.984001159667969},{"$f":"LOOKUP($AO229,Data!$A$6:$A$1806,Data!$C$6:$C$1806)","v":3761.406982421875},{"$f":"LOOKUP($AO229,Data!$A$6:$A$1806,Data!$D$6:$D$1806)","v":350},{"$f":"IF($AS$1=\"+\",LOOKUP($AO229,Data!$A$6:$A$1806,Data!$E$6:$E$1806)*-1,LOOKUP($AO229,Data!$A$6:$A$1806,Data!$E$6:$E$1806))","v":221.46136474609375},{"$f":"LOOKUP($AO229,Data!$A$6:$A$1806,Data!$F$6:$F$1806)","v":16},{"$f":"LOOKUP($AO229,Data!$A$6:$A$1806,Data!$G$6:$G$1806)","v":306},{"$f":"LOOKUP($AO229,Data!$A$6:$A$1806,Data!$H$6:$H$1806)","v":10},{"$f":"LOOKUP($AO229,Data!$A$6:$A$1806,Data!$I$6:$I$1806)","v":0},{"$f":"LOOKUP($AO229,Data!$A$6:$A$1806,Data!$J$6:$J$1806)","v":-103},{"$f":"LOOKUP($AO229,Data!$A$6:$A$1806,Data!$K$6:$K$1806)","v":7701.96},12.799072265625]
[null,40098.105879629351,{"$f":"LOOKUP(B230,Data!$A$6:$A$1806,Data!B$6:B$1806)","v":59.987998962402344},{"$f":"LOOKUP(B230,Data!$A$6:$A$1806,Data!C$6:C$1806)","v":3762.7373046875},null,null,null,9.600830078125,12.517794875162329,null,null,0.56196009855523055,3771.2217606853424,{"$f":"AVERAGE(D$79:D230)","v":3763.9995293868215},{"$f":"AVERAGE(M$79:M230)","v":3774.9976421411711},3758.1406751363807,{"$f":"AVERAGE(P$79:P230)","v":3715.9936677447467},633,null,null,null,null,null,null,0,633,-1169.4877289425694,null,null,null,null,null,null,null,null,null,null,null,null,null,40098.105879629351,{"$f":"LOOKUP($AO230,Data!$A$6:$A$1806,Data!$B$6:$B$1806)","v":59.987998962402344},{"$f":"LOOKUP($AO230,Data!$A$6:$A$1806,Data!$C$6:$C$1806)","v":3762.7373046875},{"$f":"LOOKUP($AO230,Data!$A$6:$A$1806,Data!$D$6:$D$1806)","v":350},{"$f":"IF($AS$1=\"+\",LOOKUP($AO230,Data!$A$6:$A$1806,Data!$E$6:$E$1806)*-1,LOOKUP($AO230,Data!$A$6:$A$1806,Data!$E$6:$E$1806))","v":241.27436828613281},{"$f":"LOOKUP($AO230,Data!$A$6:$A$1806,Data!$F$6:$F$1806)","v":16},{"$f":"LOOKUP($AO230,Data!$A$6:$A$1806,Data!$G$6:$G$1806)","v":306.5},{"$f":"LOOKUP($AO230,Data!$A$6:$A$1806,Data!$H$6:$H$1806)","v":10},{"$f":"LOOKUP($AO230,Data!$A$6:$A$1806,Data!$I$6:$I$1806)","v":0},{"$f":"LOOKUP($AO230,Data!$A$6:$A$1806,Data!$J$6:$J$1806)","v":-103},{"$f":"LOOKUP($AO230,Data!$A$6:$A$1806,Data!$K$6:$K$1806)","v":7702.29},9.600830078125]
[null,40098.105902777497,{"$f":"LOOKUP(B231,Data!$A$6:$A$1806,Data!B$6:B$1806)","v":59.988998413085937},{"$f":"LOOKUP(B231,Data!$A$6:$A$1806,Data!C$6:C$1806)","v":3763.212158203125},null,null,null,8.80126953125,11.217011004793013,null,null,0.56196009855523055,3770.4829369135282,{"$f":"AVERAGE(D$79:D231)","v":3763.9943831699347},{"$f":"AVERAGE(M$79:M231)","v":3774.968134263866},3758.7026352349358,{"$f":"AVERAGE(P$79:P231)","v":3716.2746477940245},633,null,null,null,null,null,null,0,633,-1191.4887726069201,null,null,null,null,null,null,null,null,null,null,null,null,null,40098.105902777497,{"$f":"LOOKUP($AO231,Data!$A$6:$A$1806,Data!$B$6:$B$1806)","v":59.988998413085937},{"$f":"LOOKUP($AO231,Data!$A$6:$A$1806,Data!$C$6:$C$1806)","v":3763.212158203125},{"$f":"LOOKUP($AO231,Data!$A$6:$A$1806,Data!$D$6:$D$1806)","v":350},{"$f":"IF($AS$1=\"+\",LOOKUP($AO231,Data!$A$6:$A$1806,Data!$E$6:$E$1806)*-1,LOOKUP($AO231,Data!$A$6:$A$1806,Data!$E$6:$E$1806))","v":241.27436828613281},{"$f":"LOOKUP($AO231,Data!$A$6:$A$1806,Data!$F$6:$F$1806)","v":16},{"$f":"LOOKUP($AO231,Data!$A$6:$A$1806,Data!$G$6:$G$1806)","v":307},{"$f":"LOOKUP($AO231,Data!$A$6:$A$1806,Data!$H$6:$H$1806)","v":10},{"$f":"LOOKUP($AO231,Data!$A$6:$A$1806,Data!$I$6:$I$1806)","v":0},{"$f":"LOOKUP($AO231,Data!$A$6:$A$1806,Data!$J$6:$J$1806)","v":-103},{"$f":"LOOKUP($AO231,Data!$A$6:$A$1806,Data!$K$6:$K$1806)","v":7702.62},8.80126953125]
[null,40098.105925925644,{"$f":"LOOKUP(B232,Data!$A$6:$A$1806,Data!B$6:B$1806)","v":59.98699951171875},{"$f":"LOOKUP(B232,Data!$A$6:$A$1806,Data!C$6:C$1806)","v":3764.95751953125},null,null,null,10.400390625,10.931193871865458,null,null,0.56196009855523055,3770.7590798791557,{"$f":"AVERAGE(D$79:D232)","v":3764.0006373021511},{"$f":"AVERAGE(M$79:M232)","v":3774.9408027418872},3759.2645953334909,{"$f":"AVERAGE(P$79:P232)","v":3716.5556278433019},633,null,null,null,null,null,null,0,633,-1148.2844602835469,null,null,null,null,null,null,null,null,null,null,null,null,null,40098.105925925644,{"$f":"LOOKUP($AO232,Data!$A$6:$A$1806,Data!$B$6:$B$1806)","v":59.98699951171875},{"$f":"LOOKUP($AO232,Data!$A$6:$A$1806,Data!$C$6:$C$1806)","v":3764.95751953125},{"$f":"LOOKUP($AO232,Data!$A$6:$A$1806,Data!$D$6:$D$1806)","v":350},{"$f":"IF($AS$1=\"+\",LOOKUP($AO232,Data!$A$6:$A$1806,Data!$E$6:$E$1806)*-1,LOOKUP($AO232,Data!$A$6:$A$1806,Data!$E$6:$E$1806))","v":241.27436828613281},{"$f":"LOOKUP($AO232,Data!$A$6:$A$1806,Data!$F$6:$F$1806)","v":16},{"$f":"LOOKUP($AO232,Data!$A$6:$A$1806,Data!$G$6:$G$1806)","v":307.5},{"$f":"LOOKUP($AO232,Data!$A$6:$A$1806,Data!$H$6:$H$1806)","v":10},{"$f":"LOOKUP($AO232,Data!$A$6:$A$1806,Data!$I$6:$I$1806)","v":0},{"$f":"LOOKUP($AO232,Data!$A$6:$A$1806,Data!$J$6:$J$1806)","v":-103},{"$f":"LOOKUP($AO232,Data!$A$6:$A$1806,Data!$K$6:$K$1806)","v":7702.95},10.400390625]
[null,40098.10594907379,{"$f":"LOOKUP(B233,Data!$A$6:$A$1806,Data!B$6:B$1806)","v":59.98699951171875},{"$f":"LOOKUP(B233,Data!$A$6:$A$1806,Data!C$6:C$1806)","v":3766.085205078125},null,null,null,10.400390625,10.745412735462548,null,null,0.56196009855523055,3771.1352588413079,{"$f":"AVERAGE(D$79:D233)","v":3764.0140861265122},{"$f":"AVERAGE(M$79:M233)","v":3774.9162508457548},3759.826555432046,{"$f":"AVERAGE(P$79:P233)","v":3716.8366078925797},633,null,null,null,null,null,null,0,633,-1148.2844602835469,null,null,null,null,null,null,null,null,null,null,null,null,null,40098.10594907379,{"$f":"LOOKUP($AO233,Data!$A$6:$A$1806,Data!$B$6:$B$1806)","v":59.98699951171875},{"$f":"LOOKUP($AO233,Data!$A$6:$A$1806,Data!$C$6:$C$1806)","v":3766.085205078125},{"$f":"LOOKUP($AO233,Data!$A$6:$A$1806,Data!$D$6:$D$1806)","v":350},{"$f":"IF($AS$1=\"+\",LOOKUP($AO233,Data!$A$6:$A$1806,Data!$E$6:$E$1806)*-1,LOOKUP($AO233,Data!$A$6:$A$1806,Data!$E$6:$E$1806))","v":241.27436828613281},{"$f":"LOOKUP($AO233,Data!$A$6:$A$1806,Data!$F$6:$F$1806)","v":16},{"$f":"LOOKUP($AO233,Data!$A$6:$A$1806,Data!$G$6:$G$1806)","v":308},{"$f":"LOOKUP($AO233,Data!$A$6:$A$1806,Data!$H$6:$H$1806)","v":10},{"$f":"LOOKUP($AO233,Data!$A$6:$A$1806,Data!$I$6:$I$1806)","v":0},{"$f":"LOOKUP($AO233,Data!$A$6:$A$1806,Data!$J$6:$J$1806)","v":-103},{"$f":"LOOKUP($AO233,Data!$A$6:$A$1806,Data!$K$6:$K$1806)","v":7703.28},10.400390625]
[null,40098.105972221936,{"$f":"LOOKUP(B234,Data!$A$6:$A$1806,Data!B$6:B$1806)","v":59.991001129150391},{"$f":"LOOKUP(B234,Data!$A$6:$A$1806,Data!C$6:C$1806)","v":3766.43310546875},null,null,null,7.1990966796875,9.5042021159412808,null,null,0.56196009855523055,3770.4560083203419,{"$f":"AVERAGE(D$79:D234)","v":3764.0295926607573},{"$f":"AVERAGE(M$79:M234)","v":3774.8876595475149},3760.3885155306011,{"$f":"AVERAGE(P$79:P234)","v":3717.117587941857},633,null,null,null,null,null,null,0,633,-1238.1637047054983,null,null,null,null,null,null,null,null,null,null,null,null,null,40098.105972221936,{"$f":"LOOKUP($AO234,Data!$A$6:$A$1806,Data!$B$6:$B$1806)","v":59.991001129150391},{"$f":"LOOKUP($AO234,Data!$A$6:$A$1806,Data!$C$6:$C$1806)","v":3766.43310546875},{"$f":"LOOKUP($AO234,Data!$A$6:$A$1806,Data!$D$6:$D$1806)","v":350},{"$f":"IF($AS$1=\"+\",LOOKUP($AO234,Data!$A$6:$A$1806,Data!$E$6:$E$1806)*-1,LOOKUP($AO234,Data!$A$6:$A$1806,Data!$E$6:$E$1806))","v":241.27436828613281},{"$f":"LOOKUP($AO234,Data!$A$6:$A$1806,Data!$F$6:$F$1806)","v":16},{"$f":"LOOKUP($AO234,Data!$A$6:$A$1806,Data!$G$6:$G$1806)","v":308.5},{"$f":"LOOKUP($AO234,Data!$A$6:$A$1806,Data!$H$6:$H$1806)","v":10},{"$f":"LOOKUP($AO234,Data!$A$6:$A$1806,Data!$I$6:$I$1806)","v":0},{"$f":"LOOKUP($AO234,Data!$A$6:$A$1806,Data!$J$6:$J$1806)","v":-103},{"$f":"LOOKUP($AO234,Data!$A$6:$A$1806,Data!$K$6:$K$1806)","v":7703.61},7.1990966796875]
[null,40098.105995370082,{"$f":"LOOKUP(B235,Data!$A$6:$A$1806,Data!B$6:B$1806)","v":59.993000030517578},{"$f":"LOOKUP(B235,Data!$A$6:$A$1806,Data!C$6:C$1806)","v":3767.2509765625},null,null,null,5.5999755859375,{"$f":"L$13*H235+(1-L$13)*I234","v":8.1377228304399569},null,null,0.56196009855523055,3769.6514891333959,{"$f":"AVERAGE(D$79:D235)","v":3764.0501110295581},{"$f":"AVERAGE(M$79:M235)","v":3774.8543081436028},3760.9504756291562,{"$f":"AVERAGE(P$79:P235)","v":3717.3985679911348},633,null,null,null,null,null,null,0,{"$f":"SUM(R235:Y235)","v":633},-1288.5445153024082,null,null,null,null,null,null,null,null,null,null,null,null,null,40098.105995370082,{"$f":"LOOKUP($AO235,Data!$A$6:$A$1806,Data!$B$6:$B$1806)","v":59.993000030517578},{"$f":"LOOKUP($AO235,Data!$A$6:$A$1806,Data!$C$6:$C$1806)","v":3767.2509765625},{"$f":"LOOKUP($AO235,Data!$A$6:$A$1806,Data!$D$6:$D$1806)","v":350},{"$f":"IF($AS$1=\"+\",LOOKUP($AO235,Data!$A$6:$A$1806,Data!$E$6:$E$1806)*-1,LOOKUP($AO235,Data!$A$6:$A$1806,Data!$E$6:$E$1806))","v":243.07185363769531},{"$f":"LOOKUP($AO235,Data!$A$6:$A$1806,Data!$F$6:$F$1806)","v":16},{"$f":"LOOKUP($AO235,Data!$A$6:$A$1806,Data!$G$6:$G$1806)","v":309},{"$f":"LOOKUP($AO235,Data!$A$6:$A$1806,Data!$H$6:$H$1806)","v":10},{"$f":"LOOKUP($AO235,Data!$A$6:$A$1806,Data!$I$6:$I$1806)","v":0},{"$f":"LOOKUP($AO235,Data!$A$6:$A$1806,Data!$J$6:$J$1806)","v":-103},{"$f":"LOOKUP($AO235,Data!$A$6:$A$1806,Data!$K$6:$K$1806)","v":7703.94},5.5999755859375]
[null,40098.106018518229,{"$f":"LOOKUP(B236,Data!$A$6:$A$1806,Data!B$6:B$1806)","v":59.992000579833984},{"$f":"LOOKUP(B236,Data!$A$6:$A$1806,Data!C$6:C$1806)","v":3767.79248046875},null,null,null,{"$f":"(IF((C236-L$2)>0,((C236-L$2-L$5)/((L$4*L$2)-L$5)*L$3*-1),((C236-L$2+L$5)/((L$4*L$2)-L$5)*L$3*-1)))","v":6.3995361328125},7.5293574862703476,null,null,0.56196009855523055,3769.6050838877813,{"$f":"AVERAGE(D$79:D236)","v":3764.0737969120846},{"$f":"AVERAGE(M$79:M236)","v":3774.8210852052753},3761.5124357277114,{"$f":"AVERAGE(P$79:P236)","v":3717.6795480404126},633,null,null,null,null,null,null,0,633,-1262.8518307822562,null,null,null,null,null,null,null,null,null,null,null,null,null,40098.106018518229,{"$f":"LOOKUP($AO236,Data!$A$6:$A$1806,Data!$B$6:$B$1806)","v":59.992000579833984},{"$f":"LOOKUP($AO236,Data!$A$6:$A$1806,Data!$C$6:$C$1806)","v":3767.79248046875},{"$f":"LOOKUP($AO236,Data!$A$6:$A$1806,Data!$D$6:$D$1806)","v":350},{"$f":"IF($AS$1=\"+\",LOOKUP($AO236,Data!$A$6:$A$1806,Data!$E$6:$E$1806)*-1,LOOKUP($AO236,Data!$A$6:$A$1806,Data!$E$6:$E$1806))","v":243.07185363769531},{"$f":"LOOKUP($AO236,Data!$A$6:$A$1806,Data!$F$6:$F$1806)","v":16},{"$f":"LOOKUP($AO236,Data!$A$6:$A$1806,Data!$G$6:$G$1806)","v":309.5},{"$f":"LOOKUP($AO236,Data!$A$6:$A$1806,Data!$H$6:$H$1806)","v":10},{"$f":"LOOKUP($AO236,Data!$A$6:$A$1806,Data!$I$6:$I$1806)","v":0},{"$f":"LOOKUP($AO236,Data!$A$6:$A$1806,Data!$J$6:$J$1806)","v":-103},{"$f":"LOOKUP($AO236,Data!$A$6:$A$1806,Data!$K$6:$K$1806)","v":7704.27},{"$f":"(IF((AP236-$L$2)>0,((AP236-$L$2-$L$5)/(($L$4*$L$2)-$L$5)*$L$3*-1),((AP236-$L$2+$L$5)/(($L$4*$L$2)-$L$5)*$L$3*-1)))","v":6.3995361328125}]
[null,40098.106041666375,{"$f":"LOOKUP(B237,Data!$A$6:$A$1806,Data!B$6:B$1806)","v":59.991001129150391},{"$f":"LOOKUP(B237,Data!$A$6:$A$1806,Data!C$6:C$1806)","v":3768.633544921875},null,null,null,7.1990966796875,7.4137662039663512,null,null,0.56196009855523055,3770.0514527040323,{"$f":"AVERAGE(D$79:D237)","v":3764.1024745725235},{"$f":"AVERAGE(M$79:M237)","v":3774.791087516588},3762.0743958262665,{"$f":"AVERAGE(P$79:P237)","v":3717.9605280896908},633,null,null,null,null,null,null,0,633,-1238.1637047054983,null,null,null,null,null,null,null,null,null,null,null,null,null,40098.106041666375,{"$f":"LOOKUP($AO237,Data!$A$6:$A$1806,Data!$B$6:$B$1806)","v":59.991001129150391},{"$f":"LOOKUP($AO237,Data!$A$6:$A$1806,Data!$C$6:$C$1806)","v":3768.633544921875},{"$f":"LOOKUP($AO237,Data!$A$6:$A$1806,Data!$D$6:$D$1806)","v":350},{"$f":"IF($AS$1=\"+\",LOOKUP($AO237,Data!$A$6:$A$1806,Data!$E$6:$E$1806)*-1,LOOKUP($AO237,Data!$A$6:$A$1806,Data!$E$6:$E$1806))","v":243.07185363769531},{"$f":"LOOKUP($AO237,Data!$A$6:$A$1806,Data!$F$6:$F$1806)","v":16},{"$f":"LOOKUP($AO237,Data!$A$6:$A$1806,Data!$G$6:$G$1806)","v":310},{"$f":"LOOKUP($AO237,Data!$A$6:$A$1806,Data!$H$6:$H$1806)","v":10},{"$f":"LOOKUP($AO237,Data!$A$6:$A$1806,Data!$I$6:$I$1806)","v":0},{"$f":"LOOKUP($AO237,Data!$A$6:$A$1806,Data!$J$6:$J$1806)","v":-103},{"$f":"LOOKUP($AO237,Data!$A$6:$A$1806,Data!$K$6:$K$1806)","v":7704.6},7.1990966796875]
[null,{"$f":"B237+TIME(0,0,$B$1)","v":40098.106064814521},{"$f":"LOOKUP(B238,Data!$A$6:$A$1806,Data!B$6:B$1806)","v":59.988998413085937},{"$f":"LOOKUP(B238,Data!$A$6:$A$1806,Data!C$6:C$1806)","v":3771.146484375},null,null,null,8.80126953125,7.8993923685156284,null,null,0.56196009855523055,3771.0990389671365,{"$f":"AVERAGE(D$79:D238)","v":3764.1464996337891},{"$f":"AVERAGE(M$79:M238)","v":3774.7680122131542},3762.6363559248216,{"$f":"AVERAGE(P$79:P238)","v":3718.2415081389677},633,null,null,null,null,null,null,0,633,-1191.4887726069201,null,null,null,null,null,null,null,null,null,null,null,null,null,40098.106064814521,{"$f":"LOOKUP($AO238,Data!$A$6:$A$1806,Data!$B$6:$B$1806)","v":59.988998413085937},{"$f":"LOOKUP($AO238,Data!$A$6:$A$1806,Data!$C$6:$C$1806)","v":3771.146484375},{"$f":"LOOKUP($AO238,Data!$A$6:$A$1806,Data!$D$6:$D$1806)","v":350},{"$f":"IF($AS$1=\"+\",LOOKUP($AO238,Data!$A$6:$A$1806,Data!$E$6:$E$1806)*-1,LOOKUP($AO238,Data!$A$6:$A$1806,Data!$E$6:$E$1806))","v":243.07185363769531},{"$f":"LOOKUP($AO238,Data!$A$6:$A$1806,Data!$F$6:$F$1806)","v":16},{"$f":"LOOKUP($AO238,Data!$A$6:$A$1806,Data!$G$6:$G$1806)","v":310.5},{"$f":"LOOKUP($AO238,Data!$A$6:$A$1806,Data!$H$6:$H$1806)","v":10},{"$f":"LOOKUP($AO238,Data!$A$6:$A$1806,Data!$I$6:$I$1806)","v":0},{"$f":"LOOKUP($AO238,Data!$A$6:$A$1806,Data!$J$6:$J$1806)","v":-103},{"$f":"LOOKUP($AO238,Data!$A$6:$A$1806,Data!$K$6:$K$1806)","v":7704.93},8.80126953125]
[null,40098.106087962668,{"$f":"LOOKUP(B239,Data!$A$6:$A$1806,Data!B$6:B$1806)","v":59.986000061035156},{"$f":"LOOKUP(B239,Data!$A$6:$A$1806,Data!C$6:C$1806)","v":3772.444580078125},null,null,null,11.199951171875,9.0545879496914079,null,null,0.56196009855523055,3772.8161946468672,{"$f":"AVERAGE(D$79:D239)","v":3764.198040506114},{"$f":"AVERAGE(M$79:M239)","v":3774.7558891226804},3763.1983160233767,{"$f":"AVERAGE(P$79:P239)","v":3718.522488188245},633,null,null,null,null,null,null,0,633,-1127.8363474168034,null,null,null,null,null,null,null,null,null,null,null,null,null,40098.106087962668,{"$f":"LOOKUP($AO239,Data!$A$6:$A$1806,Data!$B$6:$B$1806)","v":59.986000061035156},{"$f":"LOOKUP($AO239,Data!$A$6:$A$1806,Data!$C$6:$C$1806)","v":3772.444580078125},{"$f":"LOOKUP($AO239,Data!$A$6:$A$1806,Data!$D$6:$D$1806)","v":350},{"$f":"IF($AS$1=\"+\",LOOKUP($AO239,Data!$A$6:$A$1806,Data!$E$6:$E$1806)*-1,LOOKUP($AO239,Data!$A$6:$A$1806,Data!$E$6:$E$1806))","v":243.07185363769531},{"$f":"LOOKUP($AO239,Data!$A$6:$A$1806,Data!$F$6:$F$1806)","v":16},{"$f":"LOOKUP($AO239,Data!$A$6:$A$1806,Data!$G$6:$G$1806)","v":311},{"$f":"LOOKUP($AO239,Data!$A$6:$A$1806,Data!$H$6:$H$1806)","v":10},{"$f":"LOOKUP($AO239,Data!$A$6:$A$1806,Data!$I$6:$I$1806)","v":0},{"$f":"LOOKUP($AO239,Data!$A$6:$A$1806,Data!$J$6:$J$1806)","v":-103},{"$f":"LOOKUP($AO239,Data!$A$6:$A$1806,Data!$K$6:$K$1806)","v":7705.26},11.199951171875]
[null,40098.106111110814,{"$f":"LOOKUP(B240,Data!$A$6:$A$1806,Data!B$6:B$1806)","v":59.983001708984375},{"$f":"LOOKUP(B240,Data!$A$6:$A$1806,Data!C$6:C$1806)","v":3773.69482421875},null,null,null,13.5986328125,10.645003651674415,null,null,0.56196009855523055,3774.9685704474055,{"$f":"AVERAGE(D$79:D240)","v":3764.2566626277971},{"$f":"AVERAGE(M$79:M240)","v":3774.7572019703639},3763.7602761219318,{"$f":"AVERAGE(P$79:P240)","v":3718.8034682375223},633,null,null,null,null,null,null,0,633,-1070.639978708132,null,null,null,null,null,null,null,null,null,null,null,null,null,40098.106111110814,{"$f":"LOOKUP($AO240,Data!$A$6:$A$1806,Data!$B$6:$B$1806)","v":59.983001708984375},{"$f":"LOOKUP($AO240,Data!$A$6:$A$1806,Data!$C$6:$C$1806)","v":3773.69482421875},{"$f":"LOOKUP($AO240,Data!$A$6:$A$1806,Data!$D$6:$D$1806)","v":350},{"$f":"IF($AS$1=\"+\",LOOKUP($AO240,Data!$A$6:$A$1806,Data!$E$6:$E$1806)*-1,LOOKUP($AO240,Data!$A$6:$A$1806,Data!$E$6:$E$1806))","v":241.67021179199219},{"$f":"LOOKUP($AO240,Data!$A$6:$A$1806,Data!$F$6:$F$1806)","v":16},{"$f":"LOOKUP($AO240,Data!$A$6:$A$1806,Data!$G$6:$G$1806)","v":311.5},{"$f":"LOOKUP($AO240,Data!$A$6:$A$1806,Data!$H$6:$H$1806)","v":10},{"$f":"LOOKUP($AO240,Data!$A$6:$A$1806,Data!$I$6:$I$1806)","v":0},{"$f":"LOOKUP($AO240,Data!$A$6:$A$1806,Data!$J$6:$J$1806)","v":-103},{"$f":"LOOKUP($AO240,Data!$A$6:$A$1806,Data!$K$6:$K$1806)","v":7705.59},13.5986328125]
[null,40098.10613425896,{"$f":"LOOKUP(B241,Data!$A$6:$A$1806,Data!B$6:B$1806)","v":59.983001708984375},{"$f":"LOOKUP(B241,Data!$A$6:$A$1806,Data!C$6:C$1806)","v":3774.66845703125},null,null,null,13.5986328125,11.678773857963371,null,null,0.56196009855523055,3776.5643007522494,{"$f":"AVERAGE(D$79:D241)","v":3764.320538667082},{"$f":"AVERAGE(M$79:M241)","v":3774.768288465958},3764.322236220487,{"$f":"AVERAGE(P$79:P241)","v":3719.0844482868001},633,null,null,null,null,null,null,0,633,-1070.639978708132,null,null,null,null,null,null,null,null,null,null,null,null,null,40098.10613425896,{"$f":"LOOKUP($AO241,Data!$A$6:$A$1806,Data!$B$6:$B$1806)","v":59.983001708984375},{"$f":"LOOKUP($AO241,Data!$A$6:$A$1806,Data!$C$6:$C$1806)","v":3774.66845703125},{"$f":"LOOKUP($AO241,Data!$A$6:$A$1806,Data!$D$6:$D$1806)","v":350},{"$f":"IF($AS$1=\"+\",LOOKUP($AO241,Data!$A$6:$A$1806,Data!$E$6:$E$1806)*-1,LOOKUP($AO241,Data!$A$6:$A$1806,Data!$E$6:$E$1806))","v":241.67021179199219},{"$f":"LOOKUP($AO241,Data!$A$6:$A$1806,Data!$F$6:$F$1806)","v":16},{"$f":"LOOKUP($AO241,Data!$A$6:$A$1806,Data!$G$6:$G$1806)","v":312},{"$f":"LOOKUP($AO241,Data!$A$6:$A$1806,Data!$H$6:$H$1806)","v":10},{"$f":"LOOKUP($AO241,Data!$A$6:$A$1806,Data!$I$6:$I$1806)","v":0},{"$f":"LOOKUP($AO241,Data!$A$6:$A$1806,Data!$J$6:$J$1806)","v":-103},{"$f":"LOOKUP($AO241,Data!$A$6:$A$1806,Data!$K$6:$K$1806)","v":7705.92},13.5986328125]
[null,40098.106157407106,{"$f":"LOOKUP(B242,Data!$A$6:$A$1806,Data!B$6:B$1806)","v":59.987998962402344},{"$f":"LOOKUP(B242,Data!$A$6:$A$1806,Data!C$6:C$1806)","v":3775.8408203125},null,null,null,9.600830078125,10.951493535019942,null,null,0.56196009855523055,3776.3989805278611,{"$f":"AVERAGE(D$79:D242)","v":3764.3907842868712},{"$f":"AVERAGE(M$79:M242)","v":3774.7782317102383},3764.8841963190421,{"$f":"AVERAGE(P$79:P242)","v":3719.3654283360775},633,null,null,null,null,null,null,0,633,-1169.4877289425694,null,null,null,null,null,null,null,null,null,null,null,null,null,40098.106157407106,{"$f":"LOOKUP($AO242,Data!$A$6:$A$1806,Data!$B$6:$B$1806)","v":59.987998962402344},{"$f":"LOOKUP($AO242,Data!$A$6:$A$1806,Data!$C$6:$C$1806)","v":3775.8408203125},{"$f":"LOOKUP($AO242,Data!$A$6:$A$1806,Data!$D$6:$D$1806)","v":350},{"$f":"IF($AS$1=\"+\",LOOKUP($AO242,Data!$A$6:$A$1806,Data!$E$6:$E$1806)*-1,LOOKUP($AO242,Data!$A$6:$A$1806,Data!$E$6:$E$1806))","v":241.67021179199219},{"$f":"LOOKUP($AO242,Data!$A$6:$A$1806,Data!$F$6:$F$1806)","v":16},{"$f":"LOOKUP($AO242,Data!$A$6:$A$1806,Data!$G$6:$G$1806)","v":312.5},{"$f":"LOOKUP($AO242,Data!$A$6:$A$1806,Data!$H$6:$H$1806)","v":10},{"$f":"LOOKUP($AO242,Data!$A$6:$A$1806,Data!$I$6:$I$1806)","v":0},{"$f":"LOOKUP($AO242,Data!$A$6:$A$1806,Data!$J$6:$J$1806)","v":-103},{"$f":"LOOKUP($AO242,Data!$A$6:$A$1806,Data!$K$6:$K$1806)","v":7706.25},9.600830078125]
[null,40098.106180555253,{"$f":"LOOKUP(B243,Data!$A$6:$A$1806,Data!B$6:B$1806)","v":59.993000030517578},{"$f":"LOOKUP(B243,Data!$A$6:$A$1806,Data!C$6:C$1806)","v":3775.36328125},null,null,null,5.5999755859375,9.0784622528410868,null,null,0.56196009855523055,3775.0879093442372,{"$f":"AVERAGE(D$79:D243)","v":3764.4572842684661},{"$f":"AVERAGE(M$79:M243)","v":3774.7801085443834},3765.4461564175972,{"$f":"AVERAGE(P$79:P243)","v":3719.6464083853552},633,null,null,null,null,null,null,0,633,-1288.5445153024082,null,null,null,null,null,null,null,null,null,null,null,null,null,40098.106180555253,{"$f":"LOOKUP($AO243,Data!$A$6:$A$1806,Data!$B$6:$B$1806)","v":59.993000030517578},{"$f":"LOOKUP($AO243,Data!$A$6:$A$1806,Data!$C$6:$C$1806)","v":3775.36328125},{"$f":"LOOKUP($AO243,Data!$A$6:$A$1806,Data!$D$6:$D$1806)","v":350},{"$f":"IF($AS$1=\"+\",LOOKUP($AO243,Data!$A$6:$A$1806,Data!$E$6:$E$1806)*-1,LOOKUP($AO243,Data!$A$6:$A$1806,Data!$E$6:$E$1806))","v":241.67021179199219},{"$f":"LOOKUP($AO243,Data!$A$6:$A$1806,Data!$F$6:$F$1806)","v":16},{"$f":"LOOKUP($AO243,Data!$A$6:$A$1806,Data!$G$6:$G$1806)","v":313},{"$f":"LOOKUP($AO243,Data!$A$6:$A$1806,Data!$H$6:$H$1806)","v":10},{"$f":"LOOKUP($AO243,Data!$A$6:$A$1806,Data!$I$6:$I$1806)","v":0},{"$f":"LOOKUP($AO243,Data!$A$6:$A$1806,Data!$J$6:$J$1806)","v":-103},{"$f":"LOOKUP($AO243,Data!$A$6:$A$1806,Data!$K$6:$K$1806)","v":7706.58},5.5999755859375]
[null,40098.106203703399,{"$f":"LOOKUP(B244,Data!$A$6:$A$1806,Data!B$6:B$1806)","v":59.995998382568359},{"$f":"LOOKUP(B244,Data!$A$6:$A$1806,Data!C$6:C$1806)","v":3774.8662109375},null,null,null,3.2012939453125,7.0214533452060817,null,null,0,3773.0309004366022,{"$f":"AVERAGE(D$79:D244)","v":3764.51998864599},{"$f":"AVERAGE(M$79:M244)","v":3774.7695711461438},3765.4461564175972,{"$f":"AVERAGE(P$79:P244)","v":3719.9239826158537},633,null,null,null,null,null,null,0,633,-1372.3029058768802,null,null,null,null,null,null,null,null,null,null,null,null,null,40098.106203703399,{"$f":"LOOKUP($AO244,Data!$A$6:$A$1806,Data!$B$6:$B$1806)","v":59.995998382568359},{"$f":"LOOKUP($AO244,Data!$A$6:$A$1806,Data!$C$6:$C$1806)","v":3774.8662109375},{"$f":"LOOKUP($AO244,Data!$A$6:$A$1806,Data!$D$6:$D$1806)","v":350},{"$f":"IF($AS$1=\"+\",LOOKUP($AO244,Data!$A$6:$A$1806,Data!$E$6:$E$1806)*-1,LOOKUP($AO244,Data!$A$6:$A$1806,Data!$E$6:$E$1806))","v":241.67021179199219},{"$f":"LOOKUP($AO244,Data!$A$6:$A$1806,Data!$F$6:$F$1806)","v":16},{"$f":"LOOKUP($AO244,Data!$A$6:$A$1806,Data!$G$6:$G$1806)","v":313.5},{"$f":"LOOKUP($AO244,Data!$A$6:$A$1806,Data!$H$6:$H$1806)","v":10},{"$f":"LOOKUP($AO244,Data!$A$6:$A$1806,Data!$I$6:$I$1806)","v":0},{"$f":"LOOKUP($AO244,Data!$A$6:$A$1806,Data!$J$6:$J$1806)","v":-103},{"$f":"LOOKUP($AO244,Data!$A$6:$A$1806,Data!$K$6:$K$1806)","v":7706.91},3.2012939453125]
[null,40098.106226851545,{"$f":"LOOKUP(B245,Data!$A$6:$A$1806,Data!B$6:B$1806)","v":59.998001098632813},{"$f":"LOOKUP(B245,Data!$A$6:$A$1806,Data!C$6:C$1806)","v":3775.49169921875},null,null,null,1.59912109375,5.1236370571964533,null,null,0,3771.1330841485924,{"$f":"AVERAGE(D$79:D245)","v":3764.5856875116951},{"$f":"AVERAGE(M$79:M245)","v":3774.7477957749011},3765.4461564175972,{"$f":"AVERAGE(P$79:P245)","v":3720.1982125785148},633,null,null,null,null,null,null,0,633,-1434.5893078294698,null,null,null,null,null,null,null,null,null,null,null,null,null,40098.106226851545,{"$f":"LOOKUP($AO245,Data!$A$6:$A$1806,Data!$B$6:$B$1806)","v":59.998001098632813},{"$f":"LOOKUP($AO245,Data!$A$6:$A$1806,Data!$C$6:$C$1806)","v":3775.49169921875},{"$f":"LOOKUP($AO245,Data!$A$6:$A$1806,Data!$D$6:$D$1806)","v":350},{"$f":"IF($AS$1=\"+\",LOOKUP($AO245,Data!$A$6:$A$1806,Data!$E$6:$E$1806)*-1,LOOKUP($AO245,Data!$A$6:$A$1806,Data!$E$6:$E$1806))","v":228.14930725097656},{"$f":"LOOKUP($AO245,Data!$A$6:$A$1806,Data!$F$6:$F$1806)","v":16},{"$f":"LOOKUP($AO245,Data!$A$6:$A$1806,Data!$G$6:$G$1806)","v":314},{"$f":"LOOKUP($AO245,Data!$A$6:$A$1806,Data!$H$6:$H$1806)","v":10},{"$f":"LOOKUP($AO245,Data!$A$6:$A$1806,Data!$I$6:$I$1806)","v":0},{"$f":"LOOKUP($AO245,Data!$A$6:$A$1806,Data!$J$6:$J$1806)","v":-103},{"$f":"LOOKUP($AO245,Data!$A$6:$A$1806,Data!$K$6:$K$1806)","v":7707.24},1.59912109375]
[null,40098.106249999691,{"$f":"LOOKUP(B246,Data!$A$6:$A$1806,Data!B$6:B$1806)","v":59.999000549316406},{"$f":"LOOKUP(B246,Data!$A$6:$A$1806,Data!C$6:C$1806)","v":3776.420166015625},null,null,null,0.799560546875,3.6102102785839447,null,null,0,3769.6196573699799,{"$f":"AVERAGE(D$79:D246)","v":3764.6561308361233},{"$f":"AVERAGE(M$79:M246)","v":3774.7172711415387},3765.4461564175972,{"$f":"AVERAGE(P$79:P246)","v":3720.4691583500062},633,null,null,null,null,null,null,0,633,-1467.83712336492,null,null,null,null,null,null,null,null,null,null,null,null,null,40098.106249999691,{"$f":"LOOKUP($AO246,Data!$A$6:$A$1806,Data!$B$6:$B$1806)","v":59.999000549316406},{"$f":"LOOKUP($AO246,Data!$A$6:$A$1806,Data!$C$6:$C$1806)","v":3776.420166015625},{"$f":"LOOKUP($AO246,Data!$A$6:$A$1806,Data!$D$6:$D$1806)","v":350},{"$f":"IF($AS$1=\"+\",LOOKUP($AO246,Data!$A$6:$A$1806,Data!$E$6:$E$1806)*-1,LOOKUP($AO246,Data!$A$6:$A$1806,Data!$E$6:$E$1806))","v":228.14930725097656},{"$f":"LOOKUP($AO246,Data!$A$6:$A$1806,Data!$F$6:$F$1806)","v":16},{"$f":"LOOKUP($AO246,Data!$A$6:$A$1806,Data!$G$6:$G$1806)","v":314.5},{"$f":"LOOKUP($AO246,Data!$A$6:$A$1806,Data!$H$6:$H$1806)","v":10},{"$f":"LOOKUP($AO246,Data!$A$6:$A$1806,Data!$I$6:$I$1806)","v":0},{"$f":"LOOKUP($AO246,Data!$A$6:$A$1806,Data!$J$6:$J$1806)","v":-103},{"$f":"LOOKUP($AO246,Data!$A$6:$A$1806,Data!$K$6:$K$1806)","v":7707.57},0.799560546875]
[null,40098.106273147838,{"$f":"LOOKUP(B247,Data!$A$6:$A$1806,Data!B$6:B$1806)","v":60.000999450683594},{"$f":"LOOKUP(B247,Data!$A$6:$A$1806,Data!C$6:C$1806)","v":3778.5537109375},null,null,null,-0.799560546875,2.066790489673314,null,null,0,3768.0762375810691,{"$f":"AVERAGE(D$79:D247)","v":3764.738365037907},{"$f":"AVERAGE(M$79:M247)","v":3774.6779750849682},3765.4461564175972,{"$f":"AVERAGE(P$79:P247)","v":3720.7368785765989},633,null,null,null,null,null,null,0,633,-1539.1807436780409,null,null,null,null,null,null,null,null,null,null,null,null,null,40098.106273147838,{"$f":"LOOKUP($AO247,Data!$A$6:$A$1806,Data!$B$6:$B$1806)","v":60.000999450683594},{"$f":"LOOKUP($AO247,Data!$A$6:$A$1806,Data!$C$6:$C$1806)","v":3778.5537109375},{"$f":"LOOKUP($AO247,Data!$A$6:$A$1806,Data!$D$6:$D$1806)","v":350},{"$f":"IF($AS$1=\"+\",LOOKUP($AO247,Data!$A$6:$A$1806,Data!$E$6:$E$1806)*-1,LOOKUP($AO247,Data!$A$6:$A$1806,Data!$E$6:$E$1806))","v":228.14930725097656},{"$f":"LOOKUP($AO247,Data!$A$6:$A$1806,Data!$F$6:$F$1806)","v":16},{"$f":"LOOKUP($AO247,Data!$A$6:$A$1806,Data!$G$6:$G$1806)","v":315},{"$f":"LOOKUP($AO247,Data!$A$6:$A$1806,Data!$H$6:$H$1806)","v":10},{"$f":"LOOKUP($AO247,Data!$A$6:$A$1806,Data!$I$6:$I$1806)","v":0},{"$f":"LOOKUP($AO247,Data!$A$6:$A$1806,Data!$J$6:$J$1806)","v":-103},{"$f":"LOOKUP($AO247,Data!$A$6:$A$1806,Data!$K$6:$K$1806)","v":7707.9},-0.799560546875]
[null,40098.106296295984,{"$f":"LOOKUP(B248,Data!$A$6:$A$1806,Data!B$6:B$1806)","v":59.999000549316406},{"$f":"LOOKUP(B248,Data!$A$6:$A$1806,Data!C$6:C$1806)","v":3779.69189453125},null,null,null,0.799560546875,1.6232600096939043,null,null,0,3767.6327071010896,{"$f":"AVERAGE(D$79:D248)","v":3764.8263269761028},{"$f":"AVERAGE(M$79:M248)","v":3774.6365323321215},3765.4461564175972,{"$f":"AVERAGE(P$79:P248)","v":3721.0014305164868},633,null,null,null,null,null,null,0,633,-1467.83712336492,null,null,null,null,null,null,null,null,null,null,null,null,null,40098.106296295984,{"$f":"LOOKUP($AO248,Data!$A$6:$A$1806,Data!$B$6:$B$1806)","v":59.999000549316406},{"$f":"LOOKUP($AO248,Data!$A$6:$A$1806,Data!$C$6:$C$1806)","v":3779.69189453125},{"$f":"LOOKUP($AO248,Data!$A$6:$A$1806,Data!$D$6:$D$1806)","v":350},{"$f":"IF($AS$1=\"+\",LOOKUP($AO248,Data!$A$6:$A$1806,Data!$E$6:$E$1806)*-1,LOOKUP($AO248,Data!$A$6:$A$1806,Data!$E$6:$E$1806))","v":228.14930725097656},{"$f":"LOOKUP($AO248,Data!$A$6:$A$1806,Data!$F$6:$F$1806)","v":16},{"$f":"LOOKUP($AO248,Data!$A$6:$A$1806,Data!$G$6:$G$1806)","v":315.5},{"$f":"LOOKUP($AO248,Data!$A$6:$A$1806,Data!$H$6:$H$1806)","v":10},{"$f":"LOOKUP($AO248,Data!$A$6:$A$1806,Data!$I$6:$I$1806)","v":0},{"$f":"LOOKUP($AO248,Data!$A$6:$A$1806,Data!$J$6:$J$1806)","v":-103},{"$f":"LOOKUP($AO248,Data!$A$6:$A$1806,Data!$K$6:$K$1806)","v":7708.23},0.799560546875]
[null,40098.10631944413,{"$f":"LOOKUP(B249,Data!$A$6:$A$1806,Data!B$6:B$1806)","v":59.999000549316406},{"$f":"LOOKUP(B249,Data!$A$6:$A$1806,Data!C$6:C$1806)","v":3781.255859375},null,null,null,0.799560546875,1.3349651977072878,null,null,0,3767.3444122891028,{"$f":"AVERAGE(D$79:D249)","v":3764.9224061129385},{"$f":"AVERAGE(M$79:M249)","v":3774.5938883552617},3765.4461564175972,{"$f":"AVERAGE(P$79:P249)","v":3721.2628700806108},633,null,null,null,null,null,null,0,633,-1467.83712336492,null,null,null,null,null,null,null,null,null,null,null,null,null,40098.10631944413,{"$f":"LOOKUP($AO249,Data!$A$6:$A$1806,Data!$B$6:$B$1806)","v":59.999000549316406},{"$f":"LOOKUP($AO249,Data!$A$6:$A$1806,Data!$C$6:$C$1806)","v":3781.255859375},{"$f":"LOOKUP($AO249,Data!$A$6:$A$1806,Data!$D$6:$D$1806)","v":350},{"$f":"IF($AS$1=\"+\",LOOKUP($AO249,Data!$A$6:$A$1806,Data!$E$6:$E$1806)*-1,LOOKUP($AO249,Data!$A$6:$A$1806,Data!$E$6:$E$1806))","v":228.14930725097656},{"$f":"LOOKUP($AO249,Data!$A$6:$A$1806,Data!$F$6:$F$1806)","v":16},{"$f":"LOOKUP($AO249,Data!$A$6:$A$1806,Data!$G$6:$G$1806)","v":316},{"$f":"LOOKUP($AO249,Data!$A$6:$A$1806,Data!$H$6:$H$1806)","v":10},{"$f":"LOOKUP($AO249,Data!$A$6:$A$1806,Data!$I$6:$I$1806)","v":0},{"$f":"LOOKUP($AO249,Data!$A$6:$A$1806,Data!$J$6:$J$1806)","v":-103},{"$f":"LOOKUP($AO249,Data!$A$6:$A$1806,Data!$K$6:$K$1806)","v":7708.56},0.799560546875]
[null,40098.106342592277,{"$f":"LOOKUP(B250,Data!$A$6:$A$1806,Data!B$6:B$1806)","v":59.999000549316406},{"$f":"LOOKUP(B250,Data!$A$6:$A$1806,Data!C$6:C$1806)","v":3780.594970703125},null,null,null,0.799560546875,1.1475735699159872,null,null,0,3767.1570206613114,{"$f":"AVERAGE(D$79:D250)","v":3765.0135256745093},{"$f":"AVERAGE(M$79:M250)","v":3774.5506507523896},3765.4461564175972,{"$f":"AVERAGE(P$79:P250)","v":3721.5212518720555},633,null,null,null,null,null,null,0,633,-1467.83712336492,null,null,null,null,null,null,null,null,null,null,null,null,null,40098.106342592277,{"$f":"LOOKUP($AO250,Data!$A$6:$A$1806,Data!$B$6:$B$1806)","v":59.999000549316406},{"$f":"LOOKUP($AO250,Data!$A$6:$A$1806,Data!$C$6:$C$1806)","v":3780.594970703125},{"$f":"LOOKUP($AO250,Data!$A$6:$A$1806,Data!$D$6:$D$1806)","v":350},{"$f":"IF($AS$1=\"+\",LOOKUP($AO250,Data!$A$6:$A$1806,Data!$E$6:$E$1806)*-1,LOOKUP($AO250,Data!$A$6:$A$1806,Data!$E$6:$E$1806))","v":235.12898254394531},{"$f":"LOOKUP($AO250,Data!$A$6:$A$1806,Data!$F$6:$F$1806)","v":16},{"$f":"LOOKUP($AO250,Data!$A$6:$A$1806,Data!$G$6:$G$1806)","v":316.5},{"$f":"LOOKUP($AO250,Data!$A$6:$A$1806,Data!$H$6:$H$1806)","v":10},{"$f":"LOOKUP($AO250,Data!$A$6:$A$1806,Data!$I$6:$I$1806)","v":0},{"$f":"LOOKUP($AO250,Data!$A$6:$A$1806,Data!$J$6:$J$1806)","v":-103},{"$f":"LOOKUP($AO250,Data!$A$6:$A$1806,Data!$K$6:$K$1806)","v":7708.89},0.799560546875]
[null,40098.106365740423,{"$f":"LOOKUP(B251,Data!$A$6:$A$1806,Data!B$6:B$1806)","v":60.001998901367188},{"$f":"LOOKUP(B251,Data!$A$6:$A$1806,Data!C$6:C$1806)","v":3783.092041015625},null,null,null,-1.59912109375,0.18623043763289171,null,null,0,3766.1956775290282,{"$f":"AVERAGE(D$79:D251)","v":3765.1180257631863},{"$f":"AVERAGE(M$79:M251)","v":3774.5023561094799},3765.4461564175972,{"$f":"AVERAGE(P$79:P251)","v":3721.7766292240644},633,null,null,null,null,null,null,0,633,-1577.5180520730592,null,null,null,null,null,null,null,null,null,null,null,null,null,40098.106365740423,{"$f":"LOOKUP($AO251,Data!$A$6:$A$1806,Data!$B$6:$B$1806)","v":60.001998901367188},{"$f":"LOOKUP($AO251,Data!$A$6:$A$1806,Data!$C$6:$C$1806)","v":3783.092041015625},{"$f":"LOOKUP($AO251,Data!$A$6:$A$1806,Data!$D$6:$D$1806)","v":350},{"$f":"IF($AS$1=\"+\",LOOKUP($AO251,Data!$A$6:$A$1806,Data!$E$6:$E$1806)*-1,LOOKUP($AO251,Data!$A$6:$A$1806,Data!$E$6:$E$1806))","v":235.12898254394531},{"$f":"LOOKUP($AO251,Data!$A$6:$A$1806,Data!$F$6:$F$1806)","v":16},{"$f":"LOOKUP($AO251,Data!$A$6:$A$1806,Data!$G$6:$G$1806)","v":317},{"$f":"LOOKUP($AO251,Data!$A$6:$A$1806,Data!$H$6:$H$1806)","v":10},{"$f":"LOOKUP($AO251,Data!$A$6:$A$1806,Data!$I$6:$I$1806)","v":0},{"$f":"LOOKUP($AO251,Data!$A$6:$A$1806,Data!$J$6:$J$1806)","v":-103},{"$f":"LOOKUP($AO251,Data!$A$6:$A$1806,Data!$K$6:$K$1806)","v":7709.22},-1.59912109375]
[null,40098.106388888569,{"$f":"LOOKUP(B252,Data!$A$6:$A$1806,Data!B$6:B$1806)","v":60.005001068115234},{"$f":"LOOKUP(B252,Data!$A$6:$A$1806,Data!C$6:C$1806)","v":3783.8955078125},null,null,null,-4.0008544921875,-1.2792492878042454,null,null,0,3764.7301978035912,{"$f":"AVERAGE(D$79:D252)","v":3765.2259423266883},{"$f":"AVERAGE(M$79:M252)","v":3774.4461942801358},3765.4461564175972,{"$f":"AVERAGE(P$79:P252)","v":3722.0290542367438},633,null,null,null,null,null,null,0,633,-1705.0892248410507,null,null,null,null,null,null,null,null,null,null,null,null,null,40098.106388888569,{"$f":"LOOKUP($AO252,Data!$A$6:$A$1806,Data!$B$6:$B$1806)","v":60.005001068115234},{"$f":"LOOKUP($AO252,Data!$A$6:$A$1806,Data!$C$6:$C$1806)","v":3783.8955078125},{"$f":"LOOKUP($AO252,Data!$A$6:$A$1806,Data!$D$6:$D$1806)","v":350},{"$f":"IF($AS$1=\"+\",LOOKUP($AO252,Data!$A$6:$A$1806,Data!$E$6:$E$1806)*-1,LOOKUP($AO252,Data!$A$6:$A$1806,Data!$E$6:$E$1806))","v":235.12898254394531},{"$f":"LOOKUP($AO252,Data!$A$6:$A$1806,Data!$F$6:$F$1806)","v":16},{"$f":"LOOKUP($AO252,Data!$A$6:$A$1806,Data!$G$6:$G$1806)","v":317.5},{"$f":"LOOKUP($AO252,Data!$A$6:$A$1806,Data!$H$6:$H$1806)","v":10},{"$f":"LOOKUP($AO252,Data!$A$6:$A$1806,Data!$I$6:$I$1806)","v":0},{"$f":"LOOKUP($AO252,Data!$A$6:$A$1806,Data!$J$6:$J$1806)","v":-103},{"$f":"LOOKUP($AO252,Data!$A$6:$A$1806,Data!$K$6:$K$1806)","v":7709.55},-4.0008544921875]
[null,40098.106412036715,{"$f":"LOOKUP(B253,Data!$A$6:$A$1806,Data!B$6:B$1806)","v":60.006999969482422},{"$f":"LOOKUP(B253,Data!$A$6:$A$1806,Data!C$6:C$1806)","v":3784.4208984375},null,null,null,-5.5999755859375,-2.7915034921508841,null,null,0,3763.2179435992443,{"$f":"AVERAGE(D$79:D253)","v":3765.3356277901785},{"$f":"AVERAGE(M$79:M253)","v":3774.3820328476731},3765.4461564175972,{"$f":"AVERAGE(P$79:P253)","v":3722.2785778124958},633,null,null,null,null,null,null,0,633,-1802.1221182954807,null,null,null,null,null,null,null,null,null,null,null,null,null,40098.106412036715,{"$f":"LOOKUP($AO253,Data!$A$6:$A$1806,Data!$B$6:$B$1806)","v":60.006999969482422},{"$f":"LOOKUP($AO253,Data!$A$6:$A$1806,Data!$C$6:$C$1806)","v":3784.4208984375},{"$f":"LOOKUP($AO253,Data!$A$6:$A$1806,Data!$D$6:$D$1806)","v":350},{"$f":"IF($AS$1=\"+\",LOOKUP($AO253,Data!$A$6:$A$1806,Data!$E$6:$E$1806)*-1,LOOKUP($AO253,Data!$A$6:$A$1806,Data!$E$6:$E$1806))","v":235.12898254394531},{"$f":"LOOKUP($AO253,Data!$A$6:$A$1806,Data!$F$6:$F$1806)","v":16},{"$f":"LOOKUP($AO253,Data!$A$6:$A$1806,Data!$G$6:$G$1806)","v":318},{"$f":"LOOKUP($AO253,Data!$A$6:$A$1806,Data!$H$6:$H$1806)","v":10},{"$f":"LOOKUP($AO253,Data!$A$6:$A$1806,Data!$I$6:$I$1806)","v":0},{"$f":"LOOKUP($AO253,Data!$A$6:$A$1806,Data!$J$6:$J$1806)","v":-103},{"$f":"LOOKUP($AO253,Data!$A$6:$A$1806,Data!$K$6:$K$1806)","v":7709.88},-5.5999755859375]
[null,40098.106435184862,{"$f":"LOOKUP(B254,Data!$A$6:$A$1806,Data!B$6:B$1806)","v":60.007999420166016},{"$f":"LOOKUP(B254,Data!$A$6:$A$1806,Data!C$6:C$1806)","v":3785.76806640625},null,null,null,-6.3995361328125,-4.0543149163824497,null,null,0,3761.9551321750127,{"$f":"AVERAGE(D$79:D254)","v":3765.4517211914062},{"$f":"AVERAGE(M$79:M254)","v":3774.3114254574875},3765.4461564175972,{"$f":"AVERAGE(P$79:P254)","v":3722.525249690239},633,null,null,null,null,null,null,0,633,-1854.9013036734807,null,null,null,null,null,null,null,null,null,null,null,null,null,40098.106435184862,{"$f":"LOOKUP($AO254,Data!$A$6:$A$1806,Data!$B$6:$B$1806)","v":60.007999420166016},{"$f":"LOOKUP($AO254,Data!$A$6:$A$1806,Data!$C$6:$C$1806)","v":3785.76806640625},{"$f":"LOOKUP($AO254,Data!$A$6:$A$1806,Data!$D$6:$D$1806)","v":350},{"$f":"IF($AS$1=\"+\",LOOKUP($AO254,Data!$A$6:$A$1806,Data!$E$6:$E$1806)*-1,LOOKUP($AO254,Data!$A$6:$A$1806,Data!$E$6:$E$1806))","v":235.12898254394531},{"$f":"LOOKUP($AO254,Data!$A$6:$A$1806,Data!$F$6:$F$1806)","v":16},{"$f":"LOOKUP($AO254,Data!$A$6:$A$1806,Data!$G$6:$G$1806)","v":318.5},{"$f":"LOOKUP($AO254,Data!$A$6:$A$1806,Data!$H$6:$H$1806)","v":10},{"$f":"LOOKUP($AO254,Data!$A$6:$A$1806,Data!$I$6:$I$1806)","v":0},{"$f":"LOOKUP($AO254,Data!$A$6:$A$1806,Data!$J$6:$J$1806)","v":-103},{"$f":"LOOKUP($AO254,Data!$A$6:$A$1806,Data!$K$6:$K$1806)","v":7710.21},-6.3995361328125]
[null,40098.106458333008,{"$f":"LOOKUP(B255,Data!$A$6:$A$1806,Data!B$6:B$1806)","v":60.011001586914063},{"$f":"LOOKUP(B255,Data!$A$6:$A$1806,Data!C$6:C$1806)","v":3785.462646484375},null,null,null,-8.80126953125,-5.7157490315860926,null,null,0,3760.2936980598092,{"$f":"AVERAGE(D$79:D255)","v":3765.5647772665079},{"$f":"AVERAGE(M$79:M255)","v":3774.2322292575009},3765.4461564175972,{"$f":"AVERAGE(P$79:P255)","v":3722.769118478463},633,null,null,null,null,null,null,0,633,-2033.8239279312406,null,null,null,null,null,null,null,null,null,null,null,null,null,40098.106458333008,{"$f":"LOOKUP($AO255,Data!$A$6:$A$1806,Data!$B$6:$B$1806)","v":60.011001586914063},{"$f":"LOOKUP($AO255,Data!$A$6:$A$1806,Data!$C$6:$C$1806)","v":3785.462646484375},{"$f":"LOOKUP($AO255,Data!$A$6:$A$1806,Data!$D$6:$D$1806)","v":350},{"$f":"IF($AS$1=\"+\",LOOKUP($AO255,Data!$A$6:$A$1806,Data!$E$6:$E$1806)*-1,LOOKUP($AO255,Data!$A$6:$A$1806,Data!$E$6:$E$1806))","v":246.43313598632812},{"$f":"LOOKUP($AO255,Data!$A$6:$A$1806,Data!$F$6:$F$1806)","v":16},{"$f":"LOOKUP($AO255,Data!$A$6:$A$1806,Data!$G$6:$G$1806)","v":319},{"$f":"LOOKUP($AO255,Data!$A$6:$A$1806,Data!$H$6:$H$1806)","v":10},{"$f":"LOOKUP($AO255,Data!$A$6:$A$1806,Data!$I$6:$I$1806)","v":0},{"$f":"LOOKUP($AO255,Data!$A$6:$A$1806,Data!$J$6:$J$1806)","v":-103},{"$f":"LOOKUP($AO255,Data!$A$6:$A$1806,Data!$K$6:$K$1806)","v":7710.54},-8.80126953125]
[null,40098.106481481154,{"$f":"LOOKUP(B256,Data!$A$6:$A$1806,Data!B$6:B$1806)","v":60.013999938964844},{"$f":"LOOKUP(B256,Data!$A$6:$A$1806,Data!C$6:C$1806)","v":3786.850341796875},null,null,null,-11.199951171875,-7.6352197806872102,null,null,0,3758.3742273107082,{"$f":"AVERAGE(D$79:D256)","v":3765.684359089712},{"$f":"AVERAGE(M$79:M256)","v":3774.1431393589237},3765.4461564175972,{"$f":"AVERAGE(P$79:P256)","v":3723.0102316871585},633,null,null,null,null,null,null,0,633,-2250.6437719342862,null,null,null,null,null,null,null,null,null,null,null,null,null,40098.106481481154,{"$f":"LOOKUP($AO256,Data!$A$6:$A$1806,Data!$B$6:$B$1806)","v":60.013999938964844},{"$f":"LOOKUP($AO256,Data!$A$6:$A$1806,Data!$C$6:$C$1806)","v":3786.850341796875},{"$f":"LOOKUP($AO256,Data!$A$6:$A$1806,Data!$D$6:$D$1806)","v":350},{"$f":"IF($AS$1=\"+\",LOOKUP($AO256,Data!$A$6:$A$1806,Data!$E$6:$E$1806)*-1,LOOKUP($AO256,Data!$A$6:$A$1806,Data!$E$6:$E$1806))","v":246.43313598632812},{"$f":"LOOKUP($AO256,Data!$A$6:$A$1806,Data!$F$6:$F$1806)","v":16},{"$f":"LOOKUP($AO256,Data!$A$6:$A$1806,Data!$G$6:$G$1806)","v":319.5},{"$f":"LOOKUP($AO256,Data!$A$6:$A$1806,Data!$H$6:$H$1806)","v":10},{"$f":"LOOKUP($AO256,Data!$A$6:$A$1806,Data!$I$6:$I$1806)","v":0},{"$f":"LOOKUP($AO256,Data!$A$6:$A$1806,Data!$J$6:$J$1806)","v":-103},{"$f":"LOOKUP($AO256,Data!$A$6:$A$1806,Data!$K$6:$K$1806)","v":7710.87},-11.199951171875]
[null,40098.106504629301,{"$f":"LOOKUP(B257,Data!$A$6:$A$1806,Data!B$6:B$1806)","v":60.016998291015625},{"$f":"LOOKUP(B257,Data!$A$6:$A$1806,Data!C$6:C$1806)","v":3786.30419921875},null,null,null,-13.5986328125,-9.7224143418216862,null,null,0,3756.2870327495739,{"$f":"AVERAGE(D$79:D257)","v":3765.7995537273046},{"$f":"AVERAGE(M$79:M257)","v":3774.0433845733969},3765.4461564175972,{"$f":"AVERAGE(P$79:P257)","v":3723.2486357586777},633,null,null,null,null,null,null,0,633,-2519.2090634785086,null,null,null,null,null,null,null,null,null,null,null,null,null,40098.106504629301,{"$f":"LOOKUP($AO257,Data!$A$6:$A$1806,Data!$B$6:$B$1806)","v":60.016998291015625},{"$f":"LOOKUP($AO257,Data!$A$6:$A$1806,Data!$C$6:$C$1806)","v":3786.30419921875},{"$f":"LOOKUP($AO257,Data!$A$6:$A$1806,Data!$D$6:$D$1806)","v":350},{"$f":"IF($AS$1=\"+\",LOOKUP($AO257,Data!$A$6:$A$1806,Data!$E$6:$E$1806)*-1,LOOKUP($AO257,Data!$A$6:$A$1806,Data!$E$6:$E$1806))","v":246.43313598632812},{"$f":"LOOKUP($AO257,Data!$A$6:$A$1806,Data!$F$6:$F$1806)","v":16},{"$f":"LOOKUP($AO257,Data!$A$6:$A$1806,Data!$G$6:$G$1806)","v":320},{"$f":"LOOKUP($AO257,Data!$A$6:$A$1806,Data!$H$6:$H$1806)","v":10},{"$f":"LOOKUP($AO257,Data!$A$6:$A$1806,Data!$I$6:$I$1806)","v":0},{"$f":"LOOKUP($AO257,Data!$A$6:$A$1806,Data!$J$6:$J$1806)","v":-103},{"$f":"LOOKUP($AO257,Data!$A$6:$A$1806,Data!$K$6:$K$1806)","v":7711.2},-13.5986328125]
[null,40098.106527777447,{"$f":"LOOKUP(B258,Data!$A$6:$A$1806,Data!B$6:B$1806)","v":60.019001007080078},{"$f":"LOOKUP(B258,Data!$A$6:$A$1806,Data!C$6:C$1806)","v":3787.25927734375},null,null,null,-15.2008056640625,-11.639851304605971,null,null,0,3754.3695957867894,{"$f":"AVERAGE(D$79:D258)","v":3765.9187744140627},{"$f":"AVERAGE(M$79:M258)","v":3773.9340857468046},3765.4461564175972,{"$f":"AVERAGE(P$79:P258)","v":3723.4843760975546},633,null,null,null,null,null,null,0,633,-2737.3898669965974,null,null,null,null,null,null,null,null,null,null,null,null,null,40098.106527777447,{"$f":"LOOKUP($AO258,Data!$A$6:$A$1806,Data!$B$6:$B$1806)","v":60.019001007080078},{"$f":"LOOKUP($AO258,Data!$A$6:$A$1806,Data!$C$6:$C$1806)","v":3787.25927734375},{"$f":"LOOKUP($AO258,Data!$A$6:$A$1806,Data!$D$6:$D$1806)","v":350},{"$f":"IF($AS$1=\"+\",LOOKUP($AO258,Data!$A$6:$A$1806,Data!$E$6:$E$1806)*-1,LOOKUP($AO258,Data!$A$6:$A$1806,Data!$E$6:$E$1806))","v":246.43313598632812},{"$f":"LOOKUP($AO258,Data!$A$6:$A$1806,Data!$F$6:$F$1806)","v":16},{"$f":"LOOKUP($AO258,Data!$A$6:$A$1806,Data!$G$6:$G$1806)","v":320.5},{"$f":"LOOKUP($AO258,Data!$A$6:$A$1806,Data!$H$6:$H$1806)","v":10},{"$f":"LOOKUP($AO258,Data!$A$6:$A$1806,Data!$I$6:$I$1806)","v":0},{"$f":"LOOKUP($AO258,Data!$A$6:$A$1806,Data!$J$6:$J$1806)","v":-103},{"$f":"LOOKUP($AO258,Data!$A$6:$A$1806,Data!$K$6:$K$1806)","v":7711.53},-15.2008056640625]
[null,40098.106550925593,{"$f":"LOOKUP(B259,Data!$A$6:$A$1806,Data!B$6:B$1806)","v":60.020999908447266},{"$f":"LOOKUP(B259,Data!$A$6:$A$1806,Data!C$6:C$1806)","v":3787.515869140625},null,null,null,-16.7999267578125,-13.445877713228256,null,null,0,3752.5635693781674,{"$f":"AVERAGE(D$79:D259)","v":3766.0380953794024},{"$f":"AVERAGE(M$79:M259)","v":3773.8160165955969},3765.4461564175972,{"$f":"AVERAGE(P$79:P259)","v":3723.7174970993324},633,null,null,null,null,null,null,0,633,-2996.4047942577254,null,null,null,null,null,null,null,null,null,null,null,null,null,40098.106550925593,{"$f":"LOOKUP($AO259,Data!$A$6:$A$1806,Data!$B$6:$B$1806)","v":60.020999908447266},{"$f":"LOOKUP($AO259,Data!$A$6:$A$1806,Data!$C$6:$C$1806)","v":3787.515869140625},{"$f":"LOOKUP($AO259,Data!$A$6:$A$1806,Data!$D$6:$D$1806)","v":350},{"$f":"IF($AS$1=\"+\",LOOKUP($AO259,Data!$A$6:$A$1806,Data!$E$6:$E$1806)*-1,LOOKUP($AO259,Data!$A$6:$A$1806,Data!$E$6:$E$1806))","v":246.43313598632812},{"$f":"LOOKUP($AO259,Data!$A$6:$A$1806,Data!$F$6:$F$1806)","v":16},{"$f":"LOOKUP($AO259,Data!$A$6:$A$1806,Data!$G$6:$G$1806)","v":321},{"$f":"LOOKUP($AO259,Data!$A$6:$A$1806,Data!$H$6:$H$1806)","v":10},{"$f":"LOOKUP($AO259,Data!$A$6:$A$1806,Data!$I$6:$I$1806)","v":0},{"$f":"LOOKUP($AO259,Data!$A$6:$A$1806,Data!$J$6:$J$1806)","v":-103},{"$f":"LOOKUP($AO259,Data!$A$6:$A$1806,Data!$K$6:$K$1806)","v":7711.86},-16.7999267578125]
[null,40098.106574073739,{"$f":"LOOKUP(B260,Data!$A$6:$A$1806,Data!B$6:B$1806)","v":60.016998291015625},{"$f":"LOOKUP(B260,Data!$A$6:$A$1806,Data!C$6:C$1806)","v":3787.955078125},null,null,null,-13.5986328125,-13.499341997973367,null,null,0,3752.5101050934222,{"$f":"AVERAGE(D$79:D260)","v":3766.1585183615211},{"$f":"AVERAGE(M$79:M260)","v":3773.6989511477832},3765.4461564175972,{"$f":"AVERAGE(P$79:P260)","v":3723.9480421784392},633,null,null,null,null,null,null,0,633,-2519.2090634785086,null,null,null,null,null,null,null,null,null,null,null,null,null,40098.106574073739,{"$f":"LOOKUP($AO260,Data!$A$6:$A$1806,Data!$B$6:$B$1806)","v":60.016998291015625},{"$f":"LOOKUP($AO260,Data!$A$6:$A$1806,Data!$C$6:$C$1806)","v":3787.955078125},{"$f":"LOOKUP($AO260,Data!$A$6:$A$1806,Data!$D$6:$D$1806)","v":350},{"$f":"IF($AS$1=\"+\",LOOKUP($AO260,Data!$A$6:$A$1806,Data!$E$6:$E$1806)*-1,LOOKUP($AO260,Data!$A$6:$A$1806,Data!$E$6:$E$1806))","v":236.55354309082031},{"$f":"LOOKUP($AO260,Data!$A$6:$A$1806,Data!$F$6:$F$1806)","v":16},{"$f":"LOOKUP($AO260,Data!$A$6:$A$1806,Data!$G$6:$G$1806)","v":321.5},{"$f":"LOOKUP($AO260,Data!$A$6:$A$1806,Data!$H$6:$H$1806)","v":10},{"$f":"LOOKUP($AO260,Data!$A$6:$A$1806,Data!$I$6:$I$1806)","v":0},{"$f":"LOOKUP($AO260,Data!$A$6:$A$1806,Data!$J$6:$J$1806)","v":-103},{"$f":"LOOKUP($AO260,Data!$A$6:$A$1806,Data!$K$6:$K$1806)","v":7712.19},-13.5986328125]
[null,40098.106597221886,{"$f":"LOOKUP(B261,Data!$A$6:$A$1806,Data!B$6:B$1806)","v":60.016998291015625},{"$f":"LOOKUP(B261,Data!$A$6:$A$1806,Data!C$6:C$1806)","v":3788.0302734375},null,null,null,-13.5986328125,-13.534093783057688,null,null,0,3752.4753533083381,{"$f":"AVERAGE(D$79:D261)","v":3766.2780361488217},{"$f":"AVERAGE(M$79:M261)","v":3773.5829752033055},3765.4461564175972,{"$f":"AVERAGE(P$79:P261)","v":3724.1760537951377},633,null,null,null,null,null,null,0,633,-2519.2090634785086,null,null,null,null,null,null,null,null,null,null,null,null,null,40098.106597221886,{"$f":"LOOKUP($AO261,Data!$A$6:$A$1806,Data!$B$6:$B$1806)","v":60.016998291015625},{"$f":"LOOKUP($AO261,Data!$A$6:$A$1806,Data!$C$6:$C$1806)","v":3788.0302734375},{"$f":"LOOKUP($AO261,Data!$A$6:$A$1806,Data!$D$6:$D$1806)","v":350},{"$f":"IF($AS$1=\"+\",LOOKUP($AO261,Data!$A$6:$A$1806,Data!$E$6:$E$1806)*-1,LOOKUP($AO261,Data!$A$6:$A$1806,Data!$E$6:$E$1806))","v":236.55354309082031},{"$f":"LOOKUP($AO261,Data!$A$6:$A$1806,Data!$F$6:$F$1806)","v":16},{"$f":"LOOKUP($AO261,Data!$A$6:$A$1806,Data!$G$6:$G$1806)","v":322},{"$f":"LOOKUP($AO261,Data!$A$6:$A$1806,Data!$H$6:$H$1806)","v":10},{"$f":"LOOKUP($AO261,Data!$A$6:$A$1806,Data!$I$6:$I$1806)","v":0},{"$f":"LOOKUP($AO261,Data!$A$6:$A$1806,Data!$J$6:$J$1806)","v":-103},{"$f":"LOOKUP($AO261,Data!$A$6:$A$1806,Data!$K$6:$K$1806)","v":7712.52},-13.5986328125]
[null,40098.106620370032,{"$f":"LOOKUP(B262,Data!$A$6:$A$1806,Data!B$6:B$1806)","v":60.019001007080078},{"$f":"LOOKUP(B262,Data!$A$6:$A$1806,Data!C$6:C$1806)","v":3788.606689453125},null,null,null,-15.2008056640625,-14.117442941409372,null,null,0,3751.8920041499864,{"$f":"AVERAGE(D$79:D262)","v":3766.3993875254755},{"$f":"AVERAGE(M$79:M262)","v":3773.4650894910592},3765.4461564175972,{"$f":"AVERAGE(P$79:P262)","v":3724.4015734815994},633,null,null,null,null,null,null,0,633,-2737.3898669965974,null,null,null,null,null,null,null,null,null,null,null,null,null,40098.106620370032,{"$f":"LOOKUP($AO262,Data!$A$6:$A$1806,Data!$B$6:$B$1806)","v":60.019001007080078},{"$f":"LOOKUP($AO262,Data!$A$6:$A$1806,Data!$C$6:$C$1806)","v":3788.606689453125},{"$f":"LOOKUP($AO262,Data!$A$6:$A$1806,Data!$D$6:$D$1806)","v":350},{"$f":"IF($AS$1=\"+\",LOOKUP($AO262,Data!$A$6:$A$1806,Data!$E$6:$E$1806)*-1,LOOKUP($AO262,Data!$A$6:$A$1806,Data!$E$6:$E$1806))","v":236.55354309082031},{"$f":"LOOKUP($AO262,Data!$A$6:$A$1806,Data!$F$6:$F$1806)","v":16},{"$f":"LOOKUP($AO262,Data!$A$6:$A$1806,Data!$G$6:$G$1806)","v":322.5},{"$f":"LOOKUP($AO262,Data!$A$6:$A$1806,Data!$H$6:$H$1806)","v":10},{"$f":"LOOKUP($AO262,Data!$A$6:$A$1806,Data!$I$6:$I$1806)","v":0},{"$f":"LOOKUP($AO262,Data!$A$6:$A$1806,Data!$J$6:$J$1806)","v":-103},{"$f":"LOOKUP($AO262,Data!$A$6:$A$1806,Data!$K$6:$K$1806)","v":7712.85},-15.2008056640625]
[null,40098.106643518178,{"$f":"LOOKUP(B263,Data!$A$6:$A$1806,Data!B$6:B$1806)","v":60.022998809814453},{"$f":"LOOKUP(B263,Data!$A$6:$A$1806,Data!C$6:C$1806)","v":3789.2158203125},null,null,null,-18.3990478515625,-15.616004659962968,null,null,0,3750.393442431433,{"$f":"AVERAGE(D$79:D263)","v":3766.5227195945945},{"$f":"AVERAGE(M$79:M263)","v":3773.3403778853317},3765.4461564175972,{"$f":"AVERAGE(P$79:P263)","v":3724.6246418671212},633,null,null,null,null,null,null,0,633,-3309.5590137368799,null,null,null,null,null,null,null,null,null,null,null,null,null,40098.106643518178,{"$f":"LOOKUP($AO263,Data!$A$6:$A$1806,Data!$B$6:$B$1806)","v":60.022998809814453},{"$f":"LOOKUP($AO263,Data!$A$6:$A$1806,Data!$C$6:$C$1806)","v":3789.2158203125},{"$f":"LOOKUP($AO263,Data!$A$6:$A$1806,Data!$D$6:$D$1806)","v":350},{"$f":"IF($AS$1=\"+\",LOOKUP($AO263,Data!$A$6:$A$1806,Data!$E$6:$E$1806)*-1,LOOKUP($AO263,Data!$A$6:$A$1806,Data!$E$6:$E$1806))","v":236.55354309082031},{"$f":"LOOKUP($AO263,Data!$A$6:$A$1806,Data!$F$6:$F$1806)","v":16},{"$f":"LOOKUP($AO263,Data!$A$6:$A$1806,Data!$G$6:$G$1806)","v":323},{"$f":"LOOKUP($AO263,Data!$A$6:$A$1806,Data!$H$6:$H$1806)","v":10},{"$f":"LOOKUP($AO263,Data!$A$6:$A$1806,Data!$I$6:$I$1806)","v":0},{"$f":"LOOKUP($AO263,Data!$A$6:$A$1806,Data!$J$6:$J$1806)","v":-103},{"$f":"LOOKUP($AO263,Data!$A$6:$A$1806,Data!$K$6:$K$1806)","v":7713.18},-18.3990478515625]
[null,40098.106666666325,{"$f":"LOOKUP(B264,Data!$A$6:$A$1806,Data!B$6:B$1806)","v":60.023998260498047},{"$f":"LOOKUP(B264,Data!$A$6:$A$1806,Data!C$6:C$1806)","v":3787.53662109375},null,null,null,-19.1986083984375,-16.869915968429055,null,null,0,3749.1395311229667,{"$f":"AVERAGE(D$79:D264)","v":3766.6356975596436},{"$f":"AVERAGE(M$79:M264)","v":3773.2102658059644},3765.4461564175972,{"$f":"AVERAGE(P$79:P264)","v":3724.8452987025289},633,null,null,null,null,null,null,0,633,-3492.0352913323686,null,null,null,null,null,null,null,null,null,null,null,null,null,40098.106666666325,{"$f":"LOOKUP($AO264,Data!$A$6:$A$1806,Data!$B$6:$B$1806)","v":60.023998260498047},{"$f":"LOOKUP($AO264,Data!$A$6:$A$1806,Data!$C$6:$C$1806)","v":3787.53662109375},{"$f":"LOOKUP($AO264,Data!$A$6:$A$1806,Data!$D$6:$D$1806)","v":350},{"$f":"IF($AS$1=\"+\",LOOKUP($AO264,Data!$A$6:$A$1806,Data!$E$6:$E$1806)*-1,LOOKUP($AO264,Data!$A$6:$A$1806,Data!$E$6:$E$1806))","v":236.55354309082031},{"$f":"LOOKUP($AO264,Data!$A$6:$A$1806,Data!$F$6:$F$1806)","v":16},{"$f":"LOOKUP($AO264,Data!$A$6:$A$1806,Data!$G$6:$G$1806)","v":323.5},{"$f":"LOOKUP($AO264,Data!$A$6:$A$1806,Data!$H$6:$H$1806)","v":10},{"$f":"LOOKUP($AO264,Data!$A$6:$A$1806,Data!$I$6:$I$1806)","v":0},{"$f":"LOOKUP($AO264,Data!$A$6:$A$1806,Data!$J$6:$J$1806)","v":-103},{"$f":"LOOKUP($AO264,Data!$A$6:$A$1806,Data!$K$6:$K$1806)","v":7713.51},-19.1986083984375]
[null,40098.106689814471,{"$f":"LOOKUP(B265,Data!$A$6:$A$1806,Data!B$6:B$1806)","v":60.025001525878906},{"$f":"LOOKUP(B265,Data!$A$6:$A$1806,Data!C$6:C$1806)","v":3785.841796875},null,null,null,-20.001220703125,-17.965872625572636,null,null,0,3748.043574465823,{"$f":"AVERAGE(D$79:D265)","v":3766.738403973095},{"$f":"AVERAGE(M$79:M265)","v":3773.0756845688511},3765.4461564175972,{"$f":"AVERAGE(P$79:P265)","v":3725.0635828837931},633,null,null,null,null,null,null,0,633,-3696.6311603686891,null,null,null,null,null,null,null,null,null,null,null,null,null,40098.106689814471,{"$f":"LOOKUP($AO265,Data!$A$6:$A$1806,Data!$B$6:$B$1806)","v":60.025001525878906},{"$f":"LOOKUP($AO265,Data!$A$6:$A$1806,Data!$C$6:$C$1806)","v":3785.841796875},{"$f":"LOOKUP($AO265,Data!$A$6:$A$1806,Data!$D$6:$D$1806)","v":350},{"$f":"IF($AS$1=\"+\",LOOKUP($AO265,Data!$A$6:$A$1806,Data!$E$6:$E$1806)*-1,LOOKUP($AO265,Data!$A$6:$A$1806,Data!$E$6:$E$1806))","v":230.29756164550781},{"$f":"LOOKUP($AO265,Data!$A$6:$A$1806,Data!$F$6:$F$1806)","v":16},{"$f":"LOOKUP($AO265,Data!$A$6:$A$1806,Data!$G$6:$G$1806)","v":324},{"$f":"LOOKUP($AO265,Data!$A$6:$A$1806,Data!$H$6:$H$1806)","v":10},{"$f":"LOOKUP($AO265,Data!$A$6:$A$1806,Data!$I$6:$I$1806)","v":0},{"$f":"LOOKUP($AO265,Data!$A$6:$A$1806,Data!$J$6:$J$1806)","v":-103},{"$f":"LOOKUP($AO265,Data!$A$6:$A$1806,Data!$K$6:$K$1806)","v":7713.84},-20.001220703125]
[null,40098.106712962617,{"$f":"LOOKUP(B266,Data!$A$6:$A$1806,Data!B$6:B$1806)","v":60.020999908447266},{"$f":"LOOKUP(B266,Data!$A$6:$A$1806,Data!C$6:C$1806)","v":3786.07666015625},null,null,null,-16.7999267578125,-17.55779157185659,null,null,0,3748.4516555195391,{"$f":"AVERAGE(D$79:D266)","v":3766.8412670378989},{"$f":"AVERAGE(M$79:M266)","v":3772.9447056909289},3765.4461564175972,{"$f":"AVERAGE(P$79:P266)","v":3725.2795324748827},633,null,null,null,null,null,null,0,633,-2996.4047942577254,null,null,null,null,null,null,null,null,null,null,null,null,null,40098.106712962617,{"$f":"LOOKUP($AO266,Data!$A$6:$A$1806,Data!$B$6:$B$1806)","v":60.020999908447266},{"$f":"LOOKUP($AO266,Data!$A$6:$A$1806,Data!$C$6:$C$1806)","v":3786.07666015625},{"$f":"LOOKUP($AO266,Data!$A$6:$A$1806,Data!$D$6:$D$1806)","v":350},{"$f":"IF($AS$1=\"+\",LOOKUP($AO266,Data!$A$6:$A$1806,Data!$E$6:$E$1806)*-1,LOOKUP($AO266,Data!$A$6:$A$1806,Data!$E$6:$E$1806))","v":230.29756164550781},{"$f":"LOOKUP($AO266,Data!$A$6:$A$1806,Data!$F$6:$F$1806)","v":16},{"$f":"LOOKUP($AO266,Data!$A$6:$A$1806,Data!$G$6:$G$1806)","v":324.5},{"$f":"LOOKUP($AO266,Data!$A$6:$A$1806,Data!$H$6:$H$1806)","v":10},{"$f":"LOOKUP($AO266,Data!$A$6:$A$1806,Data!$I$6:$I$1806)","v":0},{"$f":"LOOKUP($AO266,Data!$A$6:$A$1806,Data!$J$6:$J$1806)","v":-103},{"$f":"LOOKUP($AO266,Data!$A$6:$A$1806,Data!$K$6:$K$1806)","v":7714.17},-16.7999267578125]
[null,40098.106736110763,{"$f":"LOOKUP(B267,Data!$A$6:$A$1806,Data!B$6:B$1806)","v":60.019001007080078},{"$f":"LOOKUP(B267,Data!$A$6:$A$1806,Data!C$6:C$1806)","v":3787.930419921875},null,null,null,-15.2008056640625,-16.732846504128659,null,null,0,3749.2766005872672,{"$f":"AVERAGE(D$79:D267)","v":3766.9528498573909},{"$f":"AVERAGE(M$79:M267)","v":3772.8194776215978},3765.4461564175972,{"$f":"AVERAGE(P$79:P267)","v":3725.4931847298972},633,null,null,null,null,null,null,0,633,-2737.3898669965974,null,null,null,null,null,null,null,null,null,null,null,null,null,40098.106736110763,{"$f":"LOOKUP($AO267,Data!$A$6:$A$1806,Data!$B$6:$B$1806)","v":60.019001007080078},{"$f":"LOOKUP($AO267,Data!$A$6:$A$1806,Data!$C$6:$C$1806)","v":3787.930419921875},{"$f":"LOOKUP($AO267,Data!$A$6:$A$1806,Data!$D$6:$D$1806)","v":350},{"$f":"IF($AS$1=\"+\",LOOKUP($AO267,Data!$A$6:$A$1806,Data!$E$6:$E$1806)*-1,LOOKUP($AO267,Data!$A$6:$A$1806,Data!$E$6:$E$1806))","v":230.29756164550781},{"$f":"LOOKUP($AO267,Data!$A$6:$A$1806,Data!$F$6:$F$1806)","v":16},{"$f":"LOOKUP($AO267,Data!$A$6:$A$1806,Data!$G$6:$G$1806)","v":325},{"$f":"LOOKUP($AO267,Data!$A$6:$A$1806,Data!$H$6:$H$1806)","v":10},{"$f":"LOOKUP($AO267,Data!$A$6:$A$1806,Data!$I$6:$I$1806)","v":0},{"$f":"LOOKUP($AO267,Data!$A$6:$A$1806,Data!$J$6:$J$1806)","v":-103},{"$f":"LOOKUP($AO267,Data!$A$6:$A$1806,Data!$K$6:$K$1806)","v":7714.5},-15.2008056640625]
[null,40098.10675925891,{"$f":"LOOKUP(B268,Data!$A$6:$A$1806,Data!B$6:B$1806)","v":60.023998260498047},{"$f":"LOOKUP(B268,Data!$A$6:$A$1806,Data!C$6:C$1806)","v":3788.76025390625},null,null,null,-19.1986083984375,-17.595863167136756,null,null,0,3748.413583924259,{"$f":"AVERAGE(D$79:D268)","v":3767.0676256681745},{"$f":"AVERAGE(M$79:M268)","v":3772.6910255495068},3765.4461564175972,{"$f":"AVERAGE(P$79:P268)","v":3725.7045761144882},633,null,null,null,null,null,null,0,633,-3492.0352913323686,null,null,null,null,null,null,null,null,null,null,null,null,null,40098.10675925891,{"$f":"LOOKUP($AO268,Data!$A$6:$A$1806,Data!$B$6:$B$1806)","v":60.023998260498047},{"$f":"LOOKUP($AO268,Data!$A$6:$A$1806,Data!$C$6:$C$1806)","v":3788.76025390625},{"$f":"LOOKUP($AO268,Data!$A$6:$A$1806,Data!$D$6:$D$1806)","v":350},{"$f":"IF($AS$1=\"+\",LOOKUP($AO268,Data!$A$6:$A$1806,Data!$E$6:$E$1806)*-1,LOOKUP($AO268,Data!$A$6:$A$1806,Data!$E$6:$E$1806))","v":230.29756164550781},{"$f":"LOOKUP($AO268,Data!$A$6:$A$1806,Data!$F$6:$F$1806)","v":16},{"$f":"LOOKUP($AO268,Data!$A$6:$A$1806,Data!$G$6:$G$1806)","v":325.5},{"$f":"LOOKUP($AO268,Data!$A$6:$A$1806,Data!$H$6:$H$1806)","v":10},{"$f":"LOOKUP($AO268,Data!$A$6:$A$1806,Data!$I$6:$I$1806)","v":0},{"$f":"LOOKUP($AO268,Data!$A$6:$A$1806,Data!$J$6:$J$1806)","v":-103},{"$f":"LOOKUP($AO268,Data!$A$6:$A$1806,Data!$K$6:$K$1806)","v":7714.83},-19.1986083984375]
[null,40098.106782407056,{"$f":"LOOKUP(B269,Data!$A$6:$A$1806,Data!B$6:B$1806)","v":60.023998260498047},{"$f":"LOOKUP(B269,Data!$A$6:$A$1806,Data!C$6:C$1806)","v":3786.874755859375},null,null,null,-19.1986083984375,-18.156823998092015,null,null,0,3747.8526230933039,{"$f":"AVERAGE(D$79:D269)","v":3767.1713279204841},{"$f":"AVERAGE(M$79:M269)","v":3772.5609815575895},3765.4461564175972,{"$f":"AVERAGE(P$79:P269)","v":3725.9137423266097},633,null,null,null,null,null,null,0,633,-3492.0352913323686,null,null,null,null,null,null,null,null,null,null,null,null,null,40098.106782407056,{"$f":"LOOKUP($AO269,Data!$A$6:$A$1806,Data!$B$6:$B$1806)","v":60.023998260498047},{"$f":"LOOKUP($AO269,Data!$A$6:$A$1806,Data!$C$6:$C$1806)","v":3786.874755859375},{"$f":"LOOKUP($AO269,Data!$A$6:$A$1806,Data!$D$6:$D$1806)","v":350},{"$f":"IF($AS$1=\"+\",LOOKUP($AO269,Data!$A$6:$A$1806,Data!$E$6:$E$1806)*-1,LOOKUP($AO269,Data!$A$6:$A$1806,Data!$E$6:$E$1806))","v":230.29756164550781},{"$f":"LOOKUP($AO269,Data!$A$6:$A$1806,Data!$F$6:$F$1806)","v":16},{"$f":"LOOKUP($AO269,Data!$A$6:$A$1806,Data!$G$6:$G$1806)","v":326},{"$f":"LOOKUP($AO269,Data!$A$6:$A$1806,Data!$H$6:$H$1806)","v":10},{"$f":"LOOKUP($AO269,Data!$A$6:$A$1806,Data!$I$6:$I$1806)","v":0},{"$f":"LOOKUP($AO269,Data!$A$6:$A$1806,Data!$J$6:$J$1806)","v":-103},{"$f":"LOOKUP($AO269,Data!$A$6:$A$1806,Data!$K$6:$K$1806)","v":7715.16},-19.1986083984375]
[null,40098.106805555202,{"$f":"LOOKUP(B270,Data!$A$6:$A$1806,Data!B$6:B$1806)","v":60.020999908447266},{"$f":"LOOKUP(B270,Data!$A$6:$A$1806,Data!C$6:C$1806)","v":3786.5498046875},null,null,null,-16.7999267578125,-17.681909963994187,null,null,0,3748.3275371274017,{"$f":"AVERAGE(D$79:D270)","v":3767.272257486979},{"$f":"AVERAGE(M$79:M270)","v":3772.4347657011822},3765.4461564175972,{"$f":"AVERAGE(P$79:P270)","v":3726.1207183166152},633,null,null,null,null,null,null,0,633,-2996.4047942577254,null,null,null,null,null,null,null,null,null,null,null,null,null,40098.106805555202,{"$f":"LOOKUP($AO270,Data!$A$6:$A$1806,Data!$B$6:$B$1806)","v":60.020999908447266},{"$f":"LOOKUP($AO270,Data!$A$6:$A$1806,Data!$C$6:$C$1806)","v":3786.5498046875},{"$f":"LOOKUP($AO270,Data!$A$6:$A$1806,Data!$D$6:$D$1806)","v":350},{"$f":"IF($AS$1=\"+\",LOOKUP($AO270,Data!$A$6:$A$1806,Data!$E$6:$E$1806)*-1,LOOKUP($AO270,Data!$A$6:$A$1806,Data!$E$6:$E$1806))","v":231.175537109375},{"$f":"LOOKUP($AO270,Data!$A$6:$A$1806,Data!$F$6:$F$1806)","v":16},{"$f":"LOOKUP($AO270,Data!$A$6:$A$1806,Data!$G$6:$G$1806)","v":326.5},{"$f":"LOOKUP($AO270,Data!$A$6:$A$1806,Data!$H$6:$H$1806)","v":10},{"$f":"LOOKUP($AO270,Data!$A$6:$A$1806,Data!$I$6:$I$1806)","v":0},{"$f":"LOOKUP($AO270,Data!$A$6:$A$1806,Data!$J$6:$J$1806)","v":-103},{"$f":"LOOKUP($AO270,Data!$A$6:$A$1806,Data!$K$6:$K$1806)","v":7715.49},-16.7999267578125]
[null,40098.106828703349,{"$f":"LOOKUP(B271,Data!$A$6:$A$1806,Data!B$6:B$1806)","v":60.020000457763672},{"$f":"LOOKUP(B271,Data!$A$6:$A$1806,Data!C$6:C$1806)","v":3787.357666015625},null,null,null,-16.0003662109375,-17.093369650424346,null,null,0,3748.9160774409715,{"$f":"AVERAGE(D$79:D271)","v":3767.3763269612209},{"$f":"AVERAGE(M$79:M271)","v":3772.3129072127872},3765.4461564175972,{"$f":"AVERAGE(P$79:P271)","v":3726.3255383067244},633,null,null,null,null,null,null,0,633,-2861.0470398068924,null,null,null,null,null,null,null,null,null,null,null,null,null,40098.106828703349,{"$f":"LOOKUP($AO271,Data!$A$6:$A$1806,Data!$B$6:$B$1806)","v":60.020000457763672},{"$f":"LOOKUP($AO271,Data!$A$6:$A$1806,Data!$C$6:$C$1806)","v":3787.357666015625},{"$f":"LOOKUP($AO271,Data!$A$6:$A$1806,Data!$D$6:$D$1806)","v":350},{"$f":"IF($AS$1=\"+\",LOOKUP($AO271,Data!$A$6:$A$1806,Data!$E$6:$E$1806)*-1,LOOKUP($AO271,Data!$A$6:$A$1806,Data!$E$6:$E$1806))","v":231.175537109375},{"$f":"LOOKUP($AO271,Data!$A$6:$A$1806,Data!$F$6:$F$1806)","v":16},{"$f":"LOOKUP($AO271,Data!$A$6:$A$1806,Data!$G$6:$G$1806)","v":327},{"$f":"LOOKUP($AO271,Data!$A$6:$A$1806,Data!$H$6:$H$1806)","v":10},{"$f":"LOOKUP($AO271,Data!$A$6:$A$1806,Data!$I$6:$I$1806)","v":0},{"$f":"LOOKUP($AO271,Data!$A$6:$A$1806,Data!$J$6:$J$1806)","v":-103},{"$f":"LOOKUP($AO271,Data!$A$6:$A$1806,Data!$K$6:$K$1806)","v":7715.82},-16.0003662109375]
[null,40098.106851851495,{"$f":"LOOKUP(B272,Data!$A$6:$A$1806,Data!B$6:B$1806)","v":60.025001525878906},{"$f":"LOOKUP(B272,Data!$A$6:$A$1806,Data!C$6:C$1806)","v":3785.01806640625},null,null,null,-20.001220703125,-18.111117518869577,null,null,{"$f":"IF(B272>G$3,0,(K$21*0.000023148/K$22))","v":0},{"$f":"M271+L272+(I272-I271)","v":3747.8983295725261},{"$f":"AVERAGE(D$79:D272)","v":3767.467263762484},{"$f":"AVERAGE(M$79:M272)","v":3772.1870588744355},3765.4461564175972,{"$f":"AVERAGE(P$79:P272)","v":3726.5282358098898},633,null,null,null,null,null,null,0,633,{"$f":"Z272/((C272-G$4)*10)","v":-3696.6311603686891},null,null,null,null,null,null,null,null,null,null,null,null,null,40098.106851851495,{"$f":"LOOKUP($AO272,Data!$A$6:$A$1806,Data!$B$6:$B$1806)","v":60.025001525878906},{"$f":"LOOKUP($AO272,Data!$A$6:$A$1806,Data!$C$6:$C$1806)","v":3785.01806640625},{"$f":"LOOKUP($AO272,Data!$A$6:$A$1806,Data!$D$6:$D$1806)","v":350},{"$f":"IF($AS$1=\"+\",LOOKUP($AO272,Data!$A$6:$A$1806,Data!$E$6:$E$1806)*-1,LOOKUP($AO272,Data!$A$6:$A$1806,Data!$E$6:$E$1806))","v":231.175537109375},{"$f":"LOOKUP($AO272,Data!$A$6:$A$1806,Data!$F$6:$F$1806)","v":16},{"$f":"LOOKUP($AO272,Data!$A$6:$A$1806,Data!$G$6:$G$1806)","v":327.5},{"$f":"LOOKUP($AO272,Data!$A$6:$A$1806,Data!$H$6:$H$1806)","v":10},{"$f":"LOOKUP($AO272,Data!$A$6:$A$1806,Data!$I$6:$I$1806)","v":0},{"$f":"LOOKUP($AO272,Data!$A$6:$A$1806,Data!$J$6:$J$1806)","v":-103},{"$f":"LOOKUP($AO272,Data!$A$6:$A$1806,Data!$K$6:$K$1806)","v":7716.15},-20.001220703125]
[null,40098.106874999641,{"$f":"LOOKUP(B273,Data!$A$6:$A$1806,Data!B$6:B$1806)","v":60.023998260498047},{"$f":"LOOKUP(B273,Data!$A$6:$A$1806,Data!C$6:C$1806)","v":3785.614013671875},null,null,null,-19.1986083984375,-18.491739326718353,null,null,0,3747.5177077646772,{"$f":"AVERAGE(D$79:D273)","v":3767.5603240184296},{"$f":"AVERAGE(M$79:M273)","v":3772.0605493815647},3765.4461564175972,{"$f":"AVERAGE(P$79:P273)","v":3726.7288436480735},{"$f":"R$41","v":633},null,null,null,null,null,null,0,633,-3492.0352913323686,null,null,null,null,null,null,null,null,null,null,null,null,null,{"$f":"AO272+TIME(0,0,$B$1)","v":40098.106874999641},{"$f":"LOOKUP($AO273,Data!$A$6:$A$1806,Data!$B$6:$B$1806)","v":60.023998260498047},{"$f":"LOOKUP($AO273,Data!$A$6:$A$1806,Data!$C$6:$C$1806)","v":3785.614013671875},{"$f":"LOOKUP($AO273,Data!$A$6:$A$1806,Data!$D$6:$D$1806)","v":350},{"$f":"IF($AS$1=\"+\",LOOKUP($AO273,Data!$A$6:$A$1806,Data!$E$6:$E$1806)*-1,LOOKUP($AO273,Data!$A$6:$A$1806,Data!$E$6:$E$1806))","v":231.175537109375},{"$f":"LOOKUP($AO273,Data!$A$6:$A$1806,Data!$F$6:$F$1806)","v":16},{"$f":"LOOKUP($AO273,Data!$A$6:$A$1806,Data!$G$6:$G$1806)","v":328},{"$f":"LOOKUP($AO273,Data!$A$6:$A$1806,Data!$H$6:$H$1806)","v":10},{"$f":"LOOKUP($AO273,Data!$A$6:$A$1806,Data!$I$6:$I$1806)","v":0},{"$f":"LOOKUP($AO273,Data!$A$6:$A$1806,Data!$J$6:$J$1806)","v":-103},{"$f":"LOOKUP($AO273,Data!$A$6:$A$1806,Data!$K$6:$K$1806)","v":7716.48},-19.1986083984375]
[null,40098.106898147787,{"$f":"LOOKUP(B274,Data!$A$6:$A$1806,Data!B$6:B$1806)","v":60.020000457763672},{"$f":"LOOKUP(B274,Data!$A$6:$A$1806,Data!C$6:C$1806)","v":3785.94921875},null,null,null,-16.0003662109375,-17.619758736195053,null,null,0,3748.3896883552006,{"$f":"AVERAGE(D$79:D274)","v":3767.6541449099172},{"$f":"AVERAGE(M$79:M274)","v":3771.9397796824501},{"$f":"P273+L274","v":3765.4461564175972},{"$f":"AVERAGE(P$79:P274)","v":3726.9273939699688},633,null,null,null,null,null,null,0,633,-2861.0470398068924,null,null,null,null,null,null,null,null,null,null,null,null,null,40098.106898147787,{"$f":"LOOKUP($AO274,Data!$A$6:$A$1806,Data!$B$6:$B$1806)","v":60.020000457763672},{"$f":"LOOKUP($AO274,Data!$A$6:$A$1806,Data!$C$6:$C$1806)","v":3785.94921875},{"$f":"LOOKUP($AO274,Data!$A$6:$A$1806,Data!$D$6:$D$1806)","v":350},{"$f":"IF($AS$1=\"+\",LOOKUP($AO274,Data!$A$6:$A$1806,Data!$E$6:$E$1806)*-1,LOOKUP($AO274,Data!$A$6:$A$1806,Data!$E$6:$E$1806))","v":231.175537109375},{"$f":"LOOKUP($AO274,Data!$A$6:$A$1806,Data!$F$6:$F$1806)","v":16},{"$f":"LOOKUP($AO274,Data!$A$6:$A$1806,Data!$G$6:$G$1806)","v":328.5},{"$f":"LOOKUP($AO274,Data!$A$6:$A$1806,Data!$H$6:$H$1806)","v":10},{"$f":"LOOKUP($AO274,Data!$A$6:$A$1806,Data!$I$6:$I$1806)","v":0},{"$f":"LOOKUP($AO274,Data!$A$6:$A$1806,Data!$J$6:$J$1806)","v":-103},{"$f":"LOOKUP($AO274,Data!$A$6:$A$1806,Data!$K$6:$K$1806)","v":7716.81},-16.0003662109375]
[null,40098.106921295934,{"$f":"LOOKUP(B275,Data!$A$6:$A$1806,Data!B$6:B$1806)","v":60.020000457763672},{"$f":"LOOKUP(B275,Data!$A$6:$A$1806,Data!C$6:C$1806)","v":3785.8037109375},null,null,null,-16.0003662109375,-17.052971352354909,null,null,0,3748.9564757390408,{"$f":"AVERAGE(D$79:D275)","v":3767.7462746867068},{"$f":"AVERAGE(M$79:M275)","v":3771.8231131649709},3765.4461564175972,{"$f":"AVERAGE(P$79:P275)","v":3727.1239182681711},633,null,null,null,null,null,null,0,633,-2861.0470398068924,null,null,null,null,null,null,null,null,null,null,null,null,null,40098.106921295934,{"$f":"LOOKUP($AO275,Data!$A$6:$A$1806,Data!$B$6:$B$1806)","v":60.020000457763672},{"$f":"LOOKUP($AO275,Data!$A$6:$A$1806,Data!$C$6:$C$1806)","v":3785.8037109375},{"$f":"LOOKUP($AO275,Data!$A$6:$A$1806,Data!$D$6:$D$1806)","v":350},{"$f":"IF($AS$1=\"+\",LOOKUP($AO275,Data!$A$6:$A$1806,Data!$E$6:$E$1806)*-1,LOOKUP($AO275,Data!$A$6:$A$1806,Data!$E$6:$E$1806))","v":225.61763000488281},{"$f":"LOOKUP($AO275,Data!$A$6:$A$1806,Data!$F$6:$F$1806)","v":16},{"$f":"LOOKUP($AO275,Data!$A$6:$A$1806,Data!$G$6:$G$1806)","v":329},{"$f":"LOOKUP($AO275,Data!$A$6:$A$1806,Data!$H$6:$H$1806)","v":10},{"$f":"LOOKUP($AO275,Data!$A$6:$A$1806,Data!$I$6:$I$1806)","v":0},{"$f":"LOOKUP($AO275,Data!$A$6:$A$1806,Data!$J$6:$J$1806)","v":-103},{"$f":"LOOKUP($AO275,Data!$A$6:$A$1806,Data!$K$6:$K$1806)","v":7717.14},-16.0003662109375]
[null,40098.10694444408,{"$f":"LOOKUP(B276,Data!$A$6:$A$1806,Data!B$6:B$1806)","v":60.021999359130859},{"$f":"LOOKUP(B276,Data!$A$6:$A$1806,Data!C$6:C$1806)","v":3786.8642578125},null,null,null,-17.5994873046875,-17.244251935671315,null,null,0,3748.7651951557245,{"$f":"AVERAGE(D$79:D276)","v":3767.8428301570393},{"$f":"AVERAGE(M$79:M276)","v":3771.7066590336112},3765.4461564175972,{"$f":"AVERAGE(P$79:P276)","v":3727.3184473958331},633,null,null,null,null,null,null,0,633,-3145.206283317933,null,null,null,null,null,null,null,null,null,null,null,null,null,40098.10694444408,{"$f":"LOOKUP($AO276,Data!$A$6:$A$1806,Data!$B$6:$B$1806)","v":60.021999359130859},{"$f":"LOOKUP($AO276,Data!$A$6:$A$1806,Data!$C$6:$C$1806)","v":3786.8642578125},{"$f":"LOOKUP($AO276,Data!$A$6:$A$1806,Data!$D$6:$D$1806)","v":350},{"$f":"IF($AS$1=\"+\",LOOKUP($AO276,Data!$A$6:$A$1806,Data!$E$6:$E$1806)*-1,LOOKUP($AO276,Data!$A$6:$A$1806,Data!$E$6:$E$1806))","v":225.61763000488281},{"$f":"LOOKUP($AO276,Data!$A$6:$A$1806,Data!$F$6:$F$1806)","v":16},{"$f":"LOOKUP($AO276,Data!$A$6:$A$1806,Data!$G$6:$G$1806)","v":329.5},{"$f":"LOOKUP($AO276,Data!$A$6:$A$1806,Data!$H$6:$H$1806)","v":10},{"$f":"LOOKUP($AO276,Data!$A$6:$A$1806,Data!$I$6:$I$1806)","v":0},{"$f":"LOOKUP($AO276,Data!$A$6:$A$1806,Data!$J$6:$J$1806)","v":-103},{"$f":"LOOKUP($AO276,Data!$A$6:$A$1806,Data!$K$6:$K$1806)","v":7717.47},-17.5994873046875]
[null,40098.106967592226,{"$f":"LOOKUP(B277,Data!$A$6:$A$1806,Data!B$6:B$1806)","v":60.021999359130859},{"$f":"LOOKUP(B277,Data!$A$6:$A$1806,Data!C$6:C$1806)","v":3786.877197265625},null,null,null,-17.5994873046875,-17.368584314826983,null,null,0,3748.6408627765691,{"$f":"AVERAGE(D$79:D277)","v":3767.9384802430118},{"$f":"AVERAGE(M$79:M277)","v":3771.5907505097061},3765.4461564175972,{"$f":"AVERAGE(P$79:P277)","v":3727.5110115828115},633,null,null,null,null,null,null,0,633,-3145.206283317933,null,null,null,null,null,null,null,null,null,null,null,null,null,40098.106967592226,{"$f":"LOOKUP($AO277,Data!$A$6:$A$1806,Data!$B$6:$B$1806)","v":60.021999359130859},{"$f":"LOOKUP($AO277,Data!$A$6:$A$1806,Data!$C$6:$C$1806)","v":3786.877197265625},{"$f":"LOOKUP($AO277,Data!$A$6:$A$1806,Data!$D$6:$D$1806)","v":350},{"$f":"IF($AS$1=\"+\",LOOKUP($AO277,Data!$A$6:$A$1806,Data!$E$6:$E$1806)*-1,LOOKUP($AO277,Data!$A$6:$A$1806,Data!$E$6:$E$1806))","v":225.61763000488281},{"$f":"LOOKUP($AO277,Data!$A$6:$A$1806,Data!$F$6:$F$1806)","v":16},{"$f":"LOOKUP($AO277,Data!$A$6:$A$1806,Data!$G$6:$G$1806)","v":330},{"$f":"LOOKUP($AO277,Data!$A$6:$A$1806,Data!$H$6:$H$1806)","v":10},{"$f":"LOOKUP($AO277,Data!$A$6:$A$1806,Data!$I$6:$I$1806)","v":0},{"$f":"LOOKUP($AO277,Data!$A$6:$A$1806,Data!$J$6:$J$1806)","v":-103},{"$f":"LOOKUP($AO277,Data!$A$6:$A$1806,Data!$K$6:$K$1806)","v":7717.8},-17.5994873046875]
[null,40098.106990740373,{"$f":"LOOKUP(B278,Data!$A$6:$A$1806,Data!B$6:B$1806)","v":60.021999359130859},{"$f":"LOOKUP(B278,Data!$A$6:$A$1806,Data!C$6:C$1806)","v":3785.25390625},null,null,null,-17.5994873046875,-17.449400361278165,null,null,0,3748.5600467301178,{"$f":"AVERAGE(D$79:D278)","v":3768.0250573730468},{"$f":"AVERAGE(M$79:M278)","v":3771.4755969908083},3765.4461564175972,{"$f":"AVERAGE(P$79:P278)","v":3727.7016404513283},633,null,null,null,null,null,null,0,633,-3145.206283317933,null,null,null,null,null,null,null,null,null,null,null,null,null,40098.106990740373,{"$f":"LOOKUP($AO278,Data!$A$6:$A$1806,Data!$B$6:$B$1806)","v":60.021999359130859},{"$f":"LOOKUP($AO278,Data!$A$6:$A$1806,Data!$C$6:$C$1806)","v":3785.25390625},{"$f":"LOOKUP($AO278,Data!$A$6:$A$1806,Data!$D$6:$D$1806)","v":350},{"$f":"IF($AS$1=\"+\",LOOKUP($AO278,Data!$A$6:$A$1806,Data!$E$6:$E$1806)*-1,LOOKUP($AO278,Data!$A$6:$A$1806,Data!$E$6:$E$1806))","v":225.61763000488281},{"$f":"LOOKUP($AO278,Data!$A$6:$A$1806,Data!$F$6:$F$1806)","v":16},{"$f":"LOOKUP($AO278,Data!$A$6:$A$1806,Data!$G$6:$G$1806)","v":330.5},{"$f":"LOOKUP($AO278,Data!$A$6:$A$1806,Data!$H$6:$H$1806)","v":10},{"$f":"LOOKUP($AO278,Data!$A$6:$A$1806,Data!$I$6:$I$1806)","v":0},{"$f":"LOOKUP($AO278,Data!$A$6:$A$1806,Data!$J$6:$J$1806)","v":-103},{"$f":"LOOKUP($AO278,Data!$A$6:$A$1806,Data!$K$6:$K$1806)","v":7718.13},-17.5994873046875]
[null,40098.107013888519,{"$f":"LOOKUP(B279,Data!$A$6:$A$1806,Data!B$6:B$1806)","v":60.020999908447266},{"$f":"LOOKUP(B279,Data!$A$6:$A$1806,Data!C$6:C$1806)","v":3785.72607421875},null,null,null,-16.7999267578125,-17.22208460006518,null,null,0,3748.7873624913309,{"$f":"AVERAGE(D$79:D279)","v":3768.1131221334731},{"$f":"AVERAGE(M$79:M279)","v":3771.362720202254},3765.4461564175972,{"$f":"AVERAGE(P$79:P279)","v":3727.8903630311597},633,null,null,null,null,null,null,0,633,-2996.4047942577254,null,null,null,null,null,null,null,null,null,null,null,null,null,40098.107013888519,{"$f":"LOOKUP($AO279,Data!$A$6:$A$1806,Data!$B$6:$B$1806)","v":60.020999908447266},{"$f":"LOOKUP($AO279,Data!$A$6:$A$1806,Data!$C$6:$C$1806)","v":3785.72607421875},{"$f":"LOOKUP($AO279,Data!$A$6:$A$1806,Data!$D$6:$D$1806)","v":350},{"$f":"IF($AS$1=\"+\",LOOKUP($AO279,Data!$A$6:$A$1806,Data!$E$6:$E$1806)*-1,LOOKUP($AO279,Data!$A$6:$A$1806,Data!$E$6:$E$1806))","v":225.61763000488281},{"$f":"LOOKUP($AO279,Data!$A$6:$A$1806,Data!$F$6:$F$1806)","v":16},{"$f":"LOOKUP($AO279,Data!$A$6:$A$1806,Data!$G$6:$G$1806)","v":331},{"$f":"LOOKUP($AO279,Data!$A$6:$A$1806,Data!$H$6:$H$1806)","v":10},{"$f":"LOOKUP($AO279,Data!$A$6:$A$1806,Data!$I$6:$I$1806)","v":0},{"$f":"LOOKUP($AO279,Data!$A$6:$A$1806,Data!$J$6:$J$1806)","v":-103},{"$f":"LOOKUP($AO279,Data!$A$6:$A$1806,Data!$K$6:$K$1806)","v":7718.46},-16.7999267578125]
[null,40098.107037036665,{"$f":"LOOKUP(B280,Data!$A$6:$A$1806,Data!B$6:B$1806)","v":60.020999908447266},{"$f":"LOOKUP(B280,Data!$A$6:$A$1806,Data!C$6:C$1806)","v":3786.346923828125},null,null,null,-16.7999267578125,-17.074329355276742,null,null,0,3748.9351177361195,{"$f":"AVERAGE(D$79:D280)","v":3768.2033884784964},{"$f":"AVERAGE(M$79:M280)","v":3771.2516924672727},3765.4461564175972,{"$f":"AVERAGE(P$79:P280)","v":3728.0772077743754},633,null,null,null,null,null,null,0,633,-2996.4047942577254,null,null,null,null,null,null,null,null,null,null,null,null,null,40098.107037036665,{"$f":"LOOKUP($AO280,Data!$A$6:$A$1806,Data!$B$6:$B$1806)","v":60.020999908447266},{"$f":"LOOKUP($AO280,Data!$A$6:$A$1806,Data!$C$6:$C$1806)","v":3786.346923828125},{"$f":"LOOKUP($AO280,Data!$A$6:$A$1806,Data!$D$6:$D$1806)","v":350},{"$f":"IF($AS$1=\"+\",LOOKUP($AO280,Data!$A$6:$A$1806,Data!$E$6:$E$1806)*-1,LOOKUP($AO280,Data!$A$6:$A$1806,Data!$E$6:$E$1806))","v":230.73442077636719},{"$f":"LOOKUP($AO280,Data!$A$6:$A$1806,Data!$F$6:$F$1806)","v":16},{"$f":"LOOKUP($AO280,Data!$A$6:$A$1806,Data!$G$6:$G$1806)","v":331.5},{"$f":"LOOKUP($AO280,Data!$A$6:$A$1806,Data!$H$6:$H$1806)","v":10},{"$f":"LOOKUP($AO280,Data!$A$6:$A$1806,Data!$I$6:$I$1806)","v":0},{"$f":"LOOKUP($AO280,Data!$A$6:$A$1806,Data!$J$6:$J$1806)","v":-103},{"$f":"LOOKUP($AO280,Data!$A$6:$A$1806,Data!$K$6:$K$1806)","v":7718.79},-16.7999267578125]
[null,40098.107060184811,{"$f":"LOOKUP(B281,Data!$A$6:$A$1806,Data!B$6:B$1806)","v":60.022998809814453},{"$f":"LOOKUP(B281,Data!$A$6:$A$1806,Data!C$6:C$1806)","v":3785.821044921875},null,null,null,-18.3990478515625,-17.537980828976757,null,null,0,3748.4714662624197,{"$f":"AVERAGE(D$79:D281)","v":3768.2901749634389},{"$f":"AVERAGE(M$79:M281)","v":3771.1394746041951},3765.4461564175972,{"$f":"AVERAGE(P$79:P281)","v":3728.2622025696392},633,null,null,null,null,null,null,0,633,-3309.5590137368799,null,null,null,null,null,null,null,null,null,null,null,null,null,40098.107060184811,{"$f":"LOOKUP($AO281,Data!$A$6:$A$1806,Data!$B$6:$B$1806)","v":60.022998809814453},{"$f":"LOOKUP($AO281,Data!$A$6:$A$1806,Data!$C$6:$C$1806)","v":3785.821044921875},{"$f":"LOOKUP($AO281,Data!$A$6:$A$1806,Data!$D$6:$D$1806)","v":350},{"$f":"IF($AS$1=\"+\",LOOKUP($AO281,Data!$A$6:$A$1806,Data!$E$6:$E$1806)*-1,LOOKUP($AO281,Data!$A$6:$A$1806,Data!$E$6:$E$1806))","v":230.73442077636719},{"$f":"LOOKUP($AO281,Data!$A$6:$A$1806,Data!$F$6:$F$1806)","v":16},{"$f":"LOOKUP($AO281,Data!$A$6:$A$1806,Data!$G$6:$G$1806)","v":332},{"$f":"LOOKUP($AO281,Data!$A$6:$A$1806,Data!$H$6:$H$1806)","v":10},{"$f":"LOOKUP($AO281,Data!$A$6:$A$1806,Data!$I$6:$I$1806)","v":0},{"$f":"LOOKUP($AO281,Data!$A$6:$A$1806,Data!$J$6:$J$1806)","v":-103},{"$f":"LOOKUP($AO281,Data!$A$6:$A$1806,Data!$K$6:$K$1806)","v":7719.12},-18.3990478515625]
[null,40098.107083332958,{"$f":"LOOKUP(B282,Data!$A$6:$A$1806,Data!B$6:B$1806)","v":60.022998809814453},{"$f":"LOOKUP(B282,Data!$A$6:$A$1806,Data!C$6:C$1806)","v":3785.79833984375},null,null,null,-18.3990478515625,-17.839354286881765,null,null,0,3748.1700928045148,{"$f":"AVERAGE(D$79:D282)","v":3768.3759993010876},{"$f":"AVERAGE(M$79:M282)","v":3771.026879595373},3765.4461564175972,{"$f":"AVERAGE(P$79:P282)","v":3728.4453747560824},633,null,null,null,null,null,null,0,633,-3309.5590137368799,null,null,null,null,null,null,null,null,null,null,null,null,null,40098.107083332958,{"$f":"LOOKUP($AO282,Data!$A$6:$A$1806,Data!$B$6:$B$1806)","v":60.022998809814453},{"$f":"LOOKUP($AO282,Data!$A$6:$A$1806,Data!$C$6:$C$1806)","v":3785.79833984375},{"$f":"LOOKUP($AO282,Data!$A$6:$A$1806,Data!$D$6:$D$1806)","v":350},{"$f":"IF($AS$1=\"+\",LOOKUP($AO282,Data!$A$6:$A$1806,Data!$E$6:$E$1806)*-1,LOOKUP($AO282,Data!$A$6:$A$1806,Data!$E$6:$E$1806))","v":230.73442077636719},{"$f":"LOOKUP($AO282,Data!$A$6:$A$1806,Data!$F$6:$F$1806)","v":16},{"$f":"LOOKUP($AO282,Data!$A$6:$A$1806,Data!$G$6:$G$1806)","v":332.5},{"$f":"LOOKUP($AO282,Data!$A$6:$A$1806,Data!$H$6:$H$1806)","v":10},{"$f":"LOOKUP($AO282,Data!$A$6:$A$1806,Data!$I$6:$I$1806)","v":0},{"$f":"LOOKUP($AO282,Data!$A$6:$A$1806,Data!$J$6:$J$1806)","v":-103},{"$f":"LOOKUP($AO282,Data!$A$6:$A$1806,Data!$K$6:$K$1806)","v":7719.45},-18.3990478515625]
[null,40098.107106481104,{"$f":"LOOKUP(B283,Data!$A$6:$A$1806,Data!B$6:B$1806)","v":60.021999359130859},{"$f":"LOOKUP(B283,Data!$A$6:$A$1806,Data!C$6:C$1806)","v":3786.2841796875},null,null,null,-17.5994873046875,-17.755400843113772,null,null,0,3748.2540462482825,{"$f":"AVERAGE(D$79:D283)","v":3768.4633562785825},{"$f":"AVERAGE(M$79:M283)","v":3770.9157926034359},3765.4461564175972,{"$f":"AVERAGE(P$79:P283)","v":3728.626751136776},633,null,null,null,null,null,null,0,633,-3145.206283317933,null,null,null,null,null,null,null,null,null,null,null,null,null,40098.107106481104,{"$f":"LOOKUP($AO283,Data!$A$6:$A$1806,Data!$B$6:$B$1806)","v":60.021999359130859},{"$f":"LOOKUP($AO283,Data!$A$6:$A$1806,Data!$C$6:$C$1806)","v":3786.2841796875},{"$f":"LOOKUP($AO283,Data!$A$6:$A$1806,Data!$D$6:$D$1806)","v":350},{"$f":"IF($AS$1=\"+\",LOOKUP($AO283,Data!$A$6:$A$1806,Data!$E$6:$E$1806)*-1,LOOKUP($AO283,Data!$A$6:$A$1806,Data!$E$6:$E$1806))","v":230.73442077636719},{"$f":"LOOKUP($AO283,Data!$A$6:$A$1806,Data!$F$6:$F$1806)","v":16},{"$f":"LOOKUP($AO283,Data!$A$6:$A$1806,Data!$G$6:$G$1806)","v":333},{"$f":"LOOKUP($AO283,Data!$A$6:$A$1806,Data!$H$6:$H$1806)","v":10},{"$f":"LOOKUP($AO283,Data!$A$6:$A$1806,Data!$I$6:$I$1806)","v":0},{"$f":"LOOKUP($AO283,Data!$A$6:$A$1806,Data!$J$6:$J$1806)","v":-103},{"$f":"LOOKUP($AO283,Data!$A$6:$A$1806,Data!$K$6:$K$1806)","v":7719.78},-17.5994873046875]
[null,40098.10712962925,{"$f":"LOOKUP(B284,Data!$A$6:$A$1806,Data!B$6:B$1806)","v":60.019001007080078},{"$f":"LOOKUP(B284,Data!$A$6:$A$1806,Data!C$6:C$1806)","v":3786.939208984375},null,null,null,-15.2008056640625,-16.86129253044583,null,null,0,3749.1481545609504,{"$f":"AVERAGE(D$79:D284)","v":3768.5530448839504},{"$f":"AVERAGE(M$79:M284)","v":3770.8101244575987},3765.4461564175972,{"$f":"AVERAGE(P$79:P284)","v":3728.8063579918044},633,null,null,null,null,null,null,0,633,-2737.3898669965974,null,null,null,null,null,null,null,null,null,null,null,null,null,40098.10712962925,{"$f":"LOOKUP($AO284,Data!$A$6:$A$1806,Data!$B$6:$B$1806)","v":60.019001007080078},{"$f":"LOOKUP($AO284,Data!$A$6:$A$1806,Data!$C$6:$C$1806)","v":3786.939208984375},{"$f":"LOOKUP($AO284,Data!$A$6:$A$1806,Data!$D$6:$D$1806)","v":350},{"$f":"IF($AS$1=\"+\",LOOKUP($AO284,Data!$A$6:$A$1806,Data!$E$6:$E$1806)*-1,LOOKUP($AO284,Data!$A$6:$A$1806,Data!$E$6:$E$1806))","v":230.73442077636719},{"$f":"LOOKUP($AO284,Data!$A$6:$A$1806,Data!$F$6:$F$1806)","v":16},{"$f":"LOOKUP($AO284,Data!$A$6:$A$1806,Data!$G$6:$G$1806)","v":333.5},{"$f":"LOOKUP($AO284,Data!$A$6:$A$1806,Data!$H$6:$H$1806)","v":10},{"$f":"LOOKUP($AO284,Data!$A$6:$A$1806,Data!$I$6:$I$1806)","v":0},{"$f":"LOOKUP($AO284,Data!$A$6:$A$1806,Data!$J$6:$J$1806)","v":-103},{"$f":"LOOKUP($AO284,Data!$A$6:$A$1806,Data!$K$6:$K$1806)","v":7720.11},-15.2008056640625]
[null,40098.107152777397,{"$f":"LOOKUP(B285,Data!$A$6:$A$1806,Data!B$6:B$1806)","v":60.015998840332031},{"$f":"LOOKUP(B285,Data!$A$6:$A$1806,Data!C$6:C$1806)","v":3787.62744140625},null,null,null,-12.799072265625,-15.439515437758541,null,null,0,3750.5699316536375,{"$f":"AVERAGE(D$79:D285)","v":3768.6451917270533},{"$f":"AVERAGE(M$79:M285)","v":3770.7123457484008},3765.4461564175972,{"$f":"AVERAGE(P$79:P285)","v":3728.9842210909587},633,null,null,null,null,null,null,0,633,-2422.8380865470608,null,null,null,null,null,null,null,null,null,null,null,null,null,40098.107152777397,{"$f":"LOOKUP($AO285,Data!$A$6:$A$1806,Data!$B$6:$B$1806)","v":60.015998840332031},{"$f":"LOOKUP($AO285,Data!$A$6:$A$1806,Data!$C$6:$C$1806)","v":3787.62744140625},{"$f":"LOOKUP($AO285,Data!$A$6:$A$1806,Data!$D$6:$D$1806)","v":350},{"$f":"IF($AS$1=\"+\",LOOKUP($AO285,Data!$A$6:$A$1806,Data!$E$6:$E$1806)*-1,LOOKUP($AO285,Data!$A$6:$A$1806,Data!$E$6:$E$1806))","v":234.84710693359375},{"$f":"LOOKUP($AO285,Data!$A$6:$A$1806,Data!$F$6:$F$1806)","v":16},{"$f":"LOOKUP($AO285,Data!$A$6:$A$1806,Data!$G$6:$G$1806)","v":334},{"$f":"LOOKUP($AO285,Data!$A$6:$A$1806,Data!$H$6:$H$1806)","v":10},{"$f":"LOOKUP($AO285,Data!$A$6:$A$1806,Data!$I$6:$I$1806)","v":0},{"$f":"LOOKUP($AO285,Data!$A$6:$A$1806,Data!$J$6:$J$1806)","v":-103},{"$f":"LOOKUP($AO285,Data!$A$6:$A$1806,Data!$K$6:$K$1806)","v":7720.44},-12.799072265625]
[null,40098.107175925543,{"$f":"LOOKUP(B286,Data!$A$6:$A$1806,Data!B$6:B$1806)","v":60.018001556396484},{"$f":"LOOKUP(B286,Data!$A$6:$A$1806,Data!C$6:C$1806)","v":3789.4443359375},null,null,null,-14.4012451171875,-15.076120825558677,null,null,0,3750.9333262658374,{"$f":"AVERAGE(D$79:D286)","v":3768.7451876126802},{"$f":"AVERAGE(M$79:M286)","v":3770.6172543085809},3765.4461564175972,{"$f":"AVERAGE(P$79:P286)","v":3729.1603657060632},633,null,null,null,null,null,null,0,633,-2623.97900021743,null,null,null,null,null,null,null,null,null,null,null,null,null,40098.107175925543,{"$f":"LOOKUP($AO286,Data!$A$6:$A$1806,Data!$B$6:$B$1806)","v":60.018001556396484},{"$f":"LOOKUP($AO286,Data!$A$6:$A$1806,Data!$C$6:$C$1806)","v":3789.4443359375},{"$f":"LOOKUP($AO286,Data!$A$6:$A$1806,Data!$D$6:$D$1806)","v":350},{"$f":"IF($AS$1=\"+\",LOOKUP($AO286,Data!$A$6:$A$1806,Data!$E$6:$E$1806)*-1,LOOKUP($AO286,Data!$A$6:$A$1806,Data!$E$6:$E$1806))","v":234.84710693359375},{"$f":"LOOKUP($AO286,Data!$A$6:$A$1806,Data!$F$6:$F$1806)","v":16},{"$f":"LOOKUP($AO286,Data!$A$6:$A$1806,Data!$G$6:$G$1806)","v":334.5},{"$f":"LOOKUP($AO286,Data!$A$6:$A$1806,Data!$H$6:$H$1806)","v":10},{"$f":"LOOKUP($AO286,Data!$A$6:$A$1806,Data!$I$6:$I$1806)","v":0},{"$f":"LOOKUP($AO286,Data!$A$6:$A$1806,Data!$J$6:$J$1806)","v":-103},{"$f":"LOOKUP($AO286,Data!$A$6:$A$1806,Data!$K$6:$K$1806)","v":7720.77},-14.4012451171875]
[null,40098.107199073689,{"$f":"LOOKUP(B287,Data!$A$6:$A$1806,Data!B$6:B$1806)","v":60.018001556396484},{"$f":"LOOKUP(B287,Data!$A$6:$A$1806,Data!C$6:C$1806)","v":3789.67333984375},null,null,null,-14.4012451171875,-14.839914327628765,null,null,0,3751.1695327637672,{"$f":"AVERAGE(D$79:D287)","v":3768.8453223123506},{"$f":"AVERAGE(M$79:M287)","v":3770.5242030093236},3765.4461564175972,{"$f":"AVERAGE(P$79:P287)","v":3729.3348166229457},633,null,null,null,null,null,null,0,633,-2623.97900021743,null,null,null,null,null,null,null,null,null,null,null,null,null,40098.107199073689,{"$f":"LOOKUP($AO287,Data!$A$6:$A$1806,Data!$B$6:$B$1806)","v":60.018001556396484},{"$f":"LOOKUP($AO287,Data!$A$6:$A$1806,Data!$C$6:$C$1806)","v":3789.67333984375},{"$f":"LOOKUP($AO287,Data!$A$6:$A$1806,Data!$D$6:$D$1806)","v":350},{"$f":"IF($AS$1=\"+\",LOOKUP($AO287,Data!$A$6:$A$1806,Data!$E$6:$E$1806)*-1,LOOKUP($AO287,Data!$A$6:$A$1806,Data!$E$6:$E$1806))","v":234.84710693359375},{"$f":"LOOKUP($AO287,Data!$A$6:$A$1806,Data!$F$6:$F$1806)","v":16},{"$f":"LOOKUP($AO287,Data!$A$6:$A$1806,Data!$G$6:$G$1806)","v":335},{"$f":"LOOKUP($AO287,Data!$A$6:$A$1806,Data!$H$6:$H$1806)","v":10},{"$f":"LOOKUP($AO287,Data!$A$6:$A$1806,Data!$I$6:$I$1806)","v":0},{"$f":"LOOKUP($AO287,Data!$A$6:$A$1806,Data!$J$6:$J$1806)","v":-103},{"$f":"LOOKUP($AO287,Data!$A$6:$A$1806,Data!$K$6:$K$1806)","v":7721.1},-14.4012451171875]
[null,40098.107222221835,{"$f":"LOOKUP(B288,Data!$A$6:$A$1806,Data!B$6:B$1806)","v":60.018001556396484},{"$f":"LOOKUP(B288,Data!$A$6:$A$1806,Data!C$6:C$1806)","v":3789.404296875},null,null,null,-14.4012451171875,-14.686380103974322,null,null,0,3751.3230669874215,{"$f":"AVERAGE(D$79:D288)","v":3768.9432221912202},{"$f":"AVERAGE(M$79:M288)","v":3770.4327690282671},3765.4461564175972,{"$f":"AVERAGE(P$79:P288)","v":3729.5075981530636},633,null,null,null,null,null,null,0,633,-2623.97900021743,null,null,null,null,null,null,null,null,null,null,null,null,null,40098.107222221835,{"$f":"LOOKUP($AO288,Data!$A$6:$A$1806,Data!$B$6:$B$1806)","v":60.018001556396484},{"$f":"LOOKUP($AO288,Data!$A$6:$A$1806,Data!$C$6:$C$1806)","v":3789.404296875},{"$f":"LOOKUP($AO288,Data!$A$6:$A$1806,Data!$D$6:$D$1806)","v":350},{"$f":"IF($AS$1=\"+\",LOOKUP($AO288,Data!$A$6:$A$1806,Data!$E$6:$E$1806)*-1,LOOKUP($AO288,Data!$A$6:$A$1806,Data!$E$6:$E$1806))","v":234.84710693359375},{"$f":"LOOKUP($AO288,Data!$A$6:$A$1806,Data!$F$6:$F$1806)","v":16},{"$f":"LOOKUP($AO288,Data!$A$6:$A$1806,Data!$G$6:$G$1806)","v":335.5},{"$f":"LOOKUP($AO288,Data!$A$6:$A$1806,Data!$H$6:$H$1806)","v":10},{"$f":"LOOKUP($AO288,Data!$A$6:$A$1806,Data!$I$6:$I$1806)","v":0},{"$f":"LOOKUP($AO288,Data!$A$6:$A$1806,Data!$J$6:$J$1806)","v":-103},{"$f":"LOOKUP($AO288,Data!$A$6:$A$1806,Data!$K$6:$K$1806)","v":7721.43},-14.4012451171875]
[null,40098.107245369982,{"$f":"LOOKUP(B289,Data!$A$6:$A$1806,Data!B$6:B$1806)","v":60.019001007080078},{"$f":"LOOKUP(B289,Data!$A$6:$A$1806,Data!C$6:C$1806)","v":3788.478759765625},null,null,null,-15.2008056640625,-14.866429050005184,null,null,0,3751.1430180413909,{"$f":"AVERAGE(D$79:D289)","v":3769.035807677355},{"$f":"AVERAGE(M$79:M289)","v":3770.3413484074763},3765.4461564175972,{"$f":"AVERAGE(P$79:P289)","v":3729.6787341447998},633,null,null,null,null,null,null,0,633,-2737.3898669965974,null,null,null,null,null,null,null,null,null,null,null,null,null,40098.107245369982,{"$f":"LOOKUP($AO289,Data!$A$6:$A$1806,Data!$B$6:$B$1806)","v":60.019001007080078},{"$f":"LOOKUP($AO289,Data!$A$6:$A$1806,Data!$C$6:$C$1806)","v":3788.478759765625},{"$f":"LOOKUP($AO289,Data!$A$6:$A$1806,Data!$D$6:$D$1806)","v":350},{"$f":"IF($AS$1=\"+\",LOOKUP($AO289,Data!$A$6:$A$1806,Data!$E$6:$E$1806)*-1,LOOKUP($AO289,Data!$A$6:$A$1806,Data!$E$6:$E$1806))","v":234.84710693359375},{"$f":"LOOKUP($AO289,Data!$A$6:$A$1806,Data!$F$6:$F$1806)","v":16},{"$f":"LOOKUP($AO289,Data!$A$6:$A$1806,Data!$G$6:$G$1806)","v":336},{"$f":"LOOKUP($AO289,Data!$A$6:$A$1806,Data!$H$6:$H$1806)","v":10},{"$f":"LOOKUP($AO289,Data!$A$6:$A$1806,Data!$I$6:$I$1806)","v":0},{"$f":"LOOKUP($AO289,Data!$A$6:$A$1806,Data!$J$6:$J$1806)","v":-103},{"$f":"LOOKUP($AO289,Data!$A$6:$A$1806,Data!$K$6:$K$1806)","v":7721.76},-15.2008056640625]
[null,40098.107268518128,{"$f":"LOOKUP(B290,Data!$A$6:$A$1806,Data!B$6:B$1806)","v":60.019001007080078},{"$f":"LOOKUP(B290,Data!$A$6:$A$1806,Data!C$6:C$1806)","v":3789.183349609375},null,null,null,-15.2008056640625,-14.983460864925245,null,null,0,3751.0259862264706,{"$f":"AVERAGE(D$79:D290)","v":3769.1308432525061},{"$f":"AVERAGE(M$79:M290)","v":3770.2502382085095},3765.4461564175972,{"$f":"AVERAGE(P$79:P290)","v":3729.8482479944337},633,null,null,null,null,null,null,0,633,-2737.3898669965974,null,null,null,null,null,null,null,null,null,null,null,null,null,40098.107268518128,{"$f":"LOOKUP($AO290,Data!$A$6:$A$1806,Data!$B$6:$B$1806)","v":60.019001007080078},{"$f":"LOOKUP($AO290,Data!$A$6:$A$1806,Data!$C$6:$C$1806)","v":3789.183349609375},{"$f":"LOOKUP($AO290,Data!$A$6:$A$1806,Data!$D$6:$D$1806)","v":350},{"$f":"IF($AS$1=\"+\",LOOKUP($AO290,Data!$A$6:$A$1806,Data!$E$6:$E$1806)*-1,LOOKUP($AO290,Data!$A$6:$A$1806,Data!$E$6:$E$1806))","v":228.96092224121094},{"$f":"LOOKUP($AO290,Data!$A$6:$A$1806,Data!$F$6:$F$1806)","v":16},{"$f":"LOOKUP($AO290,Data!$A$6:$A$1806,Data!$G$6:$G$1806)","v":336.5},{"$f":"LOOKUP($AO290,Data!$A$6:$A$1806,Data!$H$6:$H$1806)","v":10},{"$f":"LOOKUP($AO290,Data!$A$6:$A$1806,Data!$I$6:$I$1806)","v":0},{"$f":"LOOKUP($AO290,Data!$A$6:$A$1806,Data!$J$6:$J$1806)","v":-103},{"$f":"LOOKUP($AO290,Data!$A$6:$A$1806,Data!$K$6:$K$1806)","v":7722.09},-15.2008056640625]
[null,40098.107291666274,{"$f":"LOOKUP(B291,Data!$A$6:$A$1806,Data!B$6:B$1806)","v":60.015998840332031},{"$f":"LOOKUP(B291,Data!$A$6:$A$1806,Data!C$6:C$1806)","v":3789.368896484375},null,null,null,-12.799072265625,-14.21892485517016,null,null,0,3751.7905222362256,{"$f":"AVERAGE(D$79:D291)","v":3769.2258575869278},{"$f":"AVERAGE(M$79:M291)","v":3770.1635728753063},3765.4461564175972,{"$f":"AVERAGE(P$79:P291)","v":3730.016162656807},633,null,null,null,null,null,null,0,633,-2422.8380865470608,null,null,null,null,null,null,null,null,null,null,null,null,null,40098.107291666274,{"$f":"LOOKUP($AO291,Data!$A$6:$A$1806,Data!$B$6:$B$1806)","v":60.015998840332031},{"$f":"LOOKUP($AO291,Data!$A$6:$A$1806,Data!$C$6:$C$1806)","v":3789.368896484375},{"$f":"LOOKUP($AO291,Data!$A$6:$A$1806,Data!$D$6:$D$1806)","v":350},{"$f":"IF($AS$1=\"+\",LOOKUP($AO291,Data!$A$6:$A$1806,Data!$E$6:$E$1806)*-1,LOOKUP($AO291,Data!$A$6:$A$1806,Data!$E$6:$E$1806))","v":228.96092224121094},{"$f":"LOOKUP($AO291,Data!$A$6:$A$1806,Data!$F$6:$F$1806)","v":16},{"$f":"LOOKUP($AO291,Data!$A$6:$A$1806,Data!$G$6:$G$1806)","v":337},{"$f":"LOOKUP($AO291,Data!$A$6:$A$1806,Data!$H$6:$H$1806)","v":10},{"$f":"LOOKUP($AO291,Data!$A$6:$A$1806,Data!$I$6:$I$1806)","v":0},{"$f":"LOOKUP($AO291,Data!$A$6:$A$1806,Data!$J$6:$J$1806)","v":-103},{"$f":"LOOKUP($AO291,Data!$A$6:$A$1806,Data!$K$6:$K$1806)","v":7722.42},-12.799072265625]
[null,40098.107314814421,{"$f":"LOOKUP(B292,Data!$A$6:$A$1806,Data!B$6:B$1806)","v":60.014999389648438},{"$f":"LOOKUP(B292,Data!$A$6:$A$1806,Data!C$6:C$1806)","v":3789.0048828125},null,null,null,-11.99951171875,-13.442130257423104,null,null,0,3752.5673168339727,{"$f":"AVERAGE(D$79:D292)","v":3769.3182829384491},{"$f":"AVERAGE(M$79:M292)","v":3770.0813473797862},3765.4461564175972,{"$f":"AVERAGE(P$79:P292)","v":3730.1825006556842},633,null,null,null,null,null,null,0,633,-2333.5686817726369,null,null,null,null,null,null,null,null,null,null,null,null,null,40098.107314814421,{"$f":"LOOKUP($AO292,Data!$A$6:$A$1806,Data!$B$6:$B$1806)","v":60.014999389648438},{"$f":"LOOKUP($AO292,Data!$A$6:$A$1806,Data!$C$6:$C$1806)","v":3789.0048828125},{"$f":"LOOKUP($AO292,Data!$A$6:$A$1806,Data!$D$6:$D$1806)","v":350},{"$f":"IF($AS$1=\"+\",LOOKUP($AO292,Data!$A$6:$A$1806,Data!$E$6:$E$1806)*-1,LOOKUP($AO292,Data!$A$6:$A$1806,Data!$E$6:$E$1806))","v":228.96092224121094},{"$f":"LOOKUP($AO292,Data!$A$6:$A$1806,Data!$F$6:$F$1806)","v":16},{"$f":"LOOKUP($AO292,Data!$A$6:$A$1806,Data!$G$6:$G$1806)","v":337.5},{"$f":"LOOKUP($AO292,Data!$A$6:$A$1806,Data!$H$6:$H$1806)","v":10},{"$f":"LOOKUP($AO292,Data!$A$6:$A$1806,Data!$I$6:$I$1806)","v":0},{"$f":"LOOKUP($AO292,Data!$A$6:$A$1806,Data!$J$6:$J$1806)","v":-103},{"$f":"LOOKUP($AO292,Data!$A$6:$A$1806,Data!$K$6:$K$1806)","v":7722.75},-11.99951171875]
[null,40098.107337962567,{"$f":"LOOKUP(B293,Data!$A$6:$A$1806,Data!B$6:B$1806)","v":60.015998840332031},{"$f":"LOOKUP(B293,Data!$A$6:$A$1806,Data!C$6:C$1806)","v":3788.66455078125},null,null,null,-12.799072265625,-13.217059960293767,null,null,0,3752.7923871311018,{"$f":"AVERAGE(D$79:D293)","v":3769.4082655795787},{"$f":"AVERAGE(M$79:M293)","v":3770.000933611188},3765.4461564175972,{"$f":"AVERAGE(P$79:P293)","v":3730.3472840938239},633,null,null,null,null,null,null,0,633,-2422.8380865470608,null,null,null,null,null,null,null,null,null,null,null,null,null,40098.107337962567,{"$f":"LOOKUP($AO293,Data!$A$6:$A$1806,Data!$B$6:$B$1806)","v":60.015998840332031},{"$f":"LOOKUP($AO293,Data!$A$6:$A$1806,Data!$C$6:$C$1806)","v":3788.66455078125},{"$f":"LOOKUP($AO293,Data!$A$6:$A$1806,Data!$D$6:$D$1806)","v":350},{"$f":"IF($AS$1=\"+\",LOOKUP($AO293,Data!$A$6:$A$1806,Data!$E$6:$E$1806)*-1,LOOKUP($AO293,Data!$A$6:$A$1806,Data!$E$6:$E$1806))","v":228.96092224121094},{"$f":"LOOKUP($AO293,Data!$A$6:$A$1806,Data!$F$6:$F$1806)","v":16},{"$f":"LOOKUP($AO293,Data!$A$6:$A$1806,Data!$G$6:$G$1806)","v":338},{"$f":"LOOKUP($AO293,Data!$A$6:$A$1806,Data!$H$6:$H$1806)","v":10},{"$f":"LOOKUP($AO293,Data!$A$6:$A$1806,Data!$I$6:$I$1806)","v":0},{"$f":"LOOKUP($AO293,Data!$A$6:$A$1806,Data!$J$6:$J$1806)","v":-103},{"$f":"LOOKUP($AO293,Data!$A$6:$A$1806,Data!$K$6:$K$1806)","v":7723.08},-12.799072265625]
[null,40098.107361110713,{"$f":"LOOKUP(B294,Data!$A$6:$A$1806,Data!B$6:B$1806)","v":60.013999938964844},{"$f":"LOOKUP(B294,Data!$A$6:$A$1806,Data!C$6:C$1806)","v":3788.932861328125},null,null,null,-11.199951171875,-12.511071884347199,null,null,0,3753.4983752070484,{"$f":"AVERAGE(D$79:D294)","v":3769.4986572265625},{"$f":"AVERAGE(M$79:M294)","v":3769.9245328778352},3765.4461564175972,{"$f":"AVERAGE(P$79:P294)","v":3730.5105346627715},633,null,null,null,null,null,null,0,633,-2250.6437719342862,null,null,null,null,null,null,null,null,null,null,null,null,null,40098.107361110713,{"$f":"LOOKUP($AO294,Data!$A$6:$A$1806,Data!$B$6:$B$1806)","v":60.013999938964844},{"$f":"LOOKUP($AO294,Data!$A$6:$A$1806,Data!$C$6:$C$1806)","v":3788.932861328125},{"$f":"LOOKUP($AO294,Data!$A$6:$A$1806,Data!$D$6:$D$1806)","v":350},{"$f":"IF($AS$1=\"+\",LOOKUP($AO294,Data!$A$6:$A$1806,Data!$E$6:$E$1806)*-1,LOOKUP($AO294,Data!$A$6:$A$1806,Data!$E$6:$E$1806))","v":228.96092224121094},{"$f":"LOOKUP($AO294,Data!$A$6:$A$1806,Data!$F$6:$F$1806)","v":16},{"$f":"LOOKUP($AO294,Data!$A$6:$A$1806,Data!$G$6:$G$1806)","v":338.5},{"$f":"LOOKUP($AO294,Data!$A$6:$A$1806,Data!$H$6:$H$1806)","v":10},{"$f":"LOOKUP($AO294,Data!$A$6:$A$1806,Data!$I$6:$I$1806)","v":0},{"$f":"LOOKUP($AO294,Data!$A$6:$A$1806,Data!$J$6:$J$1806)","v":-103},{"$f":"LOOKUP($AO294,Data!$A$6:$A$1806,Data!$K$6:$K$1806)","v":7723.41},-11.199951171875]
[null,40098.107384258859,{"$f":"LOOKUP(B295,Data!$A$6:$A$1806,Data!B$6:B$1806)","v":60.01300048828125},{"$f":"LOOKUP(B295,Data!$A$6:$A$1806,Data!C$6:C$1806)","v":3790.6669921875},null,null,null,-10.400390625,-11.772333443575679,null,null,0,3754.23711364782,{"$f":"AVERAGE(D$79:D295)","v":3769.596207157258},{"$f":"AVERAGE(M$79:M295)","v":3769.8522406233192},3765.4461564175972,{"$f":"AVERAGE(P$79:P295)","v":3730.6722736523775},633,null,null,null,null,null,null,0,633,-2173.4101999050408,null,null,null,null,null,null,null,null,null,null,null,null,null,40098.107384258859,{"$f":"LOOKUP($AO295,Data!$A$6:$A$1806,Data!$B$6:$B$1806)","v":60.01300048828125},{"$f":"LOOKUP($AO295,Data!$A$6:$A$1806,Data!$C$6:$C$1806)","v":3790.6669921875},{"$f":"LOOKUP($AO295,Data!$A$6:$A$1806,Data!$D$6:$D$1806)","v":350},{"$f":"IF($AS$1=\"+\",LOOKUP($AO295,Data!$A$6:$A$1806,Data!$E$6:$E$1806)*-1,LOOKUP($AO295,Data!$A$6:$A$1806,Data!$E$6:$E$1806))","v":231.17791748046875},{"$f":"LOOKUP($AO295,Data!$A$6:$A$1806,Data!$F$6:$F$1806)","v":16},{"$f":"LOOKUP($AO295,Data!$A$6:$A$1806,Data!$G$6:$G$1806)","v":339},{"$f":"LOOKUP($AO295,Data!$A$6:$A$1806,Data!$H$6:$H$1806)","v":10},{"$f":"LOOKUP($AO295,Data!$A$6:$A$1806,Data!$I$6:$I$1806)","v":0},{"$f":"LOOKUP($AO295,Data!$A$6:$A$1806,Data!$J$6:$J$1806)","v":-103},{"$f":"LOOKUP($AO295,Data!$A$6:$A$1806,Data!$K$6:$K$1806)","v":7723.74},-10.400390625]
[null,40098.107407407006,{"$f":"LOOKUP(B296,Data!$A$6:$A$1806,Data!B$6:B$1806)","v":60.012001037597656},{"$f":"LOOKUP(B296,Data!$A$6:$A$1806,Data!C$6:C$1806)","v":3790.80517578125},null,null,null,-9.600830078125,-11.012307265667943,null,null,0,3754.9971398257276,{"$f":"AVERAGE(D$79:D296)","v":3769.6934960041572},{"$f":"AVERAGE(M$79:M296)","v":3769.7840979591101},3765.4461564175972,{"$f":"AVERAGE(P$79:P296)","v":3730.8325219600515},633,null,null,null,null,null,null,0,633,-2101.3014895132569,null,null,null,null,null,null,null,null,null,null,null,null,null,40098.107407407006,{"$f":"LOOKUP($AO296,Data!$A$6:$A$1806,Data!$B$6:$B$1806)","v":60.012001037597656},{"$f":"LOOKUP($AO296,Data!$A$6:$A$1806,Data!$C$6:$C$1806)","v":3790.80517578125},{"$f":"LOOKUP($AO296,Data!$A$6:$A$1806,Data!$D$6:$D$1806)","v":350},{"$f":"IF($AS$1=\"+\",LOOKUP($AO296,Data!$A$6:$A$1806,Data!$E$6:$E$1806)*-1,LOOKUP($AO296,Data!$A$6:$A$1806,Data!$E$6:$E$1806))","v":231.17791748046875},{"$f":"LOOKUP($AO296,Data!$A$6:$A$1806,Data!$F$6:$F$1806)","v":16},{"$f":"LOOKUP($AO296,Data!$A$6:$A$1806,Data!$G$6:$G$1806)","v":339.5},{"$f":"LOOKUP($AO296,Data!$A$6:$A$1806,Data!$H$6:$H$1806)","v":10},{"$f":"LOOKUP($AO296,Data!$A$6:$A$1806,Data!$I$6:$I$1806)","v":0},{"$f":"LOOKUP($AO296,Data!$A$6:$A$1806,Data!$J$6:$J$1806)","v":-103},{"$f":"LOOKUP($AO296,Data!$A$6:$A$1806,Data!$K$6:$K$1806)","v":7724.07},-9.600830078125]
[null,40098.107430555152,{"$f":"LOOKUP(B297,Data!$A$6:$A$1806,Data!B$6:B$1806)","v":60.012001037597656},{"$f":"LOOKUP(B297,Data!$A$6:$A$1806,Data!C$6:C$1806)","v":3790.4111328125},null,null,null,-9.600830078125,-10.518290250027913,null,null,0,3755.4911568413677,{"$f":"AVERAGE(D$79:D297)","v":3769.788097085474},{"$f":"AVERAGE(M$79:M297)","v":3769.7188333877966},3765.4461564175972,{"$f":"AVERAGE(P$79:P297)","v":3730.9913000997649},633,null,null,null,null,null,null,0,633,-2101.3014895132569,null,null,null,null,null,null,null,null,null,null,null,null,null,40098.107430555152,{"$f":"LOOKUP($AO297,Data!$A$6:$A$1806,Data!$B$6:$B$1806)","v":60.012001037597656},{"$f":"LOOKUP($AO297,Data!$A$6:$A$1806,Data!$C$6:$C$1806)","v":3790.4111328125},{"$f":"LOOKUP($AO297,Data!$A$6:$A$1806,Data!$D$6:$D$1806)","v":350},{"$f":"IF($AS$1=\"+\",LOOKUP($AO297,Data!$A$6:$A$1806,Data!$E$6:$E$1806)*-1,LOOKUP($AO297,Data!$A$6:$A$1806,Data!$E$6:$E$1806))","v":231.17791748046875},{"$f":"LOOKUP($AO297,Data!$A$6:$A$1806,Data!$F$6:$F$1806)","v":16},{"$f":"LOOKUP($AO297,Data!$A$6:$A$1806,Data!$G$6:$G$1806)","v":340},{"$f":"LOOKUP($AO297,Data!$A$6:$A$1806,Data!$H$6:$H$1806)","v":10},{"$f":"LOOKUP($AO297,Data!$A$6:$A$1806,Data!$I$6:$I$1806)","v":0},{"$f":"LOOKUP($AO297,Data!$A$6:$A$1806,Data!$J$6:$J$1806)","v":-103},{"$f":"LOOKUP($AO297,Data!$A$6:$A$1806,Data!$K$6:$K$1806)","v":7724.4},-9.600830078125]
[null,40098.107453703298,{"$f":"LOOKUP(B298,Data!$A$6:$A$1806,Data!B$6:B$1806)","v":60.009998321533203},{"$f":"LOOKUP(B298,Data!$A$6:$A$1806,Data!C$6:C$1806)","v":3789.7685546875},null,null,null,-7.9986572265625,-9.6364186918150185,null,null,0,3756.3730283995806,{"$f":"AVERAGE(D$79:D298)","v":3769.878917347301},{"$f":"AVERAGE(M$79:M298)","v":3769.6581706378497},3765.4461564175972,{"$f":"AVERAGE(P$79:P298)","v":3731.1486282108053},633,null,null,null,null,null,null,0,633,-1970.3112667903524,null,null,null,null,null,null,null,null,null,null,null,null,null,40098.107453703298,{"$f":"LOOKUP($AO298,Data!$A$6:$A$1806,Data!$B$6:$B$1806)","v":60.009998321533203},{"$f":"LOOKUP($AO298,Data!$A$6:$A$1806,Data!$C$6:$C$1806)","v":3789.7685546875},{"$f":"LOOKUP($AO298,Data!$A$6:$A$1806,Data!$D$6:$D$1806)","v":350},{"$f":"IF($AS$1=\"+\",LOOKUP($AO298,Data!$A$6:$A$1806,Data!$E$6:$E$1806)*-1,LOOKUP($AO298,Data!$A$6:$A$1806,Data!$E$6:$E$1806))","v":231.17791748046875},{"$f":"LOOKUP($AO298,Data!$A$6:$A$1806,Data!$F$6:$F$1806)","v":16},{"$f":"LOOKUP($AO298,Data!$A$6:$A$1806,Data!$G$6:$G$1806)","v":340.5},{"$f":"LOOKUP($AO298,Data!$A$6:$A$1806,Data!$H$6:$H$1806)","v":10},{"$f":"LOOKUP($AO298,Data!$A$6:$A$1806,Data!$I$6:$I$1806)","v":0},{"$f":"LOOKUP($AO298,Data!$A$6:$A$1806,Data!$J$6:$J$1806)","v":-103},{"$f":"LOOKUP($AO298,Data!$A$6:$A$1806,Data!$K$6:$K$1806)","v":7724.73},-7.9986572265625]
[null,40098.107476851445,{"$f":"LOOKUP(B299,Data!$A$6:$A$1806,Data!B$6:B$1806)","v":60.006999969482422},{"$f":"LOOKUP(B299,Data!$A$6:$A$1806,Data!C$6:C$1806)","v":3791.539794921875},null,null,null,-5.5999755859375,{"$f":"L$13*H299+(1-L$13)*I298","v":-8.2236636047578866},null,null,0,3757.7857834866377,{"$f":"AVERAGE(D$79:D299)","v":3769.9769303680005},{"$f":"AVERAGE(M$79:M299)","v":3769.6044494290209},3765.4461564175972,{"$f":"AVERAGE(P$79:P299)","v":3731.3045260662907},633,null,null,null,null,null,null,0,{"$f":"SUM(R299:Y299)","v":633},-1802.1221182954807,null,null,null,null,null,null,null,null,null,null,null,null,null,40098.107476851445,{"$f":"LOOKUP($AO299,Data!$A$6:$A$1806,Data!$B$6:$B$1806)","v":60.006999969482422},{"$f":"LOOKUP($AO299,Data!$A$6:$A$1806,Data!$C$6:$C$1806)","v":3791.539794921875},{"$f":"LOOKUP($AO299,Data!$A$6:$A$1806,Data!$D$6:$D$1806)","v":350},{"$f":"IF($AS$1=\"+\",LOOKUP($AO299,Data!$A$6:$A$1806,Data!$E$6:$E$1806)*-1,LOOKUP($AO299,Data!$A$6:$A$1806,Data!$E$6:$E$1806))","v":231.17791748046875},{"$f":"LOOKUP($AO299,Data!$A$6:$A$1806,Data!$F$6:$F$1806)","v":16},{"$f":"LOOKUP($AO299,Data!$A$6:$A$1806,Data!$G$6:$G$1806)","v":341},{"$f":"LOOKUP($AO299,Data!$A$6:$A$1806,Data!$H$6:$H$1806)","v":10},{"$f":"LOOKUP($AO299,Data!$A$6:$A$1806,Data!$I$6:$I$1806)","v":0},{"$f":"LOOKUP($AO299,Data!$A$6:$A$1806,Data!$J$6:$J$1806)","v":-103},{"$f":"LOOKUP($AO299,Data!$A$6:$A$1806,Data!$K$6:$K$1806)","v":7725.06},-5.5999755859375]
[null,40098.107499999591,{"$f":"LOOKUP(B300,Data!$A$6:$A$1806,Data!B$6:B$1806)","v":60.006999969482422},{"$f":"LOOKUP(B300,Data!$A$6:$A$1806,Data!C$6:C$1806)","v":3792.9453125},null,null,null,{"$f":"(IF((C300-L$2)>0,((C300-L$2-L$5)/((L$4*L$2)-L$5)*L$3*-1),((C300-L$2+L$5)/((L$4*L$2)-L$5)*L$3*-1)))","v":-5.5999755859375},-7.3053727981707519,null,null,0,3758.7040742932249,{"$f":"AVERAGE(D$79:D300)","v":3770.0803915487754},{"$f":"AVERAGE(M$79:M300)","v":3769.5553486401209},3765.4461564175972,{"$f":"AVERAGE(P$79:P300)","v":3731.4590130814549},633,null,null,null,null,null,null,0,633,-1802.1221182954807,null,null,null,null,null,null,null,null,null,null,null,null,null,40098.107499999591,{"$f":"LOOKUP($AO300,Data!$A$6:$A$1806,Data!$B$6:$B$1806)","v":60.006999969482422},{"$f":"LOOKUP($AO300,Data!$A$6:$A$1806,Data!$C$6:$C$1806)","v":3792.9453125},{"$f":"LOOKUP($AO300,Data!$A$6:$A$1806,Data!$D$6:$D$1806)","v":350},{"$f":"IF($AS$1=\"+\",LOOKUP($AO300,Data!$A$6:$A$1806,Data!$E$6:$E$1806)*-1,LOOKUP($AO300,Data!$A$6:$A$1806,Data!$E$6:$E$1806))","v":236.48928833007812},{"$f":"LOOKUP($AO300,Data!$A$6:$A$1806,Data!$F$6:$F$1806)","v":16},{"$f":"LOOKUP($AO300,Data!$A$6:$A$1806,Data!$G$6:$G$1806)","v":341.5},{"$f":"LOOKUP($AO300,Data!$A$6:$A$1806,Data!$H$6:$H$1806)","v":10},{"$f":"LOOKUP($AO300,Data!$A$6:$A$1806,Data!$I$6:$I$1806)","v":0},{"$f":"LOOKUP($AO300,Data!$A$6:$A$1806,Data!$J$6:$J$1806)","v":-103},{"$f":"LOOKUP($AO300,Data!$A$6:$A$1806,Data!$K$6:$K$1806)","v":7725.39},{"$f":"(IF((AP300-$L$2)>0,((AP300-$L$2-$L$5)/(($L$4*$L$2)-$L$5)*$L$3*-1),((AP300-$L$2+$L$5)/(($L$4*$L$2)-$L$5)*$L$3*-1)))","v":-5.5999755859375}]
[null,40098.107523147737,{"$f":"LOOKUP(B301,Data!$A$6:$A$1806,Data!B$6:B$1806)","v":60.008998870849609},{"$f":"LOOKUP(B301,Data!$A$6:$A$1806,Data!C$6:C$1806)","v":3791.027099609375},null,null,null,-7.1990966796875,-7.2681761567016139,null,null,0,3758.7412709346941,{"$f":"AVERAGE(D$79:D301)","v":3770.1743229750559},{"$f":"AVERAGE(M$79:M301)","v":3769.5068550181236},3765.4461564175972,{"$f":"AVERAGE(P$79:P301)","v":3731.6121083217076},633,null,null,null,null,null,null,0,633,-1910.8652761583971,null,null,null,null,null,null,null,null,null,null,null,null,null,40098.107523147737,{"$f":"LOOKUP($AO301,Data!$A$6:$A$1806,Data!$B$6:$B$1806)","v":60.008998870849609},{"$f":"LOOKUP($AO301,Data!$A$6:$A$1806,Data!$C$6:$C$1806)","v":3791.027099609375},{"$f":"LOOKUP($AO301,Data!$A$6:$A$1806,Data!$D$6:$D$1806)","v":350},{"$f":"IF($AS$1=\"+\",LOOKUP($AO301,Data!$A$6:$A$1806,Data!$E$6:$E$1806)*-1,LOOKUP($AO301,Data!$A$6:$A$1806,Data!$E$6:$E$1806))","v":236.48928833007812},{"$f":"LOOKUP($AO301,Data!$A$6:$A$1806,Data!$F$6:$F$1806)","v":16},{"$f":"LOOKUP($AO301,Data!$A$6:$A$1806,Data!$G$6:$G$1806)","v":342},{"$f":"LOOKUP($AO301,Data!$A$6:$A$1806,Data!$H$6:$H$1806)","v":10},{"$f":"LOOKUP($AO301,Data!$A$6:$A$1806,Data!$I$6:$I$1806)","v":0},{"$f":"LOOKUP($AO301,Data!$A$6:$A$1806,Data!$J$6:$J$1806)","v":-103},{"$f":"LOOKUP($AO301,Data!$A$6:$A$1806,Data!$K$6:$K$1806)","v":7725.72},-7.1990966796875]
[null,{"$f":"B301+TIME(0,0,$B$1)","v":40098.107546295883},{"$f":"LOOKUP(B302,Data!$A$6:$A$1806,Data!B$6:B$1806)","v":60.008998870849609},{"$f":"LOOKUP(B302,Data!$A$6:$A$1806,Data!C$6:C$1806)","v":3791.443115234375},null,null,null,-7.1990966796875,-7.2439983397466738,null,null,0,3758.7654487516488,{"$f":"AVERAGE(D$79:D302)","v":3770.2692729404994},{"$f":"AVERAGE(M$79:M302)","v":3769.4589023115768},3765.4461564175972,{"$f":"AVERAGE(P$79:P302)","v":3731.7638305104788},633,null,null,null,null,null,null,0,633,-1910.8652761583971,null,null,null,null,null,null,null,null,null,null,null,null,null,40098.107546295883,{"$f":"LOOKUP($AO302,Data!$A$6:$A$1806,Data!$B$6:$B$1806)","v":60.008998870849609},{"$f":"LOOKUP($AO302,Data!$A$6:$A$1806,Data!$C$6:$C$1806)","v":3791.443115234375},{"$f":"LOOKUP($AO302,Data!$A$6:$A$1806,Data!$D$6:$D$1806)","v":350},{"$f":"IF($AS$1=\"+\",LOOKUP($AO302,Data!$A$6:$A$1806,Data!$E$6:$E$1806)*-1,LOOKUP($AO302,Data!$A$6:$A$1806,Data!$E$6:$E$1806))","v":236.48928833007812},{"$f":"LOOKUP($AO302,Data!$A$6:$A$1806,Data!$F$6:$F$1806)","v":16},{"$f":"LOOKUP($AO302,Data!$A$6:$A$1806,Data!$G$6:$G$1806)","v":342.5},{"$f":"LOOKUP($AO302,Data!$A$6:$A$1806,Data!$H$6:$H$1806)","v":10},{"$f":"LOOKUP($AO302,Data!$A$6:$A$1806,Data!$I$6:$I$1806)","v":0},{"$f":"LOOKUP($AO302,Data!$A$6:$A$1806,Data!$J$6:$J$1806)","v":-103},{"$f":"LOOKUP($AO302,Data!$A$6:$A$1806,Data!$K$6:$K$1806)","v":7726.05},-7.1990966796875]
[null,40098.10756944403,{"$f":"LOOKUP(B303,Data!$A$6:$A$1806,Data!B$6:B$1806)","v":60.009998321533203},{"$f":"LOOKUP(B303,Data!$A$6:$A$1806,Data!C$6:C$1806)","v":3791.426025390625},null,null,null,-7.9986572265625,-7.508128950132213,null,null,0,3758.5013181412633,{"$f":"AVERAGE(D$79:D303)","v":3770.363302951389},{"$f":"AVERAGE(M$79:M303)","v":3769.4102019374864},3765.4461564175972,{"$f":"AVERAGE(P$79:P303)","v":3731.9141980368499},633,null,null,null,null,null,null,0,633,-1970.3112667903524,null,null,null,null,null,null,null,null,null,null,null,null,null,40098.10756944403,{"$f":"LOOKUP($AO303,Data!$A$6:$A$1806,Data!$B$6:$B$1806)","v":60.009998321533203},{"$f":"LOOKUP($AO303,Data!$A$6:$A$1806,Data!$C$6:$C$1806)","v":3791.426025390625},{"$f":"LOOKUP($AO303,Data!$A$6:$A$1806,Data!$D$6:$D$1806)","v":350},{"$f":"IF($AS$1=\"+\",LOOKUP($AO303,Data!$A$6:$A$1806,Data!$E$6:$E$1806)*-1,LOOKUP($AO303,Data!$A$6:$A$1806,Data!$E$6:$E$1806))","v":236.48928833007812},{"$f":"LOOKUP($AO303,Data!$A$6:$A$1806,Data!$F$6:$F$1806)","v":16},{"$f":"LOOKUP($AO303,Data!$A$6:$A$1806,Data!$G$6:$G$1806)","v":343},{"$f":"LOOKUP($AO303,Data!$A$6:$A$1806,Data!$H$6:$H$1806)","v":10},{"$f":"LOOKUP($AO303,Data!$A$6:$A$1806,Data!$I$6:$I$1806)","v":0},{"$f":"LOOKUP($AO303,Data!$A$6:$A$1806,Data!$J$6:$J$1806)","v":-103},{"$f":"LOOKUP($AO303,Data!$A$6:$A$1806,Data!$K$6:$K$1806)","v":7726.38},-7.9986572265625]
[null,40098.107592592176,{"$f":"LOOKUP(B304,Data!$A$6:$A$1806,Data!B$6:B$1806)","v":60.002998352050781},{"$f":"LOOKUP(B304,Data!$A$6:$A$1806,Data!C$6:C$1806)","v":3790.60302734375},null,null,null,-2.398681640625,-5.7198223918046889,null,null,0,3760.2896246995906,{"$f":"AVERAGE(D$79:D304)","v":3770.45285925401},{"$f":"AVERAGE(M$79:M304)","v":3769.3698454010355},3765.4461564175972,{"$f":"AVERAGE(P$79:P304)","v":3732.0632289629866},633,null,null,null,null,null,null,0,633,-1617.8139248065322,null,null,null,null,null,null,null,null,null,null,null,null,null,40098.107592592176,{"$f":"LOOKUP($AO304,Data!$A$6:$A$1806,Data!$B$6:$B$1806)","v":60.002998352050781},{"$f":"LOOKUP($AO304,Data!$A$6:$A$1806,Data!$C$6:$C$1806)","v":3790.60302734375},{"$f":"LOOKUP($AO304,Data!$A$6:$A$1806,Data!$D$6:$D$1806)","v":350},{"$f":"IF($AS$1=\"+\",LOOKUP($AO304,Data!$A$6:$A$1806,Data!$E$6:$E$1806)*-1,LOOKUP($AO304,Data!$A$6:$A$1806,Data!$E$6:$E$1806))","v":236.48928833007812},{"$f":"LOOKUP($AO304,Data!$A$6:$A$1806,Data!$F$6:$F$1806)","v":16},{"$f":"LOOKUP($AO304,Data!$A$6:$A$1806,Data!$G$6:$G$1806)","v":343.5},{"$f":"LOOKUP($AO304,Data!$A$6:$A$1806,Data!$H$6:$H$1806)","v":10},{"$f":"LOOKUP($AO304,Data!$A$6:$A$1806,Data!$I$6:$I$1806)","v":0},{"$f":"LOOKUP($AO304,Data!$A$6:$A$1806,Data!$J$6:$J$1806)","v":-103},{"$f":"LOOKUP($AO304,Data!$A$6:$A$1806,Data!$K$6:$K$1806)","v":7726.71},-2.398681640625]
[null,40098.107615740322,{"$f":"LOOKUP(B305,Data!$A$6:$A$1806,Data!B$6:B$1806)","v":59.999000549316406},{"$f":"LOOKUP(B305,Data!$A$6:$A$1806,Data!C$6:C$1806)","v":3790.457275390625},null,null,null,0.799560546875,-3.4380383632667977,null,null,0,3762.5714087281285,{"$f":"AVERAGE(D$79:D305)","v":3770.5409844352284},{"$f":"AVERAGE(M$79:M305)","v":3769.3398963408026},3765.4461564175972,{"$f":"AVERAGE(P$79:P305)","v":3732.2109410313697},633,null,null,null,null,null,null,0,633,-1467.83712336492,null,null,null,null,null,null,null,null,null,null,null,null,null,40098.107615740322,{"$f":"LOOKUP($AO305,Data!$A$6:$A$1806,Data!$B$6:$B$1806)","v":59.999000549316406},{"$f":"LOOKUP($AO305,Data!$A$6:$A$1806,Data!$C$6:$C$1806)","v":3790.457275390625},{"$f":"LOOKUP($AO305,Data!$A$6:$A$1806,Data!$D$6:$D$1806)","v":350},{"$f":"IF($AS$1=\"+\",LOOKUP($AO305,Data!$A$6:$A$1806,Data!$E$6:$E$1806)*-1,LOOKUP($AO305,Data!$A$6:$A$1806,Data!$E$6:$E$1806))","v":245.03892517089844},{"$f":"LOOKUP($AO305,Data!$A$6:$A$1806,Data!$F$6:$F$1806)","v":16},{"$f":"LOOKUP($AO305,Data!$A$6:$A$1806,Data!$G$6:$G$1806)","v":344},{"$f":"LOOKUP($AO305,Data!$A$6:$A$1806,Data!$H$6:$H$1806)","v":10},{"$f":"LOOKUP($AO305,Data!$A$6:$A$1806,Data!$I$6:$I$1806)","v":0},{"$f":"LOOKUP($AO305,Data!$A$6:$A$1806,Data!$J$6:$J$1806)","v":-103},{"$f":"LOOKUP($AO305,Data!$A$6:$A$1806,Data!$K$6:$K$1806)","v":7727.04},0.799560546875]
[null,40098.107638888469,{"$f":"LOOKUP(B306,Data!$A$6:$A$1806,Data!B$6:B$1806)","v":59.994998931884766},{"$f":"LOOKUP(B306,Data!$A$6:$A$1806,Data!C$6:C$1806)","v":3790.21630859375},null,null,null,4.0008544921875,-0.83442586385779371,null,null,0,3765.1750212275374,{"$f":"AVERAGE(D$79:D306)","v":3770.6272797166257},{"$f":"AVERAGE(M$79:M306)","v":3769.3216293446922},3765.4461564175972,{"$f":"AVERAGE(P$79:P306)","v":3732.3573516718375},633,null,null,null,null,null,null,0,633,-1343.1992148212605,null,null,null,null,null,null,null,null,null,null,null,null,null,40098.107638888469,{"$f":"LOOKUP($AO306,Data!$A$6:$A$1806,Data!$B$6:$B$1806)","v":59.994998931884766},{"$f":"LOOKUP($AO306,Data!$A$6:$A$1806,Data!$C$6:$C$1806)","v":3790.21630859375},{"$f":"LOOKUP($AO306,Data!$A$6:$A$1806,Data!$D$6:$D$1806)","v":350},{"$f":"IF($AS$1=\"+\",LOOKUP($AO306,Data!$A$6:$A$1806,Data!$E$6:$E$1806)*-1,LOOKUP($AO306,Data!$A$6:$A$1806,Data!$E$6:$E$1806))","v":245.03892517089844},{"$f":"LOOKUP($AO306,Data!$A$6:$A$1806,Data!$F$6:$F$1806)","v":16},{"$f":"LOOKUP($AO306,Data!$A$6:$A$1806,Data!$G$6:$G$1806)","v":344.5},{"$f":"LOOKUP($AO306,Data!$A$6:$A$1806,Data!$H$6:$H$1806)","v":10},{"$f":"LOOKUP($AO306,Data!$A$6:$A$1806,Data!$I$6:$I$1806)","v":0},{"$f":"LOOKUP($AO306,Data!$A$6:$A$1806,Data!$J$6:$J$1806)","v":-103},{"$f":"LOOKUP($AO306,Data!$A$6:$A$1806,Data!$K$6:$K$1806)","v":7727.37},4.0008544921875]
[null,40098.107662036615,{"$f":"LOOKUP(B307,Data!$A$6:$A$1806,Data!B$6:B$1806)","v":59.992000579833984},{"$f":"LOOKUP(B307,Data!$A$6:$A$1806,Data!C$6:C$1806)","v":3789.5849609375},null,null,null,6.3995361328125,1.697460834976809,null,null,0,3767.706907926372,{"$f":"AVERAGE(D$79:D307)","v":3770.7100643507779},{"$f":"AVERAGE(M$79:M307)","v":3769.314578159459},3765.4461564175972,{"$f":"AVERAGE(P$79:P307)","v":3732.5024780084418},633,null,null,null,null,null,null,0,633,-1262.8518307822562,null,null,null,null,null,null,null,null,null,null,null,null,null,40098.107662036615,{"$f":"LOOKUP($AO307,Data!$A$6:$A$1806,Data!$B$6:$B$1806)","v":59.992000579833984},{"$f":"LOOKUP($AO307,Data!$A$6:$A$1806,Data!$C$6:$C$1806)","v":3789.5849609375},{"$f":"LOOKUP($AO307,Data!$A$6:$A$1806,Data!$D$6:$D$1806)","v":350},{"$f":"IF($AS$1=\"+\",LOOKUP($AO307,Data!$A$6:$A$1806,Data!$E$6:$E$1806)*-1,LOOKUP($AO307,Data!$A$6:$A$1806,Data!$E$6:$E$1806))","v":245.03892517089844},{"$f":"LOOKUP($AO307,Data!$A$6:$A$1806,Data!$F$6:$F$1806)","v":16},{"$f":"LOOKUP($AO307,Data!$A$6:$A$1806,Data!$G$6:$G$1806)","v":345},{"$f":"LOOKUP($AO307,Data!$A$6:$A$1806,Data!$H$6:$H$1806)","v":10},{"$f":"LOOKUP($AO307,Data!$A$6:$A$1806,Data!$I$6:$I$1806)","v":0},{"$f":"LOOKUP($AO307,Data!$A$6:$A$1806,Data!$J$6:$J$1806)","v":-103},{"$f":"LOOKUP($AO307,Data!$A$6:$A$1806,Data!$K$6:$K$1806)","v":7727.7},6.3995361328125]
[null,40098.107685184761,{"$f":"LOOKUP(B308,Data!$A$6:$A$1806,Data!B$6:B$1806)","v":59.991001129150391},{"$f":"LOOKUP(B308,Data!$A$6:$A$1806,Data!C$6:C$1806)","v":3788.45703125},null,null,null,7.1990966796875,3.623033380625551,null,null,0,3769.6324804720207,{"$f":"AVERAGE(D$79:D308)","v":3770.7872250764267},{"$f":"AVERAGE(M$79:M308)","v":3769.3159603434265},3765.4461564175972,{"$f":"AVERAGE(P$79:P308)","v":3732.6463368661239},633,null,null,null,null,null,null,0,633,-1238.1637047054983,null,null,null,null,null,null,null,null,null,null,null,null,null,40098.107685184761,{"$f":"LOOKUP($AO308,Data!$A$6:$A$1806,Data!$B$6:$B$1806)","v":59.991001129150391},{"$f":"LOOKUP($AO308,Data!$A$6:$A$1806,Data!$C$6:$C$1806)","v":3788.45703125},{"$f":"LOOKUP($AO308,Data!$A$6:$A$1806,Data!$D$6:$D$1806)","v":350},{"$f":"IF($AS$1=\"+\",LOOKUP($AO308,Data!$A$6:$A$1806,Data!$E$6:$E$1806)*-1,LOOKUP($AO308,Data!$A$6:$A$1806,Data!$E$6:$E$1806))","v":245.03892517089844},{"$f":"LOOKUP($AO308,Data!$A$6:$A$1806,Data!$F$6:$F$1806)","v":16},{"$f":"LOOKUP($AO308,Data!$A$6:$A$1806,Data!$G$6:$G$1806)","v":345.5},{"$f":"LOOKUP($AO308,Data!$A$6:$A$1806,Data!$H$6:$H$1806)","v":10},{"$f":"LOOKUP($AO308,Data!$A$6:$A$1806,Data!$I$6:$I$1806)","v":0},{"$f":"LOOKUP($AO308,Data!$A$6:$A$1806,Data!$J$6:$J$1806)","v":-103},{"$f":"LOOKUP($AO308,Data!$A$6:$A$1806,Data!$K$6:$K$1806)","v":7728.03},7.1990966796875]
[null,40098.107708332907,{"$f":"LOOKUP(B309,Data!$A$6:$A$1806,Data!B$6:B$1806)","v":59.992000579833984},{"$f":"LOOKUP(B309,Data!$A$6:$A$1806,Data!C$6:C$1806)","v":3788.10498046875},null,null,null,6.3995361328125,4.5948093438909829,null,null,0,3770.6042564352861,{"$f":"AVERAGE(D$79:D309)","v":3770.8621937144885},{"$f":"AVERAGE(M$79:M309)","v":3769.3215373827852},3765.4461564175972,{"$f":"AVERAGE(P$79:P309)","v":3732.7889447772172},633,null,null,null,null,null,null,0,633,-1262.8518307822562,null,null,null,null,null,null,null,null,null,null,null,null,null,40098.107708332907,{"$f":"LOOKUP($AO309,Data!$A$6:$A$1806,Data!$B$6:$B$1806)","v":59.992000579833984},{"$f":"LOOKUP($AO309,Data!$A$6:$A$1806,Data!$C$6:$C$1806)","v":3788.10498046875},{"$f":"LOOKUP($AO309,Data!$A$6:$A$1806,Data!$D$6:$D$1806)","v":350},{"$f":"IF($AS$1=\"+\",LOOKUP($AO309,Data!$A$6:$A$1806,Data!$E$6:$E$1806)*-1,LOOKUP($AO309,Data!$A$6:$A$1806,Data!$E$6:$E$1806))","v":245.03892517089844},{"$f":"LOOKUP($AO309,Data!$A$6:$A$1806,Data!$F$6:$F$1806)","v":16},{"$f":"LOOKUP($AO309,Data!$A$6:$A$1806,Data!$G$6:$G$1806)","v":346},{"$f":"LOOKUP($AO309,Data!$A$6:$A$1806,Data!$H$6:$H$1806)","v":10},{"$f":"LOOKUP($AO309,Data!$A$6:$A$1806,Data!$I$6:$I$1806)","v":0},{"$f":"LOOKUP($AO309,Data!$A$6:$A$1806,Data!$J$6:$J$1806)","v":-103},{"$f":"LOOKUP($AO309,Data!$A$6:$A$1806,Data!$K$6:$K$1806)","v":7728.36},6.3995361328125]
[null,40098.107731481054,{"$f":"LOOKUP(B310,Data!$A$6:$A$1806,Data!B$6:B$1806)","v":59.992000579833984},{"$f":"LOOKUP(B310,Data!$A$6:$A$1806,Data!C$6:C$1806)","v":3788.05712890625},null,null,null,6.3995361328125,5.2264637200135144,null,null,0,3771.2359108114088,{"$f":"AVERAGE(D$79:D310)","v":3770.9363098144531},{"$f":"AVERAGE(M$79:M310)","v":3769.3297889923915},3765.4461564175972,{"$f":"AVERAGE(P$79:P310)","v":3732.9303179877816},633,null,null,null,null,null,null,0,633,-1262.8518307822562,null,null,null,null,null,null,null,null,null,null,null,null,null,40098.107731481054,{"$f":"LOOKUP($AO310,Data!$A$6:$A$1806,Data!$B$6:$B$1806)","v":59.992000579833984},{"$f":"LOOKUP($AO310,Data!$A$6:$A$1806,Data!$C$6:$C$1806)","v":3788.05712890625},{"$f":"LOOKUP($AO310,Data!$A$6:$A$1806,Data!$D$6:$D$1806)","v":350},{"$f":"IF($AS$1=\"+\",LOOKUP($AO310,Data!$A$6:$A$1806,Data!$E$6:$E$1806)*-1,LOOKUP($AO310,Data!$A$6:$A$1806,Data!$E$6:$E$1806))","v":223.60568237304687},{"$f":"LOOKUP($AO310,Data!$A$6:$A$1806,Data!$F$6:$F$1806)","v":16},{"$f":"LOOKUP($AO310,Data!$A$6:$A$1806,Data!$G$6:$G$1806)","v":346.5},{"$f":"LOOKUP($AO310,Data!$A$6:$A$1806,Data!$H$6:$H$1806)","v":10},{"$f":"LOOKUP($AO310,Data!$A$6:$A$1806,Data!$I$6:$I$1806)","v":0},{"$f":"LOOKUP($AO310,Data!$A$6:$A$1806,Data!$J$6:$J$1806)","v":-103},{"$f":"LOOKUP($AO310,Data!$A$6:$A$1806,Data!$K$6:$K$1806)","v":7728.69},6.3995361328125]
[null,40098.1077546292,{"$f":"LOOKUP(B311,Data!$A$6:$A$1806,Data!B$6:B$1806)","v":59.987998962402344},{"$f":"LOOKUP(B311,Data!$A$6:$A$1806,Data!C$6:C$1806)","v":3788.189453125},null,null,null,9.600830078125,6.7574919453525339,null,null,0,3772.7669390367478,{"$f":"AVERAGE(D$79:D311)","v":3771.0103576398201},{"$f":"AVERAGE(M$79:M311)","v":3769.3445407093204},3765.4461564175972,{"$f":"AVERAGE(P$79:P311)","v":3733.0704724637721},633,null,null,null,null,null,null,0,633,-1169.4877289425694,null,null,null,null,null,null,null,null,null,null,null,null,null,40098.1077546292,{"$f":"LOOKUP($AO311,Data!$A$6:$A$1806,Data!$B$6:$B$1806)","v":59.987998962402344},{"$f":"LOOKUP($AO311,Data!$A$6:$A$1806,Data!$C$6:$C$1806)","v":3788.189453125},{"$f":"LOOKUP($AO311,Data!$A$6:$A$1806,Data!$D$6:$D$1806)","v":350},{"$f":"IF($AS$1=\"+\",LOOKUP($AO311,Data!$A$6:$A$1806,Data!$E$6:$E$1806)*-1,LOOKUP($AO311,Data!$A$6:$A$1806,Data!$E$6:$E$1806))","v":223.60568237304687},{"$f":"LOOKUP($AO311,Data!$A$6:$A$1806,Data!$F$6:$F$1806)","v":16},{"$f":"LOOKUP($AO311,Data!$A$6:$A$1806,Data!$G$6:$G$1806)","v":347},{"$f":"LOOKUP($AO311,Data!$A$6:$A$1806,Data!$H$6:$H$1806)","v":10},{"$f":"LOOKUP($AO311,Data!$A$6:$A$1806,Data!$I$6:$I$1806)","v":0},{"$f":"LOOKUP($AO311,Data!$A$6:$A$1806,Data!$J$6:$J$1806)","v":-103},{"$f":"LOOKUP($AO311,Data!$A$6:$A$1806,Data!$K$6:$K$1806)","v":7729.02},9.600830078125]
[null,40098.107777777346,{"$f":"LOOKUP(B312,Data!$A$6:$A$1806,Data!B$6:B$1806)","v":59.986000061035156},{"$f":"LOOKUP(B312,Data!$A$6:$A$1806,Data!C$6:C$1806)","v":3788.497314453125},null,null,null,11.199951171875,8.3123526746353971,null,null,0,3774.3217997660308,{"$f":"AVERAGE(D$79:D312)","v":3771.0850882244927},{"$f":"AVERAGE(M$79:M312)","v":3769.3658110471697},3765.4461564175972,{"$f":"AVERAGE(P$79:P312)","v":3733.2094238970503},633,null,null,null,null,null,null,0,633,-1127.8363474168034,null,null,null,null,null,null,null,null,null,null,null,null,null,40098.107777777346,{"$f":"LOOKUP($AO312,Data!$A$6:$A$1806,Data!$B$6:$B$1806)","v":59.986000061035156},{"$f":"LOOKUP($AO312,Data!$A$6:$A$1806,Data!$C$6:$C$1806)","v":3788.497314453125},{"$f":"LOOKUP($AO312,Data!$A$6:$A$1806,Data!$D$6:$D$1806)","v":350},{"$f":"IF($AS$1=\"+\",LOOKUP($AO312,Data!$A$6:$A$1806,Data!$E$6:$E$1806)*-1,LOOKUP($AO312,Data!$A$6:$A$1806,Data!$E$6:$E$1806))","v":223.60568237304687},{"$f":"LOOKUP($AO312,Data!$A$6:$A$1806,Data!$F$6:$F$1806)","v":16},{"$f":"LOOKUP($AO312,Data!$A$6:$A$1806,Data!$G$6:$G$1806)","v":347.5},{"$f":"LOOKUP($AO312,Data!$A$6:$A$1806,Data!$H$6:$H$1806)","v":10},{"$f":"LOOKUP($AO312,Data!$A$6:$A$1806,Data!$I$6:$I$1806)","v":0},{"$f":"LOOKUP($AO312,Data!$A$6:$A$1806,Data!$J$6:$J$1806)","v":-103},{"$f":"LOOKUP($AO312,Data!$A$6:$A$1806,Data!$K$6:$K$1806)","v":7729.35},11.199951171875]
[null,40098.107800925492,{"$f":"LOOKUP(B313,Data!$A$6:$A$1806,Data!B$6:B$1806)","v":59.985000610351563},{"$f":"LOOKUP(B313,Data!$A$6:$A$1806,Data!C$6:C$1806)","v":3788.5400390625},null,null,null,11.99951171875,9.6028583400755085,null,null,0,3775.6123054314708,{"$f":"AVERAGE(D$79:D313)","v":3771.1593646110373},{"$f":"AVERAGE(M$79:M313)","v":3769.3923918743371},3765.4461564175972,{"$f":"AVERAGE(P$79:P313)","v":3733.3471877112411},633,null,null,null,null,null,null,0,633,-1108.1037537875943,null,null,null,null,null,null,null,null,null,null,null,null,null,40098.107800925492,{"$f":"LOOKUP($AO313,Data!$A$6:$A$1806,Data!$B$6:$B$1806)","v":59.985000610351563},{"$f":"LOOKUP($AO313,Data!$A$6:$A$1806,Data!$C$6:$C$1806)","v":3788.5400390625},{"$f":"LOOKUP($AO313,Data!$A$6:$A$1806,Data!$D$6:$D$1806)","v":350},{"$f":"IF($AS$1=\"+\",LOOKUP($AO313,Data!$A$6:$A$1806,Data!$E$6:$E$1806)*-1,LOOKUP($AO313,Data!$A$6:$A$1806,Data!$E$6:$E$1806))","v":223.60568237304687},{"$f":"LOOKUP($AO313,Data!$A$6:$A$1806,Data!$F$6:$F$1806)","v":16},{"$f":"LOOKUP($AO313,Data!$A$6:$A$1806,Data!$G$6:$G$1806)","v":348},{"$f":"LOOKUP($AO313,Data!$A$6:$A$1806,Data!$H$6:$H$1806)","v":10},{"$f":"LOOKUP($AO313,Data!$A$6:$A$1806,Data!$I$6:$I$1806)","v":0},{"$f":"LOOKUP($AO313,Data!$A$6:$A$1806,Data!$J$6:$J$1806)","v":-103},{"$f":"LOOKUP($AO313,Data!$A$6:$A$1806,Data!$K$6:$K$1806)","v":7729.68},11.99951171875]
[null,40098.107824073639,{"$f":"LOOKUP(B314,Data!$A$6:$A$1806,Data!B$6:B$1806)","v":59.984001159667969},{"$f":"LOOKUP(B314,Data!$A$6:$A$1806,Data!C$6:C$1806)","v":3788.57080078125},null,null,null,12.799072265625,10.721533214017832,null,null,0,3776.7309803054131,{"$f":"AVERAGE(D$79:D314)","v":3771.2331418829449},{"$f":"AVERAGE(M$79:M314)","v":3769.4234875880284},3765.4461564175972,{"$f":"AVERAGE(P$79:P314)","v":3733.4837790674383},633,null,null,null,null,null,null,0,633,-1089.0497690635382,null,null,null,null,null,null,null,null,null,null,null,null,null,40098.107824073639,{"$f":"LOOKUP($AO314,Data!$A$6:$A$1806,Data!$B$6:$B$1806)","v":59.984001159667969},{"$f":"LOOKUP($AO314,Data!$A$6:$A$1806,Data!$C$6:$C$1806)","v":3788.57080078125},{"$f":"LOOKUP($AO314,Data!$A$6:$A$1806,Data!$D$6:$D$1806)","v":350},{"$f":"IF($AS$1=\"+\",LOOKUP($AO314,Data!$A$6:$A$1806,Data!$E$6:$E$1806)*-1,LOOKUP($AO314,Data!$A$6:$A$1806,Data!$E$6:$E$1806))","v":223.60568237304687},{"$f":"LOOKUP($AO314,Data!$A$6:$A$1806,Data!$F$6:$F$1806)","v":16},{"$f":"LOOKUP($AO314,Data!$A$6:$A$1806,Data!$G$6:$G$1806)","v":348.5},{"$f":"LOOKUP($AO314,Data!$A$6:$A$1806,Data!$H$6:$H$1806)","v":10},{"$f":"LOOKUP($AO314,Data!$A$6:$A$1806,Data!$I$6:$I$1806)","v":0},{"$f":"LOOKUP($AO314,Data!$A$6:$A$1806,Data!$J$6:$J$1806)","v":-103},{"$f":"LOOKUP($AO314,Data!$A$6:$A$1806,Data!$K$6:$K$1806)","v":7730.01},12.799072265625]
[null,40098.107847221785,{"$f":"LOOKUP(B315,Data!$A$6:$A$1806,Data!B$6:B$1806)","v":59.985000610351563},{"$f":"LOOKUP(B315,Data!$A$6:$A$1806,Data!C$6:C$1806)","v":3788.10107421875},null,null,null,11.99951171875,11.16882569067409,null,null,0,3777.1782727820696,{"$f":"AVERAGE(D$79:D315)","v":3771.3043145932224},{"$f":"AVERAGE(M$79:M315)","v":3769.4562082006614},3765.4461564175972,{"$f":"AVERAGE(P$79:P315)","v":3733.6192128697694},633,null,null,null,null,null,null,0,633,-1108.1037537875943,null,null,null,null,null,null,null,null,null,null,null,null,null,40098.107847221785,{"$f":"LOOKUP($AO315,Data!$A$6:$A$1806,Data!$B$6:$B$1806)","v":59.985000610351563},{"$f":"LOOKUP($AO315,Data!$A$6:$A$1806,Data!$C$6:$C$1806)","v":3788.10107421875},{"$f":"LOOKUP($AO315,Data!$A$6:$A$1806,Data!$D$6:$D$1806)","v":350},{"$f":"IF($AS$1=\"+\",LOOKUP($AO315,Data!$A$6:$A$1806,Data!$E$6:$E$1806)*-1,LOOKUP($AO315,Data!$A$6:$A$1806,Data!$E$6:$E$1806))","v":231.11935424804687},{"$f":"LOOKUP($AO315,Data!$A$6:$A$1806,Data!$F$6:$F$1806)","v":16},{"$f":"LOOKUP($AO315,Data!$A$6:$A$1806,Data!$G$6:$G$1806)","v":349},{"$f":"LOOKUP($AO315,Data!$A$6:$A$1806,Data!$H$6:$H$1806)","v":10},{"$f":"LOOKUP($AO315,Data!$A$6:$A$1806,Data!$I$6:$I$1806)","v":0},{"$f":"LOOKUP($AO315,Data!$A$6:$A$1806,Data!$J$6:$J$1806)","v":-103},{"$f":"LOOKUP($AO315,Data!$A$6:$A$1806,Data!$K$6:$K$1806)","v":7730.34},11.99951171875]
[null,40098.107870369931,{"$f":"LOOKUP(B316,Data!$A$6:$A$1806,Data!B$6:B$1806)","v":59.984001159667969},{"$f":"LOOKUP(B316,Data!$A$6:$A$1806,Data!C$6:C$1806)","v":3787.13330078125},null,null,null,12.799072265625,11.739411991906909,null,null,0,3777.7488590833022,{"$f":"AVERAGE(D$79:D316)","v":3771.3708229385506},{"$f":"AVERAGE(M$79:M316)","v":3769.4910512715969},3765.4461564175972,{"$f":"AVERAGE(P$79:P316)","v":3733.7535037708149},633,null,null,null,null,null,null,0,633,-1089.0497690635382,null,null,null,null,null,null,null,null,null,null,null,null,null,40098.107870369931,{"$f":"LOOKUP($AO316,Data!$A$6:$A$1806,Data!$B$6:$B$1806)","v":59.984001159667969},{"$f":"LOOKUP($AO316,Data!$A$6:$A$1806,Data!$C$6:$C$1806)","v":3787.13330078125},{"$f":"LOOKUP($AO316,Data!$A$6:$A$1806,Data!$D$6:$D$1806)","v":350},{"$f":"IF($AS$1=\"+\",LOOKUP($AO316,Data!$A$6:$A$1806,Data!$E$6:$E$1806)*-1,LOOKUP($AO316,Data!$A$6:$A$1806,Data!$E$6:$E$1806))","v":231.11935424804687},{"$f":"LOOKUP($AO316,Data!$A$6:$A$1806,Data!$F$6:$F$1806)","v":16},{"$f":"LOOKUP($AO316,Data!$A$6:$A$1806,Data!$G$6:$G$1806)","v":349.5},{"$f":"LOOKUP($AO316,Data!$A$6:$A$1806,Data!$H$6:$H$1806)","v":10},{"$f":"LOOKUP($AO316,Data!$A$6:$A$1806,Data!$I$6:$I$1806)","v":0},{"$f":"LOOKUP($AO316,Data!$A$6:$A$1806,Data!$J$6:$J$1806)","v":-103},{"$f":"LOOKUP($AO316,Data!$A$6:$A$1806,Data!$K$6:$K$1806)","v":7730.67},12.799072265625]
[null,40098.107893518078,{"$f":"LOOKUP(B317,Data!$A$6:$A$1806,Data!B$6:B$1806)","v":59.981998443603516},{"$f":"LOOKUP(B317,Data!$A$6:$A$1806,Data!C$6:C$1806)","v":3786.452880859375},null,null,null,14.4012451171875,12.671053585755116,null,null,0,3778.6805006771506,{"$f":"AVERAGE(D$79:D317)","v":3771.4339277834074},{"$f":"AVERAGE(M$79:M317)","v":3769.5295008507001},3765.4461564175972,{"$f":"AVERAGE(P$79:P317)","v":3733.8866661768939},633,null,null,null,null,null,null,0,633,-1052.7754597723938,null,null,null,null,null,null,null,null,null,null,null,null,null,40098.107893518078,{"$f":"LOOKUP($AO317,Data!$A$6:$A$1806,Data!$B$6:$B$1806)","v":59.981998443603516},{"$f":"LOOKUP($AO317,Data!$A$6:$A$1806,Data!$C$6:$C$1806)","v":3786.452880859375},{"$f":"LOOKUP($AO317,Data!$A$6:$A$1806,Data!$D$6:$D$1806)","v":350},{"$f":"IF($AS$1=\"+\",LOOKUP($AO317,Data!$A$6:$A$1806,Data!$E$6:$E$1806)*-1,LOOKUP($AO317,Data!$A$6:$A$1806,Data!$E$6:$E$1806))","v":231.11935424804687},{"$f":"LOOKUP($AO317,Data!$A$6:$A$1806,Data!$F$6:$F$1806)","v":16},{"$f":"LOOKUP($AO317,Data!$A$6:$A$1806,Data!$G$6:$G$1806)","v":350},{"$f":"LOOKUP($AO317,Data!$A$6:$A$1806,Data!$H$6:$H$1806)","v":10},{"$f":"LOOKUP($AO317,Data!$A$6:$A$1806,Data!$I$6:$I$1806)","v":0},{"$f":"LOOKUP($AO317,Data!$A$6:$A$1806,Data!$J$6:$J$1806)","v":-103},{"$f":"LOOKUP($AO317,Data!$A$6:$A$1806,Data!$K$6:$K$1806)","v":7731},14.4012451171875]
[null,40098.107916666224,{"$f":"LOOKUP(B318,Data!$A$6:$A$1806,Data!B$6:B$1806)","v":59.980998992919922},{"$f":"LOOKUP(B318,Data!$A$6:$A$1806,Data!C$6:C$1806)","v":3787.732421875},null,null,null,15.2008056640625,13.5564668131627,null,null,0,3779.5659139045583,{"$f":"AVERAGE(D$79:D318)","v":3771.5018381754558},{"$f":"AVERAGE(M$79:M318)","v":3769.5713192384242},3765.4461564175972,{"$f":"AVERAGE(P$79:P318)","v":3734.018714253215},633,null,null,null,null,null,null,0,633,-1035.5619474066043,null,null,null,null,null,null,null,null,null,null,null,null,null,40098.107916666224,{"$f":"LOOKUP($AO318,Data!$A$6:$A$1806,Data!$B$6:$B$1806)","v":59.980998992919922},{"$f":"LOOKUP($AO318,Data!$A$6:$A$1806,Data!$C$6:$C$1806)","v":3787.732421875},{"$f":"LOOKUP($AO318,Data!$A$6:$A$1806,Data!$D$6:$D$1806)","v":350},{"$f":"IF($AS$1=\"+\",LOOKUP($AO318,Data!$A$6:$A$1806,Data!$E$6:$E$1806)*-1,LOOKUP($AO318,Data!$A$6:$A$1806,Data!$E$6:$E$1806))","v":231.11935424804687},{"$f":"LOOKUP($AO318,Data!$A$6:$A$1806,Data!$F$6:$F$1806)","v":16},{"$f":"LOOKUP($AO318,Data!$A$6:$A$1806,Data!$G$6:$G$1806)","v":350.5},{"$f":"LOOKUP($AO318,Data!$A$6:$A$1806,Data!$H$6:$H$1806)","v":10},{"$f":"LOOKUP($AO318,Data!$A$6:$A$1806,Data!$I$6:$I$1806)","v":0},{"$f":"LOOKUP($AO318,Data!$A$6:$A$1806,Data!$J$6:$J$1806)","v":-103},{"$f":"LOOKUP($AO318,Data!$A$6:$A$1806,Data!$K$6:$K$1806)","v":7731.33},15.2008056640625]
[null,40098.10793981437,{"$f":"LOOKUP(B319,Data!$A$6:$A$1806,Data!B$6:B$1806)","v":59.981998443603516},{"$f":"LOOKUP(B319,Data!$A$6:$A$1806,Data!C$6:C$1806)","v":3788.8134765625},null,null,null,14.4012451171875,13.852139219571381,null,null,0,3779.8615863109671,{"$f":"AVERAGE(D$79:D319)","v":3771.5736706998832},{"$f":"AVERAGE(M$79:M319)","v":3769.6140174420452},3765.4461564175972,{"$f":"AVERAGE(P$79:P319)","v":3734.1496619289001},633,null,null,null,null,null,null,0,633,-1052.7754597723938,null,null,null,null,null,null,null,null,null,null,null,null,null,40098.10793981437,{"$f":"LOOKUP($AO319,Data!$A$6:$A$1806,Data!$B$6:$B$1806)","v":59.981998443603516},{"$f":"LOOKUP($AO319,Data!$A$6:$A$1806,Data!$C$6:$C$1806)","v":3788.8134765625},{"$f":"LOOKUP($AO319,Data!$A$6:$A$1806,Data!$D$6:$D$1806)","v":350},{"$f":"IF($AS$1=\"+\",LOOKUP($AO319,Data!$A$6:$A$1806,Data!$E$6:$E$1806)*-1,LOOKUP($AO319,Data!$A$6:$A$1806,Data!$E$6:$E$1806))","v":231.11935424804687},{"$f":"LOOKUP($AO319,Data!$A$6:$A$1806,Data!$F$6:$F$1806)","v":16},{"$f":"LOOKUP($AO319,Data!$A$6:$A$1806,Data!$G$6:$G$1806)","v":351},{"$f":"LOOKUP($AO319,Data!$A$6:$A$1806,Data!$H$6:$H$1806)","v":10},{"$f":"LOOKUP($AO319,Data!$A$6:$A$1806,Data!$I$6:$I$1806)","v":0},{"$f":"LOOKUP($AO319,Data!$A$6:$A$1806,Data!$J$6:$J$1806)","v":-103},{"$f":"LOOKUP($AO319,Data!$A$6:$A$1806,Data!$K$6:$K$1806)","v":7731.66},14.4012451171875]
[null,40098.107962962516,{"$f":"LOOKUP(B320,Data!$A$6:$A$1806,Data!B$6:B$1806)","v":59.979000091552734},{"$f":"LOOKUP(B320,Data!$A$6:$A$1806,Data!C$6:C$1806)","v":3789.28515625},null,null,null,16.7999267578125,14.883864857955773,null,null,0,3780.8933119493518,{"$f":"AVERAGE(D$79:D320)","v":3771.6468586567021},{"$f":"AVERAGE(M$79:M320)","v":3769.6606260970339},3765.4461564175972,{"$f":"AVERAGE(P$79:P320)","v":3734.279522901882},633,null,null,null,null,null,null,0,633,-1002.7701562889495,null,null,null,null,null,null,null,null,null,null,null,null,null,40098.107962962516,{"$f":"LOOKUP($AO320,Data!$A$6:$A$1806,Data!$B$6:$B$1806)","v":59.979000091552734},{"$f":"LOOKUP($AO320,Data!$A$6:$A$1806,Data!$C$6:$C$1806)","v":3789.28515625},{"$f":"LOOKUP($AO320,Data!$A$6:$A$1806,Data!$D$6:$D$1806)","v":350},{"$f":"IF($AS$1=\"+\",LOOKUP($AO320,Data!$A$6:$A$1806,Data!$E$6:$E$1806)*-1,LOOKUP($AO320,Data!$A$6:$A$1806,Data!$E$6:$E$1806))","v":237.20664978027344},{"$f":"LOOKUP($AO320,Data!$A$6:$A$1806,Data!$F$6:$F$1806)","v":16},{"$f":"LOOKUP($AO320,Data!$A$6:$A$1806,Data!$G$6:$G$1806)","v":351.5},{"$f":"LOOKUP($AO320,Data!$A$6:$A$1806,Data!$H$6:$H$1806)","v":10},{"$f":"LOOKUP($AO320,Data!$A$6:$A$1806,Data!$I$6:$I$1806)","v":0},{"$f":"LOOKUP($AO320,Data!$A$6:$A$1806,Data!$J$6:$J$1806)","v":-103},{"$f":"LOOKUP($AO320,Data!$A$6:$A$1806,Data!$K$6:$K$1806)","v":7731.99},16.7999267578125]
[null,40098.107986110663,{"$f":"LOOKUP(B321,Data!$A$6:$A$1806,Data!B$6:B$1806)","v":59.977001190185547},{"$f":"LOOKUP(B321,Data!$A$6:$A$1806,Data!C$6:C$1806)","v":3788.25634765625},null,null,null,18.3990478515625,16.114178905718127,null,null,0,3782.1236259971142,{"$f":"AVERAGE(D$79:D321)","v":3771.7152104632846},{"$f":"AVERAGE(M$79:M321)","v":3769.7119141624662},3765.4461564175972,{"$f":"AVERAGE(P$79:P321)","v":3734.4083106436824},633,null,null,null,null,null,null,0,633,-971.99137177375064,null,null,null,null,null,null,null,null,null,null,null,null,null,40098.107986110663,{"$f":"LOOKUP($AO321,Data!$A$6:$A$1806,Data!$B$6:$B$1806)","v":59.977001190185547},{"$f":"LOOKUP($AO321,Data!$A$6:$A$1806,Data!$C$6:$C$1806)","v":3788.25634765625},{"$f":"LOOKUP($AO321,Data!$A$6:$A$1806,Data!$D$6:$D$1806)","v":350},{"$f":"IF($AS$1=\"+\",LOOKUP($AO321,Data!$A$6:$A$1806,Data!$E$6:$E$1806)*-1,LOOKUP($AO321,Data!$A$6:$A$1806,Data!$E$6:$E$1806))","v":237.20664978027344},{"$f":"LOOKUP($AO321,Data!$A$6:$A$1806,Data!$F$6:$F$1806)","v":16},{"$f":"LOOKUP($AO321,Data!$A$6:$A$1806,Data!$G$6:$G$1806)","v":352},{"$f":"LOOKUP($AO321,Data!$A$6:$A$1806,Data!$H$6:$H$1806)","v":10},{"$f":"LOOKUP($AO321,Data!$A$6:$A$1806,Data!$I$6:$I$1806)","v":0},{"$f":"LOOKUP($AO321,Data!$A$6:$A$1806,Data!$J$6:$J$1806)","v":-103},{"$f":"LOOKUP($AO321,Data!$A$6:$A$1806,Data!$K$6:$K$1806)","v":7732.32},18.3990478515625]
[null,40098.108009258809,{"$f":"LOOKUP(B322,Data!$A$6:$A$1806,Data!B$6:B$1806)","v":59.976001739501953},{"$f":"LOOKUP(B322,Data!$A$6:$A$1806,Data!C$6:C$1806)","v":3788.40966796875},null,null,null,19.1986083984375,17.193729228169907,null,null,0,3783.203176319566,{"$f":"AVERAGE(D$79:D322)","v":3771.7836303710937},{"$f":"AVERAGE(M$79:M322)","v":3769.7672062204874},3765.4461564175972,{"$f":"AVERAGE(P$79:P322)","v":3734.5360384040691},633,null,null,null,null,null,null,0,633,-957.29980745794001,null,null,null,null,null,null,null,null,null,null,null,null,null,40098.108009258809,{"$f":"LOOKUP($AO322,Data!$A$6:$A$1806,Data!$B$6:$B$1806)","v":59.976001739501953},{"$f":"LOOKUP($AO322,Data!$A$6:$A$1806,Data!$C$6:$C$1806)","v":3788.40966796875},{"$f":"LOOKUP($AO322,Data!$A$6:$A$1806,Data!$D$6:$D$1806)","v":350},{"$f":"IF($AS$1=\"+\",LOOKUP($AO322,Data!$A$6:$A$1806,Data!$E$6:$E$1806)*-1,LOOKUP($AO322,Data!$A$6:$A$1806,Data!$E$6:$E$1806))","v":237.20664978027344},{"$f":"LOOKUP($AO322,Data!$A$6:$A$1806,Data!$F$6:$F$1806)","v":16},{"$f":"LOOKUP($AO322,Data!$A$6:$A$1806,Data!$G$6:$G$1806)","v":352.5},{"$f":"LOOKUP($AO322,Data!$A$6:$A$1806,Data!$H$6:$H$1806)","v":10},{"$f":"LOOKUP($AO322,Data!$A$6:$A$1806,Data!$I$6:$I$1806)","v":0},{"$f":"LOOKUP($AO322,Data!$A$6:$A$1806,Data!$J$6:$J$1806)","v":-103},{"$f":"LOOKUP($AO322,Data!$A$6:$A$1806,Data!$K$6:$K$1806)","v":7732.65},19.1986083984375]
[null,40098.108032406955,{"$f":"LOOKUP(B323,Data!$A$6:$A$1806,Data!B$6:B$1806)","v":59.976001739501953},{"$f":"LOOKUP(B323,Data!$A$6:$A$1806,Data!C$6:C$1806)","v":3790.46728515625},null,null,null,19.1986083984375,17.895436937763563,null,null,0,3783.9048840291598,{"$f":"AVERAGE(D$79:D323)","v":3771.8598901865435},{"$f":"AVERAGE(M$79:M323)","v":3769.8249110278698},3765.4461564175972,{"$f":"AVERAGE(P$79:P323)","v":3734.6627192155997},633,null,null,null,null,null,null,0,633,-957.29980745794001,null,null,null,null,null,null,null,null,null,null,null,null,null,40098.108032406955,{"$f":"LOOKUP($AO323,Data!$A$6:$A$1806,Data!$B$6:$B$1806)","v":59.976001739501953},{"$f":"LOOKUP($AO323,Data!$A$6:$A$1806,Data!$C$6:$C$1806)","v":3790.46728515625},{"$f":"LOOKUP($AO323,Data!$A$6:$A$1806,Data!$D$6:$D$1806)","v":350},{"$f":"IF($AS$1=\"+\",LOOKUP($AO323,Data!$A$6:$A$1806,Data!$E$6:$E$1806)*-1,LOOKUP($AO323,Data!$A$6:$A$1806,Data!$E$6:$E$1806))","v":237.20664978027344},{"$f":"LOOKUP($AO323,Data!$A$6:$A$1806,Data!$F$6:$F$1806)","v":16},{"$f":"LOOKUP($AO323,Data!$A$6:$A$1806,Data!$G$6:$G$1806)","v":353},{"$f":"LOOKUP($AO323,Data!$A$6:$A$1806,Data!$H$6:$H$1806)","v":10},{"$f":"LOOKUP($AO323,Data!$A$6:$A$1806,Data!$I$6:$I$1806)","v":0},{"$f":"LOOKUP($AO323,Data!$A$6:$A$1806,Data!$J$6:$J$1806)","v":-103},{"$f":"LOOKUP($AO323,Data!$A$6:$A$1806,Data!$K$6:$K$1806)","v":7732.98},19.1986083984375]
[null,40098.108055555102,{"$f":"LOOKUP(B324,Data!$A$6:$A$1806,Data!B$6:B$1806)","v":59.979000091552734},{"$f":"LOOKUP(B324,Data!$A$6:$A$1806,Data!C$6:C$1806)","v":3790.66455078125},null,null,null,16.7999267578125,17.512008374780692,null,null,0,3783.521455466177,{"$f":"AVERAGE(D$79:D324)","v":3771.9363318962778},{"$f":"AVERAGE(M$79:M324)","v":3769.8805880377813},3765.4461564175972,{"$f":"AVERAGE(P$79:P324)","v":3734.7883658980572},633,null,null,null,null,null,null,0,633,-1002.7701562889495,null,null,null,null,null,null,null,null,null,null,null,null,null,40098.108055555102,{"$f":"LOOKUP($AO324,Data!$A$6:$A$1806,Data!$B$6:$B$1806)","v":59.979000091552734},{"$f":"LOOKUP($AO324,Data!$A$6:$A$1806,Data!$C$6:$C$1806)","v":3790.66455078125},{"$f":"LOOKUP($AO324,Data!$A$6:$A$1806,Data!$D$6:$D$1806)","v":350},{"$f":"IF($AS$1=\"+\",LOOKUP($AO324,Data!$A$6:$A$1806,Data!$E$6:$E$1806)*-1,LOOKUP($AO324,Data!$A$6:$A$1806,Data!$E$6:$E$1806))","v":237.20664978027344},{"$f":"LOOKUP($AO324,Data!$A$6:$A$1806,Data!$F$6:$F$1806)","v":16},{"$f":"LOOKUP($AO324,Data!$A$6:$A$1806,Data!$G$6:$G$1806)","v":353.5},{"$f":"LOOKUP($AO324,Data!$A$6:$A$1806,Data!$H$6:$H$1806)","v":10},{"$f":"LOOKUP($AO324,Data!$A$6:$A$1806,Data!$I$6:$I$1806)","v":0},{"$f":"LOOKUP($AO324,Data!$A$6:$A$1806,Data!$J$6:$J$1806)","v":-103},{"$f":"LOOKUP($AO324,Data!$A$6:$A$1806,Data!$K$6:$K$1806)","v":7733.31},16.7999267578125]
[null,40098.108078703248,{"$f":"LOOKUP(B325,Data!$A$6:$A$1806,Data!B$6:B$1806)","v":59.981998443603516},{"$f":"LOOKUP(B325,Data!$A$6:$A$1806,Data!C$6:C$1806)","v":3790.42041015625},null,null,null,14.4012451171875,16.423241234623077,null,null,0,3782.4326883260196,{"$f":"AVERAGE(D$79:D325)","v":3772.0111662212171},{"$f":"AVERAGE(M$79:M325)","v":3769.9314062575718},3765.4461564175972,{"$f":"AVERAGE(P$79:P325)","v":3734.9129910627707},633,null,null,null,null,null,null,0,633,-1052.7754597723938,null,null,null,null,null,null,null,null,null,null,null,null,null,40098.108078703248,{"$f":"LOOKUP($AO325,Data!$A$6:$A$1806,Data!$B$6:$B$1806)","v":59.981998443603516},{"$f":"LOOKUP($AO325,Data!$A$6:$A$1806,Data!$C$6:$C$1806)","v":3790.42041015625},{"$f":"LOOKUP($AO325,Data!$A$6:$A$1806,Data!$D$6:$D$1806)","v":350},{"$f":"IF($AS$1=\"+\",LOOKUP($AO325,Data!$A$6:$A$1806,Data!$E$6:$E$1806)*-1,LOOKUP($AO325,Data!$A$6:$A$1806,Data!$E$6:$E$1806))","v":240.51637268066406},{"$f":"LOOKUP($AO325,Data!$A$6:$A$1806,Data!$F$6:$F$1806)","v":16},{"$f":"LOOKUP($AO325,Data!$A$6:$A$1806,Data!$G$6:$G$1806)","v":354},{"$f":"LOOKUP($AO325,Data!$A$6:$A$1806,Data!$H$6:$H$1806)","v":10},{"$f":"LOOKUP($AO325,Data!$A$6:$A$1806,Data!$I$6:$I$1806)","v":0},{"$f":"LOOKUP($AO325,Data!$A$6:$A$1806,Data!$J$6:$J$1806)","v":-103},{"$f":"LOOKUP($AO325,Data!$A$6:$A$1806,Data!$K$6:$K$1806)","v":7733.64},14.4012451171875]
[null,40098.108101851394,{"$f":"LOOKUP(B326,Data!$A$6:$A$1806,Data!B$6:B$1806)","v":59.978000640869141},{"$f":"LOOKUP(B326,Data!$A$6:$A$1806,Data!C$6:C$1806)","v":3789.673828125},null,null,null,17.5994873046875,16.834927359145624,null,null,0,3782.8443744505421,{"$f":"AVERAGE(D$79:D326)","v":3772.0823866321193},{"$f":"AVERAGE(M$79:M326)","v":3769.9834746777046},3765.4461564175972,{"$f":"AVERAGE(P$79:P326)","v":3735.0366071168387},633,null,null,null,null,null,null,0,633,-987.14090378423396,null,null,null,null,null,null,null,null,null,null,null,null,null,40098.108101851394,{"$f":"LOOKUP($AO326,Data!$A$6:$A$1806,Data!$B$6:$B$1806)","v":59.978000640869141},{"$f":"LOOKUP($AO326,Data!$A$6:$A$1806,Data!$C$6:$C$1806)","v":3789.673828125},{"$f":"LOOKUP($AO326,Data!$A$6:$A$1806,Data!$D$6:$D$1806)","v":350},{"$f":"IF($AS$1=\"+\",LOOKUP($AO326,Data!$A$6:$A$1806,Data!$E$6:$E$1806)*-1,LOOKUP($AO326,Data!$A$6:$A$1806,Data!$E$6:$E$1806))","v":240.51637268066406},{"$f":"LOOKUP($AO326,Data!$A$6:$A$1806,Data!$F$6:$F$1806)","v":16},{"$f":"LOOKUP($AO326,Data!$A$6:$A$1806,Data!$G$6:$G$1806)","v":354.5},{"$f":"LOOKUP($AO326,Data!$A$6:$A$1806,Data!$H$6:$H$1806)","v":10},{"$f":"LOOKUP($AO326,Data!$A$6:$A$1806,Data!$I$6:$I$1806)","v":0},{"$f":"LOOKUP($AO326,Data!$A$6:$A$1806,Data!$J$6:$J$1806)","v":-103},{"$f":"LOOKUP($AO326,Data!$A$6:$A$1806,Data!$K$6:$K$1806)","v":7733.97},17.5994873046875]
[null,40098.10812499954,{"$f":"LOOKUP(B327,Data!$A$6:$A$1806,Data!B$6:B$1806)","v":59.976001739501953},{"$f":"LOOKUP(B327,Data!$A$6:$A$1806,Data!C$6:C$1806)","v":3789.26708984375},null,null,null,19.1986083984375,17.662215722897781,null,null,0,3783.6716628142945,{"$f":"AVERAGE(D$79:D327)","v":3772.1514015044554},{"$f":"AVERAGE(M$79:M327)","v":3770.0384473208237},3765.4461564175972,{"$f":"AVERAGE(P$79:P327)","v":3735.1592262672452},633,null,null,null,null,null,null,0,633,-957.29980745794001,null,null,null,null,null,null,null,null,null,null,null,null,null,40098.10812499954,{"$f":"LOOKUP($AO327,Data!$A$6:$A$1806,Data!$B$6:$B$1806)","v":59.976001739501953},{"$f":"LOOKUP($AO327,Data!$A$6:$A$1806,Data!$C$6:$C$1806)","v":3789.26708984375},{"$f":"LOOKUP($AO327,Data!$A$6:$A$1806,Data!$D$6:$D$1806)","v":350},{"$f":"IF($AS$1=\"+\",LOOKUP($AO327,Data!$A$6:$A$1806,Data!$E$6:$E$1806)*-1,LOOKUP($AO327,Data!$A$6:$A$1806,Data!$E$6:$E$1806))","v":240.51637268066406},{"$f":"LOOKUP($AO327,Data!$A$6:$A$1806,Data!$F$6:$F$1806)","v":16},{"$f":"LOOKUP($AO327,Data!$A$6:$A$1806,Data!$G$6:$G$1806)","v":355},{"$f":"LOOKUP($AO327,Data!$A$6:$A$1806,Data!$H$6:$H$1806)","v":10},{"$f":"LOOKUP($AO327,Data!$A$6:$A$1806,Data!$I$6:$I$1806)","v":0},{"$f":"LOOKUP($AO327,Data!$A$6:$A$1806,Data!$J$6:$J$1806)","v":-103},{"$f":"LOOKUP($AO327,Data!$A$6:$A$1806,Data!$K$6:$K$1806)","v":7734.3},19.1986083984375]
[null,40098.108148147687,{"$f":"LOOKUP(B328,Data!$A$6:$A$1806,Data!B$6:B$1806)","v":59.9739990234375},{"$f":"LOOKUP(B328,Data!$A$6:$A$1806,Data!C$6:C$1806)","v":3789.14794921875},null,null,null,20.80078125,18.760713657383558,null,null,0,3784.7701607487802,{"$f":"AVERAGE(D$79:D328)","v":3772.2193876953124},{"$f":"AVERAGE(M$79:M328)","v":3770.0973741745352},3765.4461564175972,{"$f":"AVERAGE(P$79:P328)","v":3735.280860524877},633,null,null,null,null,null,null,0,633,-929.15792288148054,null,null,null,null,null,null,null,null,null,null,null,null,null,40098.108148147687,{"$f":"LOOKUP($AO328,Data!$A$6:$A$1806,Data!$B$6:$B$1806)","v":59.9739990234375},{"$f":"LOOKUP($AO328,Data!$A$6:$A$1806,Data!$C$6:$C$1806)","v":3789.14794921875},{"$f":"LOOKUP($AO328,Data!$A$6:$A$1806,Data!$D$6:$D$1806)","v":350},{"$f":"IF($AS$1=\"+\",LOOKUP($AO328,Data!$A$6:$A$1806,Data!$E$6:$E$1806)*-1,LOOKUP($AO328,Data!$A$6:$A$1806,Data!$E$6:$E$1806))","v":240.51637268066406},{"$f":"LOOKUP($AO328,Data!$A$6:$A$1806,Data!$F$6:$F$1806)","v":16},{"$f":"LOOKUP($AO328,Data!$A$6:$A$1806,Data!$G$6:$G$1806)","v":355.5},{"$f":"LOOKUP($AO328,Data!$A$6:$A$1806,Data!$H$6:$H$1806)","v":10},{"$f":"LOOKUP($AO328,Data!$A$6:$A$1806,Data!$I$6:$I$1806)","v":0},{"$f":"LOOKUP($AO328,Data!$A$6:$A$1806,Data!$J$6:$J$1806)","v":-103},{"$f":"LOOKUP($AO328,Data!$A$6:$A$1806,Data!$K$6:$K$1806)","v":7734.63},20.80078125]
[null,40098.108171295833,{"$f":"LOOKUP(B329,Data!$A$6:$A$1806,Data!B$6:B$1806)","v":59.976001739501953},{"$f":"LOOKUP(B329,Data!$A$6:$A$1806,Data!C$6:C$1806)","v":3790.430419921875},null,null,null,19.1986083984375,18.913976816752438,null,null,0,3784.9234239081493,{"$f":"AVERAGE(D$79:D329)","v":3772.2919416085656},{"$f":"AVERAGE(M$79:M329)","v":3770.1564421017611},3765.4461564175972,{"$f":"AVERAGE(P$79:P329)","v":3735.4015217084479},633,null,null,null,null,null,null,0,633,-957.29980745794001,null,null,null,null,null,null,null,null,null,null,null,null,null,40098.108171295833,{"$f":"LOOKUP($AO329,Data!$A$6:$A$1806,Data!$B$6:$B$1806)","v":59.976001739501953},{"$f":"LOOKUP($AO329,Data!$A$6:$A$1806,Data!$C$6:$C$1806)","v":3790.430419921875},{"$f":"LOOKUP($AO329,Data!$A$6:$A$1806,Data!$D$6:$D$1806)","v":350},{"$f":"IF($AS$1=\"+\",LOOKUP($AO329,Data!$A$6:$A$1806,Data!$E$6:$E$1806)*-1,LOOKUP($AO329,Data!$A$6:$A$1806,Data!$E$6:$E$1806))","v":240.51637268066406},{"$f":"LOOKUP($AO329,Data!$A$6:$A$1806,Data!$F$6:$F$1806)","v":16},{"$f":"LOOKUP($AO329,Data!$A$6:$A$1806,Data!$G$6:$G$1806)","v":356},{"$f":"LOOKUP($AO329,Data!$A$6:$A$1806,Data!$H$6:$H$1806)","v":10},{"$f":"LOOKUP($AO329,Data!$A$6:$A$1806,Data!$I$6:$I$1806)","v":0},{"$f":"LOOKUP($AO329,Data!$A$6:$A$1806,Data!$J$6:$J$1806)","v":-103},{"$f":"LOOKUP($AO329,Data!$A$6:$A$1806,Data!$K$6:$K$1806)","v":7734.96},19.1986083984375]
[null,40098.108194443979,{"$f":"LOOKUP(B330,Data!$A$6:$A$1806,Data!B$6:B$1806)","v":59.977001190185547},{"$f":"LOOKUP(B330,Data!$A$6:$A$1806,Data!C$6:C$1806)","v":3789.914306640625},null,null,null,18.3990478515625,18.73375167893596,null,null,0,3784.743198770333,{"$f":"AVERAGE(D$79:D330)","v":3772.3618716285341},{"$f":"AVERAGE(M$79:M330)","v":3770.214326056795},3765.4461564175972,{"$f":"AVERAGE(P$79:P330)","v":3735.5212214483249},633,null,null,null,null,null,null,0,633,-971.99137177375064,null,null,null,null,null,null,null,null,null,null,null,null,null,40098.108194443979,{"$f":"LOOKUP($AO330,Data!$A$6:$A$1806,Data!$B$6:$B$1806)","v":59.977001190185547},{"$f":"LOOKUP($AO330,Data!$A$6:$A$1806,Data!$C$6:$C$1806)","v":3789.914306640625},{"$f":"LOOKUP($AO330,Data!$A$6:$A$1806,Data!$D$6:$D$1806)","v":350},{"$f":"IF($AS$1=\"+\",LOOKUP($AO330,Data!$A$6:$A$1806,Data!$E$6:$E$1806)*-1,LOOKUP($AO330,Data!$A$6:$A$1806,Data!$E$6:$E$1806))","v":237.56605529785156},{"$f":"LOOKUP($AO330,Data!$A$6:$A$1806,Data!$F$6:$F$1806)","v":16},{"$f":"LOOKUP($AO330,Data!$A$6:$A$1806,Data!$G$6:$G$1806)","v":356.5},{"$f":"LOOKUP($AO330,Data!$A$6:$A$1806,Data!$H$6:$H$1806)","v":10},{"$f":"LOOKUP($AO330,Data!$A$6:$A$1806,Data!$I$6:$I$1806)","v":0},{"$f":"LOOKUP($AO330,Data!$A$6:$A$1806,Data!$J$6:$J$1806)","v":-103},{"$f":"LOOKUP($AO330,Data!$A$6:$A$1806,Data!$K$6:$K$1806)","v":7735.29},18.3990478515625]
[null,40098.108217592126,{"$f":"LOOKUP(B331,Data!$A$6:$A$1806,Data!B$6:B$1806)","v":59.977001190185547},{"$f":"LOOKUP(B331,Data!$A$6:$A$1806,Data!C$6:C$1806)","v":3786.2431640625},null,null,null,18.3990478515625,18.61660533935525,null,null,0,3784.6260524307522,{"$f":"AVERAGE(D$79:D331)","v":3772.416738397048},{"$f":"AVERAGE(M$79:M331)","v":3770.2712894021465},3765.4461564175972,{"$f":"AVERAGE(P$79:P331)","v":3735.6399711902668},633,null,null,null,null,null,null,0,633,-971.99137177375064,null,null,null,null,null,null,null,null,null,null,null,null,null,40098.108217592126,{"$f":"LOOKUP($AO331,Data!$A$6:$A$1806,Data!$B$6:$B$1806)","v":59.977001190185547},{"$f":"LOOKUP($AO331,Data!$A$6:$A$1806,Data!$C$6:$C$1806)","v":3786.2431640625},{"$f":"LOOKUP($AO331,Data!$A$6:$A$1806,Data!$D$6:$D$1806)","v":350},{"$f":"IF($AS$1=\"+\",LOOKUP($AO331,Data!$A$6:$A$1806,Data!$E$6:$E$1806)*-1,LOOKUP($AO331,Data!$A$6:$A$1806,Data!$E$6:$E$1806))","v":237.56605529785156},{"$f":"LOOKUP($AO331,Data!$A$6:$A$1806,Data!$F$6:$F$1806)","v":16},{"$f":"LOOKUP($AO331,Data!$A$6:$A$1806,Data!$G$6:$G$1806)","v":357},{"$f":"LOOKUP($AO331,Data!$A$6:$A$1806,Data!$H$6:$H$1806)","v":10},{"$f":"LOOKUP($AO331,Data!$A$6:$A$1806,Data!$I$6:$I$1806)","v":0},{"$f":"LOOKUP($AO331,Data!$A$6:$A$1806,Data!$J$6:$J$1806)","v":-103},{"$f":"LOOKUP($AO331,Data!$A$6:$A$1806,Data!$K$6:$K$1806)","v":7735.62},18.3990478515625]
[null,40098.108240740272,{"$f":"LOOKUP(B332,Data!$A$6:$A$1806,Data!B$6:B$1806)","v":59.974998474121094},{"$f":"LOOKUP(B332,Data!$A$6:$A$1806,Data!C$6:C$1806)","v":3787.442138671875},null,null,null,20.001220703125,19.101220716674661,null,null,0,3785.1106678080714,{"$f":"AVERAGE(D$79:D332)","v":3772.4758935162404},{"$f":"AVERAGE(M$79:M332)","v":3770.3297121517762},3765.4461564175972,{"$f":"AVERAGE(P$79:P332)","v":3735.7577821990703},633,null,null,null,null,null,null,0,633,-942.99216196057534,null,null,null,null,null,null,null,null,null,null,null,null,null,40098.108240740272,{"$f":"LOOKUP($AO332,Data!$A$6:$A$1806,Data!$B$6:$B$1806)","v":59.974998474121094},{"$f":"LOOKUP($AO332,Data!$A$6:$A$1806,Data!$C$6:$C$1806)","v":3787.442138671875},{"$f":"LOOKUP($AO332,Data!$A$6:$A$1806,Data!$D$6:$D$1806)","v":350},{"$f":"IF($AS$1=\"+\",LOOKUP($AO332,Data!$A$6:$A$1806,Data!$E$6:$E$1806)*-1,LOOKUP($AO332,Data!$A$6:$A$1806,Data!$E$6:$E$1806))","v":237.56605529785156},{"$f":"LOOKUP($AO332,Data!$A$6:$A$1806,Data!$F$6:$F$1806)","v":16},{"$f":"LOOKUP($AO332,Data!$A$6:$A$1806,Data!$G$6:$G$1806)","v":357.5},{"$f":"LOOKUP($AO332,Data!$A$6:$A$1806,Data!$H$6:$H$1806)","v":10},{"$f":"LOOKUP($AO332,Data!$A$6:$A$1806,Data!$I$6:$I$1806)","v":0},{"$f":"LOOKUP($AO332,Data!$A$6:$A$1806,Data!$J$6:$J$1806)","v":-103},{"$f":"LOOKUP($AO332,Data!$A$6:$A$1806,Data!$K$6:$K$1806)","v":7735.95},20.001220703125]
[null,40098.108263888418,{"$f":"LOOKUP(B333,Data!$A$6:$A$1806,Data!B$6:B$1806)","v":59.972999572753906},{"$f":"LOOKUP(B333,Data!$A$6:$A$1806,Data!C$6:C$1806)","v":3788.962890625},null,null,null,21.600341796875,19.975913094744779,null,null,0,3785.9853601861414,{"$f":"AVERAGE(D$79:D333)","v":3772.5405484068629},{"$f":"AVERAGE(M$79:M333)","v":3770.3911068499506},3765.4461564175972,{"$f":"AVERAGE(P$79:P333)","v":3735.8746655621353},633,null,null,null,null,null,null,0,633,-915.72372746901021,null,null,null,null,null,null,null,null,null,null,null,null,null,40098.108263888418,{"$f":"LOOKUP($AO333,Data!$A$6:$A$1806,Data!$B$6:$B$1806)","v":59.972999572753906},{"$f":"LOOKUP($AO333,Data!$A$6:$A$1806,Data!$C$6:$C$1806)","v":3788.962890625},{"$f":"LOOKUP($AO333,Data!$A$6:$A$1806,Data!$D$6:$D$1806)","v":350},{"$f":"IF($AS$1=\"+\",LOOKUP($AO333,Data!$A$6:$A$1806,Data!$E$6:$E$1806)*-1,LOOKUP($AO333,Data!$A$6:$A$1806,Data!$E$6:$E$1806))","v":237.56605529785156},{"$f":"LOOKUP($AO333,Data!$A$6:$A$1806,Data!$F$6:$F$1806)","v":16},{"$f":"LOOKUP($AO333,Data!$A$6:$A$1806,Data!$G$6:$G$1806)","v":358},{"$f":"LOOKUP($AO333,Data!$A$6:$A$1806,Data!$H$6:$H$1806)","v":10},{"$f":"LOOKUP($AO333,Data!$A$6:$A$1806,Data!$I$6:$I$1806)","v":0},{"$f":"LOOKUP($AO333,Data!$A$6:$A$1806,Data!$J$6:$J$1806)","v":-103},{"$f":"LOOKUP($AO333,Data!$A$6:$A$1806,Data!$K$6:$K$1806)","v":7736.28},21.600341796875]
[null,40098.108287036564,{"$f":"LOOKUP(B334,Data!$A$6:$A$1806,Data!B$6:B$1806)","v":59.969001770019531},{"$f":"LOOKUP(B334,Data!$A$6:$A$1806,Data!C$6:C$1806)","v":3790.6015625},null,null,null,24.798583984375,21.663847906115357,null,null,0,3787.6732949975121,{"$f":"AVERAGE(D$79:D334)","v":3772.6110992431641},{"$f":"AVERAGE(M$79:M334)","v":3770.4586153974019},3765.4461564175972,{"$f":"AVERAGE(P$79:P334)","v":3735.9906321929411},633,null,null,null,null,null,null,0,633,-865.6593149050218,null,null,null,null,null,null,null,null,null,null,null,null,null,40098.108287036564,{"$f":"LOOKUP($AO334,Data!$A$6:$A$1806,Data!$B$6:$B$1806)","v":59.969001770019531},{"$f":"LOOKUP($AO334,Data!$A$6:$A$1806,Data!$C$6:$C$1806)","v":3790.6015625},{"$f":"LOOKUP($AO334,Data!$A$6:$A$1806,Data!$D$6:$D$1806)","v":350},{"$f":"IF($AS$1=\"+\",LOOKUP($AO334,Data!$A$6:$A$1806,Data!$E$6:$E$1806)*-1,LOOKUP($AO334,Data!$A$6:$A$1806,Data!$E$6:$E$1806))","v":237.56605529785156},{"$f":"LOOKUP($AO334,Data!$A$6:$A$1806,Data!$F$6:$F$1806)","v":16},{"$f":"LOOKUP($AO334,Data!$A$6:$A$1806,Data!$G$6:$G$1806)","v":358.5},{"$f":"LOOKUP($AO334,Data!$A$6:$A$1806,Data!$H$6:$H$1806)","v":10},{"$f":"LOOKUP($AO334,Data!$A$6:$A$1806,Data!$I$6:$I$1806)","v":0},{"$f":"LOOKUP($AO334,Data!$A$6:$A$1806,Data!$J$6:$J$1806)","v":-103},{"$f":"LOOKUP($AO334,Data!$A$6:$A$1806,Data!$K$6:$K$1806)","v":7736.61},24.798583984375]
[null,40098.108310184711,{"$f":"LOOKUP(B335,Data!$A$6:$A$1806,Data!B$6:B$1806)","v":59.970001220703125},{"$f":"LOOKUP(B335,Data!$A$6:$A$1806,Data!C$6:C$1806)","v":3791.876953125},null,null,null,23.9990234375,22.481159342099982,null,null,0,3788.4906064334969,{"$f":"AVERAGE(D$79:D335)","v":3772.6860636551555},{"$f":"AVERAGE(M$79:M335)","v":3770.5287787866473},3765.4461564175972,{"$f":"AVERAGE(P$79:P335)","v":3736.1056928344437},633,null,null,null,null,null,null,0,633,-877.6550963604509,null,null,null,null,null,null,null,null,null,null,null,null,null,40098.108310184711,{"$f":"LOOKUP($AO335,Data!$A$6:$A$1806,Data!$B$6:$B$1806)","v":59.970001220703125},{"$f":"LOOKUP($AO335,Data!$A$6:$A$1806,Data!$C$6:$C$1806)","v":3791.876953125},{"$f":"LOOKUP($AO335,Data!$A$6:$A$1806,Data!$D$6:$D$1806)","v":350},{"$f":"IF($AS$1=\"+\",LOOKUP($AO335,Data!$A$6:$A$1806,Data!$E$6:$E$1806)*-1,LOOKUP($AO335,Data!$A$6:$A$1806,Data!$E$6:$E$1806))","v":231.5814208984375},{"$f":"LOOKUP($AO335,Data!$A$6:$A$1806,Data!$F$6:$F$1806)","v":16},{"$f":"LOOKUP($AO335,Data!$A$6:$A$1806,Data!$G$6:$G$1806)","v":359},{"$f":"LOOKUP($AO335,Data!$A$6:$A$1806,Data!$H$6:$H$1806)","v":10},{"$f":"LOOKUP($AO335,Data!$A$6:$A$1806,Data!$I$6:$I$1806)","v":0},{"$f":"LOOKUP($AO335,Data!$A$6:$A$1806,Data!$J$6:$J$1806)","v":-103},{"$f":"LOOKUP($AO335,Data!$A$6:$A$1806,Data!$K$6:$K$1806)","v":7736.94},23.9990234375]
[null,40098.108333332857,{"$f":"LOOKUP(B336,Data!$A$6:$A$1806,Data!B$6:B$1806)","v":59.971000671386719},{"$f":"LOOKUP(B336,Data!$A$6:$A$1806,Data!C$6:C$1806)","v":3792.91064453125},null,null,null,23.199462890625,22.732565584083737,null,null,{"$f":"IF(B336>G$3,0,(K$21*0.000023148/K$22))","v":0},{"$f":"M335+L336+(I336-I335)","v":3788.7420126754805},{"$f":"AVERAGE(D$79:D336)","v":3772.7644535035124},{"$f":"AVERAGE(M$79:M336)","v":3770.5993727164491},3765.4461564175972,{"$f":"AVERAGE(P$79:P336)","v":3736.219858062394},633,null,null,null,null,null,null,0,633,{"$f":"Z336/((C336-G$4)*10)","v":-889.98801011001683},null,null,null,null,null,null,null,null,null,null,null,null,null,40098.108333332857,{"$f":"LOOKUP($AO336,Data!$A$6:$A$1806,Data!$B$6:$B$1806)","v":59.971000671386719},{"$f":"LOOKUP($AO336,Data!$A$6:$A$1806,Data!$C$6:$C$1806)","v":3792.91064453125},{"$f":"LOOKUP($AO336,Data!$A$6:$A$1806,Data!$D$6:$D$1806)","v":350},{"$f":"IF($AS$1=\"+\",LOOKUP($AO336,Data!$A$6:$A$1806,Data!$E$6:$E$1806)*-1,LOOKUP($AO336,Data!$A$6:$A$1806,Data!$E$6:$E$1806))","v":231.5814208984375},{"$f":"LOOKUP($AO336,Data!$A$6:$A$1806,Data!$F$6:$F$1806)","v":16},{"$f":"LOOKUP($AO336,Data!$A$6:$A$1806,Data!$G$6:$G$1806)","v":359.5},{"$f":"LOOKUP($AO336,Data!$A$6:$A$1806,Data!$H$6:$H$1806)","v":10},{"$f":"LOOKUP($AO336,Data!$A$6:$A$1806,Data!$I$6:$I$1806)","v":0},{"$f":"LOOKUP($AO336,Data!$A$6:$A$1806,Data!$J$6:$J$1806)","v":-103},{"$f":"LOOKUP($AO336,Data!$A$6:$A$1806,Data!$K$6:$K$1806)","v":7737.27},23.199462890625]
[null,40098.108356481003,{"$f":"LOOKUP(B337,Data!$A$6:$A$1806,Data!B$6:B$1806)","v":59.972999572753906},{"$f":"LOOKUP(B337,Data!$A$6:$A$1806,Data!C$6:C$1806)","v":3792.311279296875},null,null,null,21.600341796875,22.336287258560677,null,null,0,3788.3457343499576,{"$f":"AVERAGE(D$79:D337)","v":3772.8399238733709},{"$f":"AVERAGE(M$79:M337)","v":3770.6678914872346},3765.4461564175972,{"$f":"AVERAGE(P$79:P337)","v":3736.3331382885767},{"$f":"R$41","v":633},null,null,null,null,null,null,0,633,-915.72372746901021,null,null,null,null,null,null,null,null,null,null,null,null,null,{"$f":"AO336+TIME(0,0,$B$1)","v":40098.108356481003},{"$f":"LOOKUP($AO337,Data!$A$6:$A$1806,Data!$B$6:$B$1806)","v":59.972999572753906},{"$f":"LOOKUP($AO337,Data!$A$6:$A$1806,Data!$C$6:$C$1806)","v":3792.311279296875},{"$f":"LOOKUP($AO337,Data!$A$6:$A$1806,Data!$D$6:$D$1806)","v":350},{"$f":"IF($AS$1=\"+\",LOOKUP($AO337,Data!$A$6:$A$1806,Data!$E$6:$E$1806)*-1,LOOKUP($AO337,Data!$A$6:$A$1806,Data!$E$6:$E$1806))","v":231.5814208984375},{"$f":"LOOKUP($AO337,Data!$A$6:$A$1806,Data!$F$6:$F$1806)","v":16},{"$f":"LOOKUP($AO337,Data!$A$6:$A$1806,Data!$G$6:$G$1806)","v":360},{"$f":"LOOKUP($AO337,Data!$A$6:$A$1806,Data!$H$6:$H$1806)","v":10},{"$f":"LOOKUP($AO337,Data!$A$6:$A$1806,Data!$I$6:$I$1806)","v":0},{"$f":"LOOKUP($AO337,Data!$A$6:$A$1806,Data!$J$6:$J$1806)","v":-103},{"$f":"LOOKUP($AO337,Data!$A$6:$A$1806,Data!$K$6:$K$1806)","v":7737.6},21.600341796875]
[null,40098.10837962915,{"$f":"LOOKUP(B338,Data!$A$6:$A$1806,Data!B$6:B$1806)","v":59.978000640869141},{"$f":"LOOKUP(B338,Data!$A$6:$A$1806,Data!C$6:C$1806)","v":3789.125},null,null,null,17.5994873046875,20.678407274705066,null,null,0,3786.6878543661019,{"$f":"AVERAGE(D$79:D338)","v":3772.9025587815504},{"$f":"AVERAGE(M$79:M338)","v":3770.7295067290765},{"$f":"P337+L338","v":3765.4461564175972},{"$f":"AVERAGE(P$79:P338)","v":3736.4455437639785},633,null,null,null,null,null,null,0,633,-987.14090378423396,null,null,null,null,null,null,null,null,null,null,null,null,null,40098.10837962915,{"$f":"LOOKUP($AO338,Data!$A$6:$A$1806,Data!$B$6:$B$1806)","v":59.978000640869141},{"$f":"LOOKUP($AO338,Data!$A$6:$A$1806,Data!$C$6:$C$1806)","v":3789.125},{"$f":"LOOKUP($AO338,Data!$A$6:$A$1806,Data!$D$6:$D$1806)","v":350},{"$f":"IF($AS$1=\"+\",LOOKUP($AO338,Data!$A$6:$A$1806,Data!$E$6:$E$1806)*-1,LOOKUP($AO338,Data!$A$6:$A$1806,Data!$E$6:$E$1806))","v":231.5814208984375},{"$f":"LOOKUP($AO338,Data!$A$6:$A$1806,Data!$F$6:$F$1806)","v":16},{"$f":"LOOKUP($AO338,Data!$A$6:$A$1806,Data!$G$6:$G$1806)","v":360.5},{"$f":"LOOKUP($AO338,Data!$A$6:$A$1806,Data!$H$6:$H$1806)","v":10},{"$f":"LOOKUP($AO338,Data!$A$6:$A$1806,Data!$I$6:$I$1806)","v":0},{"$f":"LOOKUP($AO338,Data!$A$6:$A$1806,Data!$J$6:$J$1806)","v":-103},{"$f":"LOOKUP($AO338,Data!$A$6:$A$1806,Data!$K$6:$K$1806)","v":7737.93},17.5994873046875]
[null,40098.108402777296,{"$f":"LOOKUP(B339,Data!$A$6:$A$1806,Data!B$6:B$1806)","v":59.980998992919922},{"$f":"LOOKUP(B339,Data!$A$6:$A$1806,Data!C$6:C$1806)","v":3788.07958984375},null,null,null,15.2008056640625,18.761246710980167,null,null,0,3784.7706938023771,{"$f":"AVERAGE(D$79:D339)","v":3772.9607083258502},{"$f":"AVERAGE(M$79:M339)","v":3770.7833043806986},3765.4461564175972,{"$f":"AVERAGE(P$79:P339)","v":3736.557084581877},633,null,null,null,null,null,null,0,633,-1035.5619474066043,null,null,null,null,null,null,null,null,null,null,null,null,null,40098.108402777296,{"$f":"LOOKUP($AO339,Data!$A$6:$A$1806,Data!$B$6:$B$1806)","v":59.980998992919922},{"$f":"LOOKUP($AO339,Data!$A$6:$A$1806,Data!$C$6:$C$1806)","v":3788.07958984375},{"$f":"LOOKUP($AO339,Data!$A$6:$A$1806,Data!$D$6:$D$1806)","v":350},{"$f":"IF($AS$1=\"+\",LOOKUP($AO339,Data!$A$6:$A$1806,Data!$E$6:$E$1806)*-1,LOOKUP($AO339,Data!$A$6:$A$1806,Data!$E$6:$E$1806))","v":231.5814208984375},{"$f":"LOOKUP($AO339,Data!$A$6:$A$1806,Data!$F$6:$F$1806)","v":16},{"$f":"LOOKUP($AO339,Data!$A$6:$A$1806,Data!$G$6:$G$1806)","v":361},{"$f":"LOOKUP($AO339,Data!$A$6:$A$1806,Data!$H$6:$H$1806)","v":10},{"$f":"LOOKUP($AO339,Data!$A$6:$A$1806,Data!$I$6:$I$1806)","v":0},{"$f":"LOOKUP($AO339,Data!$A$6:$A$1806,Data!$J$6:$J$1806)","v":-103},{"$f":"LOOKUP($AO339,Data!$A$6:$A$1806,Data!$K$6:$K$1806)","v":7738.26},15.2008056640625]
[null,40098.108425925442,{"$f":"LOOKUP(B340,Data!$A$6:$A$1806,Data!B$6:B$1806)","v":59.978000640869141},{"$f":"LOOKUP(B340,Data!$A$6:$A$1806,Data!C$6:C$1806)","v":3787.843994140625},null,null,null,17.5994873046875,18.354630918777733,null,null,0,3784.3640780101746,{"$f":"AVERAGE(D$79:D340)","v":3773.0175147602577},{"$f":"AVERAGE(M$79:M340)","v":3770.8351393945518},3765.4461564175972,{"$f":"AVERAGE(P$79:P340)","v":3736.6677706808646},633,null,null,null,null,null,null,0,633,-987.14090378423396,null,null,null,null,null,null,null,null,null,null,null,null,null,40098.108425925442,{"$f":"LOOKUP($AO340,Data!$A$6:$A$1806,Data!$B$6:$B$1806)","v":59.978000640869141},{"$f":"LOOKUP($AO340,Data!$A$6:$A$1806,Data!$C$6:$C$1806)","v":3787.843994140625},{"$f":"LOOKUP($AO340,Data!$A$6:$A$1806,Data!$D$6:$D$1806)","v":350},{"$f":"IF($AS$1=\"+\",LOOKUP($AO340,Data!$A$6:$A$1806,Data!$E$6:$E$1806)*-1,LOOKUP($AO340,Data!$A$6:$A$1806,Data!$E$6:$E$1806))","v":235.85084533691406},{"$f":"LOOKUP($AO340,Data!$A$6:$A$1806,Data!$F$6:$F$1806)","v":16},{"$f":"LOOKUP($AO340,Data!$A$6:$A$1806,Data!$G$6:$G$1806)","v":361.5},{"$f":"LOOKUP($AO340,Data!$A$6:$A$1806,Data!$H$6:$H$1806)","v":10},{"$f":"LOOKUP($AO340,Data!$A$6:$A$1806,Data!$I$6:$I$1806)","v":0},{"$f":"LOOKUP($AO340,Data!$A$6:$A$1806,Data!$J$6:$J$1806)","v":-103},{"$f":"LOOKUP($AO340,Data!$A$6:$A$1806,Data!$K$6:$K$1806)","v":7738.59},17.5994873046875]
[null,40098.108449073588,{"$f":"LOOKUP(B341,Data!$A$6:$A$1806,Data!B$6:B$1806)","v":59.974998474121094},{"$f":"LOOKUP(B341,Data!$A$6:$A$1806,Data!C$6:C$1806)","v":3787.135009765625},null,null,null,20.001220703125,18.930937343299277,null,null,0,3784.9403844346962,{"$f":"AVERAGE(D$79:D341)","v":3773.0711934484912},{"$f":"AVERAGE(M$79:M341)","v":3770.8887715049705},3765.4461564175972,{"$f":"AVERAGE(P$79:P341)","v":3736.7776118477987},633,null,null,null,null,null,null,0,633,-942.99216196057534,null,null,null,null,null,null,null,null,null,null,null,null,null,40098.108449073588,{"$f":"LOOKUP($AO341,Data!$A$6:$A$1806,Data!$B$6:$B$1806)","v":59.974998474121094},{"$f":"LOOKUP($AO341,Data!$A$6:$A$1806,Data!$C$6:$C$1806)","v":3787.135009765625},{"$f":"LOOKUP($AO341,Data!$A$6:$A$1806,Data!$D$6:$D$1806)","v":350},{"$f":"IF($AS$1=\"+\",LOOKUP($AO341,Data!$A$6:$A$1806,Data!$E$6:$E$1806)*-1,LOOKUP($AO341,Data!$A$6:$A$1806,Data!$E$6:$E$1806))","v":235.85084533691406},{"$f":"LOOKUP($AO341,Data!$A$6:$A$1806,Data!$F$6:$F$1806)","v":16},{"$f":"LOOKUP($AO341,Data!$A$6:$A$1806,Data!$G$6:$G$1806)","v":362},{"$f":"LOOKUP($AO341,Data!$A$6:$A$1806,Data!$H$6:$H$1806)","v":10},{"$f":"LOOKUP($AO341,Data!$A$6:$A$1806,Data!$I$6:$I$1806)","v":0},{"$f":"LOOKUP($AO341,Data!$A$6:$A$1806,Data!$J$6:$J$1806)","v":-103},{"$f":"LOOKUP($AO341,Data!$A$6:$A$1806,Data!$K$6:$K$1806)","v":7738.92},20.001220703125]
[null,40098.108472221735,{"$f":"LOOKUP(B342,Data!$A$6:$A$1806,Data!B$6:B$1806)","v":59.972000122070313},{"$f":"LOOKUP(B342,Data!$A$6:$A$1806,Data!C$6:C$1806)","v":3787.164306640625},null,null,null,22.39990234375,20.145075093457031,null,null,0,3786.1545221848537,{"$f":"AVERAGE(D$79:D342)","v":3773.1245764530067},{"$f":"AVERAGE(M$79:M342)","v":3770.9465963181515},3765.4461564175972,{"$f":"AVERAGE(P$79:P342)","v":3736.8866177206874},633,null,null,null,null,null,null,0,633,-902.67247098182406,null,null,null,null,null,null,null,null,null,null,null,null,null,40098.108472221735,{"$f":"LOOKUP($AO342,Data!$A$6:$A$1806,Data!$B$6:$B$1806)","v":59.972000122070313},{"$f":"LOOKUP($AO342,Data!$A$6:$A$1806,Data!$C$6:$C$1806)","v":3787.164306640625},{"$f":"LOOKUP($AO342,Data!$A$6:$A$1806,Data!$D$6:$D$1806)","v":350},{"$f":"IF($AS$1=\"+\",LOOKUP($AO342,Data!$A$6:$A$1806,Data!$E$6:$E$1806)*-1,LOOKUP($AO342,Data!$A$6:$A$1806,Data!$E$6:$E$1806))","v":235.85084533691406},{"$f":"LOOKUP($AO342,Data!$A$6:$A$1806,Data!$F$6:$F$1806)","v":16},{"$f":"LOOKUP($AO342,Data!$A$6:$A$1806,Data!$G$6:$G$1806)","v":362.5},{"$f":"LOOKUP($AO342,Data!$A$6:$A$1806,Data!$H$6:$H$1806)","v":10},{"$f":"LOOKUP($AO342,Data!$A$6:$A$1806,Data!$I$6:$I$1806)","v":0},{"$f":"LOOKUP($AO342,Data!$A$6:$A$1806,Data!$J$6:$J$1806)","v":-103},{"$f":"LOOKUP($AO342,Data!$A$6:$A$1806,Data!$K$6:$K$1806)","v":7739.25},22.39990234375]
[null,40098.108495369881,{"$f":"LOOKUP(B343,Data!$A$6:$A$1806,Data!B$6:B$1806)","v":59.976001739501953},{"$f":"LOOKUP(B343,Data!$A$6:$A$1806,Data!C$6:C$1806)","v":3786.99609375},null,null,null,19.1986083984375,19.813811750200195,null,null,0,3785.8232588415967,{"$f":"AVERAGE(D$79:D343)","v":3773.1769218012973},{"$f":"AVERAGE(M$79:M343)","v":3771.0027346672969},3765.4461564175972,{"$f":"AVERAGE(P$79:P343)","v":3736.994797791509},633,null,null,null,null,null,null,0,633,-957.29980745794001,null,null,null,null,null,null,null,null,null,null,null,null,null,40098.108495369881,{"$f":"LOOKUP($AO343,Data!$A$6:$A$1806,Data!$B$6:$B$1806)","v":59.976001739501953},{"$f":"LOOKUP($AO343,Data!$A$6:$A$1806,Data!$C$6:$C$1806)","v":3786.99609375},{"$f":"LOOKUP($AO343,Data!$A$6:$A$1806,Data!$D$6:$D$1806)","v":350},{"$f":"IF($AS$1=\"+\",LOOKUP($AO343,Data!$A$6:$A$1806,Data!$E$6:$E$1806)*-1,LOOKUP($AO343,Data!$A$6:$A$1806,Data!$E$6:$E$1806))","v":235.85084533691406},{"$f":"LOOKUP($AO343,Data!$A$6:$A$1806,Data!$F$6:$F$1806)","v":16},{"$f":"LOOKUP($AO343,Data!$A$6:$A$1806,Data!$G$6:$G$1806)","v":363},{"$f":"LOOKUP($AO343,Data!$A$6:$A$1806,Data!$H$6:$H$1806)","v":10},{"$f":"LOOKUP($AO343,Data!$A$6:$A$1806,Data!$I$6:$I$1806)","v":0},{"$f":"LOOKUP($AO343,Data!$A$6:$A$1806,Data!$J$6:$J$1806)","v":-103},{"$f":"LOOKUP($AO343,Data!$A$6:$A$1806,Data!$K$6:$K$1806)","v":7739.58},19.1986083984375]
[null,40098.108518518027,{"$f":"LOOKUP(B344,Data!$A$6:$A$1806,Data!B$6:B$1806)","v":59.974998474121094},{"$f":"LOOKUP(B344,Data!$A$6:$A$1806,Data!C$6:C$1806)","v":3787.40478515625},null,null,null,20.001220703125,19.879404883723879,null,null,0,3785.8888519751204,{"$f":"AVERAGE(D$79:D344)","v":3773.2304100093984},{"$f":"AVERAGE(M$79:M344)","v":3771.0586975143187},3765.4461564175972,{"$f":"AVERAGE(P$79:P344)","v":3737.1021614089659},633,null,null,null,null,null,null,0,633,-942.99216196057534,null,null,null,null,null,null,null,null,null,null,null,null,null,40098.108518518027,{"$f":"LOOKUP($AO344,Data!$A$6:$A$1806,Data!$B$6:$B$1806)","v":59.974998474121094},{"$f":"LOOKUP($AO344,Data!$A$6:$A$1806,Data!$C$6:$C$1806)","v":3787.40478515625},{"$f":"LOOKUP($AO344,Data!$A$6:$A$1806,Data!$D$6:$D$1806)","v":350},{"$f":"IF($AS$1=\"+\",LOOKUP($AO344,Data!$A$6:$A$1806,Data!$E$6:$E$1806)*-1,LOOKUP($AO344,Data!$A$6:$A$1806,Data!$E$6:$E$1806))","v":235.85084533691406},{"$f":"LOOKUP($AO344,Data!$A$6:$A$1806,Data!$F$6:$F$1806)","v":16},{"$f":"LOOKUP($AO344,Data!$A$6:$A$1806,Data!$G$6:$G$1806)","v":363.5},{"$f":"LOOKUP($AO344,Data!$A$6:$A$1806,Data!$H$6:$H$1806)","v":10},{"$f":"LOOKUP($AO344,Data!$A$6:$A$1806,Data!$I$6:$I$1806)","v":0},{"$f":"LOOKUP($AO344,Data!$A$6:$A$1806,Data!$J$6:$J$1806)","v":-103},{"$f":"LOOKUP($AO344,Data!$A$6:$A$1806,Data!$K$6:$K$1806)","v":7739.91},20.001220703125]
[null,40098.108541666174,{"$f":"LOOKUP(B345,Data!$A$6:$A$1806,Data!B$6:B$1806)","v":59.972999572753906},{"$f":"LOOKUP(B345,Data!$A$6:$A$1806,Data!C$6:C$1806)","v":3786.48681640625},null,null,null,21.600341796875,20.481732803326771,null,null,0,3786.4911798947232,{"$f":"AVERAGE(D$79:D345)","v":3773.2800594715591},{"$f":"AVERAGE(M$79:M345)","v":3771.1164970737959},3765.4461564175972,{"$f":"AVERAGE(P$79:P345)","v":3737.2087177811791},633,null,null,null,null,null,null,0,633,-915.72372746901021,null,null,null,null,null,null,null,null,null,null,null,null,null,40098.108541666174,{"$f":"LOOKUP($AO345,Data!$A$6:$A$1806,Data!$B$6:$B$1806)","v":59.972999572753906},{"$f":"LOOKUP($AO345,Data!$A$6:$A$1806,Data!$C$6:$C$1806)","v":3786.48681640625},{"$f":"LOOKUP($AO345,Data!$A$6:$A$1806,Data!$D$6:$D$1806)","v":350},{"$f":"IF($AS$1=\"+\",LOOKUP($AO345,Data!$A$6:$A$1806,Data!$E$6:$E$1806)*-1,LOOKUP($AO345,Data!$A$6:$A$1806,Data!$E$6:$E$1806))","v":233.55998229980469},{"$f":"LOOKUP($AO345,Data!$A$6:$A$1806,Data!$F$6:$F$1806)","v":16},{"$f":"LOOKUP($AO345,Data!$A$6:$A$1806,Data!$G$6:$G$1806)","v":364},{"$f":"LOOKUP($AO345,Data!$A$6:$A$1806,Data!$H$6:$H$1806)","v":10},{"$f":"LOOKUP($AO345,Data!$A$6:$A$1806,Data!$I$6:$I$1806)","v":0},{"$f":"LOOKUP($AO345,Data!$A$6:$A$1806,Data!$J$6:$J$1806)","v":-103},{"$f":"LOOKUP($AO345,Data!$A$6:$A$1806,Data!$K$6:$K$1806)","v":7740.24},21.600341796875]
[null,40098.10856481432,{"$f":"LOOKUP(B346,Data!$A$6:$A$1806,Data!B$6:B$1806)","v":59.969001770019531},{"$f":"LOOKUP(B346,Data!$A$6:$A$1806,Data!C$6:C$1806)","v":3787.0791015625},null,null,null,24.798583984375,21.992630716693654,null,null,0,3788.0020778080902,{"$f":"AVERAGE(D$79:D346)","v":3773.3315484345849},{"$f":"AVERAGE(M$79:M346)","v":3771.1795029720583},3765.4461564175972,{"$f":"AVERAGE(P$79:P346)","v":3737.314475978319},633,null,null,null,null,null,null,0,633,-865.6593149050218,null,null,null,null,null,null,null,null,null,null,null,null,null,40098.10856481432,{"$f":"LOOKUP($AO346,Data!$A$6:$A$1806,Data!$B$6:$B$1806)","v":59.969001770019531},{"$f":"LOOKUP($AO346,Data!$A$6:$A$1806,Data!$C$6:$C$1806)","v":3787.0791015625},{"$f":"LOOKUP($AO346,Data!$A$6:$A$1806,Data!$D$6:$D$1806)","v":350},{"$f":"IF($AS$1=\"+\",LOOKUP($AO346,Data!$A$6:$A$1806,Data!$E$6:$E$1806)*-1,LOOKUP($AO346,Data!$A$6:$A$1806,Data!$E$6:$E$1806))","v":233.55998229980469},{"$f":"LOOKUP($AO346,Data!$A$6:$A$1806,Data!$F$6:$F$1806)","v":16},{"$f":"LOOKUP($AO346,Data!$A$6:$A$1806,Data!$G$6:$G$1806)","v":364.5},{"$f":"LOOKUP($AO346,Data!$A$6:$A$1806,Data!$H$6:$H$1806)","v":10},{"$f":"LOOKUP($AO346,Data!$A$6:$A$1806,Data!$I$6:$I$1806)","v":0},{"$f":"LOOKUP($AO346,Data!$A$6:$A$1806,Data!$J$6:$J$1806)","v":-103},{"$f":"LOOKUP($AO346,Data!$A$6:$A$1806,Data!$K$6:$K$1806)","v":7740.57},24.798583984375]
[null,40098.108587962466,{"$f":"LOOKUP(B347,Data!$A$6:$A$1806,Data!B$6:B$1806)","v":59.965999603271484},{"$f":"LOOKUP(B347,Data!$A$6:$A$1806,Data!C$6:C$1806)","v":3789.2138671875},null,null,null,27.2003173828125,23.815321049835248,null,null,0,3789.8247681412317,{"$f":"AVERAGE(D$79:D347)","v":3773.3905905117331},{"$f":"AVERAGE(M$79:M347)","v":3771.2488162254758},3765.4461564175972,{"$f":"AVERAGE(P$79:P347)","v":3737.4194449351821},633,null,null,null,null,null,null,0,633,-831.5203016655496,null,null,null,null,null,null,null,null,null,null,null,null,null,40098.108587962466,{"$f":"LOOKUP($AO347,Data!$A$6:$A$1806,Data!$B$6:$B$1806)","v":59.965999603271484},{"$f":"LOOKUP($AO347,Data!$A$6:$A$1806,Data!$C$6:$C$1806)","v":3789.2138671875},{"$f":"LOOKUP($AO347,Data!$A$6:$A$1806,Data!$D$6:$D$1806)","v":350},{"$f":"IF($AS$1=\"+\",LOOKUP($AO347,Data!$A$6:$A$1806,Data!$E$6:$E$1806)*-1,LOOKUP($AO347,Data!$A$6:$A$1806,Data!$E$6:$E$1806))","v":233.55998229980469},{"$f":"LOOKUP($AO347,Data!$A$6:$A$1806,Data!$F$6:$F$1806)","v":16},{"$f":"LOOKUP($AO347,Data!$A$6:$A$1806,Data!$G$6:$G$1806)","v":365},{"$f":"LOOKUP($AO347,Data!$A$6:$A$1806,Data!$H$6:$H$1806)","v":10},{"$f":"LOOKUP($AO347,Data!$A$6:$A$1806,Data!$I$6:$I$1806)","v":0},{"$f":"LOOKUP($AO347,Data!$A$6:$A$1806,Data!$J$6:$J$1806)","v":-103},{"$f":"LOOKUP($AO347,Data!$A$6:$A$1806,Data!$K$6:$K$1806)","v":7740.9},27.2003173828125]
[null,40098.108611110612,{"$f":"LOOKUP(B348,Data!$A$6:$A$1806,Data!B$6:B$1806)","v":59.965000152587891},{"$f":"LOOKUP(B348,Data!$A$6:$A$1806,Data!C$6:C$1806)","v":3790.51171875},null,null,null,27.9998779296875,25.279915957783537,null,null,0,3791.2893630491799,{"$f":"AVERAGE(D$79:D348)","v":3773.4540020978011},{"$f":"AVERAGE(M$79:M348)","v":3771.3230404729711},3765.4461564175972,{"$f":"AVERAGE(P$79:P348)","v":3737.523633453704},633,null,null,null,null,null,null,0,633,-820.74477164390419,null,null,null,null,null,null,null,null,null,null,null,null,null,40098.108611110612,{"$f":"LOOKUP($AO348,Data!$A$6:$A$1806,Data!$B$6:$B$1806)","v":59.965000152587891},{"$f":"LOOKUP($AO348,Data!$A$6:$A$1806,Data!$C$6:$C$1806)","v":3790.51171875},{"$f":"LOOKUP($AO348,Data!$A$6:$A$1806,Data!$D$6:$D$1806)","v":350},{"$f":"IF($AS$1=\"+\",LOOKUP($AO348,Data!$A$6:$A$1806,Data!$E$6:$E$1806)*-1,LOOKUP($AO348,Data!$A$6:$A$1806,Data!$E$6:$E$1806))","v":233.55998229980469},{"$f":"LOOKUP($AO348,Data!$A$6:$A$1806,Data!$F$6:$F$1806)","v":16},{"$f":"LOOKUP($AO348,Data!$A$6:$A$1806,Data!$G$6:$G$1806)","v":365.5},{"$f":"LOOKUP($AO348,Data!$A$6:$A$1806,Data!$H$6:$H$1806)","v":10},{"$f":"LOOKUP($AO348,Data!$A$6:$A$1806,Data!$I$6:$I$1806)","v":0},{"$f":"LOOKUP($AO348,Data!$A$6:$A$1806,Data!$J$6:$J$1806)","v":-103},{"$f":"LOOKUP($AO348,Data!$A$6:$A$1806,Data!$K$6:$K$1806)","v":7741.23},27.9998779296875]
[null,40098.108634258759,{"$f":"LOOKUP(B349,Data!$A$6:$A$1806,Data!B$6:B$1806)","v":59.965999603271484},{"$f":"LOOKUP(B349,Data!$A$6:$A$1806,Data!C$6:C$1806)","v":3791.22119140625},null,null,null,27.2003173828125,25.952056456543673,null,null,0,3791.9615035479401,{"$f":"AVERAGE(D$79:D349)","v":3773.5195636819649},{"$f":"AVERAGE(M$79:M349)","v":3771.3991971632845},3765.4461564175972,{"$f":"AVERAGE(P$79:P349)","v":3737.6270502054222},633,null,null,null,null,null,null,0,633,-831.5203016655496,null,null,null,null,null,null,null,null,null,null,null,null,null,40098.108634258759,{"$f":"LOOKUP($AO349,Data!$A$6:$A$1806,Data!$B$6:$B$1806)","v":59.965999603271484},{"$f":"LOOKUP($AO349,Data!$A$6:$A$1806,Data!$C$6:$C$1806)","v":3791.22119140625},{"$f":"LOOKUP($AO349,Data!$A$6:$A$1806,Data!$D$6:$D$1806)","v":350},{"$f":"IF($AS$1=\"+\",LOOKUP($AO349,Data!$A$6:$A$1806,Data!$E$6:$E$1806)*-1,LOOKUP($AO349,Data!$A$6:$A$1806,Data!$E$6:$E$1806))","v":233.55998229980469},{"$f":"LOOKUP($AO349,Data!$A$6:$A$1806,Data!$F$6:$F$1806)","v":16},{"$f":"LOOKUP($AO349,Data!$A$6:$A$1806,Data!$G$6:$G$1806)","v":366},{"$f":"LOOKUP($AO349,Data!$A$6:$A$1806,Data!$H$6:$H$1806)","v":10},{"$f":"LOOKUP($AO349,Data!$A$6:$A$1806,Data!$I$6:$I$1806)","v":0},{"$f":"LOOKUP($AO349,Data!$A$6:$A$1806,Data!$J$6:$J$1806)","v":-103},{"$f":"LOOKUP($AO349,Data!$A$6:$A$1806,Data!$K$6:$K$1806)","v":7741.56},27.2003173828125]
[null,40098.108657406905,{"$f":"LOOKUP(B350,Data!$A$6:$A$1806,Data!B$6:B$1806)","v":59.969001770019531},{"$f":"LOOKUP(B350,Data!$A$6:$A$1806,Data!C$6:C$1806)","v":3792.21826171875},null,null,null,24.798583984375,25.548341091284637,null,null,0,3791.5577881826812,{"$f":"AVERAGE(D$79:D350)","v":3773.5883088953356},{"$f":"AVERAGE(M$79:M350)","v":3771.4733096302675},3765.4461564175972,{"$f":"AVERAGE(P$79:P350)","v":3737.7297037338803},633,null,null,null,null,null,null,0,633,-865.6593149050218,null,null,null,null,null,null,null,null,null,null,null,null,null,40098.108657406905,{"$f":"LOOKUP($AO350,Data!$A$6:$A$1806,Data!$B$6:$B$1806)","v":59.969001770019531},{"$f":"LOOKUP($AO350,Data!$A$6:$A$1806,Data!$C$6:$C$1806)","v":3792.21826171875},{"$f":"LOOKUP($AO350,Data!$A$6:$A$1806,Data!$D$6:$D$1806)","v":350},{"$f":"IF($AS$1=\"+\",LOOKUP($AO350,Data!$A$6:$A$1806,Data!$E$6:$E$1806)*-1,LOOKUP($AO350,Data!$A$6:$A$1806,Data!$E$6:$E$1806))","v":219.00999450683594},{"$f":"LOOKUP($AO350,Data!$A$6:$A$1806,Data!$F$6:$F$1806)","v":16},{"$f":"LOOKUP($AO350,Data!$A$6:$A$1806,Data!$G$6:$G$1806)","v":366.5},{"$f":"LOOKUP($AO350,Data!$A$6:$A$1806,Data!$H$6:$H$1806)","v":10},{"$f":"LOOKUP($AO350,Data!$A$6:$A$1806,Data!$I$6:$I$1806)","v":0},{"$f":"LOOKUP($AO350,Data!$A$6:$A$1806,Data!$J$6:$J$1806)","v":-103},{"$f":"LOOKUP($AO350,Data!$A$6:$A$1806,Data!$K$6:$K$1806)","v":7741.89},24.798583984375]
[null,40098.108680555051,{"$f":"LOOKUP(B351,Data!$A$6:$A$1806,Data!B$6:B$1806)","v":59.970001220703125},{"$f":"LOOKUP(B351,Data!$A$6:$A$1806,Data!C$6:C$1806)","v":3790.95947265625},null,null,null,23.9990234375,25.006079912460017,null,null,0,3791.0155270038567,{"$f":"AVERAGE(D$79:D351)","v":3773.6519395318223},{"$f":"AVERAGE(M$79:M351)","v":3771.5448928440901},3765.4461564175972,{"$f":"AVERAGE(P$79:P351)","v":3737.8316024569826},633,null,null,null,null,null,null,0,633,-877.6550963604509,null,null,null,null,null,null,null,null,null,null,null,null,null,40098.108680555051,{"$f":"LOOKUP($AO351,Data!$A$6:$A$1806,Data!$B$6:$B$1806)","v":59.970001220703125},{"$f":"LOOKUP($AO351,Data!$A$6:$A$1806,Data!$C$6:$C$1806)","v":3790.95947265625},{"$f":"LOOKUP($AO351,Data!$A$6:$A$1806,Data!$D$6:$D$1806)","v":350},{"$f":"IF($AS$1=\"+\",LOOKUP($AO351,Data!$A$6:$A$1806,Data!$E$6:$E$1806)*-1,LOOKUP($AO351,Data!$A$6:$A$1806,Data!$E$6:$E$1806))","v":219.00999450683594},{"$f":"LOOKUP($AO351,Data!$A$6:$A$1806,Data!$F$6:$F$1806)","v":16},{"$f":"LOOKUP($AO351,Data!$A$6:$A$1806,Data!$G$6:$G$1806)","v":367},{"$f":"LOOKUP($AO351,Data!$A$6:$A$1806,Data!$H$6:$H$1806)","v":10},{"$f":"LOOKUP($AO351,Data!$A$6:$A$1806,Data!$I$6:$I$1806)","v":0},{"$f":"LOOKUP($AO351,Data!$A$6:$A$1806,Data!$J$6:$J$1806)","v":-103},{"$f":"LOOKUP($AO351,Data!$A$6:$A$1806,Data!$K$6:$K$1806)","v":7742.22},23.9990234375]
[null,40098.108703703198,{"$f":"LOOKUP(B352,Data!$A$6:$A$1806,Data!B$6:B$1806)","v":59.967998504638672},{"$f":"LOOKUP(B352,Data!$A$6:$A$1806,Data!C$6:C$1806)","v":3788.82421875},null,null,null,25.6011962890625,25.214370644270886,null,null,0,3791.2238177356676,{"$f":"AVERAGE(D$79:D352)","v":3773.7073128136403},{"$f":"AVERAGE(M$79:M352)","v":3771.6167137378552},3765.4461564175972,{"$f":"AVERAGE(P$79:P352)","v":3737.9327546692925},633,null,null,null,null,null,null,0,633,-853.94308063426718,null,null,null,null,null,null,null,null,null,null,null,null,null,40098.108703703198,{"$f":"LOOKUP($AO352,Data!$A$6:$A$1806,Data!$B$6:$B$1806)","v":59.967998504638672},{"$f":"LOOKUP($AO352,Data!$A$6:$A$1806,Data!$C$6:$C$1806)","v":3788.82421875},{"$f":"LOOKUP($AO352,Data!$A$6:$A$1806,Data!$D$6:$D$1806)","v":350},{"$f":"IF($AS$1=\"+\",LOOKUP($AO352,Data!$A$6:$A$1806,Data!$E$6:$E$1806)*-1,LOOKUP($AO352,Data!$A$6:$A$1806,Data!$E$6:$E$1806))","v":219.00999450683594},{"$f":"LOOKUP($AO352,Data!$A$6:$A$1806,Data!$F$6:$F$1806)","v":16},{"$f":"LOOKUP($AO352,Data!$A$6:$A$1806,Data!$G$6:$G$1806)","v":367.5},{"$f":"LOOKUP($AO352,Data!$A$6:$A$1806,Data!$H$6:$H$1806)","v":10},{"$f":"LOOKUP($AO352,Data!$A$6:$A$1806,Data!$I$6:$I$1806)","v":0},{"$f":"LOOKUP($AO352,Data!$A$6:$A$1806,Data!$J$6:$J$1806)","v":-103},{"$f":"LOOKUP($AO352,Data!$A$6:$A$1806,Data!$K$6:$K$1806)","v":7742.55},25.6011962890625]
[null,40098.108726851344,{"$f":"LOOKUP(B353,Data!$A$6:$A$1806,Data!B$6:B$1806)","v":59.965000152587891},{"$f":"LOOKUP(B353,Data!$A$6:$A$1806,Data!C$6:C$1806)","v":3789.0263671875},null,null,null,27.9998779296875,26.189298194166703,null,null,0,3792.1987452855633,{"$f":"AVERAGE(D$79:D353)","v":3773.7630184659092},{"$f":"AVERAGE(M$79:M353)","v":3771.6915574889376},3765.4461564175972,{"$f":"AVERAGE(P$79:P353)","v":3738.0331685442861},633,null,null,null,null,null,null,0,633,-820.74477164390419,null,null,null,null,null,null,null,null,null,null,null,null,null,40098.108726851344,{"$f":"LOOKUP($AO353,Data!$A$6:$A$1806,Data!$B$6:$B$1806)","v":59.965000152587891},{"$f":"LOOKUP($AO353,Data!$A$6:$A$1806,Data!$C$6:$C$1806)","v":3789.0263671875},{"$f":"LOOKUP($AO353,Data!$A$6:$A$1806,Data!$D$6:$D$1806)","v":350},{"$f":"IF($AS$1=\"+\",LOOKUP($AO353,Data!$A$6:$A$1806,Data!$E$6:$E$1806)*-1,LOOKUP($AO353,Data!$A$6:$A$1806,Data!$E$6:$E$1806))","v":219.00999450683594},{"$f":"LOOKUP($AO353,Data!$A$6:$A$1806,Data!$F$6:$F$1806)","v":16},{"$f":"LOOKUP($AO353,Data!$A$6:$A$1806,Data!$G$6:$G$1806)","v":368},{"$f":"LOOKUP($AO353,Data!$A$6:$A$1806,Data!$H$6:$H$1806)","v":10},{"$f":"LOOKUP($AO353,Data!$A$6:$A$1806,Data!$I$6:$I$1806)","v":0},{"$f":"LOOKUP($AO353,Data!$A$6:$A$1806,Data!$J$6:$J$1806)","v":-103},{"$f":"LOOKUP($AO353,Data!$A$6:$A$1806,Data!$K$6:$K$1806)","v":7742.88},27.9998779296875]
[null,40098.10874999949,{"$f":"LOOKUP(B354,Data!$A$6:$A$1806,Data!B$6:B$1806)","v":59.964000701904297},{"$f":"LOOKUP(B354,Data!$A$6:$A$1806,Data!C$6:C$1806)","v":3789.16748046875},null,null,null,28.7994384765625,27.102847293005233,null,null,0,3793.112294384402,{"$f":"AVERAGE(D$79:D354)","v":3773.8188317340355},{"$f":"AVERAGE(M$79:M354)","v":3771.769168854501},3765.4461564175972,{"$f":"AVERAGE(P$79:P354)","v":3738.1328521365526},633,null,null,null,null,null,null,0,633,-810.24494534268399,null,null,null,null,null,null,null,null,null,null,null,null,null,40098.10874999949,{"$f":"LOOKUP($AO354,Data!$A$6:$A$1806,Data!$B$6:$B$1806)","v":59.964000701904297},{"$f":"LOOKUP($AO354,Data!$A$6:$A$1806,Data!$C$6:$C$1806)","v":3789.16748046875},{"$f":"LOOKUP($AO354,Data!$A$6:$A$1806,Data!$D$6:$D$1806)","v":350},{"$f":"IF($AS$1=\"+\",LOOKUP($AO354,Data!$A$6:$A$1806,Data!$E$6:$E$1806)*-1,LOOKUP($AO354,Data!$A$6:$A$1806,Data!$E$6:$E$1806))","v":219.00999450683594},{"$f":"LOOKUP($AO354,Data!$A$6:$A$1806,Data!$F$6:$F$1806)","v":16},{"$f":"LOOKUP($AO354,Data!$A$6:$A$1806,Data!$G$6:$G$1806)","v":368.5},{"$f":"LOOKUP($AO354,Data!$A$6:$A$1806,Data!$H$6:$H$1806)","v":10},{"$f":"LOOKUP($AO354,Data!$A$6:$A$1806,Data!$I$6:$I$1806)","v":0},{"$f":"LOOKUP($AO354,Data!$A$6:$A$1806,Data!$J$6:$J$1806)","v":-103},{"$f":"LOOKUP($AO354,Data!$A$6:$A$1806,Data!$K$6:$K$1806)","v":7743.21},28.7994384765625]
[null,40098.108773147636,{"$f":"LOOKUP(B355,Data!$A$6:$A$1806,Data!B$6:B$1806)","v":59.970001220703125},{"$f":"LOOKUP(B355,Data!$A$6:$A$1806,Data!C$6:C$1806)","v":3787.39404296875},null,null,null,23.9990234375,26.016508943578401,null,null,0,3792.025956034975,{"$f":"AVERAGE(D$79:D355)","v":3773.8678397168323},{"$f":"AVERAGE(M$79:M355)","v":3771.8422980500982},3765.4461564175972,{"$f":"AVERAGE(P$79:P355)","v":3738.2318133839481},633,null,null,null,null,null,null,0,633,-877.6550963604509,null,null,null,null,null,null,null,null,null,null,null,null,null,40098.108773147636,{"$f":"LOOKUP($AO355,Data!$A$6:$A$1806,Data!$B$6:$B$1806)","v":59.970001220703125},{"$f":"LOOKUP($AO355,Data!$A$6:$A$1806,Data!$C$6:$C$1806)","v":3787.39404296875},{"$f":"LOOKUP($AO355,Data!$A$6:$A$1806,Data!$D$6:$D$1806)","v":350},{"$f":"IF($AS$1=\"+\",LOOKUP($AO355,Data!$A$6:$A$1806,Data!$E$6:$E$1806)*-1,LOOKUP($AO355,Data!$A$6:$A$1806,Data!$E$6:$E$1806))","v":205.33891296386719},{"$f":"LOOKUP($AO355,Data!$A$6:$A$1806,Data!$F$6:$F$1806)","v":16},{"$f":"LOOKUP($AO355,Data!$A$6:$A$1806,Data!$G$6:$G$1806)","v":369},{"$f":"LOOKUP($AO355,Data!$A$6:$A$1806,Data!$H$6:$H$1806)","v":10},{"$f":"LOOKUP($AO355,Data!$A$6:$A$1806,Data!$I$6:$I$1806)","v":0},{"$f":"LOOKUP($AO355,Data!$A$6:$A$1806,Data!$J$6:$J$1806)","v":-103},{"$f":"LOOKUP($AO355,Data!$A$6:$A$1806,Data!$K$6:$K$1806)","v":7743.54},23.9990234375]
[null,40098.108796295783,{"$f":"LOOKUP(B356,Data!$A$6:$A$1806,Data!B$6:B$1806)","v":59.972000122070313},{"$f":"LOOKUP(B356,Data!$A$6:$A$1806,Data!C$6:C$1806)","v":3785.68994140625},null,null,null,22.39990234375,24.750696633638462,null,null,0,3790.7601437250351,{"$f":"AVERAGE(D$79:D356)","v":3773.9103652624776},{"$f":"AVERAGE(M$79:M356)","v":3771.910347854684},3765.4461564175972,{"$f":"AVERAGE(P$79:P356)","v":3738.3300601097012},633,null,null,null,null,null,null,0,633,-902.67247098182406,null,null,null,null,null,null,null,null,null,null,null,null,null,40098.108796295783,{"$f":"LOOKUP($AO356,Data!$A$6:$A$1806,Data!$B$6:$B$1806)","v":59.972000122070313},{"$f":"LOOKUP($AO356,Data!$A$6:$A$1806,Data!$C$6:$C$1806)","v":3785.68994140625},{"$f":"LOOKUP($AO356,Data!$A$6:$A$1806,Data!$D$6:$D$1806)","v":350},{"$f":"IF($AS$1=\"+\",LOOKUP($AO356,Data!$A$6:$A$1806,Data!$E$6:$E$1806)*-1,LOOKUP($AO356,Data!$A$6:$A$1806,Data!$E$6:$E$1806))","v":205.33891296386719},{"$f":"LOOKUP($AO356,Data!$A$6:$A$1806,Data!$F$6:$F$1806)","v":16},{"$f":"LOOKUP($AO356,Data!$A$6:$A$1806,Data!$G$6:$G$1806)","v":369.5},{"$f":"LOOKUP($AO356,Data!$A$6:$A$1806,Data!$H$6:$H$1806)","v":10},{"$f":"LOOKUP($AO356,Data!$A$6:$A$1806,Data!$I$6:$I$1806)","v":0},{"$f":"LOOKUP($AO356,Data!$A$6:$A$1806,Data!$J$6:$J$1806)","v":-103},{"$f":"LOOKUP($AO356,Data!$A$6:$A$1806,Data!$K$6:$K$1806)","v":7743.87},22.39990234375]
[null,40098.108819443929,{"$f":"LOOKUP(B357,Data!$A$6:$A$1806,Data!B$6:B$1806)","v":59.966999053955078},{"$f":"LOOKUP(B357,Data!$A$6:$A$1806,Data!C$6:C$1806)","v":3784.83056640625},null,null,null,26.4007568359375,25.328217704443126,null,null,0,3791.3376647958398,{"$f":"AVERAGE(D$79:D357)","v":3773.9495057683694},{"$f":"AVERAGE(M$79:M357)","v":3771.9799798150466},3765.4461564175972,{"$f":"AVERAGE(P$79:P357)","v":3738.4276000244777},633,null,null,null,null,null,null,0,633,-842.58253898737553,null,null,null,null,null,null,null,null,null,null,null,null,null,40098.108819443929,{"$f":"LOOKUP($AO357,Data!$A$6:$A$1806,Data!$B$6:$B$1806)","v":59.966999053955078},{"$f":"LOOKUP($AO357,Data!$A$6:$A$1806,Data!$C$6:$C$1806)","v":3784.83056640625},{"$f":"LOOKUP($AO357,Data!$A$6:$A$1806,Data!$D$6:$D$1806)","v":350},{"$f":"IF($AS$1=\"+\",LOOKUP($AO357,Data!$A$6:$A$1806,Data!$E$6:$E$1806)*-1,LOOKUP($AO357,Data!$A$6:$A$1806,Data!$E$6:$E$1806))","v":205.33891296386719},{"$f":"LOOKUP($AO357,Data!$A$6:$A$1806,Data!$F$6:$F$1806)","v":16},{"$f":"LOOKUP($AO357,Data!$A$6:$A$1806,Data!$G$6:$G$1806)","v":370},{"$f":"LOOKUP($AO357,Data!$A$6:$A$1806,Data!$H$6:$H$1806)","v":10},{"$f":"LOOKUP($AO357,Data!$A$6:$A$1806,Data!$I$6:$I$1806)","v":0},{"$f":"LOOKUP($AO357,Data!$A$6:$A$1806,Data!$J$6:$J$1806)","v":-103},{"$f":"LOOKUP($AO357,Data!$A$6:$A$1806,Data!$K$6:$K$1806)","v":7744.2},26.4007568359375]
[null,40098.108842592075,{"$f":"LOOKUP(B358,Data!$A$6:$A$1806,Data!B$6:B$1806)","v":59.966999053955078},{"$f":"LOOKUP(B358,Data!$A$6:$A$1806,Data!C$6:C$1806)","v":3785.009521484375},null,null,null,26.4007568359375,25.703606400466157,null,null,0,3791.7130534918629,{"$f":"AVERAGE(D$79:D358)","v":3773.9890058244978},{"$f":"AVERAGE(M$79:M358)","v":3772.0504550781784},3765.4461564175972,{"$f":"AVERAGE(P$79:P358)","v":3738.5244407283958},633,null,null,null,null,null,null,0,633,-842.58253898737553,null,null,null,null,null,null,null,null,null,null,null,null,null,40098.108842592075,{"$f":"LOOKUP($AO358,Data!$A$6:$A$1806,Data!$B$6:$B$1806)","v":59.966999053955078},{"$f":"LOOKUP($AO358,Data!$A$6:$A$1806,Data!$C$6:$C$1806)","v":3785.009521484375},{"$f":"LOOKUP($AO358,Data!$A$6:$A$1806,Data!$D$6:$D$1806)","v":350},{"$f":"IF($AS$1=\"+\",LOOKUP($AO358,Data!$A$6:$A$1806,Data!$E$6:$E$1806)*-1,LOOKUP($AO358,Data!$A$6:$A$1806,Data!$E$6:$E$1806))","v":205.33891296386719},{"$f":"LOOKUP($AO358,Data!$A$6:$A$1806,Data!$F$6:$F$1806)","v":16},{"$f":"LOOKUP($AO358,Data!$A$6:$A$1806,Data!$G$6:$G$1806)","v":370.5},{"$f":"LOOKUP($AO358,Data!$A$6:$A$1806,Data!$H$6:$H$1806)","v":10},{"$f":"LOOKUP($AO358,Data!$A$6:$A$1806,Data!$I$6:$I$1806)","v":0},{"$f":"LOOKUP($AO358,Data!$A$6:$A$1806,Data!$J$6:$J$1806)","v":-103},{"$f":"LOOKUP($AO358,Data!$A$6:$A$1806,Data!$K$6:$K$1806)","v":7744.53},26.4007568359375]
[null,40098.108865740222,{"$f":"LOOKUP(B359,Data!$A$6:$A$1806,Data!B$6:B$1806)","v":59.969001770019531},{"$f":"LOOKUP(B359,Data!$A$6:$A$1806,Data!C$6:C$1806)","v":3784.3203125},null,null,null,24.798583984375,25.386848554834252,null,null,0,3791.396295646231,{"$f":"AVERAGE(D$79:D359)","v":3774.0257720404247},{"$f":"AVERAGE(M$79:M359)","v":3772.1193014858936},3765.4461564175972,{"$f":"AVERAGE(P$79:P359)","v":3738.6205897130003},633,null,null,null,null,null,null,0,633,-865.6593149050218,null,null,null,null,null,null,null,null,null,null,null,null,null,40098.108865740222,{"$f":"LOOKUP($AO359,Data!$A$6:$A$1806,Data!$B$6:$B$1806)","v":59.969001770019531},{"$f":"LOOKUP($AO359,Data!$A$6:$A$1806,Data!$C$6:$C$1806)","v":3784.3203125},{"$f":"LOOKUP($AO359,Data!$A$6:$A$1806,Data!$D$6:$D$1806)","v":350},{"$f":"IF($AS$1=\"+\",LOOKUP($AO359,Data!$A$6:$A$1806,Data!$E$6:$E$1806)*-1,LOOKUP($AO359,Data!$A$6:$A$1806,Data!$E$6:$E$1806))","v":205.33891296386719},{"$f":"LOOKUP($AO359,Data!$A$6:$A$1806,Data!$F$6:$F$1806)","v":16},{"$f":"LOOKUP($AO359,Data!$A$6:$A$1806,Data!$G$6:$G$1806)","v":371},{"$f":"LOOKUP($AO359,Data!$A$6:$A$1806,Data!$H$6:$H$1806)","v":10},{"$f":"LOOKUP($AO359,Data!$A$6:$A$1806,Data!$I$6:$I$1806)","v":0},{"$f":"LOOKUP($AO359,Data!$A$6:$A$1806,Data!$J$6:$J$1806)","v":-103},{"$f":"LOOKUP($AO359,Data!$A$6:$A$1806,Data!$K$6:$K$1806)","v":7744.86},24.798583984375]
[null,40098.108888888368,{"$f":"LOOKUP(B360,Data!$A$6:$A$1806,Data!B$6:B$1806)","v":59.967998504638672},{"$f":"LOOKUP(B360,Data!$A$6:$A$1806,Data!C$6:C$1806)","v":3782.80859375},null,null,null,25.6011962890625,25.461870261814138,null,null,0,3791.4713173532109,{"$f":"AVERAGE(D$79:D360)","v":3774.0569167982603},{"$f":"AVERAGE(M$79:M360)","v":3772.1879256556358},3765.4461564175972,{"$f":"AVERAGE(P$79:P360)","v":3738.7160543631944},633,null,null,null,null,null,null,0,633,-853.94308063426718,null,null,null,null,null,null,null,null,null,null,null,null,null,40098.108888888368,{"$f":"LOOKUP($AO360,Data!$A$6:$A$1806,Data!$B$6:$B$1806)","v":59.967998504638672},{"$f":"LOOKUP($AO360,Data!$A$6:$A$1806,Data!$C$6:$C$1806)","v":3782.80859375},{"$f":"LOOKUP($AO360,Data!$A$6:$A$1806,Data!$D$6:$D$1806)","v":350},{"$f":"IF($AS$1=\"+\",LOOKUP($AO360,Data!$A$6:$A$1806,Data!$E$6:$E$1806)*-1,LOOKUP($AO360,Data!$A$6:$A$1806,Data!$E$6:$E$1806))","v":236.28535461425781},{"$f":"LOOKUP($AO360,Data!$A$6:$A$1806,Data!$F$6:$F$1806)","v":16},{"$f":"LOOKUP($AO360,Data!$A$6:$A$1806,Data!$G$6:$G$1806)","v":371.5},{"$f":"LOOKUP($AO360,Data!$A$6:$A$1806,Data!$H$6:$H$1806)","v":10},{"$f":"LOOKUP($AO360,Data!$A$6:$A$1806,Data!$I$6:$I$1806)","v":0},{"$f":"LOOKUP($AO360,Data!$A$6:$A$1806,Data!$J$6:$J$1806)","v":-103},{"$f":"LOOKUP($AO360,Data!$A$6:$A$1806,Data!$K$6:$K$1806)","v":7745.19},25.6011962890625]
[null,40098.108912036514,{"$f":"LOOKUP(B361,Data!$A$6:$A$1806,Data!B$6:B$1806)","v":59.969001770019531},{"$f":"LOOKUP(B361,Data!$A$6:$A$1806,Data!C$6:C$1806)","v":3782.10986328125},null,null,null,24.798583984375,25.229720064710442,null,null,0,3791.2391671561072,{"$f":"AVERAGE(D$79:D361)","v":3774.0853724395429},{"$f":"AVERAGE(M$79:M361)","v":3772.2552445301963},3765.4461564175972,{"$f":"AVERAGE(P$79:P361)","v":3738.8108419591317},633,null,null,null,null,null,null,0,633,-865.6593149050218,null,null,null,null,null,null,null,null,null,null,null,null,null,40098.108912036514,{"$f":"LOOKUP($AO361,Data!$A$6:$A$1806,Data!$B$6:$B$1806)","v":59.969001770019531},{"$f":"LOOKUP($AO361,Data!$A$6:$A$1806,Data!$C$6:$C$1806)","v":3782.10986328125},{"$f":"LOOKUP($AO361,Data!$A$6:$A$1806,Data!$D$6:$D$1806)","v":350},{"$f":"IF($AS$1=\"+\",LOOKUP($AO361,Data!$A$6:$A$1806,Data!$E$6:$E$1806)*-1,LOOKUP($AO361,Data!$A$6:$A$1806,Data!$E$6:$E$1806))","v":236.28535461425781},{"$f":"LOOKUP($AO361,Data!$A$6:$A$1806,Data!$F$6:$F$1806)","v":16},{"$f":"LOOKUP($AO361,Data!$A$6:$A$1806,Data!$G$6:$G$1806)","v":372},{"$f":"LOOKUP($AO361,Data!$A$6:$A$1806,Data!$H$6:$H$1806)","v":10},{"$f":"LOOKUP($AO361,Data!$A$6:$A$1806,Data!$I$6:$I$1806)","v":0},{"$f":"LOOKUP($AO361,Data!$A$6:$A$1806,Data!$J$6:$J$1806)","v":-103},{"$f":"LOOKUP($AO361,Data!$A$6:$A$1806,Data!$K$6:$K$1806)","v":7745.52},24.798583984375]
[null,40098.10893518466,{"$f":"LOOKUP(B362,Data!$A$6:$A$1806,Data!B$6:B$1806)","v":59.966999053955078},{"$f":"LOOKUP(B362,Data!$A$6:$A$1806,Data!C$6:C$1806)","v":3779.3515625},null,null,null,26.4007568359375,25.639582934639911,null,null,0,3791.6490300260366,{"$f":"AVERAGE(D$79:D362)","v":3774.103915362291},{"$f":"AVERAGE(M$79:M362)","v":3772.3235325072942},3765.4461564175972,{"$f":"AVERAGE(P$79:P362)","v":3738.9049596780656},633,null,null,null,null,null,null,0,633,-842.58253898737553,null,null,null,null,null,null,null,null,null,null,null,null,null,40098.10893518466,{"$f":"LOOKUP($AO362,Data!$A$6:$A$1806,Data!$B$6:$B$1806)","v":59.966999053955078},{"$f":"LOOKUP($AO362,Data!$A$6:$A$1806,Data!$C$6:$C$1806)","v":3779.3515625},{"$f":"LOOKUP($AO362,Data!$A$6:$A$1806,Data!$D$6:$D$1806)","v":350},{"$f":"IF($AS$1=\"+\",LOOKUP($AO362,Data!$A$6:$A$1806,Data!$E$6:$E$1806)*-1,LOOKUP($AO362,Data!$A$6:$A$1806,Data!$E$6:$E$1806))","v":236.28535461425781},{"$f":"LOOKUP($AO362,Data!$A$6:$A$1806,Data!$F$6:$F$1806)","v":16},{"$f":"LOOKUP($AO362,Data!$A$6:$A$1806,Data!$G$6:$G$1806)","v":372.5},{"$f":"LOOKUP($AO362,Data!$A$6:$A$1806,Data!$H$6:$H$1806)","v":10},{"$f":"LOOKUP($AO362,Data!$A$6:$A$1806,Data!$I$6:$I$1806)","v":0},{"$f":"LOOKUP($AO362,Data!$A$6:$A$1806,Data!$J$6:$J$1806)","v":-103},{"$f":"LOOKUP($AO362,Data!$A$6:$A$1806,Data!$K$6:$K$1806)","v":7745.85},26.4007568359375]
[null,40098.108958332807,{"$f":"LOOKUP(B363,Data!$A$6:$A$1806,Data!B$6:B$1806)","v":59.966999053955078},{"$f":"LOOKUP(B363,Data!$A$6:$A$1806,Data!C$6:C$1806)","v":3779.05615234375},null,null,null,26.4007568359375,{"$f":"L$13*H363+(1-L$13)*I362","v":25.905993800094066},null,null,0,3791.9154408914906,{"$f":"AVERAGE(D$79:D363)","v":3774.1212916324012},{"$f":"AVERAGE(M$79:M363)","v":3772.3922760454839},3765.4461564175972,{"$f":"AVERAGE(P$79:P363)","v":3738.9984145961621},633,null,null,null,null,null,null,0,{"$f":"SUM(R363:Y363)","v":633},-842.58253898737553,null,null,null,null,null,null,null,null,null,null,null,null,null,40098.108958332807,{"$f":"LOOKUP($AO363,Data!$A$6:$A$1806,Data!$B$6:$B$1806)","v":59.966999053955078},{"$f":"LOOKUP($AO363,Data!$A$6:$A$1806,Data!$C$6:$C$1806)","v":3779.05615234375},{"$f":"LOOKUP($AO363,Data!$A$6:$A$1806,Data!$D$6:$D$1806)","v":350},{"$f":"IF($AS$1=\"+\",LOOKUP($AO363,Data!$A$6:$A$1806,Data!$E$6:$E$1806)*-1,LOOKUP($AO363,Data!$A$6:$A$1806,Data!$E$6:$E$1806))","v":236.28535461425781},{"$f":"LOOKUP($AO363,Data!$A$6:$A$1806,Data!$F$6:$F$1806)","v":16},{"$f":"LOOKUP($AO363,Data!$A$6:$A$1806,Data!$G$6:$G$1806)","v":373},{"$f":"LOOKUP($AO363,Data!$A$6:$A$1806,Data!$H$6:$H$1806)","v":10},{"$f":"LOOKUP($AO363,Data!$A$6:$A$1806,Data!$I$6:$I$1806)","v":0},{"$f":"LOOKUP($AO363,Data!$A$6:$A$1806,Data!$J$6:$J$1806)","v":-103},{"$f":"LOOKUP($AO363,Data!$A$6:$A$1806,Data!$K$6:$K$1806)","v":7746.18},26.4007568359375]
[null,40098.108981480953,{"$f":"LOOKUP(B364,Data!$A$6:$A$1806,Data!B$6:B$1806)","v":59.965999603271484},{"$f":"LOOKUP(B364,Data!$A$6:$A$1806,Data!C$6:C$1806)","v":3778.63330078125},null,null,null,{"$f":"(IF((C364-L$2)>0,((C364-L$2-L$5)/((L$4*L$2)-L$5)*L$3*-1),((C364-L$2+L$5)/((L$4*L$2)-L$5)*L$3*-1)))","v":27.2003173828125},26.35900705404552,null,null,0,3792.3684541454422,{"$f":"AVERAGE(D$79:D364)","v":3774.1370678881667},{"$f":"AVERAGE(M$79:M364)","v":3772.4621228220576},3765.4461564175972,{"$f":"AVERAGE(P$79:P364)","v":3739.0912136902721},633,null,null,null,null,null,null,0,633,-831.5203016655496,null,null,null,null,null,null,null,null,null,null,null,null,null,40098.108981480953,{"$f":"LOOKUP($AO364,Data!$A$6:$A$1806,Data!$B$6:$B$1806)","v":59.965999603271484},{"$f":"LOOKUP($AO364,Data!$A$6:$A$1806,Data!$C$6:$C$1806)","v":3778.63330078125},{"$f":"LOOKUP($AO364,Data!$A$6:$A$1806,Data!$D$6:$D$1806)","v":350},{"$f":"IF($AS$1=\"+\",LOOKUP($AO364,Data!$A$6:$A$1806,Data!$E$6:$E$1806)*-1,LOOKUP($AO364,Data!$A$6:$A$1806,Data!$E$6:$E$1806))","v":236.28535461425781},{"$f":"LOOKUP($AO364,Data!$A$6:$A$1806,Data!$F$6:$F$1806)","v":16},{"$f":"LOOKUP($AO364,Data!$A$6:$A$1806,Data!$G$6:$G$1806)","v":373.5},{"$f":"LOOKUP($AO364,Data!$A$6:$A$1806,Data!$H$6:$H$1806)","v":10},{"$f":"LOOKUP($AO364,Data!$A$6:$A$1806,Data!$I$6:$I$1806)","v":0},{"$f":"LOOKUP($AO364,Data!$A$6:$A$1806,Data!$J$6:$J$1806)","v":-103},{"$f":"LOOKUP($AO364,Data!$A$6:$A$1806,Data!$K$6:$K$1806)","v":7746.51},{"$f":"(IF((AP364-$L$2)>0,((AP364-$L$2-$L$5)/(($L$4*$L$2)-$L$5)*$L$3*-1),((AP364-$L$2+$L$5)/(($L$4*$L$2)-$L$5)*$L$3*-1)))","v":27.2003173828125}]
[null,40098.109004629099,{"$f":"LOOKUP(B365,Data!$A$6:$A$1806,Data!B$6:B$1806)","v":59.965000152587891},{"$f":"LOOKUP(B365,Data!$A$6:$A$1806,Data!C$6:C$1806)","v":3779.211669921875},null,null,null,27.9998779296875,26.933311860520213,null,null,0,3792.9427589519169,{"$f":"AVERAGE(D$79:D365)","v":3774.1547494283536},{"$f":"AVERAGE(M$79:M365)","v":3772.5334839235547},3765.4461564175972,{"$f":"AVERAGE(P$79:P365)","v":3739.1833638396679},633,null,null,null,null,null,null,0,633,-820.74477164390419,null,null,null,null,null,null,null,null,null,null,null,null,null,40098.109004629099,{"$f":"LOOKUP($AO365,Data!$A$6:$A$1806,Data!$B$6:$B$1806)","v":59.965000152587891},{"$f":"LOOKUP($AO365,Data!$A$6:$A$1806,Data!$C$6:$C$1806)","v":3779.211669921875},{"$f":"LOOKUP($AO365,Data!$A$6:$A$1806,Data!$D$6:$D$1806)","v":350},{"$f":"IF($AS$1=\"+\",LOOKUP($AO365,Data!$A$6:$A$1806,Data!$E$6:$E$1806)*-1,LOOKUP($AO365,Data!$A$6:$A$1806,Data!$E$6:$E$1806))","v":223.01573181152344},{"$f":"LOOKUP($AO365,Data!$A$6:$A$1806,Data!$F$6:$F$1806)","v":16},{"$f":"LOOKUP($AO365,Data!$A$6:$A$1806,Data!$G$6:$G$1806)","v":374},{"$f":"LOOKUP($AO365,Data!$A$6:$A$1806,Data!$H$6:$H$1806)","v":10},{"$f":"LOOKUP($AO365,Data!$A$6:$A$1806,Data!$I$6:$I$1806)","v":0},{"$f":"LOOKUP($AO365,Data!$A$6:$A$1806,Data!$J$6:$J$1806)","v":-103},{"$f":"LOOKUP($AO365,Data!$A$6:$A$1806,Data!$K$6:$K$1806)","v":7746.84},27.9998779296875]
[null,{"$f":"B365+TIME(0,0,$B$1)","v":40098.109027777246},{"$f":"LOOKUP(B366,Data!$A$6:$A$1806,Data!B$6:B$1806)","v":59.971000671386719},{"$f":"LOOKUP(B366,Data!$A$6:$A$1806,Data!C$6:C$1806)","v":3779.334716796875},null,null,null,23.199462890625,25.626464721056887,null,null,0,3791.6359118124537,{"$f":"AVERAGE(D$79:D366)","v":3774.1727354261611},{"$f":"AVERAGE(M$79:M366)","v":3772.5998117981694},3765.4461564175972,{"$f":"AVERAGE(P$79:P366)","v":3739.2748718277439},633,null,null,null,null,null,null,0,633,-889.98801011001683,null,null,null,null,null,null,null,null,null,null,null,null,null,40098.109027777246,{"$f":"LOOKUP($AO366,Data!$A$6:$A$1806,Data!$B$6:$B$1806)","v":59.971000671386719},{"$f":"LOOKUP($AO366,Data!$A$6:$A$1806,Data!$C$6:$C$1806)","v":3779.334716796875},{"$f":"LOOKUP($AO366,Data!$A$6:$A$1806,Data!$D$6:$D$1806)","v":350},{"$f":"IF($AS$1=\"+\",LOOKUP($AO366,Data!$A$6:$A$1806,Data!$E$6:$E$1806)*-1,LOOKUP($AO366,Data!$A$6:$A$1806,Data!$E$6:$E$1806))","v":223.01573181152344},{"$f":"LOOKUP($AO366,Data!$A$6:$A$1806,Data!$F$6:$F$1806)","v":16},{"$f":"LOOKUP($AO366,Data!$A$6:$A$1806,Data!$G$6:$G$1806)","v":374.5},{"$f":"LOOKUP($AO366,Data!$A$6:$A$1806,Data!$H$6:$H$1806)","v":10},{"$f":"LOOKUP($AO366,Data!$A$6:$A$1806,Data!$I$6:$I$1806)","v":0},{"$f":"LOOKUP($AO366,Data!$A$6:$A$1806,Data!$J$6:$J$1806)","v":-103},{"$f":"LOOKUP($AO366,Data!$A$6:$A$1806,Data!$K$6:$K$1806)","v":7747.17},23.199462890625]
[null,40098.109050925392,{"$f":"LOOKUP(B367,Data!$A$6:$A$1806,Data!B$6:B$1806)","v":59.966999053955078},{"$f":"LOOKUP(B367,Data!$A$6:$A$1806,Data!C$6:C$1806)","v":3776.42919921875},null,null,null,26.4007568359375,25.897466961265103,null,null,0,3791.9069140526622,{"$f":"AVERAGE(D$79:D367)","v":3774.1805432593533},{"$f":"AVERAGE(M$79:M367)","v":3772.6666183803645},3765.4461564175972,{"$f":"AVERAGE(P$79:P367)","v":3739.3657443436805},633,null,null,null,null,null,null,0,633,-842.58253898737553,null,null,null,null,null,null,null,null,null,null,null,null,null,40098.109050925392,{"$f":"LOOKUP($AO367,Data!$A$6:$A$1806,Data!$B$6:$B$1806)","v":59.966999053955078},{"$f":"LOOKUP($AO367,Data!$A$6:$A$1806,Data!$C$6:$C$1806)","v":3776.42919921875},{"$f":"LOOKUP($AO367,Data!$A$6:$A$1806,Data!$D$6:$D$1806)","v":350},{"$f":"IF($AS$1=\"+\",LOOKUP($AO367,Data!$A$6:$A$1806,Data!$E$6:$E$1806)*-1,LOOKUP($AO367,Data!$A$6:$A$1806,Data!$E$6:$E$1806))","v":223.01573181152344},{"$f":"LOOKUP($AO367,Data!$A$6:$A$1806,Data!$F$6:$F$1806)","v":16},{"$f":"LOOKUP($AO367,Data!$A$6:$A$1806,Data!$G$6:$G$1806)","v":375},{"$f":"LOOKUP($AO367,Data!$A$6:$A$1806,Data!$H$6:$H$1806)","v":10},{"$f":"LOOKUP($AO367,Data!$A$6:$A$1806,Data!$I$6:$I$1806)","v":0},{"$f":"LOOKUP($AO367,Data!$A$6:$A$1806,Data!$J$6:$J$1806)","v":-103},{"$f":"LOOKUP($AO367,Data!$A$6:$A$1806,Data!$K$6:$K$1806)","v":7747.5},26.4007568359375]
[null,40098.109074073538,{"$f":"LOOKUP(B368,Data!$A$6:$A$1806,Data!B$6:B$1806)","v":59.965000152587891},{"$f":"LOOKUP(B368,Data!$A$6:$A$1806,Data!C$6:C$1806)","v":3775.646728515625},null,null,null,27.9998779296875,26.633310800212943,null,null,0,3792.64275789161,{"$f":"AVERAGE(D$79:D368)","v":3774.1855990705817},{"$f":"AVERAGE(M$79:M368)","v":3772.7355016200586},3765.4461564175972,{"$f":"AVERAGE(P$79:P368)","v":3739.4559879840745},633,null,null,null,null,null,null,0,633,-820.74477164390419,null,null,null,null,null,null,null,null,null,null,null,null,null,40098.109074073538,{"$f":"LOOKUP($AO368,Data!$A$6:$A$1806,Data!$B$6:$B$1806)","v":59.965000152587891},{"$f":"LOOKUP($AO368,Data!$A$6:$A$1806,Data!$C$6:$C$1806)","v":3775.646728515625},{"$f":"LOOKUP($AO368,Data!$A$6:$A$1806,Data!$D$6:$D$1806)","v":350},{"$f":"IF($AS$1=\"+\",LOOKUP($AO368,Data!$A$6:$A$1806,Data!$E$6:$E$1806)*-1,LOOKUP($AO368,Data!$A$6:$A$1806,Data!$E$6:$E$1806))","v":223.01573181152344},{"$f":"LOOKUP($AO368,Data!$A$6:$A$1806,Data!$F$6:$F$1806)","v":16},{"$f":"LOOKUP($AO368,Data!$A$6:$A$1806,Data!$G$6:$G$1806)","v":375.5},{"$f":"LOOKUP($AO368,Data!$A$6:$A$1806,Data!$H$6:$H$1806)","v":10},{"$f":"LOOKUP($AO368,Data!$A$6:$A$1806,Data!$I$6:$I$1806)","v":0},{"$f":"LOOKUP($AO368,Data!$A$6:$A$1806,Data!$J$6:$J$1806)","v":-103},{"$f":"LOOKUP($AO368,Data!$A$6:$A$1806,Data!$K$6:$K$1806)","v":7747.83},27.9998779296875]
[null,40098.109097221684,{"$f":"LOOKUP(B369,Data!$A$6:$A$1806,Data!B$6:B$1806)","v":59.962001800537109},{"$f":"LOOKUP(B369,Data!$A$6:$A$1806,Data!C$6:C$1806)","v":3776.5966796875},null,null,null,30.3985595703125,27.951147869747789,null,null,0,3793.960594961145,{"$f":"AVERAGE(D$79:D369)","v":3774.1938845709838},{"$f":"AVERAGE(M$79:M369)","v":3772.8084400851485},3765.4461564175972,{"$f":"AVERAGE(P$79:P369)","v":3739.5456092545346},633,null,null,null,null,null,null,0,633,-790.03113473109124,null,null,null,null,null,null,null,null,null,null,null,null,null,40098.109097221684,{"$f":"LOOKUP($AO369,Data!$A$6:$A$1806,Data!$B$6:$B$1806)","v":59.962001800537109},{"$f":"LOOKUP($AO369,Data!$A$6:$A$1806,Data!$C$6:$C$1806)","v":3776.5966796875},{"$f":"LOOKUP($AO369,Data!$A$6:$A$1806,Data!$D$6:$D$1806)","v":350},{"$f":"IF($AS$1=\"+\",LOOKUP($AO369,Data!$A$6:$A$1806,Data!$E$6:$E$1806)*-1,LOOKUP($AO369,Data!$A$6:$A$1806,Data!$E$6:$E$1806))","v":223.01573181152344},{"$f":"LOOKUP($AO369,Data!$A$6:$A$1806,Data!$F$6:$F$1806)","v":16},{"$f":"LOOKUP($AO369,Data!$A$6:$A$1806,Data!$G$6:$G$1806)","v":376},{"$f":"LOOKUP($AO369,Data!$A$6:$A$1806,Data!$H$6:$H$1806)","v":10},{"$f":"LOOKUP($AO369,Data!$A$6:$A$1806,Data!$I$6:$I$1806)","v":0},{"$f":"LOOKUP($AO369,Data!$A$6:$A$1806,Data!$J$6:$J$1806)","v":-103},{"$f":"LOOKUP($AO369,Data!$A$6:$A$1806,Data!$K$6:$K$1806)","v":7748.16},30.3985595703125]
[null,40098.109120369831,{"$f":"LOOKUP(B370,Data!$A$6:$A$1806,Data!B$6:B$1806)","v":59.964000701904297},{"$f":"LOOKUP(B370,Data!$A$6:$A$1806,Data!C$6:C$1806)","v":3776.55908203125},null,null,null,28.7994384765625,28.248049582132939,null,null,0,3794.2574966735301,{"$f":"AVERAGE(D$79:D370)","v":3774.2019845622858},{"$f":"AVERAGE(M$79:M370)","v":3772.8818957583967},3765.4461564175972,{"$f":"AVERAGE(P$79:P370)","v":3739.6346145712455},633,null,null,null,null,null,null,0,633,-810.24494534268399,null,null,null,null,null,null,null,null,null,null,null,null,null,40098.109120369831,{"$f":"LOOKUP($AO370,Data!$A$6:$A$1806,Data!$B$6:$B$1806)","v":59.964000701904297},{"$f":"LOOKUP($AO370,Data!$A$6:$A$1806,Data!$C$6:$C$1806)","v":3776.55908203125},{"$f":"LOOKUP($AO370,Data!$A$6:$A$1806,Data!$D$6:$D$1806)","v":350},{"$f":"IF($AS$1=\"+\",LOOKUP($AO370,Data!$A$6:$A$1806,Data!$E$6:$E$1806)*-1,LOOKUP($AO370,Data!$A$6:$A$1806,Data!$E$6:$E$1806))","v":223.01573181152344},{"$f":"LOOKUP($AO370,Data!$A$6:$A$1806,Data!$F$6:$F$1806)","v":16},{"$f":"LOOKUP($AO370,Data!$A$6:$A$1806,Data!$G$6:$G$1806)","v":376.5},{"$f":"LOOKUP($AO370,Data!$A$6:$A$1806,Data!$H$6:$H$1806)","v":10},{"$f":"LOOKUP($AO370,Data!$A$6:$A$1806,Data!$I$6:$I$1806)","v":0},{"$f":"LOOKUP($AO370,Data!$A$6:$A$1806,Data!$J$6:$J$1806)","v":-103},{"$f":"LOOKUP($AO370,Data!$A$6:$A$1806,Data!$K$6:$K$1806)","v":7748.49},28.7994384765625]
[null,40098.109143517977,{"$f":"LOOKUP(B371,Data!$A$6:$A$1806,Data!B$6:B$1806)","v":59.970001220703125},{"$f":"LOOKUP(B371,Data!$A$6:$A$1806,Data!C$6:C$1806)","v":3776.02294921875},null,null,null,23.9990234375,26.76089043151141,null,null,0,3792.7703375229084,{"$f":"AVERAGE(D$79:D371)","v":3774.2081994587243},{"$f":"AVERAGE(M$79:M371)","v":3772.9497743992315},3765.4461564175972,{"$f":"AVERAGE(P$79:P371)","v":3739.7230102624999},633,null,null,null,null,null,null,0,633,-877.6550963604509,null,null,null,null,null,null,null,null,null,null,null,null,null,40098.109143517977,{"$f":"LOOKUP($AO371,Data!$A$6:$A$1806,Data!$B$6:$B$1806)","v":59.970001220703125},{"$f":"LOOKUP($AO371,Data!$A$6:$A$1806,Data!$C$6:$C$1806)","v":3776.02294921875},{"$f":"LOOKUP($AO371,Data!$A$6:$A$1806,Data!$D$6:$D$1806)","v":350},{"$f":"IF($AS$1=\"+\",LOOKUP($AO371,Data!$A$6:$A$1806,Data!$E$6:$E$1806)*-1,LOOKUP($AO371,Data!$A$6:$A$1806,Data!$E$6:$E$1806))","v":223.01573181152344},{"$f":"LOOKUP($AO371,Data!$A$6:$A$1806,Data!$F$6:$F$1806)","v":16},{"$f":"LOOKUP($AO371,Data!$A$6:$A$1806,Data!$G$6:$G$1806)","v":377},{"$f":"LOOKUP($AO371,Data!$A$6:$A$1806,Data!$H$6:$H$1806)","v":10},{"$f":"LOOKUP($AO371,Data!$A$6:$A$1806,Data!$I$6:$I$1806)","v":0},{"$f":"LOOKUP($AO371,Data!$A$6:$A$1806,Data!$J$6:$J$1806)","v":-103},{"$f":"LOOKUP($AO371,Data!$A$6:$A$1806,Data!$K$6:$K$1806)","v":7748.82},23.9990234375]
[null,40098.109166666123,{"$f":"LOOKUP(B372,Data!$A$6:$A$1806,Data!B$6:B$1806)","v":59.966999053955078},{"$f":"LOOKUP(B372,Data!$A$6:$A$1806,Data!C$6:C$1806)","v":3773.169921875},null,null,null,26.4007568359375,26.634843673060541,null,null,0,3792.6442907644578,{"$f":"AVERAGE(D$79:D372)","v":3774.2046679023174},{"$f":"AVERAGE(M$79:M372)","v":3773.0167625501331},3765.4461564175972,{"$f":"AVERAGE(P$79:P372)","v":3739.8108025701963},633,null,null,null,null,null,null,0,633,-842.58253898737553,null,null,null,null,null,null,null,null,null,null,null,null,null,40098.109166666123,{"$f":"LOOKUP($AO372,Data!$A$6:$A$1806,Data!$B$6:$B$1806)","v":59.966999053955078},{"$f":"LOOKUP($AO372,Data!$A$6:$A$1806,Data!$C$6:$C$1806)","v":3773.169921875},{"$f":"LOOKUP($AO372,Data!$A$6:$A$1806,Data!$D$6:$D$1806)","v":350},{"$f":"IF($AS$1=\"+\",LOOKUP($AO372,Data!$A$6:$A$1806,Data!$E$6:$E$1806)*-1,LOOKUP($AO372,Data!$A$6:$A$1806,Data!$E$6:$E$1806))","v":223.01573181152344},{"$f":"LOOKUP($AO372,Data!$A$6:$A$1806,Data!$F$6:$F$1806)","v":16},{"$f":"LOOKUP($AO372,Data!$A$6:$A$1806,Data!$G$6:$G$1806)","v":377.5},{"$f":"LOOKUP($AO372,Data!$A$6:$A$1806,Data!$H$6:$H$1806)","v":10},{"$f":"LOOKUP($AO372,Data!$A$6:$A$1806,Data!$I$6:$I$1806)","v":0},{"$f":"LOOKUP($AO372,Data!$A$6:$A$1806,Data!$J$6:$J$1806)","v":-103},{"$f":"LOOKUP($AO372,Data!$A$6:$A$1806,Data!$K$6:$K$1806)","v":7749.15},26.4007568359375]
[null,40098.109189814269,{"$f":"LOOKUP(B373,Data!$A$6:$A$1806,Data!B$6:B$1806)","v":59.969001770019531},{"$f":"LOOKUP(B373,Data!$A$6:$A$1806,Data!C$6:C$1806)","v":3771.73046875},null,null,null,24.798583984375,25.992152782020604,null,null,0,3792.0015998734179,{"$f":"AVERAGE(D$79:D373)","v":3774.1962807865466},{"$f":"AVERAGE(M$79:M373)","v":3773.0811179308898},3765.4461564175972,{"$f":"AVERAGE(P$79:P373)","v":3739.8979976513092},633,null,null,null,null,null,null,0,633,-865.6593149050218,null,null,null,null,null,null,null,null,null,null,null,null,null,40098.109189814269,{"$f":"LOOKUP($AO373,Data!$A$6:$A$1806,Data!$B$6:$B$1806)","v":59.969001770019531},{"$f":"LOOKUP($AO373,Data!$A$6:$A$1806,Data!$C$6:$C$1806)","v":3771.73046875},{"$f":"LOOKUP($AO373,Data!$A$6:$A$1806,Data!$D$6:$D$1806)","v":350},{"$f":"IF($AS$1=\"+\",LOOKUP($AO373,Data!$A$6:$A$1806,Data!$E$6:$E$1806)*-1,LOOKUP($AO373,Data!$A$6:$A$1806,Data!$E$6:$E$1806))","v":223.01573181152344},{"$f":"LOOKUP($AO373,Data!$A$6:$A$1806,Data!$F$6:$F$1806)","v":16},{"$f":"LOOKUP($AO373,Data!$A$6:$A$1806,Data!$G$6:$G$1806)","v":378},{"$f":"LOOKUP($AO373,Data!$A$6:$A$1806,Data!$H$6:$H$1806)","v":10},{"$f":"LOOKUP($AO373,Data!$A$6:$A$1806,Data!$I$6:$I$1806)","v":0},{"$f":"LOOKUP($AO373,Data!$A$6:$A$1806,Data!$J$6:$J$1806)","v":-103},{"$f":"LOOKUP($AO373,Data!$A$6:$A$1806,Data!$K$6:$K$1806)","v":7749.48},24.798583984375]
[null,40098.109212962416,{"$f":"LOOKUP(B374,Data!$A$6:$A$1806,Data!B$6:B$1806)","v":59.967998504638672},{"$f":"LOOKUP(B374,Data!$A$6:$A$1806,Data!C$6:C$1806)","v":3768.79296875},null,null,null,25.6011962890625,25.855318009485266,null,null,0,3791.8647651008828,{"$f":"AVERAGE(D$79:D374)","v":3774.1780263539908},{"$f":"AVERAGE(M$79:M374)","v":3773.1445761983559},3765.4461564175972,{"$f":"AVERAGE(P$79:P374)","v":3739.9846015793305},633,null,null,null,null,null,null,0,633,-853.94308063426718,null,null,null,null,null,null,null,null,null,null,null,null,null,40098.109212962416,{"$f":"LOOKUP($AO374,Data!$A$6:$A$1806,Data!$B$6:$B$1806)","v":59.967998504638672},{"$f":"LOOKUP($AO374,Data!$A$6:$A$1806,Data!$C$6:$C$1806)","v":3768.79296875},{"$f":"LOOKUP($AO374,Data!$A$6:$A$1806,Data!$D$6:$D$1806)","v":350},{"$f":"IF($AS$1=\"+\",LOOKUP($AO374,Data!$A$6:$A$1806,Data!$E$6:$E$1806)*-1,LOOKUP($AO374,Data!$A$6:$A$1806,Data!$E$6:$E$1806))","v":223.01573181152344},{"$f":"LOOKUP($AO374,Data!$A$6:$A$1806,Data!$F$6:$F$1806)","v":16},{"$f":"LOOKUP($AO374,Data!$A$6:$A$1806,Data!$G$6:$G$1806)","v":378.5},{"$f":"LOOKUP($AO374,Data!$A$6:$A$1806,Data!$H$6:$H$1806)","v":10},{"$f":"LOOKUP($AO374,Data!$A$6:$A$1806,Data!$I$6:$I$1806)","v":0},{"$f":"LOOKUP($AO374,Data!$A$6:$A$1806,Data!$J$6:$J$1806)","v":-103},{"$f":"LOOKUP($AO374,Data!$A$6:$A$1806,Data!$K$6:$K$1806)","v":7749.81},25.6011962890625]
[null,40098.109236110562,{"$f":"LOOKUP(B375,Data!$A$6:$A$1806,Data!B$6:B$1806)","v":59.963001251220703},{"$f":"LOOKUP(B375,Data!$A$6:$A$1806,Data!C$6:C$1806)","v":3768.5029296875},null,null,null,29.5989990234375,27.16560636436855,null,null,0,3793.1750534557659,{"$f":"AVERAGE(D$79:D375)","v":3774.1589182844064},{"$f":"AVERAGE(M$79:M375)","v":3773.2120188827248},3765.4461564175972,{"$f":"AVERAGE(P$79:P375)","v":3740.0706203456753},633,null,null,null,null,null,null,0,633,-800.01037514689483,null,null,null,null,null,null,null,null,null,null,null,null,null,40098.109236110562,{"$f":"LOOKUP($AO375,Data!$A$6:$A$1806,Data!$B$6:$B$1806)","v":59.963001251220703},{"$f":"LOOKUP($AO375,Data!$A$6:$A$1806,Data!$C$6:$C$1806)","v":3768.5029296875},{"$f":"LOOKUP($AO375,Data!$A$6:$A$1806,Data!$D$6:$D$1806)","v":350},{"$f":"IF($AS$1=\"+\",LOOKUP($AO375,Data!$A$6:$A$1806,Data!$E$6:$E$1806)*-1,LOOKUP($AO375,Data!$A$6:$A$1806,Data!$E$6:$E$1806))","v":223.01573181152344},{"$f":"LOOKUP($AO375,Data!$A$6:$A$1806,Data!$F$6:$F$1806)","v":16},{"$f":"LOOKUP($AO375,Data!$A$6:$A$1806,Data!$G$6:$G$1806)","v":379},{"$f":"LOOKUP($AO375,Data!$A$6:$A$1806,Data!$H$6:$H$1806)","v":10},{"$f":"LOOKUP($AO375,Data!$A$6:$A$1806,Data!$I$6:$I$1806)","v":0},{"$f":"LOOKUP($AO375,Data!$A$6:$A$1806,Data!$J$6:$J$1806)","v":-103},{"$f":"LOOKUP($AO375,Data!$A$6:$A$1806,Data!$K$6:$K$1806)","v":7750.14},29.5989990234375]
[null,40098.109259258708,{"$f":"LOOKUP(B376,Data!$A$6:$A$1806,Data!B$6:B$1806)","v":59.965000152587891},{"$f":"LOOKUP(B376,Data!$A$6:$A$1806,Data!C$6:C$1806)","v":3768.91748046875},null,null,null,27.9998779296875,27.457601412230183,null,null,0,3793.4670485036277,{"$f":"AVERAGE(D$79:D376)","v":3774.1413295669045},{"$f":"AVERAGE(M$79:M376)","v":3773.2799887807819},3765.4461564175972,{"$f":"AVERAGE(P$79:P376)","v":3740.1560598610686},633,null,null,null,null,null,null,0,633,-820.74477164390419,null,null,null,null,null,null,null,null,null,null,null,null,null,40098.109259258708,{"$f":"LOOKUP($AO376,Data!$A$6:$A$1806,Data!$B$6:$B$1806)","v":59.965000152587891},{"$f":"LOOKUP($AO376,Data!$A$6:$A$1806,Data!$C$6:$C$1806)","v":3768.91748046875},{"$f":"LOOKUP($AO376,Data!$A$6:$A$1806,Data!$D$6:$D$1806)","v":350},{"$f":"IF($AS$1=\"+\",LOOKUP($AO376,Data!$A$6:$A$1806,Data!$E$6:$E$1806)*-1,LOOKUP($AO376,Data!$A$6:$A$1806,Data!$E$6:$E$1806))","v":223.01573181152344},{"$f":"LOOKUP($AO376,Data!$A$6:$A$1806,Data!$F$6:$F$1806)","v":16},{"$f":"LOOKUP($AO376,Data!$A$6:$A$1806,Data!$G$6:$G$1806)","v":379.5},{"$f":"LOOKUP($AO376,Data!$A$6:$A$1806,Data!$H$6:$H$1806)","v":10},{"$f":"LOOKUP($AO376,Data!$A$6:$A$1806,Data!$I$6:$I$1806)","v":0},{"$f":"LOOKUP($AO376,Data!$A$6:$A$1806,Data!$J$6:$J$1806)","v":-103},{"$f":"LOOKUP($AO376,Data!$A$6:$A$1806,Data!$K$6:$K$1806)","v":7750.47},27.9998779296875]
[null,40098.109282406855,{"$f":"LOOKUP(B377,Data!$A$6:$A$1806,Data!B$6:B$1806)","v":59.970001220703125},{"$f":"LOOKUP(B377,Data!$A$6:$A$1806,Data!C$6:C$1806)","v":3767.3662109375},null,null,null,23.9990234375,26.247099121074619,null,null,0,3792.2565462124721,{"$f":"AVERAGE(D$79:D377)","v":3774.1186703072744},{"$f":"AVERAGE(M$79:M377)","v":3773.3434555280446},3765.4461564175972,{"$f":"AVERAGE(P$79:P377)","v":3740.2409259568958},633,null,null,null,null,null,null,0,633,-877.6550963604509,null,null,null,null,null,null,null,null,null,null,null,null,null,40098.109282406855,{"$f":"LOOKUP($AO377,Data!$A$6:$A$1806,Data!$B$6:$B$1806)","v":59.970001220703125},{"$f":"LOOKUP($AO377,Data!$A$6:$A$1806,Data!$C$6:$C$1806)","v":3767.3662109375},{"$f":"LOOKUP($AO377,Data!$A$6:$A$1806,Data!$D$6:$D$1806)","v":350},{"$f":"IF($AS$1=\"+\",LOOKUP($AO377,Data!$A$6:$A$1806,Data!$E$6:$E$1806)*-1,LOOKUP($AO377,Data!$A$6:$A$1806,Data!$E$6:$E$1806))","v":223.01573181152344},{"$f":"LOOKUP($AO377,Data!$A$6:$A$1806,Data!$F$6:$F$1806)","v":16},{"$f":"LOOKUP($AO377,Data!$A$6:$A$1806,Data!$G$6:$G$1806)","v":380},{"$f":"LOOKUP($AO377,Data!$A$6:$A$1806,Data!$H$6:$H$1806)","v":10},{"$f":"LOOKUP($AO377,Data!$A$6:$A$1806,Data!$I$6:$I$1806)","v":0},{"$f":"LOOKUP($AO377,Data!$A$6:$A$1806,Data!$J$6:$J$1806)","v":-103},{"$f":"LOOKUP($AO377,Data!$A$6:$A$1806,Data!$K$6:$K$1806)","v":7750.8},23.9990234375]
[null,40098.109305555001,{"$f":"LOOKUP(B378,Data!$A$6:$A$1806,Data!B$6:B$1806)","v":59.972999572753906},{"$f":"LOOKUP(B378,Data!$A$6:$A$1806,Data!C$6:C$1806)","v":3764.7861328125},null,null,null,21.600341796875,24.620734057604754,null,null,0,3790.6301811490021,{"$f":"AVERAGE(D$79:D378)","v":3774.0875618489586},{"$f":"AVERAGE(M$79:M378)","v":3773.4010779467817},3765.4461564175972,{"$f":"AVERAGE(P$79:P378)","v":3740.3252243865295},633,null,null,null,null,null,null,0,633,-915.72372746901021,null,null,null,null,null,null,null,null,null,null,null,null,null,40098.109305555001,{"$f":"LOOKUP($AO378,Data!$A$6:$A$1806,Data!$B$6:$B$1806)","v":59.972999572753906},{"$f":"LOOKUP($AO378,Data!$A$6:$A$1806,Data!$C$6:$C$1806)","v":3764.7861328125},{"$f":"LOOKUP($AO378,Data!$A$6:$A$1806,Data!$D$6:$D$1806)","v":350},{"$f":"IF($AS$1=\"+\",LOOKUP($AO378,Data!$A$6:$A$1806,Data!$E$6:$E$1806)*-1,LOOKUP($AO378,Data!$A$6:$A$1806,Data!$E$6:$E$1806))","v":223.01573181152344},{"$f":"LOOKUP($AO378,Data!$A$6:$A$1806,Data!$F$6:$F$1806)","v":16},{"$f":"LOOKUP($AO378,Data!$A$6:$A$1806,Data!$G$6:$G$1806)","v":380.5},{"$f":"LOOKUP($AO378,Data!$A$6:$A$1806,Data!$H$6:$H$1806)","v":10},{"$f":"LOOKUP($AO378,Data!$A$6:$A$1806,Data!$I$6:$I$1806)","v":0},{"$f":"LOOKUP($AO378,Data!$A$6:$A$1806,Data!$J$6:$J$1806)","v":-103},{"$f":"LOOKUP($AO378,Data!$A$6:$A$1806,Data!$K$6:$K$1806)","v":7751.13},21.600341796875]
[null,40098.109328703147,{"$f":"LOOKUP(B379,Data!$A$6:$A$1806,Data!B$6:B$1806)","v":59.967998504638672},{"$f":"LOOKUP(B379,Data!$A$6:$A$1806,Data!C$6:C$1806)","v":3760.29541015625},null,null,null,25.6011962890625,24.963895838614967,null,null,0,3790.9733429300122,{"$f":"AVERAGE(D$79:D379)","v":3774.041740746989},{"$f":"AVERAGE(M$79:M379)","v":3773.4594575646656},3765.4461564175972,{"$f":"AVERAGE(P$79:P379)","v":3740.4089608266327},633,null,null,null,null,null,null,0,633,-853.94308063426718,null,null,null,null,null,null,null,null,null,null,null,null,null,40098.109328703147,{"$f":"LOOKUP($AO379,Data!$A$6:$A$1806,Data!$B$6:$B$1806)","v":59.967998504638672},{"$f":"LOOKUP($AO379,Data!$A$6:$A$1806,Data!$C$6:$C$1806)","v":3760.29541015625},{"$f":"LOOKUP($AO379,Data!$A$6:$A$1806,Data!$D$6:$D$1806)","v":350},{"$f":"IF($AS$1=\"+\",LOOKUP($AO379,Data!$A$6:$A$1806,Data!$E$6:$E$1806)*-1,LOOKUP($AO379,Data!$A$6:$A$1806,Data!$E$6:$E$1806))","v":223.01573181152344},{"$f":"LOOKUP($AO379,Data!$A$6:$A$1806,Data!$F$6:$F$1806)","v":16},{"$f":"LOOKUP($AO379,Data!$A$6:$A$1806,Data!$G$6:$G$1806)","v":381},{"$f":"LOOKUP($AO379,Data!$A$6:$A$1806,Data!$H$6:$H$1806)","v":10},{"$f":"LOOKUP($AO379,Data!$A$6:$A$1806,Data!$I$6:$I$1806)","v":0},{"$f":"LOOKUP($AO379,Data!$A$6:$A$1806,Data!$J$6:$J$1806)","v":-103},{"$f":"LOOKUP($AO379,Data!$A$6:$A$1806,Data!$K$6:$K$1806)","v":7751.46},25.6011962890625]
[null,40098.109351851293,{"$f":"LOOKUP(B380,Data!$A$6:$A$1806,Data!B$6:B$1806)","v":59.965000152587891},{"$f":"LOOKUP(B380,Data!$A$6:$A$1806,Data!C$6:C$1806)","v":3759.591796875},null,null,null,27.9998779296875,26.026489570490355,null,null,0,3792.0359366618877,{"$f":"AVERAGE(D$79:D380)","v":3773.9938932507243},{"$f":"AVERAGE(M$79:M380)","v":3773.5209690848556},3765.4461564175972,{"$f":"AVERAGE(P$79:P380)","v":3740.4921408784298},633,null,null,null,null,null,null,0,633,-820.74477164390419,null,null,null,null,null,null,null,null,null,null,null,null,null,40098.109351851293,{"$f":"LOOKUP($AO380,Data!$A$6:$A$1806,Data!$B$6:$B$1806)","v":59.965000152587891},{"$f":"LOOKUP($AO380,Data!$A$6:$A$1806,Data!$C$6:$C$1806)","v":3759.591796875},{"$f":"LOOKUP($AO380,Data!$A$6:$A$1806,Data!$D$6:$D$1806)","v":350},{"$f":"IF($AS$1=\"+\",LOOKUP($AO380,Data!$A$6:$A$1806,Data!$E$6:$E$1806)*-1,LOOKUP($AO380,Data!$A$6:$A$1806,Data!$E$6:$E$1806))","v":223.01573181152344},{"$f":"LOOKUP($AO380,Data!$A$6:$A$1806,Data!$F$6:$F$1806)","v":16},{"$f":"LOOKUP($AO380,Data!$A$6:$A$1806,Data!$G$6:$G$1806)","v":381.5},{"$f":"LOOKUP($AO380,Data!$A$6:$A$1806,Data!$H$6:$H$1806)","v":10},{"$f":"LOOKUP($AO380,Data!$A$6:$A$1806,Data!$I$6:$I$1806)","v":0},{"$f":"LOOKUP($AO380,Data!$A$6:$A$1806,Data!$J$6:$J$1806)","v":-103},{"$f":"LOOKUP($AO380,Data!$A$6:$A$1806,Data!$K$6:$K$1806)","v":7751.79},27.9998779296875]
[null,40098.10937499944,{"$f":"LOOKUP(B381,Data!$A$6:$A$1806,Data!B$6:B$1806)","v":59.967998504638672},{"$f":"LOOKUP(B381,Data!$A$6:$A$1806,Data!C$6:C$1806)","v":3761.893798828125},null,null,null,25.6011962890625,25.877636921990607,null,null,0,3791.8870840133882,{"$f":"AVERAGE(D$79:D381)","v":3773.9539589456995},{"$f":"AVERAGE(M$79:M381)","v":3773.5815833255438},3765.4461564175972,{"$f":"AVERAGE(P$79:P381)","v":3740.5747700689562},633,null,null,null,null,null,null,0,633,-853.94308063426718,null,null,null,null,null,null,null,null,null,null,null,null,null,40098.10937499944,{"$f":"LOOKUP($AO381,Data!$A$6:$A$1806,Data!$B$6:$B$1806)","v":59.967998504638672},{"$f":"LOOKUP($AO381,Data!$A$6:$A$1806,Data!$C$6:$C$1806)","v":3761.893798828125},{"$f":"LOOKUP($AO381,Data!$A$6:$A$1806,Data!$D$6:$D$1806)","v":350},{"$f":"IF($AS$1=\"+\",LOOKUP($AO381,Data!$A$6:$A$1806,Data!$E$6:$E$1806)*-1,LOOKUP($AO381,Data!$A$6:$A$1806,Data!$E$6:$E$1806))","v":223.01573181152344},{"$f":"LOOKUP($AO381,Data!$A$6:$A$1806,Data!$F$6:$F$1806)","v":16},{"$f":"LOOKUP($AO381,Data!$A$6:$A$1806,Data!$G$6:$G$1806)","v":382},{"$f":"LOOKUP($AO381,Data!$A$6:$A$1806,Data!$H$6:$H$1806)","v":10},{"$f":"LOOKUP($AO381,Data!$A$6:$A$1806,Data!$I$6:$I$1806)","v":0},{"$f":"LOOKUP($AO381,Data!$A$6:$A$1806,Data!$J$6:$J$1806)","v":-103},{"$f":"LOOKUP($AO381,Data!$A$6:$A$1806,Data!$K$6:$K$1806)","v":7752.12},25.6011962890625]
[null,40098.109398147586,{"$f":"LOOKUP(B382,Data!$A$6:$A$1806,Data!B$6:B$1806)","v":59.969001770019531},{"$f":"LOOKUP(B382,Data!$A$6:$A$1806,Data!C$6:C$1806)","v":3761.776611328125},null,null,null,24.798583984375,25.499968393825146,null,null,0,3791.5094154852227,{"$f":"AVERAGE(D$79:D382)","v":3773.9139018811679},{"$f":"AVERAGE(M$79:M382)","v":3773.6405564576476},3765.4461564175972,{"$f":"AVERAGE(P$79:P382)","v":3740.6568538522847},633,null,null,null,null,null,null,0,633,-865.6593149050218,null,null,null,null,null,null,null,null,null,null,null,null,null,40098.109398147586,{"$f":"LOOKUP($AO382,Data!$A$6:$A$1806,Data!$B$6:$B$1806)","v":59.969001770019531},{"$f":"LOOKUP($AO382,Data!$A$6:$A$1806,Data!$C$6:$C$1806)","v":3761.776611328125},{"$f":"LOOKUP($AO382,Data!$A$6:$A$1806,Data!$D$6:$D$1806)","v":350},{"$f":"IF($AS$1=\"+\",LOOKUP($AO382,Data!$A$6:$A$1806,Data!$E$6:$E$1806)*-1,LOOKUP($AO382,Data!$A$6:$A$1806,Data!$E$6:$E$1806))","v":223.01573181152344},{"$f":"LOOKUP($AO382,Data!$A$6:$A$1806,Data!$F$6:$F$1806)","v":16},{"$f":"LOOKUP($AO382,Data!$A$6:$A$1806,Data!$G$6:$G$1806)","v":382.5},{"$f":"LOOKUP($AO382,Data!$A$6:$A$1806,Data!$H$6:$H$1806)","v":10},{"$f":"LOOKUP($AO382,Data!$A$6:$A$1806,Data!$I$6:$I$1806)","v":0},{"$f":"LOOKUP($AO382,Data!$A$6:$A$1806,Data!$J$6:$J$1806)","v":-103},{"$f":"LOOKUP($AO382,Data!$A$6:$A$1806,Data!$K$6:$K$1806)","v":7752.45},24.798583984375]
[null,40098.109421295732,{"$f":"LOOKUP(B383,Data!$A$6:$A$1806,Data!B$6:B$1806)","v":59.966999053955078},{"$f":"LOOKUP(B383,Data!$A$6:$A$1806,Data!C$6:C$1806)","v":3760.58251953125},null,null,null,26.4007568359375,25.81524434856447,null,null,0,3791.824691439962,{"$f":"AVERAGE(D$79:D383)","v":3773.8701924308402},{"$f":"AVERAGE(M$79:M383)","v":3773.7001765723439},3765.4461564175972,{"$f":"AVERAGE(P$79:P383)","v":3740.738397610723},633,null,null,null,null,null,null,0,633,-842.58253898737553,null,null,null,null,null,null,null,null,null,null,null,null,null,40098.109421295732,{"$f":"LOOKUP($AO383,Data!$A$6:$A$1806,Data!$B$6:$B$1806)","v":59.966999053955078},{"$f":"LOOKUP($AO383,Data!$A$6:$A$1806,Data!$C$6:$C$1806)","v":3760.58251953125},{"$f":"LOOKUP($AO383,Data!$A$6:$A$1806,Data!$D$6:$D$1806)","v":350},{"$f":"IF($AS$1=\"+\",LOOKUP($AO383,Data!$A$6:$A$1806,Data!$E$6:$E$1806)*-1,LOOKUP($AO383,Data!$A$6:$A$1806,Data!$E$6:$E$1806))","v":223.01573181152344},{"$f":"LOOKUP($AO383,Data!$A$6:$A$1806,Data!$F$6:$F$1806)","v":16},{"$f":"LOOKUP($AO383,Data!$A$6:$A$1806,Data!$G$6:$G$1806)","v":383},{"$f":"LOOKUP($AO383,Data!$A$6:$A$1806,Data!$H$6:$H$1806)","v":10},{"$f":"LOOKUP($AO383,Data!$A$6:$A$1806,Data!$I$6:$I$1806)","v":0},{"$f":"LOOKUP($AO383,Data!$A$6:$A$1806,Data!$J$6:$J$1806)","v":-103},{"$f":"LOOKUP($AO383,Data!$A$6:$A$1806,Data!$K$6:$K$1806)","v":7752.78},26.4007568359375]
[null,40098.109444443879,{"$f":"LOOKUP(B384,Data!$A$6:$A$1806,Data!B$6:B$1806)","v":59.964000701904297},{"$f":"LOOKUP(B384,Data!$A$6:$A$1806,Data!C$6:C$1806)","v":3760.157470703125},null,null,null,28.7994384765625,26.859712293363781,null,null,0,3792.8691593847611,{"$f":"AVERAGE(D$79:D384)","v":3773.8253796147364},{"$f":"AVERAGE(M$79:M384)","v":3773.7628203070253},3765.4461564175972,{"$f":"AVERAGE(P$79:P384)","v":3740.8194066559913},633,null,null,null,null,null,null,0,633,-810.24494534268399,null,null,null,null,null,null,null,null,null,null,null,null,null,40098.109444443879,{"$f":"LOOKUP($AO384,Data!$A$6:$A$1806,Data!$B$6:$B$1806)","v":59.964000701904297},{"$f":"LOOKUP($AO384,Data!$A$6:$A$1806,Data!$C$6:$C$1806)","v":3760.157470703125},{"$f":"LOOKUP($AO384,Data!$A$6:$A$1806,Data!$D$6:$D$1806)","v":350},{"$f":"IF($AS$1=\"+\",LOOKUP($AO384,Data!$A$6:$A$1806,Data!$E$6:$E$1806)*-1,LOOKUP($AO384,Data!$A$6:$A$1806,Data!$E$6:$E$1806))","v":223.01573181152344},{"$f":"LOOKUP($AO384,Data!$A$6:$A$1806,Data!$F$6:$F$1806)","v":16},{"$f":"LOOKUP($AO384,Data!$A$6:$A$1806,Data!$G$6:$G$1806)","v":383.5},{"$f":"LOOKUP($AO384,Data!$A$6:$A$1806,Data!$H$6:$H$1806)","v":10},{"$f":"LOOKUP($AO384,Data!$A$6:$A$1806,Data!$I$6:$I$1806)","v":0},{"$f":"LOOKUP($AO384,Data!$A$6:$A$1806,Data!$J$6:$J$1806)","v":-103},{"$f":"LOOKUP($AO384,Data!$A$6:$A$1806,Data!$K$6:$K$1806)","v":7753.11},28.7994384765625]
[null,40098.109467592025,{"$f":"LOOKUP(B385,Data!$A$6:$A$1806,Data!B$6:B$1806)","v":59.965999603271484},{"$f":"LOOKUP(B385,Data!$A$6:$A$1806,Data!C$6:C$1806)","v":3759.781005859375},null,null,null,27.2003173828125,26.978924074670832,null,null,0,3792.9883711660682,{"$f":"AVERAGE(D$79:D385)","v":3773.7796324689534},{"$f":"AVERAGE(M$79:M385)","v":3773.825444251192},3765.4461564175972,{"$f":"AVERAGE(P$79:P385)","v":3740.8998862303752},633,null,null,null,null,null,null,0,633,-831.5203016655496,null,null,null,null,null,null,null,null,null,null,null,null,null,40098.109467592025,{"$f":"LOOKUP($AO385,Data!$A$6:$A$1806,Data!$B$6:$B$1806)","v":59.965999603271484},{"$f":"LOOKUP($AO385,Data!$A$6:$A$1806,Data!$C$6:$C$1806)","v":3759.781005859375},{"$f":"LOOKUP($AO385,Data!$A$6:$A$1806,Data!$D$6:$D$1806)","v":350},{"$f":"IF($AS$1=\"+\",LOOKUP($AO385,Data!$A$6:$A$1806,Data!$E$6:$E$1806)*-1,LOOKUP($AO385,Data!$A$6:$A$1806,Data!$E$6:$E$1806))","v":223.01573181152344},{"$f":"LOOKUP($AO385,Data!$A$6:$A$1806,Data!$F$6:$F$1806)","v":16},{"$f":"LOOKUP($AO385,Data!$A$6:$A$1806,Data!$G$6:$G$1806)","v":384},{"$f":"LOOKUP($AO385,Data!$A$6:$A$1806,Data!$H$6:$H$1806)","v":10},{"$f":"LOOKUP($AO385,Data!$A$6:$A$1806,Data!$I$6:$I$1806)","v":0},{"$f":"LOOKUP($AO385,Data!$A$6:$A$1806,Data!$J$6:$J$1806)","v":-103},{"$f":"LOOKUP($AO385,Data!$A$6:$A$1806,Data!$K$6:$K$1806)","v":7753.44},27.2003173828125]
[null,40098.109490740171,{"$f":"LOOKUP(B386,Data!$A$6:$A$1806,Data!B$6:B$1806)","v":59.979000091552734},{"$f":"LOOKUP(B386,Data!$A$6:$A$1806,Data!C$6:C$1806)","v":3759.494873046875},null,null,null,16.7999267578125,23.416275013770417,null,null,0,3789.4257221051676,{"$f":"AVERAGE(D$79:D386)","v":3773.7332533799208},{"$f":"AVERAGE(M$79:M386)","v":3773.8760945039649},3765.4461564175972,{"$f":"AVERAGE(P$79:P386)","v":3740.9798415078576},633,null,null,null,null,null,null,0,633,-1002.7701562889495,null,null,null,null,null,null,null,null,null,null,null,null,null,40098.109490740171,{"$f":"LOOKUP($AO386,Data!$A$6:$A$1806,Data!$B$6:$B$1806)","v":59.979000091552734},{"$f":"LOOKUP($AO386,Data!$A$6:$A$1806,Data!$C$6:$C$1806)","v":3759.494873046875},{"$f":"LOOKUP($AO386,Data!$A$6:$A$1806,Data!$D$6:$D$1806)","v":350},{"$f":"IF($AS$1=\"+\",LOOKUP($AO386,Data!$A$6:$A$1806,Data!$E$6:$E$1806)*-1,LOOKUP($AO386,Data!$A$6:$A$1806,Data!$E$6:$E$1806))","v":223.01573181152344},{"$f":"LOOKUP($AO386,Data!$A$6:$A$1806,Data!$F$6:$F$1806)","v":16},{"$f":"LOOKUP($AO386,Data!$A$6:$A$1806,Data!$G$6:$G$1806)","v":384.5},{"$f":"LOOKUP($AO386,Data!$A$6:$A$1806,Data!$H$6:$H$1806)","v":10},{"$f":"LOOKUP($AO386,Data!$A$6:$A$1806,Data!$I$6:$I$1806)","v":0},{"$f":"LOOKUP($AO386,Data!$A$6:$A$1806,Data!$J$6:$J$1806)","v":-103},{"$f":"LOOKUP($AO386,Data!$A$6:$A$1806,Data!$K$6:$K$1806)","v":7753.77},16.7999267578125]
[null,40098.109513888317,{"$f":"LOOKUP(B387,Data!$A$6:$A$1806,Data!B$6:B$1806)","v":59.990001678466797},{"$f":"LOOKUP(B387,Data!$A$6:$A$1806,Data!C$6:C$1806)","v":3757.77294921875},null,null,null,7.9986572265625,18.020108788247647,null,null,0,3784.0295558796447,{"$f":"AVERAGE(D$79:D387)","v":3773.6816019101434},{"$f":"AVERAGE(M$79:M387)","v":3773.9089536022675},3765.4461564175972,{"$f":"AVERAGE(P$79:P387)","v":3741.0592775952264},633,null,null,null,null,null,null,0,633,-1214.422350907045,null,null,null,null,null,null,null,null,null,null,null,null,null,40098.109513888317,{"$f":"LOOKUP($AO387,Data!$A$6:$A$1806,Data!$B$6:$B$1806)","v":59.990001678466797},{"$f":"LOOKUP($AO387,Data!$A$6:$A$1806,Data!$C$6:$C$1806)","v":3757.77294921875},{"$f":"LOOKUP($AO387,Data!$A$6:$A$1806,Data!$D$6:$D$1806)","v":350},{"$f":"IF($AS$1=\"+\",LOOKUP($AO387,Data!$A$6:$A$1806,Data!$E$6:$E$1806)*-1,LOOKUP($AO387,Data!$A$6:$A$1806,Data!$E$6:$E$1806))","v":223.01573181152344},{"$f":"LOOKUP($AO387,Data!$A$6:$A$1806,Data!$F$6:$F$1806)","v":16},{"$f":"LOOKUP($AO387,Data!$A$6:$A$1806,Data!$G$6:$G$1806)","v":385},{"$f":"LOOKUP($AO387,Data!$A$6:$A$1806,Data!$H$6:$H$1806)","v":10},{"$f":"LOOKUP($AO387,Data!$A$6:$A$1806,Data!$I$6:$I$1806)","v":0},{"$f":"LOOKUP($AO387,Data!$A$6:$A$1806,Data!$J$6:$J$1806)","v":-103},{"$f":"LOOKUP($AO387,Data!$A$6:$A$1806,Data!$K$6:$K$1806)","v":7754.1},7.9986572265625]
[null,40098.109537036464,{"$f":"LOOKUP(B388,Data!$A$6:$A$1806,Data!B$6:B$1806)","v":59.983001708984375},{"$f":"LOOKUP(B388,Data!$A$6:$A$1806,Data!C$6:C$1806)","v":3753.277099609375},null,null,null,13.5986328125,16.47259219673597,null,null,0,3782.4820392881329,{"$f":"AVERAGE(D$79:D388)","v":3773.6157809349797},{"$f":"AVERAGE(M$79:M388)","v":3773.9366087173835},3765.4461564175972,{"$f":"AVERAGE(P$79:P388)","v":3741.1381995331626},633,null,null,null,null,null,null,0,633,-1070.639978708132,null,null,null,null,null,null,null,null,null,null,null,null,null,40098.109537036464,{"$f":"LOOKUP($AO388,Data!$A$6:$A$1806,Data!$B$6:$B$1806)","v":59.983001708984375},{"$f":"LOOKUP($AO388,Data!$A$6:$A$1806,Data!$C$6:$C$1806)","v":3753.277099609375},{"$f":"LOOKUP($AO388,Data!$A$6:$A$1806,Data!$D$6:$D$1806)","v":350},{"$f":"IF($AS$1=\"+\",LOOKUP($AO388,Data!$A$6:$A$1806,Data!$E$6:$E$1806)*-1,LOOKUP($AO388,Data!$A$6:$A$1806,Data!$E$6:$E$1806))","v":223.01573181152344},{"$f":"LOOKUP($AO388,Data!$A$6:$A$1806,Data!$F$6:$F$1806)","v":16},{"$f":"LOOKUP($AO388,Data!$A$6:$A$1806,Data!$G$6:$G$1806)","v":385.5},{"$f":"LOOKUP($AO388,Data!$A$6:$A$1806,Data!$H$6:$H$1806)","v":10},{"$f":"LOOKUP($AO388,Data!$A$6:$A$1806,Data!$I$6:$I$1806)","v":0},{"$f":"LOOKUP($AO388,Data!$A$6:$A$1806,Data!$J$6:$J$1806)","v":-103},{"$f":"LOOKUP($AO388,Data!$A$6:$A$1806,Data!$K$6:$K$1806)","v":7754.43},13.5986328125]
[null,40098.10956018461,{"$f":"LOOKUP(B389,Data!$A$6:$A$1806,Data!B$6:B$1806)","v":59.9739990234375},{"$f":"LOOKUP(B389,Data!$A$6:$A$1806,Data!C$6:C$1806)","v":3753.08740234375},null,null,null,20.80078125,17.98745836537838,null,null,0,3783.9969054567755,{"$f":"AVERAGE(D$79:D389)","v":3773.5497732867766},{"$f":"AVERAGE(M$79:M389)","v":3773.9689569384104},3765.4461564175972,{"$f":"AVERAGE(P$79:P389)","v":3741.2166122973053},633,null,null,null,null,null,null,0,633,-929.15792288148054,null,null,null,null,null,null,null,null,null,null,null,null,null,40098.10956018461,{"$f":"LOOKUP($AO389,Data!$A$6:$A$1806,Data!$B$6:$B$1806)","v":59.9739990234375},{"$f":"LOOKUP($AO389,Data!$A$6:$A$1806,Data!$C$6:$C$1806)","v":3753.08740234375},{"$f":"LOOKUP($AO389,Data!$A$6:$A$1806,Data!$D$6:$D$1806)","v":350},{"$f":"IF($AS$1=\"+\",LOOKUP($AO389,Data!$A$6:$A$1806,Data!$E$6:$E$1806)*-1,LOOKUP($AO389,Data!$A$6:$A$1806,Data!$E$6:$E$1806))","v":223.01573181152344},{"$f":"LOOKUP($AO389,Data!$A$6:$A$1806,Data!$F$6:$F$1806)","v":16},{"$f":"LOOKUP($AO389,Data!$A$6:$A$1806,Data!$G$6:$G$1806)","v":386},{"$f":"LOOKUP($AO389,Data!$A$6:$A$1806,Data!$H$6:$H$1806)","v":10},{"$f":"LOOKUP($AO389,Data!$A$6:$A$1806,Data!$I$6:$I$1806)","v":0},{"$f":"LOOKUP($AO389,Data!$A$6:$A$1806,Data!$J$6:$J$1806)","v":-103},{"$f":"LOOKUP($AO389,Data!$A$6:$A$1806,Data!$K$6:$K$1806)","v":7754.76},20.80078125]
[null,40098.109583332756,{"$f":"LOOKUP(B390,Data!$A$6:$A$1806,Data!B$6:B$1806)","v":59.966999053955078},{"$f":"LOOKUP(B390,Data!$A$6:$A$1806,Data!C$6:C$1806)","v":3751.63671875},null,null,null,26.4007568359375,20.932112830074072,null,null,0,3786.9415599214713,{"$f":"AVERAGE(D$79:D390)","v":3773.4795391376201},{"$f":"AVERAGE(M$79:M390)","v":3774.0105357941252},3765.4461564175972,{"$f":"AVERAGE(P$79:P390)","v":3741.2945207992998},633,null,null,null,null,null,null,0,633,-842.58253898737553,null,null,null,null,null,null,null,null,null,null,null,null,null,40098.109583332756,{"$f":"LOOKUP($AO390,Data!$A$6:$A$1806,Data!$B$6:$B$1806)","v":59.966999053955078},{"$f":"LOOKUP($AO390,Data!$A$6:$A$1806,Data!$C$6:$C$1806)","v":3751.63671875},{"$f":"LOOKUP($AO390,Data!$A$6:$A$1806,Data!$D$6:$D$1806)","v":350},{"$f":"IF($AS$1=\"+\",LOOKUP($AO390,Data!$A$6:$A$1806,Data!$E$6:$E$1806)*-1,LOOKUP($AO390,Data!$A$6:$A$1806,Data!$E$6:$E$1806))","v":223.01573181152344},{"$f":"LOOKUP($AO390,Data!$A$6:$A$1806,Data!$F$6:$F$1806)","v":16},{"$f":"LOOKUP($AO390,Data!$A$6:$A$1806,Data!$G$6:$G$1806)","v":386.5},{"$f":"LOOKUP($AO390,Data!$A$6:$A$1806,Data!$H$6:$H$1806)","v":10},{"$f":"LOOKUP($AO390,Data!$A$6:$A$1806,Data!$I$6:$I$1806)","v":0},{"$f":"LOOKUP($AO390,Data!$A$6:$A$1806,Data!$J$6:$J$1806)","v":-103},{"$f":"LOOKUP($AO390,Data!$A$6:$A$1806,Data!$K$6:$K$1806)","v":7755.09},26.4007568359375]
[null,40098.109606480903,{"$f":"LOOKUP(B391,Data!$A$6:$A$1806,Data!B$6:B$1806)","v":59.965000152587891},{"$f":"LOOKUP(B391,Data!$A$6:$A$1806,Data!C$6:C$1806)","v":3753.7509765625},null,null,null,27.9998779296875,23.405830614938772,null,null,0,3789.4152777063359,{"$f":"AVERAGE(D$79:D391)","v":3773.4165085862619},{"$f":"AVERAGE(M$79:M391)","v":3774.0597522219596},3765.4461564175972,{"$f":"AVERAGE(P$79:P391)","v":3741.3719298878195},633,null,null,null,null,null,null,0,633,-820.74477164390419,null,null,null,null,null,null,null,null,null,null,null,null,null,40098.109606480903,{"$f":"LOOKUP($AO391,Data!$A$6:$A$1806,Data!$B$6:$B$1806)","v":59.965000152587891},{"$f":"LOOKUP($AO391,Data!$A$6:$A$1806,Data!$C$6:$C$1806)","v":3753.7509765625},{"$f":"LOOKUP($AO391,Data!$A$6:$A$1806,Data!$D$6:$D$1806)","v":350},{"$f":"IF($AS$1=\"+\",LOOKUP($AO391,Data!$A$6:$A$1806,Data!$E$6:$E$1806)*-1,LOOKUP($AO391,Data!$A$6:$A$1806,Data!$E$6:$E$1806))","v":223.01573181152344},{"$f":"LOOKUP($AO391,Data!$A$6:$A$1806,Data!$F$6:$F$1806)","v":16},{"$f":"LOOKUP($AO391,Data!$A$6:$A$1806,Data!$G$6:$G$1806)","v":387},{"$f":"LOOKUP($AO391,Data!$A$6:$A$1806,Data!$H$6:$H$1806)","v":10},{"$f":"LOOKUP($AO391,Data!$A$6:$A$1806,Data!$I$6:$I$1806)","v":0},{"$f":"LOOKUP($AO391,Data!$A$6:$A$1806,Data!$J$6:$J$1806)","v":-103},{"$f":"LOOKUP($AO391,Data!$A$6:$A$1806,Data!$K$6:$K$1806)","v":7755.42},27.9998779296875]
[null,40098.109629629049,{"$f":"LOOKUP(B392,Data!$A$6:$A$1806,Data!B$6:B$1806)","v":59.962001800537109},{"$f":"LOOKUP(B392,Data!$A$6:$A$1806,Data!C$6:C$1806)","v":3758.224609375},null,null,null,30.3985595703125,25.853285749319575,null,null,0,3791.8627328407169,{"$f":"AVERAGE(D$79:D392)","v":3773.36812674164},{"$f":"AVERAGE(M$79:M392)","v":3774.1164496124647},3765.4461564175972,{"$f":"AVERAGE(P$79:P392)","v":3741.4488443495757},633,null,null,null,null,null,null,0,633,-790.03113473109124,null,null,null,null,null,null,null,null,null,null,null,null,null,40098.109629629049,{"$f":"LOOKUP($AO392,Data!$A$6:$A$1806,Data!$B$6:$B$1806)","v":59.962001800537109},{"$f":"LOOKUP($AO392,Data!$A$6:$A$1806,Data!$C$6:$C$1806)","v":3758.224609375},{"$f":"LOOKUP($AO392,Data!$A$6:$A$1806,Data!$D$6:$D$1806)","v":350},{"$f":"IF($AS$1=\"+\",LOOKUP($AO392,Data!$A$6:$A$1806,Data!$E$6:$E$1806)*-1,LOOKUP($AO392,Data!$A$6:$A$1806,Data!$E$6:$E$1806))","v":223.01573181152344},{"$f":"LOOKUP($AO392,Data!$A$6:$A$1806,Data!$F$6:$F$1806)","v":16},{"$f":"LOOKUP($AO392,Data!$A$6:$A$1806,Data!$G$6:$G$1806)","v":387.5},{"$f":"LOOKUP($AO392,Data!$A$6:$A$1806,Data!$H$6:$H$1806)","v":10},{"$f":"LOOKUP($AO392,Data!$A$6:$A$1806,Data!$I$6:$I$1806)","v":0},{"$f":"LOOKUP($AO392,Data!$A$6:$A$1806,Data!$J$6:$J$1806)","v":-103},{"$f":"LOOKUP($AO392,Data!$A$6:$A$1806,Data!$K$6:$K$1806)","v":7755.75},30.3985595703125]
[null,40098.109652777195,{"$f":"LOOKUP(B393,Data!$A$6:$A$1806,Data!B$6:B$1806)","v":59.962001800537109},{"$f":"LOOKUP(B393,Data!$A$6:$A$1806,Data!C$6:C$1806)","v":3759.249755859375},null,null,null,30.3985595703125,27.444131586667098,null,null,0,3793.4535786780643,{"$f":"AVERAGE(D$79:D393)","v":3773.3233065166169},{"$f":"AVERAGE(M$79:M393)","v":3774.1778373237839},3765.4461564175972,{"$f":"AVERAGE(P$79:P393)","v":3741.5252689103013},633,null,null,null,null,null,null,0,633,-790.03113473109124,null,null,null,null,null,null,null,null,null,null,null,null,null,40098.109652777195,{"$f":"LOOKUP($AO393,Data!$A$6:$A$1806,Data!$B$6:$B$1806)","v":59.962001800537109},{"$f":"LOOKUP($AO393,Data!$A$6:$A$1806,Data!$C$6:$C$1806)","v":3759.249755859375},{"$f":"LOOKUP($AO393,Data!$A$6:$A$1806,Data!$D$6:$D$1806)","v":350},{"$f":"IF($AS$1=\"+\",LOOKUP($AO393,Data!$A$6:$A$1806,Data!$E$6:$E$1806)*-1,LOOKUP($AO393,Data!$A$6:$A$1806,Data!$E$6:$E$1806))","v":223.01573181152344},{"$f":"LOOKUP($AO393,Data!$A$6:$A$1806,Data!$F$6:$F$1806)","v":16},{"$f":"LOOKUP($AO393,Data!$A$6:$A$1806,Data!$G$6:$G$1806)","v":388},{"$f":"LOOKUP($AO393,Data!$A$6:$A$1806,Data!$H$6:$H$1806)","v":10},{"$f":"LOOKUP($AO393,Data!$A$6:$A$1806,Data!$I$6:$I$1806)","v":0},{"$f":"LOOKUP($AO393,Data!$A$6:$A$1806,Data!$J$6:$J$1806)","v":-103},{"$f":"LOOKUP($AO393,Data!$A$6:$A$1806,Data!$K$6:$K$1806)","v":7756.08},30.3985595703125]
[null,40098.109675925341,{"$f":"LOOKUP(B394,Data!$A$6:$A$1806,Data!B$6:B$1806)","v":59.96099853515625},{"$f":"LOOKUP(B394,Data!$A$6:$A$1806,Data!C$6:C$1806)","v":3758.041015625},null,null,null,31.201171875,28.759095687583613,null,null,0,3794.7685427789806,{"$f":"AVERAGE(D$79:D394)","v":3773.2749448365803},{"$f":"AVERAGE(M$79:M394)","v":3774.2429977840852},3765.4461564175972,{"$f":"AVERAGE(P$79:P394)","v":3741.6012082357211},633,null,null,null,null,null,null,0,633,-780.26109618832106,null,null,null,null,null,null,null,null,null,null,null,null,null,40098.109675925341,{"$f":"LOOKUP($AO394,Data!$A$6:$A$1806,Data!$B$6:$B$1806)","v":59.96099853515625},{"$f":"LOOKUP($AO394,Data!$A$6:$A$1806,Data!$C$6:$C$1806)","v":3758.041015625},{"$f":"LOOKUP($AO394,Data!$A$6:$A$1806,Data!$D$6:$D$1806)","v":350},{"$f":"IF($AS$1=\"+\",LOOKUP($AO394,Data!$A$6:$A$1806,Data!$E$6:$E$1806)*-1,LOOKUP($AO394,Data!$A$6:$A$1806,Data!$E$6:$E$1806))","v":223.01573181152344},{"$f":"LOOKUP($AO394,Data!$A$6:$A$1806,Data!$F$6:$F$1806)","v":16},{"$f":"LOOKUP($AO394,Data!$A$6:$A$1806,Data!$G$6:$G$1806)","v":388.5},{"$f":"LOOKUP($AO394,Data!$A$6:$A$1806,Data!$H$6:$H$1806)","v":10},{"$f":"LOOKUP($AO394,Data!$A$6:$A$1806,Data!$I$6:$I$1806)","v":0},{"$f":"LOOKUP($AO394,Data!$A$6:$A$1806,Data!$J$6:$J$1806)","v":-103},{"$f":"LOOKUP($AO394,Data!$A$6:$A$1806,Data!$K$6:$K$1806)","v":7756.41},31.201171875]
[null,40098.109699073488,{"$f":"LOOKUP(B395,Data!$A$6:$A$1806,Data!B$6:B$1806)","v":59.96099853515625},{"$f":"LOOKUP(B395,Data!$A$6:$A$1806,Data!C$6:C$1806)","v":3760.96484375},null,null,null,31.201171875,29.613822353179348,null,null,0,3795.6232694445762,{"$f":"AVERAGE(D$79:D395)","v":3773.2361117101241},{"$f":"AVERAGE(M$79:M395)","v":3774.3104434360107},3765.4461564175972,{"$f":"AVERAGE(P$79:P395)","v":3741.6766669324988},633,null,null,null,null,null,null,0,633,-780.26109618832106,null,null,null,null,null,null,null,null,null,null,null,null,null,40098.109699073488,{"$f":"LOOKUP($AO395,Data!$A$6:$A$1806,Data!$B$6:$B$1806)","v":59.96099853515625},{"$f":"LOOKUP($AO395,Data!$A$6:$A$1806,Data!$C$6:$C$1806)","v":3760.96484375},{"$f":"LOOKUP($AO395,Data!$A$6:$A$1806,Data!$D$6:$D$1806)","v":350},{"$f":"IF($AS$1=\"+\",LOOKUP($AO395,Data!$A$6:$A$1806,Data!$E$6:$E$1806)*-1,LOOKUP($AO395,Data!$A$6:$A$1806,Data!$E$6:$E$1806))","v":223.01573181152344},{"$f":"LOOKUP($AO395,Data!$A$6:$A$1806,Data!$F$6:$F$1806)","v":16},{"$f":"LOOKUP($AO395,Data!$A$6:$A$1806,Data!$G$6:$G$1806)","v":389},{"$f":"LOOKUP($AO395,Data!$A$6:$A$1806,Data!$H$6:$H$1806)","v":10},{"$f":"LOOKUP($AO395,Data!$A$6:$A$1806,Data!$I$6:$I$1806)","v":0},{"$f":"LOOKUP($AO395,Data!$A$6:$A$1806,Data!$J$6:$J$1806)","v":-103},{"$f":"LOOKUP($AO395,Data!$A$6:$A$1806,Data!$K$6:$K$1806)","v":7756.74},31.201171875]
[null,40098.109722221634,{"$f":"LOOKUP(B396,Data!$A$6:$A$1806,Data!B$6:B$1806)","v":59.959999084472656},{"$f":"LOOKUP(B396,Data!$A$6:$A$1806,Data!C$6:C$1806)","v":3762.022216796875},null,null,null,32.000732421875,30.449240877222827,null,null,0,3796.4586879686199,{"$f":"AVERAGE(D$79:D396)","v":3773.2008478896423},{"$f":"AVERAGE(M$79:M396)","v":3774.3800920037233},3765.4461564175972,{"$f":"AVERAGE(P$79:P396)","v":3741.7516495491709},633,null,null,null,null,null,null,0,633,-770.76555091708224,null,null,null,null,null,null,null,null,null,null,null,null,null,40098.109722221634,{"$f":"LOOKUP($AO396,Data!$A$6:$A$1806,Data!$B$6:$B$1806)","v":59.959999084472656},{"$f":"LOOKUP($AO396,Data!$A$6:$A$1806,Data!$C$6:$C$1806)","v":3762.022216796875},{"$f":"LOOKUP($AO396,Data!$A$6:$A$1806,Data!$D$6:$D$1806)","v":350},{"$f":"IF($AS$1=\"+\",LOOKUP($AO396,Data!$A$6:$A$1806,Data!$E$6:$E$1806)*-1,LOOKUP($AO396,Data!$A$6:$A$1806,Data!$E$6:$E$1806))","v":223.01573181152344},{"$f":"LOOKUP($AO396,Data!$A$6:$A$1806,Data!$F$6:$F$1806)","v":16},{"$f":"LOOKUP($AO396,Data!$A$6:$A$1806,Data!$G$6:$G$1806)","v":389.5},{"$f":"LOOKUP($AO396,Data!$A$6:$A$1806,Data!$H$6:$H$1806)","v":10},{"$f":"LOOKUP($AO396,Data!$A$6:$A$1806,Data!$I$6:$I$1806)","v":0},{"$f":"LOOKUP($AO396,Data!$A$6:$A$1806,Data!$J$6:$J$1806)","v":-103},{"$f":"LOOKUP($AO396,Data!$A$6:$A$1806,Data!$K$6:$K$1806)","v":7757.07},32.000732421875]
[null,40098.10974536978,{"$f":"LOOKUP(B397,Data!$A$6:$A$1806,Data!B$6:B$1806)","v":59.963001251220703},{"$f":"LOOKUP(B397,Data!$A$6:$A$1806,Data!C$6:C$1806)","v":3763.822265625},null,null,null,29.5989990234375,30.151656228397965,null,null,0,3796.1611033197951,{"$f":"AVERAGE(D$79:D397)","v":3773.1714479452389},{"$f":"AVERAGE(M$79:M397)","v":3774.4483710360623},3765.4461564175972,{"$f":"AVERAGE(P$79:P397)","v":3741.8261605770585},633,null,null,null,null,null,null,0,633,-800.01037514689483,null,null,null,null,null,null,null,null,null,null,null,null,null,40098.10974536978,{"$f":"LOOKUP($AO397,Data!$A$6:$A$1806,Data!$B$6:$B$1806)","v":59.963001251220703},{"$f":"LOOKUP($AO397,Data!$A$6:$A$1806,Data!$C$6:$C$1806)","v":3763.822265625},{"$f":"LOOKUP($AO397,Data!$A$6:$A$1806,Data!$D$6:$D$1806)","v":350},{"$f":"IF($AS$1=\"+\",LOOKUP($AO397,Data!$A$6:$A$1806,Data!$E$6:$E$1806)*-1,LOOKUP($AO397,Data!$A$6:$A$1806,Data!$E$6:$E$1806))","v":223.01573181152344},{"$f":"LOOKUP($AO397,Data!$A$6:$A$1806,Data!$F$6:$F$1806)","v":16},{"$f":"LOOKUP($AO397,Data!$A$6:$A$1806,Data!$G$6:$G$1806)","v":390},{"$f":"LOOKUP($AO397,Data!$A$6:$A$1806,Data!$H$6:$H$1806)","v":10},{"$f":"LOOKUP($AO397,Data!$A$6:$A$1806,Data!$I$6:$I$1806)","v":0},{"$f":"LOOKUP($AO397,Data!$A$6:$A$1806,Data!$J$6:$J$1806)","v":-103},{"$f":"LOOKUP($AO397,Data!$A$6:$A$1806,Data!$K$6:$K$1806)","v":7757.4},29.5989990234375]
[null,40098.109768517927,{"$f":"LOOKUP(B398,Data!$A$6:$A$1806,Data!B$6:B$1806)","v":59.958999633789063},{"$f":"LOOKUP(B398,Data!$A$6:$A$1806,Data!C$6:C$1806)","v":3763.10009765625},null,null,null,32.80029296875,31.078679087521177,null,null,0,3797.0881261789182,{"$f":"AVERAGE(D$79:D398)","v":3773.139974975586},{"$f":"AVERAGE(M$79:M398)","v":3774.5191202708834},3765.4461564175972,{"$f":"AVERAGE(P$79:P398)","v":3741.9002044511662},633,null,null,null,null,null,null,0,633,-761.49834276962258,null,null,null,null,null,null,null,null,null,null,null,null,null,40098.109768517927,{"$f":"LOOKUP($AO398,Data!$A$6:$A$1806,Data!$B$6:$B$1806)","v":59.958999633789063},{"$f":"LOOKUP($AO398,Data!$A$6:$A$1806,Data!$C$6:$C$1806)","v":3763.10009765625},{"$f":"LOOKUP($AO398,Data!$A$6:$A$1806,Data!$D$6:$D$1806)","v":350},{"$f":"IF($AS$1=\"+\",LOOKUP($AO398,Data!$A$6:$A$1806,Data!$E$6:$E$1806)*-1,LOOKUP($AO398,Data!$A$6:$A$1806,Data!$E$6:$E$1806))","v":223.01573181152344},{"$f":"LOOKUP($AO398,Data!$A$6:$A$1806,Data!$F$6:$F$1806)","v":16},{"$f":"LOOKUP($AO398,Data!$A$6:$A$1806,Data!$G$6:$G$1806)","v":390.5},{"$f":"LOOKUP($AO398,Data!$A$6:$A$1806,Data!$H$6:$H$1806)","v":10},{"$f":"LOOKUP($AO398,Data!$A$6:$A$1806,Data!$I$6:$I$1806)","v":0},{"$f":"LOOKUP($AO398,Data!$A$6:$A$1806,Data!$J$6:$J$1806)","v":-103},{"$f":"LOOKUP($AO398,Data!$A$6:$A$1806,Data!$K$6:$K$1806)","v":7757.73},32.80029296875]
[null,40098.109791666073,{"$f":"LOOKUP(B399,Data!$A$6:$A$1806,Data!B$6:B$1806)","v":59.956001281738281},{"$f":"LOOKUP(B399,Data!$A$6:$A$1806,Data!C$6:C$1806)","v":3763.858154296875},null,null,null,35.198974609375,32.520782520170016,null,null,0,3798.5302296115669,{"$f":"AVERAGE(D$79:D399)","v":3773.1110596463686},{"$f":"AVERAGE(M$79:M399)","v":3774.5939212345615},3765.4461564175972,{"$f":"AVERAGE(P$79:P399)","v":3741.9737855510612},633,null,null,null,null,null,null,0,633,-734.98724690640313,null,null,null,null,null,null,null,null,null,null,null,null,null,40098.109791666073,{"$f":"LOOKUP($AO399,Data!$A$6:$A$1806,Data!$B$6:$B$1806)","v":59.956001281738281},{"$f":"LOOKUP($AO399,Data!$A$6:$A$1806,Data!$C$6:$C$1806)","v":3763.858154296875},{"$f":"LOOKUP($AO399,Data!$A$6:$A$1806,Data!$D$6:$D$1806)","v":350},{"$f":"IF($AS$1=\"+\",LOOKUP($AO399,Data!$A$6:$A$1806,Data!$E$6:$E$1806)*-1,LOOKUP($AO399,Data!$A$6:$A$1806,Data!$E$6:$E$1806))","v":223.01573181152344},{"$f":"LOOKUP($AO399,Data!$A$6:$A$1806,Data!$F$6:$F$1806)","v":16},{"$f":"LOOKUP($AO399,Data!$A$6:$A$1806,Data!$G$6:$G$1806)","v":391},{"$f":"LOOKUP($AO399,Data!$A$6:$A$1806,Data!$H$6:$H$1806)","v":10},{"$f":"LOOKUP($AO399,Data!$A$6:$A$1806,Data!$I$6:$I$1806)","v":0},{"$f":"LOOKUP($AO399,Data!$A$6:$A$1806,Data!$J$6:$J$1806)","v":-103},{"$f":"LOOKUP($AO399,Data!$A$6:$A$1806,Data!$K$6:$K$1806)","v":7758.06},35.198974609375]
[null,40098.109814814219,{"$f":"LOOKUP(B400,Data!$A$6:$A$1806,Data!B$6:B$1806)","v":59.951000213623047},{"$f":"LOOKUP(B400,Data!$A$6:$A$1806,Data!C$6:C$1806)","v":3764.15771484375},null,null,null,39.1998291015625,34.858448823657383,null,null,{"$f":"IF(B400>G$3,0,(K$21*0.000023148/K$22))","v":0},{"$f":"M399+L400+(I400-I399)","v":3800.8678959150543},{"$f":"AVERAGE(D$79:D400)","v":3773.0832542277271},{"$f":"AVERAGE(M$79:M400)","v":3774.6755174292211},3765.4461564175972,{"$f":"AVERAGE(P$79:P400)","v":3742.0469082017353},633,null,null,null,null,null,null,0,633,{"$f":"Z400/((C400-G$4)*10)","v":-694.65011852247221},null,null,null,null,null,null,null,null,null,null,null,null,null,40098.109814814219,{"$f":"LOOKUP($AO400,Data!$A$6:$A$1806,Data!$B$6:$B$1806)","v":59.951000213623047},{"$f":"LOOKUP($AO400,Data!$A$6:$A$1806,Data!$C$6:$C$1806)","v":3764.15771484375},{"$f":"LOOKUP($AO400,Data!$A$6:$A$1806,Data!$D$6:$D$1806)","v":350},{"$f":"IF($AS$1=\"+\",LOOKUP($AO400,Data!$A$6:$A$1806,Data!$E$6:$E$1806)*-1,LOOKUP($AO400,Data!$A$6:$A$1806,Data!$E$6:$E$1806))","v":223.01573181152344},{"$f":"LOOKUP($AO400,Data!$A$6:$A$1806,Data!$F$6:$F$1806)","v":16},{"$f":"LOOKUP($AO400,Data!$A$6:$A$1806,Data!$G$6:$G$1806)","v":391.5},{"$f":"LOOKUP($AO400,Data!$A$6:$A$1806,Data!$H$6:$H$1806)","v":10},{"$f":"LOOKUP($AO400,Data!$A$6:$A$1806,Data!$I$6:$I$1806)","v":0},{"$f":"LOOKUP($AO400,Data!$A$6:$A$1806,Data!$J$6:$J$1806)","v":-103},{"$f":"LOOKUP($AO400,Data!$A$6:$A$1806,Data!$K$6:$K$1806)","v":7758.39},39.1998291015625]
[null,40098.109837962365,{"$f":"LOOKUP(B401,Data!$A$6:$A$1806,Data!B$6:B$1806)","v":59.952999114990234},{"$f":"LOOKUP(B401,Data!$A$6:$A$1806,Data!C$6:C$1806)","v":3766.126708984375},null,null,null,37.6007080078125,35.818239538111676,null,null,0,3801.8276866295087,{"$f":"AVERAGE(D$79:D401)","v":3773.0617169359521},{"$f":"AVERAGE(M$79:M401)","v":3774.7595798725656},3765.4461564175972,{"$f":"AVERAGE(P$79:P401)","v":3742.1195766744549},{"$f":"R$41","v":633},null,null,null,null,null,null,0,633,-710.22958306359715,null,null,null,null,null,null,null,null,null,null,null,null,null,{"$f":"AO400+TIME(0,0,$B$1)","v":40098.109837962365},{"$f":"LOOKUP($AO401,Data!$A$6:$A$1806,Data!$B$6:$B$1806)","v":59.952999114990234},{"$f":"LOOKUP($AO401,Data!$A$6:$A$1806,Data!$C$6:$C$1806)","v":3766.126708984375},{"$f":"LOOKUP($AO401,Data!$A$6:$A$1806,Data!$D$6:$D$1806)","v":350},{"$f":"IF($AS$1=\"+\",LOOKUP($AO401,Data!$A$6:$A$1806,Data!$E$6:$E$1806)*-1,LOOKUP($AO401,Data!$A$6:$A$1806,Data!$E$6:$E$1806))","v":223.01573181152344},{"$f":"LOOKUP($AO401,Data!$A$6:$A$1806,Data!$F$6:$F$1806)","v":16},{"$f":"LOOKUP($AO401,Data!$A$6:$A$1806,Data!$G$6:$G$1806)","v":392},{"$f":"LOOKUP($AO401,Data!$A$6:$A$1806,Data!$H$6:$H$1806)","v":10},{"$f":"LOOKUP($AO401,Data!$A$6:$A$1806,Data!$I$6:$I$1806)","v":0},{"$f":"LOOKUP($AO401,Data!$A$6:$A$1806,Data!$J$6:$J$1806)","v":-103},{"$f":"LOOKUP($AO401,Data!$A$6:$A$1806,Data!$K$6:$K$1806)","v":7758.72},37.6007080078125]
[null,40098.109861110512,{"$f":"LOOKUP(B402,Data!$A$6:$A$1806,Data!B$6:B$1806)","v":59.953998565673828},{"$f":"LOOKUP(B402,Data!$A$6:$A$1806,Data!C$6:C$1806)","v":3768.3388671875},null,null,null,36.8011474609375,36.162257311100717,null,null,0,3802.1717044024977,{"$f":"AVERAGE(D$79:D402)","v":3773.0471402391977},{"$f":"AVERAGE(M$79:M402)","v":3774.8441851951884},{"$f":"P401+L402","v":3765.4461564175972},{"$f":"AVERAGE(P$79:P402)","v":3742.1917951875912},633,null,null,null,null,null,null,0,633,-718.28434704975245,null,null,null,null,null,null,null,null,null,null,null,null,null,40098.109861110512,{"$f":"LOOKUP($AO402,Data!$A$6:$A$1806,Data!$B$6:$B$1806)","v":59.953998565673828},{"$f":"LOOKUP($AO402,Data!$A$6:$A$1806,Data!$C$6:$C$1806)","v":3768.3388671875},{"$f":"LOOKUP($AO402,Data!$A$6:$A$1806,Data!$D$6:$D$1806)","v":350},{"$f":"IF($AS$1=\"+\",LOOKUP($AO402,Data!$A$6:$A$1806,Data!$E$6:$E$1806)*-1,LOOKUP($AO402,Data!$A$6:$A$1806,Data!$E$6:$E$1806))","v":223.01573181152344},{"$f":"LOOKUP($AO402,Data!$A$6:$A$1806,Data!$F$6:$F$1806)","v":16},{"$f":"LOOKUP($AO402,Data!$A$6:$A$1806,Data!$G$6:$G$1806)","v":392.5},{"$f":"LOOKUP($AO402,Data!$A$6:$A$1806,Data!$H$6:$H$1806)","v":10},{"$f":"LOOKUP($AO402,Data!$A$6:$A$1806,Data!$I$6:$I$1806)","v":0},{"$f":"LOOKUP($AO402,Data!$A$6:$A$1806,Data!$J$6:$J$1806)","v":-103},{"$f":"LOOKUP($AO402,Data!$A$6:$A$1806,Data!$K$6:$K$1806)","v":7759.05},36.8011474609375]
[null,40098.109884258658,{"$f":"LOOKUP(B403,Data!$A$6:$A$1806,Data!B$6:B$1806)","v":59.957000732421875},{"$f":"LOOKUP(B403,Data!$A$6:$A$1806,Data!C$6:C$1806)","v":3767.97216796875},null,null,null,34.3994140625,35.545262174090468,null,null,0,3801.5547092654874,{"$f":"AVERAGE(D$79:D403)","v":3773.0315249399036},{"$f":"AVERAGE(M$79:M403)","v":3774.926371423097},3765.4461564175972,{"$f":"AVERAGE(P$79:P403)","v":3742.2635679074369},633,null,null,null,null,null,null,0,633,-743.61676684274505,null,null,null,null,null,null,null,null,null,null,null,null,null,40098.109884258658,{"$f":"LOOKUP($AO403,Data!$A$6:$A$1806,Data!$B$6:$B$1806)","v":59.957000732421875},{"$f":"LOOKUP($AO403,Data!$A$6:$A$1806,Data!$C$6:$C$1806)","v":3767.97216796875},{"$f":"LOOKUP($AO403,Data!$A$6:$A$1806,Data!$D$6:$D$1806)","v":350},{"$f":"IF($AS$1=\"+\",LOOKUP($AO403,Data!$A$6:$A$1806,Data!$E$6:$E$1806)*-1,LOOKUP($AO403,Data!$A$6:$A$1806,Data!$E$6:$E$1806))","v":223.01573181152344},{"$f":"LOOKUP($AO403,Data!$A$6:$A$1806,Data!$F$6:$F$1806)","v":16},{"$f":"LOOKUP($AO403,Data!$A$6:$A$1806,Data!$G$6:$G$1806)","v":393},{"$f":"LOOKUP($AO403,Data!$A$6:$A$1806,Data!$H$6:$H$1806)","v":10},{"$f":"LOOKUP($AO403,Data!$A$6:$A$1806,Data!$I$6:$I$1806)","v":0},{"$f":"LOOKUP($AO403,Data!$A$6:$A$1806,Data!$J$6:$J$1806)","v":-103},{"$f":"LOOKUP($AO403,Data!$A$6:$A$1806,Data!$K$6:$K$1806)","v":7759.38},34.3994140625]
[null,40098.109907406804,{"$f":"LOOKUP(B404,Data!$A$6:$A$1806,Data!B$6:B$1806)","v":59.956001281738281},{"$f":"LOOKUP(B404,Data!$A$6:$A$1806,Data!C$6:C$1806)","v":3767.4375},null,null,null,35.198974609375,35.424061526440056,null,null,0,3801.4335086178371,{"$f":"AVERAGE(D$79:D404)","v":3773.0143653541986},{"$f":"AVERAGE(M$79:M404)","v":3775.0076816598907},3765.4461564175972,{"$f":"AVERAGE(P$79:P404)","v":3742.3348989490059},633,null,null,null,null,null,null,0,633,-734.98724690640313,null,null,null,null,null,null,null,null,null,null,null,null,null,40098.109907406804,{"$f":"LOOKUP($AO404,Data!$A$6:$A$1806,Data!$B$6:$B$1806)","v":59.956001281738281},{"$f":"LOOKUP($AO404,Data!$A$6:$A$1806,Data!$C$6:$C$1806)","v":3767.4375},{"$f":"LOOKUP($AO404,Data!$A$6:$A$1806,Data!$D$6:$D$1806)","v":350},{"$f":"IF($AS$1=\"+\",LOOKUP($AO404,Data!$A$6:$A$1806,Data!$E$6:$E$1806)*-1,LOOKUP($AO404,Data!$A$6:$A$1806,Data!$E$6:$E$1806))","v":223.01573181152344},{"$f":"LOOKUP($AO404,Data!$A$6:$A$1806,Data!$F$6:$F$1806)","v":16},{"$f":"LOOKUP($AO404,Data!$A$6:$A$1806,Data!$G$6:$G$1806)","v":393.5},{"$f":"LOOKUP($AO404,Data!$A$6:$A$1806,Data!$H$6:$H$1806)","v":10},{"$f":"LOOKUP($AO404,Data!$A$6:$A$1806,Data!$I$6:$I$1806)","v":0},{"$f":"LOOKUP($AO404,Data!$A$6:$A$1806,Data!$J$6:$J$1806)","v":-103},{"$f":"LOOKUP($AO404,Data!$A$6:$A$1806,Data!$K$6:$K$1806)","v":7759.71},35.198974609375]
[null,40098.109930554951,{"$f":"LOOKUP(B405,Data!$A$6:$A$1806,Data!B$6:B$1806)","v":59.96099853515625},{"$f":"LOOKUP(B405,Data!$A$6:$A$1806,Data!C$6:C$1806)","v":3765.6064453125},null,null,null,31.201171875,33.946050148436036,null,null,0,3799.9554972398332,{"$f":"AVERAGE(D$79:D405)","v":3772.9917111644686},{"$f":"AVERAGE(M$79:M405)","v":3775.083974673897},3765.4461564175972,{"$f":"AVERAGE(P$79:P405)","v":3742.4057923768237},633,null,null,null,null,null,null,0,633,-780.26109618832106,null,null,null,null,null,null,null,null,null,null,null,null,null,40098.109930554951,{"$f":"LOOKUP($AO405,Data!$A$6:$A$1806,Data!$B$6:$B$1806)","v":59.96099853515625},{"$f":"LOOKUP($AO405,Data!$A$6:$A$1806,Data!$C$6:$C$1806)","v":3765.6064453125},{"$f":"LOOKUP($AO405,Data!$A$6:$A$1806,Data!$D$6:$D$1806)","v":350},{"$f":"IF($AS$1=\"+\",LOOKUP($AO405,Data!$A$6:$A$1806,Data!$E$6:$E$1806)*-1,LOOKUP($AO405,Data!$A$6:$A$1806,Data!$E$6:$E$1806))","v":223.01573181152344},{"$f":"LOOKUP($AO405,Data!$A$6:$A$1806,Data!$F$6:$F$1806)","v":16},{"$f":"LOOKUP($AO405,Data!$A$6:$A$1806,Data!$G$6:$G$1806)","v":394},{"$f":"LOOKUP($AO405,Data!$A$6:$A$1806,Data!$H$6:$H$1806)","v":10},{"$f":"LOOKUP($AO405,Data!$A$6:$A$1806,Data!$I$6:$I$1806)","v":0},{"$f":"LOOKUP($AO405,Data!$A$6:$A$1806,Data!$J$6:$J$1806)","v":-103},{"$f":"LOOKUP($AO405,Data!$A$6:$A$1806,Data!$K$6:$K$1806)","v":7760.04},31.201171875]
[null,40098.109953703097,{"$f":"LOOKUP(B406,Data!$A$6:$A$1806,Data!B$6:B$1806)","v":59.963001251220703},{"$f":"LOOKUP(B406,Data!$A$6:$A$1806,Data!C$6:C$1806)","v":3762.68798828125},null,null,null,29.5989990234375,32.424582254686548,null,null,0,3798.4340293460837,{"$f":"AVERAGE(D$79:D406)","v":3772.9602973751907},{"$f":"AVERAGE(M$79:M406)","v":3775.1551638649707},3765.4461564175972,{"$f":"AVERAGE(P$79:P406)","v":3742.476252205694},633,null,null,null,null,null,null,0,633,-800.01037514689483,null,null,null,null,null,null,null,null,null,null,null,null,null,40098.109953703097,{"$f":"LOOKUP($AO406,Data!$A$6:$A$1806,Data!$B$6:$B$1806)","v":59.963001251220703},{"$f":"LOOKUP($AO406,Data!$A$6:$A$1806,Data!$C$6:$C$1806)","v":3762.68798828125},{"$f":"LOOKUP($AO406,Data!$A$6:$A$1806,Data!$D$6:$D$1806)","v":350},{"$f":"IF($AS$1=\"+\",LOOKUP($AO406,Data!$A$6:$A$1806,Data!$E$6:$E$1806)*-1,LOOKUP($AO406,Data!$A$6:$A$1806,Data!$E$6:$E$1806))","v":223.01573181152344},{"$f":"LOOKUP($AO406,Data!$A$6:$A$1806,Data!$F$6:$F$1806)","v":16},{"$f":"LOOKUP($AO406,Data!$A$6:$A$1806,Data!$G$6:$G$1806)","v":394.5},{"$f":"LOOKUP($AO406,Data!$A$6:$A$1806,Data!$H$6:$H$1806)","v":10},{"$f":"LOOKUP($AO406,Data!$A$6:$A$1806,Data!$I$6:$I$1806)","v":0},{"$f":"LOOKUP($AO406,Data!$A$6:$A$1806,Data!$J$6:$J$1806)","v":-103},{"$f":"LOOKUP($AO406,Data!$A$6:$A$1806,Data!$K$6:$K$1806)","v":7760.37},29.5989990234375]
[null,40098.109976851243,{"$f":"LOOKUP(B407,Data!$A$6:$A$1806,Data!B$6:B$1806)","v":59.96099853515625},{"$f":"LOOKUP(B407,Data!$A$6:$A$1806,Data!C$6:C$1806)","v":3761.5703125},null,null,null,31.201171875,31.996388621796257,null,null,0,3798.0058357131934,{"$f":"AVERAGE(D$79:D407)","v":3772.9256773603724},{"$f":"AVERAGE(M$79:M407)","v":3775.2246187946002},3765.4461564175972,{"$f":"AVERAGE(P$79:P407)","v":3742.5462824014617},633,null,null,null,null,null,null,0,633,-780.26109618832106,null,null,null,null,null,null,null,null,null,null,null,null,null,40098.109976851243,{"$f":"LOOKUP($AO407,Data!$A$6:$A$1806,Data!$B$6:$B$1806)","v":59.96099853515625},{"$f":"LOOKUP($AO407,Data!$A$6:$A$1806,Data!$C$6:$C$1806)","v":3761.5703125},{"$f":"LOOKUP($AO407,Data!$A$6:$A$1806,Data!$D$6:$D$1806)","v":350},{"$f":"IF($AS$1=\"+\",LOOKUP($AO407,Data!$A$6:$A$1806,Data!$E$6:$E$1806)*-1,LOOKUP($AO407,Data!$A$6:$A$1806,Data!$E$6:$E$1806))","v":223.01573181152344},{"$f":"LOOKUP($AO407,Data!$A$6:$A$1806,Data!$F$6:$F$1806)","v":16},{"$f":"LOOKUP($AO407,Data!$A$6:$A$1806,Data!$G$6:$G$1806)","v":395},{"$f":"LOOKUP($AO407,Data!$A$6:$A$1806,Data!$H$6:$H$1806)","v":10},{"$f":"LOOKUP($AO407,Data!$A$6:$A$1806,Data!$I$6:$I$1806)","v":0},{"$f":"LOOKUP($AO407,Data!$A$6:$A$1806,Data!$J$6:$J$1806)","v":-103},{"$f":"LOOKUP($AO407,Data!$A$6:$A$1806,Data!$K$6:$K$1806)","v":7760.7},31.201171875]
[null,40098.109999999389,{"$f":"LOOKUP(B408,Data!$A$6:$A$1806,Data!B$6:B$1806)","v":59.958999633789063},{"$f":"LOOKUP(B408,Data!$A$6:$A$1806,Data!C$6:C$1806)","v":3761.919921875},null,null,null,32.80029296875,32.277755143230067,null,null,0,3798.2872022346273,{"$f":"AVERAGE(D$79:D408)","v":3772.892326586174},{"$f":"AVERAGE(M$79:M408)","v":3775.2945054110851},3765.4461564175972,{"$f":"AVERAGE(P$79:P408)","v":3742.6158868817538},633,null,null,null,null,null,null,0,633,-761.49834276962258,null,null,null,null,null,null,null,null,null,null,null,null,null,40098.109999999389,{"$f":"LOOKUP($AO408,Data!$A$6:$A$1806,Data!$B$6:$B$1806)","v":59.958999633789063},{"$f":"LOOKUP($AO408,Data!$A$6:$A$1806,Data!$C$6:$C$1806)","v":3761.919921875},{"$f":"LOOKUP($AO408,Data!$A$6:$A$1806,Data!$D$6:$D$1806)","v":350},{"$f":"IF($AS$1=\"+\",LOOKUP($AO408,Data!$A$6:$A$1806,Data!$E$6:$E$1806)*-1,LOOKUP($AO408,Data!$A$6:$A$1806,Data!$E$6:$E$1806))","v":223.01573181152344},{"$f":"LOOKUP($AO408,Data!$A$6:$A$1806,Data!$F$6:$F$1806)","v":16},{"$f":"LOOKUP($AO408,Data!$A$6:$A$1806,Data!$G$6:$G$1806)","v":395.5},{"$f":"LOOKUP($AO408,Data!$A$6:$A$1806,Data!$H$6:$H$1806)","v":10},{"$f":"LOOKUP($AO408,Data!$A$6:$A$1806,Data!$I$6:$I$1806)","v":0},{"$f":"LOOKUP($AO408,Data!$A$6:$A$1806,Data!$J$6:$J$1806)","v":-103},{"$f":"LOOKUP($AO408,Data!$A$6:$A$1806,Data!$K$6:$K$1806)","v":7761.03},32.80029296875]
[null,40098.110023147536,{"$f":"LOOKUP(B409,Data!$A$6:$A$1806,Data!B$6:B$1806)","v":59.963001251220703},{"$f":"LOOKUP(B409,Data!$A$6:$A$1806,Data!C$6:C$1806)","v":3759.626953125},null,null,null,29.5989990234375,31.340190501302668,null,null,0,3797.3496375926998,{"$f":"AVERAGE(D$79:D409)","v":3772.8522499291917},{"$f":"AVERAGE(M$79:M409)","v":3775.3611372303649},3765.4461564175972,{"$f":"AVERAGE(P$79:P409)","v":3742.6850695167104},633,null,null,null,null,null,null,0,633,-800.01037514689483,null,null,null,null,null,null,null,null,null,null,null,null,null,40098.110023147536,{"$f":"LOOKUP($AO409,Data!$A$6:$A$1806,Data!$B$6:$B$1806)","v":59.963001251220703},{"$f":"LOOKUP($AO409,Data!$A$6:$A$1806,Data!$C$6:$C$1806)","v":3759.626953125},{"$f":"LOOKUP($AO409,Data!$A$6:$A$1806,Data!$D$6:$D$1806)","v":350},{"$f":"IF($AS$1=\"+\",LOOKUP($AO409,Data!$A$6:$A$1806,Data!$E$6:$E$1806)*-1,LOOKUP($AO409,Data!$A$6:$A$1806,Data!$E$6:$E$1806))","v":223.01573181152344},{"$f":"LOOKUP($AO409,Data!$A$6:$A$1806,Data!$F$6:$F$1806)","v":16},{"$f":"LOOKUP($AO409,Data!$A$6:$A$1806,Data!$G$6:$G$1806)","v":396},{"$f":"LOOKUP($AO409,Data!$A$6:$A$1806,Data!$H$6:$H$1806)","v":10},{"$f":"LOOKUP($AO409,Data!$A$6:$A$1806,Data!$I$6:$I$1806)","v":0},{"$f":"LOOKUP($AO409,Data!$A$6:$A$1806,Data!$J$6:$J$1806)","v":-103},{"$f":"LOOKUP($AO409,Data!$A$6:$A$1806,Data!$K$6:$K$1806)","v":7761.36},29.5989990234375]
[null,40098.110046295682,{"$f":"LOOKUP(B410,Data!$A$6:$A$1806,Data!B$6:B$1806)","v":59.963001251220703},{"$f":"LOOKUP(B410,Data!$A$6:$A$1806,Data!C$6:C$1806)","v":3758.52197265625},null,null,null,29.5989990234375,30.730773484049859,null,null,0,3796.740220575447,{"$f":"AVERAGE(D$79:D410)","v":3772.8090864434298},{"$f":"AVERAGE(M$79:M410)","v":3775.4255320597172},3765.4461564175972,{"$f":"AVERAGE(P$79:P410)","v":3742.7538341297036},633,null,null,null,null,null,null,0,633,-800.01037514689483,null,null,null,null,null,null,null,null,null,null,null,null,null,40098.110046295682,{"$f":"LOOKUP($AO410,Data!$A$6:$A$1806,Data!$B$6:$B$1806)","v":59.963001251220703},{"$f":"LOOKUP($AO410,Data!$A$6:$A$1806,Data!$C$6:$C$1806)","v":3758.52197265625},{"$f":"LOOKUP($AO410,Data!$A$6:$A$1806,Data!$D$6:$D$1806)","v":350},{"$f":"IF($AS$1=\"+\",LOOKUP($AO410,Data!$A$6:$A$1806,Data!$E$6:$E$1806)*-1,LOOKUP($AO410,Data!$A$6:$A$1806,Data!$E$6:$E$1806))","v":223.01573181152344},{"$f":"LOOKUP($AO410,Data!$A$6:$A$1806,Data!$F$6:$F$1806)","v":16},{"$f":"LOOKUP($AO410,Data!$A$6:$A$1806,Data!$G$6:$G$1806)","v":396.5},{"$f":"LOOKUP($AO410,Data!$A$6:$A$1806,Data!$H$6:$H$1806)","v":10},{"$f":"LOOKUP($AO410,Data!$A$6:$A$1806,Data!$I$6:$I$1806)","v":0},{"$f":"LOOKUP($AO410,Data!$A$6:$A$1806,Data!$J$6:$J$1806)","v":-103},{"$f":"LOOKUP($AO410,Data!$A$6:$A$1806,Data!$K$6:$K$1806)","v":7761.69},29.5989990234375]
[null,40098.110069443828,{"$f":"LOOKUP(B411,Data!$A$6:$A$1806,Data!B$6:B$1806)","v":59.965000152587891},{"$f":"LOOKUP(B411,Data!$A$6:$A$1806,Data!C$6:C$1806)","v":3752.4287109375},null,null,null,27.9998779296875,29.774960040023036,null,null,0,3795.7844071314203,{"$f":"AVERAGE(D$79:D411)","v":3772.7478841145835},{"$f":"AVERAGE(M$79:M411)","v":3775.4866698226951},3765.4461564175972,{"$f":"AVERAGE(P$79:P411)","v":3742.8221844980403},633,null,null,null,null,null,null,0,633,-820.74477164390419,null,null,null,null,null,null,null,null,null,null,null,null,null,40098.110069443828,{"$f":"LOOKUP($AO411,Data!$A$6:$A$1806,Data!$B$6:$B$1806)","v":59.965000152587891},{"$f":"LOOKUP($AO411,Data!$A$6:$A$1806,Data!$C$6:$C$1806)","v":3752.4287109375},{"$f":"LOOKUP($AO411,Data!$A$6:$A$1806,Data!$D$6:$D$1806)","v":350},{"$f":"IF($AS$1=\"+\",LOOKUP($AO411,Data!$A$6:$A$1806,Data!$E$6:$E$1806)*-1,LOOKUP($AO411,Data!$A$6:$A$1806,Data!$E$6:$E$1806))","v":223.01573181152344},{"$f":"LOOKUP($AO411,Data!$A$6:$A$1806,Data!$F$6:$F$1806)","v":16},{"$f":"LOOKUP($AO411,Data!$A$6:$A$1806,Data!$G$6:$G$1806)","v":397},{"$f":"LOOKUP($AO411,Data!$A$6:$A$1806,Data!$H$6:$H$1806)","v":10},{"$f":"LOOKUP($AO411,Data!$A$6:$A$1806,Data!$I$6:$I$1806)","v":0},{"$f":"LOOKUP($AO411,Data!$A$6:$A$1806,Data!$J$6:$J$1806)","v":-103},{"$f":"LOOKUP($AO411,Data!$A$6:$A$1806,Data!$K$6:$K$1806)","v":7762.02},27.9998779296875]
[null,40098.110092591975,{"$f":"LOOKUP(B412,Data!$A$6:$A$1806,Data!B$6:B$1806)","v":59.967998504638672},{"$f":"LOOKUP(B412,Data!$A$6:$A$1806,Data!C$6:C$1806)","v":3750.1015625},null,null,null,25.6011962890625,28.314142727186848,null,null,0,3794.323589818584,{"$f":"AVERAGE(D$79:D412)","v":3772.6800807564559},{"$f":"AVERAGE(M$79:M412)","v":3775.5430677867548},3765.4461564175972,{"$f":"AVERAGE(P$79:P412)","v":3742.8901243536543},633,null,null,null,null,null,null,0,633,-853.94308063426718,null,null,null,null,null,null,null,null,null,null,null,null,null,40098.110092591975,{"$f":"LOOKUP($AO412,Data!$A$6:$A$1806,Data!$B$6:$B$1806)","v":59.967998504638672},{"$f":"LOOKUP($AO412,Data!$A$6:$A$1806,Data!$C$6:$C$1806)","v":3750.1015625},{"$f":"LOOKUP($AO412,Data!$A$6:$A$1806,Data!$D$6:$D$1806)","v":350},{"$f":"IF($AS$1=\"+\",LOOKUP($AO412,Data!$A$6:$A$1806,Data!$E$6:$E$1806)*-1,LOOKUP($AO412,Data!$A$6:$A$1806,Data!$E$6:$E$1806))","v":223.01573181152344},{"$f":"LOOKUP($AO412,Data!$A$6:$A$1806,Data!$F$6:$F$1806)","v":16},{"$f":"LOOKUP($AO412,Data!$A$6:$A$1806,Data!$G$6:$G$1806)","v":397.5},{"$f":"LOOKUP($AO412,Data!$A$6:$A$1806,Data!$H$6:$H$1806)","v":10},{"$f":"LOOKUP($AO412,Data!$A$6:$A$1806,Data!$I$6:$I$1806)","v":0},{"$f":"LOOKUP($AO412,Data!$A$6:$A$1806,Data!$J$6:$J$1806)","v":-103},{"$f":"LOOKUP($AO412,Data!$A$6:$A$1806,Data!$K$6:$K$1806)","v":7762.35},25.6011962890625]
[null,40098.110115740121,{"$f":"LOOKUP(B413,Data!$A$6:$A$1806,Data!B$6:B$1806)","v":59.967998504638672},{"$f":"LOOKUP(B413,Data!$A$6:$A$1806,Data!C$6:C$1806)","v":3753.82958984375},null,null,null,25.6011962890625,27.364611473843325,null,null,0,3793.3740585652404,{"$f":"AVERAGE(D$79:D413)","v":3772.6238106343285},{"$f":"AVERAGE(M$79:M413)","v":3775.5962946248992},3765.4461564175972,{"$f":"AVERAGE(P$79:P413)","v":3742.9576573837853},633,null,null,null,null,null,null,0,633,-853.94308063426718,null,null,null,null,null,null,null,null,null,null,null,null,null,40098.110115740121,{"$f":"LOOKUP($AO413,Data!$A$6:$A$1806,Data!$B$6:$B$1806)","v":59.967998504638672},{"$f":"LOOKUP($AO413,Data!$A$6:$A$1806,Data!$C$6:$C$1806)","v":3753.82958984375},{"$f":"LOOKUP($AO413,Data!$A$6:$A$1806,Data!$D$6:$D$1806)","v":350},{"$f":"IF($AS$1=\"+\",LOOKUP($AO413,Data!$A$6:$A$1806,Data!$E$6:$E$1806)*-1,LOOKUP($AO413,Data!$A$6:$A$1806,Data!$E$6:$E$1806))","v":223.01573181152344},{"$f":"LOOKUP($AO413,Data!$A$6:$A$1806,Data!$F$6:$F$1806)","v":16},{"$f":"LOOKUP($AO413,Data!$A$6:$A$1806,Data!$G$6:$G$1806)","v":398},{"$f":"LOOKUP($AO413,Data!$A$6:$A$1806,Data!$H$6:$H$1806)","v":10},{"$f":"LOOKUP($AO413,Data!$A$6:$A$1806,Data!$I$6:$I$1806)","v":0},{"$f":"LOOKUP($AO413,Data!$A$6:$A$1806,Data!$J$6:$J$1806)","v":-103},{"$f":"LOOKUP($AO413,Data!$A$6:$A$1806,Data!$K$6:$K$1806)","v":7762.68},25.6011962890625]
[null,40098.110138888267,{"$f":"LOOKUP(B414,Data!$A$6:$A$1806,Data!B$6:B$1806)","v":59.967998504638672},{"$f":"LOOKUP(B414,Data!$A$6:$A$1806,Data!C$6:C$1806)","v":3753.51025390625},null,null,null,25.6011962890625,26.747416159170037,null,null,0,3792.7568632505672,{"$f":"AVERAGE(D$79:D414)","v":3772.5669250488281},{"$f":"AVERAGE(M$79:M414)","v":3775.6473677458089},3765.4461564175972,{"$f":"AVERAGE(P$79:P414)","v":3743.0247872316472},633,null,null,null,null,null,null,0,633,-853.94308063426718,null,null,null,null,null,null,null,null,null,null,null,null,null,40098.110138888267,{"$f":"LOOKUP($AO414,Data!$A$6:$A$1806,Data!$B$6:$B$1806)","v":59.967998504638672},{"$f":"LOOKUP($AO414,Data!$A$6:$A$1806,Data!$C$6:$C$1806)","v":3753.51025390625},{"$f":"LOOKUP($AO414,Data!$A$6:$A$1806,Data!$D$6:$D$1806)","v":350},{"$f":"IF($AS$1=\"+\",LOOKUP($AO414,Data!$A$6:$A$1806,Data!$E$6:$E$1806)*-1,LOOKUP($AO414,Data!$A$6:$A$1806,Data!$E$6:$E$1806))","v":223.01573181152344},{"$f":"LOOKUP($AO414,Data!$A$6:$A$1806,Data!$F$6:$F$1806)","v":16},{"$f":"LOOKUP($AO414,Data!$A$6:$A$1806,Data!$G$6:$G$1806)","v":398.5},{"$f":"LOOKUP($AO414,Data!$A$6:$A$1806,Data!$H$6:$H$1806)","v":10},{"$f":"LOOKUP($AO414,Data!$A$6:$A$1806,Data!$I$6:$I$1806)","v":0},{"$f":"LOOKUP($AO414,Data!$A$6:$A$1806,Data!$J$6:$J$1806)","v":-103},{"$f":"LOOKUP($AO414,Data!$A$6:$A$1806,Data!$K$6:$K$1806)","v":7763.01},25.6011962890625]
[null,40098.110162036413,{"$f":"LOOKUP(B415,Data!$A$6:$A$1806,Data!B$6:B$1806)","v":59.970001220703125},{"$f":"LOOKUP(B415,Data!$A$6:$A$1806,Data!C$6:C$1806)","v":3753.52294921875},null,null,null,23.9990234375,25.785478706585526,null,null,0,3791.7949257979826,{"$f":"AVERAGE(D$79:D415)","v":3772.5104147347924},{"$f":"AVERAGE(M$79:M415)","v":3775.6952833483379},3765.4461564175972,{"$f":"AVERAGE(P$79:P415)","v":3743.0915174970814},633,null,null,null,null,null,null,0,633,-877.6550963604509,null,null,null,null,null,null,null,null,null,null,null,null,null,40098.110162036413,{"$f":"LOOKUP($AO415,Data!$A$6:$A$1806,Data!$B$6:$B$1806)","v":59.970001220703125},{"$f":"LOOKUP($AO415,Data!$A$6:$A$1806,Data!$C$6:$C$1806)","v":3753.52294921875},{"$f":"LOOKUP($AO415,Data!$A$6:$A$1806,Data!$D$6:$D$1806)","v":350},{"$f":"IF($AS$1=\"+\",LOOKUP($AO415,Data!$A$6:$A$1806,Data!$E$6:$E$1806)*-1,LOOKUP($AO415,Data!$A$6:$A$1806,Data!$E$6:$E$1806))","v":223.01573181152344},{"$f":"LOOKUP($AO415,Data!$A$6:$A$1806,Data!$F$6:$F$1806)","v":16},{"$f":"LOOKUP($AO415,Data!$A$6:$A$1806,Data!$G$6:$G$1806)","v":399},{"$f":"LOOKUP($AO415,Data!$A$6:$A$1806,Data!$H$6:$H$1806)","v":10},{"$f":"LOOKUP($AO415,Data!$A$6:$A$1806,Data!$I$6:$I$1806)","v":0},{"$f":"LOOKUP($AO415,Data!$A$6:$A$1806,Data!$J$6:$J$1806)","v":-103},{"$f":"LOOKUP($AO415,Data!$A$6:$A$1806,Data!$K$6:$K$1806)","v":7763.34},23.9990234375]
[null,40098.11018518456,{"$f":"LOOKUP(B416,Data!$A$6:$A$1806,Data!B$6:B$1806)","v":59.972999572753906},{"$f":"LOOKUP(B416,Data!$A$6:$A$1806,Data!C$6:C$1806)","v":3752.74072265625},null,null,null,21.600341796875,24.320680788186841,null,null,0,3790.3301278795839,{"$f":"AVERAGE(D$79:D416)","v":3772.451924521542},{"$f":"AVERAGE(M$79:M416)","v":3775.738581704939},3765.4461564175972,{"$f":"AVERAGE(P$79:P416)","v":3743.1578517372013},633,null,null,null,null,null,null,0,633,-915.72372746901021,null,null,null,null,null,null,null,null,null,null,null,null,null,40098.11018518456,{"$f":"LOOKUP($AO416,Data!$A$6:$A$1806,Data!$B$6:$B$1806)","v":59.972999572753906},{"$f":"LOOKUP($AO416,Data!$A$6:$A$1806,Data!$C$6:$C$1806)","v":3752.74072265625},{"$f":"LOOKUP($AO416,Data!$A$6:$A$1806,Data!$D$6:$D$1806)","v":350},{"$f":"IF($AS$1=\"+\",LOOKUP($AO416,Data!$A$6:$A$1806,Data!$E$6:$E$1806)*-1,LOOKUP($AO416,Data!$A$6:$A$1806,Data!$E$6:$E$1806))","v":223.01573181152344},{"$f":"LOOKUP($AO416,Data!$A$6:$A$1806,Data!$F$6:$F$1806)","v":16},{"$f":"LOOKUP($AO416,Data!$A$6:$A$1806,Data!$G$6:$G$1806)","v":399.5},{"$f":"LOOKUP($AO416,Data!$A$6:$A$1806,Data!$H$6:$H$1806)","v":10},{"$f":"LOOKUP($AO416,Data!$A$6:$A$1806,Data!$I$6:$I$1806)","v":0},{"$f":"LOOKUP($AO416,Data!$A$6:$A$1806,Data!$J$6:$J$1806)","v":-103},{"$f":"LOOKUP($AO416,Data!$A$6:$A$1806,Data!$K$6:$K$1806)","v":7763.67},21.600341796875]
[null,40098.110208332706,{"$f":"LOOKUP(B417,Data!$A$6:$A$1806,Data!B$6:B$1806)","v":59.971000671386719},{"$f":"LOOKUP(B417,Data!$A$6:$A$1806,Data!C$6:C$1806)","v":3753.17822265625},null,null,null,23.199462890625,23.928254524040199,null,null,0,3789.9377016154372,{"$f":"AVERAGE(D$79:D417)","v":3772.3950699437682},{"$f":"AVERAGE(M$79:M417)","v":3775.7804670144096},3765.4461564175972,{"$f":"AVERAGE(P$79:P417)","v":3743.2237934670247},633,null,null,null,null,null,null,0,633,-889.98801011001683,null,null,null,null,null,null,null,null,null,null,null,null,null,40098.110208332706,{"$f":"LOOKUP($AO417,Data!$A$6:$A$1806,Data!$B$6:$B$1806)","v":59.971000671386719},{"$f":"LOOKUP($AO417,Data!$A$6:$A$1806,Data!$C$6:$C$1806)","v":3753.17822265625},{"$f":"LOOKUP($AO417,Data!$A$6:$A$1806,Data!$D$6:$D$1806)","v":350},{"$f":"IF($AS$1=\"+\",LOOKUP($AO417,Data!$A$6:$A$1806,Data!$E$6:$E$1806)*-1,LOOKUP($AO417,Data!$A$6:$A$1806,Data!$E$6:$E$1806))","v":223.01573181152344},{"$f":"LOOKUP($AO417,Data!$A$6:$A$1806,Data!$F$6:$F$1806)","v":16},{"$f":"LOOKUP($AO417,Data!$A$6:$A$1806,Data!$G$6:$G$1806)","v":400},{"$f":"LOOKUP($AO417,Data!$A$6:$A$1806,Data!$H$6:$H$1806)","v":10},{"$f":"LOOKUP($AO417,Data!$A$6:$A$1806,Data!$I$6:$I$1806)","v":0},{"$f":"LOOKUP($AO417,Data!$A$6:$A$1806,Data!$J$6:$J$1806)","v":-103},{"$f":"LOOKUP($AO417,Data!$A$6:$A$1806,Data!$K$6:$K$1806)","v":7764},23.199462890625]
[null,40098.110231480852,{"$f":"LOOKUP(B418,Data!$A$6:$A$1806,Data!B$6:B$1806)","v":59.965000152587891},{"$f":"LOOKUP(B418,Data!$A$6:$A$1806,Data!C$6:C$1806)","v":3752.72900390625},null,null,null,27.9998779296875,25.353322716016756,null,null,0,3791.3627698074138,{"$f":"AVERAGE(D$79:D418)","v":3772.3372285730698},{"$f":"AVERAGE(M$79:M418)","v":3775.8262973167421},3765.4461564175972,{"$f":"AVERAGE(P$79:P418)","v":3743.2893461600938},633,null,null,null,null,null,null,0,633,-820.74477164390419,null,null,null,null,null,null,null,null,null,null,null,null,null,40098.110231480852,{"$f":"LOOKUP($AO418,Data!$A$6:$A$1806,Data!$B$6:$B$1806)","v":59.965000152587891},{"$f":"LOOKUP($AO418,Data!$A$6:$A$1806,Data!$C$6:$C$1806)","v":3752.72900390625},{"$f":"LOOKUP($AO418,Data!$A$6:$A$1806,Data!$D$6:$D$1806)","v":350},{"$f":"IF($AS$1=\"+\",LOOKUP($AO418,Data!$A$6:$A$1806,Data!$E$6:$E$1806)*-1,LOOKUP($AO418,Data!$A$6:$A$1806,Data!$E$6:$E$1806))","v":223.01573181152344},{"$f":"LOOKUP($AO418,Data!$A$6:$A$1806,Data!$F$6:$F$1806)","v":16},{"$f":"LOOKUP($AO418,Data!$A$6:$A$1806,Data!$G$6:$G$1806)","v":400.5},{"$f":"LOOKUP($AO418,Data!$A$6:$A$1806,Data!$H$6:$H$1806)","v":10},{"$f":"LOOKUP($AO418,Data!$A$6:$A$1806,Data!$I$6:$I$1806)","v":0},{"$f":"LOOKUP($AO418,Data!$A$6:$A$1806,Data!$J$6:$J$1806)","v":-103},{"$f":"LOOKUP($AO418,Data!$A$6:$A$1806,Data!$K$6:$K$1806)","v":7764.33},27.9998779296875]
[null,40098.110254628999,{"$f":"LOOKUP(B419,Data!$A$6:$A$1806,Data!B$6:B$1806)","v":59.966999053955078},{"$f":"LOOKUP(B419,Data!$A$6:$A$1806,Data!C$6:C$1806)","v":3753.29052734375},null,null,null,26.4007568359375,25.719924657989015,null,null,0,3791.7293717493862,{"$f":"AVERAGE(D$79:D419)","v":3772.2813731442448},{"$f":"AVERAGE(M$79:M419)","v":3775.8729338986559},3765.4461564175972,{"$f":"AVERAGE(P$79:P419)","v":3743.3545132490863},633,null,null,null,null,null,null,0,633,-842.58253898737553,null,null,null,null,null,null,null,null,null,null,null,null,null,40098.110254628999,{"$f":"LOOKUP($AO419,Data!$A$6:$A$1806,Data!$B$6:$B$1806)","v":59.966999053955078},{"$f":"LOOKUP($AO419,Data!$A$6:$A$1806,Data!$C$6:$C$1806)","v":3753.29052734375},{"$f":"LOOKUP($AO419,Data!$A$6:$A$1806,Data!$D$6:$D$1806)","v":350},{"$f":"IF($AS$1=\"+\",LOOKUP($AO419,Data!$A$6:$A$1806,Data!$E$6:$E$1806)*-1,LOOKUP($AO419,Data!$A$6:$A$1806,Data!$E$6:$E$1806))","v":223.01573181152344},{"$f":"LOOKUP($AO419,Data!$A$6:$A$1806,Data!$F$6:$F$1806)","v":16},{"$f":"LOOKUP($AO419,Data!$A$6:$A$1806,Data!$G$6:$G$1806)","v":401},{"$f":"LOOKUP($AO419,Data!$A$6:$A$1806,Data!$H$6:$H$1806)","v":10},{"$f":"LOOKUP($AO419,Data!$A$6:$A$1806,Data!$I$6:$I$1806)","v":0},{"$f":"LOOKUP($AO419,Data!$A$6:$A$1806,Data!$J$6:$J$1806)","v":-103},{"$f":"LOOKUP($AO419,Data!$A$6:$A$1806,Data!$K$6:$K$1806)","v":7764.66},26.4007568359375]
[null,40098.110277777145,{"$f":"LOOKUP(B420,Data!$A$6:$A$1806,Data!B$6:B$1806)","v":59.966999053955078},{"$f":"LOOKUP(B420,Data!$A$6:$A$1806,Data!C$6:C$1806)","v":3752.87158203125},null,null,null,26.4007568359375,25.958215920270984,null,null,0,3791.9676630116683,{"$f":"AVERAGE(D$79:D420)","v":3772.2246193690607},{"$f":"AVERAGE(M$79:M420)","v":3775.9199945100977},3765.4461564175972,{"$f":"AVERAGE(P$79:P420)","v":3743.4192981264127},633,null,null,null,null,null,null,0,633,-842.58253898737553,null,null,null,null,null,null,null,null,null,null,null,null,null,40098.110277777145,{"$f":"LOOKUP($AO420,Data!$A$6:$A$1806,Data!$B$6:$B$1806)","v":59.966999053955078},{"$f":"LOOKUP($AO420,Data!$A$6:$A$1806,Data!$C$6:$C$1806)","v":3752.87158203125},{"$f":"LOOKUP($AO420,Data!$A$6:$A$1806,Data!$D$6:$D$1806)","v":350},{"$f":"IF($AS$1=\"+\",LOOKUP($AO420,Data!$A$6:$A$1806,Data!$E$6:$E$1806)*-1,LOOKUP($AO420,Data!$A$6:$A$1806,Data!$E$6:$E$1806))","v":223.01573181152344},{"$f":"LOOKUP($AO420,Data!$A$6:$A$1806,Data!$F$6:$F$1806)","v":16},{"$f":"LOOKUP($AO420,Data!$A$6:$A$1806,Data!$G$6:$G$1806)","v":401.5},{"$f":"LOOKUP($AO420,Data!$A$6:$A$1806,Data!$H$6:$H$1806)","v":10},{"$f":"LOOKUP($AO420,Data!$A$6:$A$1806,Data!$I$6:$I$1806)","v":0},{"$f":"LOOKUP($AO420,Data!$A$6:$A$1806,Data!$J$6:$J$1806)","v":-103},{"$f":"LOOKUP($AO420,Data!$A$6:$A$1806,Data!$K$6:$K$1806)","v":7764.99},26.4007568359375]
[null,40098.110300925291,{"$f":"LOOKUP(B421,Data!$A$6:$A$1806,Data!B$6:B$1806)","v":59.972000122070313},{"$f":"LOOKUP(B421,Data!$A$6:$A$1806,Data!C$6:C$1806)","v":3752.358642578125},null,null,null,22.39990234375,24.71280616848864,null,null,0,3790.7222532598857,{"$f":"AVERAGE(D$79:D421)","v":3772.1667010693786},{"$f":"AVERAGE(M$79:M421)","v":3775.9631497834207},3765.4461564175972,{"$f":"AVERAGE(P$79:P421)","v":3743.4837041448077},633,null,null,null,null,null,null,0,633,-902.67247098182406,null,null,null,null,null,null,null,null,null,null,null,null,null,40098.110300925291,{"$f":"LOOKUP($AO421,Data!$A$6:$A$1806,Data!$B$6:$B$1806)","v":59.972000122070313},{"$f":"LOOKUP($AO421,Data!$A$6:$A$1806,Data!$C$6:$C$1806)","v":3752.358642578125},{"$f":"LOOKUP($AO421,Data!$A$6:$A$1806,Data!$D$6:$D$1806)","v":350},{"$f":"IF($AS$1=\"+\",LOOKUP($AO421,Data!$A$6:$A$1806,Data!$E$6:$E$1806)*-1,LOOKUP($AO421,Data!$A$6:$A$1806,Data!$E$6:$E$1806))","v":223.01573181152344},{"$f":"LOOKUP($AO421,Data!$A$6:$A$1806,Data!$F$6:$F$1806)","v":16},{"$f":"LOOKUP($AO421,Data!$A$6:$A$1806,Data!$G$6:$G$1806)","v":402},{"$f":"LOOKUP($AO421,Data!$A$6:$A$1806,Data!$H$6:$H$1806)","v":10},{"$f":"LOOKUP($AO421,Data!$A$6:$A$1806,Data!$I$6:$I$1806)","v":0},{"$f":"LOOKUP($AO421,Data!$A$6:$A$1806,Data!$J$6:$J$1806)","v":-103},{"$f":"LOOKUP($AO421,Data!$A$6:$A$1806,Data!$K$6:$K$1806)","v":7765.32},22.39990234375]
[null,40098.110324073437,{"$f":"LOOKUP(B422,Data!$A$6:$A$1806,Data!B$6:B$1806)","v":59.976001739501953},{"$f":"LOOKUP(B422,Data!$A$6:$A$1806,Data!C$6:C$1806)","v":3749.39794921875},null,null,null,19.1986083984375,22.782836948970743,null,null,0,3788.792284040368,{"$f":"AVERAGE(D$79:D422)","v":3772.1005128372549},{"$f":"AVERAGE(M$79:M422)","v":3776.0004437783541},3765.4461564175972,{"$f":"AVERAGE(P$79:P422)","v":3743.5477346179059},633,null,null,null,null,null,null,0,633,-957.29980745794001,null,null,null,null,null,null,null,null,null,null,null,null,null,40098.110324073437,{"$f":"LOOKUP($AO422,Data!$A$6:$A$1806,Data!$B$6:$B$1806)","v":59.976001739501953},{"$f":"LOOKUP($AO422,Data!$A$6:$A$1806,Data!$C$6:$C$1806)","v":3749.39794921875},{"$f":"LOOKUP($AO422,Data!$A$6:$A$1806,Data!$D$6:$D$1806)","v":350},{"$f":"IF($AS$1=\"+\",LOOKUP($AO422,Data!$A$6:$A$1806,Data!$E$6:$E$1806)*-1,LOOKUP($AO422,Data!$A$6:$A$1806,Data!$E$6:$E$1806))","v":223.01573181152344},{"$f":"LOOKUP($AO422,Data!$A$6:$A$1806,Data!$F$6:$F$1806)","v":16},{"$f":"LOOKUP($AO422,Data!$A$6:$A$1806,Data!$G$6:$G$1806)","v":402.5},{"$f":"LOOKUP($AO422,Data!$A$6:$A$1806,Data!$H$6:$H$1806)","v":10},{"$f":"LOOKUP($AO422,Data!$A$6:$A$1806,Data!$I$6:$I$1806)","v":0},{"$f":"LOOKUP($AO422,Data!$A$6:$A$1806,Data!$J$6:$J$1806)","v":-103},{"$f":"LOOKUP($AO422,Data!$A$6:$A$1806,Data!$K$6:$K$1806)","v":7765.65},19.1986083984375]
[null,40098.110347221584,{"$f":"LOOKUP(B423,Data!$A$6:$A$1806,Data!B$6:B$1806)","v":59.974998474121094},{"$f":"LOOKUP(B423,Data!$A$6:$A$1806,Data!C$6:C$1806)","v":3747.475830078125},null,null,null,20.001220703125,21.809271262924732,null,null,0,3787.8187183543218,{"$f":"AVERAGE(D$79:D423)","v":3772.0291369451993},{"$f":"AVERAGE(M$79:M423)","v":3776.0346996466901},3765.4461564175972,{"$f":"AVERAGE(P$79:P423)","v":3743.6113928208115},633,null,null,null,null,null,null,0,633,-942.99216196057534,null,null,null,null,null,null,null,null,null,null,null,null,null,40098.110347221584,{"$f":"LOOKUP($AO423,Data!$A$6:$A$1806,Data!$B$6:$B$1806)","v":59.974998474121094},{"$f":"LOOKUP($AO423,Data!$A$6:$A$1806,Data!$C$6:$C$1806)","v":3747.475830078125},{"$f":"LOOKUP($AO423,Data!$A$6:$A$1806,Data!$D$6:$D$1806)","v":350},{"$f":"IF($AS$1=\"+\",LOOKUP($AO423,Data!$A$6:$A$1806,Data!$E$6:$E$1806)*-1,LOOKUP($AO423,Data!$A$6:$A$1806,Data!$E$6:$E$1806))","v":223.01573181152344},{"$f":"LOOKUP($AO423,Data!$A$6:$A$1806,Data!$F$6:$F$1806)","v":16},{"$f":"LOOKUP($AO423,Data!$A$6:$A$1806,Data!$G$6:$G$1806)","v":403},{"$f":"LOOKUP($AO423,Data!$A$6:$A$1806,Data!$H$6:$H$1806)","v":10},{"$f":"LOOKUP($AO423,Data!$A$6:$A$1806,Data!$I$6:$I$1806)","v":0},{"$f":"LOOKUP($AO423,Data!$A$6:$A$1806,Data!$J$6:$J$1806)","v":-103},{"$f":"LOOKUP($AO423,Data!$A$6:$A$1806,Data!$K$6:$K$1806)","v":7765.98},20.001220703125]
[null,40098.11037036973,{"$f":"LOOKUP(B424,Data!$A$6:$A$1806,Data!B$6:B$1806)","v":59.969001770019531},{"$f":"LOOKUP(B424,Data!$A$6:$A$1806,Data!C$6:C$1806)","v":3740.370361328125},null,null,null,24.798583984375,22.855530715432327,null,null,0,3788.8649778068293,{"$f":"AVERAGE(D$79:D424)","v":3771.9376375937049},{"$f":"AVERAGE(M$79:M424)","v":3776.0717813754763},3765.4461564175972,{"$f":"AVERAGE(P$79:P424)","v":3743.6746819906571},633,null,null,null,null,null,null,0,633,-865.6593149050218,null,null,null,null,null,null,null,null,null,null,null,null,null,40098.11037036973,{"$f":"LOOKUP($AO424,Data!$A$6:$A$1806,Data!$B$6:$B$1806)","v":59.969001770019531},{"$f":"LOOKUP($AO424,Data!$A$6:$A$1806,Data!$C$6:$C$1806)","v":3740.370361328125},{"$f":"LOOKUP($AO424,Data!$A$6:$A$1806,Data!$D$6:$D$1806)","v":350},{"$f":"IF($AS$1=\"+\",LOOKUP($AO424,Data!$A$6:$A$1806,Data!$E$6:$E$1806)*-1,LOOKUP($AO424,Data!$A$6:$A$1806,Data!$E$6:$E$1806))","v":223.01573181152344},{"$f":"LOOKUP($AO424,Data!$A$6:$A$1806,Data!$F$6:$F$1806)","v":16},{"$f":"LOOKUP($AO424,Data!$A$6:$A$1806,Data!$G$6:$G$1806)","v":403.5},{"$f":"LOOKUP($AO424,Data!$A$6:$A$1806,Data!$H$6:$H$1806)","v":10},{"$f":"LOOKUP($AO424,Data!$A$6:$A$1806,Data!$I$6:$I$1806)","v":0},{"$f":"LOOKUP($AO424,Data!$A$6:$A$1806,Data!$J$6:$J$1806)","v":-103},{"$f":"LOOKUP($AO424,Data!$A$6:$A$1806,Data!$K$6:$K$1806)","v":7766.31},24.798583984375]
[null,40098.110393517876,{"$f":"LOOKUP(B425,Data!$A$6:$A$1806,Data!B$6:B$1806)","v":59.972999572753906},{"$f":"LOOKUP(B425,Data!$A$6:$A$1806,Data!C$6:C$1806)","v":3741.28515625},null,null,null,21.600341796875,22.416214593937262,null,null,0,3788.425661685334,{"$f":"AVERAGE(D$79:D425)","v":3771.849301912599},{"$f":"AVERAGE(M$79:M425)","v":3776.1073833360238},3765.4461564175972,{"$f":"AVERAGE(P$79:P425)","v":3743.737605327151},633,null,null,null,null,null,null,0,633,-915.72372746901021,null,null,null,null,null,null,null,null,null,null,null,null,null,40098.110393517876,{"$f":"LOOKUP($AO425,Data!$A$6:$A$1806,Data!$B$6:$B$1806)","v":59.972999572753906},{"$f":"LOOKUP($AO425,Data!$A$6:$A$1806,Data!$C$6:$C$1806)","v":3741.28515625},{"$f":"LOOKUP($AO425,Data!$A$6:$A$1806,Data!$D$6:$D$1806)","v":350},{"$f":"IF($AS$1=\"+\",LOOKUP($AO425,Data!$A$6:$A$1806,Data!$E$6:$E$1806)*-1,LOOKUP($AO425,Data!$A$6:$A$1806,Data!$E$6:$E$1806))","v":223.01573181152344},{"$f":"LOOKUP($AO425,Data!$A$6:$A$1806,Data!$F$6:$F$1806)","v":16},{"$f":"LOOKUP($AO425,Data!$A$6:$A$1806,Data!$G$6:$G$1806)","v":404},{"$f":"LOOKUP($AO425,Data!$A$6:$A$1806,Data!$H$6:$H$1806)","v":10},{"$f":"LOOKUP($AO425,Data!$A$6:$A$1806,Data!$I$6:$I$1806)","v":0},{"$f":"LOOKUP($AO425,Data!$A$6:$A$1806,Data!$J$6:$J$1806)","v":-103},{"$f":"LOOKUP($AO425,Data!$A$6:$A$1806,Data!$K$6:$K$1806)","v":7766.64},21.600341796875]
[null,40098.110416666023,{"$f":"LOOKUP(B426,Data!$A$6:$A$1806,Data!B$6:B$1806)","v":59.9739990234375},{"$f":"LOOKUP(B426,Data!$A$6:$A$1806,Data!C$6:C$1806)","v":3746.65087890625},null,null,null,20.80078125,21.850812923559221,null,null,0,3787.8602600149561,{"$f":"AVERAGE(D$79:D426)","v":3771.7768926510867},{"$f":"AVERAGE(M$79:M426)","v":3776.1411559701583},3765.4461564175972,{"$f":"AVERAGE(P$79:P426)","v":3743.8001659931174},633,null,null,null,null,null,null,0,633,-929.15792288148054,null,null,null,null,null,null,null,null,null,null,null,null,null,40098.110416666023,{"$f":"LOOKUP($AO426,Data!$A$6:$A$1806,Data!$B$6:$B$1806)","v":59.9739990234375},{"$f":"LOOKUP($AO426,Data!$A$6:$A$1806,Data!$C$6:$C$1806)","v":3746.65087890625},{"$f":"LOOKUP($AO426,Data!$A$6:$A$1806,Data!$D$6:$D$1806)","v":350},{"$f":"IF($AS$1=\"+\",LOOKUP($AO426,Data!$A$6:$A$1806,Data!$E$6:$E$1806)*-1,LOOKUP($AO426,Data!$A$6:$A$1806,Data!$E$6:$E$1806))","v":223.01573181152344},{"$f":"LOOKUP($AO426,Data!$A$6:$A$1806,Data!$F$6:$F$1806)","v":16},{"$f":"LOOKUP($AO426,Data!$A$6:$A$1806,Data!$G$6:$G$1806)","v":404.5},{"$f":"LOOKUP($AO426,Data!$A$6:$A$1806,Data!$H$6:$H$1806)","v":10},{"$f":"LOOKUP($AO426,Data!$A$6:$A$1806,Data!$I$6:$I$1806)","v":0},{"$f":"LOOKUP($AO426,Data!$A$6:$A$1806,Data!$J$6:$J$1806)","v":-103},{"$f":"LOOKUP($AO426,Data!$A$6:$A$1806,Data!$K$6:$K$1806)","v":7766.97},20.80078125]
[null,40098.110439814169,{"$f":"LOOKUP(B427,Data!$A$6:$A$1806,Data!B$6:B$1806)","v":59.978000640869141},{"$f":"LOOKUP(B427,Data!$A$6:$A$1806,Data!C$6:C$1806)","v":3745.73828125},null,null,null,17.5994873046875,{"$f":"L$13*H427+(1-L$13)*I426","v":20.362848956954117},null,null,0,3786.372296048351,{"$f":"AVERAGE(D$79:D427)","v":3771.7022834493641},{"$f":"AVERAGE(M$79:M427)","v":3776.1704715577748},3765.4461564175972,{"$f":"AVERAGE(P$79:P427)","v":3743.8623671150262},633,null,null,null,null,null,null,0,{"$f":"SUM(R427:Y427)","v":633},-987.14090378423396,null,null,null,null,null,null,null,null,null,null,null,null,null,40098.110439814169,{"$f":"LOOKUP($AO427,Data!$A$6:$A$1806,Data!$B$6:$B$1806)","v":59.978000640869141},{"$f":"LOOKUP($AO427,Data!$A$6:$A$1806,Data!$C$6:$C$1806)","v":3745.73828125},{"$f":"LOOKUP($AO427,Data!$A$6:$A$1806,Data!$D$6:$D$1806)","v":350},{"$f":"IF($AS$1=\"+\",LOOKUP($AO427,Data!$A$6:$A$1806,Data!$E$6:$E$1806)*-1,LOOKUP($AO427,Data!$A$6:$A$1806,Data!$E$6:$E$1806))","v":223.01573181152344},{"$f":"LOOKUP($AO427,Data!$A$6:$A$1806,Data!$F$6:$F$1806)","v":16},{"$f":"LOOKUP($AO427,Data!$A$6:$A$1806,Data!$G$6:$G$1806)","v":405},{"$f":"LOOKUP($AO427,Data!$A$6:$A$1806,Data!$H$6:$H$1806)","v":10},{"$f":"LOOKUP($AO427,Data!$A$6:$A$1806,Data!$I$6:$I$1806)","v":0},{"$f":"LOOKUP($AO427,Data!$A$6:$A$1806,Data!$J$6:$J$1806)","v":-103},{"$f":"LOOKUP($AO427,Data!$A$6:$A$1806,Data!$K$6:$K$1806)","v":7767.3},17.5994873046875]
[null,40098.110462962315,{"$f":"LOOKUP(B428,Data!$A$6:$A$1806,Data!B$6:B$1806)","v":59.980998992919922},{"$f":"LOOKUP(B428,Data!$A$6:$A$1806,Data!C$6:C$1806)","v":3743.3505859375},null,null,null,{"$f":"(IF((C428-L$2)>0,((C428-L$2-L$5)/((L$4*L$2)-L$5)*L$3*-1),((C428-L$2+L$5)/((L$4*L$2)-L$5)*L$3*-1)))","v":15.2008056640625},18.556133804442052,null,null,0,3784.565580895839,{"$f":"AVERAGE(D$79:D428)","v":3771.6212785993303},{"$f":"AVERAGE(M$79:M428)","v":3776.194457584455},3765.4461564175972,{"$f":"AVERAGE(P$79:P428)","v":3743.9242117835147},633,null,null,null,null,null,null,0,633,-1035.5619474066043,null,null,null,null,null,null,null,null,null,null,null,null,null,40098.110462962315,{"$f":"LOOKUP($AO428,Data!$A$6:$A$1806,Data!$B$6:$B$1806)","v":59.980998992919922},{"$f":"LOOKUP($AO428,Data!$A$6:$A$1806,Data!$C$6:$C$1806)","v":3743.3505859375},{"$f":"LOOKUP($AO428,Data!$A$6:$A$1806,Data!$D$6:$D$1806)","v":350},{"$f":"IF($AS$1=\"+\",LOOKUP($AO428,Data!$A$6:$A$1806,Data!$E$6:$E$1806)*-1,LOOKUP($AO428,Data!$A$6:$A$1806,Data!$E$6:$E$1806))","v":223.01573181152344},{"$f":"LOOKUP($AO428,Data!$A$6:$A$1806,Data!$F$6:$F$1806)","v":16},{"$f":"LOOKUP($AO428,Data!$A$6:$A$1806,Data!$G$6:$G$1806)","v":405.5},{"$f":"LOOKUP($AO428,Data!$A$6:$A$1806,Data!$H$6:$H$1806)","v":10},{"$f":"LOOKUP($AO428,Data!$A$6:$A$1806,Data!$I$6:$I$1806)","v":0},{"$f":"LOOKUP($AO428,Data!$A$6:$A$1806,Data!$J$6:$J$1806)","v":-103},{"$f":"LOOKUP($AO428,Data!$A$6:$A$1806,Data!$K$6:$K$1806)","v":7767.63},{"$f":"(IF((AP428-$L$2)>0,((AP428-$L$2-$L$5)/(($L$4*$L$2)-$L$5)*$L$3*-1),((AP428-$L$2+$L$5)/(($L$4*$L$2)-$L$5)*$L$3*-1)))","v":15.2008056640625}]
[null,40098.110486110461,{"$f":"LOOKUP(B429,Data!$A$6:$A$1806,Data!B$6:B$1806)","v":59.980998992919922},{"$f":"LOOKUP(B429,Data!$A$6:$A$1806,Data!C$6:C$1806)","v":3741.6181640625},null,null,null,15.2008056640625,17.381768955309209,null,null,0,3783.3912160467062,{"$f":"AVERAGE(D$79:D429)","v":3771.535799640536},{"$f":"AVERAGE(M$79:M429)","v":3776.2149611698173},3765.4461564175972,{"$f":"AVERAGE(P$79:P429)","v":3743.9857030538974},633,null,null,null,null,null,null,0,633,-1035.5619474066043,null,null,null,null,null,null,null,null,null,null,null,null,null,40098.110486110461,{"$f":"LOOKUP($AO429,Data!$A$6:$A$1806,Data!$B$6:$B$1806)","v":59.980998992919922},{"$f":"LOOKUP($AO429,Data!$A$6:$A$1806,Data!$C$6:$C$1806)","v":3741.6181640625},{"$f":"LOOKUP($AO429,Data!$A$6:$A$1806,Data!$D$6:$D$1806)","v":350},{"$f":"IF($AS$1=\"+\",LOOKUP($AO429,Data!$A$6:$A$1806,Data!$E$6:$E$1806)*-1,LOOKUP($AO429,Data!$A$6:$A$1806,Data!$E$6:$E$1806))","v":223.01573181152344},{"$f":"LOOKUP($AO429,Data!$A$6:$A$1806,Data!$F$6:$F$1806)","v":16},{"$f":"LOOKUP($AO429,Data!$A$6:$A$1806,Data!$G$6:$G$1806)","v":406},{"$f":"LOOKUP($AO429,Data!$A$6:$A$1806,Data!$H$6:$H$1806)","v":10},{"$f":"LOOKUP($AO429,Data!$A$6:$A$1806,Data!$I$6:$I$1806)","v":0},{"$f":"LOOKUP($AO429,Data!$A$6:$A$1806,Data!$J$6:$J$1806)","v":-103},{"$f":"LOOKUP($AO429,Data!$A$6:$A$1806,Data!$K$6:$K$1806)","v":7767.96},15.2008056640625]
[null,{"$f":"B429+TIME(0,0,$B$1)","v":40098.110509258608},{"$f":"LOOKUP(B430,Data!$A$6:$A$1806,Data!B$6:B$1806)","v":59.980998992919922},{"$f":"LOOKUP(B430,Data!$A$6:$A$1806,Data!C$6:C$1806)","v":3740.306396484375},null,null,null,15.2008056640625,16.618431803372861,null,null,0,3782.6278788947698,{"$f":"AVERAGE(D$79:D430)","v":3771.4470797452059},{"$f":"AVERAGE(M$79:M430)","v":3776.2331796860817},3765.4461564175972,{"$f":"AVERAGE(P$79:P430)","v":3744.0468439466713},633,null,null,null,null,null,null,0,633,-1035.5619474066043,null,null,null,null,null,null,null,null,null,null,null,null,null,40098.110509258608,{"$f":"LOOKUP($AO430,Data!$A$6:$A$1806,Data!$B$6:$B$1806)","v":59.980998992919922},{"$f":"LOOKUP($AO430,Data!$A$6:$A$1806,Data!$C$6:$C$1806)","v":3740.306396484375},{"$f":"LOOKUP($AO430,Data!$A$6:$A$1806,Data!$D$6:$D$1806)","v":350},{"$f":"IF($AS$1=\"+\",LOOKUP($AO430,Data!$A$6:$A$1806,Data!$E$6:$E$1806)*-1,LOOKUP($AO430,Data!$A$6:$A$1806,Data!$E$6:$E$1806))","v":223.01573181152344},{"$f":"LOOKUP($AO430,Data!$A$6:$A$1806,Data!$F$6:$F$1806)","v":16},{"$f":"LOOKUP($AO430,Data!$A$6:$A$1806,Data!$G$6:$G$1806)","v":406.5},{"$f":"LOOKUP($AO430,Data!$A$6:$A$1806,Data!$H$6:$H$1806)","v":10},{"$f":"LOOKUP($AO430,Data!$A$6:$A$1806,Data!$I$6:$I$1806)","v":0},{"$f":"LOOKUP($AO430,Data!$A$6:$A$1806,Data!$J$6:$J$1806)","v":-103},{"$f":"LOOKUP($AO430,Data!$A$6:$A$1806,Data!$K$6:$K$1806)","v":7768.29},15.2008056640625]
[null,40098.110532406754,{"$f":"LOOKUP(B431,Data!$A$6:$A$1806,Data!B$6:B$1806)","v":59.981998443603516},{"$f":"LOOKUP(B431,Data!$A$6:$A$1806,Data!C$6:C$1806)","v":3738.484375},null,null,null,14.4012451171875,15.842416463207986,null,null,0,3781.8518635546047,{"$f":"AVERAGE(D$79:D431)","v":3771.3537009782226},{"$f":"AVERAGE(M$79:M431)","v":3776.2490966375508},3765.4461564175972,{"$f":"AVERAGE(P$79:P431)","v":3744.107637448009},633,null,null,null,null,null,null,0,633,-1052.7754597723938,null,null,null,null,null,null,null,null,null,null,null,null,null,40098.110532406754,{"$f":"LOOKUP($AO431,Data!$A$6:$A$1806,Data!$B$6:$B$1806)","v":59.981998443603516},{"$f":"LOOKUP($AO431,Data!$A$6:$A$1806,Data!$C$6:$C$1806)","v":3738.484375},{"$f":"LOOKUP($AO431,Data!$A$6:$A$1806,Data!$D$6:$D$1806)","v":350},{"$f":"IF($AS$1=\"+\",LOOKUP($AO431,Data!$A$6:$A$1806,Data!$E$6:$E$1806)*-1,LOOKUP($AO431,Data!$A$6:$A$1806,Data!$E$6:$E$1806))","v":223.01573181152344},{"$f":"LOOKUP($AO431,Data!$A$6:$A$1806,Data!$F$6:$F$1806)","v":16},{"$f":"LOOKUP($AO431,Data!$A$6:$A$1806,Data!$G$6:$G$1806)","v":407},{"$f":"LOOKUP($AO431,Data!$A$6:$A$1806,Data!$H$6:$H$1806)","v":10},{"$f":"LOOKUP($AO431,Data!$A$6:$A$1806,Data!$I$6:$I$1806)","v":0},{"$f":"LOOKUP($AO431,Data!$A$6:$A$1806,Data!$J$6:$J$1806)","v":-103},{"$f":"LOOKUP($AO431,Data!$A$6:$A$1806,Data!$K$6:$K$1806)","v":7768.62},14.4012451171875]
[null,40098.1105555549,{"$f":"LOOKUP(B432,Data!$A$6:$A$1806,Data!B$6:B$1806)","v":59.981998443603516},{"$f":"LOOKUP(B432,Data!$A$6:$A$1806,Data!C$6:C$1806)","v":3738.9013671875},null,null,null,14.4012451171875,15.338006492100815,null,null,0,3781.3474535834976,{"$f":"AVERAGE(D$79:D432)","v":3771.2620277189267},{"$f":"AVERAGE(M$79:M432)","v":3776.2634987758161},3765.4461564175972,{"$f":"AVERAGE(P$79:P432)","v":3744.1680865102453},633,null,null,null,null,null,null,0,633,-1052.7754597723938,null,null,null,null,null,null,null,null,null,null,null,null,null,40098.1105555549,{"$f":"LOOKUP($AO432,Data!$A$6:$A$1806,Data!$B$6:$B$1806)","v":59.981998443603516},{"$f":"LOOKUP($AO432,Data!$A$6:$A$1806,Data!$C$6:$C$1806)","v":3738.9013671875},{"$f":"LOOKUP($AO432,Data!$A$6:$A$1806,Data!$D$6:$D$1806)","v":350},{"$f":"IF($AS$1=\"+\",LOOKUP($AO432,Data!$A$6:$A$1806,Data!$E$6:$E$1806)*-1,LOOKUP($AO432,Data!$A$6:$A$1806,Data!$E$6:$E$1806))","v":223.01573181152344},{"$f":"LOOKUP($AO432,Data!$A$6:$A$1806,Data!$F$6:$F$1806)","v":16},{"$f":"LOOKUP($AO432,Data!$A$6:$A$1806,Data!$G$6:$G$1806)","v":407.5},{"$f":"LOOKUP($AO432,Data!$A$6:$A$1806,Data!$H$6:$H$1806)","v":10},{"$f":"LOOKUP($AO432,Data!$A$6:$A$1806,Data!$I$6:$I$1806)","v":0},{"$f":"LOOKUP($AO432,Data!$A$6:$A$1806,Data!$J$6:$J$1806)","v":-103},{"$f":"LOOKUP($AO432,Data!$A$6:$A$1806,Data!$K$6:$K$1806)","v":7768.95},14.4012451171875]
[null,40098.110578703046,{"$f":"LOOKUP(B433,Data!$A$6:$A$1806,Data!B$6:B$1806)","v":59.984001159667969},{"$f":"LOOKUP(B433,Data!$A$6:$A$1806,Data!C$6:C$1806)","v":3737.403564453125},null,null,null,12.799072265625,14.44937951283428,null,null,0,3780.458826604231,{"$f":"AVERAGE(D$79:D433)","v":3771.1666517660651},{"$f":"AVERAGE(M$79:M433)","v":3776.2753166006851},3765.4461564175972,{"$f":"AVERAGE(P$79:P433)","v":3744.2281940523562},633,null,null,null,null,null,null,0,633,-1089.0497690635382,null,null,null,null,null,null,null,null,null,null,null,null,null,40098.110578703046,{"$f":"LOOKUP($AO433,Data!$A$6:$A$1806,Data!$B$6:$B$1806)","v":59.984001159667969},{"$f":"LOOKUP($AO433,Data!$A$6:$A$1806,Data!$C$6:$C$1806)","v":3737.403564453125},{"$f":"LOOKUP($AO433,Data!$A$6:$A$1806,Data!$D$6:$D$1806)","v":350},{"$f":"IF($AS$1=\"+\",LOOKUP($AO433,Data!$A$6:$A$1806,Data!$E$6:$E$1806)*-1,LOOKUP($AO433,Data!$A$6:$A$1806,Data!$E$6:$E$1806))","v":223.01573181152344},{"$f":"LOOKUP($AO433,Data!$A$6:$A$1806,Data!$F$6:$F$1806)","v":16},{"$f":"LOOKUP($AO433,Data!$A$6:$A$1806,Data!$G$6:$G$1806)","v":408},{"$f":"LOOKUP($AO433,Data!$A$6:$A$1806,Data!$H$6:$H$1806)","v":10},{"$f":"LOOKUP($AO433,Data!$A$6:$A$1806,Data!$I$6:$I$1806)","v":0},{"$f":"LOOKUP($AO433,Data!$A$6:$A$1806,Data!$J$6:$J$1806)","v":-103},{"$f":"LOOKUP($AO433,Data!$A$6:$A$1806,Data!$K$6:$K$1806)","v":7769.28},12.799072265625]
[null,40098.110601851193,{"$f":"LOOKUP(B434,Data!$A$6:$A$1806,Data!B$6:B$1806)","v":59.981998443603516},{"$f":"LOOKUP(B434,Data!$A$6:$A$1806,Data!C$6:C$1806)","v":3737.273193359375},null,null,null,14.4012451171875,14.432532474357908,null,null,0,3780.4419795657545,{"$f":"AVERAGE(D$79:D434)","v":3771.0714454222261},{"$f":"AVERAGE(M$79:M434)","v":3776.2870207101373},3765.4461564175972,{"$f":"AVERAGE(P$79:P434)","v":3744.2879629604267},633,null,null,null,null,null,null,0,633,-1052.7754597723938,null,null,null,null,null,null,null,null,null,null,null,null,null,40098.110601851193,{"$f":"LOOKUP($AO434,Data!$A$6:$A$1806,Data!$B$6:$B$1806)","v":59.981998443603516},{"$f":"LOOKUP($AO434,Data!$A$6:$A$1806,Data!$C$6:$C$1806)","v":3737.273193359375},{"$f":"LOOKUP($AO434,Data!$A$6:$A$1806,Data!$D$6:$D$1806)","v":350},{"$f":"IF($AS$1=\"+\",LOOKUP($AO434,Data!$A$6:$A$1806,Data!$E$6:$E$1806)*-1,LOOKUP($AO434,Data!$A$6:$A$1806,Data!$E$6:$E$1806))","v":223.01573181152344},{"$f":"LOOKUP($AO434,Data!$A$6:$A$1806,Data!$F$6:$F$1806)","v":16},{"$f":"LOOKUP($AO434,Data!$A$6:$A$1806,Data!$G$6:$G$1806)","v":408.5},{"$f":"LOOKUP($AO434,Data!$A$6:$A$1806,Data!$H$6:$H$1806)","v":10},{"$f":"LOOKUP($AO434,Data!$A$6:$A$1806,Data!$I$6:$I$1806)","v":0},{"$f":"LOOKUP($AO434,Data!$A$6:$A$1806,Data!$J$6:$J$1806)","v":-103},{"$f":"LOOKUP($AO434,Data!$A$6:$A$1806,Data!$K$6:$K$1806)","v":7769.61},14.4012451171875]
[null,40098.110624999339,{"$f":"LOOKUP(B435,Data!$A$6:$A$1806,Data!B$6:B$1806)","v":59.980998992919922},{"$f":"LOOKUP(B435,Data!$A$6:$A$1806,Data!C$6:C$1806)","v":3736.308349609375},null,null,null,15.2008056640625,14.701428090754515,null,null,0,3780.7108751821511,{"$f":"AVERAGE(D$79:D435)","v":3770.9740698037026},{"$f":"AVERAGE(M$79:M435)","v":3776.2994124593588},3765.4461564175972,{"$f":"AVERAGE(P$79:P435)","v":3744.3473960881151},633,null,null,null,null,null,null,0,633,-1035.5619474066043,null,null,null,null,null,null,null,null,null,null,null,null,null,40098.110624999339,{"$f":"LOOKUP($AO435,Data!$A$6:$A$1806,Data!$B$6:$B$1806)","v":59.980998992919922},{"$f":"LOOKUP($AO435,Data!$A$6:$A$1806,Data!$C$6:$C$1806)","v":3736.308349609375},{"$f":"LOOKUP($AO435,Data!$A$6:$A$1806,Data!$D$6:$D$1806)","v":350},{"$f":"IF($AS$1=\"+\",LOOKUP($AO435,Data!$A$6:$A$1806,Data!$E$6:$E$1806)*-1,LOOKUP($AO435,Data!$A$6:$A$1806,Data!$E$6:$E$1806))","v":223.01573181152344},{"$f":"LOOKUP($AO435,Data!$A$6:$A$1806,Data!$F$6:$F$1806)","v":16},{"$f":"LOOKUP($AO435,Data!$A$6:$A$1806,Data!$G$6:$G$1806)","v":409},{"$f":"LOOKUP($AO435,Data!$A$6:$A$1806,Data!$H$6:$H$1806)","v":10},{"$f":"LOOKUP($AO435,Data!$A$6:$A$1806,Data!$I$6:$I$1806)","v":0},{"$f":"LOOKUP($AO435,Data!$A$6:$A$1806,Data!$J$6:$J$1806)","v":-103},{"$f":"LOOKUP($AO435,Data!$A$6:$A$1806,Data!$K$6:$K$1806)","v":7769.94},15.2008056640625]
[null,40098.110648147485,{"$f":"LOOKUP(B436,Data!$A$6:$A$1806,Data!B$6:B$1806)","v":59.979000091552734},{"$f":"LOOKUP(B436,Data!$A$6:$A$1806,Data!C$6:C$1806)","v":3736.27197265625},null,null,null,16.7999267578125,15.435902624224809,null,null,0,3781.4453497156214,{"$f":"AVERAGE(D$79:D436)","v":3770.8771365714474},{"$f":"AVERAGE(M$79:M436)","v":3776.313786585773},3765.4461564175972,{"$f":"AVERAGE(P$79:P436)","v":3744.4064962571051},633,null,null,null,null,null,null,0,633,-1002.7701562889495,null,null,null,null,null,null,null,null,null,null,null,null,null,40098.110648147485,{"$f":"LOOKUP($AO436,Data!$A$6:$A$1806,Data!$B$6:$B$1806)","v":59.979000091552734},{"$f":"LOOKUP($AO436,Data!$A$6:$A$1806,Data!$C$6:$C$1806)","v":3736.27197265625},{"$f":"LOOKUP($AO436,Data!$A$6:$A$1806,Data!$D$6:$D$1806)","v":350},{"$f":"IF($AS$1=\"+\",LOOKUP($AO436,Data!$A$6:$A$1806,Data!$E$6:$E$1806)*-1,LOOKUP($AO436,Data!$A$6:$A$1806,Data!$E$6:$E$1806))","v":223.01573181152344},{"$f":"LOOKUP($AO436,Data!$A$6:$A$1806,Data!$F$6:$F$1806)","v":16},{"$f":"LOOKUP($AO436,Data!$A$6:$A$1806,Data!$G$6:$G$1806)","v":409.5},{"$f":"LOOKUP($AO436,Data!$A$6:$A$1806,Data!$H$6:$H$1806)","v":10},{"$f":"LOOKUP($AO436,Data!$A$6:$A$1806,Data!$I$6:$I$1806)","v":0},{"$f":"LOOKUP($AO436,Data!$A$6:$A$1806,Data!$J$6:$J$1806)","v":-103},{"$f":"LOOKUP($AO436,Data!$A$6:$A$1806,Data!$K$6:$K$1806)","v":7770.27},16.7999267578125]
[null,40098.110671295632,{"$f":"LOOKUP(B437,Data!$A$6:$A$1806,Data!B$6:B$1806)","v":59.979999542236328},{"$f":"LOOKUP(B437,Data!$A$6:$A$1806,Data!C$6:C$1806)","v":3735.4482421875},null,null,null,16.0003662109375,15.633464879574252,null,null,0,3781.642911970971,{"$f":"AVERAGE(D$79:D437)","v":3770.7784488433581},{"$f":"AVERAGE(M$79:M437)","v":3776.3286309461778},3765.4461564175972,{"$f":"AVERAGE(P$79:P437)","v":3744.4652662575531},633,null,null,null,null,null,null,0,633,-1018.9022818853762,null,null,null,null,null,null,null,null,null,null,null,null,null,40098.110671295632,{"$f":"LOOKUP($AO437,Data!$A$6:$A$1806,Data!$B$6:$B$1806)","v":59.979999542236328},{"$f":"LOOKUP($AO437,Data!$A$6:$A$1806,Data!$C$6:$C$1806)","v":3735.4482421875},{"$f":"LOOKUP($AO437,Data!$A$6:$A$1806,Data!$D$6:$D$1806)","v":350},{"$f":"IF($AS$1=\"+\",LOOKUP($AO437,Data!$A$6:$A$1806,Data!$E$6:$E$1806)*-1,LOOKUP($AO437,Data!$A$6:$A$1806,Data!$E$6:$E$1806))","v":223.01573181152344},{"$f":"LOOKUP($AO437,Data!$A$6:$A$1806,Data!$F$6:$F$1806)","v":16},{"$f":"LOOKUP($AO437,Data!$A$6:$A$1806,Data!$G$6:$G$1806)","v":410},{"$f":"LOOKUP($AO437,Data!$A$6:$A$1806,Data!$H$6:$H$1806)","v":10},{"$f":"LOOKUP($AO437,Data!$A$6:$A$1806,Data!$I$6:$I$1806)","v":0},{"$f":"LOOKUP($AO437,Data!$A$6:$A$1806,Data!$J$6:$J$1806)","v":-103},{"$f":"LOOKUP($AO437,Data!$A$6:$A$1806,Data!$K$6:$K$1806)","v":7770.6},16.0003662109375]
[null,40098.110694443778,{"$f":"LOOKUP(B438,Data!$A$6:$A$1806,Data!B$6:B$1806)","v":59.978000640869141},{"$f":"LOOKUP(B438,Data!$A$6:$A$1806,Data!C$6:C$1806)","v":3735.649658203125},null,null,null,17.5994873046875,16.32157272836389,null,null,0,3782.3310198197605,{"$f":"AVERAGE(D$79:D438)","v":3770.6808688693577},{"$f":"AVERAGE(M$79:M438)","v":3776.3453042486044},3765.4461564175972,{"$f":"AVERAGE(P$79:P438)","v":3744.5237088485278},633,null,null,null,null,null,null,0,633,-987.14090378423396,null,null,null,null,null,null,null,null,null,null,null,null,null,40098.110694443778,{"$f":"LOOKUP($AO438,Data!$A$6:$A$1806,Data!$B$6:$B$1806)","v":59.978000640869141},{"$f":"LOOKUP($AO438,Data!$A$6:$A$1806,Data!$C$6:$C$1806)","v":3735.649658203125},{"$f":"LOOKUP($AO438,Data!$A$6:$A$1806,Data!$D$6:$D$1806)","v":350},{"$f":"IF($AS$1=\"+\",LOOKUP($AO438,Data!$A$6:$A$1806,Data!$E$6:$E$1806)*-1,LOOKUP($AO438,Data!$A$6:$A$1806,Data!$E$6:$E$1806))","v":223.01573181152344},{"$f":"LOOKUP($AO438,Data!$A$6:$A$1806,Data!$F$6:$F$1806)","v":16},{"$f":"LOOKUP($AO438,Data!$A$6:$A$1806,Data!$G$6:$G$1806)","v":410.5},{"$f":"LOOKUP($AO438,Data!$A$6:$A$1806,Data!$H$6:$H$1806)","v":10},{"$f":"LOOKUP($AO438,Data!$A$6:$A$1806,Data!$I$6:$I$1806)","v":0},{"$f":"LOOKUP($AO438,Data!$A$6:$A$1806,Data!$J$6:$J$1806)","v":-103},{"$f":"LOOKUP($AO438,Data!$A$6:$A$1806,Data!$K$6:$K$1806)","v":7770.93},17.5994873046875]
[null,40098.110717591924,{"$f":"LOOKUP(B439,Data!$A$6:$A$1806,Data!B$6:B$1806)","v":59.978000640869141},{"$f":"LOOKUP(B439,Data!$A$6:$A$1806,Data!C$6:C$1806)","v":3737.54052734375},null,null,null,17.5994873046875,16.768842830077155,null,null,0,3782.778289921474,{"$f":"AVERAGE(D$79:D439)","v":3770.5890673692866},{"$f":"AVERAGE(M$79:M439)","v":3776.3631241535154},3765.4461564175972,{"$f":"AVERAGE(P$79:P439)","v":3744.5818267584418},633,null,null,null,null,null,null,0,633,-987.14090378423396,null,null,null,null,null,null,null,null,null,null,null,null,null,40098.110717591924,{"$f":"LOOKUP($AO439,Data!$A$6:$A$1806,Data!$B$6:$B$1806)","v":59.978000640869141},{"$f":"LOOKUP($AO439,Data!$A$6:$A$1806,Data!$C$6:$C$1806)","v":3737.54052734375},{"$f":"LOOKUP($AO439,Data!$A$6:$A$1806,Data!$D$6:$D$1806)","v":350},{"$f":"IF($AS$1=\"+\",LOOKUP($AO439,Data!$A$6:$A$1806,Data!$E$6:$E$1806)*-1,LOOKUP($AO439,Data!$A$6:$A$1806,Data!$E$6:$E$1806))","v":223.01573181152344},{"$f":"LOOKUP($AO439,Data!$A$6:$A$1806,Data!$F$6:$F$1806)","v":16},{"$f":"LOOKUP($AO439,Data!$A$6:$A$1806,Data!$G$6:$G$1806)","v":411},{"$f":"LOOKUP($AO439,Data!$A$6:$A$1806,Data!$H$6:$H$1806)","v":10},{"$f":"LOOKUP($AO439,Data!$A$6:$A$1806,Data!$I$6:$I$1806)","v":0},{"$f":"LOOKUP($AO439,Data!$A$6:$A$1806,Data!$J$6:$J$1806)","v":-103},{"$f":"LOOKUP($AO439,Data!$A$6:$A$1806,Data!$K$6:$K$1806)","v":7771.26},17.5994873046875]
[null,40098.11074074007,{"$f":"LOOKUP(B440,Data!$A$6:$A$1806,Data!B$6:B$1806)","v":59.979999542236328},{"$f":"LOOKUP(B440,Data!$A$6:$A$1806,Data!C$6:C$1806)","v":3738.011962890625},null,null,null,16.0003662109375,16.499876013378277,null,null,0,3782.5093231047749,{"$f":"AVERAGE(D$79:D440)","v":3770.4990753679645},{"$f":"AVERAGE(M$79:M440)","v":3776.3801026036572},3765.4461564175972,{"$f":"AVERAGE(P$79:P440)","v":3744.6396226854749},633,null,null,null,null,null,null,0,633,-1018.9022818853762,null,null,null,null,null,null,null,null,null,null,null,null,null,40098.11074074007,{"$f":"LOOKUP($AO440,Data!$A$6:$A$1806,Data!$B$6:$B$1806)","v":59.979999542236328},{"$f":"LOOKUP($AO440,Data!$A$6:$A$1806,Data!$C$6:$C$1806)","v":3738.011962890625},{"$f":"LOOKUP($AO440,Data!$A$6:$A$1806,Data!$D$6:$D$1806)","v":350},{"$f":"IF($AS$1=\"+\",LOOKUP($AO440,Data!$A$6:$A$1806,Data!$E$6:$E$1806)*-1,LOOKUP($AO440,Data!$A$6:$A$1806,Data!$E$6:$E$1806))","v":223.01573181152344},{"$f":"LOOKUP($AO440,Data!$A$6:$A$1806,Data!$F$6:$F$1806)","v":16},{"$f":"LOOKUP($AO440,Data!$A$6:$A$1806,Data!$G$6:$G$1806)","v":411.5},{"$f":"LOOKUP($AO440,Data!$A$6:$A$1806,Data!$H$6:$H$1806)","v":10},{"$f":"LOOKUP($AO440,Data!$A$6:$A$1806,Data!$I$6:$I$1806)","v":0},{"$f":"LOOKUP($AO440,Data!$A$6:$A$1806,Data!$J$6:$J$1806)","v":-103},{"$f":"LOOKUP($AO440,Data!$A$6:$A$1806,Data!$K$6:$K$1806)","v":7771.59},16.0003662109375]
[null,40098.110763888217,{"$f":"LOOKUP(B441,Data!$A$6:$A$1806,Data!B$6:B$1806)","v":59.980998992919922},{"$f":"LOOKUP(B441,Data!$A$6:$A$1806,Data!C$6:C$1806)","v":3736.74755859375},null,null,null,15.2008056640625,16.045201391117757,null,null,0,3782.0546484825145,{"$f":"AVERAGE(D$79:D441)","v":3770.4060959829117},{"$f":"AVERAGE(M$79:M441)","v":3776.3957349614498},3765.4461564175972,{"$f":"AVERAGE(P$79:P441)","v":3744.6970992979946},633,null,null,null,null,null,null,0,633,-1035.5619474066043,null,null,null,null,null,null,null,null,null,null,null,null,null,40098.110763888217,{"$f":"LOOKUP($AO441,Data!$A$6:$A$1806,Data!$B$6:$B$1806)","v":59.980998992919922},{"$f":"LOOKUP($AO441,Data!$A$6:$A$1806,Data!$C$6:$C$1806)","v":3736.74755859375},{"$f":"LOOKUP($AO441,Data!$A$6:$A$1806,Data!$D$6:$D$1806)","v":350},{"$f":"IF($AS$1=\"+\",LOOKUP($AO441,Data!$A$6:$A$1806,Data!$E$6:$E$1806)*-1,LOOKUP($AO441,Data!$A$6:$A$1806,Data!$E$6:$E$1806))","v":223.01573181152344},{"$f":"LOOKUP($AO441,Data!$A$6:$A$1806,Data!$F$6:$F$1806)","v":16},{"$f":"LOOKUP($AO441,Data!$A$6:$A$1806,Data!$G$6:$G$1806)","v":412},{"$f":"LOOKUP($AO441,Data!$A$6:$A$1806,Data!$H$6:$H$1806)","v":10},{"$f":"LOOKUP($AO441,Data!$A$6:$A$1806,Data!$I$6:$I$1806)","v":0},{"$f":"LOOKUP($AO441,Data!$A$6:$A$1806,Data!$J$6:$J$1806)","v":-103},{"$f":"LOOKUP($AO441,Data!$A$6:$A$1806,Data!$K$6:$K$1806)","v":7771.92},15.2008056640625]
[null,40098.110787036363,{"$f":"LOOKUP(B442,Data!$A$6:$A$1806,Data!B$6:B$1806)","v":59.979999542236328},{"$f":"LOOKUP(B442,Data!$A$6:$A$1806,Data!C$6:C$1806)","v":3736.693115234375},null,null,null,16.0003662109375,16.029509078054666,null,null,0,3782.0389561694515,{"$f":"AVERAGE(D$79:D442)","v":3770.3134779039319},{"$f":"AVERAGE(M$79:M442)","v":3776.411238316417},3765.4461564175972,{"$f":"AVERAGE(P$79:P442)","v":3744.7542592349628},633,null,null,null,null,null,null,0,633,-1018.9022818853762,null,null,null,null,null,null,null,null,null,null,null,null,null,40098.110787036363,{"$f":"LOOKUP($AO442,Data!$A$6:$A$1806,Data!$B$6:$B$1806)","v":59.979999542236328},{"$f":"LOOKUP($AO442,Data!$A$6:$A$1806,Data!$C$6:$C$1806)","v":3736.693115234375},{"$f":"LOOKUP($AO442,Data!$A$6:$A$1806,Data!$D$6:$D$1806)","v":350},{"$f":"IF($AS$1=\"+\",LOOKUP($AO442,Data!$A$6:$A$1806,Data!$E$6:$E$1806)*-1,LOOKUP($AO442,Data!$A$6:$A$1806,Data!$E$6:$E$1806))","v":223.01573181152344},{"$f":"LOOKUP($AO442,Data!$A$6:$A$1806,Data!$F$6:$F$1806)","v":16},{"$f":"LOOKUP($AO442,Data!$A$6:$A$1806,Data!$G$6:$G$1806)","v":412.5},{"$f":"LOOKUP($AO442,Data!$A$6:$A$1806,Data!$H$6:$H$1806)","v":10},{"$f":"LOOKUP($AO442,Data!$A$6:$A$1806,Data!$I$6:$I$1806)","v":0},{"$f":"LOOKUP($AO442,Data!$A$6:$A$1806,Data!$J$6:$J$1806)","v":-103},{"$f":"LOOKUP($AO442,Data!$A$6:$A$1806,Data!$K$6:$K$1806)","v":7772.25},16.0003662109375]
[null,40098.110810184509,{"$f":"LOOKUP(B443,Data!$A$6:$A$1806,Data!B$6:B$1806)","v":59.978000640869141},{"$f":"LOOKUP(B443,Data!$A$6:$A$1806,Data!C$6:C$1806)","v":3736.0673828125},null,null,null,17.5994873046875,16.579001457376158,null,null,0,3782.5884485487732,{"$f":"AVERAGE(D$79:D443)","v":3770.2196529858734},{"$f":"AVERAGE(M$79:M443)","v":3776.4281621800674},3765.4461564175972,{"$f":"AVERAGE(P$79:P443)","v":3744.8111051063433},633,null,null,null,null,null,null,0,633,-987.14090378423396,null,null,null,null,null,null,null,null,null,null,null,null,null,40098.110810184509,{"$f":"LOOKUP($AO443,Data!$A$6:$A$1806,Data!$B$6:$B$1806)","v":59.978000640869141},{"$f":"LOOKUP($AO443,Data!$A$6:$A$1806,Data!$C$6:$C$1806)","v":3736.0673828125},{"$f":"LOOKUP($AO443,Data!$A$6:$A$1806,Data!$D$6:$D$1806)","v":350},{"$f":"IF($AS$1=\"+\",LOOKUP($AO443,Data!$A$6:$A$1806,Data!$E$6:$E$1806)*-1,LOOKUP($AO443,Data!$A$6:$A$1806,Data!$E$6:$E$1806))","v":223.01573181152344},{"$f":"LOOKUP($AO443,Data!$A$6:$A$1806,Data!$F$6:$F$1806)","v":16},{"$f":"LOOKUP($AO443,Data!$A$6:$A$1806,Data!$G$6:$G$1806)","v":413},{"$f":"LOOKUP($AO443,Data!$A$6:$A$1806,Data!$H$6:$H$1806)","v":10},{"$f":"LOOKUP($AO443,Data!$A$6:$A$1806,Data!$I$6:$I$1806)","v":0},{"$f":"LOOKUP($AO443,Data!$A$6:$A$1806,Data!$J$6:$J$1806)","v":-103},{"$f":"LOOKUP($AO443,Data!$A$6:$A$1806,Data!$K$6:$K$1806)","v":7772.58},17.5994873046875]
[null,40098.110833332656,{"$f":"LOOKUP(B444,Data!$A$6:$A$1806,Data!B$6:B$1806)","v":59.976001739501953},{"$f":"LOOKUP(B444,Data!$A$6:$A$1806,Data!C$6:C$1806)","v":3736.09423828125},null,null,null,19.1986083984375,17.495863886747628,null,null,0,3783.5053109781447,{"$f":"AVERAGE(D$79:D444)","v":3770.1264141478823},{"$f":"AVERAGE(M$79:M444)","v":3776.4474986521927},3765.4461564175972,{"$f":"AVERAGE(P$79:P444)","v":3744.8676394934969},633,null,null,null,null,null,null,0,633,-957.29980745794001,null,null,null,null,null,null,null,null,null,null,null,null,null,40098.110833332656,{"$f":"LOOKUP($AO444,Data!$A$6:$A$1806,Data!$B$6:$B$1806)","v":59.976001739501953},{"$f":"LOOKUP($AO444,Data!$A$6:$A$1806,Data!$C$6:$C$1806)","v":3736.09423828125},{"$f":"LOOKUP($AO444,Data!$A$6:$A$1806,Data!$D$6:$D$1806)","v":350},{"$f":"IF($AS$1=\"+\",LOOKUP($AO444,Data!$A$6:$A$1806,Data!$E$6:$E$1806)*-1,LOOKUP($AO444,Data!$A$6:$A$1806,Data!$E$6:$E$1806))","v":223.01573181152344},{"$f":"LOOKUP($AO444,Data!$A$6:$A$1806,Data!$F$6:$F$1806)","v":16},{"$f":"LOOKUP($AO444,Data!$A$6:$A$1806,Data!$G$6:$G$1806)","v":413.5},{"$f":"LOOKUP($AO444,Data!$A$6:$A$1806,Data!$H$6:$H$1806)","v":10},{"$f":"LOOKUP($AO444,Data!$A$6:$A$1806,Data!$I$6:$I$1806)","v":0},{"$f":"LOOKUP($AO444,Data!$A$6:$A$1806,Data!$J$6:$J$1806)","v":-103},{"$f":"LOOKUP($AO444,Data!$A$6:$A$1806,Data!$K$6:$K$1806)","v":7772.91},19.1986083984375]
[null,40098.110856480802,{"$f":"LOOKUP(B445,Data!$A$6:$A$1806,Data!B$6:B$1806)","v":59.972000122070313},{"$f":"LOOKUP(B445,Data!$A$6:$A$1806,Data!C$6:C$1806)","v":3736.574951171875},null,null,null,22.39990234375,19.212277346698457,null,null,0,3785.2217244380954,{"$f":"AVERAGE(D$79:D445)","v":3770.0349932678387},{"$f":"AVERAGE(M$79:M445)","v":3776.4714066243614},3765.4461564175972,{"$f":"AVERAGE(P$79:P445)","v":3744.9238649495733},633,null,null,null,null,null,null,0,633,-902.67247098182406,null,null,null,null,null,null,null,null,null,null,null,null,null,40098.110856480802,{"$f":"LOOKUP($AO445,Data!$A$6:$A$1806,Data!$B$6:$B$1806)","v":59.972000122070313},{"$f":"LOOKUP($AO445,Data!$A$6:$A$1806,Data!$C$6:$C$1806)","v":3736.574951171875},{"$f":"LOOKUP($AO445,Data!$A$6:$A$1806,Data!$D$6:$D$1806)","v":350},{"$f":"IF($AS$1=\"+\",LOOKUP($AO445,Data!$A$6:$A$1806,Data!$E$6:$E$1806)*-1,LOOKUP($AO445,Data!$A$6:$A$1806,Data!$E$6:$E$1806))","v":223.01573181152344},{"$f":"LOOKUP($AO445,Data!$A$6:$A$1806,Data!$F$6:$F$1806)","v":16},{"$f":"LOOKUP($AO445,Data!$A$6:$A$1806,Data!$G$6:$G$1806)","v":414},{"$f":"LOOKUP($AO445,Data!$A$6:$A$1806,Data!$H$6:$H$1806)","v":10},{"$f":"LOOKUP($AO445,Data!$A$6:$A$1806,Data!$I$6:$I$1806)","v":0},{"$f":"LOOKUP($AO445,Data!$A$6:$A$1806,Data!$J$6:$J$1806)","v":-103},{"$f":"LOOKUP($AO445,Data!$A$6:$A$1806,Data!$K$6:$K$1806)","v":7773.24},22.39990234375]
[null,40098.110879628948,{"$f":"LOOKUP(B446,Data!$A$6:$A$1806,Data!B$6:B$1806)","v":59.971000671386719},{"$f":"LOOKUP(B446,Data!$A$6:$A$1806,Data!C$6:C$1806)","v":3738.571044921875},null,null,null,23.199462890625,20.607792287072748,null,null,0,3786.6172393784695,{"$f":"AVERAGE(D$79:D446)","v":3769.9494934082031},{"$f":"AVERAGE(M$79:M446)","v":3776.4989768220626},3765.4461564175972,{"$f":"AVERAGE(P$79:P446)","v":3744.9797839998946},633,null,null,null,null,null,null,0,633,-889.98801011001683,null,null,null,null,null,null,null,null,null,null,null,null,null,40098.110879628948,{"$f":"LOOKUP($AO446,Data!$A$6:$A$1806,Data!$B$6:$B$1806)","v":59.971000671386719},{"$f":"LOOKUP($AO446,Data!$A$6:$A$1806,Data!$C$6:$C$1806)","v":3738.571044921875},{"$f":"LOOKUP($AO446,Data!$A$6:$A$1806,Data!$D$6:$D$1806)","v":350},{"$f":"IF($AS$1=\"+\",LOOKUP($AO446,Data!$A$6:$A$1806,Data!$E$6:$E$1806)*-1,LOOKUP($AO446,Data!$A$6:$A$1806,Data!$E$6:$E$1806))","v":223.01573181152344},{"$f":"LOOKUP($AO446,Data!$A$6:$A$1806,Data!$F$6:$F$1806)","v":16},{"$f":"LOOKUP($AO446,Data!$A$6:$A$1806,Data!$G$6:$G$1806)","v":414.5},{"$f":"LOOKUP($AO446,Data!$A$6:$A$1806,Data!$H$6:$H$1806)","v":10},{"$f":"LOOKUP($AO446,Data!$A$6:$A$1806,Data!$I$6:$I$1806)","v":0},{"$f":"LOOKUP($AO446,Data!$A$6:$A$1806,Data!$J$6:$J$1806)","v":-103},{"$f":"LOOKUP($AO446,Data!$A$6:$A$1806,Data!$K$6:$K$1806)","v":7773.57},23.199462890625]
[null,40098.110902777094,{"$f":"LOOKUP(B447,Data!$A$6:$A$1806,Data!B$6:B$1806)","v":59.969001770019531},{"$f":"LOOKUP(B447,Data!$A$6:$A$1806,Data!C$6:C$1806)","v":3738.874755859375},null,null,null,24.798583984375,22.074569381128537,null,null,0,3788.0840164725255,{"$f":"AVERAGE(D$79:D447)","v":3769.8652800273121},{"$f":"AVERAGE(M$79:M447)","v":3776.5303725934732},3765.4461564175972,{"$f":"AVERAGE(P$79:P447)","v":3745.035399142334},633,null,null,null,null,null,null,0,633,-865.6593149050218,null,null,null,null,null,null,null,null,null,null,null,null,null,40098.110902777094,{"$f":"LOOKUP($AO447,Data!$A$6:$A$1806,Data!$B$6:$B$1806)","v":59.969001770019531},{"$f":"LOOKUP($AO447,Data!$A$6:$A$1806,Data!$C$6:$C$1806)","v":3738.874755859375},{"$f":"LOOKUP($AO447,Data!$A$6:$A$1806,Data!$D$6:$D$1806)","v":350},{"$f":"IF($AS$1=\"+\",LOOKUP($AO447,Data!$A$6:$A$1806,Data!$E$6:$E$1806)*-1,LOOKUP($AO447,Data!$A$6:$A$1806,Data!$E$6:$E$1806))","v":223.01573181152344},{"$f":"LOOKUP($AO447,Data!$A$6:$A$1806,Data!$F$6:$F$1806)","v":16},{"$f":"LOOKUP($AO447,Data!$A$6:$A$1806,Data!$G$6:$G$1806)","v":415},{"$f":"LOOKUP($AO447,Data!$A$6:$A$1806,Data!$H$6:$H$1806)","v":10},{"$f":"LOOKUP($AO447,Data!$A$6:$A$1806,Data!$I$6:$I$1806)","v":0},{"$f":"LOOKUP($AO447,Data!$A$6:$A$1806,Data!$J$6:$J$1806)","v":-103},{"$f":"LOOKUP($AO447,Data!$A$6:$A$1806,Data!$K$6:$K$1806)","v":7773.9},24.798583984375]
[null,40098.110925925241,{"$f":"LOOKUP(B448,Data!$A$6:$A$1806,Data!B$6:B$1806)","v":59.9739990234375},{"$f":"LOOKUP(B448,Data!$A$6:$A$1806,Data!C$6:C$1806)","v":3738.9345703125},null,null,null,20.80078125,21.62874353523355,null,null,0,3787.6381906266306,{"$f":"AVERAGE(D$79:D448)","v":3769.7816835145691},{"$f":"AVERAGE(M$79:M448)","v":3776.5603937232922},3765.4461564175972,{"$f":"AVERAGE(P$79:P448)","v":3745.0907128476865},633,null,null,null,null,null,null,0,633,-929.15792288148054,null,null,null,null,null,null,null,null,null,null,null,null,null,40098.110925925241,{"$f":"LOOKUP($AO448,Data!$A$6:$A$1806,Data!$B$6:$B$1806)","v":59.9739990234375},{"$f":"LOOKUP($AO448,Data!$A$6:$A$1806,Data!$C$6:$C$1806)","v":3738.9345703125},{"$f":"LOOKUP($AO448,Data!$A$6:$A$1806,Data!$D$6:$D$1806)","v":350},{"$f":"IF($AS$1=\"+\",LOOKUP($AO448,Data!$A$6:$A$1806,Data!$E$6:$E$1806)*-1,LOOKUP($AO448,Data!$A$6:$A$1806,Data!$E$6:$E$1806))","v":223.01573181152344},{"$f":"LOOKUP($AO448,Data!$A$6:$A$1806,Data!$F$6:$F$1806)","v":16},{"$f":"LOOKUP($AO448,Data!$A$6:$A$1806,Data!$G$6:$G$1806)","v":415.5},{"$f":"LOOKUP($AO448,Data!$A$6:$A$1806,Data!$H$6:$H$1806)","v":10},{"$f":"LOOKUP($AO448,Data!$A$6:$A$1806,Data!$I$6:$I$1806)","v":0},{"$f":"LOOKUP($AO448,Data!$A$6:$A$1806,Data!$J$6:$J$1806)","v":-103},{"$f":"LOOKUP($AO448,Data!$A$6:$A$1806,Data!$K$6:$K$1806)","v":7774.23},20.80078125]
[null,40098.110949073387,{"$f":"LOOKUP(B449,Data!$A$6:$A$1806,Data!B$6:B$1806)","v":59.974998474121094},{"$f":"LOOKUP(B449,Data!$A$6:$A$1806,Data!C$6:C$1806)","v":3738.64697265625},null,null,null,20.001220703125,21.059110543995558,null,null,0,3787.0685576353926,{"$f":"AVERAGE(D$79:D449)","v":3769.6977624610427},{"$f":"AVERAGE(M$79:M449)","v":3776.5887176152387},3765.4461564175972,{"$f":"AVERAGE(P$79:P449)","v":3745.1457275600374},633,null,null,null,null,null,null,0,633,-942.99216196057534,null,null,null,null,null,null,null,null,null,null,null,null,null,40098.110949073387,{"$f":"LOOKUP($AO449,Data!$A$6:$A$1806,Data!$B$6:$B$1806)","v":59.974998474121094},{"$f":"LOOKUP($AO449,Data!$A$6:$A$1806,Data!$C$6:$C$1806)","v":3738.64697265625},{"$f":"LOOKUP($AO449,Data!$A$6:$A$1806,Data!$D$6:$D$1806)","v":350},{"$f":"IF($AS$1=\"+\",LOOKUP($AO449,Data!$A$6:$A$1806,Data!$E$6:$E$1806)*-1,LOOKUP($AO449,Data!$A$6:$A$1806,Data!$E$6:$E$1806))","v":223.01573181152344},{"$f":"LOOKUP($AO449,Data!$A$6:$A$1806,Data!$F$6:$F$1806)","v":16},{"$f":"LOOKUP($AO449,Data!$A$6:$A$1806,Data!$G$6:$G$1806)","v":416},{"$f":"LOOKUP($AO449,Data!$A$6:$A$1806,Data!$H$6:$H$1806)","v":10},{"$f":"LOOKUP($AO449,Data!$A$6:$A$1806,Data!$I$6:$I$1806)","v":0},{"$f":"LOOKUP($AO449,Data!$A$6:$A$1806,Data!$J$6:$J$1806)","v":-103},{"$f":"LOOKUP($AO449,Data!$A$6:$A$1806,Data!$K$6:$K$1806)","v":7774.56},20.001220703125]
[null,40098.110972221533,{"$f":"LOOKUP(B450,Data!$A$6:$A$1806,Data!B$6:B$1806)","v":59.976001739501953},{"$f":"LOOKUP(B450,Data!$A$6:$A$1806,Data!C$6:C$1806)","v":3737.68408203125},null,null,null,19.1986083984375,20.407934793050238,null,null,0,3786.4173818844474,{"$f":"AVERAGE(D$79:D450)","v":3769.6117041803177},{"$f":"AVERAGE(M$79:M450)","v":3776.6151387557475},3765.4461564175972,{"$f":"AVERAGE(P$79:P450)","v":3745.2004456971194},633,null,null,null,null,null,null,0,633,-957.29980745794001,null,null,null,null,null,null,null,null,null,null,null,null,null,40098.110972221533,{"$f":"LOOKUP($AO450,Data!$A$6:$A$1806,Data!$B$6:$B$1806)","v":59.976001739501953},{"$f":"LOOKUP($AO450,Data!$A$6:$A$1806,Data!$C$6:$C$1806)","v":3737.68408203125},{"$f":"LOOKUP($AO450,Data!$A$6:$A$1806,Data!$D$6:$D$1806)","v":350},{"$f":"IF($AS$1=\"+\",LOOKUP($AO450,Data!$A$6:$A$1806,Data!$E$6:$E$1806)*-1,LOOKUP($AO450,Data!$A$6:$A$1806,Data!$E$6:$E$1806))","v":223.01573181152344},{"$f":"LOOKUP($AO450,Data!$A$6:$A$1806,Data!$F$6:$F$1806)","v":16},{"$f":"LOOKUP($AO450,Data!$A$6:$A$1806,Data!$G$6:$G$1806)","v":416.5},{"$f":"LOOKUP($AO450,Data!$A$6:$A$1806,Data!$H$6:$H$1806)","v":10},{"$f":"LOOKUP($AO450,Data!$A$6:$A$1806,Data!$I$6:$I$1806)","v":0},{"$f":"LOOKUP($AO450,Data!$A$6:$A$1806,Data!$J$6:$J$1806)","v":-103},{"$f":"LOOKUP($AO450,Data!$A$6:$A$1806,Data!$K$6:$K$1806)","v":7774.89},19.1986083984375]
[null,40098.11099536968,{"$f":"LOOKUP(B451,Data!$A$6:$A$1806,Data!B$6:B$1806)","v":59.972000122070313},{"$f":"LOOKUP(B451,Data!$A$6:$A$1806,Data!C$6:C$1806)","v":3737.382080078125},null,null,null,22.39990234375,21.105123435795154,null,null,0,3787.1145705271924,{"$f":"AVERAGE(D$79:D451)","v":3769.525297681384},{"$f":"AVERAGE(M$79:M451)","v":3776.6432873663948},3765.4461564175972,{"$f":"AVERAGE(P$79:P451)","v":3745.2548696506688},633,null,null,null,null,null,null,0,633,-902.67247098182406,null,null,null,null,null,null,null,null,null,null,null,null,null,40098.11099536968,{"$f":"LOOKUP($AO451,Data!$A$6:$A$1806,Data!$B$6:$B$1806)","v":59.972000122070313},{"$f":"LOOKUP($AO451,Data!$A$6:$A$1806,Data!$C$6:$C$1806)","v":3737.382080078125},{"$f":"LOOKUP($AO451,Data!$A$6:$A$1806,Data!$D$6:$D$1806)","v":350},{"$f":"IF($AS$1=\"+\",LOOKUP($AO451,Data!$A$6:$A$1806,Data!$E$6:$E$1806)*-1,LOOKUP($AO451,Data!$A$6:$A$1806,Data!$E$6:$E$1806))","v":223.01573181152344},{"$f":"LOOKUP($AO451,Data!$A$6:$A$1806,Data!$F$6:$F$1806)","v":16},{"$f":"LOOKUP($AO451,Data!$A$6:$A$1806,Data!$G$6:$G$1806)","v":417},{"$f":"LOOKUP($AO451,Data!$A$6:$A$1806,Data!$H$6:$H$1806)","v":10},{"$f":"LOOKUP($AO451,Data!$A$6:$A$1806,Data!$I$6:$I$1806)","v":0},{"$f":"LOOKUP($AO451,Data!$A$6:$A$1806,Data!$J$6:$J$1806)","v":-103},{"$f":"LOOKUP($AO451,Data!$A$6:$A$1806,Data!$K$6:$K$1806)","v":7775.22},22.39990234375]
[null,40098.111018517826,{"$f":"LOOKUP(B452,Data!$A$6:$A$1806,Data!B$6:B$1806)","v":59.969001770019531},{"$f":"LOOKUP(B452,Data!$A$6:$A$1806,Data!C$6:C$1806)","v":3737.89208984375},null,null,null,24.798583984375,22.397834627798101,null,null,0,3788.4072817191955,{"$f":"AVERAGE(D$79:D452)","v":3769.4407169117649},{"$f":"AVERAGE(M$79:M452)","v":3776.6747418967498},3765.4461564175972,{"$f":"AVERAGE(P$79:P452)","v":3745.309001786773},633,null,null,null,null,null,null,0,633,-865.6593149050218,null,null,null,null,null,null,null,null,null,null,null,null,null,40098.111018517826,{"$f":"LOOKUP($AO452,Data!$A$6:$A$1806,Data!$B$6:$B$1806)","v":59.969001770019531},{"$f":"LOOKUP($AO452,Data!$A$6:$A$1806,Data!$C$6:$C$1806)","v":3737.89208984375},{"$f":"LOOKUP($AO452,Data!$A$6:$A$1806,Data!$D$6:$D$1806)","v":350},{"$f":"IF($AS$1=\"+\",LOOKUP($AO452,Data!$A$6:$A$1806,Data!$E$6:$E$1806)*-1,LOOKUP($AO452,Data!$A$6:$A$1806,Data!$E$6:$E$1806))","v":223.01573181152344},{"$f":"LOOKUP($AO452,Data!$A$6:$A$1806,Data!$F$6:$F$1806)","v":16},{"$f":"LOOKUP($AO452,Data!$A$6:$A$1806,Data!$G$6:$G$1806)","v":417.5},{"$f":"LOOKUP($AO452,Data!$A$6:$A$1806,Data!$H$6:$H$1806)","v":10},{"$f":"LOOKUP($AO452,Data!$A$6:$A$1806,Data!$I$6:$I$1806)","v":0},{"$f":"LOOKUP($AO452,Data!$A$6:$A$1806,Data!$J$6:$J$1806)","v":-103},{"$f":"LOOKUP($AO452,Data!$A$6:$A$1806,Data!$K$6:$K$1806)","v":7775.55},24.798583984375]
[null,40098.111041665972,{"$f":"LOOKUP(B453,Data!$A$6:$A$1806,Data!B$6:B$1806)","v":59.971000671386719},{"$f":"LOOKUP(B453,Data!$A$6:$A$1806,Data!C$6:C$1806)","v":3740.016845703125},null,null,null,23.199462890625,22.678404519787517,null,null,0,3788.6878516111847,{"$f":"AVERAGE(D$79:D453)","v":3769.3622532552085},{"$f":"AVERAGE(M$79:M453)","v":3776.7067768559882},3765.4461564175972,{"$f":"AVERAGE(P$79:P453)","v":3745.3628444462133},633,null,null,null,null,null,null,0,633,-889.98801011001683,null,null,null,null,null,null,null,null,null,null,null,null,null,40098.111041665972,{"$f":"LOOKUP($AO453,Data!$A$6:$A$1806,Data!$B$6:$B$1806)","v":59.971000671386719},{"$f":"LOOKUP($AO453,Data!$A$6:$A$1806,Data!$C$6:$C$1806)","v":3740.016845703125},{"$f":"LOOKUP($AO453,Data!$A$6:$A$1806,Data!$D$6:$D$1806)","v":350},{"$f":"IF($AS$1=\"+\",LOOKUP($AO453,Data!$A$6:$A$1806,Data!$E$6:$E$1806)*-1,LOOKUP($AO453,Data!$A$6:$A$1806,Data!$E$6:$E$1806))","v":223.01573181152344},{"$f":"LOOKUP($AO453,Data!$A$6:$A$1806,Data!$F$6:$F$1806)","v":16},{"$f":"LOOKUP($AO453,Data!$A$6:$A$1806,Data!$G$6:$G$1806)","v":418},{"$f":"LOOKUP($AO453,Data!$A$6:$A$1806,Data!$H$6:$H$1806)","v":10},{"$f":"LOOKUP($AO453,Data!$A$6:$A$1806,Data!$I$6:$I$1806)","v":0},{"$f":"LOOKUP($AO453,Data!$A$6:$A$1806,Data!$J$6:$J$1806)","v":-103},{"$f":"LOOKUP($AO453,Data!$A$6:$A$1806,Data!$K$6:$K$1806)","v":7775.88},23.199462890625]
[null,40098.111064814118,{"$f":"LOOKUP(B454,Data!$A$6:$A$1806,Data!B$6:B$1806)","v":59.9739990234375},{"$f":"LOOKUP(B454,Data!$A$6:$A$1806,Data!C$6:C$1806)","v":3740.328857421875},null,null,null,20.80078125,22.021236375361884,null,null,0,3788.030683466759,{"$f":"AVERAGE(D$79:D454)","v":3769.2850367769283},{"$f":"AVERAGE(M$79:M454)","v":3776.7368936288894},3765.4461564175972,{"$f":"AVERAGE(P$79:P454)","v":3745.4163999448033},633,null,null,null,null,null,null,0,633,-929.15792288148054,null,null,null,null,null,null,null,null,null,null,null,null,null,40098.111064814118,{"$f":"LOOKUP($AO454,Data!$A$6:$A$1806,Data!$B$6:$B$1806)","v":59.9739990234375},{"$f":"LOOKUP($AO454,Data!$A$6:$A$1806,Data!$C$6:$C$1806)","v":3740.328857421875},{"$f":"LOOKUP($AO454,Data!$A$6:$A$1806,Data!$D$6:$D$1806)","v":350},{"$f":"IF($AS$1=\"+\",LOOKUP($AO454,Data!$A$6:$A$1806,Data!$E$6:$E$1806)*-1,LOOKUP($AO454,Data!$A$6:$A$1806,Data!$E$6:$E$1806))","v":223.01573181152344},{"$f":"LOOKUP($AO454,Data!$A$6:$A$1806,Data!$F$6:$F$1806)","v":16},{"$f":"LOOKUP($AO454,Data!$A$6:$A$1806,Data!$G$6:$G$1806)","v":418.5},{"$f":"LOOKUP($AO454,Data!$A$6:$A$1806,Data!$H$6:$H$1806)","v":10},{"$f":"LOOKUP($AO454,Data!$A$6:$A$1806,Data!$I$6:$I$1806)","v":0},{"$f":"LOOKUP($AO454,Data!$A$6:$A$1806,Data!$J$6:$J$1806)","v":-103},{"$f":"LOOKUP($AO454,Data!$A$6:$A$1806,Data!$K$6:$K$1806)","v":7776.21},20.80078125]
[null,40098.111087962265,{"$f":"LOOKUP(B455,Data!$A$6:$A$1806,Data!B$6:B$1806)","v":59.972000122070313},{"$f":"LOOKUP(B455,Data!$A$6:$A$1806,Data!C$6:C$1806)","v":3742.052734375},null,null,null,22.39990234375,22.153769464297724,null,null,0,3788.1632165556948,{"$f":"AVERAGE(D$79:D455)","v":3769.2128025530506},{"$f":"AVERAGE(M$79:M455)","v":3776.7672021777666},3765.4461564175972,{"$f":"AVERAGE(P$79:P455)","v":3745.4696705737201},633,null,null,null,null,null,null,0,633,-902.67247098182406,null,null,null,null,null,null,null,null,null,null,null,null,null,40098.111087962265,{"$f":"LOOKUP($AO455,Data!$A$6:$A$1806,Data!$B$6:$B$1806)","v":59.972000122070313},{"$f":"LOOKUP($AO455,Data!$A$6:$A$1806,Data!$C$6:$C$1806)","v":3742.052734375},{"$f":"LOOKUP($AO455,Data!$A$6:$A$1806,Data!$D$6:$D$1806)","v":350},{"$f":"IF($AS$1=\"+\",LOOKUP($AO455,Data!$A$6:$A$1806,Data!$E$6:$E$1806)*-1,LOOKUP($AO455,Data!$A$6:$A$1806,Data!$E$6:$E$1806))","v":223.01573181152344},{"$f":"LOOKUP($AO455,Data!$A$6:$A$1806,Data!$F$6:$F$1806)","v":16},{"$f":"LOOKUP($AO455,Data!$A$6:$A$1806,Data!$G$6:$G$1806)","v":419},{"$f":"LOOKUP($AO455,Data!$A$6:$A$1806,Data!$H$6:$H$1806)","v":10},{"$f":"LOOKUP($AO455,Data!$A$6:$A$1806,Data!$I$6:$I$1806)","v":0},{"$f":"LOOKUP($AO455,Data!$A$6:$A$1806,Data!$J$6:$J$1806)","v":-103},{"$f":"LOOKUP($AO455,Data!$A$6:$A$1806,Data!$K$6:$K$1806)","v":7776.54},22.39990234375]
[null,40098.111111110411,{"$f":"LOOKUP(B456,Data!$A$6:$A$1806,Data!B$6:B$1806)","v":59.972000122070313},{"$f":"LOOKUP(B456,Data!$A$6:$A$1806,Data!C$6:C$1806)","v":3742.423828125},null,null,null,22.39990234375,22.239915972106019,null,null,0,3788.2493630635031,{"$f":"AVERAGE(D$79:D456)","v":3769.1419322503307},{"$f":"AVERAGE(M$79:M456)","v":3776.7975782647663},3765.4461564175972,{"$f":"AVERAGE(P$79:P456)","v":3745.5226585998307},633,null,null,null,null,null,null,0,633,-902.67247098182406,null,null,null,null,null,null,null,null,null,null,null,null,null,40098.111111110411,{"$f":"LOOKUP($AO456,Data!$A$6:$A$1806,Data!$B$6:$B$1806)","v":59.972000122070313},{"$f":"LOOKUP($AO456,Data!$A$6:$A$1806,Data!$C$6:$C$1806)","v":3742.423828125},{"$f":"LOOKUP($AO456,Data!$A$6:$A$1806,Data!$D$6:$D$1806)","v":350},{"$f":"IF($AS$1=\"+\",LOOKUP($AO456,Data!$A$6:$A$1806,Data!$E$6:$E$1806)*-1,LOOKUP($AO456,Data!$A$6:$A$1806,Data!$E$6:$E$1806))","v":223.01573181152344},{"$f":"LOOKUP($AO456,Data!$A$6:$A$1806,Data!$F$6:$F$1806)","v":16},{"$f":"LOOKUP($AO456,Data!$A$6:$A$1806,Data!$G$6:$G$1806)","v":419.5},{"$f":"LOOKUP($AO456,Data!$A$6:$A$1806,Data!$H$6:$H$1806)","v":10},{"$f":"LOOKUP($AO456,Data!$A$6:$A$1806,Data!$I$6:$I$1806)","v":0},{"$f":"LOOKUP($AO456,Data!$A$6:$A$1806,Data!$J$6:$J$1806)","v":-103},{"$f":"LOOKUP($AO456,Data!$A$6:$A$1806,Data!$K$6:$K$1806)","v":7776.87},22.39990234375]
[null,40098.111134258557,{"$f":"LOOKUP(B457,Data!$A$6:$A$1806,Data!B$6:B$1806)","v":59.972000122070313},{"$f":"LOOKUP(B457,Data!$A$6:$A$1806,Data!C$6:C$1806)","v":3742.5244140625},null,null,null,22.39990234375,22.295911202181411,null,null,0,3788.3053582935786,{"$f":"AVERAGE(D$79:D457)","v":3769.0717013316294},{"$f":"AVERAGE(M$79:M457)","v":3776.8279418004622},3765.4461564175972,{"$f":"AVERAGE(P$79:P457)","v":3745.575366266015},633,null,null,null,null,null,null,0,633,-902.67247098182406,null,null,null,null,null,null,null,null,null,null,null,null,null,40098.111134258557,{"$f":"LOOKUP($AO457,Data!$A$6:$A$1806,Data!$B$6:$B$1806)","v":59.972000122070313},{"$f":"LOOKUP($AO457,Data!$A$6:$A$1806,Data!$C$6:$C$1806)","v":3742.5244140625},{"$f":"LOOKUP($AO457,Data!$A$6:$A$1806,Data!$D$6:$D$1806)","v":350},{"$f":"IF($AS$1=\"+\",LOOKUP($AO457,Data!$A$6:$A$1806,Data!$E$6:$E$1806)*-1,LOOKUP($AO457,Data!$A$6:$A$1806,Data!$E$6:$E$1806))","v":223.01573181152344},{"$f":"LOOKUP($AO457,Data!$A$6:$A$1806,Data!$F$6:$F$1806)","v":16},{"$f":"LOOKUP($AO457,Data!$A$6:$A$1806,Data!$G$6:$G$1806)","v":420},{"$f":"LOOKUP($AO457,Data!$A$6:$A$1806,Data!$H$6:$H$1806)","v":10},{"$f":"LOOKUP($AO457,Data!$A$6:$A$1806,Data!$I$6:$I$1806)","v":0},{"$f":"LOOKUP($AO457,Data!$A$6:$A$1806,Data!$J$6:$J$1806)","v":-103},{"$f":"LOOKUP($AO457,Data!$A$6:$A$1806,Data!$K$6:$K$1806)","v":7777.2},22.39990234375]
[null,40098.111157406704,{"$f":"LOOKUP(B458,Data!$A$6:$A$1806,Data!B$6:B$1806)","v":59.977001190185547},{"$f":"LOOKUP(B458,Data!$A$6:$A$1806,Data!C$6:C$1806)","v":3742.2451171875},null,null,null,18.3990478515625,20.932009029464794,null,null,0,3786.9414561208619,{"$f":"AVERAGE(D$79:D458)","v":3769.0011050575658},{"$f":"AVERAGE(M$79:M458)","v":3776.8545563118319},3765.4461564175972,{"$f":"AVERAGE(P$79:P458)","v":3745.6277957914808},633,null,null,null,null,null,null,0,633,-971.99137177375064,null,null,null,null,null,null,null,null,null,null,null,null,null,40098.111157406704,{"$f":"LOOKUP($AO458,Data!$A$6:$A$1806,Data!$B$6:$B$1806)","v":59.977001190185547},{"$f":"LOOKUP($AO458,Data!$A$6:$A$1806,Data!$C$6:$C$1806)","v":3742.2451171875},{"$f":"LOOKUP($AO458,Data!$A$6:$A$1806,Data!$D$6:$D$1806)","v":350},{"$f":"IF($AS$1=\"+\",LOOKUP($AO458,Data!$A$6:$A$1806,Data!$E$6:$E$1806)*-1,LOOKUP($AO458,Data!$A$6:$A$1806,Data!$E$6:$E$1806))","v":223.01573181152344},{"$f":"LOOKUP($AO458,Data!$A$6:$A$1806,Data!$F$6:$F$1806)","v":16},{"$f":"LOOKUP($AO458,Data!$A$6:$A$1806,Data!$G$6:$G$1806)","v":420.5},{"$f":"LOOKUP($AO458,Data!$A$6:$A$1806,Data!$H$6:$H$1806)","v":10},{"$f":"LOOKUP($AO458,Data!$A$6:$A$1806,Data!$I$6:$I$1806)","v":0},{"$f":"LOOKUP($AO458,Data!$A$6:$A$1806,Data!$J$6:$J$1806)","v":-103},{"$f":"LOOKUP($AO458,Data!$A$6:$A$1806,Data!$K$6:$K$1806)","v":7777.53},18.3990478515625]
[null,40098.11118055485,{"$f":"LOOKUP(B459,Data!$A$6:$A$1806,Data!B$6:B$1806)","v":59.981998443603516},{"$f":"LOOKUP(B459,Data!$A$6:$A$1806,Data!C$6:C$1806)","v":3741.72314453125},null,null,null,14.4012451171875,18.646241660167739,null,null,0,3784.6556887515649,{"$f":"AVERAGE(D$79:D459)","v":3768.9295093606465},{"$f":"AVERAGE(M$79:M459)","v":3776.8750317250592},3765.4461564175972,{"$f":"AVERAGE(P$79:P459)","v":3745.6799493720755},633,null,null,null,null,null,null,0,633,-1052.7754597723938,null,null,null,null,null,null,null,null,null,null,null,null,null,40098.11118055485,{"$f":"LOOKUP($AO459,Data!$A$6:$A$1806,Data!$B$6:$B$1806)","v":59.981998443603516},{"$f":"LOOKUP($AO459,Data!$A$6:$A$1806,Data!$C$6:$C$1806)","v":3741.72314453125},{"$f":"LOOKUP($AO459,Data!$A$6:$A$1806,Data!$D$6:$D$1806)","v":350},{"$f":"IF($AS$1=\"+\",LOOKUP($AO459,Data!$A$6:$A$1806,Data!$E$6:$E$1806)*-1,LOOKUP($AO459,Data!$A$6:$A$1806,Data!$E$6:$E$1806))","v":223.01573181152344},{"$f":"LOOKUP($AO459,Data!$A$6:$A$1806,Data!$F$6:$F$1806)","v":16},{"$f":"LOOKUP($AO459,Data!$A$6:$A$1806,Data!$G$6:$G$1806)","v":421},{"$f":"LOOKUP($AO459,Data!$A$6:$A$1806,Data!$H$6:$H$1806)","v":10},{"$f":"LOOKUP($AO459,Data!$A$6:$A$1806,Data!$I$6:$I$1806)","v":0},{"$f":"LOOKUP($AO459,Data!$A$6:$A$1806,Data!$J$6:$J$1806)","v":-103},{"$f":"LOOKUP($AO459,Data!$A$6:$A$1806,Data!$K$6:$K$1806)","v":7777.86},14.4012451171875]
[null,40098.111203702996,{"$f":"LOOKUP(B460,Data!$A$6:$A$1806,Data!B$6:B$1806)","v":59.978000640869141},{"$f":"LOOKUP(B460,Data!$A$6:$A$1806,Data!C$6:C$1806)","v":3740.08544921875},null,null,null,17.5994873046875,18.279877635749656,null,null,0,3784.2893247271468,{"$f":"AVERAGE(D$79:D460)","v":3768.8540013498036},{"$f":"AVERAGE(M$79:M460)","v":3776.8944408690436},3765.4461564175972,{"$f":"AVERAGE(P$79:P460)","v":3745.7318291805936},633,null,null,null,null,null,null,0,633,-987.14090378423396,null,null,null,null,null,null,null,null,null,null,null,null,null,40098.111203702996,{"$f":"LOOKUP($AO460,Data!$A$6:$A$1806,Data!$B$6:$B$1806)","v":59.978000640869141},{"$f":"LOOKUP($AO460,Data!$A$6:$A$1806,Data!$C$6:$C$1806)","v":3740.08544921875},{"$f":"LOOKUP($AO460,Data!$A$6:$A$1806,Data!$D$6:$D$1806)","v":350},{"$f":"IF($AS$1=\"+\",LOOKUP($AO460,Data!$A$6:$A$1806,Data!$E$6:$E$1806)*-1,LOOKUP($AO460,Data!$A$6:$A$1806,Data!$E$6:$E$1806))","v":223.01573181152344},{"$f":"LOOKUP($AO460,Data!$A$6:$A$1806,Data!$F$6:$F$1806)","v":16},{"$f":"LOOKUP($AO460,Data!$A$6:$A$1806,Data!$G$6:$G$1806)","v":421.5},{"$f":"LOOKUP($AO460,Data!$A$6:$A$1806,Data!$H$6:$H$1806)","v":10},{"$f":"LOOKUP($AO460,Data!$A$6:$A$1806,Data!$I$6:$I$1806)","v":0},{"$f":"LOOKUP($AO460,Data!$A$6:$A$1806,Data!$J$6:$J$1806)","v":-103},{"$f":"LOOKUP($AO460,Data!$A$6:$A$1806,Data!$K$6:$K$1806)","v":7778.19},17.5994873046875]
[null,40098.111226851142,{"$f":"LOOKUP(B461,Data!$A$6:$A$1806,Data!B$6:B$1806)","v":59.976001739501953},{"$f":"LOOKUP(B461,Data!$A$6:$A$1806,Data!C$6:C$1806)","v":3740.629150390625},null,null,null,19.1986083984375,18.601433402690404,null,null,0,3784.6108804940877,{"$f":"AVERAGE(D$79:D461)","v":3768.7803072219731},{"$f":"AVERAGE(M$79:M461)","v":3776.914588230989},3765.4461564175972,{"$f":"AVERAGE(P$79:P461)","v":3745.7834373670776},633,null,null,null,null,null,null,0,633,-957.29980745794001,null,null,null,null,null,null,null,null,null,null,null,null,null,40098.111226851142,{"$f":"LOOKUP($AO461,Data!$A$6:$A$1806,Data!$B$6:$B$1806)","v":59.976001739501953},{"$f":"LOOKUP($AO461,Data!$A$6:$A$1806,Data!$C$6:$C$1806)","v":3740.629150390625},{"$f":"LOOKUP($AO461,Data!$A$6:$A$1806,Data!$D$6:$D$1806)","v":350},{"$f":"IF($AS$1=\"+\",LOOKUP($AO461,Data!$A$6:$A$1806,Data!$E$6:$E$1806)*-1,LOOKUP($AO461,Data!$A$6:$A$1806,Data!$E$6:$E$1806))","v":223.01573181152344},{"$f":"LOOKUP($AO461,Data!$A$6:$A$1806,Data!$F$6:$F$1806)","v":16},{"$f":"LOOKUP($AO461,Data!$A$6:$A$1806,Data!$G$6:$G$1806)","v":422},{"$f":"LOOKUP($AO461,Data!$A$6:$A$1806,Data!$H$6:$H$1806)","v":10},{"$f":"LOOKUP($AO461,Data!$A$6:$A$1806,Data!$I$6:$I$1806)","v":0},{"$f":"LOOKUP($AO461,Data!$A$6:$A$1806,Data!$J$6:$J$1806)","v":-103},{"$f":"LOOKUP($AO461,Data!$A$6:$A$1806,Data!$K$6:$K$1806)","v":7778.52},19.1986083984375]
[null,40098.111249999289,{"$f":"LOOKUP(B462,Data!$A$6:$A$1806,Data!B$6:B$1806)","v":59.972999572753906},{"$f":"LOOKUP(B462,Data!$A$6:$A$1806,Data!C$6:C$1806)","v":3739.96435546875},null,null,null,21.600341796875,19.651051340655012,null,null,0,3785.6604984320525,{"$f":"AVERAGE(D$79:D462)","v":3768.7052656809487},{"$f":"AVERAGE(M$79:M462)","v":3776.9373640388044},3765.4461564175972,{"$f":"AVERAGE(P$79:P462)","v":3745.8347760591155},633,null,null,null,null,null,null,0,633,-915.72372746901021,null,null,null,null,null,null,null,null,null,null,null,null,null,40098.111249999289,{"$f":"LOOKUP($AO462,Data!$A$6:$A$1806,Data!$B$6:$B$1806)","v":59.972999572753906},{"$f":"LOOKUP($AO462,Data!$A$6:$A$1806,Data!$C$6:$C$1806)","v":3739.96435546875},{"$f":"LOOKUP($AO462,Data!$A$6:$A$1806,Data!$D$6:$D$1806)","v":350},{"$f":"IF($AS$1=\"+\",LOOKUP($AO462,Data!$A$6:$A$1806,Data!$E$6:$E$1806)*-1,LOOKUP($AO462,Data!$A$6:$A$1806,Data!$E$6:$E$1806))","v":223.01573181152344},{"$f":"LOOKUP($AO462,Data!$A$6:$A$1806,Data!$F$6:$F$1806)","v":16},{"$f":"LOOKUP($AO462,Data!$A$6:$A$1806,Data!$G$6:$G$1806)","v":422.5},{"$f":"LOOKUP($AO462,Data!$A$6:$A$1806,Data!$H$6:$H$1806)","v":10},{"$f":"LOOKUP($AO462,Data!$A$6:$A$1806,Data!$I$6:$I$1806)","v":0},{"$f":"LOOKUP($AO462,Data!$A$6:$A$1806,Data!$J$6:$J$1806)","v":-103},{"$f":"LOOKUP($AO462,Data!$A$6:$A$1806,Data!$K$6:$K$1806)","v":7778.85},21.600341796875]
[null,40098.111273147435,{"$f":"LOOKUP(B463,Data!$A$6:$A$1806,Data!B$6:B$1806)","v":59.9739990234375},{"$f":"LOOKUP(B463,Data!$A$6:$A$1806,Data!C$6:C$1806)","v":3740.775146484375},null,null,null,20.80078125,20.053456808925759,null,null,0,3786.0629039003234,{"$f":"AVERAGE(D$79:D463)","v":3768.6327199168018},{"$f":"AVERAGE(M$79:M463)","v":3776.9610667397437},3765.4461564175972,{"$f":"AVERAGE(P$79:P463)","v":3745.8858473621317},633,null,null,null,null,null,null,0,633,-929.15792288148054,null,null,null,null,null,null,null,null,null,null,null,null,null,40098.111273147435,{"$f":"LOOKUP($AO463,Data!$A$6:$A$1806,Data!$B$6:$B$1806)","v":59.9739990234375},{"$f":"LOOKUP($AO463,Data!$A$6:$A$1806,Data!$C$6:$C$1806)","v":3740.775146484375},{"$f":"LOOKUP($AO463,Data!$A$6:$A$1806,Data!$D$6:$D$1806)","v":350},{"$f":"IF($AS$1=\"+\",LOOKUP($AO463,Data!$A$6:$A$1806,Data!$E$6:$E$1806)*-1,LOOKUP($AO463,Data!$A$6:$A$1806,Data!$E$6:$E$1806))","v":223.01573181152344},{"$f":"LOOKUP($AO463,Data!$A$6:$A$1806,Data!$F$6:$F$1806)","v":16},{"$f":"LOOKUP($AO463,Data!$A$6:$A$1806,Data!$G$6:$G$1806)","v":423},{"$f":"LOOKUP($AO463,Data!$A$6:$A$1806,Data!$H$6:$H$1806)","v":10},{"$f":"LOOKUP($AO463,Data!$A$6:$A$1806,Data!$I$6:$I$1806)","v":0},{"$f":"LOOKUP($AO463,Data!$A$6:$A$1806,Data!$J$6:$J$1806)","v":-103},{"$f":"LOOKUP($AO463,Data!$A$6:$A$1806,Data!$K$6:$K$1806)","v":7779.18},20.80078125]
[null,40098.111296295581,{"$f":"LOOKUP(B464,Data!$A$6:$A$1806,Data!B$6:B$1806)","v":59.977001190185547},{"$f":"LOOKUP(B464,Data!$A$6:$A$1806,Data!C$6:C$1806)","v":3742.83251953125},null,null,null,18.3990478515625,19.474413673848616,null,null,{"$f":"IF(B464>G$3,0,(K$21*0.000023148/K$22))","v":0},{"$f":"M463+L464+(I464-I463)","v":3785.4838607652464},{"$f":"AVERAGE(D$79:D464)","v":3768.5658800194301},{"$f":"AVERAGE(M$79:M464)","v":3776.9831465170123},3765.4461564175972,{"$f":"AVERAGE(P$79:P464)","v":3745.9366533596781},633,null,null,null,null,null,null,0,633,{"$f":"Z464/((C464-G$4)*10)","v":-971.99137177375064},null,null,null,null,null,null,null,null,null,null,null,null,null,40098.111296295581,{"$f":"LOOKUP($AO464,Data!$A$6:$A$1806,Data!$B$6:$B$1806)","v":59.977001190185547},{"$f":"LOOKUP($AO464,Data!$A$6:$A$1806,Data!$C$6:$C$1806)","v":3742.83251953125},{"$f":"LOOKUP($AO464,Data!$A$6:$A$1806,Data!$D$6:$D$1806)","v":350},{"$f":"IF($AS$1=\"+\",LOOKUP($AO464,Data!$A$6:$A$1806,Data!$E$6:$E$1806)*-1,LOOKUP($AO464,Data!$A$6:$A$1806,Data!$E$6:$E$1806))","v":223.01573181152344},{"$f":"LOOKUP($AO464,Data!$A$6:$A$1806,Data!$F$6:$F$1806)","v":16},{"$f":"LOOKUP($AO464,Data!$A$6:$A$1806,Data!$G$6:$G$1806)","v":423.5},{"$f":"LOOKUP($AO464,Data!$A$6:$A$1806,Data!$H$6:$H$1806)","v":10},{"$f":"LOOKUP($AO464,Data!$A$6:$A$1806,Data!$I$6:$I$1806)","v":0},{"$f":"LOOKUP($AO464,Data!$A$6:$A$1806,Data!$J$6:$J$1806)","v":-103},{"$f":"LOOKUP($AO464,Data!$A$6:$A$1806,Data!$K$6:$K$1806)","v":7779.51},18.3990478515625]
[null,40098.111319443728,{"$f":"LOOKUP(B465,Data!$A$6:$A$1806,Data!B$6:B$1806)","v":59.977001190185547},{"$f":"LOOKUP(B465,Data!$A$6:$A$1806,Data!C$6:C$1806)","v":3741.267822265625},null,null,null,18.3990478515625,19.098035636048476,null,null,0,3785.107482727446,{"$f":"AVERAGE(D$79:D465)","v":3768.4953424024952},{"$f":"AVERAGE(M$79:M465)","v":3777.0041396338347},3765.4461564175972,{"$f":"AVERAGE(P$79:P465)","v":3745.9871961137142},{"$f":"R$41","v":633},null,null,null,null,null,null,0,633,-971.99137177375064,null,null,null,null,null,null,null,null,null,null,null,null,null,{"$f":"AO464+TIME(0,0,$B$1)","v":40098.111319443728},{"$f":"LOOKUP($AO465,Data!$A$6:$A$1806,Data!$B$6:$B$1806)","v":59.977001190185547},{"$f":"LOOKUP($AO465,Data!$A$6:$A$1806,Data!$C$6:$C$1806)","v":3741.267822265625},{"$f":"LOOKUP($AO465,Data!$A$6:$A$1806,Data!$D$6:$D$1806)","v":350},{"$f":"IF($AS$1=\"+\",LOOKUP($AO465,Data!$A$6:$A$1806,Data!$E$6:$E$1806)*-1,LOOKUP($AO465,Data!$A$6:$A$1806,Data!$E$6:$E$1806))","v":223.01573181152344},{"$f":"LOOKUP($AO465,Data!$A$6:$A$1806,Data!$F$6:$F$1806)","v":16},{"$f":"LOOKUP($AO465,Data!$A$6:$A$1806,Data!$G$6:$G$1806)","v":424},{"$f":"LOOKUP($AO465,Data!$A$6:$A$1806,Data!$H$6:$H$1806)","v":10},{"$f":"LOOKUP($AO465,Data!$A$6:$A$1806,Data!$I$6:$I$1806)","v":0},{"$f":"LOOKUP($AO465,Data!$A$6:$A$1806,Data!$J$6:$J$1806)","v":-103},{"$f":"LOOKUP($AO465,Data!$A$6:$A$1806,Data!$K$6:$K$1806)","v":7779.84},18.3990478515625]
[null,40098.111342591874,{"$f":"LOOKUP(B466,Data!$A$6:$A$1806,Data!B$6:B$1806)","v":59.978000640869141},{"$f":"LOOKUP(B466,Data!$A$6:$A$1806,Data!C$6:C$1806)","v":3739.776123046875},null,null,null,17.5994873046875,18.573543720072134,null,null,0,3784.5829908114697,{"$f":"AVERAGE(D$79:D466)","v":3768.4213237959084},{"$f":"AVERAGE(M$79:M466)","v":3777.0236727554266},{"$f":"P465+L466","v":3765.4461564175972},{"$f":"AVERAGE(P$79:P466)","v":3746.0374776648864},633,null,null,null,null,null,null,0,633,-987.14090378423396,null,null,null,null,null,null,null,null,null,null,null,null,null,40098.111342591874,{"$f":"LOOKUP($AO466,Data!$A$6:$A$1806,Data!$B$6:$B$1806)","v":59.978000640869141},{"$f":"LOOKUP($AO466,Data!$A$6:$A$1806,Data!$C$6:$C$1806)","v":3739.776123046875},{"$f":"LOOKUP($AO466,Data!$A$6:$A$1806,Data!$D$6:$D$1806)","v":350},{"$f":"IF($AS$1=\"+\",LOOKUP($AO466,Data!$A$6:$A$1806,Data!$E$6:$E$1806)*-1,LOOKUP($AO466,Data!$A$6:$A$1806,Data!$E$6:$E$1806))","v":223.01573181152344},{"$f":"LOOKUP($AO466,Data!$A$6:$A$1806,Data!$F$6:$F$1806)","v":16},{"$f":"LOOKUP($AO466,Data!$A$6:$A$1806,Data!$G$6:$G$1806)","v":424.5},{"$f":"LOOKUP($AO466,Data!$A$6:$A$1806,Data!$H$6:$H$1806)","v":10},{"$f":"LOOKUP($AO466,Data!$A$6:$A$1806,Data!$I$6:$I$1806)","v":0},{"$f":"LOOKUP($AO466,Data!$A$6:$A$1806,Data!$J$6:$J$1806)","v":-103},{"$f":"LOOKUP($AO466,Data!$A$6:$A$1806,Data!$K$6:$K$1806)","v":7780.17},17.5994873046875]
[null,40098.11136574002,{"$f":"LOOKUP(B467,Data!$A$6:$A$1806,Data!B$6:B$1806)","v":59.979000091552734},{"$f":"LOOKUP(B467,Data!$A$6:$A$1806,Data!C$6:C$1806)","v":3738.9658203125},null,null,null,16.7999267578125,17.952777783281263,null,null,0,3783.9622248746787,{"$f":"AVERAGE(D$79:D467)","v":3768.3456027072621},{"$f":"AVERAGE(M$79:M467)","v":3777.0415096503348},3765.4461564175972,{"$f":"AVERAGE(P$79:P467)","v":3746.0875000328056},633,null,null,null,null,null,null,0,633,-1002.7701562889495,null,null,null,null,null,null,null,null,null,null,null,null,null,40098.11136574002,{"$f":"LOOKUP($AO467,Data!$A$6:$A$1806,Data!$B$6:$B$1806)","v":59.979000091552734},{"$f":"LOOKUP($AO467,Data!$A$6:$A$1806,Data!$C$6:$C$1806)","v":3738.9658203125},{"$f":"LOOKUP($AO467,Data!$A$6:$A$1806,Data!$D$6:$D$1806)","v":350},{"$f":"IF($AS$1=\"+\",LOOKUP($AO467,Data!$A$6:$A$1806,Data!$E$6:$E$1806)*-1,LOOKUP($AO467,Data!$A$6:$A$1806,Data!$E$6:$E$1806))","v":223.01573181152344},{"$f":"LOOKUP($AO467,Data!$A$6:$A$1806,Data!$F$6:$F$1806)","v":16},{"$f":"LOOKUP($AO467,Data!$A$6:$A$1806,Data!$G$6:$G$1806)","v":425},{"$f":"LOOKUP($AO467,Data!$A$6:$A$1806,Data!$H$6:$H$1806)","v":10},{"$f":"LOOKUP($AO467,Data!$A$6:$A$1806,Data!$I$6:$I$1806)","v":0},{"$f":"LOOKUP($AO467,Data!$A$6:$A$1806,Data!$J$6:$J$1806)","v":-103},{"$f":"LOOKUP($AO467,Data!$A$6:$A$1806,Data!$K$6:$K$1806)","v":7780.5},16.7999267578125]
[null,40098.111388888166,{"$f":"LOOKUP(B468,Data!$A$6:$A$1806,Data!B$6:B$1806)","v":59.980998992919922},{"$f":"LOOKUP(B468,Data!$A$6:$A$1806,Data!C$6:C$1806)","v":3738.7060546875},null,null,null,15.2008056640625,16.989587541554698,null,null,0,3782.9990346329523,{"$f":"AVERAGE(D$79:D468)","v":3768.2696038661861},{"$f":"AVERAGE(M$79:M468)","v":3777.056785355418},3765.4461564175972,{"$f":"AVERAGE(P$79:P468)","v":3746.1372652163136},633,null,null,null,null,null,null,0,633,-1035.5619474066043,null,null,null,null,null,null,null,null,null,null,null,null,null,40098.111388888166,{"$f":"LOOKUP($AO468,Data!$A$6:$A$1806,Data!$B$6:$B$1806)","v":59.980998992919922},{"$f":"LOOKUP($AO468,Data!$A$6:$A$1806,Data!$C$6:$C$1806)","v":3738.7060546875},{"$f":"LOOKUP($AO468,Data!$A$6:$A$1806,Data!$D$6:$D$1806)","v":350},{"$f":"IF($AS$1=\"+\",LOOKUP($AO468,Data!$A$6:$A$1806,Data!$E$6:$E$1806)*-1,LOOKUP($AO468,Data!$A$6:$A$1806,Data!$E$6:$E$1806))","v":223.01573181152344},{"$f":"LOOKUP($AO468,Data!$A$6:$A$1806,Data!$F$6:$F$1806)","v":16},{"$f":"LOOKUP($AO468,Data!$A$6:$A$1806,Data!$G$6:$G$1806)","v":425.5},{"$f":"LOOKUP($AO468,Data!$A$6:$A$1806,Data!$H$6:$H$1806)","v":10},{"$f":"LOOKUP($AO468,Data!$A$6:$A$1806,Data!$I$6:$I$1806)","v":0},{"$f":"LOOKUP($AO468,Data!$A$6:$A$1806,Data!$J$6:$J$1806)","v":-103},{"$f":"LOOKUP($AO468,Data!$A$6:$A$1806,Data!$K$6:$K$1806)","v":7780.83},15.2008056640625]
[null,40098.111412036313,{"$f":"LOOKUP(B469,Data!$A$6:$A$1806,Data!B$6:B$1806)","v":59.977001190185547},{"$f":"LOOKUP(B469,Data!$A$6:$A$1806,Data!C$6:C$1806)","v":3738.878662109375},null,null,null,18.3990478515625,17.482898650057429,null,null,0,3783.4923457414552,{"$f":"AVERAGE(D$79:D469)","v":3768.1944352171913},{"$f":"AVERAGE(M$79:M469)","v":3777.0732445891422},3765.4461564175972,{"$f":"AVERAGE(P$79:P469)","v":3746.1867751937525},633,null,null,null,null,null,null,0,633,-971.99137177375064,null,null,null,null,null,null,null,null,null,null,null,null,null,40098.111412036313,{"$f":"LOOKUP($AO469,Data!$A$6:$A$1806,Data!$B$6:$B$1806)","v":59.977001190185547},{"$f":"LOOKUP($AO469,Data!$A$6:$A$1806,Data!$C$6:$C$1806)","v":3738.878662109375},{"$f":"LOOKUP($AO469,Data!$A$6:$A$1806,Data!$D$6:$D$1806)","v":350},{"$f":"IF($AS$1=\"+\",LOOKUP($AO469,Data!$A$6:$A$1806,Data!$E$6:$E$1806)*-1,LOOKUP($AO469,Data!$A$6:$A$1806,Data!$E$6:$E$1806))","v":223.01573181152344},{"$f":"LOOKUP($AO469,Data!$A$6:$A$1806,Data!$F$6:$F$1806)","v":16},{"$f":"LOOKUP($AO469,Data!$A$6:$A$1806,Data!$G$6:$G$1806)","v":426},{"$f":"LOOKUP($AO469,Data!$A$6:$A$1806,Data!$H$6:$H$1806)","v":10},{"$f":"LOOKUP($AO469,Data!$A$6:$A$1806,Data!$I$6:$I$1806)","v":0},{"$f":"LOOKUP($AO469,Data!$A$6:$A$1806,Data!$J$6:$J$1806)","v":-103},{"$f":"LOOKUP($AO469,Data!$A$6:$A$1806,Data!$K$6:$K$1806)","v":7781.16},18.3990478515625]
[null,40098.111435184459,{"$f":"LOOKUP(B470,Data!$A$6:$A$1806,Data!B$6:B$1806)","v":59.9739990234375},{"$f":"LOOKUP(B470,Data!$A$6:$A$1806,Data!C$6:C$1806)","v":3739.859619140625},null,null,null,20.80078125,18.644157560037328,null,null,0,3784.6536046514352,{"$f":"AVERAGE(D$79:D470)","v":3768.1221525231185},{"$f":"AVERAGE(M$79:M470)","v":3777.0925822423619},3765.4461564175972,{"$f":"AVERAGE(P$79:P470)","v":3746.2360319232253},633,null,null,null,null,null,null,0,633,-929.15792288148054,null,null,null,null,null,null,null,null,null,null,null,null,null,40098.111435184459,{"$f":"LOOKUP($AO470,Data!$A$6:$A$1806,Data!$B$6:$B$1806)","v":59.9739990234375},{"$f":"LOOKUP($AO470,Data!$A$6:$A$1806,Data!$C$6:$C$1806)","v":3739.859619140625},{"$f":"LOOKUP($AO470,Data!$A$6:$A$1806,Data!$D$6:$D$1806)","v":350},{"$f":"IF($AS$1=\"+\",LOOKUP($AO470,Data!$A$6:$A$1806,Data!$E$6:$E$1806)*-1,LOOKUP($AO470,Data!$A$6:$A$1806,Data!$E$6:$E$1806))","v":223.01573181152344},{"$f":"LOOKUP($AO470,Data!$A$6:$A$1806,Data!$F$6:$F$1806)","v":16},{"$f":"LOOKUP($AO470,Data!$A$6:$A$1806,Data!$G$6:$G$1806)","v":426.5},{"$f":"LOOKUP($AO470,Data!$A$6:$A$1806,Data!$H$6:$H$1806)","v":10},{"$f":"LOOKUP($AO470,Data!$A$6:$A$1806,Data!$I$6:$I$1806)","v":0},{"$f":"LOOKUP($AO470,Data!$A$6:$A$1806,Data!$J$6:$J$1806)","v":-103},{"$f":"LOOKUP($AO470,Data!$A$6:$A$1806,Data!$K$6:$K$1806)","v":7781.49},20.80078125]
[null,40098.111458332605,{"$f":"LOOKUP(B471,Data!$A$6:$A$1806,Data!B$6:B$1806)","v":59.971000671386719},{"$f":"LOOKUP(B471,Data!$A$6:$A$1806,Data!C$6:C$1806)","v":3738.1015625},null,null,null,23.199462890625,20.238514425743013,null,null,0,3786.247961517141,{"$f":"AVERAGE(D$79:D471)","v":3768.0457642533397},{"$f":"AVERAGE(M$79:M471)","v":3777.1158783728324},3765.4461564175972,{"$f":"AVERAGE(P$79:P471)","v":3746.2850373428532},633,null,null,null,null,null,null,0,633,-889.98801011001683,null,null,null,null,null,null,null,null,null,null,null,null,null,40098.111458332605,{"$f":"LOOKUP($AO471,Data!$A$6:$A$1806,Data!$B$6:$B$1806)","v":59.971000671386719},{"$f":"LOOKUP($AO471,Data!$A$6:$A$1806,Data!$C$6:$C$1806)","v":3738.1015625},{"$f":"LOOKUP($AO471,Data!$A$6:$A$1806,Data!$D$6:$D$1806)","v":350},{"$f":"IF($AS$1=\"+\",LOOKUP($AO471,Data!$A$6:$A$1806,Data!$E$6:$E$1806)*-1,LOOKUP($AO471,Data!$A$6:$A$1806,Data!$E$6:$E$1806))","v":223.01573181152344},{"$f":"LOOKUP($AO471,Data!$A$6:$A$1806,Data!$F$6:$F$1806)","v":16},{"$f":"LOOKUP($AO471,Data!$A$6:$A$1806,Data!$G$6:$G$1806)","v":427},{"$f":"LOOKUP($AO471,Data!$A$6:$A$1806,Data!$H$6:$H$1806)","v":10},{"$f":"LOOKUP($AO471,Data!$A$6:$A$1806,Data!$I$6:$I$1806)","v":0},{"$f":"LOOKUP($AO471,Data!$A$6:$A$1806,Data!$J$6:$J$1806)","v":-103},{"$f":"LOOKUP($AO471,Data!$A$6:$A$1806,Data!$K$6:$K$1806)","v":7781.82},23.199462890625]
[null,40098.111481480752,{"$f":"LOOKUP(B472,Data!$A$6:$A$1806,Data!B$6:B$1806)","v":59.971000671386719},{"$f":"LOOKUP(B472,Data!$A$6:$A$1806,Data!C$6:C$1806)","v":3738.557861328125},null,null,null,23.199462890625,21.274846388451707,null,null,0,3787.2842934798496,{"$f":"AVERAGE(D$79:D472)","v":3767.9709218601283},{"$f":"AVERAGE(M$79:M472)","v":3777.141686533002},3765.4461564175972,{"$f":"AVERAGE(P$79:P472)","v":3746.3337933710332},633,null,null,null,null,null,null,0,633,-889.98801011001683,null,null,null,null,null,null,null,null,null,null,null,null,null,40098.111481480752,{"$f":"LOOKUP($AO472,Data!$A$6:$A$1806,Data!$B$6:$B$1806)","v":59.971000671386719},{"$f":"LOOKUP($AO472,Data!$A$6:$A$1806,Data!$C$6:$C$1806)","v":3738.557861328125},{"$f":"LOOKUP($AO472,Data!$A$6:$A$1806,Data!$D$6:$D$1806)","v":350},{"$f":"IF($AS$1=\"+\",LOOKUP($AO472,Data!$A$6:$A$1806,Data!$E$6:$E$1806)*-1,LOOKUP($AO472,Data!$A$6:$A$1806,Data!$E$6:$E$1806))","v":223.01573181152344},{"$f":"LOOKUP($AO472,Data!$A$6:$A$1806,Data!$F$6:$F$1806)","v":16},{"$f":"LOOKUP($AO472,Data!$A$6:$A$1806,Data!$G$6:$G$1806)","v":427.5},{"$f":"LOOKUP($AO472,Data!$A$6:$A$1806,Data!$H$6:$H$1806)","v":10},{"$f":"LOOKUP($AO472,Data!$A$6:$A$1806,Data!$I$6:$I$1806)","v":0},{"$f":"LOOKUP($AO472,Data!$A$6:$A$1806,Data!$J$6:$J$1806)","v":-103},{"$f":"LOOKUP($AO472,Data!$A$6:$A$1806,Data!$K$6:$K$1806)","v":7782.15},23.199462890625]
[null,40098.111504628898,{"$f":"LOOKUP(B473,Data!$A$6:$A$1806,Data!B$6:B$1806)","v":59.971000671386719},{"$f":"LOOKUP(B473,Data!$A$6:$A$1806,Data!C$6:C$1806)","v":3743.5068359375},null,null,null,23.199462890625,21.948462164212359,null,null,0,3787.95790925561,{"$f":"AVERAGE(D$79:D473)","v":3767.9089874653878},{"$f":"AVERAGE(M$79:M473)","v":3777.1690693753376},3765.4461564175972,{"$f":"AVERAGE(P$79:P473)","v":3746.382301906684},633,null,null,null,null,null,null,0,633,-889.98801011001683,null,null,null,null,null,null,null,null,null,null,null,null,null,40098.111504628898,{"$f":"LOOKUP($AO473,Data!$A$6:$A$1806,Data!$B$6:$B$1806)","v":59.971000671386719},{"$f":"LOOKUP($AO473,Data!$A$6:$A$1806,Data!$C$6:$C$1806)","v":3743.5068359375},{"$f":"LOOKUP($AO473,Data!$A$6:$A$1806,Data!$D$6:$D$1806)","v":350},{"$f":"IF($AS$1=\"+\",LOOKUP($AO473,Data!$A$6:$A$1806,Data!$E$6:$E$1806)*-1,LOOKUP($AO473,Data!$A$6:$A$1806,Data!$E$6:$E$1806))","v":223.01573181152344},{"$f":"LOOKUP($AO473,Data!$A$6:$A$1806,Data!$F$6:$F$1806)","v":16},{"$f":"LOOKUP($AO473,Data!$A$6:$A$1806,Data!$G$6:$G$1806)","v":428},{"$f":"LOOKUP($AO473,Data!$A$6:$A$1806,Data!$H$6:$H$1806)","v":10},{"$f":"LOOKUP($AO473,Data!$A$6:$A$1806,Data!$I$6:$I$1806)","v":0},{"$f":"LOOKUP($AO473,Data!$A$6:$A$1806,Data!$J$6:$J$1806)","v":-103},{"$f":"LOOKUP($AO473,Data!$A$6:$A$1806,Data!$K$6:$K$1806)","v":7782.48},23.199462890625]
[null,40098.111527777044,{"$f":"LOOKUP(B474,Data!$A$6:$A$1806,Data!B$6:B$1806)","v":59.972000122070313},{"$f":"LOOKUP(B474,Data!$A$6:$A$1806,Data!C$6:C$1806)","v":3743.418701171875},null,null,null,22.39990234375,22.106466227050532,null,null,0,3788.1159133184483,{"$f":"AVERAGE(D$79:D474)","v":3767.8471433080808},{"$f":"AVERAGE(M$79:M474)","v":3777.1967129206487},3765.4461564175972,{"$f":"AVERAGE(P$79:P474)","v":3746.4305648294962},633,null,null,null,null,null,null,0,633,-902.67247098182406,null,null,null,null,null,null,null,null,null,null,null,null,null,40098.111527777044,{"$f":"LOOKUP($AO474,Data!$A$6:$A$1806,Data!$B$6:$B$1806)","v":59.972000122070313},{"$f":"LOOKUP($AO474,Data!$A$6:$A$1806,Data!$C$6:$C$1806)","v":3743.418701171875},{"$f":"LOOKUP($AO474,Data!$A$6:$A$1806,Data!$D$6:$D$1806)","v":350},{"$f":"IF($AS$1=\"+\",LOOKUP($AO474,Data!$A$6:$A$1806,Data!$E$6:$E$1806)*-1,LOOKUP($AO474,Data!$A$6:$A$1806,Data!$E$6:$E$1806))","v":223.01573181152344},{"$f":"LOOKUP($AO474,Data!$A$6:$A$1806,Data!$F$6:$F$1806)","v":16},{"$f":"LOOKUP($AO474,Data!$A$6:$A$1806,Data!$G$6:$G$1806)","v":428.5},{"$f":"LOOKUP($AO474,Data!$A$6:$A$1806,Data!$H$6:$H$1806)","v":10},{"$f":"LOOKUP($AO474,Data!$A$6:$A$1806,Data!$I$6:$I$1806)","v":0},{"$f":"LOOKUP($AO474,Data!$A$6:$A$1806,Data!$J$6:$J$1806)","v":-103},{"$f":"LOOKUP($AO474,Data!$A$6:$A$1806,Data!$K$6:$K$1806)","v":7782.81},22.39990234375]
[null,40098.11155092519,{"$f":"LOOKUP(B475,Data!$A$6:$A$1806,Data!B$6:B$1806)","v":59.967998504638672},{"$f":"LOOKUP(B475,Data!$A$6:$A$1806,Data!C$6:C$1806)","v":3745.250732421875},null,null,null,25.6011962890625,23.329621748754722,null,null,0,3789.3390688401523,{"$f":"AVERAGE(D$79:D475)","v":3767.7902253965285},{"$f":"AVERAGE(M$79:M475)","v":3777.2272982000432},3765.4461564175972,{"$f":"AVERAGE(P$79:P475)","v":3746.4785840001728},633,null,null,null,null,null,null,0,633,-853.94308063426718,null,null,null,null,null,null,null,null,null,null,null,null,null,40098.11155092519,{"$f":"LOOKUP($AO475,Data!$A$6:$A$1806,Data!$B$6:$B$1806)","v":59.967998504638672},{"$f":"LOOKUP($AO475,Data!$A$6:$A$1806,Data!$C$6:$C$1806)","v":3745.250732421875},{"$f":"LOOKUP($AO475,Data!$A$6:$A$1806,Data!$D$6:$D$1806)","v":350},{"$f":"IF($AS$1=\"+\",LOOKUP($AO475,Data!$A$6:$A$1806,Data!$E$6:$E$1806)*-1,LOOKUP($AO475,Data!$A$6:$A$1806,Data!$E$6:$E$1806))","v":223.01573181152344},{"$f":"LOOKUP($AO475,Data!$A$6:$A$1806,Data!$F$6:$F$1806)","v":16},{"$f":"LOOKUP($AO475,Data!$A$6:$A$1806,Data!$G$6:$G$1806)","v":429},{"$f":"LOOKUP($AO475,Data!$A$6:$A$1806,Data!$H$6:$H$1806)","v":10},{"$f":"LOOKUP($AO475,Data!$A$6:$A$1806,Data!$I$6:$I$1806)","v":0},{"$f":"LOOKUP($AO475,Data!$A$6:$A$1806,Data!$J$6:$J$1806)","v":-103},{"$f":"LOOKUP($AO475,Data!$A$6:$A$1806,Data!$K$6:$K$1806)","v":7783.14},25.6011962890625]
[null,40098.111574073337,{"$f":"LOOKUP(B476,Data!$A$6:$A$1806,Data!B$6:B$1806)","v":59.965999603271484},{"$f":"LOOKUP(B476,Data!$A$6:$A$1806,Data!C$6:C$1806)","v":3745.744140625},null,null,null,27.2003173828125,24.684365220674945,null,null,0,3790.6938123120726,{"$f":"AVERAGE(D$79:D476)","v":3767.7348332237357},{"$f":"AVERAGE(M$79:M476)","v":3777.261133662636},3765.4461564175972,{"$f":"AVERAGE(P$79:P476)","v":3746.52636126067},633,null,null,null,null,null,null,0,633,-831.5203016655496,null,null,null,null,null,null,null,null,null,null,null,null,null,40098.111574073337,{"$f":"LOOKUP($AO476,Data!$A$6:$A$1806,Data!$B$6:$B$1806)","v":59.965999603271484},{"$f":"LOOKUP($AO476,Data!$A$6:$A$1806,Data!$C$6:$C$1806)","v":3745.744140625},{"$f":"LOOKUP($AO476,Data!$A$6:$A$1806,Data!$D$6:$D$1806)","v":350},{"$f":"IF($AS$1=\"+\",LOOKUP($AO476,Data!$A$6:$A$1806,Data!$E$6:$E$1806)*-1,LOOKUP($AO476,Data!$A$6:$A$1806,Data!$E$6:$E$1806))","v":223.01573181152344},{"$f":"LOOKUP($AO476,Data!$A$6:$A$1806,Data!$F$6:$F$1806)","v":16},{"$f":"LOOKUP($AO476,Data!$A$6:$A$1806,Data!$G$6:$G$1806)","v":429.5},{"$f":"LOOKUP($AO476,Data!$A$6:$A$1806,Data!$H$6:$H$1806)","v":10},{"$f":"LOOKUP($AO476,Data!$A$6:$A$1806,Data!$I$6:$I$1806)","v":0},{"$f":"LOOKUP($AO476,Data!$A$6:$A$1806,Data!$J$6:$J$1806)","v":-103},{"$f":"LOOKUP($AO476,Data!$A$6:$A$1806,Data!$K$6:$K$1806)","v":7783.47},27.2003173828125]
[null,40098.111597221483,{"$f":"LOOKUP(B477,Data!$A$6:$A$1806,Data!B$6:B$1806)","v":59.965999603271484},{"$f":"LOOKUP(B477,Data!$A$6:$A$1806,Data!C$6:C$1806)","v":3747.339599609375},null,null,null,27.2003173828125,25.564948477423091,null,null,0,3791.5743955688208,{"$f":"AVERAGE(D$79:D477)","v":3767.6837173500157},{"$f":"AVERAGE(M$79:M477)","v":3777.2970064994938},3765.4461564175972,{"$f":"AVERAGE(P$79:P477)","v":3746.5738984344307},633,null,null,null,null,null,null,0,633,-831.5203016655496,null,null,null,null,null,null,null,null,null,null,null,null,null,40098.111597221483,{"$f":"LOOKUP($AO477,Data!$A$6:$A$1806,Data!$B$6:$B$1806)","v":59.965999603271484},{"$f":"LOOKUP($AO477,Data!$A$6:$A$1806,Data!$C$6:$C$1806)","v":3747.339599609375},{"$f":"LOOKUP($AO477,Data!$A$6:$A$1806,Data!$D$6:$D$1806)","v":350},{"$f":"IF($AS$1=\"+\",LOOKUP($AO477,Data!$A$6:$A$1806,Data!$E$6:$E$1806)*-1,LOOKUP($AO477,Data!$A$6:$A$1806,Data!$E$6:$E$1806))","v":223.01573181152344},{"$f":"LOOKUP($AO477,Data!$A$6:$A$1806,Data!$F$6:$F$1806)","v":16},{"$f":"LOOKUP($AO477,Data!$A$6:$A$1806,Data!$G$6:$G$1806)","v":430},{"$f":"LOOKUP($AO477,Data!$A$6:$A$1806,Data!$H$6:$H$1806)","v":10},{"$f":"LOOKUP($AO477,Data!$A$6:$A$1806,Data!$I$6:$I$1806)","v":0},{"$f":"LOOKUP($AO477,Data!$A$6:$A$1806,Data!$J$6:$J$1806)","v":-103},{"$f":"LOOKUP($AO477,Data!$A$6:$A$1806,Data!$K$6:$K$1806)","v":7783.8},27.2003173828125]
[null,40098.111620369629,{"$f":"LOOKUP(B478,Data!$A$6:$A$1806,Data!B$6:B$1806)","v":59.971000671386719},{"$f":"LOOKUP(B478,Data!$A$6:$A$1806,Data!C$6:C$1806)","v":3750.7001953125},null,null,null,23.199462890625,24.737028522043758,null,null,0,3790.7464756134414,{"$f":"AVERAGE(D$79:D478)","v":3767.641258544922},{"$f":"AVERAGE(M$79:M478)","v":3777.3306301722787},3765.4461564175972,{"$f":"AVERAGE(P$79:P478)","v":3746.621197326619},633,null,null,null,null,null,null,0,633,-889.98801011001683,null,null,null,null,null,null,null,null,null,null,null,null,null,40098.111620369629,{"$f":"LOOKUP($AO478,Data!$A$6:$A$1806,Data!$B$6:$B$1806)","v":59.971000671386719},{"$f":"LOOKUP($AO478,Data!$A$6:$A$1806,Data!$C$6:$C$1806)","v":3750.7001953125},{"$f":"LOOKUP($AO478,Data!$A$6:$A$1806,Data!$D$6:$D$1806)","v":350},{"$f":"IF($AS$1=\"+\",LOOKUP($AO478,Data!$A$6:$A$1806,Data!$E$6:$E$1806)*-1,LOOKUP($AO478,Data!$A$6:$A$1806,Data!$E$6:$E$1806))","v":223.01573181152344},{"$f":"LOOKUP($AO478,Data!$A$6:$A$1806,Data!$F$6:$F$1806)","v":16},{"$f":"LOOKUP($AO478,Data!$A$6:$A$1806,Data!$G$6:$G$1806)","v":430.5},{"$f":"LOOKUP($AO478,Data!$A$6:$A$1806,Data!$H$6:$H$1806)","v":10},{"$f":"LOOKUP($AO478,Data!$A$6:$A$1806,Data!$I$6:$I$1806)","v":0},{"$f":"LOOKUP($AO478,Data!$A$6:$A$1806,Data!$J$6:$J$1806)","v":-103},{"$f":"LOOKUP($AO478,Data!$A$6:$A$1806,Data!$K$6:$K$1806)","v":7784.13},23.199462890625]
[null,40098.111643517776,{"$f":"LOOKUP(B479,Data!$A$6:$A$1806,Data!B$6:B$1806)","v":59.972999572753906},{"$f":"LOOKUP(B479,Data!$A$6:$A$1806,Data!C$6:C$1806)","v":3749.75},null,null,null,21.600341796875,23.639188168234693,null,null,0,3789.6486352596321,{"$f":"AVERAGE(D$79:D479)","v":3767.5966419400715},{"$f":"AVERAGE(M$79:M479)","v":3777.3613483894542},3765.4461564175972,{"$f":"AVERAGE(P$79:P479)","v":3746.6682597243462},633,null,null,null,null,null,null,0,633,-915.72372746901021,null,null,null,null,null,null,null,null,null,null,null,null,null,40098.111643517776,{"$f":"LOOKUP($AO479,Data!$A$6:$A$1806,Data!$B$6:$B$1806)","v":59.972999572753906},{"$f":"LOOKUP($AO479,Data!$A$6:$A$1806,Data!$C$6:$C$1806)","v":3749.75},{"$f":"LOOKUP($AO479,Data!$A$6:$A$1806,Data!$D$6:$D$1806)","v":350},{"$f":"IF($AS$1=\"+\",LOOKUP($AO479,Data!$A$6:$A$1806,Data!$E$6:$E$1806)*-1,LOOKUP($AO479,Data!$A$6:$A$1806,Data!$E$6:$E$1806))","v":223.01573181152344},{"$f":"LOOKUP($AO479,Data!$A$6:$A$1806,Data!$F$6:$F$1806)","v":16},{"$f":"LOOKUP($AO479,Data!$A$6:$A$1806,Data!$G$6:$G$1806)","v":431},{"$f":"LOOKUP($AO479,Data!$A$6:$A$1806,Data!$H$6:$H$1806)","v":10},{"$f":"LOOKUP($AO479,Data!$A$6:$A$1806,Data!$I$6:$I$1806)","v":0},{"$f":"LOOKUP($AO479,Data!$A$6:$A$1806,Data!$J$6:$J$1806)","v":-103},{"$f":"LOOKUP($AO479,Data!$A$6:$A$1806,Data!$K$6:$K$1806)","v":7784.46},21.600341796875]
[null,40098.111666665922,{"$f":"LOOKUP(B480,Data!$A$6:$A$1806,Data!B$6:B$1806)","v":59.972000122070313},{"$f":"LOOKUP(B480,Data!$A$6:$A$1806,Data!C$6:C$1806)","v":3746.216552734375},null,null,null,22.39990234375,23.205438129665051,null,null,0,3789.2148852210626,{"$f":"AVERAGE(D$79:D480)","v":3767.5434576385651},{"$f":"AVERAGE(M$79:M480)","v":3777.3908347994829},3765.4461564175972,{"$f":"AVERAGE(P$79:P480)","v":3746.7150873968976},633,null,null,null,null,null,null,0,633,-902.67247098182406,null,null,null,null,null,null,null,null,null,null,null,null,null,40098.111666665922,{"$f":"LOOKUP($AO480,Data!$A$6:$A$1806,Data!$B$6:$B$1806)","v":59.972000122070313},{"$f":"LOOKUP($AO480,Data!$A$6:$A$1806,Data!$C$6:$C$1806)","v":3746.216552734375},{"$f":"LOOKUP($AO480,Data!$A$6:$A$1806,Data!$D$6:$D$1806)","v":350},{"$f":"IF($AS$1=\"+\",LOOKUP($AO480,Data!$A$6:$A$1806,Data!$E$6:$E$1806)*-1,LOOKUP($AO480,Data!$A$6:$A$1806,Data!$E$6:$E$1806))","v":223.01573181152344},{"$f":"LOOKUP($AO480,Data!$A$6:$A$1806,Data!$F$6:$F$1806)","v":16},{"$f":"LOOKUP($AO480,Data!$A$6:$A$1806,Data!$G$6:$G$1806)","v":431.5},{"$f":"LOOKUP($AO480,Data!$A$6:$A$1806,Data!$H$6:$H$1806)","v":10},{"$f":"LOOKUP($AO480,Data!$A$6:$A$1806,Data!$I$6:$I$1806)","v":0},{"$f":"LOOKUP($AO480,Data!$A$6:$A$1806,Data!$J$6:$J$1806)","v":-103},{"$f":"LOOKUP($AO480,Data!$A$6:$A$1806,Data!$K$6:$K$1806)","v":7784.79},22.39990234375]
[null,40098.111689814068,{"$f":"LOOKUP(B481,Data!$A$6:$A$1806,Data!B$6:B$1806)","v":59.969001770019531},{"$f":"LOOKUP(B481,Data!$A$6:$A$1806,Data!C$6:C$1806)","v":3744.6826171875},null,null,null,24.798583984375,23.763039178813536,null,null,0,3789.7724862702112,{"$f":"AVERAGE(D$79:D481)","v":3767.4867309873216},{"$f":"AVERAGE(M$79:M481)","v":3777.4215585004026},3765.4461564175972,{"$f":"AVERAGE(P$79:P481)","v":3746.7616820959538},633,null,null,null,null,null,null,0,633,-865.6593149050218,null,null,null,null,null,null,null,null,null,null,null,null,null,40098.111689814068,{"$f":"LOOKUP($AO481,Data!$A$6:$A$1806,Data!$B$6:$B$1806)","v":59.969001770019531},{"$f":"LOOKUP($AO481,Data!$A$6:$A$1806,Data!$C$6:$C$1806)","v":3744.6826171875},{"$f":"LOOKUP($AO481,Data!$A$6:$A$1806,Data!$D$6:$D$1806)","v":350},{"$f":"IF($AS$1=\"+\",LOOKUP($AO481,Data!$A$6:$A$1806,Data!$E$6:$E$1806)*-1,LOOKUP($AO481,Data!$A$6:$A$1806,Data!$E$6:$E$1806))","v":223.01573181152344},{"$f":"LOOKUP($AO481,Data!$A$6:$A$1806,Data!$F$6:$F$1806)","v":16},{"$f":"LOOKUP($AO481,Data!$A$6:$A$1806,Data!$G$6:$G$1806)","v":432},{"$f":"LOOKUP($AO481,Data!$A$6:$A$1806,Data!$H$6:$H$1806)","v":10},{"$f":"LOOKUP($AO481,Data!$A$6:$A$1806,Data!$I$6:$I$1806)","v":0},{"$f":"LOOKUP($AO481,Data!$A$6:$A$1806,Data!$J$6:$J$1806)","v":-103},{"$f":"LOOKUP($AO481,Data!$A$6:$A$1806,Data!$K$6:$K$1806)","v":7785.12},24.798583984375]
[null,40098.111712962214,{"$f":"LOOKUP(B482,Data!$A$6:$A$1806,Data!B$6:B$1806)","v":59.972000122070313},{"$f":"LOOKUP(B482,Data!$A$6:$A$1806,Data!C$6:C$1806)","v":3743.7451171875},null,null,null,22.39990234375,23.285941286541298,null,null,0,3789.2953883779392,{"$f":"AVERAGE(D$79:D482)","v":3767.4279646165301},{"$f":"AVERAGE(M$79:M482)","v":3777.4509491684166},3765.4461564175972,{"$f":"AVERAGE(P$79:P482)","v":3746.8080455558083},633,null,null,null,null,null,null,0,633,-902.67247098182406,null,null,null,null,null,null,null,null,null,null,null,null,null,40098.111712962214,{"$f":"LOOKUP($AO482,Data!$A$6:$A$1806,Data!$B$6:$B$1806)","v":59.972000122070313},{"$f":"LOOKUP($AO482,Data!$A$6:$A$1806,Data!$C$6:$C$1806)","v":3743.7451171875},{"$f":"LOOKUP($AO482,Data!$A$6:$A$1806,Data!$D$6:$D$1806)","v":350},{"$f":"IF($AS$1=\"+\",LOOKUP($AO482,Data!$A$6:$A$1806,Data!$E$6:$E$1806)*-1,LOOKUP($AO482,Data!$A$6:$A$1806,Data!$E$6:$E$1806))","v":223.01573181152344},{"$f":"LOOKUP($AO482,Data!$A$6:$A$1806,Data!$F$6:$F$1806)","v":16},{"$f":"LOOKUP($AO482,Data!$A$6:$A$1806,Data!$G$6:$G$1806)","v":432.5},{"$f":"LOOKUP($AO482,Data!$A$6:$A$1806,Data!$H$6:$H$1806)","v":10},{"$f":"LOOKUP($AO482,Data!$A$6:$A$1806,Data!$I$6:$I$1806)","v":0},{"$f":"LOOKUP($AO482,Data!$A$6:$A$1806,Data!$J$6:$J$1806)","v":-103},{"$f":"LOOKUP($AO482,Data!$A$6:$A$1806,Data!$K$6:$K$1806)","v":7785.45},22.39990234375]
[null,40098.111736110361,{"$f":"LOOKUP(B483,Data!$A$6:$A$1806,Data!B$6:B$1806)","v":59.9739990234375},{"$f":"LOOKUP(B483,Data!$A$6:$A$1806,Data!C$6:C$1806)","v":3743.14892578125},null,null,null,20.80078125,22.416135273751845,null,null,0,3788.4255823651497,{"$f":"AVERAGE(D$79:D483)","v":3767.3680163724921},{"$f":"AVERAGE(M$79:M483)","v":3777.4780470281617},3765.4461564175972,{"$f":"AVERAGE(P$79:P483)","v":3746.854179493585},633,null,null,null,null,null,null,0,633,-929.15792288148054,null,null,null,null,null,null,null,null,null,null,null,null,null,40098.111736110361,{"$f":"LOOKUP($AO483,Data!$A$6:$A$1806,Data!$B$6:$B$1806)","v":59.9739990234375},{"$f":"LOOKUP($AO483,Data!$A$6:$A$1806,Data!$C$6:$C$1806)","v":3743.14892578125},{"$f":"LOOKUP($AO483,Data!$A$6:$A$1806,Data!$D$6:$D$1806)","v":350},{"$f":"IF($AS$1=\"+\",LOOKUP($AO483,Data!$A$6:$A$1806,Data!$E$6:$E$1806)*-1,LOOKUP($AO483,Data!$A$6:$A$1806,Data!$E$6:$E$1806))","v":223.01573181152344},{"$f":"LOOKUP($AO483,Data!$A$6:$A$1806,Data!$F$6:$F$1806)","v":16},{"$f":"LOOKUP($AO483,Data!$A$6:$A$1806,Data!$G$6:$G$1806)","v":433},{"$f":"LOOKUP($AO483,Data!$A$6:$A$1806,Data!$H$6:$H$1806)","v":10},{"$f":"LOOKUP($AO483,Data!$A$6:$A$1806,Data!$I$6:$I$1806)","v":0},{"$f":"LOOKUP($AO483,Data!$A$6:$A$1806,Data!$J$6:$J$1806)","v":-103},{"$f":"LOOKUP($AO483,Data!$A$6:$A$1806,Data!$K$6:$K$1806)","v":7785.78},20.80078125]
[null,40098.111759258507,{"$f":"LOOKUP(B484,Data!$A$6:$A$1806,Data!B$6:B$1806)","v":59.972999572753906},{"$f":"LOOKUP(B484,Data!$A$6:$A$1806,Data!C$6:C$1806)","v":3740.298583984375},null,null,null,21.600341796875,22.13060755684495,null,null,0,3788.1400546482428,{"$f":"AVERAGE(D$79:D484)","v":3767.3013428937038},{"$f":"AVERAGE(M$79:M484)","v":3777.504308130674},3765.4461564175972,{"$f":"AVERAGE(P$79:P484)","v":3746.9000856094463},633,null,null,null,null,null,null,0,633,-915.72372746901021,null,null,null,null,null,null,null,null,null,null,null,null,null,40098.111759258507,{"$f":"LOOKUP($AO484,Data!$A$6:$A$1806,Data!$B$6:$B$1806)","v":59.972999572753906},{"$f":"LOOKUP($AO484,Data!$A$6:$A$1806,Data!$C$6:$C$1806)","v":3740.298583984375},{"$f":"LOOKUP($AO484,Data!$A$6:$A$1806,Data!$D$6:$D$1806)","v":350},{"$f":"IF($AS$1=\"+\",LOOKUP($AO484,Data!$A$6:$A$1806,Data!$E$6:$E$1806)*-1,LOOKUP($AO484,Data!$A$6:$A$1806,Data!$E$6:$E$1806))","v":223.01573181152344},{"$f":"LOOKUP($AO484,Data!$A$6:$A$1806,Data!$F$6:$F$1806)","v":16},{"$f":"LOOKUP($AO484,Data!$A$6:$A$1806,Data!$G$6:$G$1806)","v":433.5},{"$f":"LOOKUP($AO484,Data!$A$6:$A$1806,Data!$H$6:$H$1806)","v":10},{"$f":"LOOKUP($AO484,Data!$A$6:$A$1806,Data!$I$6:$I$1806)","v":0},{"$f":"LOOKUP($AO484,Data!$A$6:$A$1806,Data!$J$6:$J$1806)","v":-103},{"$f":"LOOKUP($AO484,Data!$A$6:$A$1806,Data!$K$6:$K$1806)","v":7786.11},21.600341796875]
[null,40098.111782406653,{"$f":"LOOKUP(B485,Data!$A$6:$A$1806,Data!B$6:B$1806)","v":59.970001220703125},{"$f":"LOOKUP(B485,Data!$A$6:$A$1806,Data!C$6:C$1806)","v":3739.45263671875},null,null,null,23.9990234375,22.784553115074218,null,null,0,3788.794000206472,{"$f":"AVERAGE(D$79:D485)","v":3767.2329185542076},{"$f":"AVERAGE(M$79:M485)","v":3777.5320469318431},3765.4461564175972,{"$f":"AVERAGE(P$79:P485)","v":3746.9457655868064},633,null,null,null,null,null,null,0,633,-877.6550963604509,null,null,null,null,null,null,null,null,null,null,null,null,null,40098.111782406653,{"$f":"LOOKUP($AO485,Data!$A$6:$A$1806,Data!$B$6:$B$1806)","v":59.970001220703125},{"$f":"LOOKUP($AO485,Data!$A$6:$A$1806,Data!$C$6:$C$1806)","v":3739.45263671875},{"$f":"LOOKUP($AO485,Data!$A$6:$A$1806,Data!$D$6:$D$1806)","v":350},{"$f":"IF($AS$1=\"+\",LOOKUP($AO485,Data!$A$6:$A$1806,Data!$E$6:$E$1806)*-1,LOOKUP($AO485,Data!$A$6:$A$1806,Data!$E$6:$E$1806))","v":223.01573181152344},{"$f":"LOOKUP($AO485,Data!$A$6:$A$1806,Data!$F$6:$F$1806)","v":16},{"$f":"LOOKUP($AO485,Data!$A$6:$A$1806,Data!$G$6:$G$1806)","v":434},{"$f":"LOOKUP($AO485,Data!$A$6:$A$1806,Data!$H$6:$H$1806)","v":10},{"$f":"LOOKUP($AO485,Data!$A$6:$A$1806,Data!$I$6:$I$1806)","v":0},{"$f":"LOOKUP($AO485,Data!$A$6:$A$1806,Data!$J$6:$J$1806)","v":-103},{"$f":"LOOKUP($AO485,Data!$A$6:$A$1806,Data!$K$6:$K$1806)","v":7786.44},23.9990234375]
[null,40098.1118055548,{"$f":"LOOKUP(B486,Data!$A$6:$A$1806,Data!B$6:B$1806)","v":59.971000671386719},{"$f":"LOOKUP(B486,Data!$A$6:$A$1806,Data!C$6:C$1806)","v":3733.3759765625},null,null,null,23.199462890625,22.929771536516991,null,null,0,3788.9392186279147,{"$f":"AVERAGE(D$79:D486)","v":3767.1499358532474},{"$f":"AVERAGE(M$79:M486)","v":3777.5600056860003},3765.4461564175972,{"$f":"AVERAGE(P$79:P486)","v":3746.9912210925327},633,null,null,null,null,null,null,0,633,-889.98801011001683,null,null,null,null,null,null,null,null,null,null,null,null,null,40098.1118055548,{"$f":"LOOKUP($AO486,Data!$A$6:$A$1806,Data!$B$6:$B$1806)","v":59.971000671386719},{"$f":"LOOKUP($AO486,Data!$A$6:$A$1806,Data!$C$6:$C$1806)","v":3733.3759765625},{"$f":"LOOKUP($AO486,Data!$A$6:$A$1806,Data!$D$6:$D$1806)","v":350},{"$f":"IF($AS$1=\"+\",LOOKUP($AO486,Data!$A$6:$A$1806,Data!$E$6:$E$1806)*-1,LOOKUP($AO486,Data!$A$6:$A$1806,Data!$E$6:$E$1806))","v":223.01573181152344},{"$f":"LOOKUP($AO486,Data!$A$6:$A$1806,Data!$F$6:$F$1806)","v":16},{"$f":"LOOKUP($AO486,Data!$A$6:$A$1806,Data!$G$6:$G$1806)","v":434.5},{"$f":"LOOKUP($AO486,Data!$A$6:$A$1806,Data!$H$6:$H$1806)","v":10},{"$f":"LOOKUP($AO486,Data!$A$6:$A$1806,Data!$I$6:$I$1806)","v":0},{"$f":"LOOKUP($AO486,Data!$A$6:$A$1806,Data!$J$6:$J$1806)","v":-103},{"$f":"LOOKUP($AO486,Data!$A$6:$A$1806,Data!$K$6:$K$1806)","v":7786.77},23.199462890625]
[null,40098.111828702946,{"$f":"LOOKUP(B487,Data!$A$6:$A$1806,Data!B$6:B$1806)","v":59.9739990234375},{"$f":"LOOKUP(B487,Data!$A$6:$A$1806,Data!C$6:C$1806)","v":3731.82958984375},null,null,null,20.80078125,22.184624936236045,null,null,0,3788.1940720276339,{"$f":"AVERAGE(D$79:D487)","v":3767.0635780390435},{"$f":"AVERAGE(M$79:M487)","v":3777.5860058482049},3765.4461564175972,{"$f":"AVERAGE(P$79:P487)","v":3747.0364537771525},633,null,null,null,null,null,null,0,633,-929.15792288148054,null,null,null,null,null,null,null,null,null,null,null,null,null,40098.111828702946,{"$f":"LOOKUP($AO487,Data!$A$6:$A$1806,Data!$B$6:$B$1806)","v":59.9739990234375},{"$f":"LOOKUP($AO487,Data!$A$6:$A$1806,Data!$C$6:$C$1806)","v":3731.82958984375},{"$f":"LOOKUP($AO487,Data!$A$6:$A$1806,Data!$D$6:$D$1806)","v":350},{"$f":"IF($AS$1=\"+\",LOOKUP($AO487,Data!$A$6:$A$1806,Data!$E$6:$E$1806)*-1,LOOKUP($AO487,Data!$A$6:$A$1806,Data!$E$6:$E$1806))","v":223.01573181152344},{"$f":"LOOKUP($AO487,Data!$A$6:$A$1806,Data!$F$6:$F$1806)","v":16},{"$f":"LOOKUP($AO487,Data!$A$6:$A$1806,Data!$G$6:$G$1806)","v":435},{"$f":"LOOKUP($AO487,Data!$A$6:$A$1806,Data!$H$6:$H$1806)","v":10},{"$f":"LOOKUP($AO487,Data!$A$6:$A$1806,Data!$I$6:$I$1806)","v":0},{"$f":"LOOKUP($AO487,Data!$A$6:$A$1806,Data!$J$6:$J$1806)","v":-103},{"$f":"LOOKUP($AO487,Data!$A$6:$A$1806,Data!$K$6:$K$1806)","v":7787.1},20.80078125]
[null,40098.111851851092,{"$f":"LOOKUP(B488,Data!$A$6:$A$1806,Data!B$6:B$1806)","v":59.981998443603516},{"$f":"LOOKUP(B488,Data!$A$6:$A$1806,Data!C$6:C$1806)","v":3737.58251953125},null,null,null,14.4012451171875,19.460441999569056,null,null,0,3785.4698890909667,{"$f":"AVERAGE(D$79:D488)","v":3766.9916730182927},{"$f":"AVERAGE(M$79:M488)","v":3777.6052348317239},3765.4461564175972,{"$f":"AVERAGE(P$79:P488)","v":3747.081465275051},633,null,null,null,null,null,null,0,633,-1052.7754597723938,null,null,null,null,null,null,null,null,null,null,null,null,null,40098.111851851092,{"$f":"LOOKUP($AO488,Data!$A$6:$A$1806,Data!$B$6:$B$1806)","v":59.981998443603516},{"$f":"LOOKUP($AO488,Data!$A$6:$A$1806,Data!$C$6:$C$1806)","v":3737.58251953125},{"$f":"LOOKUP($AO488,Data!$A$6:$A$1806,Data!$D$6:$D$1806)","v":350},{"$f":"IF($AS$1=\"+\",LOOKUP($AO488,Data!$A$6:$A$1806,Data!$E$6:$E$1806)*-1,LOOKUP($AO488,Data!$A$6:$A$1806,Data!$E$6:$E$1806))","v":223.01573181152344},{"$f":"LOOKUP($AO488,Data!$A$6:$A$1806,Data!$F$6:$F$1806)","v":16},{"$f":"LOOKUP($AO488,Data!$A$6:$A$1806,Data!$G$6:$G$1806)","v":435.5},{"$f":"LOOKUP($AO488,Data!$A$6:$A$1806,Data!$H$6:$H$1806)","v":10},{"$f":"LOOKUP($AO488,Data!$A$6:$A$1806,Data!$I$6:$I$1806)","v":0},{"$f":"LOOKUP($AO488,Data!$A$6:$A$1806,Data!$J$6:$J$1806)","v":-103},{"$f":"LOOKUP($AO488,Data!$A$6:$A$1806,Data!$K$6:$K$1806)","v":7787.43},14.4012451171875]
[null,40098.111874999238,{"$f":"LOOKUP(B489,Data!$A$6:$A$1806,Data!B$6:B$1806)","v":59.985000610351563},{"$f":"LOOKUP(B489,Data!$A$6:$A$1806,Data!C$6:C$1806)","v":3736.2294921875},null,null,null,11.99951171875,16.849116401282387,null,null,0,3782.8585634926799,{"$f":"AVERAGE(D$79:D489)","v":3766.9168258629866},{"$f":"AVERAGE(M$79:M489)","v":3777.6180166532836},3765.4461564175972,{"$f":"AVERAGE(P$79:P489)","v":3747.1262572046667},633,null,null,null,null,null,null,0,633,-1108.1037537875943,null,null,null,null,null,null,null,null,null,null,null,null,null,40098.111874999238,{"$f":"LOOKUP($AO489,Data!$A$6:$A$1806,Data!$B$6:$B$1806)","v":59.985000610351563},{"$f":"LOOKUP($AO489,Data!$A$6:$A$1806,Data!$C$6:$C$1806)","v":3736.2294921875},{"$f":"LOOKUP($AO489,Data!$A$6:$A$1806,Data!$D$6:$D$1806)","v":350},{"$f":"IF($AS$1=\"+\",LOOKUP($AO489,Data!$A$6:$A$1806,Data!$E$6:$E$1806)*-1,LOOKUP($AO489,Data!$A$6:$A$1806,Data!$E$6:$E$1806))","v":223.01573181152344},{"$f":"LOOKUP($AO489,Data!$A$6:$A$1806,Data!$F$6:$F$1806)","v":16},{"$f":"LOOKUP($AO489,Data!$A$6:$A$1806,Data!$G$6:$G$1806)","v":436},{"$f":"LOOKUP($AO489,Data!$A$6:$A$1806,Data!$H$6:$H$1806)","v":10},{"$f":"LOOKUP($AO489,Data!$A$6:$A$1806,Data!$I$6:$I$1806)","v":0},{"$f":"LOOKUP($AO489,Data!$A$6:$A$1806,Data!$J$6:$J$1806)","v":-103},{"$f":"LOOKUP($AO489,Data!$A$6:$A$1806,Data!$K$6:$K$1806)","v":7787.76},11.99951171875]
[null,40098.111898147385,{"$f":"LOOKUP(B490,Data!$A$6:$A$1806,Data!B$6:B$1806)","v":59.985000610351563},{"$f":"LOOKUP(B490,Data!$A$6:$A$1806,Data!C$6:C$1806)","v":3734.896728515625},null,null,null,11.99951171875,15.151754762396052,null,null,0,3781.1612018537935,{"$f":"AVERAGE(D$79:D490)","v":3766.8391071801047},{"$f":"AVERAGE(M$79:M490)","v":3777.6266166173623},3765.4461564175972,{"$f":"AVERAGE(P$79:P490)","v":3747.170831168688},633,null,null,null,null,null,null,0,633,-1108.1037537875943,null,null,null,null,null,null,null,null,null,null,null,null,null,40098.111898147385,{"$f":"LOOKUP($AO490,Data!$A$6:$A$1806,Data!$B$6:$B$1806)","v":59.985000610351563},{"$f":"LOOKUP($AO490,Data!$A$6:$A$1806,Data!$C$6:$C$1806)","v":3734.896728515625},{"$f":"LOOKUP($AO490,Data!$A$6:$A$1806,Data!$D$6:$D$1806)","v":350},{"$f":"IF($AS$1=\"+\",LOOKUP($AO490,Data!$A$6:$A$1806,Data!$E$6:$E$1806)*-1,LOOKUP($AO490,Data!$A$6:$A$1806,Data!$E$6:$E$1806))","v":223.01573181152344},{"$f":"LOOKUP($AO490,Data!$A$6:$A$1806,Data!$F$6:$F$1806)","v":16},{"$f":"LOOKUP($AO490,Data!$A$6:$A$1806,Data!$G$6:$G$1806)","v":436.5},{"$f":"LOOKUP($AO490,Data!$A$6:$A$1806,Data!$H$6:$H$1806)","v":10},{"$f":"LOOKUP($AO490,Data!$A$6:$A$1806,Data!$I$6:$I$1806)","v":0},{"$f":"LOOKUP($AO490,Data!$A$6:$A$1806,Data!$J$6:$J$1806)","v":-103},{"$f":"LOOKUP($AO490,Data!$A$6:$A$1806,Data!$K$6:$K$1806)","v":7788.09},11.99951171875]
[null,40098.111921295531,{"$f":"LOOKUP(B491,Data!$A$6:$A$1806,Data!B$6:B$1806)","v":59.985000610351563},{"$f":"LOOKUP(B491,Data!$A$6:$A$1806,Data!C$6:C$1806)","v":3733.433837890625},null,null,null,11.99951171875,{"$f":"L$13*H491+(1-L$13)*I490","v":14.048469697119934},null,null,0,3780.0579167885176,{"$f":"AVERAGE(D$79:D491)","v":3766.7582227508324},{"$f":"AVERAGE(M$79:M491)","v":3777.6325035427167},3765.4461564175972,{"$f":"AVERAGE(P$79:P491)","v":3747.2151887542432},633,null,null,null,null,null,null,0,{"$f":"SUM(R491:Y491)","v":633},-1108.1037537875943,null,null,null,null,null,null,null,null,null,null,null,null,null,40098.111921295531,{"$f":"LOOKUP($AO491,Data!$A$6:$A$1806,Data!$B$6:$B$1806)","v":59.985000610351563},{"$f":"LOOKUP($AO491,Data!$A$6:$A$1806,Data!$C$6:$C$1806)","v":3733.433837890625},{"$f":"LOOKUP($AO491,Data!$A$6:$A$1806,Data!$D$6:$D$1806)","v":350},{"$f":"IF($AS$1=\"+\",LOOKUP($AO491,Data!$A$6:$A$1806,Data!$E$6:$E$1806)*-1,LOOKUP($AO491,Data!$A$6:$A$1806,Data!$E$6:$E$1806))","v":223.01573181152344},{"$f":"LOOKUP($AO491,Data!$A$6:$A$1806,Data!$F$6:$F$1806)","v":16},{"$f":"LOOKUP($AO491,Data!$A$6:$A$1806,Data!$G$6:$G$1806)","v":437},{"$f":"LOOKUP($AO491,Data!$A$6:$A$1806,Data!$H$6:$H$1806)","v":10},{"$f":"LOOKUP($AO491,Data!$A$6:$A$1806,Data!$I$6:$I$1806)","v":0},{"$f":"LOOKUP($AO491,Data!$A$6:$A$1806,Data!$J$6:$J$1806)","v":-103},{"$f":"LOOKUP($AO491,Data!$A$6:$A$1806,Data!$K$6:$K$1806)","v":7788.42},11.99951171875]
[null,40098.111944443677,{"$f":"LOOKUP(B492,Data!$A$6:$A$1806,Data!B$6:B$1806)","v":59.98699951171875},{"$f":"LOOKUP(B492,Data!$A$6:$A$1806,Data!C$6:C$1806)","v":3733.115234375},null,null,null,{"$f":"(IF((C492-L$2)>0,((C492-L$2-L$5)/((L$4*L$2)-L$5)*L$3*-1),((C492-L$2+L$5)/((L$4*L$2)-L$5)*L$3*-1)))","v":10.400390625},12.771642021877957,null,null,0,3778.7810891132754,{"$f":"AVERAGE(D$79:D492)","v":3766.676959493886},{"$f":"AVERAGE(M$79:M492)","v":3777.635277903998},3765.4461564175972,{"$f":"AVERAGE(P$79:P492)","v":3747.2593315330887},633,null,null,null,null,null,null,0,633,-1148.2844602835469,null,null,null,null,null,null,null,null,null,null,null,null,null,40098.111944443677,{"$f":"LOOKUP($AO492,Data!$A$6:$A$1806,Data!$B$6:$B$1806)","v":59.98699951171875},{"$f":"LOOKUP($AO492,Data!$A$6:$A$1806,Data!$C$6:$C$1806)","v":3733.115234375},{"$f":"LOOKUP($AO492,Data!$A$6:$A$1806,Data!$D$6:$D$1806)","v":350},{"$f":"IF($AS$1=\"+\",LOOKUP($AO492,Data!$A$6:$A$1806,Data!$E$6:$E$1806)*-1,LOOKUP($AO492,Data!$A$6:$A$1806,Data!$E$6:$E$1806))","v":223.01573181152344},{"$f":"LOOKUP($AO492,Data!$A$6:$A$1806,Data!$F$6:$F$1806)","v":16},{"$f":"LOOKUP($AO492,Data!$A$6:$A$1806,Data!$G$6:$G$1806)","v":437.5},{"$f":"LOOKUP($AO492,Data!$A$6:$A$1806,Data!$H$6:$H$1806)","v":10},{"$f":"LOOKUP($AO492,Data!$A$6:$A$1806,Data!$I$6:$I$1806)","v":0},{"$f":"LOOKUP($AO492,Data!$A$6:$A$1806,Data!$J$6:$J$1806)","v":-103},{"$f":"LOOKUP($AO492,Data!$A$6:$A$1806,Data!$K$6:$K$1806)","v":7788.75},{"$f":"(IF((AP492-$L$2)>0,((AP492-$L$2-$L$5)/(($L$4*$L$2)-$L$5)*$L$3*-1),((AP492-$L$2+$L$5)/(($L$4*$L$2)-$L$5)*$L$3*-1)))","v":10.400390625}]
[null,40098.111967591823,{"$f":"LOOKUP(B493,Data!$A$6:$A$1806,Data!B$6:B$1806)","v":59.988998413085937},{"$f":"LOOKUP(B493,Data!$A$6:$A$1806,Data!C$6:C$1806)","v":3730.509765625},null,null,null,8.80126953125,11.382011650158173,null,null,0,3777.3914587415557,{"$f":"AVERAGE(D$79:D493)","v":3766.5898096291417},{"$f":"AVERAGE(M$79:M493)","v":3777.6346903879444},3765.4461564175972,{"$f":"AVERAGE(P$79:P493)","v":3747.3032610617952},633,null,null,null,null,null,null,0,633,-1191.4887726069201,null,null,null,null,null,null,null,null,null,null,null,null,null,40098.111967591823,{"$f":"LOOKUP($AO493,Data!$A$6:$A$1806,Data!$B$6:$B$1806)","v":59.988998413085937},{"$f":"LOOKUP($AO493,Data!$A$6:$A$1806,Data!$C$6:$C$1806)","v":3730.509765625},{"$f":"LOOKUP($AO493,Data!$A$6:$A$1806,Data!$D$6:$D$1806)","v":350},{"$f":"IF($AS$1=\"+\",LOOKUP($AO493,Data!$A$6:$A$1806,Data!$E$6:$E$1806)*-1,LOOKUP($AO493,Data!$A$6:$A$1806,Data!$E$6:$E$1806))","v":223.01573181152344},{"$f":"LOOKUP($AO493,Data!$A$6:$A$1806,Data!$F$6:$F$1806)","v":16},{"$f":"LOOKUP($AO493,Data!$A$6:$A$1806,Data!$G$6:$G$1806)","v":438},{"$f":"LOOKUP($AO493,Data!$A$6:$A$1806,Data!$H$6:$H$1806)","v":10},{"$f":"LOOKUP($AO493,Data!$A$6:$A$1806,Data!$I$6:$I$1806)","v":0},{"$f":"LOOKUP($AO493,Data!$A$6:$A$1806,Data!$J$6:$J$1806)","v":-103},{"$f":"LOOKUP($AO493,Data!$A$6:$A$1806,Data!$K$6:$K$1806)","v":7789.08},8.80126953125]
[null,{"$f":"B493+TIME(0,0,$B$1)","v":40098.11199073997},{"$f":"LOOKUP(B494,Data!$A$6:$A$1806,Data!B$6:B$1806)","v":59.988998413085937},{"$f":"LOOKUP(B494,Data!$A$6:$A$1806,Data!C$6:C$1806)","v":3729.18017578125},null,null,null,8.80126953125,10.478751908540312,null,null,0,3776.4881989999376,{"$f":"AVERAGE(D$79:D494)","v":3766.4998826246997},{"$f":"AVERAGE(M$79:M494)","v":3777.6319343990308},3765.4461564175972,{"$f":"AVERAGE(P$79:P494)","v":3747.3469788819293},633,null,null,null,null,null,null,0,633,-1191.4887726069201,null,null,null,null,null,null,null,null,null,null,null,null,null,40098.11199073997,{"$f":"LOOKUP($AO494,Data!$A$6:$A$1806,Data!$B$6:$B$1806)","v":59.988998413085937},{"$f":"LOOKUP($AO494,Data!$A$6:$A$1806,Data!$C$6:$C$1806)","v":3729.18017578125},{"$f":"LOOKUP($AO494,Data!$A$6:$A$1806,Data!$D$6:$D$1806)","v":350},{"$f":"IF($AS$1=\"+\",LOOKUP($AO494,Data!$A$6:$A$1806,Data!$E$6:$E$1806)*-1,LOOKUP($AO494,Data!$A$6:$A$1806,Data!$E$6:$E$1806))","v":223.01573181152344},{"$f":"LOOKUP($AO494,Data!$A$6:$A$1806,Data!$F$6:$F$1806)","v":16},{"$f":"LOOKUP($AO494,Data!$A$6:$A$1806,Data!$G$6:$G$1806)","v":438.5},{"$f":"LOOKUP($AO494,Data!$A$6:$A$1806,Data!$H$6:$H$1806)","v":10},{"$f":"LOOKUP($AO494,Data!$A$6:$A$1806,Data!$I$6:$I$1806)","v":0},{"$f":"LOOKUP($AO494,Data!$A$6:$A$1806,Data!$J$6:$J$1806)","v":-103},{"$f":"LOOKUP($AO494,Data!$A$6:$A$1806,Data!$K$6:$K$1806)","v":7789.41},8.80126953125]
[null,40098.112013888116,{"$f":"LOOKUP(B495,Data!$A$6:$A$1806,Data!B$6:B$1806)","v":59.986000061035156},{"$f":"LOOKUP(B495,Data!$A$6:$A$1806,Data!C$6:C$1806)","v":3725.458740234375},null,null,null,11.199951171875,10.731171650707452,null,null,0,3776.7406187421047,{"$f":"AVERAGE(D$79:D495)","v":3766.4014626189673},{"$f":"AVERAGE(M$79:M495)","v":3777.6297969514121},3765.4461564175972,{"$f":"AVERAGE(P$79:P495)","v":3747.3904865202358},633,null,null,null,null,null,null,0,633,-1127.8363474168034,null,null,null,null,null,null,null,null,null,null,null,null,null,40098.112013888116,{"$f":"LOOKUP($AO495,Data!$A$6:$A$1806,Data!$B$6:$B$1806)","v":59.986000061035156},{"$f":"LOOKUP($AO495,Data!$A$6:$A$1806,Data!$C$6:$C$1806)","v":3725.458740234375},{"$f":"LOOKUP($AO495,Data!$A$6:$A$1806,Data!$D$6:$D$1806)","v":350},{"$f":"IF($AS$1=\"+\",LOOKUP($AO495,Data!$A$6:$A$1806,Data!$E$6:$E$1806)*-1,LOOKUP($AO495,Data!$A$6:$A$1806,Data!$E$6:$E$1806))","v":223.01573181152344},{"$f":"LOOKUP($AO495,Data!$A$6:$A$1806,Data!$F$6:$F$1806)","v":16},{"$f":"LOOKUP($AO495,Data!$A$6:$A$1806,Data!$G$6:$G$1806)","v":439},{"$f":"LOOKUP($AO495,Data!$A$6:$A$1806,Data!$H$6:$H$1806)","v":10},{"$f":"LOOKUP($AO495,Data!$A$6:$A$1806,Data!$I$6:$I$1806)","v":0},{"$f":"LOOKUP($AO495,Data!$A$6:$A$1806,Data!$J$6:$J$1806)","v":-103},{"$f":"LOOKUP($AO495,Data!$A$6:$A$1806,Data!$K$6:$K$1806)","v":7789.74},11.199951171875]
[null,40098.112037036262,{"$f":"LOOKUP(B496,Data!$A$6:$A$1806,Data!B$6:B$1806)","v":59.98699951171875},{"$f":"LOOKUP(B496,Data!$A$6:$A$1806,Data!C$6:C$1806)","v":3724.78466796875},null,null,null,10.400390625,10.615398291709843,null,null,0,3776.6248453831072,{"$f":"AVERAGE(D$79:D496)","v":3766.3019009092777},{"$f":"AVERAGE(M$79:M496)","v":3777.6273927610578},3765.4461564175972,{"$f":"AVERAGE(P$79:P496)","v":3747.4337854888145},633,null,null,null,null,null,null,0,633,-1148.2844602835469,null,null,null,null,null,null,null,null,null,null,null,null,null,40098.112037036262,{"$f":"LOOKUP($AO496,Data!$A$6:$A$1806,Data!$B$6:$B$1806)","v":59.98699951171875},{"$f":"LOOKUP($AO496,Data!$A$6:$A$1806,Data!$C$6:$C$1806)","v":3724.78466796875},{"$f":"LOOKUP($AO496,Data!$A$6:$A$1806,Data!$D$6:$D$1806)","v":350},{"$f":"IF($AS$1=\"+\",LOOKUP($AO496,Data!$A$6:$A$1806,Data!$E$6:$E$1806)*-1,LOOKUP($AO496,Data!$A$6:$A$1806,Data!$E$6:$E$1806))","v":223.01573181152344},{"$f":"LOOKUP($AO496,Data!$A$6:$A$1806,Data!$F$6:$F$1806)","v":16},{"$f":"LOOKUP($AO496,Data!$A$6:$A$1806,Data!$G$6:$G$1806)","v":439.5},{"$f":"LOOKUP($AO496,Data!$A$6:$A$1806,Data!$H$6:$H$1806)","v":10},{"$f":"LOOKUP($AO496,Data!$A$6:$A$1806,Data!$I$6:$I$1806)","v":0},{"$f":"LOOKUP($AO496,Data!$A$6:$A$1806,Data!$J$6:$J$1806)","v":-103},{"$f":"LOOKUP($AO496,Data!$A$6:$A$1806,Data!$K$6:$K$1806)","v":7790.07},10.400390625]
[null,40098.112060184409,{"$f":"LOOKUP(B497,Data!$A$6:$A$1806,Data!B$6:B$1806)","v":59.990001678466797},{"$f":"LOOKUP(B497,Data!$A$6:$A$1806,Data!C$6:C$1806)","v":3720.10791015625},null,null,null,7.9986572265625,9.6995389189082744,null,null,0,3775.7089860103056,{"$f":"AVERAGE(D$79:D497)","v":3766.191652721323},{"$f":"AVERAGE(M$79:M497)","v":3777.62281422466},3765.4461564175972,{"$f":"AVERAGE(P$79:P497)","v":3747.4768772852944},633,null,null,null,null,null,null,0,633,-1214.422350907045,null,null,null,null,null,null,null,null,null,null,null,null,null,40098.112060184409,{"$f":"LOOKUP($AO497,Data!$A$6:$A$1806,Data!$B$6:$B$1806)","v":59.990001678466797},{"$f":"LOOKUP($AO497,Data!$A$6:$A$1806,Data!$C$6:$C$1806)","v":3720.10791015625},{"$f":"LOOKUP($AO497,Data!$A$6:$A$1806,Data!$D$6:$D$1806)","v":350},{"$f":"IF($AS$1=\"+\",LOOKUP($AO497,Data!$A$6:$A$1806,Data!$E$6:$E$1806)*-1,LOOKUP($AO497,Data!$A$6:$A$1806,Data!$E$6:$E$1806))","v":223.01573181152344},{"$f":"LOOKUP($AO497,Data!$A$6:$A$1806,Data!$F$6:$F$1806)","v":16},{"$f":"LOOKUP($AO497,Data!$A$6:$A$1806,Data!$G$6:$G$1806)","v":440},{"$f":"LOOKUP($AO497,Data!$A$6:$A$1806,Data!$H$6:$H$1806)","v":10},{"$f":"LOOKUP($AO497,Data!$A$6:$A$1806,Data!$I$6:$I$1806)","v":0},{"$f":"LOOKUP($AO497,Data!$A$6:$A$1806,Data!$J$6:$J$1806)","v":-103},{"$f":"LOOKUP($AO497,Data!$A$6:$A$1806,Data!$K$6:$K$1806)","v":7790.4},7.9986572265625]
[null,40098.112083332555,{"$f":"LOOKUP(B498,Data!$A$6:$A$1806,Data!B$6:B$1806)","v":59.993999481201172},{"$f":"LOOKUP(B498,Data!$A$6:$A$1806,Data!C$6:C$1806)","v":3720.938232421875},null,null,null,4.8004150390625,7.9848455609622535,null,null,0,3773.9942926523595,{"$f":"AVERAGE(D$79:D498)","v":3766.083906482515},{"$f":"AVERAGE(M$79:M498)","v":3777.6141748875834},3765.4461564175972,{"$f":"AVERAGE(P$79:P498)","v":3747.5197633930088},633,null,null,null,null,null,null,0,633,-1315.3043447244047,null,null,null,null,null,null,null,null,null,null,null,null,null,40098.112083332555,{"$f":"LOOKUP($AO498,Data!$A$6:$A$1806,Data!$B$6:$B$1806)","v":59.993999481201172},{"$f":"LOOKUP($AO498,Data!$A$6:$A$1806,Data!$C$6:$C$1806)","v":3720.938232421875},{"$f":"LOOKUP($AO498,Data!$A$6:$A$1806,Data!$D$6:$D$1806)","v":350},{"$f":"IF($AS$1=\"+\",LOOKUP($AO498,Data!$A$6:$A$1806,Data!$E$6:$E$1806)*-1,LOOKUP($AO498,Data!$A$6:$A$1806,Data!$E$6:$E$1806))","v":223.01573181152344},{"$f":"LOOKUP($AO498,Data!$A$6:$A$1806,Data!$F$6:$F$1806)","v":16},{"$f":"LOOKUP($AO498,Data!$A$6:$A$1806,Data!$G$6:$G$1806)","v":440.5},{"$f":"LOOKUP($AO498,Data!$A$6:$A$1806,Data!$H$6:$H$1806)","v":10},{"$f":"LOOKUP($AO498,Data!$A$6:$A$1806,Data!$I$6:$I$1806)","v":0},{"$f":"LOOKUP($AO498,Data!$A$6:$A$1806,Data!$J$6:$J$1806)","v":-103},{"$f":"LOOKUP($AO498,Data!$A$6:$A$1806,Data!$K$6:$K$1806)","v":7790.73},4.8004150390625]
[null,40098.112106480701,{"$f":"LOOKUP(B499,Data!$A$6:$A$1806,Data!B$6:B$1806)","v":59.995998382568359},{"$f":"LOOKUP(B499,Data!$A$6:$A$1806,Data!C$6:C$1806)","v":3725.661376953125},null,null,null,3.2012939453125,6.3106024954848401,null,null,0,3772.3200495868819,{"$f":"AVERAGE(D$79:D499)","v":3765.9878909729437},{"$f":"AVERAGE(M$79:M499)","v":3777.6015997681043},3765.4461564175972,{"$f":"AVERAGE(P$79:P499)","v":3747.5624452811621},633,null,null,null,null,null,null,0,633,-1372.3029058768802,null,null,null,null,null,null,null,null,null,null,null,null,null,40098.112106480701,{"$f":"LOOKUP($AO499,Data!$A$6:$A$1806,Data!$B$6:$B$1806)","v":59.995998382568359},{"$f":"LOOKUP($AO499,Data!$A$6:$A$1806,Data!$C$6:$C$1806)","v":3725.661376953125},{"$f":"LOOKUP($AO499,Data!$A$6:$A$1806,Data!$D$6:$D$1806)","v":350},{"$f":"IF($AS$1=\"+\",LOOKUP($AO499,Data!$A$6:$A$1806,Data!$E$6:$E$1806)*-1,LOOKUP($AO499,Data!$A$6:$A$1806,Data!$E$6:$E$1806))","v":223.01573181152344},{"$f":"LOOKUP($AO499,Data!$A$6:$A$1806,Data!$F$6:$F$1806)","v":16},{"$f":"LOOKUP($AO499,Data!$A$6:$A$1806,Data!$G$6:$G$1806)","v":441},{"$f":"LOOKUP($AO499,Data!$A$6:$A$1806,Data!$H$6:$H$1806)","v":10},{"$f":"LOOKUP($AO499,Data!$A$6:$A$1806,Data!$I$6:$I$1806)","v":0},{"$f":"LOOKUP($AO499,Data!$A$6:$A$1806,Data!$J$6:$J$1806)","v":-103},{"$f":"LOOKUP($AO499,Data!$A$6:$A$1806,Data!$K$6:$K$1806)","v":7791.06},3.2012939453125]
[null,40098.112129628847,{"$f":"LOOKUP(B500,Data!$A$6:$A$1806,Data!B$6:B$1806)","v":60.000999450683594},{"$f":"LOOKUP(B500,Data!$A$6:$A$1806,Data!C$6:C$1806)","v":3725.6767578125},null,null,null,-0.799560546875,3.8220454306588962,null,null,0,3769.8314925220561,{"$f":"AVERAGE(D$79:D500)","v":3765.8923669607152},{"$f":"AVERAGE(M$79:M500)","v":3777.5831871916921},3765.4461564175972,{"$f":"AVERAGE(P$79:P500)","v":3747.6049244050014},633,null,null,null,null,null,null,0,633,-1539.1807436780409,null,null,null,null,null,null,null,null,null,null,null,null,null,40098.112129628847,{"$f":"LOOKUP($AO500,Data!$A$6:$A$1806,Data!$B$6:$B$1806)","v":60.000999450683594},{"$f":"LOOKUP($AO500,Data!$A$6:$A$1806,Data!$C$6:$C$1806)","v":3725.6767578125},{"$f":"LOOKUP($AO500,Data!$A$6:$A$1806,Data!$D$6:$D$1806)","v":350},{"$f":"IF($AS$1=\"+\",LOOKUP($AO500,Data!$A$6:$A$1806,Data!$E$6:$E$1806)*-1,LOOKUP($AO500,Data!$A$6:$A$1806,Data!$E$6:$E$1806))","v":223.01573181152344},{"$f":"LOOKUP($AO500,Data!$A$6:$A$1806,Data!$F$6:$F$1806)","v":16},{"$f":"LOOKUP($AO500,Data!$A$6:$A$1806,Data!$G$6:$G$1806)","v":441.5},{"$f":"LOOKUP($AO500,Data!$A$6:$A$1806,Data!$H$6:$H$1806)","v":10},{"$f":"LOOKUP($AO500,Data!$A$6:$A$1806,Data!$I$6:$I$1806)","v":0},{"$f":"LOOKUP($AO500,Data!$A$6:$A$1806,Data!$J$6:$J$1806)","v":-103},{"$f":"LOOKUP($AO500,Data!$A$6:$A$1806,Data!$K$6:$K$1806)","v":7791.39},-0.799560546875]
[null,40098.112152776994,{"$f":"LOOKUP(B501,Data!$A$6:$A$1806,Data!B$6:B$1806)","v":60.002998352050781},{"$f":"LOOKUP(B501,Data!$A$6:$A$1806,Data!C$6:C$1806)","v":3727.754150390625},null,null,null,-2.398681640625,1.6447909557095328,null,null,0,3767.6542380471069,{"$f":"AVERAGE(D$79:D501)","v":3765.8022056922282},{"$f":"AVERAGE(M$79:M501)","v":3777.5597144986787},3765.4461564175972,{"$f":"AVERAGE(P$79:P501)","v":3747.6472022059788},633,null,null,null,null,null,null,0,633,-1617.8139248065322,null,null,null,null,null,null,null,null,null,null,null,null,null,40098.112152776994,{"$f":"LOOKUP($AO501,Data!$A$6:$A$1806,Data!$B$6:$B$1806)","v":60.002998352050781},{"$f":"LOOKUP($AO501,Data!$A$6:$A$1806,Data!$C$6:$C$1806)","v":3727.754150390625},{"$f":"LOOKUP($AO501,Data!$A$6:$A$1806,Data!$D$6:$D$1806)","v":350},{"$f":"IF($AS$1=\"+\",LOOKUP($AO501,Data!$A$6:$A$1806,Data!$E$6:$E$1806)*-1,LOOKUP($AO501,Data!$A$6:$A$1806,Data!$E$6:$E$1806))","v":223.01573181152344},{"$f":"LOOKUP($AO501,Data!$A$6:$A$1806,Data!$F$6:$F$1806)","v":16},{"$f":"LOOKUP($AO501,Data!$A$6:$A$1806,Data!$G$6:$G$1806)","v":442},{"$f":"LOOKUP($AO501,Data!$A$6:$A$1806,Data!$H$6:$H$1806)","v":10},{"$f":"LOOKUP($AO501,Data!$A$6:$A$1806,Data!$I$6:$I$1806)","v":0},{"$f":"LOOKUP($AO501,Data!$A$6:$A$1806,Data!$J$6:$J$1806)","v":-103},{"$f":"LOOKUP($AO501,Data!$A$6:$A$1806,Data!$K$6:$K$1806)","v":7791.72},-2.398681640625]
[null,40098.11217592514,{"$f":"LOOKUP(B502,Data!$A$6:$A$1806,Data!B$6:B$1806)","v":60.004001617431641},{"$f":"LOOKUP(B502,Data!$A$6:$A$1806,Data!C$6:C$1806)","v":3727.82470703125},null,null,null,-3.2012939453125,-5.1338759648178689E-2,null,null,0,3765.9581083317494,{"$f":"AVERAGE(D$79:D502)","v":3765.7126361199144},{"$f":"AVERAGE(M$79:M502)","v":3777.5323522199833},3765.4461564175972,{"$f":"AVERAGE(P$79:P502)","v":3747.6892801119161},633,null,null,null,null,null,null,0,633,-1660.3885079611262,null,null,null,null,null,null,null,null,null,null,null,null,null,40098.11217592514,{"$f":"LOOKUP($AO502,Data!$A$6:$A$1806,Data!$B$6:$B$1806)","v":60.004001617431641},{"$f":"LOOKUP($AO502,Data!$A$6:$A$1806,Data!$C$6:$C$1806)","v":3727.82470703125},{"$f":"LOOKUP($AO502,Data!$A$6:$A$1806,Data!$D$6:$D$1806)","v":350},{"$f":"IF($AS$1=\"+\",LOOKUP($AO502,Data!$A$6:$A$1806,Data!$E$6:$E$1806)*-1,LOOKUP($AO502,Data!$A$6:$A$1806,Data!$E$6:$E$1806))","v":223.01573181152344},{"$f":"LOOKUP($AO502,Data!$A$6:$A$1806,Data!$F$6:$F$1806)","v":16},{"$f":"LOOKUP($AO502,Data!$A$6:$A$1806,Data!$G$6:$G$1806)","v":442.5},{"$f":"LOOKUP($AO502,Data!$A$6:$A$1806,Data!$H$6:$H$1806)","v":10},{"$f":"LOOKUP($AO502,Data!$A$6:$A$1806,Data!$I$6:$I$1806)","v":0},{"$f":"LOOKUP($AO502,Data!$A$6:$A$1806,Data!$J$6:$J$1806)","v":-103},{"$f":"LOOKUP($AO502,Data!$A$6:$A$1806,Data!$K$6:$K$1806)","v":7792.05},-3.2012939453125]
[null,40098.112199073286,{"$f":"LOOKUP(B503,Data!$A$6:$A$1806,Data!B$6:B$1806)","v":60.006000518798828},{"$f":"LOOKUP(B503,Data!$A$6:$A$1806,Data!C$6:C$1806)","v":3727.683349609375},null,null,null,-4.8004150390625,-1.7135154574431912,null,null,0,3764.2959316339543,{"$f":"AVERAGE(D$79:D503)","v":3765.6231554457722},{"$f":"AVERAGE(M$79:M503)","v":3777.5012077009574},3765.4461564175972,{"$f":"AVERAGE(P$79:P503)","v":3747.7311595371652},633,null,null,null,null,null,null,0,633,-1752.2633825684077,null,null,null,null,null,null,null,null,null,null,null,null,null,40098.112199073286,{"$f":"LOOKUP($AO503,Data!$A$6:$A$1806,Data!$B$6:$B$1806)","v":60.006000518798828},{"$f":"LOOKUP($AO503,Data!$A$6:$A$1806,Data!$C$6:$C$1806)","v":3727.683349609375},{"$f":"LOOKUP($AO503,Data!$A$6:$A$1806,Data!$D$6:$D$1806)","v":350},{"$f":"IF($AS$1=\"+\",LOOKUP($AO503,Data!$A$6:$A$1806,Data!$E$6:$E$1806)*-1,LOOKUP($AO503,Data!$A$6:$A$1806,Data!$E$6:$E$1806))","v":223.01573181152344},{"$f":"LOOKUP($AO503,Data!$A$6:$A$1806,Data!$F$6:$F$1806)","v":16},{"$f":"LOOKUP($AO503,Data!$A$6:$A$1806,Data!$G$6:$G$1806)","v":443},{"$f":"LOOKUP($AO503,Data!$A$6:$A$1806,Data!$H$6:$H$1806)","v":10},{"$f":"LOOKUP($AO503,Data!$A$6:$A$1806,Data!$I$6:$I$1806)","v":0},{"$f":"LOOKUP($AO503,Data!$A$6:$A$1806,Data!$J$6:$J$1806)","v":-103},{"$f":"LOOKUP($AO503,Data!$A$6:$A$1806,Data!$K$6:$K$1806)","v":7792.38},-4.8004150390625]
[null,40098.112222221433,{"$f":"LOOKUP(B504,Data!$A$6:$A$1806,Data!B$6:B$1806)","v":60.012001037597656},{"$f":"LOOKUP(B504,Data!$A$6:$A$1806,Data!C$6:C$1806)","v":3727.2314453125},null,null,null,-9.600830078125,-4.4740755746818248,null,null,0,3761.5353715167157,{"$f":"AVERAGE(D$79:D504)","v":3765.5330340604828},{"$f":"AVERAGE(M$79:M504)","v":3777.463729212262},3765.4461564175972,{"$f":"AVERAGE(P$79:P504)","v":3747.772841882766},633,null,null,null,null,null,null,0,633,-2101.3014895132569,null,null,null,null,null,null,null,null,null,null,null,null,null,40098.112222221433,{"$f":"LOOKUP($AO504,Data!$A$6:$A$1806,Data!$B$6:$B$1806)","v":60.012001037597656},{"$f":"LOOKUP($AO504,Data!$A$6:$A$1806,Data!$C$6:$C$1806)","v":3727.2314453125},{"$f":"LOOKUP($AO504,Data!$A$6:$A$1806,Data!$D$6:$D$1806)","v":350},{"$f":"IF($AS$1=\"+\",LOOKUP($AO504,Data!$A$6:$A$1806,Data!$E$6:$E$1806)*-1,LOOKUP($AO504,Data!$A$6:$A$1806,Data!$E$6:$E$1806))","v":223.01573181152344},{"$f":"LOOKUP($AO504,Data!$A$6:$A$1806,Data!$F$6:$F$1806)","v":16},{"$f":"LOOKUP($AO504,Data!$A$6:$A$1806,Data!$G$6:$G$1806)","v":443.5},{"$f":"LOOKUP($AO504,Data!$A$6:$A$1806,Data!$H$6:$H$1806)","v":10},{"$f":"LOOKUP($AO504,Data!$A$6:$A$1806,Data!$I$6:$I$1806)","v":0},{"$f":"LOOKUP($AO504,Data!$A$6:$A$1806,Data!$J$6:$J$1806)","v":-103},{"$f":"LOOKUP($AO504,Data!$A$6:$A$1806,Data!$K$6:$K$1806)","v":7792.71},-9.600830078125]
[null,40098.112245369579,{"$f":"LOOKUP(B505,Data!$A$6:$A$1806,Data!B$6:B$1806)","v":60.013999938964844},{"$f":"LOOKUP(B505,Data!$A$6:$A$1806,Data!C$6:C$1806)","v":3725.01220703125},null,null,null,-11.199951171875,-6.8281320336994362,null,null,0,3759.1813150576982,{"$f":"AVERAGE(D$79:D505)","v":3765.4381375100629},{"$f":"AVERAGE(M$79:M505)","v":3777.420913254055},3765.4461564175972,{"$f":"AVERAGE(P$79:P505)","v":3747.8143285366032},633,null,null,null,null,null,null,0,633,-2250.6437719342862,null,null,null,null,null,null,null,null,null,null,null,null,null,40098.112245369579,{"$f":"LOOKUP($AO505,Data!$A$6:$A$1806,Data!$B$6:$B$1806)","v":60.013999938964844},{"$f":"LOOKUP($AO505,Data!$A$6:$A$1806,Data!$C$6:$C$1806)","v":3725.01220703125},{"$f":"LOOKUP($AO505,Data!$A$6:$A$1806,Data!$D$6:$D$1806)","v":350},{"$f":"IF($AS$1=\"+\",LOOKUP($AO505,Data!$A$6:$A$1806,Data!$E$6:$E$1806)*-1,LOOKUP($AO505,Data!$A$6:$A$1806,Data!$E$6:$E$1806))","v":223.01573181152344},{"$f":"LOOKUP($AO505,Data!$A$6:$A$1806,Data!$F$6:$F$1806)","v":16},{"$f":"LOOKUP($AO505,Data!$A$6:$A$1806,Data!$G$6:$G$1806)","v":444},{"$f":"LOOKUP($AO505,Data!$A$6:$A$1806,Data!$H$6:$H$1806)","v":10},{"$f":"LOOKUP($AO505,Data!$A$6:$A$1806,Data!$I$6:$I$1806)","v":0},{"$f":"LOOKUP($AO505,Data!$A$6:$A$1806,Data!$J$6:$J$1806)","v":-103},{"$f":"LOOKUP($AO505,Data!$A$6:$A$1806,Data!$K$6:$K$1806)","v":7793.04},-11.199951171875]
[null,40098.112268517725,{"$f":"LOOKUP(B506,Data!$A$6:$A$1806,Data!B$6:B$1806)","v":60.019001007080078},{"$f":"LOOKUP(B506,Data!$A$6:$A$1806,Data!C$6:C$1806)","v":3726.4462890625},null,null,null,-15.2008056640625,-9.7585678043265087,null,null,0,3756.2508792870713,{"$f":"AVERAGE(D$79:D506)","v":3765.3470350604189},{"$f":"AVERAGE(M$79:M506)","v":3777.37145055787},3765.4461564175972,{"$f":"AVERAGE(P$79:P506)","v":3747.8556208735608},633,null,null,null,null,null,null,0,633,-2737.3898669965974,null,null,null,null,null,null,null,null,null,null,null,null,null,40098.112268517725,{"$f":"LOOKUP($AO506,Data!$A$6:$A$1806,Data!$B$6:$B$1806)","v":60.019001007080078},{"$f":"LOOKUP($AO506,Data!$A$6:$A$1806,Data!$C$6:$C$1806)","v":3726.4462890625},{"$f":"LOOKUP($AO506,Data!$A$6:$A$1806,Data!$D$6:$D$1806)","v":350},{"$f":"IF($AS$1=\"+\",LOOKUP($AO506,Data!$A$6:$A$1806,Data!$E$6:$E$1806)*-1,LOOKUP($AO506,Data!$A$6:$A$1806,Data!$E$6:$E$1806))","v":223.01573181152344},{"$f":"LOOKUP($AO506,Data!$A$6:$A$1806,Data!$F$6:$F$1806)","v":16},{"$f":"LOOKUP($AO506,Data!$A$6:$A$1806,Data!$G$6:$G$1806)","v":444.5},{"$f":"LOOKUP($AO506,Data!$A$6:$A$1806,Data!$H$6:$H$1806)","v":10},{"$f":"LOOKUP($AO506,Data!$A$6:$A$1806,Data!$I$6:$I$1806)","v":0},{"$f":"LOOKUP($AO506,Data!$A$6:$A$1806,Data!$J$6:$J$1806)","v":-103},{"$f":"LOOKUP($AO506,Data!$A$6:$A$1806,Data!$K$6:$K$1806)","v":7793.37},-15.2008056640625]
[null,40098.112291665871,{"$f":"LOOKUP(B507,Data!$A$6:$A$1806,Data!B$6:B$1806)","v":60.020999908447266},{"$f":"LOOKUP(B507,Data!$A$6:$A$1806,Data!C$6:C$1806)","v":3726.015625},null,null,null,-16.7999267578125,-12.223043438046606,null,null,0,3753.786403653351,{"$f":"AVERAGE(D$79:D507)","v":3765.2553534518865},{"$f":"AVERAGE(M$79:M507)","v":3777.3164737585589},3765.4461564175972,{"$f":"AVERAGE(P$79:P507)","v":3747.8967202556728},633,null,null,null,null,null,null,0,633,-2996.4047942577254,null,null,null,null,null,null,null,null,null,null,null,null,null,40098.112291665871,{"$f":"LOOKUP($AO507,Data!$A$6:$A$1806,Data!$B$6:$B$1806)","v":60.020999908447266},{"$f":"LOOKUP($AO507,Data!$A$6:$A$1806,Data!$C$6:$C$1806)","v":3726.015625},{"$f":"LOOKUP($AO507,Data!$A$6:$A$1806,Data!$D$6:$D$1806)","v":350},{"$f":"IF($AS$1=\"+\",LOOKUP($AO507,Data!$A$6:$A$1806,Data!$E$6:$E$1806)*-1,LOOKUP($AO507,Data!$A$6:$A$1806,Data!$E$6:$E$1806))","v":223.01573181152344},{"$f":"LOOKUP($AO507,Data!$A$6:$A$1806,Data!$F$6:$F$1806)","v":16},{"$f":"LOOKUP($AO507,Data!$A$6:$A$1806,Data!$G$6:$G$1806)","v":445},{"$f":"LOOKUP($AO507,Data!$A$6:$A$1806,Data!$H$6:$H$1806)","v":10},{"$f":"LOOKUP($AO507,Data!$A$6:$A$1806,Data!$I$6:$I$1806)","v":0},{"$f":"LOOKUP($AO507,Data!$A$6:$A$1806,Data!$J$6:$J$1806)","v":-103},{"$f":"LOOKUP($AO507,Data!$A$6:$A$1806,Data!$K$6:$K$1806)","v":7793.7},-16.7999267578125]
[null,40098.112314814018,{"$f":"LOOKUP(B508,Data!$A$6:$A$1806,Data!B$6:B$1806)","v":60.025001525878906},{"$f":"LOOKUP(B508,Data!$A$6:$A$1806,Data!C$6:C$1806)","v":3719.123046875},null,null,null,-20.001220703125,-14.945405480824043,null,null,0,3751.0640416105734,{"$f":"AVERAGE(D$79:D508)","v":3765.1480690179869},{"$f":"AVERAGE(M$79:M508)","v":3777.255421590773},3765.4461564175972,{"$f":"AVERAGE(P$79:P508)","v":3747.937628032274},633,null,null,null,null,null,null,0,633,-3696.6311603686891,null,null,null,null,null,null,null,null,null,null,null,null,null,40098.112314814018,{"$f":"LOOKUP($AO508,Data!$A$6:$A$1806,Data!$B$6:$B$1806)","v":60.025001525878906},{"$f":"LOOKUP($AO508,Data!$A$6:$A$1806,Data!$C$6:$C$1806)","v":3719.123046875},{"$f":"LOOKUP($AO508,Data!$A$6:$A$1806,Data!$D$6:$D$1806)","v":350},{"$f":"IF($AS$1=\"+\",LOOKUP($AO508,Data!$A$6:$A$1806,Data!$E$6:$E$1806)*-1,LOOKUP($AO508,Data!$A$6:$A$1806,Data!$E$6:$E$1806))","v":223.01573181152344},{"$f":"LOOKUP($AO508,Data!$A$6:$A$1806,Data!$F$6:$F$1806)","v":16},{"$f":"LOOKUP($AO508,Data!$A$6:$A$1806,Data!$G$6:$G$1806)","v":445.5},{"$f":"LOOKUP($AO508,Data!$A$6:$A$1806,Data!$H$6:$H$1806)","v":10},{"$f":"LOOKUP($AO508,Data!$A$6:$A$1806,Data!$I$6:$I$1806)","v":0},{"$f":"LOOKUP($AO508,Data!$A$6:$A$1806,Data!$J$6:$J$1806)","v":-103},{"$f":"LOOKUP($AO508,Data!$A$6:$A$1806,Data!$K$6:$K$1806)","v":7794.03},-20.001220703125]
[null,40098.112337962164,{"$f":"LOOKUP(B509,Data!$A$6:$A$1806,Data!B$6:B$1806)","v":60.0260009765625},{"$f":"LOOKUP(B509,Data!$A$6:$A$1806,Data!C$6:C$1806)","v":3716.37451171875},null,null,null,-20.80078125,-16.994787000035629,null,null,0,3749.0146600913617,{"$f":"AVERAGE(D$79:D509)","v":3765.0349053119562},{"$f":"AVERAGE(M$79:M509)","v":3777.1898977821897},3765.4461564175972,{"$f":"AVERAGE(P$79:P509)","v":3747.9783455401466},633,null,null,null,null,null,null,0,633,-3925.7643530977375,null,null,null,null,null,null,null,null,null,null,null,null,null,40098.112337962164,{"$f":"LOOKUP($AO509,Data!$A$6:$A$1806,Data!$B$6:$B$1806)","v":60.0260009765625},{"$f":"LOOKUP($AO509,Data!$A$6:$A$1806,Data!$C$6:$C$1806)","v":3716.37451171875},{"$f":"LOOKUP($AO509,Data!$A$6:$A$1806,Data!$D$6:$D$1806)","v":350},{"$f":"IF($AS$1=\"+\",LOOKUP($AO509,Data!$A$6:$A$1806,Data!$E$6:$E$1806)*-1,LOOKUP($AO509,Data!$A$6:$A$1806,Data!$E$6:$E$1806))","v":223.01573181152344},{"$f":"LOOKUP($AO509,Data!$A$6:$A$1806,Data!$F$6:$F$1806)","v":16},{"$f":"LOOKUP($AO509,Data!$A$6:$A$1806,Data!$G$6:$G$1806)","v":446},{"$f":"LOOKUP($AO509,Data!$A$6:$A$1806,Data!$H$6:$H$1806)","v":10},{"$f":"LOOKUP($AO509,Data!$A$6:$A$1806,Data!$I$6:$I$1806)","v":0},{"$f":"LOOKUP($AO509,Data!$A$6:$A$1806,Data!$J$6:$J$1806)","v":-103},{"$f":"LOOKUP($AO509,Data!$A$6:$A$1806,Data!$K$6:$K$1806)","v":7794.36},-20.80078125]
[null,40098.11236111031,{"$f":"LOOKUP(B510,Data!$A$6:$A$1806,Data!B$6:B$1806)","v":60.027000427246094},{"$f":"LOOKUP(B510,Data!$A$6:$A$1806,Data!C$6:C$1806)","v":3717.33251953125},null,null,null,-21.600341796875,-18.606731178929408,null,null,0,3747.402715912468,{"$f":"AVERAGE(D$79:D510)","v":3764.9244831226492},{"$f":"AVERAGE(M$79:M510)","v":3777.1209459723063},3765.4461564175972,{"$f":"AVERAGE(P$79:P510)","v":3748.0188741036668},633,null,null,null,null,null,null,0,633,-4185.1799110942966,null,null,null,null,null,null,null,null,null,null,null,null,null,40098.11236111031,{"$f":"LOOKUP($AO510,Data!$A$6:$A$1806,Data!$B$6:$B$1806)","v":60.027000427246094},{"$f":"LOOKUP($AO510,Data!$A$6:$A$1806,Data!$C$6:$C$1806)","v":3717.33251953125},{"$f":"LOOKUP($AO510,Data!$A$6:$A$1806,Data!$D$6:$D$1806)","v":350},{"$f":"IF($AS$1=\"+\",LOOKUP($AO510,Data!$A$6:$A$1806,Data!$E$6:$E$1806)*-1,LOOKUP($AO510,Data!$A$6:$A$1806,Data!$E$6:$E$1806))","v":223.01573181152344},{"$f":"LOOKUP($AO510,Data!$A$6:$A$1806,Data!$F$6:$F$1806)","v":16},{"$f":"LOOKUP($AO510,Data!$A$6:$A$1806,Data!$G$6:$G$1806)","v":446.5},{"$f":"LOOKUP($AO510,Data!$A$6:$A$1806,Data!$H$6:$H$1806)","v":10},{"$f":"LOOKUP($AO510,Data!$A$6:$A$1806,Data!$I$6:$I$1806)","v":0},{"$f":"LOOKUP($AO510,Data!$A$6:$A$1806,Data!$J$6:$J$1806)","v":-103},{"$f":"LOOKUP($AO510,Data!$A$6:$A$1806,Data!$K$6:$K$1806)","v":7794.69},-21.600341796875]
[null,40098.112384258457,{"$f":"LOOKUP(B511,Data!$A$6:$A$1806,Data!B$6:B$1806)","v":60.028999328613281},{"$f":"LOOKUP(B511,Data!$A$6:$A$1806,Data!C$6:C$1806)","v":3717.559814453125},null,null,null,-23.199462890625,-20.214187278022866,null,null,0,3745.7952598133747,{"$f":"AVERAGE(D$79:D511)","v":3764.8150958970841},{"$f":"AVERAGE(M$79:M511)","v":3777.0486002767889},3765.4461564175972,{"$f":"AVERAGE(P$79:P511)","v":3748.0592150349489},633,null,null,null,null,null,null,0,633,-4822.5277582010394,null,null,null,null,null,null,null,null,null,null,null,null,null,40098.112384258457,{"$f":"LOOKUP($AO511,Data!$A$6:$A$1806,Data!$B$6:$B$1806)","v":60.028999328613281},{"$f":"LOOKUP($AO511,Data!$A$6:$A$1806,Data!$C$6:$C$1806)","v":3717.559814453125},{"$f":"LOOKUP($AO511,Data!$A$6:$A$1806,Data!$D$6:$D$1806)","v":350},{"$f":"IF($AS$1=\"+\",LOOKUP($AO511,Data!$A$6:$A$1806,Data!$E$6:$E$1806)*-1,LOOKUP($AO511,Data!$A$6:$A$1806,Data!$E$6:$E$1806))","v":223.01573181152344},{"$f":"LOOKUP($AO511,Data!$A$6:$A$1806,Data!$F$6:$F$1806)","v":16},{"$f":"LOOKUP($AO511,Data!$A$6:$A$1806,Data!$G$6:$G$1806)","v":447},{"$f":"LOOKUP($AO511,Data!$A$6:$A$1806,Data!$H$6:$H$1806)","v":10},{"$f":"LOOKUP($AO511,Data!$A$6:$A$1806,Data!$I$6:$I$1806)","v":0},{"$f":"LOOKUP($AO511,Data!$A$6:$A$1806,Data!$J$6:$J$1806)","v":-103},{"$f":"LOOKUP($AO511,Data!$A$6:$A$1806,Data!$K$6:$K$1806)","v":7795.02},-23.199462890625]
[null,40098.112407406603,{"$f":"LOOKUP(B512,Data!$A$6:$A$1806,Data!B$6:B$1806)","v":60.028999328613281},{"$f":"LOOKUP(B512,Data!$A$6:$A$1806,Data!C$6:C$1806)","v":3717.14208984375},null,null,null,-23.199462890625,-21.259033742433616,null,null,0,3744.7504133489638,{"$f":"AVERAGE(D$79:D512)","v":3764.7052502610168},{"$f":"AVERAGE(M$79:M512)","v":3776.974180491241},3765.4461564175972,{"$f":"AVERAGE(P$79:P512)","v":3748.0993696339847},633,null,null,null,null,null,null,0,633,-4822.5277582010394,null,null,null,null,null,null,null,null,null,null,null,null,null,40098.112407406603,{"$f":"LOOKUP($AO512,Data!$A$6:$A$1806,Data!$B$6:$B$1806)","v":60.028999328613281},{"$f":"LOOKUP($AO512,Data!$A$6:$A$1806,Data!$C$6:$C$1806)","v":3717.14208984375},{"$f":"LOOKUP($AO512,Data!$A$6:$A$1806,Data!$D$6:$D$1806)","v":350},{"$f":"IF($AS$1=\"+\",LOOKUP($AO512,Data!$A$6:$A$1806,Data!$E$6:$E$1806)*-1,LOOKUP($AO512,Data!$A$6:$A$1806,Data!$E$6:$E$1806))","v":223.01573181152344},{"$f":"LOOKUP($AO512,Data!$A$6:$A$1806,Data!$F$6:$F$1806)","v":16},{"$f":"LOOKUP($AO512,Data!$A$6:$A$1806,Data!$G$6:$G$1806)","v":447.5},{"$f":"LOOKUP($AO512,Data!$A$6:$A$1806,Data!$H$6:$H$1806)","v":10},{"$f":"LOOKUP($AO512,Data!$A$6:$A$1806,Data!$I$6:$I$1806)","v":0},{"$f":"LOOKUP($AO512,Data!$A$6:$A$1806,Data!$J$6:$J$1806)","v":-103},{"$f":"LOOKUP($AO512,Data!$A$6:$A$1806,Data!$K$6:$K$1806)","v":7795.35},-23.199462890625]
[null,40098.112430554749,{"$f":"LOOKUP(B513,Data!$A$6:$A$1806,Data!B$6:B$1806)","v":60.036998748779297},{"$f":"LOOKUP(B513,Data!$A$6:$A$1806,Data!C$6:C$1806)","v":3715.166015625},null,null,null,-29.5989990234375,-24.178021590784976,null,null,0,3741.8314255006126,{"$f":"AVERAGE(D$79:D513)","v":3764.5913669630027},{"$f":"AVERAGE(M$79:M513)","v":3776.8933925487336},3765.4461564175972,{"$f":"AVERAGE(P$79:P513)","v":3748.1393391887855},633,null,null,null,null,null,null,0,633,-12347.662691842619,null,null,null,null,null,null,null,null,null,null,null,null,null,40098.112430554749,{"$f":"LOOKUP($AO513,Data!$A$6:$A$1806,Data!$B$6:$B$1806)","v":60.036998748779297},{"$f":"LOOKUP($AO513,Data!$A$6:$A$1806,Data!$C$6:$C$1806)","v":3715.166015625},{"$f":"LOOKUP($AO513,Data!$A$6:$A$1806,Data!$D$6:$D$1806)","v":350},{"$f":"IF($AS$1=\"+\",LOOKUP($AO513,Data!$A$6:$A$1806,Data!$E$6:$E$1806)*-1,LOOKUP($AO513,Data!$A$6:$A$1806,Data!$E$6:$E$1806))","v":223.01573181152344},{"$f":"LOOKUP($AO513,Data!$A$6:$A$1806,Data!$F$6:$F$1806)","v":16},{"$f":"LOOKUP($AO513,Data!$A$6:$A$1806,Data!$G$6:$G$1806)","v":448},{"$f":"LOOKUP($AO513,Data!$A$6:$A$1806,Data!$H$6:$H$1806)","v":10},{"$f":"LOOKUP($AO513,Data!$A$6:$A$1806,Data!$I$6:$I$1806)","v":0},{"$f":"LOOKUP($AO513,Data!$A$6:$A$1806,Data!$J$6:$J$1806)","v":-103},{"$f":"LOOKUP($AO513,Data!$A$6:$A$1806,Data!$K$6:$K$1806)","v":7795.68},-29.5989990234375]
[null,40098.112453702895,{"$f":"LOOKUP(B514,Data!$A$6:$A$1806,Data!B$6:B$1806)","v":60.035999298095703},{"$f":"LOOKUP(B514,Data!$A$6:$A$1806,Data!C$6:C$1806)","v":3713.6318359375},null,null,null,-28.7994384765625,-25.795517500807108,null,null,0,3740.2139295905904,{"$f":"AVERAGE(D$79:D514)","v":3764.4744873046875},{"$f":"AVERAGE(M$79:M514)","v":3776.8092653401141},3765.4461564175972,{"$f":"AVERAGE(P$79:P514)","v":3748.1791249755183},633,null,null,null,null,null,null,0,633,-10333.1300381412,null,null,null,null,null,null,null,null,null,null,null,null,null,40098.112453702895,{"$f":"LOOKUP($AO514,Data!$A$6:$A$1806,Data!$B$6:$B$1806)","v":60.035999298095703},{"$f":"LOOKUP($AO514,Data!$A$6:$A$1806,Data!$C$6:$C$1806)","v":3713.6318359375},{"$f":"LOOKUP($AO514,Data!$A$6:$A$1806,Data!$D$6:$D$1806)","v":350},{"$f":"IF($AS$1=\"+\",LOOKUP($AO514,Data!$A$6:$A$1806,Data!$E$6:$E$1806)*-1,LOOKUP($AO514,Data!$A$6:$A$1806,Data!$E$6:$E$1806))","v":223.01573181152344},{"$f":"LOOKUP($AO514,Data!$A$6:$A$1806,Data!$F$6:$F$1806)","v":16},{"$f":"LOOKUP($AO514,Data!$A$6:$A$1806,Data!$G$6:$G$1806)","v":448.5},{"$f":"LOOKUP($AO514,Data!$A$6:$A$1806,Data!$H$6:$H$1806)","v":10},{"$f":"LOOKUP($AO514,Data!$A$6:$A$1806,Data!$I$6:$I$1806)","v":0},{"$f":"LOOKUP($AO514,Data!$A$6:$A$1806,Data!$J$6:$J$1806)","v":-103},{"$f":"LOOKUP($AO514,Data!$A$6:$A$1806,Data!$K$6:$K$1806)","v":7796.01},-28.7994384765625]
[null,40098.112476851042,{"$f":"LOOKUP(B515,Data!$A$6:$A$1806,Data!B$6:B$1806)","v":60.036998748779297},{"$f":"LOOKUP(B515,Data!$A$6:$A$1806,Data!C$6:C$1806)","v":3710.283447265625},null,null,null,-29.5989990234375,-27.126736033727745,null,null,0,3738.8827110576699,{"$f":"AVERAGE(D$79:D515)","v":3764.3504803480764},{"$f":"AVERAGE(M$79:M515)","v":3776.7224768863784},3765.4461564175972,{"$f":"AVERAGE(P$79:P515)","v":3748.2187282586419},633,null,null,null,null,null,null,0,633,-12347.662691842619,null,null,null,null,null,null,null,null,null,null,null,null,null,40098.112476851042,{"$f":"LOOKUP($AO515,Data!$A$6:$A$1806,Data!$B$6:$B$1806)","v":60.036998748779297},{"$f":"LOOKUP($AO515,Data!$A$6:$A$1806,Data!$C$6:$C$1806)","v":3710.283447265625},{"$f":"LOOKUP($AO515,Data!$A$6:$A$1806,Data!$D$6:$D$1806)","v":350},{"$f":"IF($AS$1=\"+\",LOOKUP($AO515,Data!$A$6:$A$1806,Data!$E$6:$E$1806)*-1,LOOKUP($AO515,Data!$A$6:$A$1806,Data!$E$6:$E$1806))","v":223.01573181152344},{"$f":"LOOKUP($AO515,Data!$A$6:$A$1806,Data!$F$6:$F$1806)","v":16},{"$f":"LOOKUP($AO515,Data!$A$6:$A$1806,Data!$G$6:$G$1806)","v":449},{"$f":"LOOKUP($AO515,Data!$A$6:$A$1806,Data!$H$6:$H$1806)","v":10},{"$f":"LOOKUP($AO515,Data!$A$6:$A$1806,Data!$I$6:$I$1806)","v":0},{"$f":"LOOKUP($AO515,Data!$A$6:$A$1806,Data!$J$6:$J$1806)","v":-103},{"$f":"LOOKUP($AO515,Data!$A$6:$A$1806,Data!$K$6:$K$1806)","v":7796.34},-29.5989990234375]
[null,40098.112499999188,{"$f":"LOOKUP(B516,Data!$A$6:$A$1806,Data!B$6:B$1806)","v":60.036998748779297},{"$f":"LOOKUP(B516,Data!$A$6:$A$1806,Data!C$6:C$1806)","v":3710.15771484375},null,null,null,-29.5989990234375,-27.992028080126161,null,null,0,3738.0174190112716,{"$f":"AVERAGE(D$79:D516)","v":3764.2267525729521},{"$f":"AVERAGE(M$79:M516)","v":3776.6341091743352},3765.4461564175972,{"$f":"AVERAGE(P$79:P516)","v":3748.2581502910421},633,null,null,null,null,null,null,0,633,-12347.662691842619,null,null,null,null,null,null,null,null,null,null,null,null,null,40098.112499999188,{"$f":"LOOKUP($AO516,Data!$A$6:$A$1806,Data!$B$6:$B$1806)","v":60.036998748779297},{"$f":"LOOKUP($AO516,Data!$A$6:$A$1806,Data!$C$6:$C$1806)","v":3710.15771484375},{"$f":"LOOKUP($AO516,Data!$A$6:$A$1806,Data!$D$6:$D$1806)","v":350},{"$f":"IF($AS$1=\"+\",LOOKUP($AO516,Data!$A$6:$A$1806,Data!$E$6:$E$1806)*-1,LOOKUP($AO516,Data!$A$6:$A$1806,Data!$E$6:$E$1806))","v":223.01573181152344},{"$f":"LOOKUP($AO516,Data!$A$6:$A$1806,Data!$F$6:$F$1806)","v":16},{"$f":"LOOKUP($AO516,Data!$A$6:$A$1806,Data!$G$6:$G$1806)","v":449.5},{"$f":"LOOKUP($AO516,Data!$A$6:$A$1806,Data!$H$6:$H$1806)","v":10},{"$f":"LOOKUP($AO516,Data!$A$6:$A$1806,Data!$I$6:$I$1806)","v":0},{"$f":"LOOKUP($AO516,Data!$A$6:$A$1806,Data!$J$6:$J$1806)","v":-103},{"$f":"LOOKUP($AO516,Data!$A$6:$A$1806,Data!$K$6:$K$1806)","v":7796.67},-29.5989990234375]
[null,40098.112523147334,{"$f":"LOOKUP(B517,Data!$A$6:$A$1806,Data!B$6:B$1806)","v":60.035999298095703},{"$f":"LOOKUP(B517,Data!$A$6:$A$1806,Data!C$6:C$1806)","v":3699.355712890625},null,null,null,-28.7994384765625,-28.27462171887888,null,null,0,3737.734825372519,{"$f":"AVERAGE(D$79:D517)","v":3764.0789825508969},{"$f":"AVERAGE(M$79:M517)","v":3776.545500327406},3765.4461564175972,{"$f":"AVERAGE(P$79:P517)","v":3748.2973923141617},633,null,null,null,null,null,null,0,633,-10333.1300381412,null,null,null,null,null,null,null,null,null,null,null,null,null,40098.112523147334,{"$f":"LOOKUP($AO517,Data!$A$6:$A$1806,Data!$B$6:$B$1806)","v":60.035999298095703},{"$f":"LOOKUP($AO517,Data!$A$6:$A$1806,Data!$C$6:$C$1806)","v":3699.355712890625},{"$f":"LOOKUP($AO517,Data!$A$6:$A$1806,Data!$D$6:$D$1806)","v":350},{"$f":"IF($AS$1=\"+\",LOOKUP($AO517,Data!$A$6:$A$1806,Data!$E$6:$E$1806)*-1,LOOKUP($AO517,Data!$A$6:$A$1806,Data!$E$6:$E$1806))","v":223.01573181152344},{"$f":"LOOKUP($AO517,Data!$A$6:$A$1806,Data!$F$6:$F$1806)","v":16},{"$f":"LOOKUP($AO517,Data!$A$6:$A$1806,Data!$G$6:$G$1806)","v":450},{"$f":"LOOKUP($AO517,Data!$A$6:$A$1806,Data!$H$6:$H$1806)","v":10},{"$f":"LOOKUP($AO517,Data!$A$6:$A$1806,Data!$I$6:$I$1806)","v":0},{"$f":"LOOKUP($AO517,Data!$A$6:$A$1806,Data!$J$6:$J$1806)","v":-103},{"$f":"LOOKUP($AO517,Data!$A$6:$A$1806,Data!$K$6:$K$1806)","v":7797},-28.7994384765625]
[null,40098.112546295481,{"$f":"LOOKUP(B518,Data!$A$6:$A$1806,Data!B$6:B$1806)","v":60.041000366210938},{"$f":"LOOKUP(B518,Data!$A$6:$A$1806,Data!C$6:C$1806)","v":3698.591064453125},null,null,null,-32.80029296875,-29.858606656333773,null,null,0,3736.1508404350643,{"$f":"AVERAGE(D$79:D518)","v":3763.9301463734018},{"$f":"AVERAGE(M$79:M518)","v":3776.4536942821965},3765.4461564175972,{"$f":"AVERAGE(P$79:P518)","v":3748.3364555581329},633,null,null,null,null,null,null,0,633,-56273.726833403984,null,null,null,null,null,null,null,null,null,null,null,null,null,40098.112546295481,{"$f":"LOOKUP($AO518,Data!$A$6:$A$1806,Data!$B$6:$B$1806)","v":60.041000366210938},{"$f":"LOOKUP($AO518,Data!$A$6:$A$1806,Data!$C$6:$C$1806)","v":3698.591064453125},{"$f":"LOOKUP($AO518,Data!$A$6:$A$1806,Data!$D$6:$D$1806)","v":350},{"$f":"IF($AS$1=\"+\",LOOKUP($AO518,Data!$A$6:$A$1806,Data!$E$6:$E$1806)*-1,LOOKUP($AO518,Data!$A$6:$A$1806,Data!$E$6:$E$1806))","v":223.01573181152344},{"$f":"LOOKUP($AO518,Data!$A$6:$A$1806,Data!$F$6:$F$1806)","v":16},{"$f":"LOOKUP($AO518,Data!$A$6:$A$1806,Data!$G$6:$G$1806)","v":450.5},{"$f":"LOOKUP($AO518,Data!$A$6:$A$1806,Data!$H$6:$H$1806)","v":10},{"$f":"LOOKUP($AO518,Data!$A$6:$A$1806,Data!$I$6:$I$1806)","v":0},{"$f":"LOOKUP($AO518,Data!$A$6:$A$1806,Data!$J$6:$J$1806)","v":-103},{"$f":"LOOKUP($AO518,Data!$A$6:$A$1806,Data!$K$6:$K$1806)","v":7797.33},-32.80029296875]
[null,40098.112569443627,{"$f":"LOOKUP(B519,Data!$A$6:$A$1806,Data!B$6:B$1806)","v":60.042999267578125},{"$f":"LOOKUP(B519,Data!$A$6:$A$1806,Data!C$6:C$1806)","v":3704.59130859375},null,null,null,-34.3994140625,-31.447889248491954,null,null,0,3734.561557842906,{"$f":"AVERAGE(D$79:D519)","v":3763.795591185693},{"$f":"AVERAGE(M$79:M519)","v":3776.3587007755314},3765.4461564175972,{"$f":"AVERAGE(P$79:P519)","v":3748.3753412419042},633,null,null,null,null,null,null,0,633,72422.106710310967,null,null,null,null,null,null,null,null,null,null,null,null,null,40098.112569443627,{"$f":"LOOKUP($AO519,Data!$A$6:$A$1806,Data!$B$6:$B$1806)","v":60.042999267578125},{"$f":"LOOKUP($AO519,Data!$A$6:$A$1806,Data!$C$6:$C$1806)","v":3704.59130859375},{"$f":"LOOKUP($AO519,Data!$A$6:$A$1806,Data!$D$6:$D$1806)","v":350},{"$f":"IF($AS$1=\"+\",LOOKUP($AO519,Data!$A$6:$A$1806,Data!$E$6:$E$1806)*-1,LOOKUP($AO519,Data!$A$6:$A$1806,Data!$E$6:$E$1806))","v":223.01573181152344},{"$f":"LOOKUP($AO519,Data!$A$6:$A$1806,Data!$F$6:$F$1806)","v":16},{"$f":"LOOKUP($AO519,Data!$A$6:$A$1806,Data!$G$6:$G$1806)","v":451},{"$f":"LOOKUP($AO519,Data!$A$6:$A$1806,Data!$H$6:$H$1806)","v":10},{"$f":"LOOKUP($AO519,Data!$A$6:$A$1806,Data!$I$6:$I$1806)","v":0},{"$f":"LOOKUP($AO519,Data!$A$6:$A$1806,Data!$J$6:$J$1806)","v":-103},{"$f":"LOOKUP($AO519,Data!$A$6:$A$1806,Data!$K$6:$K$1806)","v":7797.66},-34.3994140625]
[null,40098.112592591773,{"$f":"LOOKUP(B520,Data!$A$6:$A$1806,Data!B$6:B$1806)","v":60.043998718261719},{"$f":"LOOKUP(B520,Data!$A$6:$A$1806,Data!C$6:C$1806)","v":3703.275390625},null,null,null,-35.198974609375,-32.760769124801016,null,null,0,3733.2486779665969,{"$f":"AVERAGE(D$79:D520)","v":3763.6586676550128},{"$f":"AVERAGE(M$79:M520)","v":3776.2611667872761},3765.4461564175972,{"$f":"AVERAGE(P$79:P520)","v":3748.4140505733681},633,null,null,null,null,null,null,0,633,33787.152354288621,null,null,null,null,null,null,null,null,null,null,null,null,null,40098.112592591773,{"$f":"LOOKUP($AO520,Data!$A$6:$A$1806,Data!$B$6:$B$1806)","v":60.043998718261719},{"$f":"LOOKUP($AO520,Data!$A$6:$A$1806,Data!$C$6:$C$1806)","v":3703.275390625},{"$f":"LOOKUP($AO520,Data!$A$6:$A$1806,Data!$D$6:$D$1806)","v":350},{"$f":"IF($AS$1=\"+\",LOOKUP($AO520,Data!$A$6:$A$1806,Data!$E$6:$E$1806)*-1,LOOKUP($AO520,Data!$A$6:$A$1806,Data!$E$6:$E$1806))","v":223.01573181152344},{"$f":"LOOKUP($AO520,Data!$A$6:$A$1806,Data!$F$6:$F$1806)","v":16},{"$f":"LOOKUP($AO520,Data!$A$6:$A$1806,Data!$G$6:$G$1806)","v":451.5},{"$f":"LOOKUP($AO520,Data!$A$6:$A$1806,Data!$H$6:$H$1806)","v":10},{"$f":"LOOKUP($AO520,Data!$A$6:$A$1806,Data!$I$6:$I$1806)","v":0},{"$f":"LOOKUP($AO520,Data!$A$6:$A$1806,Data!$J$6:$J$1806)","v":-103},{"$f":"LOOKUP($AO520,Data!$A$6:$A$1806,Data!$K$6:$K$1806)","v":7797.99},-35.198974609375]
[null,40098.112615739919,{"$f":"LOOKUP(B521,Data!$A$6:$A$1806,Data!B$6:B$1806)","v":60.042999267578125},{"$f":"LOOKUP(B521,Data!$A$6:$A$1806,Data!C$6:C$1806)","v":3702.482421875},null,null,null,-34.3994140625,-33.334294852995662,null,null,0,3732.6751522384025,{"$f":"AVERAGE(D$79:D521)","v":3763.5205722920782},{"$f":"AVERAGE(M$79:M521)","v":3776.1627784925836},3765.4461564175972,{"$f":"AVERAGE(P$79:P521)","v":3748.452584749486},633,null,null,null,null,null,null,0,633,72422.106710310967,null,null,null,null,null,null,null,null,null,null,null,null,null,40098.112615739919,{"$f":"LOOKUP($AO521,Data!$A$6:$A$1806,Data!$B$6:$B$1806)","v":60.042999267578125},{"$f":"LOOKUP($AO521,Data!$A$6:$A$1806,Data!$C$6:$C$1806)","v":3702.482421875},{"$f":"LOOKUP($AO521,Data!$A$6:$A$1806,Data!$D$6:$D$1806)","v":350},{"$f":"IF($AS$1=\"+\",LOOKUP($AO521,Data!$A$6:$A$1806,Data!$E$6:$E$1806)*-1,LOOKUP($AO521,Data!$A$6:$A$1806,Data!$E$6:$E$1806))","v":223.01573181152344},{"$f":"LOOKUP($AO521,Data!$A$6:$A$1806,Data!$F$6:$F$1806)","v":16},{"$f":"LOOKUP($AO521,Data!$A$6:$A$1806,Data!$G$6:$G$1806)","v":452},{"$f":"LOOKUP($AO521,Data!$A$6:$A$1806,Data!$H$6:$H$1806)","v":10},{"$f":"LOOKUP($AO521,Data!$A$6:$A$1806,Data!$I$6:$I$1806)","v":0},{"$f":"LOOKUP($AO521,Data!$A$6:$A$1806,Data!$J$6:$J$1806)","v":-103},{"$f":"LOOKUP($AO521,Data!$A$6:$A$1806,Data!$K$6:$K$1806)","v":7798.32},-34.3994140625]
[null,40098.112638888066,{"$f":"LOOKUP(B522,Data!$A$6:$A$1806,Data!B$6:B$1806)","v":60.046001434326172},{"$f":"LOOKUP(B522,Data!$A$6:$A$1806,Data!C$6:C$1806)","v":3701.31640625},null,null,null,-36.8011474609375,-34.547693265775308,null,null,0,3731.461753825623,{"$f":"AVERAGE(D$79:D522)","v":3763.3804728190103},{"$f":"AVERAGE(M$79:M522)","v":3776.0621005090993},3765.4461564175972,{"$f":"AVERAGE(P$79:P522)","v":3748.4909449564116},633,null,null,null,null,null,null,0,633,16330.387698363882,null,null,null,null,null,null,null,null,null,null,null,null,null,40098.112638888066,{"$f":"LOOKUP($AO522,Data!$A$6:$A$1806,Data!$B$6:$B$1806)","v":60.046001434326172},{"$f":"LOOKUP($AO522,Data!$A$6:$A$1806,Data!$C$6:$C$1806)","v":3701.31640625},{"$f":"LOOKUP($AO522,Data!$A$6:$A$1806,Data!$D$6:$D$1806)","v":350},{"$f":"IF($AS$1=\"+\",LOOKUP($AO522,Data!$A$6:$A$1806,Data!$E$6:$E$1806)*-1,LOOKUP($AO522,Data!$A$6:$A$1806,Data!$E$6:$E$1806))","v":223.01573181152344},{"$f":"LOOKUP($AO522,Data!$A$6:$A$1806,Data!$F$6:$F$1806)","v":16},{"$f":"LOOKUP($AO522,Data!$A$6:$A$1806,Data!$G$6:$G$1806)","v":452.5},{"$f":"LOOKUP($AO522,Data!$A$6:$A$1806,Data!$H$6:$H$1806)","v":10},{"$f":"LOOKUP($AO522,Data!$A$6:$A$1806,Data!$I$6:$I$1806)","v":0},{"$f":"LOOKUP($AO522,Data!$A$6:$A$1806,Data!$J$6:$J$1806)","v":-103},{"$f":"LOOKUP($AO522,Data!$A$6:$A$1806,Data!$K$6:$K$1806)","v":7798.65},-36.8011474609375]
[null,40098.112662036212,{"$f":"LOOKUP(B523,Data!$A$6:$A$1806,Data!B$6:B$1806)","v":60.048000335693359},{"$f":"LOOKUP(B523,Data!$A$6:$A$1806,Data!C$6:C$1806)","v":3700.825927734375},null,null,null,-38.4002685546875,-35.896094616894572,null,null,0,3730.1133524745037,{"$f":"AVERAGE(D$79:D523)","v":3763.2399008075845},{"$f":"AVERAGE(M$79:M523)","v":3775.9588448955383},3765.4461564175972,{"$f":"AVERAGE(P$79:P523)","v":3748.5291323696119},633,null,null,null,null,null,null,0,633,10774.265205746287,null,null,null,null,null,null,null,null,null,null,null,null,null,40098.112662036212,{"$f":"LOOKUP($AO523,Data!$A$6:$A$1806,Data!$B$6:$B$1806)","v":60.048000335693359},{"$f":"LOOKUP($AO523,Data!$A$6:$A$1806,Data!$C$6:$C$1806)","v":3700.825927734375},{"$f":"LOOKUP($AO523,Data!$A$6:$A$1806,Data!$D$6:$D$1806)","v":350},{"$f":"IF($AS$1=\"+\",LOOKUP($AO523,Data!$A$6:$A$1806,Data!$E$6:$E$1806)*-1,LOOKUP($AO523,Data!$A$6:$A$1806,Data!$E$6:$E$1806))","v":223.01573181152344},{"$f":"LOOKUP($AO523,Data!$A$6:$A$1806,Data!$F$6:$F$1806)","v":16},{"$f":"LOOKUP($AO523,Data!$A$6:$A$1806,Data!$G$6:$G$1806)","v":453},{"$f":"LOOKUP($AO523,Data!$A$6:$A$1806,Data!$H$6:$H$1806)","v":10},{"$f":"LOOKUP($AO523,Data!$A$6:$A$1806,Data!$I$6:$I$1806)","v":0},{"$f":"LOOKUP($AO523,Data!$A$6:$A$1806,Data!$J$6:$J$1806)","v":-103},{"$f":"LOOKUP($AO523,Data!$A$6:$A$1806,Data!$K$6:$K$1806)","v":7798.98},-38.4002685546875]
[null,40098.112685184358,{"$f":"LOOKUP(B524,Data!$A$6:$A$1806,Data!B$6:B$1806)","v":60.046001434326172},{"$f":"LOOKUP(B524,Data!$A$6:$A$1806,Data!C$6:C$1806)","v":3699.528564453125},null,null,null,-36.8011474609375,-36.212863112309599,null,null,0,3729.7965839790886,{"$f":"AVERAGE(D$79:D524)","v":3763.0970502776418},{"$f":"AVERAGE(M$79:M524)","v":3775.8553420683716},3765.4461564175972,{"$f":"AVERAGE(P$79:P524)","v":3748.5671481539894},633,null,null,null,null,null,null,0,633,16330.387698363882,null,null,null,null,null,null,null,null,null,null,null,null,null,40098.112685184358,{"$f":"LOOKUP($AO524,Data!$A$6:$A$1806,Data!$B$6:$B$1806)","v":60.046001434326172},{"$f":"LOOKUP($AO524,Data!$A$6:$A$1806,Data!$C$6:$C$1806)","v":3699.528564453125},{"$f":"LOOKUP($AO524,Data!$A$6:$A$1806,Data!$D$6:$D$1806)","v":350},{"$f":"IF($AS$1=\"+\",LOOKUP($AO524,Data!$A$6:$A$1806,Data!$E$6:$E$1806)*-1,LOOKUP($AO524,Data!$A$6:$A$1806,Data!$E$6:$E$1806))","v":223.01573181152344},{"$f":"LOOKUP($AO524,Data!$A$6:$A$1806,Data!$F$6:$F$1806)","v":16},{"$f":"LOOKUP($AO524,Data!$A$6:$A$1806,Data!$G$6:$G$1806)","v":453.5},{"$f":"LOOKUP($AO524,Data!$A$6:$A$1806,Data!$H$6:$H$1806)","v":10},{"$f":"LOOKUP($AO524,Data!$A$6:$A$1806,Data!$I$6:$I$1806)","v":0},{"$f":"LOOKUP($AO524,Data!$A$6:$A$1806,Data!$J$6:$J$1806)","v":-103},{"$f":"LOOKUP($AO524,Data!$A$6:$A$1806,Data!$K$6:$K$1806)","v":7799.31},-36.8011474609375]
[null,40098.112708332505,{"$f":"LOOKUP(B525,Data!$A$6:$A$1806,Data!B$6:B$1806)","v":60.046001434326172},{"$f":"LOOKUP(B525,Data!$A$6:$A$1806,Data!C$6:C$1806)","v":3699.72607421875},null,null,null,-36.8011474609375,-36.418762634329369,null,null,0,3729.5906844570686,{"$f":"AVERAGE(D$79:D525)","v":3762.9552807562568},{"$f":"AVERAGE(M$79:M525)","v":3775.7518417157735},3765.4461564175972,{"$f":"AVERAGE(P$79:P525)","v":3748.6049934639973},633,null,null,null,null,null,null,0,633,16330.387698363882,null,null,null,null,null,null,null,null,null,null,null,null,null,40098.112708332505,{"$f":"LOOKUP($AO525,Data!$A$6:$A$1806,Data!$B$6:$B$1806)","v":60.046001434326172},{"$f":"LOOKUP($AO525,Data!$A$6:$A$1806,Data!$C$6:$C$1806)","v":3699.72607421875},{"$f":"LOOKUP($AO525,Data!$A$6:$A$1806,Data!$D$6:$D$1806)","v":350},{"$f":"IF($AS$1=\"+\",LOOKUP($AO525,Data!$A$6:$A$1806,Data!$E$6:$E$1806)*-1,LOOKUP($AO525,Data!$A$6:$A$1806,Data!$E$6:$E$1806))","v":223.01573181152344},{"$f":"LOOKUP($AO525,Data!$A$6:$A$1806,Data!$F$6:$F$1806)","v":16},{"$f":"LOOKUP($AO525,Data!$A$6:$A$1806,Data!$G$6:$G$1806)","v":454},{"$f":"LOOKUP($AO525,Data!$A$6:$A$1806,Data!$H$6:$H$1806)","v":10},{"$f":"LOOKUP($AO525,Data!$A$6:$A$1806,Data!$I$6:$I$1806)","v":0},{"$f":"LOOKUP($AO525,Data!$A$6:$A$1806,Data!$J$6:$J$1806)","v":-103},{"$f":"LOOKUP($AO525,Data!$A$6:$A$1806,Data!$K$6:$K$1806)","v":7799.64},-36.8011474609375]
[null,40098.112731480651,{"$f":"LOOKUP(B526,Data!$A$6:$A$1806,Data!B$6:B$1806)","v":60.042999267578125},{"$f":"LOOKUP(B526,Data!$A$6:$A$1806,Data!C$6:C$1806)","v":3690.099609375},null,null,null,-34.3994140625,-35.711990634189092,null,null,0,3730.2974564572087,{"$f":"AVERAGE(D$79:D526)","v":3762.7926564897812},{"$f":"AVERAGE(M$79:M526)","v":3775.6503810343929},3765.4461564175972,{"$f":"AVERAGE(P$79:P526)","v":3748.6426694437587},633,null,null,null,null,null,null,0,633,72422.106710310967,null,null,null,null,null,null,null,null,null,null,null,null,null,40098.112731480651,{"$f":"LOOKUP($AO526,Data!$A$6:$A$1806,Data!$B$6:$B$1806)","v":60.042999267578125},{"$f":"LOOKUP($AO526,Data!$A$6:$A$1806,Data!$C$6:$C$1806)","v":3690.099609375},{"$f":"LOOKUP($AO526,Data!$A$6:$A$1806,Data!$D$6:$D$1806)","v":350},{"$f":"IF($AS$1=\"+\",LOOKUP($AO526,Data!$A$6:$A$1806,Data!$E$6:$E$1806)*-1,LOOKUP($AO526,Data!$A$6:$A$1806,Data!$E$6:$E$1806))","v":223.01573181152344},{"$f":"LOOKUP($AO526,Data!$A$6:$A$1806,Data!$F$6:$F$1806)","v":16},{"$f":"LOOKUP($AO526,Data!$A$6:$A$1806,Data!$G$6:$G$1806)","v":454.5},{"$f":"LOOKUP($AO526,Data!$A$6:$A$1806,Data!$H$6:$H$1806)","v":10},{"$f":"LOOKUP($AO526,Data!$A$6:$A$1806,Data!$I$6:$I$1806)","v":0},{"$f":"LOOKUP($AO526,Data!$A$6:$A$1806,Data!$J$6:$J$1806)","v":-103},{"$f":"LOOKUP($AO526,Data!$A$6:$A$1806,Data!$K$6:$K$1806)","v":7799.97},-34.3994140625]
[null,40098.112754628797,{"$f":"LOOKUP(B527,Data!$A$6:$A$1806,Data!B$6:B$1806)","v":60.042999267578125},{"$f":"LOOKUP(B527,Data!$A$6:$A$1806,Data!C$6:C$1806)","v":3690.477294921875},null,null,null,-34.3994140625,-35.252588834097907,null,null,0,3730.7568582572999,{"$f":"AVERAGE(D$79:D527)","v":3762.6315977780482},{"$f":"AVERAGE(M$79:M527)","v":3775.5503954602791},3765.4461564175972,{"$f":"AVERAGE(P$79:P527)","v":3748.6801772271824},633,null,null,null,null,null,null,0,633,72422.106710310967,null,null,null,null,null,null,null,null,null,null,null,null,null,40098.112754628797,{"$f":"LOOKUP($AO527,Data!$A$6:$A$1806,Data!$B$6:$B$1806)","v":60.042999267578125},{"$f":"LOOKUP($AO527,Data!$A$6:$A$1806,Data!$C$6:$C$1806)","v":3690.477294921875},{"$f":"LOOKUP($AO527,Data!$A$6:$A$1806,Data!$D$6:$D$1806)","v":350},{"$f":"IF($AS$1=\"+\",LOOKUP($AO527,Data!$A$6:$A$1806,Data!$E$6:$E$1806)*-1,LOOKUP($AO527,Data!$A$6:$A$1806,Data!$E$6:$E$1806))","v":223.01573181152344},{"$f":"LOOKUP($AO527,Data!$A$6:$A$1806,Data!$F$6:$F$1806)","v":16},{"$f":"LOOKUP($AO527,Data!$A$6:$A$1806,Data!$G$6:$G$1806)","v":455},{"$f":"LOOKUP($AO527,Data!$A$6:$A$1806,Data!$H$6:$H$1806)","v":10},{"$f":"LOOKUP($AO527,Data!$A$6:$A$1806,Data!$I$6:$I$1806)","v":0},{"$f":"LOOKUP($AO527,Data!$A$6:$A$1806,Data!$J$6:$J$1806)","v":-103},{"$f":"LOOKUP($AO527,Data!$A$6:$A$1806,Data!$K$6:$K$1806)","v":7800.3},-34.3994140625]
[null,40098.112777776943,{"$f":"LOOKUP(B528,Data!$A$6:$A$1806,Data!B$6:B$1806)","v":60.043998718261719},{"$f":"LOOKUP(B528,Data!$A$6:$A$1806,Data!C$6:C$1806)","v":3696.864501953125},null,null,null,-35.198974609375,-35.233823855444889,null,null,{"$f":"IF(B528>G$3,0,(K$21*0.000023148/K$22))","v":0},{"$f":"M527+L528+(I528-I527)","v":3730.7756232359529},{"$f":"AVERAGE(D$79:D528)","v":3762.4854486762151},{"$f":"AVERAGE(M$79:M528)","v":3775.4508959664472},3765.4461564175972,{"$f":"AVERAGE(P$79:P528)","v":3748.7175179380738},633,null,null,null,null,null,null,0,633,{"$f":"Z528/((C528-G$4)*10)","v":33787.152354288621},null,null,null,null,null,null,null,null,null,null,null,null,null,40098.112777776943,{"$f":"LOOKUP($AO528,Data!$A$6:$A$1806,Data!$B$6:$B$1806)","v":60.043998718261719},{"$f":"LOOKUP($AO528,Data!$A$6:$A$1806,Data!$C$6:$C$1806)","v":3696.864501953125},{"$f":"LOOKUP($AO528,Data!$A$6:$A$1806,Data!$D$6:$D$1806)","v":350},{"$f":"IF($AS$1=\"+\",LOOKUP($AO528,Data!$A$6:$A$1806,Data!$E$6:$E$1806)*-1,LOOKUP($AO528,Data!$A$6:$A$1806,Data!$E$6:$E$1806))","v":223.01573181152344},{"$f":"LOOKUP($AO528,Data!$A$6:$A$1806,Data!$F$6:$F$1806)","v":16},{"$f":"LOOKUP($AO528,Data!$A$6:$A$1806,Data!$G$6:$G$1806)","v":455.5},{"$f":"LOOKUP($AO528,Data!$A$6:$A$1806,Data!$H$6:$H$1806)","v":10},{"$f":"LOOKUP($AO528,Data!$A$6:$A$1806,Data!$I$6:$I$1806)","v":0},{"$f":"LOOKUP($AO528,Data!$A$6:$A$1806,Data!$J$6:$J$1806)","v":-103},{"$f":"LOOKUP($AO528,Data!$A$6:$A$1806,Data!$K$6:$K$1806)","v":7800.63},-35.198974609375]
[null,40098.11280092509,{"$f":"LOOKUP(B529,Data!$A$6:$A$1806,Data!B$6:B$1806)","v":60.042999267578125},{"$f":"LOOKUP(B529,Data!$A$6:$A$1806,Data!C$6:C$1806)","v":3696.877197265625},null,null,null,-34.3994140625,-34.941780427914182,null,null,0,3731.0676666634836,{"$f":"AVERAGE(D$79:D529)","v":3762.3399758349501},{"$f":"AVERAGE(M$79:M529)","v":3775.3524852584583},3765.4461564175972,{"$f":"AVERAGE(P$79:P529)","v":3748.7546926902505},{"$f":"R$41","v":633},null,null,null,null,null,null,0,633,72422.106710310967,null,null,null,null,null,null,null,null,null,null,null,null,null,{"$f":"AO528+TIME(0,0,$B$1)","v":40098.11280092509},{"$f":"LOOKUP($AO529,Data!$A$6:$A$1806,Data!$B$6:$B$1806)","v":60.042999267578125},{"$f":"LOOKUP($AO529,Data!$A$6:$A$1806,Data!$C$6:$C$1806)","v":3696.877197265625},{"$f":"LOOKUP($AO529,Data!$A$6:$A$1806,Data!$D$6:$D$1806)","v":350},{"$f":"IF($AS$1=\"+\",LOOKUP($AO529,Data!$A$6:$A$1806,Data!$E$6:$E$1806)*-1,LOOKUP($AO529,Data!$A$6:$A$1806,Data!$E$6:$E$1806))","v":223.01573181152344},{"$f":"LOOKUP($AO529,Data!$A$6:$A$1806,Data!$F$6:$F$1806)","v":16},{"$f":"LOOKUP($AO529,Data!$A$6:$A$1806,Data!$G$6:$G$1806)","v":456},{"$f":"LOOKUP($AO529,Data!$A$6:$A$1806,Data!$H$6:$H$1806)","v":10},{"$f":"LOOKUP($AO529,Data!$A$6:$A$1806,Data!$I$6:$I$1806)","v":0},{"$f":"LOOKUP($AO529,Data!$A$6:$A$1806,Data!$J$6:$J$1806)","v":-103},{"$f":"LOOKUP($AO529,Data!$A$6:$A$1806,Data!$K$6:$K$1806)","v":7800.96},-34.3994140625]

{"sheet":"Graph 12 to 24s","index":4,"n_rows":0,"n_cols":0,"rows_kept":0,"cut":false,"hidden":true,"merged":[]}

{"sheet":"Graph 18 to 30s","index":5,"n_rows":0,"n_cols":0,"rows_kept":0,"cut":false,"hidden":true,"merged":[]}

{"sheet":"Graph 20 to 40s","index":6,"n_rows":0,"n_cols":0,"rows_kept":0,"cut":false,"hidden":true,"merged":[]}

{"sheet":"Graph 18 to 52s","index":7,"n_rows":0,"n_cols":0,"rows_kept":0,"cut":false,"hidden":true,"merged":[]}

{"sheet":"Graph 20 to 52s","index":8,"n_rows":0,"n_cols":0,"rows_kept":0,"cut":false,"hidden":true,"merged":[]}

{"sheet":"Sustained Graph","index":9,"n_rows":0,"n_cols":0,"rows_kept":0,"cut":false,"hidden":true,"merged":[]}

{"sheet":"Form 1 Summary Data","index":10,"n_rows":7,"n_cols":100,"rows_kept":7,"cut":false,"hidden":false,"merged":[]}
[null,null,null,null,null,null,null,null,null,"Interconnection Performance",null,null,null,null,null,null,null,null,null,"Value A Data",null,"BA Performance",null,null,null,null,null,null,null,null,"Value B",null,"12 to 24 second Average Period Evaluation",null,null,null,null,null,null,null,null,null,null,null,"Value B","18 to 30 second Average Period Evaluation",null,null,null,null,null,null,null,null,null,null,null,null,"Value B","20 to 40 second Average Period Evaluation",null,null,null,null,null,null,null,null,null,null,null,null,"Value B","18 to 52 second Average Period Evaluation",null,null,null,null,null,null,null,null,null,null,null,null,"Value B","20 to 52 second Average Period Evaluation"]
[null,null,null,null,null,null,null,null,null,null,null,null,null,null,null,null,null,null,null,null,null,"JOU","Non-",null,null,"Transferred","Contingent",null,null,null,null,null,"JOU","Non-",null,null,"Transferred","Contingent",null,null,null,null,null,null,null,null,"JOU","Non-",null,null,"Transferred","Contingent",null,null,null,null,null,null,null,null,"JOU","Non-",null,null,"Transferred","Contingent",null,null,null,null,null,null,null,null,"JOU","Non-",null,null,"Transferred","Contingent",null,null,null,null,null,null,null,null,"JOU","Non-",null,null,"Transferred","Contingent"]
["Date","A Point","FPointA","A Value","t(0) Time","C Value",null,null,null,"Value B","FR B","Value B","FR B","Value B","FR B","Value B","FR B","Value B","FR B",null,"Net","Dynamic","Conforming","Pumped","Ramping","Frequency","BA","BA","BA","Bias",null,"Net","Dynamic","Conforming","Pumped","Ramping","Frequency","BA","Initial","Initial","Sustained","BA","BA","Bias",null,"Net","Dynamic","Conforming","Pumped","Ramping","Frequency","BA","Initial","Initial","Sustained","BA","BA","Bias",null,"Net","Dynamic","Conforming","Pumped","Ramping","Frequency","BA","Initial","Initial","Sustained","BA","BA","Bias",null,"Net","Dynamic","Conforming","Pumped","Ramping","Frequency","BA","Initial","Initial","Sustained","BA","BA","Bias",null,"Net","Dynamic","Conforming","Pumped","Ramping","Frequency","BA","Initial","Initial","Sustained","BA","BA","Bias"]
[null,"Time","Hz","Hz",null,"Hz",null,null,null,"12 to 24 sec","12 to 24 sec","18 to 30 sec","18 to 30 sec","20 to 40 sec","20 to 40 sec","18 to 52 sec","18 to 52 sec","20 to 52 sec","20 to 52 sec",null,"Actual","Schedules","Load","Hydro","Units","Response","Lost Generation","Bias","Load","Setting",null,"Actual","Schedules","Load","Hydro","Units","Response","Lost Generation","Performance","Performance","Performance","Bias","Load","Setting",null,"Actual","Schedules","Load","Hydro","Units","Response","Lost Generation","Performance","Performance","Performance","Bias","Load","Setting",null,"Actual","Schedules","Load","Hydro","Units","Response","Lost Generation","Performance","Performance","Performance","Bias","Load","Setting",null,"Actual","Schedules","Load","Hydro","Units","Response","Lost Generation","Performance","Performance","Performance","Bias","Load","Setting",null,"Actual","Schedules","Load","Hydro","Units","Response","Lost Generation","Performance","Performance","Performance","Bias","Load","Setting"]
[null,null,null,null,null,null,null,null,null,"Average","Average","Average","Average","Average","Average","Average","Average","Average","Average","Frequency","Interchange","Imp(-) Exp (+)","Load (-)","Load (-) Gen (+)","Gen (+)","Rec (-) Del (+)","Load (-) Gen (+)","Setting",null,"EPFR","Frequency","Interchange","Imp(-) Exp (+)","Load (-)","Load (-) Gen (+)","Gen (+)","Rec (-) Del (+)","Load (-) Gen (+)","Adjusted","Unadjusted",null,"Setting",null,"EPFR","Frequency","Interchange","Imp(-) Exp (+)","Load (-)","Load (-) Gen (+)","Gen (+)","Rec (-) Del (+)","Load (-) Gen (+)","Adjusted","Unadjusted",null,"Setting",null,"EPFR","Frequency","Interchange","Imp(-) Exp (+)","Load (-)","Load (-) Gen (+)","Gen (+)","Rec (-) Del (+)","Load (-) Gen (+)","Adjusted","Unadjusted",null,"Setting",null,"EPFR","Frequency","Interchange","Imp(-) Exp (+)","Load (-)","Load (-) Gen (+)","Gen (+)","Rec (-) Del (+)","Load (-) Gen (+)","Adjusted","Unadjusted",null,"Setting",null,"EPFR","Frequency","Interchange","Imp(-) Exp (+)","Load (-)","Load (-) Gen (+)","Gen (+)","Rec (-) Del (+)","Load (-) Gen (+)","Adjusted","Unadjusted",null,"Setting",null,"EPFR"]
[null,null,null,null,null,null,null,null,null,"Frequency","MW","Frequency","MW","Frequency","MW","Frequency","MW","Frequency","MW","Hz","MW","MW","MW","MW","MW","MW","MW","MW/0.1 Hz","MW","MW","Hz","MW","MW","MW","MW","MW","MW","MW","P.U.","P.U.","P.U.","MW/0.1 Hz","MW","MW","Hz","MW","MW","MW","MW","MW","MW/0.1 Hz","MW","P.U.","P.U.","P.U.","MW","MW","MW","Hz","MW","MW","MW","MW","MW","MW/0.1 Hz","MW","P.U.","P.U.","P.U.","MW","MW","MW","Hz","MW","MW","MW","MW","MW","MW","MW","P.U.","P.U.","P.U.","MW/0.1 Hz","MW","MW","Hz","MW","MW","MW","MW","MW","MW","MW","P.U.","P.U.","P.U.","MW/0.1 Hz","MW","MW"]
[{"$f":"Evaluation!BG2","v":"2009-10-12T02:27:26"},{"$f":"Evaluation!AD1","v":40098.102361111116},{"$f":"Evaluation!AD2","v":60.03900146484375},{"$f":"Evaluation!AD3","v":60.042125225067139},{"$f":"Evaluation!G2","v":40098.102384259262},{"$f":"Evaluation!AD4","v":59.83599853515625},null,null,null,{"$f":"Evaluation!AD9","v":59.88257162911551},{"$f":"Evaluation!AE10","v":-397.19960544267985},{"$f":"Evaluation!AF9","v":59.884428841727122},{"$f":"Evaluation!AG10","v":-401.66999207903092},{"$f":"Evaluation!AH9","v":59.889117745792184},{"$f":"Evaluation!AI10","v":-414.40454165799855},{"$f":"Evaluation!AJ9","v":59.88833342658149},{"$f":"Evaluation!AK10","v":-411.99633140597354},{"$f":"Evaluation!AL9","v":59.889117745792163},{"$f":"Evaluation!AM10","v":-413.95153300118005},{"$f":"Evaluation!BG4","v":60.042125225067139},{"$f":"Evaluation!BG7","v":3645.72705078125},{"$f":"Evaluation!BG15","v":350},{"$f":"Evaluation!BG16","v":165.33587837219238},{"$f":"Evaluation!BG17","v":0},{"$f":"Evaluation!BG18","v":229.25},{"$f":"Evaluation!BG19","v":-4.2125225067138672},{"$f":"Evaluation!BG20","v":15},{"$f":"Evaluation!BL15","v":-103},{"$f":"Evaluation!BL23","v":7651.3049999999994},{"$f":"Evaluation!BL17","v":-43.388981819152832},{"$f":"Evaluation!BG5","v":59.88257162911551},{"$f":"Evaluation!BG8","v":3770.6529715401784},{"$f":"Evaluation!BG23","v":335},{"$f":"Evaluation!BG24","v":212.13908604213171},{"$f":"Evaluation!BG25","v":0.8571428571428571},{"$f":"Evaluation!BG26","v":235.5},{"$f":"Evaluation!BG27","v":11.742837088448965},{"$f":"Evaluation!BG28","v":0},{"$f":"Evaluation!BG34","v":0.74578815977821511},{"$f":"Evaluation!BG33","v":0.97871439385174108},{"$f":"Evaluation!$K$33","v":0.92302028484117549},{"$f":"Evaluation!BL16","v":-103},{"$f":"Evaluation!BL24","v":7632},{"$f":"Evaluation!BL18","v":120.95122201102434},{"$f":"Evaluation!BU5","v":59.884428841727122},{"$f":"Evaluation!BU8","v":3779.0293666294642},{"$f":"Evaluation!BU23","v":335},{"$f":"Evaluation!BU24","v":213.4636513846261},{"$f":"Evaluation!BU25","v":1.4285714285714286},{"$f":"Evaluation!BU26","v":237},{"$f":"Evaluation!BU27","v":11.557115827287845},{"$f":"Evaluation!BU28","v":0},{"$f":"Evaluation!BU34","v":0.78768470329169682},{"$f":"Evaluation!BU33","v":1.0566373894003129},{"$f":"Evaluation!$K$33","v":0.92302028484117549},{"$f":"Evaluation!BZ16","v":-103},{"$f":"Evaluation!BZ24","v":7632},{"$f":"Evaluation!BZ18","v":119.0382930210648},{"$f":"Evaluation!CI5","v":59.889273210005328},{"$f":"Evaluation!CI8","v":3783.8625266335225},{"$f":"Evaluation!CI23","v":335},{"$f":"Evaluation!CI24","v":213.07754655317828},{"$f":"Evaluation!CI25","v":3.5454545454545454},{"$f":"Evaluation!CI26","v":238.5},{"$f":"Evaluation!CI27","v":11.0726789994672},{"$f":"Evaluation!CI28","v":0},{"$f":"Evaluation!CI34","v":0.82172659907551049},{"$f":"Evaluation!CI33","v":1.1296504317951892},{"$f":"Evaluation!$K$33","v":0.92302028484117549},{"$f":"Evaluation!CN16","v":-103},{"$f":"Evaluation!CN24","v":7632},{"$f":"Evaluation!CN18","v":114.04859369451216},{"$f":"Evaluation!CW5","v":59.88833342658149},{"$f":"Evaluation!CW8","v":3787.272420247396},{"$f":"Evaluation!CW23","v":335},{"$f":"Evaluation!CW24","v":213.96817694769965},{"$f":"Evaluation!CW25","v":6.0555555555555554},{"$f":"Evaluation!CW26","v":239.75},{"$f":"Evaluation!CW27","v":11.16665734185105},{"$f":"Evaluation!CW28","v":0},{"$f":"Evaluation!CW34","v":0.81535129028817221},{"$f":"Evaluation!CW33","v":1.1504625966721604},{"$f":"Evaluation!$K$33","v":0.92302028484117549},{"$f":"Evaluation!DB16","v":-103},{"$f":"Evaluation!DB24","v":7632},{"$f":"Evaluation!DB18","v":115.01657062106581},{"$f":"Evaluation!DK5","v":59.889117745792163},{"$f":"Evaluation!DK8","v":3788.3545065487133},{"$f":"Evaluation!DK23","v":335},{"$f":"Evaluation!DK16","v":165.33587837219238},{"$f":"Evaluation!DK25","v":6.3529411764705879},{"$f":"Evaluation!DK26","v":240},{"$f":"Evaluation!DK27","v":11.088225420783715},{"$f":"Evaluation!DK28","v":0},{"$f":"Evaluation!DK34","v":0.82157958801562825},{"$f":"Evaluation!DK33","v":1.1652000317509266},{"$f":"Evaluation!$K$33","v":0.92302028484117549},{"$f":"Evaluation!DP16","v":-103},{"$f":"Evaluation!DP24","v":7632},{"$f":"Evaluation!DP18","v":114.20872183407226}]

{"sheet":"Instructions","index":11,"n_rows":44,"n_cols":2,"rows_kept":44,"cut":false,"hidden":false,"merged":[]}
["Steps","To be completed for each event evaluated."]
[1,"Set-up Data collection in exact same order as the \"Data\" sheet of this work book.  Data should be in this order:"]
[null,"Column A: Date and Time in this format, mm/dd/yy HH:MM:SS"]
[null,"Column B: Frequency Hz"]
[null,"Column C: Net Actual Interchange"]
[null,"Column D: Joint Owned Unit dynamic schedule"]
[null,"Column E: Non Conforming Load"]
[null,"Column F: Pumped Hydro"]
[null,"Column G: Ramping units"]
[null,"Column H: Transferred Frequency Response"]
[null,"Column I: Contingent BA Lost load or generation"]
[null,"Column J: BA Bias Setting"]
[null,"Column K: BA Load"]
[]
[2,"Note: Columns D, E, F, G and H are optional data.  If you choose not to use these, leave the columns blank.  Do not delete the columns.  Use the sign (+/-) convention defined in FRS Form 1."]
[3,"Data compression must be turned off for each data point.  Quality data will give you quality results in the evaluation."]
[4,"Data must be at 2 second sample rate for the full 25 minute minimum collection period that starts a minimum of two (2) minutes before the event begins and includes a minimum of 15 minutes after the beginning of the event."]
[null,"The spreadsheet will work with larger sample size data."]
[null,"If using PI historian as your data source, use \"PasteSpecial/Values\" to enter data into the spreadsheet.  Do not include historian data collection formulas in the data."]
[5,"Once data is in place in the \"Data\" worksheet, determine when the beginning of the event occurred.  This is accomplished by knowing the UTC event time from the master event list."]
[null,"Convert the UTC event time to your PI data time and then scroll through the Data worksheet column B data of frequency and observe when frequency moves from the normal, pre-event frequency."]
[null,"This will usually be a single change in frequency of 0.008 to 0.010 Hz more or less.  Note the row number in the worksheet that this change occurs.  In this sample data spreadsheet this occurs in row 313 of the data."]
[6,"Edit cell \"C8\" of the \"Entry Data\" worksheet, change the formula in the cell \"C8\" to reference the row number identified in step 5 above.  In the sample data of this workbook this formula is: \"=Data!A313\""]
[7,"Determine the end of the event to be evaluated.  Use the same rules that are used for DCS only look at frequency instead of ACE.  Scroll down the frequency data in column B of the \"Data\" worksheet until frequency reaches 60 Hz or the"]
[null,"pre-disturbance value.  Note the row number in the worksheet that this occurs.  In this sample data spreadsheet this occurs in row 427."]
[8,"Edit cell \"C11\" of the \"Evaluation\" worksheet, change the formula in the cell \"C11\" to reference the row number identified in step 7 above.  In the sample data of this workbook this formula is: \"=Data!A427\""]
[9,"In cell \"R41\" of the \"Evaluation\" spreadsheet, enter the MW value of the unit(s) that tripped (from the Master Event List).  This is only necessary for the \"Interconnection\" evaluation if you're interested."]
[null,"It is not necessary to do this for the BA evaluation but it will provide a comparison of the BA frequency response as compared to the Interconnection frequency response."]
[10,"Use the \"copy\" button provided to copy the evaluation and event specific data for the \"FRS Form 1\" of this field trial.  This data is summarized in the correct order on worksheet \"Form 1 Summary Data\" of this workbook."]
[null,"Use PasteSpecial/Values when pasting the data into FRS Form 1 on the appropriate event row."]
[]
[]
["Steps","To be completed once at the initial setup of the evaluation spreadsheet for your BA."]
["A","Enter the Balancing Authority name as you want it to appear on the graphs in cell \"B1\" of the \"Entry Data\" worksheet.  For example: \"NYISO\"."]
["B","Enter your Balancing Authorities Frequency Response Obligation in cell \"B2\" of the \"Entry Data\" worksheet.  For example: -80 MW/0.1 Hz (This value could change annually)"]
["C","For informational and educational purposes, a \"Sustained\" performance evaluation is provided in the \"Evaluation\" worksheet and in the \"Sustained\" Graph.  This evaluation uses a Time Constant (TC) to model the frequency response of your BA."]
[null,"The time constant is located in cell \"L13\" of the \"Evaluation\" spreadsheet and should be edited for the types of generators in your BA.  Presently this time constant is set at 0.35.  "]
[null,"The higher the value of the time constant, the faster the delivery of frequency response is expected.  Setting the TC to 1.0 effectively turns off the delay and instantaneous frequency response will be modeled.  Do not set higher than 1.0."]
[null,"This time constant is only used in the \"Sustained\" evaluation and is not used for the Field Trial evaluation of performance to the FRO."]
[null,"A typical setting for this time constant is 0.08 to 0.15 for hydro units, 0.10 to 0.20 for large steam turbines and 0.20 to 0.40 for combustion turbines.  "]
[null,"By observing the slope of your \"Interchange Actual\" on the \"Sustained\" Graph, adjust the time constant until the initial slope of the \"Target\" is similar."]
[null,"When set appropriately, the \"Target\" trend on the \"Sustained\" graph will model what Interchange Actual should have done during the event recovery period based on your minimum FRO."]
[]
[null,"Note:  For ease of use, only the necessary worksheets are displayed.  If you are interested in viewing graphs and other hidden worksheets, select the \"tab\" at the bottom, right click, select unhide and select the worksheet you wish to unhide. "]

{"sheet":"Adj Graph JOU","index":12,"n_rows":0,"n_cols":0,"rows_kept":0,"cut":false,"hidden":true,"merged":[]}

{"sheet":"Adj Graph NCL","index":13,"n_rows":0,"n_cols":0,"rows_kept":0,"cut":false,"hidden":true,"merged":[]}

{"sheet":"Adj Graph PmpHyd","index":14,"n_rows":0,"n_cols":0,"rows_kept":0,"cut":false,"hidden":true,"merged":[]}

{"sheet":"Adj Graph RampGen","index":15,"n_rows":0,"n_cols":0,"rows_kept":0,"cut":false,"hidden":true,"merged":[]}

{"sheet":"Adj Graph MWper0.1Hz","index":16,"n_rows":0,"n_cols":0,"rows_kept":0,"cut":false,"hidden":true,"merged":[]}

{"sheet":"Adj Graph ContingentBA","index":17,"n_rows":0,"n_cols":0,"rows_kept":0,"cut":false,"hidden":true,"merged":[]}

{"sheet":"BA LoadDampening","index":18,"n_rows":0,"n_cols":0,"rows_kept":0,"cut":false,"hidden":true,"merged":[]}

{"sheet":"BA BiasSetting","index":19,"n_rows":0,"n_cols":0,"rows_kept":0,"cut":false,"hidden":true,"merged":[]}