{"text_format":"1","workbook":"xlsx","n_sheets":20,"sheets":["Data","Entry Data","IPFR","Evaluation","Graph 12 to 24s","Graph 18 to 30s","Graph 20 to 40s","Graph 18 to 52s","Graph 20 to 52s","Sustained Graph","Form 1 Summary Data","Instructions","Adj Graph JOU","Adj Graph NCL","Adj Graph PmpHyd","Adj Graph RampGen","Adj Graph MWper0.1Hz","Adj Graph ContingentBA","BA LoadDampening","BA BiasSetting"],"not_rendered":{"charts":16,"images":0,"macros":1,"external_links":0,"defined_names":0,"comments":2,"pivot_tables":0},"unopened":[],"bounds":{"document_bytes":16777216,"sheet_cells":100000,"rows_first":2000,"rows_last":500,"rows_between":2000,"halvings":0,"cell_chars":16384,"cell_head_chars":4096},"cells_cut":0,"cells_raw":0,"read":"whole","date_system":"1900"}

{"sheet":"Data","index":0,"n_rows":726,"n_cols":11,"rows_kept":726,"cut":false,"hidden":false,"merged":[]}
[null,null,null,"JOU","Non-",null,null,"Transferred","Contingent"]
[null,null,"Net","Dynamic","Conforming","Pumped","Ramping","Frequency","BA","BA","BA"]
[null,null,"Actual","Schedules","Load","Hydro","Units","Response","Lost Generation","Bias","Load"]
[null,null,"Interchange","Imp(-) Exp (+)","Load (-)","Load (-) Gen (+)","Gen (+)","Rec (-) Del (+)","Load (-) Gen (+)","Setting"]
["Time (T)","Hz","MW","MW","MW","MW","MW","MW/0.1 Hz","MW","MW/0.1 Hz","MW"]
["2009-10-12T02:12:00",59.979999542236328,3669.87841796875,350,351.36151123046875,0,0,10,15,-103,7500]
["2009-10-12T02:12:05",59.981998443603516,3670.94921875,350,351.36151123046875,0,0.5,10,15,-103,7500.33]
["2009-10-12T02:12:10",59.980998992919922,3671.548095703125,350,351.36151123046875,0,1,10,15,-103,7500.66]
["2009-10-12T02:12:15",59.979000091552734,3672.174072265625,350,357.947509765625,0,1.5,10,15,-103,7500.99]
["2009-10-12T02:12:20",59.979999542236328,3674.263427734375,350,357.947509765625,0,2,10,15,-103,7501.32]
["2009-10-12T02:12:25",59.986000061035156,3675.091552734375,350,357.947509765625,0,2.5,10,15,-103,7501.65]
["2009-10-12T02:12:30",59.976001739501953,3669.330322265625,350,357.947509765625,0,3,10,15,-103,7501.98]
["2009-10-12T02:12:35",59.979000091552734,3673.560302734375,350,357.947509765625,0,3.5,10,15,-103,7502.31]
["2009-10-12T02:12:40",59.98699951171875,3673.834228515625,350,360.2347412109375,0,4,10,15,-103,7502.64]
["2009-10-12T02:12:45",59.993000030517578,3671.220458984375,350,360.2347412109375,0,4.5,10,15,-103,7502.97]
["2009-10-12T02:12:50",59.994998931884766,3671.283203125,350,360.2347412109375,0,5,10,15,-103,7503.3]
["2009-10-12T02:12:55",59.994998931884766,3668.12890625,350,360.2347412109375,0,5.5,10,15,-103,7503.63]
["2009-10-12T02:13:00",59.993999481201172,3669.291259765625,350,360.2347412109375,0,6,10,15,-103,7503.96]
["2009-10-12T02:13:05",59.997001647949219,3670.683349609375,350,346.52587890625,0,6.5,10,15,-103,7504.29]
["2009-10-12T02:13:10",60.000999450683594,3670.211669921875,350,346.52587890625,0,7,10,15,-103,7504.62]
["2009-10-12T02:13:15",60.002998352050781,3671.18359375,350,346.52587890625,0,7.5,10,15,-103,7504.95]
["2009-10-12T02:13:20",60,3670.26708984375,350,346.52587890625,0,8,10,15,-103,7505.28]
["2009-10-12T02:13:25",60.002998352050781,3670.24853515625,350,346.52587890625,0,8.5,10,15,-103,7505.61]
["2009-10-12T02:13:30",60.000999450683594,3669.899169921875,350,296.443359375,0,9,10,15,-103,7505.94]
["2009-10-12T02:13:35",60.000999450683594,3671.62841796875,350,296.443359375,0,9.5,10,15,-103,7506.27]
["2009-10-12T02:13:40",60.004001617431641,3671.96826171875,350,296.443359375,0,10,10,15,-103,7506.6]
["2009-10-12T02:13:45",60.005001068115234,3671.875244140625,350,296.443359375,0,10.5,10,15,-103,7506.93]
["2009-10-12T02:13:50",60.002998352050781,3672.872802734375,350,296.443359375,0,11,10,15,-103,7507.26]
["2009-10-12T02:13:55",59.999000549316406,3673.530517578125,350,341.0611572265625,0,11.5,10,15,-103,7507.59]
["2009-10-12T02:14:00",59.998001098632813,3673.186279296875,350,341.0611572265625,0,12,10,15,-103,7507.92]
["2009-10-12T02:14:05",59.994998931884766,3673.364990234375,350,341.0611572265625,0,12.5,10,15,-103,7508.25]
["2009-10-12T02:14:10",59.995998382568359,3672.093017578125,350,341.0611572265625,0,13,10,15,-103,7508.58]
["2009-10-12T02:14:15",60.000999450683594,3671.072509765625,350,341.0611572265625,0,13.5,10,15,-103,7508.91]
["2009-10-12T02:14:20",60.006999969482422,3671.44140625,350,322.8262939453125,0,14,10,15,-103,7509.24]
["2009-10-12T02:14:25",60.001998901367188,3670.512939453125,350,322.8262939453125,0,14.5,10,15,-103,7509.57]
["2009-10-12T02:14:30",59.999000549316406,3672.712890625,350,322.8262939453125,0,15,10,15,-103,7509.9]
["2009-10-12T02:14:35",60.006999969482422,3670.82568359375,350,322.8262939453125,0,15.5,10,15,-103,7510.23]
["2009-10-12T02:14:40",60.008998870849609,3671.80908203125,350,322.8262939453125,0,16,10,15,-103,7510.56]
["2009-10-12T02:14:45",59.997001647949219,3673.25537109375,350,321.54440307617187,0,16.5,10,15,-103,7510.89]
["2009-10-12T02:14:50",59.993999481201172,3675.42578125,350,321.54440307617187,0,17,10,15,-103,7511.22]
["2009-10-12T02:14:55",60.000999450683594,3675.310546875,350,321.54440307617187,0,17.5,10,15,-103,7511.55]
["2009-10-12T02:15:00",59.994998931884766,3675.16552734375,350,321.54440307617187,0,18,10,15,-103,7511.88]
["2009-10-12T02:15:05",59.986000061035156,3674.906494140625,350,321.54440307617187,0,18.5,10,15,-103,7512.21]
["2009-10-12T02:15:10",59.987998962402344,3676.71435546875,350,362.13626098632812,0,19,10,15,-103,7512.54]
["2009-10-12T02:15:15",59.987998962402344,3675.54296875,350,362.13626098632812,0,19.5,10,15,-103,7512.87]
["2009-10-12T02:15:20",59.984001159667969,3676.931396484375,350,362.13626098632812,0,20,10,15,-103,7513.2]
["2009-10-12T02:15:25",59.981998443603516,3677.361083984375,350,362.13626098632812,0,20.5,10,15,-103,7513.53]
["2009-10-12T02:15:30",59.985000610351563,3679.227783203125,350,362.13626098632812,0,21,10,15,-103,7513.86]
["2009-10-12T02:15:35",59.98699951171875,3677.626953125,350,336.31179809570312,0,21.5,10,15,-103,7514.19]
["2009-10-12T02:15:40",59.98699951171875,3676.409423828125,350,336.31179809570312,0,22,10,15,-103,7514.52]
["2009-10-12T02:15:45",59.979999542236328,3676.914794921875,350,336.31179809570312,0,22.5,10,15,-103,7514.85]
["2009-10-12T02:15:50",59.98699951171875,3679.23291015625,350,336.31179809570312,0,23,10,15,-103,7515.18]
["2009-10-12T02:15:55",59.987998962402344,3678.34423828125,350,336.31179809570312,0,23.5,10,15,-103,7515.51]
["2009-10-12T02:16:00",59.978000640869141,3677.677734375,350,316.44305419921875,0,24,10,15,-103,7515.84]
["2009-10-12T02:16:05",59.979000091552734,3678.7294921875,350,316.44305419921875,0,24.5,10,15,-103,7516.17]
["2009-10-12T02:16:10",59.987998962402344,3680.286865234375,350,316.44305419921875,0,25,10,15,-103,7516.5]
["2009-10-12T02:16:15",59.988998413085937,3678.488525390625,350,316.44305419921875,0,25.5,10,15,-103,7516.83]
["2009-10-12T02:16:20",59.992000579833984,3678.740234375,350,316.44305419921875,0,26,10,15,-103,7517.16]
["2009-10-12T02:16:25",59.994998931884766,3677.0625,350,325.46429443359375,0,26.5,10,15,-103,7517.49]
["2009-10-12T02:16:30",59.998001098632813,3678.490478515625,350,325.46429443359375,0,27,10,15,-103,7517.82]
["2009-10-12T02:16:35",59.999000549316406,3678.950927734375,350,325.46429443359375,0,27.5,10,15,-103,7518.15]
["2009-10-12T02:16:40",59.992000579833984,3679.1484375,350,325.46429443359375,0,28,10,15,-103,7518.48]
["2009-10-12T02:16:45",59.998001098632813,3678.99658203125,350,325.46429443359375,0,28.5,10,15,-103,7518.81]
["2009-10-12T02:16:50",60.006000518798828,3678.493408203125,350,336.61416625976562,0,29,10,15,-103,7519.14]
["2009-10-12T02:16:55",60.008998870849609,3677.898681640625,350,336.61416625976562,0,29.5,10,15,-103,7519.47]
["2009-10-12T02:17:00",60.011001586914063,3679.208740234375,350,336.61416625976562,0,30,10,15,-103,7519.8]
["2009-10-12T02:17:05",60.007999420166016,3679.056640625,350,336.61416625976562,0,30.5,10,15,-103,7520.13]
["2009-10-12T02:17:10",60.012001037597656,3680.604248046875,350,336.61416625976562,0,31,10,15,-103,7520.46]
["2009-10-12T02:17:15",60.009998321533203,3680.2626953125,350,316.72616577148437,0,31.5,10,15,-103,7520.79]
["2009-10-12T02:17:20",60.008998870849609,3679.560791015625,350,316.72616577148437,0,32,10,15,-103,7521.12]
["2009-10-12T02:17:25",60.006000518798828,3679.911865234375,350,316.72616577148437,0,32.5,10,15,-103,7521.45]
["2009-10-12T02:17:30",60.008998870849609,3679.887939453125,350,316.72616577148437,0,33,10,15,-103,7521.78]
["2009-10-12T02:17:35",60.008998870849609,3679.2607421875,350,316.72616577148437,0,33.5,10,15,-103,7522.11]
["2009-10-12T02:17:40",60.004001617431641,3679.024658203125,350,320.19552612304687,0,34,10,15,-103,7522.44]
["2009-10-12T02:17:45",59.999000549316406,3678.295166015625,350,320.19552612304687,0,34.5,10,15,-103,7522.77]
["2009-10-12T02:17:50",59.993999481201172,3678.23583984375,350,320.19552612304687,0,35,10,15,-103,7523.1]
["2009-10-12T02:17:55",59.993999481201172,3677.772216796875,350,320.19552612304687,0,35.5,10,15,-103,7523.43]
["2009-10-12T02:18:00",59.994998931884766,3677.09326171875,350,320.19552612304687,0,36,10,15,-103,7523.76]
["2009-10-12T02:18:05",59.990001678466797,3678.515625,350,341.86614990234375,0,36.5,10,15,-103,7524.09]
["2009-10-12T02:18:10",59.983001708984375,3680.196533203125,350,341.86614990234375,0,37,10,15,-103,7524.42]
["2009-10-12T02:18:15",59.977001190185547,3677.921142578125,350,341.86614990234375,0,37.5,10,15,-103,7524.75]
["2009-10-12T02:18:20",59.999000549316406,3682.070068359375,350,341.86614990234375,0,38,10,15,-103,7525.08]
["2009-10-12T02:18:25",59.988998413085937,3678.07666015625,350,341.86614990234375,0,38.5,10,15,-103,7525.41]
["2009-10-12T02:18:30",59.984001159667969,3678.4267578125,350,348.59783935546875,0,39,10,15,-103,7525.74]
["2009-10-12T02:18:35",59.985000610351563,3677.822265625,350,348.59783935546875,0,39.5,10,15,-103,7526.07]
["2009-10-12T02:18:40",59.986000061035156,3677.3974609375,350,348.59783935546875,0,40,10,15,-103,7526.4]
["2009-10-12T02:18:45",59.980998992919922,3678.61669921875,350,348.59783935546875,0,40.5,10,15,-103,7526.73]
["2009-10-12T02:18:50",59.998001098632813,3681.252197265625,350,348.59783935546875,0,41,10,15,-103,7527.06]
["2009-10-12T02:18:55",60.006999969482422,3678.161376953125,350,329.08502197265625,0,41.5,10,15,-103,7527.39]
["2009-10-12T02:19:00",59.980998992919922,3676.22216796875,350,329.08502197265625,0,42,10,15,-103,7527.72]
["2009-10-12T02:19:05",59.9739990234375,3677.489990234375,350,329.08502197265625,0,42.5,10,15,-103,7528.05]
["2009-10-12T02:19:10",59.9739990234375,3675.43701171875,350,329.08502197265625,0,43,10,15,-103,7528.38]
["2009-10-12T02:19:15",59.979000091552734,3683.82861328125,350,329.08502197265625,0,43.5,10,15,-103,7528.71]
["2009-10-12T02:19:20",59.984001159667969,3681.1083984375,350,342.41824340820312,0,44,10,15,-103,7529.04]
["2009-10-12T02:19:25",59.987998962402344,3676.751953125,350,342.41824340820312,0,44.5,10,15,-103,7529.37]
["2009-10-12T02:19:30",59.98699951171875,3671.9423828125,350,342.41824340820312,0,45,10,15,-103,7529.7]
["2009-10-12T02:19:35",59.985000610351563,3670.128662109375,350,342.41824340820312,0,45.5,10,15,-103,7530.03]
["2009-10-12T02:19:40",59.983001708984375,3672.0478515625,350,342.41824340820312,0,46,10,15,-103,7530.36]
["2009-10-12T02:19:45",59.988998413085937,3672.41357421875,350,338.79464721679687,0,46.5,10,15,-103,7530.69]
["2009-10-12T02:19:50",59.981998443603516,3671.837158203125,350,338.79464721679687,0,47,10,15,-103,7531.02]
["2009-10-12T02:19:55",59.980998992919922,3670.3720703125,350,338.79464721679687,0,47.5,10,15,-103,7531.35]
["2009-10-12T02:20:00",59.986000061035156,3671.40087890625,350,338.79464721679687,0,48,10,15,-103,7531.68]
["2009-10-12T02:20:05",59.98699951171875,3670.29638671875,350,338.79464721679687,0,48.5,10,15,-103,7532.01]
["2009-10-12T02:20:10",59.979999542236328,3668.589599609375,350,335.93099975585937,0,49,10,15,-103,7532.34]
["2009-10-12T02:20:15",59.979999542236328,3670.2626953125,350,335.93099975585937,0,49.5,10,15,-103,7532.67]
["2009-10-12T02:20:20",59.980998992919922,3670.10205078125,350,335.93099975585937,0,50,10,15,-103,7533]
["2009-10-12T02:20:25",59.979999542236328,3672.4423828125,350,335.93099975585937,0,50.5,10,15,-103,7533.33]
["2009-10-12T02:20:30",59.979999542236328,3671.947021484375,350,335.93099975585937,0,51,10,15,-103,7533.66]
["2009-10-12T02:20:35",59.977001190185547,3670.13720703125,350,339.71240234375,0,51.5,10,15,-103,7533.99]
["2009-10-12T02:20:40",59.979000091552734,3672.390869140625,350,339.71240234375,0,52,10,15,-103,7534.32]
["2009-10-12T02:20:45",59.977001190185547,3672.62646484375,350,339.71240234375,0,52.5,10,15,-103,7534.65]
["2009-10-12T02:20:50",59.972999572753906,3673.182861328125,350,339.71240234375,0,53,10,15,-103,7534.98]
["2009-10-12T02:20:55",59.972999572753906,3676.623291015625,350,339.71240234375,0,53.5,10,15,-103,7535.31]
["2009-10-12T02:21:00",59.974998474121094,3676.54296875,350,332.024658203125,0,54,10,15,-103,7535.64]
["2009-10-12T02:21:05",59.977001190185547,3675.255859375,350,332.024658203125,0,54.5,10,15,-103,7535.97]
["2009-10-12T02:21:10",59.979999542236328,3671.27685546875,350,332.024658203125,0,55,10,15,-103,7536.3]
["2009-10-12T02:21:15",59.980998992919922,3669.962890625,350,332.024658203125,0,55.5,10,15,-103,7536.63]
["2009-10-12T02:21:20",59.981998443603516,3669.496826171875,350,332.024658203125,0,56,10,15,-103,7536.96]
["2009-10-12T02:21:25",59.980998992919922,3666.481689453125,350,330.759033203125,0,56.5,10,15,-103,7537.29]
["2009-10-12T02:21:30",59.985000610351563,3666.91064453125,350,330.759033203125,0,57,10,15,-103,7537.62]
["2009-10-12T02:21:35",59.988998413085937,3667.456298828125,350,330.759033203125,0,57.5,10,15,-103,7537.95]
["2009-10-12T02:21:40",59.998001098632813,3665.26171875,350,330.759033203125,0,58,10,15,-103,7538.28]
["2009-10-12T02:21:45",60.004001617431641,3663.228759765625,350,330.759033203125,0,58.5,10,15,-103,7538.61]
["2009-10-12T02:21:50",60.01300048828125,3661.6953125,350,323.41995239257812,0,59,10,15,-103,7538.94]
["2009-10-12T02:21:55",60.01300048828125,3662.95947265625,350,323.41995239257812,0,59.5,10,15,-103,7539.27]
["2009-10-12T02:22:00",60.009998321533203,3664.13916015625,350,323.41995239257812,0,60,10,15,-103,7539.6]
["2009-10-12T02:22:05",60.019001007080078,3663.2646484375,350,323.41995239257812,0,60.5,10,15,-103,7539.93]
["2009-10-12T02:22:10",60.020000457763672,3661.92919921875,350,323.41995239257812,0,61,10,15,-103,7540.26]
["2009-10-12T02:22:15",60.020999908447266,3658.661376953125,350,342.35092163085937,0,61.5,10,15,-103,7540.59]
["2009-10-12T02:22:20",60.019001007080078,3657.571044921875,350,342.35092163085937,0,62,10,15,-103,7540.92]
["2009-10-12T02:22:25",60.025001525878906,3658.0146484375,350,342.35092163085937,0,62.5,10,15,-103,7541.25]
["2009-10-12T02:22:30",60.020000457763672,3659.2236328125,350,342.35092163085937,0,63,10,15,-103,7541.58]
["2009-10-12T02:22:35",60.018001556396484,3658.154541015625,350,342.35092163085937,0,63.5,10,15,-103,7541.91]
["2009-10-12T02:22:40",60.019001007080078,3659.777587890625,350,345.08181762695312,0,64,10,15,-103,7542.24]
["2009-10-12T02:22:45",60.022998809814453,3662.38720703125,350,345.08181762695312,0,64.5,10,15,-103,7542.57]
["2009-10-12T02:22:50",60.025001525878906,3662.39013671875,350,345.08181762695312,0,65,10,15,-103,7542.9]
["2009-10-12T02:22:55",60.020000457763672,3663.53857421875,350,345.08181762695312,0,65.5,10,15,-103,7543.23]
["2009-10-12T02:23:00",60.020000457763672,3662.552490234375,350,345.08181762695312,0,66,10,15,-103,7543.56]
["2009-10-12T02:23:05",60.020999908447266,3663.90966796875,350,346.53738403320312,0,66.5,10,15,-103,7543.89]
["2009-10-12T02:23:10",60.013999938964844,3662.791259765625,350,346.53738403320312,0,67,10,15,-103,7544.22]
["2009-10-12T02:23:15",60.01300048828125,3664.3154296875,350,346.53738403320312,0,67.5,10,15,-103,7544.55]
["2009-10-12T02:23:20",60.007999420166016,3665.797607421875,350,346.53738403320312,0,68,10,15,-103,7544.88]
["2009-10-12T02:23:25",60.011001586914063,3667.6767578125,350,346.53738403320312,0,68.5,10,15,-103,7545.21]
["2009-10-12T02:23:30",60.008998870849609,3666.688232421875,350,342.90576171875,0,69,10,15,-103,7545.54]
["2009-10-12T02:23:35",60.008998870849609,3667.696044921875,350,342.90576171875,0,69.5,10,15,-103,7545.87]
["2009-10-12T02:23:40",60.001998901367188,3667.04296875,350,342.90576171875,0,70,10,15,-103,7546.2]
["2009-10-12T02:23:45",59.995998382568359,3665.879638671875,350,342.90576171875,0,70.5,10,15,-103,7546.53]
["2009-10-12T02:23:50",59.998001098632813,3665.801513671875,350,342.90576171875,0,71,10,15,-103,7546.86]
["2009-10-12T02:23:55",59.998001098632813,3664.947509765625,350,340.09439086914063,0,71.5,10,15,-103,7547.19]
["2009-10-12T02:24:00",59.994998931884766,3666.13330078125,350,340.09439086914063,0,72,10,15,-103,7547.52]
["2009-10-12T02:24:05",59.993000030517578,3667.083984375,350,340.09439086914063,0,72.5,10,15,-103,7547.85]
["2009-10-12T02:24:10",59.981998443603516,3667.336669921875,350,340.09439086914063,0,73,10,15,-103,7548.18]
["2009-10-12T02:24:15",59.981998443603516,3668.69091796875,350,340.09439086914063,0,73.5,10,15,-103,7548.51]
["2009-10-12T02:24:20",59.981998443603516,3669.606201171875,350,342.77117919921875,0,74,10,15,-103,7548.84]
["2009-10-12T02:24:25",59.978000640869141,3670.2646484375,350,342.77117919921875,0,74.5,10,15,-103,7549.17]
["2009-10-12T02:24:30",59.9739990234375,3673.2431640625,350,342.77117919921875,0,75,10,15,-103,7549.5]
["2009-10-12T02:24:35",59.979000091552734,3676.418212890625,350,342.77117919921875,0,75.5,10,15,-103,7549.83]
["2009-10-12T02:24:40",59.979999542236328,3674.637451171875,350,342.77117919921875,0,76,10,15,-103,7550.16]
["2009-10-12T02:24:45",59.98699951171875,3674.76806640625,350,342.909912109375,0,76.5,10,15,-103,7550.49]
["2009-10-12T02:24:50",59.990001678466797,3673.51416015625,350,342.909912109375,0,77,10,15,-103,7550.82]
["2009-10-12T02:24:55",59.991001129150391,3673.056396484375,350,342.909912109375,0,77.5,10,15,-103,7551.15]
["2009-10-12T02:25:00",59.993000030517578,3671.4931640625,350,342.909912109375,0,78,10,15,-103,7551.48]
["2009-10-12T02:25:05",59.995998382568359,3670.02783203125,350,342.909912109375,0,78.5,10,15,-103,7551.81]
["2009-10-12T02:25:10",60.002998352050781,3671.578125,350,343.2860107421875,0,79,10,15,-103,7552.14]
["2009-10-12T02:25:15",60.005001068115234,3673.818603515625,350,343.2860107421875,0,79.5,10,15,-103,7552.47]
["2009-10-12T02:25:20",60.004001617431641,3673.18212890625,350,343.2860107421875,0,80,10,15,-103,7552.8]
["2009-10-12T02:25:25",60.009998321533203,3672.363037109375,350,343.2860107421875,0,80.5,10,15,-103,7553.13]
["2009-10-12T02:25:30",60.011001586914063,3672.2607421875,350,343.2860107421875,0,81,10,15,-103,7553.46]
["2009-10-12T02:25:35",60.013999938964844,3673.553466796875,350,331.85296630859375,0,81.5,10,15,-103,7553.79]
["2009-10-12T02:25:40",60.011001586914063,3674.537109375,350,331.85296630859375,0,82,10,15,-103,7554.12]
["2009-10-12T02:25:45",60.016998291015625,3672.563232421875,350,331.85296630859375,0,82.5,10,15,-103,7554.45]
["2009-10-12T02:25:50",60.013999938964844,3672.38818359375,350,331.85296630859375,0,83,10,15,-103,7554.78]
["2009-10-12T02:25:55",60.013999938964844,3671.2880859375,350,331.85296630859375,0,83.5,10,15,-103,7555.11]
["2009-10-12T02:26:00",60.019001007080078,3672.981689453125,350,329.98822021484375,0,84,10,15,-103,7555.44]
["2009-10-12T02:26:05",60.019001007080078,3671.193115234375,350,329.98822021484375,0,84.5,10,15,-103,7555.77]
["2009-10-12T02:26:10",60.0260009765625,3671.18896484375,350,329.98822021484375,0,85,10,15,-103,7556.1]
["2009-10-12T02:26:15",60.019001007080078,3664.4951171875,350,329.98822021484375,0,85.5,10,15,-103,7556.43]
["2009-10-12T02:26:20",60.020000457763672,3666.82080078125,350,329.98822021484375,0,86,10,15,-103,7556.76]
["2009-10-12T02:26:25",60.020999908447266,3670.266845703125,350,255.44416809082031,0,86.5,10,15,-103,7557.09]
["2009-10-12T02:26:30",60.019001007080078,3672.4931640625,350,165.1016845703125,0,87,10,15,-103,7557.42]
["2009-10-12T02:26:35",60.021999359130859,3672.1640625,350,165.1016845703125,0,87.5,10,15,-103,7557.75]
["2009-10-12T02:26:40",60.036998748779297,3669.98291015625,350,165.1016845703125,0,88,10,15,-103,7558.08]
["2009-10-12T02:26:45",60.036998748779297,3661.59912109375,350,165.1016845703125,0,88.5,10,15,-103,7558.41]
["2009-10-12T02:26:50",60.048000335693359,3651.49169921875,350,165.1016845703125,0,89,10,15,-103,7558.74]
["2009-10-12T02:26:55",60.041000366210938,3648.246337890625,350,165.47639465332031,0,89.5,10,15,-103,7559.07]
["2009-10-12T02:27:00",60.03900146484375,3654.29443359375,350,165.47639465332031,0,90,10,15,-103,7559.4]
["2009-10-12T02:27:05",60.042999267578125,3651.059326171875,350,165.47639465332031,0,90.5,10,15,-103,7559.73]
["2009-10-12T02:27:10",60.041000366210938,3648.236328125,350,165.47639465332031,0,91,10,15,-103,7560.06]
["2009-10-12T02:27:15",60.041000366210938,3645.44580078125,350,165.47639465332031,0,91.5,10,15,-103,7560.39]
["2009-10-12T02:27:20",59.852001190185547,3641.191162109375,335,206.4591064453125,1,92,10,0,-103,7560.72]
["2009-10-12T02:27:25",59.868999481201172,3734.904296875,335,206.4591064453125,1,92.5,10,0,-103,7561.05]
["2009-10-12T02:27:30",59.880001068115234,3737.15673828125,335,206.4591064453125,1,93,10,0,-103,7561.38]
["2009-10-12T02:27:35",59.875,3766.19384765625,335,206.4591064453125,1,93.5,10,0,-103,7561.71]
["2009-10-12T02:27:40",59.886001586914063,3769.925048828125,335,206.4591064453125,1,94,10,0,-103,7562.04]
["2009-10-12T02:27:45",59.887001037597656,3782.49951171875,335,211.25604248046875,1,94.5,10,0,-103,7562.37]
["2009-10-12T02:27:50",59.895000457763672,3784.729736328125,335,211.25604248046875,1,95,10,0,-103,7562.7]
["2009-10-12T02:27:55",59.893001556396484,3788.32763671875,335,211.25604248046875,2,95.5,10,0,-103,7563.03]
["2009-10-12T02:28:00",59.890998840332031,3788.471923828125,335,211.25604248046875,3,96,10,0,-103,7563.36]
["2009-10-12T02:28:05",59.884998321533203,3794.374267578125,335,211.25604248046875,4,96.5,10,0,-103,7563.69]
["2009-10-12T02:28:10",59.887001037597656,3800.427490234375,335,214.34669494628906,5,97,10,0,-103,7564.02]
["2009-10-12T02:28:15",59.88800048828125,3802.925048828125,335,214.34669494628906,6,97.5,10,0,-103,7564.35]
["2009-10-12T02:28:20",59.881999969482422,3804.387939453125,335,214.34669494628906,7,98,10,0,-103,7564.68]
["2009-10-12T02:28:25",59.856998443603516,3809.2373046875,335,214.34669494628906,8,98.5,10,0,-103,7565.01]
["2009-10-12T02:28:30",59.858001708984375,3814.8623046875,335,214.34669494628906,9,99,10,0,-103,7565.34]
["2009-10-12T02:28:35",59.866001129150391,3826.05322265625,335,212.17269897460937,10,99.5,10,0,-103,7565.67]
["2009-10-12T02:28:40",59.866001129150391,3827.52392578125,335,212.17269897460937,11,100,10,0,-103,7566]
["2009-10-12T02:28:45",59.874000549316406,3826.45361328125,335,212.17269897460937,12,100.5,10,0,-103,7566.33]
["2009-10-12T02:28:50",59.882999420166016,3823.82568359375,335,212.17269897460937,13,101,10,0,-103,7566.66]
["2009-10-12T02:28:55",59.889999389648437,3818.05517578125,335,212.17269897460937,14,101.5,10,0,-103,7566.99]
["2009-10-12T02:29:00",59.893001556396484,3815.009765625,335,215.59817504882812,15,102,10,0,-103,7567.32]
["2009-10-12T02:29:05",59.902999877929688,3809.65185546875,335,215.59817504882812,16,102.5,10,0,-103,7567.65]
["2009-10-12T02:29:10",59.903999328613281,3805.59326171875,335,215.59817504882812,16,103,10,0,-103,7567.98]
["2009-10-12T02:29:15",59.910999298095703,3793.97509765625,335,215.59817504882812,16,103.5,10,0,-103,7568.31]
["2009-10-12T02:29:20",59.916999816894531,3791.501953125,335,215.59817504882812,16,104,10,0,-103,7568.64]
["2009-10-12T02:29:25",59.919998168945313,3784.5634765625,335,218.32725524902344,16,104.5,10,0,-103,7568.97]
["2009-10-12T02:29:30",59.916999816894531,3781.701171875,335,218.32725524902344,16,105,10,0,-103,7569.3]
["2009-10-12T02:29:35",59.921001434326172,3774.604248046875,335,218.32725524902344,16,105.5,10,0,-103,7569.63]
["2009-10-12T02:29:40",59.924999237060547,3773.957763671875,335,218.32725524902344,16,106,10,0,-103,7569.96]
["2009-10-12T02:29:45",59.926998138427734,3769.629638671875,335,218.32725524902344,16,106.5,10,0,-103,7570.29]
["2009-10-12T02:29:50",59.928001403808594,3767.642822265625,335,217.37942504882812,0,107,10,0,-103,7570.62]
["2009-10-12T02:29:55",59.929000854492187,3766.7880859375,335,217.37942504882812,0,107.5,10,0,-103,7570.95]
["2009-10-12T02:30:00",59.937000274658203,3765.671630859375,335,217.37942504882812,0,108,10,0,-103,7571.28]
["2009-10-12T02:30:05",59.944999694824219,3765.10498046875,335,217.37942504882812,0,108.5,10,0,-103,7571.61]
["2009-10-12T02:30:10",59.942001342773438,3758.38720703125,335,217.37942504882812,0,109,10,0,-103,7571.94]
["2009-10-12T02:30:15",59.942001342773438,3746.888671875,335,214.83035278320312,0,109.5,10,0,-103,7572.27]
["2009-10-12T02:30:20",59.946998596191406,3749.59326171875,335,214.83035278320312,0,110,10,0,-103,7572.6]
["2009-10-12T02:30:25",59.951000213623047,3749.076904296875,335,214.83035278320312,0,110.5,10,0,-103,7572.93]
["2009-10-12T02:30:30",59.951000213623047,3740.259033203125,335,214.83035278320312,0,111,10,0,-103,7573.26]
["2009-10-12T02:30:35",59.951999664306641,3727.83837890625,335,214.83035278320312,0,111.5,10,0,-103,7573.59]
["2009-10-12T02:30:40",59.951999664306641,3722.64892578125,335,227.65591430664062,0,112,10,0,-103,7573.92]
["2009-10-12T02:30:45",59.951999664306641,3718.141845703125,335,227.65591430664062,0,112.5,10,0,-103,7574.25]
["2009-10-12T02:30:50",59.951999664306641,3713.69384765625,335,227.65591430664062,0,113,10,0,-103,7574.58]
["2009-10-12T02:30:55",59.953998565673828,3710.81005859375,335,227.65591430664062,0,113.5,10,0,-103,7574.91]
["2009-10-12T02:31:00",59.956001281738281,3714.62255859375,335,227.65591430664062,0,114,10,0,-103,7575.24]
["2009-10-12T02:31:05",59.956001281738281,3716.46142578125,335,225.01808166503906,0,114.5,10,0,-103,7575.57]
["2009-10-12T02:31:10",59.96099853515625,3717.759033203125,335,225.01808166503906,0,115,10,0,-103,7575.9]
["2009-10-12T02:31:15",59.962001800537109,3722.657958984375,335,225.01808166503906,0,115.5,10,0,-103,7576.23]
["2009-10-12T02:31:20",59.965999603271484,3722.277587890625,335,225.01808166503906,0,116,10,0,-103,7576.56]
["2009-10-12T02:31:25",59.970001220703125,3723.98388671875,335,225.01808166503906,0,116.5,10,0,-103,7576.89]
["2009-10-12T02:31:30",59.969001770019531,3723.89306640625,335,228.36515808105469,0,117,10,0,-103,7577.22]
["2009-10-12T02:31:35",59.970001220703125,3728.052978515625,335,228.36515808105469,0,117.5,10,0,-103,7577.55]
["2009-10-12T02:31:40",59.972999572753906,3732.530029296875,335,228.36515808105469,0,118,10,0,-103,7577.88]
["2009-10-12T02:31:45",59.978000640869141,3736.907470703125,335,228.36515808105469,0,118.5,10,0,-103,7578.21]
["2009-10-12T02:31:50",59.978000640869141,3738.69921875,335,228.36515808105469,0,119,10,0,-103,7578.54]
["2009-10-12T02:31:55",59.978000640869141,3741.793701171875,335,234.07533264160156,0,119.5,10,0,-103,7578.87]
["2009-10-12T02:32:00",59.981998443603516,3746.60791015625,335,234.07533264160156,0,120,10,0,-103,7579.2]
["2009-10-12T02:32:05",59.979999542236328,3751.5576171875,335,234.07533264160156,0,120.5,10,0,-103,7579.53]
["2009-10-12T02:32:10",59.979000091552734,3755.5986328125,335,234.07533264160156,0,121,10,0,-103,7579.86]
["2009-10-12T02:32:15",59.983001708984375,3760.4052734375,335,234.07533264160156,0,121.5,10,0,-103,7580.19]
["2009-10-12T02:32:20",59.988998413085937,3761.406982421875,335,228.79815673828125,0,122,10,0,-103,7580.52]
["2009-10-12T02:32:25",59.98699951171875,3764.95751953125,335,228.79815673828125,0,122.5,10,0,-103,7580.85]
["2009-10-12T02:32:30",59.992000579833984,3766.43310546875,335,354.89566040039062,0,123,10,0,-103,7581.18]
["2009-10-12T02:32:35",59.988998413085937,3768.633544921875,335,354.89566040039062,0,123.5,10,0,-103,7581.51]
["2009-10-12T02:32:40",59.983001708984375,3772.444580078125,335,340.4693603515625,0,124,10,0,-103,7581.84]
["2009-10-12T02:32:45",59.993000030517578,3775.8408203125,335,340.4693603515625,0,124.5,10,0,-103,7582.17]
["2009-10-12T02:32:50",59.999000549316406,3774.8662109375,335,340.4693603515625,0,125,10,0,-103,7582.5]
["2009-10-12T02:32:55",59.999000549316406,3778.5537109375,335,340.4693603515625,0,125.5,10,0,-103,7582.83]
["2009-10-12T02:33:00",60.001998901367188,3781.255859375,335,340.4693603515625,0,126,10,0,-103,7583.16]
["2009-10-12T02:33:05",60.006999969482422,3783.8955078125,335,337.64291381835937,0,126.5,10,0,-103,7583.49]
["2009-10-12T02:33:10",60.013999938964844,3785.76806640625,335,337.64291381835937,0,127,10,0,-103,7583.82]
["2009-10-12T02:33:15",60.019001007080078,3786.30419921875,335,337.64291381835937,0,127.5,10,0,-103,7584.15]
["2009-10-12T02:33:20",60.016998291015625,3787.515869140625,335,337.64291381835937,0,128,10,0,-103,7584.48]
["2009-10-12T02:33:25",60.022998809814453,3788.606689453125,335,337.64291381835937,0,128.5,10,0,-103,7584.81]
["2009-10-12T02:33:30",60.020999908447266,3787.53662109375,335,284.36083984375,0,129,10,0,-103,7585.14]
["2009-10-12T02:33:35",60.023998260498047,3787.930419921875,335,284.36083984375,0,129.5,10,0,-103,7585.47]
["2009-10-12T02:33:40",60.020000457763672,3786.874755859375,350,284.36083984375,0,130,10,0,-103,7585.8]
["2009-10-12T02:33:45",60.023998260498047,3785.01806640625,350,284.36083984375,0,130.5,10,0,-103,7586.13]
["2009-10-12T02:33:50",60.021999359130859,3785.94921875,350,284.36083984375,0,131,10,0,-103,7586.46]
["2009-10-12T02:33:55",60.021999359130859,3786.877197265625,350,260.46798706054687,0,131.5,10,0,-103,7586.79]
["2009-10-12T02:34:00",60.022998809814453,3785.72607421875,350,260.46798706054687,0,132,10,0,-103,7587.12]
["2009-10-12T02:34:05",60.021999359130859,3785.79833984375,350,260.46798706054687,0,132.5,10,0,-103,7587.45]
["2009-10-12T02:34:10",60.018001556396484,3786.939208984375,350,260.46798706054687,0,133,10,0,-103,7587.78]
["2009-10-12T02:34:15",60.018001556396484,3789.67333984375,350,260.46798706054687,0,133.5,10,0,-103,7588.11]
["2009-10-12T02:34:20",60.015998840332031,3788.478759765625,350,253.14154052734375,0,134,10,0,-103,7588.44]
["2009-10-12T02:34:25",60.015998840332031,3789.0048828125,350,253.14154052734375,0,134.5,10,0,-103,7588.77]
["2009-10-12T02:34:30",60.012001037597656,3788.932861328125,350,253.14154052734375,0,135,10,0,-103,7589.1]
["2009-10-12T02:34:35",60.009998321533203,3790.4111328125,350,253.14154052734375,0,135.5,10,0,-103,7589.43]
["2009-10-12T02:34:40",60.008998870849609,3791.539794921875,350,253.14154052734375,0,136,10,0,-103,7589.76]
["2009-10-12T02:34:45",60.009998321533203,3791.443115234375,350,251.92987060546875,0,136.5,10,0,-103,7590.09]
["2009-10-12T02:34:50",59.994998931884766,3790.60302734375,350,251.92987060546875,0,137,10,0,-103,7590.42]
["2009-10-12T02:34:55",59.991001129150391,3789.5849609375,350,251.92987060546875,0,137.5,10,0,-103,7590.75]
["2009-10-12T02:35:00",59.987998962402344,3788.10498046875,350,251.92987060546875,0,138,10,0,-103,7591.08]
["2009-10-12T02:35:05",59.985000610351563,3788.497314453125,350,251.92987060546875,0,138.5,10,0,-103,7591.41]
["2009-10-12T02:35:10",59.984001159667969,3788.57080078125,350,250.6741943359375,0,139,10,0,-103,7591.74]
["2009-10-12T02:35:15",59.980998992919922,3786.452880859375,350,250.6741943359375,0,139.5,10,0,-103,7592.07]
["2009-10-12T02:35:20",59.977001190185547,3788.8134765625,350,250.6741943359375,0,140,10,0,-103,7592.4]
["2009-10-12T02:35:25",59.976001739501953,3788.40966796875,350,250.6741943359375,0,140.5,10,0,-103,7592.73]
["2009-10-12T02:35:30",59.978000640869141,3790.66455078125,350,250.6741943359375,0,141,10,0,-103,7593.06]
["2009-10-12T02:35:35",59.9739990234375,3789.26708984375,350,253.63186645507812,0,141.5,10,0,-103,7593.39]
["2009-10-12T02:35:40",59.977001190185547,3790.430419921875,350,253.63186645507812,0,142,10,0,-103,7593.72]
["2009-10-12T02:35:45",59.972999572753906,3787.442138671875,350,253.63186645507812,0,142.5,10,0,-103,7594.05]
["2009-10-12T02:35:50",59.971000671386719,3790.6015625,350,253.63186645507812,0,143,10,0,-103,7594.38]
["2009-10-12T02:35:55",59.978000640869141,3792.311279296875,350,253.63186645507812,0,143.5,10,0,-103,7594.71]
["2009-10-12T02:36:00",59.974998474121094,3788.07958984375,350,246.95730590820312,0,144,10,15,-103,7595.04]
["2009-10-12T02:36:05",59.976001739501953,3787.164306640625,350,246.95730590820312,0,144.5,10,15,-103,7595.37]
["2009-10-12T02:36:10",59.969001770019531,3787.40478515625,350,246.95730590820312,0,145,10,15,-103,7595.7]
["2009-10-12T02:36:15",59.965000152587891,3789.2138671875,350,246.95730590820312,0,145.5,10,15,-103,7596.03]
["2009-10-12T02:36:20",59.970001220703125,3791.22119140625,350,246.95730590820312,0,146,10,15,-103,7596.36]
["2009-10-12T02:36:25",59.965000152587891,3788.82421875,350,254.54177856445312,0,146.5,10,15,-103,7596.69]
["2009-10-12T02:36:30",59.972000122070313,3789.16748046875,350,254.54177856445312,0,147,10,15,-103,7597.02]
["2009-10-12T02:36:35",59.966999053955078,3784.83056640625,350,254.54177856445312,0,147.5,10,15,-103,7597.35]
["2009-10-12T02:36:40",59.969001770019531,3784.3203125,350,254.54177856445312,0,148,10,15,-103,7597.68]
["2009-10-12T02:36:45",59.966999053955078,3779.3515625,350,254.54177856445312,0,148.5,10,15,-103,7598.01]
["2009-10-12T02:36:50",59.971000671386719,3778.63330078125,350,256.57159423828125,0,149,10,15,-103,7598.34]
["2009-10-12T02:36:55",59.965000152587891,3776.42919921875,350,256.57159423828125,0,149.5,10,15,-103,7598.67]
["2009-10-12T02:37:00",59.970001220703125,3776.5966796875,350,256.57159423828125,0,150,10,15,-103,7599]
["2009-10-12T02:37:05",59.969001770019531,3773.169921875,350,256.57159423828125,0,150.5,10,15,-103,7599.33]
["2009-10-12T02:37:10",59.965000152587891,3768.79296875,350,256.57159423828125,0,151,10,15,-103,7599.66]
["2009-10-12T02:37:15",59.972999572753906,3767.3662109375,350,258.37261962890625,0,151.5,10,15,-103,7599.99]
["2009-10-12T02:37:20",59.967998504638672,3760.29541015625,350,258.37261962890625,0,152,10,15,-103,7600.32]
["2009-10-12T02:37:25",59.966999053955078,3761.776611328125,350,258.37261962890625,0,152.5,10,15,-103,7600.65]
["2009-10-12T02:37:30",59.979000091552734,3760.157470703125,350,258.37261962890625,0,153,10,15,-103,7600.98]
["2009-10-12T02:37:35",59.983001708984375,3757.77294921875,350,258.37261962890625,0,153.5,10,15,-103,7601.31]
["2009-10-12T02:37:40",59.965000152587891,3753.08740234375,350,263.04736328125,0,154,10,15,-103,7601.64]
["2009-10-12T02:37:45",59.962001800537109,3758.224609375,350,263.04736328125,0,154.5,10,15,-103,7601.97]
["2009-10-12T02:37:50",59.959999084472656,3758.041015625,350,263.04736328125,0,155,10,15,-103,7602.3]
["2009-10-12T02:37:55",59.958999633789063,3763.822265625,350,263.04736328125,0,155.5,10,15,-103,7602.63]
["2009-10-12T02:38:00",59.952999114990234,3763.858154296875,350,263.04736328125,0,156,10,15,-103,7602.96]
["2009-10-12T02:38:05",59.957000732421875,3768.3388671875,350,260.984375,0,156.5,10,15,-103,7603.29]
["2009-10-12T02:38:10",59.963001251220703,3767.4375,350,260.984375,0,157,10,15,-103,7603.62]
["2009-10-12T02:38:15",59.958999633789063,3761.5703125,350,260.984375,0,157.5,10,15,-103,7603.95]
["2009-10-12T02:38:20",59.965000152587891,3759.626953125,350,260.984375,0,158,10,15,-103,7604.28]
["2009-10-12T02:38:25",59.967998504638672,3750.1015625,350,260.984375,0,158.5,10,15,-103,7604.61]
["2009-10-12T02:38:30",59.972999572753906,3753.51025390625,350,261.31832885742187,0,159,10,15,-103,7604.94]
["2009-10-12T02:38:35",59.965000152587891,3753.17822265625,350,261.31832885742187,0,159.5,10,15,-103,7605.27]
["2009-10-12T02:38:40",59.972000122070313,3753.29052734375,350,261.31832885742187,0,160,10,15,-103,7605.6]
["2009-10-12T02:38:45",59.974998474121094,3749.39794921875,350,261.31832885742187,0,160.5,10,15,-103,7605.93]
["2009-10-12T02:38:50",59.9739990234375,3740.370361328125,350,261.31832885742187,0,161,10,15,-103,7606.26]
["2009-10-12T02:38:55",59.980998992919922,3745.73828125,350,262.10260009765625,0,161.5,10,15,-103,7606.59]
["2009-10-12T02:39:00",59.981998443603516,3741.6181640625,350,262.10260009765625,0,162,10,15,-103,7606.92]
["2009-10-12T02:39:05",59.984001159667969,3738.9013671875,350,262.10260009765625,0,162.5,10,15,-103,7607.25]
["2009-10-12T02:39:10",59.979000091552734,3737.273193359375,350,262.10260009765625,0,163,10,15,-103,7607.58]
["2009-10-12T02:39:15",59.978000640869141,3735.4482421875,350,262.10260009765625,0,163.5,10,15,-103,7607.91]
["2009-10-12T02:39:20",59.980998992919922,3737.54052734375,350,262.71701049804687,0,164,10,15,-103,7608.24]
["2009-10-12T02:39:25",59.978000640869141,3736.693115234375,350,262.71701049804687,0,164.5,10,15,-103,7608.57]
["2009-10-12T02:39:30",59.971000671386719,3736.09423828125,350,262.71701049804687,0,165,10,15,-103,7608.9]
["2009-10-12T02:39:35",59.9739990234375,3738.874755859375,350,262.71701049804687,0,165.5,10,15,-103,7609.23]
["2009-10-12T02:39:40",59.972000122070313,3738.64697265625,350,262.71701049804687,0,166,10,15,-103,7609.56]
["2009-10-12T02:39:45",59.971000671386719,3737.89208984375,350,260.0164794921875,0,166.5,10,15,-103,7609.89]
["2009-10-12T02:39:50",59.972000122070313,3740.328857421875,350,260.0164794921875,0,167,10,15,-103,7610.22]
["2009-10-12T02:39:55",59.977001190185547,3742.5244140625,350,260.0164794921875,0,167.5,10,15,-103,7610.55]
["2009-10-12T02:40:00",59.976001739501953,3741.72314453125,350,260.0164794921875,0,168,10,15,-103,7610.88]
["2009-10-12T02:40:05",59.9739990234375,3739.96435546875,350,260.0164794921875,0,168.5,10,15,-103,7611.21]
["2009-10-12T02:40:10",59.978000640869141,3742.83251953125,350,263.87322998046875,0,169,10,15,-103,7611.54]
["2009-10-12T02:40:15",59.980998992919922,3738.9658203125,350,263.87322998046875,0,169.5,10,15,-103,7611.87]
["2009-10-12T02:40:20",59.971000671386719,3738.878662109375,350,263.87322998046875,0,170,10,15,-103,7612.2]
["2009-10-12T02:40:25",59.971000671386719,3738.557861328125,350,263.87322998046875,0,170.5,10,15,-103,7612.53]
["2009-10-12T02:40:30",59.965999603271484,3743.418701171875,350,263.87322998046875,0,171,10,15,-103,7612.86]
["2009-10-12T02:40:35",59.971000671386719,3747.339599609375,350,264.597900390625,0,171.5,10,15,-103,7613.19]
["2009-10-12T02:40:40",59.969001770019531,3749.75,350,264.597900390625,0,172,10,15,-103,7613.52]
["2009-10-12T02:40:45",59.9739990234375,3743.7451171875,350,264.597900390625,0,172.5,10,15,-103,7613.85]
["2009-10-12T02:40:50",59.971000671386719,3740.298583984375,350,264.597900390625,0,173,10,15,-103,7614.18]
["2009-10-12T02:40:55",59.981998443603516,3731.82958984375,350,264.597900390625,0,173.5,10,15,-103,7614.51]
["2009-10-12T02:41:00",59.985000610351563,3736.2294921875,350,262.41592407226562,0,174,10,15,-103,7614.84]
["2009-10-12T02:41:05",59.988998413085937,3733.115234375,350,262.41592407226562,0,174.5,10,15,-103,7615.17]
["2009-10-12T02:41:10",59.98699951171875,3729.18017578125,350,262.41592407226562,0,175,10,15,-103,7615.5]
["2009-10-12T02:41:15",59.993999481201172,3720.10791015625,350,262.41592407226562,0,175.5,10,15,-103,7615.83]
["2009-10-12T02:41:20",60.002998352050781,3725.661376953125,350,262.41592407226562,0,176,10,15,-103,7616.16]
["2009-10-12T02:41:25",60.006000518798828,3727.82470703125,350,259.68524169921875,0,176.5,10,15,-103,7616.49]
["2009-10-12T02:41:30",60.019001007080078,3727.2314453125,350,259.68524169921875,0,177,10,15,-103,7616.82]
["2009-10-12T02:41:35",60.025001525878906,3726.015625,350,259.68524169921875,0,177.5,10,15,-103,7617.15]
["2009-10-12T02:41:40",60.028999328613281,3716.37451171875,350,259.68524169921875,0,178,10,15,-103,7617.48]
["2009-10-12T02:41:45",60.036998748779297,3717.14208984375,350,259.68524169921875,0,178.5,10,15,-103,7617.81]
["2009-10-12T02:41:50",60.036998748779297,3713.6318359375,350,255.9110107421875,0,179,10,15,-103,7618.14]
["2009-10-12T02:41:55",60.041000366210938,3699.355712890625,350,255.9110107421875,0,179.5,10,15,-103,7618.47]
["2009-10-12T02:42:00",60.042999267578125,3704.59130859375,350,255.9110107421875,0,180,10,15,-103,7618.8]
["2009-10-12T02:42:05",60.048000335693359,3701.31640625,350,255.9110107421875,0,180.5,10,15,-103,7619.13]
["2009-10-12T02:42:10",60.042999267578125,3699.528564453125,350,255.9110107421875,0,181,10,15,-103,7619.46]
["2009-10-12T02:42:15",60.043998718261719,3690.477294921875,350,258.148193359375,0,181.5,10,15,-103,7619.79]
["2009-10-12T02:42:20",60.044998168945313,3696.877197265625,350,258.148193359375,0,182,10,15,-103,7620.12]
["2009-10-12T02:42:25",60.041000366210938,3696.9677734375,350,258.148193359375,0,182.5,10,15,-103,7620.45]
["2009-10-12T02:42:30",60.035999298095703,3699.630615234375,350,258.148193359375,0,183,10,15,-103,7620.78]
["2009-10-12T02:42:35",60.033000946044922,3700.105712890625,350,258.148193359375,0,183.5,10,15,-103,7621.11]
["2009-10-12T02:42:40",60.036998748779297,3701.121826171875,350,258.87359619140625,0,184,10,15,-103,7621.44]
["2009-10-12T02:42:45",60.029998779296875,3701.997802734375,350,258.87359619140625,0,184.5,10,15,-103,7621.77]
["2009-10-12T02:42:50",60.033000946044922,3703.9091796875,350,258.87359619140625,0,185,10,15,-103,7622.1]
["2009-10-12T02:42:55",60.032001495361328,3704.08740234375,350,258.87359619140625,0,185.5,10,15,-103,7622.43]
["2009-10-12T02:43:00",60.033000946044922,3703.706298828125,350,258.87359619140625,0,186,10,15,-103,7622.76]
["2009-10-12T02:43:05",60.034999847412109,3704.360107421875,350,249.33757019042969,0,186.5,10,15,-103,7623.09]
["2009-10-12T02:43:10",60.03900146484375,3702.204345703125,350,249.33757019042969,0,187,10,15,-103,7623.42]
["2009-10-12T02:43:15",60.03900146484375,3703.31787109375,350,249.33757019042969,0,187.5,10,15,-103,7623.75]
["2009-10-12T02:43:20",60.037998199462891,3702.52490234375,350,249.33757019042969,0,188,10,15,-103,7624.08]
["2009-10-12T02:43:25",60.036998748779297,3702.865234375,350,249.33757019042969,0,188.5,10,15,-103,7624.41]
["2009-10-12T02:43:30",60.040000915527344,3702.279541015625,350,258.27816772460937,0,189,10,15,-103,7624.74]
["2009-10-12T02:43:35",60.044998168945313,3700.27587890625,350,258.27816772460937,0,189.5,10,15,-103,7625.07]
["2009-10-12T02:43:40",60.042999267578125,3697.728515625,350,258.27816772460937,0,190,10,15,-103,7625.4]
["2009-10-12T02:43:45",60.043998718261719,3697.345947265625,350,258.27816772460937,0,190.5,10,15,-103,7625.73]
["2009-10-12T02:43:50",60.034000396728516,3694.762939453125,350,258.27816772460937,0,191,10,15,-103,7626.06]
["2009-10-12T02:43:55",60.03900146484375,3696.79833984375,350,258.4063720703125,0,191.5,10,15,-103,7626.39]
["2009-10-12T02:44:00",60.034000396728516,3701.791015625,350,258.4063720703125,0,192,10,15,-103,7626.72]
["2009-10-12T02:44:05",60.032001495361328,3702.14794921875,350,258.4063720703125,0,192.5,10,15,-103,7627.05]
["2009-10-12T02:44:10",60.027000427246094,3707.52099609375,350,258.4063720703125,0,193,10,15,-103,7627.38]
["2009-10-12T02:44:15",60.032001495361328,3707.34033203125,350,258.4063720703125,0,193.5,10,15,-103,7627.71]
["2009-10-12T02:44:20",60.033000946044922,3707.3837890625,350,260.53887939453125,0,194,10,15,-103,7628.04]
["2009-10-12T02:44:25",60.03900146484375,3706.8232421875,350,260.53887939453125,0,194.5,10,15,-103,7628.37]
["2009-10-12T02:44:30",60.034999847412109,3701.58203125,350,260.53887939453125,0,195,10,15,-103,7628.7]
["2009-10-12T02:44:35",60.040000915527344,3702.212158203125,350,260.53887939453125,0,195.5,10,15,-103,7629.03]
["2009-10-12T02:44:40",60.035999298095703,3700.3974609375,350,260.53887939453125,0,196,10,15,-103,7629.36]
["2009-10-12T02:44:45",60.044998168945313,3700.8271484375,350,257.882080078125,0,196.5,10,15,-103,7629.69]
["2009-10-12T02:44:50",60.041999816894531,3696.93505859375,350,257.882080078125,0,197,10,15,-103,7630.02]
["2009-10-12T02:44:55",60.043998718261719,3693.82421875,350,257.882080078125,0,197.5,10,15,-103,7630.35]
["2009-10-12T02:45:00",60.041000366210938,3696.89697265625,350,257.882080078125,0,198,10,15,-103,7630.68]
["2009-10-12T02:45:05",60.044998168945313,3697.50244140625,350,257.882080078125,0,198.5,10,15,-103,7631.01]
["2009-10-12T02:45:10",60.03900146484375,3700.1767578125,350,258.58865356445313,0,199,10,15,-103,7631.34]
["2009-10-12T02:45:15",60.041999816894531,3697.6806640625,350,258.58865356445313,0,199.5,10,15,-103,7631.67]
["2009-10-12T02:45:20",60.035999298095703,3698.35888671875,350,258.58865356445313,0,200,10,15,-103,7632]
["2009-10-12T02:45:25",60.03900146484375,3700.26220703125,350,258.58865356445313,0,200.5,10,15,-103,7632.33]
["2009-10-12T02:45:30",60.03900146484375,3700.90234375,350,258.58865356445313,0,201,10,15,-103,7632.66]
["2009-10-12T02:45:35",60.037998199462891,3701.139404296875,350,261.90615844726562,0,201.5,10,15,-103,7632.99]
["2009-10-12T02:45:40",60.036998748779297,3700.264404296875,350,261.90615844726562,0,202,10,15,-103,7633.32]
["2009-10-12T02:45:45",60.036998748779297,3700.45751953125,350,261.90615844726562,0,202.5,10,15,-103,7633.65]
["2009-10-12T02:45:50",60.035999298095703,3698.79443359375,350,261.90615844726562,0,203,10,15,-103,7633.98]
["2009-10-12T02:45:55",60.033000946044922,3700.661376953125,350,261.90615844726562,0,203.5,10,15,-103,7634.31]
["2009-10-12T02:46:00",60.032001495361328,3702.967529296875,350,256.747802734375,0,204,10,15,-103,7634.64]
["2009-10-12T02:46:05",60.036998748779297,3705.775146484375,350,256.747802734375,0,204.5,10,15,-103,7634.97]
["2009-10-12T02:46:10",60.035999298095703,3703.744140625,350,256.747802734375,0,205,10,15,-103,7635.3]
["2009-10-12T02:46:15",60.032001495361328,3700.7470703125,350,256.747802734375,0,205.5,10,15,-103,7635.63]
["2009-10-12T02:46:20",60.034000396728516,3705.059326171875,350,256.747802734375,0,206,10,15,-103,7635.96]
["2009-10-12T02:46:25",60.037998199462891,3703.830810546875,350,167.43197631835937,0,206.5,10,15,-103,7636.29]
["2009-10-12T02:46:30",60.041999816894531,3702.79541015625,350,167.43197631835937,0,207,10,15,-103,7636.62]
["2009-10-12T02:46:35",60.040000915527344,3696.24951171875,350,167.43197631835937,0,207.5,10,15,-103,7636.95]
["2009-10-12T02:46:40",60.042999267578125,3693.51806640625,350,167.43197631835937,0,208,10,15,-103,7637.28]
["2009-10-12T02:46:45",60.040000915527344,3695.185546875,350,167.43197631835937,0,208.5,10,15,-103,7637.61]
["2009-10-12T02:46:50",60.043998718261719,3694.75341796875,350,164.97340393066406,0,209,10,15,-103,7637.94]
["2009-10-12T02:46:55",60.035999298095703,3694.159423828125,350,164.97340393066406,0,209.5,10,15,-103,7638.27]
["2009-10-12T02:47:00",60.041999816894531,3692.686279296875,350,164.97340393066406,0,210,10,15,-103,7638.6]
["2009-10-12T02:47:05",60.042999267578125,3692.35693359375,350,164.97340393066406,0,210.5,10,15,-103,7638.93]
["2009-10-12T02:47:10",60.03900146484375,3690.836181640625,350,164.97340393066406,0,211,10,15,-103,7639.26]
["2009-10-12T02:47:15",60.034000396728516,3694.1171875,350,157.62808227539062,0,211.5,10,15,-103,7639.59]
["2009-10-12T02:47:20",60.034999847412109,3695.580810546875,350,157.62808227539062,0,212,10,15,-103,7639.92]
["2009-10-12T02:47:25",60.029998779296875,3696.304931640625,350,157.62808227539062,0,212.5,10,15,-103,7640.25]
["2009-10-12T02:47:30",60.030998229980469,3697.335693359375,350,157.62808227539062,0,213,10,15,-103,7640.58]
["2009-10-12T02:47:35",60.032001495361328,3699.251220703125,350,157.62808227539062,0,213.5,10,15,-103,7640.91]
["2009-10-12T02:47:40",60.032001495361328,3699.105224609375,350,155.53170776367187,0,214,10,15,-103,7641.24]
["2009-10-12T02:47:45",60.033000946044922,3698.135986328125,350,155.53170776367187,0,214.5,10,15,-103,7641.57]
["2009-10-12T02:47:50",60.03900146484375,3697.411865234375,350,155.53170776367187,0,215,10,15,-103,7641.9]
["2009-10-12T02:47:55",60.035999298095703,3693.2236328125,350,155.53170776367187,0,215.5,10,15,-103,7642.23]
["2009-10-12T02:48:00",60.040000915527344,3691.9189453125,350,155.53170776367187,0,216,10,15,-103,7642.56]
["2009-10-12T02:48:05",60.035999298095703,3692.37353515625,350,160.44723510742187,0,216.5,10,15,-103,7642.89]
["2009-10-12T02:48:10",60.041000366210938,3694.710205078125,350,160.44723510742187,0,217,10,15,-103,7643.22]
["2009-10-12T02:48:15",60.035999298095703,3693.6171875,350,160.44723510742187,0,217.5,10,15,-103,7643.55]
["2009-10-12T02:48:20",60.037998199462891,3694.27001953125,350,160.44723510742187,0,218,10,15,-103,7643.88]
["2009-10-12T02:48:25",60.041000366210938,3692.5322265625,350,160.44723510742187,0,218.5,10,15,-103,7644.21]
["2009-10-12T02:48:30",60.035999298095703,3691.01171875,350,163.95860290527344,0,219,10,15,-103,7644.54]
["2009-10-12T02:48:35",60.037998199462891,3693.72705078125,350,163.95860290527344,0,219.5,10,15,-103,7644.87]
["2009-10-12T02:48:40",60.034000396728516,3692.640625,350,163.95860290527344,0,220,10,15,-103,7645.2]
["2009-10-12T02:48:45",60.030998229980469,3688.20849609375,350,163.95860290527344,0,220.5,10,15,-103,7645.53]
["2009-10-12T02:48:50",60.028999328613281,3693.17236328125,350,163.95860290527344,0,221,10,15,-103,7645.86]
["2009-10-12T02:48:55",60.029998779296875,3695.224853515625,350,166.07244873046875,0,221.5,10,15,-103,7646.19]
["2009-10-12T02:49:00",60.021999359130859,3693.41162109375,350,166.07244873046875,0,222,10,15,-103,7646.52]
["2009-10-12T02:49:05",60.023998260498047,3698.01220703125,350,166.07244873046875,0,222.5,10,15,-103,7646.85]
["2009-10-12T02:49:10",60.020999908447266,3699.414306640625,350,166.07244873046875,0,223,10,15,-103,7647.18]
["2009-10-12T02:49:15",60.025001525878906,3700.544189453125,350,166.07244873046875,0,223.5,10,15,-103,7647.51]
["2009-10-12T02:49:20",60.025001525878906,3698.595703125,350,163.76658630371094,0,224,10,15,-103,7647.84]
["2009-10-12T02:49:25",60.023998260498047,3700.802490234375,350,163.76658630371094,0,224.5,10,15,-103,7648.17]
["2009-10-12T02:49:30",60.022998809814453,3701.4501953125,350,163.76658630371094,0,225,10,15,-103,7648.5]
["2009-10-12T02:49:35",60.0260009765625,3701.70166015625,350,163.76658630371094,0,225.5,10,15,-103,7648.83]
["2009-10-12T02:49:40",60.023998260498047,3701.96484375,350,163.76658630371094,0,226,10,15,-103,7649.16]
["2009-10-12T02:49:45",60.025001525878906,3701.08984375,350,165.1016845703125,0,226.5,10,15,-103,7649.49]
["2009-10-12T02:49:50",60.022998809814453,3701.20458984375,350,165.1016845703125,0,227,10,15,-103,7649.82]
["2009-10-12T02:49:55",60.023998260498047,3700.1767578125,350,165.1016845703125,0,227.5,10,15,-103,7650.15]
["2009-10-12T02:50:00",60.0260009765625,3700.27734375,350,165.1016845703125,0,228,10,15,-103,7650.48]
["2009-10-12T02:50:05",60.020000457763672,3700.26025390625,350,165.1016845703125,0,228.5,10,15,-103,7650.81]
["2009-10-12T02:50:10",60.014999389648438,3699.925537109375,350,165.47639465332031,0,229,10,15,-103,7651.14]
["2009-10-12T02:50:15",60.016998291015625,3703.51611328125,350,165.47639465332031,0,229.5,10,15,-103,7651.47]
["2009-10-12T02:50:20",60.016998291015625,3703.67236328125,350,165.47639465332031,0,230,10,15,-103,7651.8]
["2009-10-12T02:50:25",60.012001037597656,3702.92138671875,350,165.47639465332031,0,230.5,10,15,-103,7652.13]
["2009-10-12T02:50:30",60.001998901367188,3703.166748046875,350,165.47639465332031,0,231,10,15,-103,7652.46]
["2009-10-12T02:50:35",59.999000549316406,3703.775390625,350,206.4591064453125,0,231.5,10,15,-103,7652.79]
["2009-10-12T02:50:40",60.004001617431641,3701.53369140625,350,206.4591064453125,0,232,10,0,-103,7616]
["2009-10-12T02:50:45",59.995998382568359,3700.625244140625,335,206.4591064453125,0,232.5,10,0,-103,7626]
["2009-10-12T02:50:50",59.988998413085937,3701.736572265625,335,206.4591064453125,0,233,10,0,-103,7632]
["2009-10-12T02:50:55",59.985000610351563,3700.97705078125,335,206.4591064453125,0,233.5,10,0,-103,7632]
["2009-10-12T02:51:00",59.984001159667969,3699.853759765625,335,211.25604248046875,0,234,10,0,-103,7632]
["2009-10-12T02:51:05",59.979999542236328,3700.769775390625,335,211.25604248046875,1,234.5,10,0,-103,7632]
["2009-10-12T02:51:10",59.976001739501953,3701.625244140625,335,211.25604248046875,1,235,10,0,-103,7632]
["2009-10-12T02:51:15",59.9739990234375,3704.78466796875,335,211.25604248046875,1,235.5,10,0,-103,7632]
["2009-10-12T02:51:20",59.972999572753906,3706.9580078125,335,211.25604248046875,1,236,10,0,-103,7632]
["2009-10-12T02:51:25",59.971000671386719,3706.257080078125,335,214.34669494628906,1,236.5,10,0,-103,7632]
["2009-10-12T02:51:30",59.979999542236328,3710.1181640625,335,214.34669494628906,1,237,10,0,-103,7632]
["2009-10-12T02:51:35",59.981998443603516,3708.01806640625,335,214.34669494628906,1,237.5,10,0,-103,7632]
["2009-10-12T02:51:40",59.980998992919922,3706.342529296875,335,214.34669494628906,2,238,10,0,-103,7632]
["2009-10-12T02:51:45",59.978000640869141,3706.11865234375,335,214.34669494628906,3,238.5,10,0,-103,7632]
["2009-10-12T02:51:50",59.977001190185547,3707.720947265625,335,212.17269897460937,4,239,10,0,-103,7632]
["2009-10-12T02:51:55",59.978000640869141,3708.530517578125,335,212.17269897460937,5,239.5,10,0,-103,7632]
["2009-10-12T02:52:00",59.970001220703125,3707.239990234375,335,212.17269897460937,6,240,10,0,-103,7632]
["2009-10-12T02:52:05",59.971000671386719,3711.75,335,212.17269897460937,7,240.5,10,0,-103,7632]
["2009-10-12T02:52:10",59.999000549316406,3710.6953125,335,212.17269897460937,8,241,10,0,-103,7632]
["2009-10-12T02:52:15",59.998001098632813,3705.63916015625,335,215.59817504882812,9,241.5,10,0,-103,7632]
["2009-10-12T02:52:20",60.005001068115234,3703.19091796875,335,215.59817504882812,10,242,10,0,-103,7632]
["2009-10-12T02:52:25",60.009998321533203,3698.657958984375,335,215.59817504882812,11,242.5,10,0,-103,7632]
["2009-10-12T02:52:30",60.021999359130859,3697.882080078125,335,215.59817504882812,12,243,10,0,-103,7632]
["2009-10-12T02:52:35",60.025001525878906,3697.868408203125,335,215.59817504882812,13,243.5,10,0,-103,7632]
["2009-10-12T02:52:40",60.022998809814453,3693.912109375,335,218.32725524902344,14,244,10,0,-103,7632]
["2009-10-12T02:52:45",60.028999328613281,3688.02099609375,335,218.32725524902344,15,244.5,10,0,-103,7632]
["2009-10-12T02:52:50",60.027999877929687,3688.23681640625,335,218.32725524902344,16,245,10,0,-103,7632]
["2009-10-12T02:52:55",60.032001495361328,3686.68310546875,335,218.32725524902344,16,245.5,10,0,-103,7632]
["2009-10-12T02:53:00",60.030998229980469,3685.576171875,335,218.32725524902344,16,246,10,0,-103,7632]
["2009-10-12T02:53:05",60.020999908447266,3686.41796875,335,217.37942504882812,16,246.5,10,0,-103,7632]
["2009-10-12T02:53:10",60.016998291015625,3688.9970703125,335,217.37942504882812,16,247,10,0,-103,7632]
["2009-10-12T02:53:15",60.015998840332031,3692.71533203125,335,217.37942504882812,16,247.5,10,0,-103,7631]
["2009-10-12T02:53:20",60.012001037597656,3692.461669921875,335,217.37942504882812,16,248,10,0,-103,7625]
["2009-10-12T02:53:25",60.007999420166016,3693.743408203125,335,217.37942504882812,16,248.5,10,0,-103,7623]
["2009-10-12T02:53:30",60.005001068115234,3694.6806640625,335,214.83035278320312,16,249,10,0,-103,7621]
["2009-10-12T02:53:35",59.999000549316406,3693.74951171875,335,214.83035278320312,16,249.5,10,0,-103,7623]
["2009-10-12T02:53:40",60,3692.80615234375,335,214.83035278320312,16,250,10,0,-103,7625]
["2009-10-12T02:53:45",59.994998931884766,3691.076904296875,335,214.83035278320312,16,250.5,10,0,-103,7627]
["2009-10-12T02:53:50",59.993000030517578,3689.79736328125,335,214.83035278320312,16,251,10,0,-103,7628]
["2009-10-12T02:53:55",59.985000610351563,3689.553466796875,335,227.65591430664062,16,251.5,10,0,-103,7628]
["2009-10-12T02:54:00",59.987998962402344,3689.735595703125,335,227.65591430664062,16,252,10,0,-103,7629]
["2009-10-12T02:54:05",59.983001708984375,3687.49365234375,335,227.65591430664062,16,252.5,10,0,-103,7630]
["2009-10-12T02:54:10",59.986000061035156,3686.707275390625,335,227.65591430664062,16,253,10,0,-103,7631]
["2009-10-12T02:54:15",59.990001678466797,3684.33349609375,335,227.65591430664062,16,253.5,10,0,-103,7635]
["2009-10-12T02:54:20",59.984001159667969,3683.73486328125,335,225.01808166503906,16,254,10,0,-103,7638]
["2009-10-12T02:54:25",59.981998443603516,3683.47314453125,335,225.01808166503906,16,254.5,10,0,-103,7639]
["2009-10-12T02:54:30",59.978000640869141,3684.88427734375,335,225.01808166503906,16,255,10,0,-103,7642]
["2009-10-12T02:54:35",59.974998474121094,3685.0869140625,335,225.01808166503906,16,255.5,10,0,-103,7644]
["2009-10-12T02:54:40",59.976001739501953,3685.196044921875,335,225.01808166503906,16,256,10,0,-103,7645]
["2009-10-12T02:54:45",59.979000091552734,3688.5986328125,335,228.36515808105469,16,256.5,10,0,-103,7647]
["2009-10-12T02:54:50",59.979000091552734,3686.67822265625,335,228.36515808105469,16,257,10,0,-103,7648]
["2009-10-12T02:54:55",59.977001190185547,3685.142578125,335,228.36515808105469,16,257.5,10,0,-103,7649]
["2009-10-12T02:55:00",59.978000640869141,3684.09326171875,335,228.36515808105469,16,258,10,0,-103,7650]
["2009-10-12T02:55:05",59.983001708984375,3682.317626953125,335,228.36515808105469,16,258.5,10,0,-103,7651]
["2009-10-12T02:55:10",59.978000640869141,3682.6474609375,335,234.07533264160156,16,259,10,0,-103,7652]
["2009-10-12T02:55:15",59.978000640869141,3684.0517578125,335,234.07533264160156,16,259.5,10,0,-103,7653]
["2009-10-12T02:55:20",59.98699951171875,3686.048828125,335,234.07533264160156,16,260,10,0,-103,7654]
["2009-10-12T02:55:25",59.992000579833984,3683.41455078125,335,234.07533264160156,16,260.5,10,0,-103,7655]
["2009-10-12T02:55:30",59.987998962402344,3681.402587890625,335,234.07533264160156,16,261,10,0,-103,7655]
["2009-10-12T02:55:35",59.990001678466797,3671.76123046875,335,228.79815673828125,16,261.5,10,0,-103,7656]
["2009-10-12T02:55:40",59.993000030517578,3670.159423828125,335,228.79815673828125,16,262,10,0,-103,7656]
["2009-10-12T02:55:45",59.993999481201172,3681.798828125,335,228.79815673828125,16,262.5,10,0,-103,7657]
["2009-10-12T02:55:50",59.984001159667969,3684.11572265625,335,228.79815673828125,16,263,10,0,-103,7657]
["2009-10-12T02:55:55",59.985000610351563,3684.1650390625,335,228.79815673828125,16,263.5,10,0,-103,7658]
["2009-10-12T02:56:00",59.986000061035156,3685.583740234375,335,229.46696472167969,16,264,10,0,-103,7658]
["2009-10-12T02:56:05",59.985000610351563,3684.97607421875,335,229.46696472167969,16,264.5,10,0,-103,7659]
["2009-10-12T02:56:10",59.981998443603516,3684.8720703125,335,229.46696472167969,16,265,10,0,-103,7659]
["2009-10-12T02:56:15",59.992000579833984,3685.589111328125,335,229.46696472167969,16,265.5,10,0,-103,7659]
["2009-10-12T02:56:20",60.002998352050781,3682.578857421875,335,229.46696472167969,16,266,10,0,-103,7660]
["2009-10-12T02:56:25",60.002998352050781,3682.223876953125,335,228.98016357421875,16,266.5,10,0,-103,7660]
["2009-10-12T02:56:30",60.001998901367188,3681.45849609375,335,228.98016357421875,16,267,10,0,-103,7661]
["2009-10-12T02:56:35",60.004001617431641,3680.1669921875,335,228.98016357421875,16,267.5,10,0,-103,7661]
["2009-10-12T02:56:40",60.008998870849609,3679.42919921875,335,228.98016357421875,16,268,10,0,-103,7662]
["2009-10-12T02:56:45",60.016998291015625,3678.267333984375,335,228.98016357421875,16,268.5,10,0,-103,7662]
["2009-10-12T02:56:50",60.020999908447266,3676.8095703125,335,219.97555541992187,16,269,10,0,-103,7663]
["2009-10-12T02:56:55",60.018001556396484,3671.14501953125,335,219.97555541992187,16,269.5,10,0,-103,7663]
["2009-10-12T02:57:00",60.020000457763672,3673.64794921875,335,219.97555541992187,16,270,10,0,-103,7664]
["2009-10-12T02:57:05",60.018001556396484,3676.67578125,335,219.97555541992187,16,270.5,10,0,-103,7664]
["2009-10-12T02:57:10",60.018001556396484,3676.43701171875,335,219.97555541992187,16,271,10,0,-103,7665]
["2009-10-12T02:57:15",60.015998840332031,3678.828369140625,335,229.08924865722656,16,271.5,10,0,-103,7666]
["2009-10-12T02:57:20",60.014999389648438,3678.91455078125,335,229.08924865722656,16,272,10,0,-103,7666]
["2009-10-12T02:57:25",60.013999938964844,3678.366943359375,335,229.08924865722656,16,272.5,10,0,-103,7667]
["2009-10-12T02:57:30",60.014999389648438,3678.58935546875,335,229.08924865722656,16,273,10,0,-103,7668]
["2009-10-12T02:57:35",60.015998840332031,3674.66943359375,335,229.08924865722656,16,273.5,10,0,-103,7668]
["2009-10-12T02:57:40",60.020999908447266,3674.40185546875,335,229.66326904296875,16,274,10,0,-103,7669]
["2009-10-12T02:57:45",60.021999359130859,3671.91357421875,335,229.66326904296875,16,274.5,10,0,-103,7669]
["2009-10-12T02:57:50",60.025001525878906,3670.945556640625,335,229.66326904296875,16,275,10,0,-103,7670]
["2009-10-12T02:57:55",60.021999359130859,3671.53857421875,335,229.66326904296875,16,275.5,10,0,-103,7670]
["2009-10-12T02:58:00",60.023998260498047,3674.009521484375,335,229.66326904296875,16,276,10,0,-103,7671]
["2009-10-12T02:58:05",60.028999328613281,3676.05126953125,335,229.23385620117187,16,276.5,10,0,-103,7671]
["2009-10-12T02:58:10",60.032001495361328,3672.58349609375,335,229.23385620117187,16,277,10,0,-103,7672]
["2009-10-12T02:58:15",60.029998779296875,3668.65380859375,335,229.23385620117187,16,277.5,10,0,-103,7673]
["2009-10-12T02:58:20",60.020999908447266,3666.312255859375,335,229.23385620117187,16,278,10,0,-103,7673]
["2009-10-12T02:58:25",60.025001525878906,3657.714111328125,350,229.23385620117187,16,278.5,10,0,-103,7673]
["2009-10-12T02:58:30",60.022998809814453,3669.308837890625,350,231.40988159179687,16,279,10,0,-103,7673]
["2009-10-12T02:58:35",60.020000457763672,3671.33203125,350,231.40988159179687,16,279.5,10,0,-103,7673]
["2009-10-12T02:58:40",60.020000457763672,3672.68310546875,350,231.40988159179687,16,280,10,0,-103,7673]
["2009-10-12T02:58:45",60.013999938964844,3675.640625,350,231.40988159179687,16,280.5,10,0,-103,7673]
["2009-10-12T02:58:50",60.011001586914063,3677.00927734375,350,231.40988159179687,16,281,10,0,-103,7673]
["2009-10-12T02:58:55",60.009998321533203,3680.020263671875,350,218.62228393554687,16,281.5,10,0,-103,7673]
["2009-10-12T02:59:00",60.012001037597656,3679.5966796875,350,218.62228393554687,16,282,10,0,-103,7673]
["2009-10-12T02:59:05",60.013999938964844,3679.0615234375,350,218.62228393554687,16,282.5,10,0,-103,7673]
["2009-10-12T02:59:10",60.011001586914063,3679.5869140625,350,218.62228393554687,16,283,10,0,-103,7673]
["2009-10-12T02:59:15",60.007999420166016,3678.417724609375,350,218.62228393554687,16,283.5,10,0,-103,7673]
["2009-10-12T02:59:20",60.01300048828125,3679.680908203125,350,213.53585815429687,16,284,10,0,-103,7673]
["2009-10-12T02:59:25",60.018001556396484,3678.46875,350,213.53585815429687,16,284.5,10,0,-103,7673]
["2009-10-12T02:59:30",60.019001007080078,3678.45556640625,350,213.53585815429687,16,285,10,0,-103,7673]
["2009-10-12T02:59:35",60.020000457763672,3677.431396484375,350,213.53585815429687,16,285.5,10,0,-103,7674]
["2009-10-12T02:59:40",60.015998840332031,3677.3154296875,350,213.53585815429687,16,286,10,0,-103,7675]
["2009-10-12T02:59:45",60.019001007080078,3678.87353515625,350,225.65185546875,16,286.5,10,0,-103,7676]
["2009-10-12T02:59:50",60.018001556396484,3681.05810546875,350,225.65185546875,16,287,10,0,-103,7677]
["2009-10-12T02:59:55",60.015998840332031,3679.55322265625,350,225.65185546875,16,287.5,10,0,-103,7678]
["2009-10-12T03:00:00",60.014999389648438,3682.729736328125,350,225.65185546875,16,288,10,0,-103,7679]
["2009-10-12T03:00:05",59.999000549316406,3681.91455078125,350,225.65185546875,16,288.5,10,0,-103,7680]
["2009-10-12T03:00:10",59.981998443603516,3683.8134765625,350,212.57363891601562,16,289,10,0,-103,7681]
["2009-10-12T03:00:15",59.970001220703125,3684.642578125,350,212.57363891601562,16,289.5,10,0,-103,7682]
["2009-10-12T03:00:20",59.967998504638672,3689.40380859375,350,212.57363891601562,16,290,10,0,-103,7684]
["2009-10-12T03:00:25",59.972000122070313,3693.793212890625,350,212.57363891601562,16,290.5,10,0,-103,7685]
["2009-10-12T03:00:30",59.964000701904297,3694.9736328125,350,212.57363891601562,16,291,10,0,-103,7687]
["2009-10-12T03:00:35",59.965999603271484,3698.616943359375,350,219.89729309082031,16,291.5,10,0,-103,7689]
["2009-10-12T03:00:40",59.965000152587891,3699.85009765625,350,219.89729309082031,16,292,10,0,-103,7690]
["2009-10-12T03:00:45",59.970001220703125,3702.218017578125,350,219.89729309082031,16,292.5,10,0,-103,7692]
["2009-10-12T03:00:50",59.972999572753906,3703.365478515625,350,219.89729309082031,16,293,10,0,-103,7692]
["2009-10-12T03:00:55",59.976001739501953,3704.8994140625,350,219.89729309082031,16,293.5,10,0,-103,7693]
["2009-10-12T03:01:00",59.977001190185547,3704.29345703125,350,231.17539978027344,16,294,10,0,-103,7693]
["2009-10-12T03:01:05",59.976001739501953,3703.14208984375,350,231.17539978027344,16,294.5,10,0,-103,7694]
["2009-10-12T03:01:10",59.9739990234375,3705.375732421875,350,231.17539978027344,16,295,10,0,-103,7694]
["2009-10-12T03:01:15",59.976001739501953,3706.7763671875,350,231.17539978027344,16,295.5,10,0,-103,7695]
["2009-10-12T03:01:20",59.980998992919922,3706.92822265625,350,231.17539978027344,16,296,10,0,-103,7695]
["2009-10-12T03:01:25",59.985000610351563,3706.77099609375,350,226.63412475585937,16,296.5,10,0,-103,7695]
["2009-10-12T03:01:30",59.979000091552734,3704.127197265625,350,226.63412475585937,16,297,10,0,-103,7696]
["2009-10-12T03:01:35",59.98699951171875,3705.967529296875,350,226.63412475585937,16,297.5,10,0,-103,7696]
["2009-10-12T03:01:40",59.979999542236328,3704.68310546875,350,226.63412475585937,16,298,10,0,-103,7697]
["2009-10-12T03:01:45",59.984001159667969,3704.98828125,350,226.63412475585937,16,298.5,10,0,-103,7697]
["2009-10-12T03:01:50",59.988998413085937,3704.892822265625,350,227.25506591796875,16,299,10,0,-103,7697]
["2009-10-12T03:01:55",59.995998382568359,3701.795166015625,350,227.25506591796875,16,299.5,10,0,-103,7698]
["2009-10-12T03:02:00",59.997001647949219,3701.30810546875,350,227.25506591796875,16,300,10,0,-103,7698]
["2009-10-12T03:02:05",59.997001647949219,3700.541015625,350,227.25506591796875,16,300.5,10,0,-103,7698.33]
["2009-10-12T03:02:10",59.995998382568359,3700.858154296875,350,227.25506591796875,16,301,10,0,-103,7698.66]
["2009-10-12T03:02:15",60.002998352050781,3700.223876953125,350,229.29022216796875,16,301.5,10,0,-103,7698.99]
["2009-10-12T03:02:20",60.007999420166016,3698.03173828125,350,229.29022216796875,16,302,10,0,-103,7699.32]
["2009-10-12T03:02:25",60.004001617431641,3699.24072265625,350,229.29022216796875,16,302.5,10,0,-103,7699.65]
["2009-10-12T03:02:30",60.000999450683594,3701.10986328125,350,229.29022216796875,16,303,10,0,-103,7699.98]
["2009-10-12T03:02:35",60.004001617431641,3700.22021484375,350,229.29022216796875,16,303.5,10,0,-103,7700.31]
["2009-10-12T03:02:40",60.007999420166016,3702.55419921875,350,221.46136474609375,16,304,10,0,-103,7700.64]
["2009-10-12T03:02:45",60.006000518798828,3701.9228515625,350,221.46136474609375,16,304.5,10,0,-103,7700.97]
["2009-10-12T03:02:50",60.005001068115234,3704.0927734375,350,221.46136474609375,16,305,10,0,-103,7701.3]
["2009-10-12T03:02:55",59.999000549316406,3704.455078125,350,221.46136474609375,16,305.5,10,0,-103,7701.63]
["2009-10-12T03:03:00",60.004001617431641,3705.3291015625,350,221.46136474609375,16,306,10,0,-103,7701.96]
["2009-10-12T03:03:05",60.01300048828125,3703.67529296875,350,241.27436828613281,16,306.5,10,0,-103,7702.29]
["2009-10-12T03:03:10",60.012001037597656,3702.669189453125,350,241.27436828613281,16,307,10,0,-103,7702.62]
["2009-10-12T03:03:15",60.005001068115234,3703.29736328125,350,241.27436828613281,16,307.5,10,0,-103,7702.95]
["2009-10-12T03:03:20",60.011001586914063,3705.279052734375,350,241.27436828613281,16,308,10,0,-103,7703.28]
["2009-10-12T03:03:25",60.015998840332031,3703.43798828125,350,241.27436828613281,16,308.5,10,0,-103,7703.61]
["2009-10-12T03:03:30",60.019001007080078,3703.70751953125,350,243.07185363769531,16,309,10,0,-103,7703.94]
["2009-10-12T03:03:35",60.01300048828125,3704.13916015625,350,243.07185363769531,16,309.5,10,0,-103,7704.27]
["2009-10-12T03:03:40",60.008998870849609,3705.429443359375,350,243.07185363769531,16,310,10,0,-103,7704.6]
["2009-10-12T03:03:45",60.008998870849609,3705.634033203125,350,243.07185363769531,16,310.5,10,0,-103,7704.93]
["2009-10-12T03:03:50",60.020000457763672,3707.267333984375,350,243.07185363769531,16,311,10,0,-103,7705.26]
["2009-10-12T03:03:55",60.018001556396484,3705.654541015625,350,241.67021179199219,16,311.5,10,0,-103,7705.59]
["2009-10-12T03:04:00",60.019001007080078,3704.223876953125,350,241.67021179199219,16,312,10,0,-103,7705.92]
["2009-10-12T03:04:05",60.021999359130859,3704.79541015625,350,241.67021179199219,16,312.5,10,0,-103,7706.25]
["2009-10-12T03:04:10",60.029998779296875,3702.76416015625,350,241.67021179199219,16,313,10,0,-103,7706.58]
["2009-10-12T03:04:15",60.022998809814453,3701.06298828125,350,241.67021179199219,16,313.5,10,0,-103,7706.91]
["2009-10-12T03:04:20",60.022998809814453,3699.369384765625,350,228.14930725097656,16,314,10,0,-103,7707.24]
["2009-10-12T03:04:25",60.023998260498047,3704.24951171875,350,228.14930725097656,16,314.5,10,0,-103,7707.57]
["2009-10-12T03:04:30",60.021999359130859,3703.3740234375,350,228.14930725097656,16,315,10,0,-103,7707.9]
["2009-10-12T03:04:35",60.025001525878906,3704.947265625,350,228.14930725097656,16,315.5,10,0,-103,7708.23]
["2009-10-12T03:04:40",60.020000457763672,3703.541259765625,350,228.14930725097656,16,316,10,0,-103,7708.56]
["2009-10-12T03:04:45",60.01300048828125,3704.37646484375,350,235.12898254394531,16,316.5,10,0,-103,7708.89]
["2009-10-12T03:04:50",60.016998291015625,3706.994873046875,350,235.12898254394531,16,317,10,0,-103,7709.22]
["2009-10-12T03:04:55",60.019001007080078,3707.76708984375,350,235.12898254394531,16,317.5,10,0,-103,7709.55]
["2009-10-12T03:05:00",60.014999389648438,3708.8310546875,350,235.12898254394531,16,318,10,0,-103,7709.88]
["2009-10-12T03:05:05",60.013999938964844,3709.81689453125,350,235.12898254394531,16,318.5,10,0,-103,7710.21]
["2009-10-12T03:05:10",60.019001007080078,3709.09375,350,246.43313598632812,16,319,10,0,-103,7710.54]
["2009-10-12T03:05:15",60.013999938964844,3709.93310546875,350,246.43313598632812,16,319.5,10,0,-103,7710.87]
["2009-10-12T03:05:20",60.021999359130859,3710.591064453125,350,246.43313598632812,16,320,10,0,-103,7711.2]
["2009-10-12T03:05:25",60.023998260498047,3707.38037109375,350,246.43313598632812,16,320.5,10,0,-103,7711.53]
["2009-10-12T03:05:30",60.023998260498047,3706.989990234375,350,246.43313598632812,16,321,10,0,-103,7711.86]
["2009-10-12T03:05:35",60.020000457763672,3704.40576171875,350,236.55354309082031,16,321.5,10,0,-103,7712.19]
["2009-10-12T03:05:40",60.025001525878906,3706.5673828125,350,236.55354309082031,16,322,10,0,-103,7712.52]
["2009-10-12T03:05:45",60.029998779296875,3704.428466796875,350,236.55354309082031,16,322.5,10,0,-103,7712.85]
["2009-10-12T03:05:50",60.0260009765625,3703.53173828125,350,236.55354309082031,16,323,10,0,-103,7713.18]
["2009-10-12T03:05:55",60.028999328613281,3703.169189453125,350,236.55354309082031,16,323.5,10,0,-103,7713.51]
["2009-10-12T03:06:00",60.029998779296875,3701.51953125,350,230.29756164550781,16,324,10,0,-103,7713.84]
["2009-10-12T03:06:05",60.015998840332031,3698.0087890625,350,230.29756164550781,16,324.5,10,0,-103,7714.17]
["2009-10-12T03:06:10",60.027999877929687,3703.1923828125,350,230.29756164550781,16,325,10,0,-103,7714.5]
["2009-10-12T03:06:15",60.014999389648438,3699.9560546875,350,230.29756164550781,16,325.5,10,0,-103,7714.83]
["2009-10-12T03:06:20",60.011001586914063,3703.80224609375,350,230.29756164550781,16,326,10,0,-103,7715.16]
["2009-10-12T03:06:25",60.01300048828125,3707.489501953125,350,231.175537109375,16,326.5,10,0,-103,7715.49]
["2009-10-12T03:06:30",60.015998840332031,3706.9912109375,350,231.175537109375,16,327,10,0,-103,7715.82]
["2009-10-12T03:06:35",60.01300048828125,3705.39794921875,350,231.175537109375,16,327.5,10,0,-103,7716.15]
["2009-10-12T03:06:40",59.993999481201172,3709.14404296875,350,231.175537109375,16,328,10,0,-103,7716.48]
["2009-10-12T03:06:45",59.990001678466797,3706.192626953125,350,231.175537109375,16,328.5,10,0,-103,7716.81]
["2009-10-12T03:06:50",59.993000030517578,3707.9033203125,350,225.61763000488281,16,329,10,0,-103,7717.14]
["2009-10-12T03:06:55",59.993000030517578,3706.68310546875,350,225.61763000488281,16,329.5,10,0,-103,7717.47]
["2009-10-12T03:07:00",59.985000610351563,3704.93359375,350,225.61763000488281,16,330,10,0,-103,7717.8]
["2009-10-12T03:07:05",59.981998443603516,3707.0712890625,350,225.61763000488281,16,330.5,10,0,-103,7718.13]
["2009-10-12T03:07:10",59.980998992919922,3707.478515625,350,225.61763000488281,16,331,10,0,-103,7718.46]
["2009-10-12T03:07:15",59.978000640869141,3710.41943359375,350,230.73442077636719,16,331.5,10,0,-103,7718.79]
["2009-10-12T03:07:20",59.977001190185547,3708.707763671875,350,230.73442077636719,16,332,10,0,-103,7719.12]
["2009-10-12T03:07:25",59.983001708984375,3708.33544921875,350,230.73442077636719,16,332.5,10,0,-103,7719.45]
["2009-10-12T03:07:30",59.980998992919922,3707.911376953125,350,230.73442077636719,16,333,10,0,-103,7719.78]
["2009-10-12T03:07:35",59.980998992919922,3709.68896484375,350,230.73442077636719,16,333.5,10,0,-103,7720.11]
["2009-10-12T03:07:40",59.979999542236328,3706.541015625,350,234.84710693359375,16,334,10,0,-103,7720.44]
["2009-10-12T03:07:45",59.978000640869141,3712.30322265625,350,234.84710693359375,16,334.5,10,0,-103,7720.77]
["2009-10-12T03:07:50",59.976001739501953,3711.703369140625,350,234.84710693359375,16,335,10,0,-103,7721.1]
["2009-10-12T03:07:55",59.974998474121094,3714.612060546875,350,234.84710693359375,16,335.5,10,0,-103,7721.43]
["2009-10-12T03:08:00",59.974998474121094,3715.32275390625,350,234.84710693359375,16,336,10,0,-103,7721.76]
["2009-10-12T03:08:05",59.974998474121094,3714.71728515625,350,228.96092224121094,16,336.5,10,0,-103,7722.09]
["2009-10-12T03:08:10",59.977001190185547,3713.996337890625,350,228.96092224121094,16,337,10,0,-103,7722.42]
["2009-10-12T03:08:15",59.976001739501953,3715.631103515625,350,228.96092224121094,16,337.5,10,0,-103,7722.75]
["2009-10-12T03:08:20",59.979000091552734,3715.5673828125,350,228.96092224121094,16,338,10,0,-103,7723.08]
["2009-10-12T03:08:25",59.979000091552734,3713.1416015625,350,228.96092224121094,16,338.5,10,0,-103,7723.41]
["2009-10-12T03:08:30",59.98699951171875,3712.274658203125,350,231.17791748046875,16,339,10,0,-103,7723.74]
["2009-10-12T03:08:35",59.984001159667969,3710.05029296875,350,231.17791748046875,16,339.5,10,0,-103,7724.07]
["2009-10-12T03:08:40",59.979999542236328,3710.471923828125,350,231.17791748046875,16,340,10,0,-103,7724.4]
["2009-10-12T03:08:45",59.978000640869141,3710.19970703125,350,231.17791748046875,16,340.5,10,0,-103,7724.73]
["2009-10-12T03:08:50",59.981998443603516,3709.462158203125,350,231.17791748046875,16,341,10,0,-103,7725.06]
["2009-10-12T03:08:55",59.983001708984375,3710.572998046875,350,236.48928833007812,16,341.5,10,0,-103,7725.39]
["2009-10-12T03:09:00",59.98699951171875,3708.37109375,350,236.48928833007812,16,342,10,0,-103,7725.72]
["2009-10-12T03:09:05",59.976001739501953,3707.490478515625,350,236.48928833007812,16,342.5,10,0,-103,7726.05]
["2009-10-12T03:09:10",59.983001708984375,3709.89404296875,350,236.48928833007812,16,343,10,0,-103,7726.38]
["2009-10-12T03:09:15",59.980998992919922,3711.627197265625,350,236.48928833007812,16,343.5,10,0,-103,7726.71]
["2009-10-12T03:09:20",59.978000640869141,3712.392578125,350,245.03892517089844,16,344,10,0,-103,7727.04]
["2009-10-12T03:09:25",59.999000549316406,3716.625732421875,350,245.03892517089844,16,344.5,10,0,-103,7727.37]
["2009-10-12T03:09:30",59.986000061035156,3712.091796875,350,245.03892517089844,16,345,10,0,-103,7727.7]
["2009-10-12T03:09:35",59.983001708984375,3714.953125,350,245.03892517089844,16,345.5,10,0,-103,7728.03]
["2009-10-12T03:09:40",59.990001678466797,3716.308349609375,350,245.03892517089844,16,346,10,0,-103,7728.36]
["2009-10-12T03:09:45",59.994998931884766,3714.714111328125,350,223.60568237304687,16,346.5,10,0,-103,7728.69]
["2009-10-12T03:09:50",59.991001129150391,3715.9267578125,350,223.60568237304687,16,347,10,0,-103,7729.02]
["2009-10-12T03:09:55",60,3715.324462890625,350,223.60568237304687,16,347.5,10,0,-103,7729.35]
["2009-10-12T03:10:00",60.004001617431641,3711.70849609375,350,223.60568237304687,16,348,10,0,-103,7729.68]
["2009-10-12T03:10:05",59.999000549316406,3713.361572265625,350,223.60568237304687,16,348.5,10,0,-103,7730.01]
["2009-10-12T03:10:10",59.995998382568359,3718.29248046875,350,231.11935424804687,16,349,10,0,-103,7730.34]
["2009-10-12T03:10:15",60.001998901367188,3717.815185546875,350,231.11935424804687,16,349.5,10,0,-103,7730.67]
["2009-10-12T03:10:20",60.005001068115234,3718.560302734375,350,231.11935424804687,16,350,10,0,-103,7731]
["2009-10-12T03:10:25",60.004001617431641,3718.8212890625,350,231.11935424804687,16,350.5,10,0,-103,7731.33]
["2009-10-12T03:10:30",60.002998352050781,3719.29931640625,350,231.11935424804687,16,351,10,0,-103,7731.66]
["2009-10-12T03:10:35",60.006000518798828,3719.73095703125,350,237.20664978027344,16,351.5,10,0,-103,7731.99]
["2009-10-12T03:10:40",60.009998321533203,3718.57958984375,350,237.20664978027344,16,352,10,0,-103,7732.32]
["2009-10-12T03:10:45",60.01300048828125,3720.03369140625,350,237.20664978027344,16,352.5,10,0,-103,7732.65]
["2009-10-12T03:10:50",60.008998870849609,3720.810546875,350,237.20664978027344,16,353,10,0,-103,7732.98]
["2009-10-12T03:10:55",60.007999420166016,3719.447265625,350,237.20664978027344,16,353.5,10,0,-103,7733.31]
["2009-10-12T03:11:00",60.008998870849609,3721.272216796875,350,240.51637268066406,16,354,10,0,-103,7733.64]
["2009-10-12T03:11:05",60.01300048828125,3721.59375,350,240.51637268066406,16,354.5,10,0,-103,7733.97]
["2009-10-12T03:11:10",60.012001037597656,3721.9990234375,350,240.51637268066406,16,355,10,0,-103,7734.3]
["2009-10-12T03:11:15",60.011001586914063,3720.859619140625,350,240.51637268066406,16,355.5,10,0,-103,7734.63]
["2009-10-12T03:11:20",60.000999450683594,3723.815673828125,350,240.51637268066406,16,356,10,0,-103,7734.96]
["2009-10-12T03:11:25",59.998001098632813,3724.869384765625,350,237.56605529785156,16,356.5,10,0,-103,7735.29]
["2009-10-12T03:11:30",60.001998901367188,3723.696044921875,350,237.56605529785156,16,357,10,0,-103,7735.62]
["2009-10-12T03:11:35",60.002998352050781,3721.87890625,350,237.56605529785156,16,357.5,10,0,-103,7735.95]
["2009-10-12T03:11:40",60.000999450683594,3722.906494140625,350,237.56605529785156,16,358,10,0,-103,7736.28]
["2009-10-12T03:11:45",59.988998413085937,3723.201171875,350,237.56605529785156,16,358.5,10,0,-103,7736.61]
["2009-10-12T03:11:50",59.987998962402344,3723.88134765625,350,231.5814208984375,16,359,10,0,-103,7736.94]
["2009-10-12T03:11:55",59.992000579833984,3724.94384765625,350,231.5814208984375,16,359.5,10,0,-103,7737.27]
["2009-10-12T03:12:00",60.040000915527344,3723.692626953125,350,231.5814208984375,16,360,10,0,-103,7737.6]

{"sheet":"Entry Data","index":1,"n_rows":36,"n_cols":4,"rows_kept":36,"cut":false,"hidden":false,"merged":[]}
["Balancing Authority Name:","My BA"]
["Balancing Authority Frequency Response Obligation (FRO from FRS Form 1)",-80]
[]
["Note: See \"Instruction\" tab for more detailed instructions."]
[]
["Step 1.","Copy and Paste Event Data into the appropriate cells of the  \"Data\" worksheet."]
[null,"Maintain date and time format of mm/dd/yy hh:mm:ss."]
["Step 2.","Determine Time of T(0) and edit formula in cell \"C8\" to reference the correct row of the \"Data\" worksheet.",{"$f":"Data!A190","v":40098.102314814816}]
[null,"T(0) is the first change in frequency of about 0.010 Hz (10 mHz) which should be the first scan of frequency data of the event."]
[]
["Step 3.","Time of Frequency Recovery to 60 Hz or Pre-Perturbation Hz",{"$f":"Data!A258","v":40098.106249999997}]
[]
[]
[]
["Step 4.","Enter MW output of generator or load that caused event (+ for gen loss, - for load loss)",633,"MW"]
[null,"(Value from NERC Event List.  If multiple units, enter total MW loss.)"]
[]
["Step 5.","Hit the big blue button to copy your data for pasting into FRS Form 1 \"BA Event Data\" worksheet."]
[]
[]
[]
[]
[]
[]
[]
[]
[]
[]
[]
[]
["Step 6.","Paste data into FRS Form 1 in the appropriate row on the \"BA Event Data\" worksheet."]
[]
["Step 7.","Save this workbook using the following file name format:MyBA_yymmdd_hhmm_FRS_Form2.xlsm"]
[null,{"$f":"Evaluation!G2","v":"2009-10-12T02:27:20"},"Date yymmdd"]
[null,{"$f":"Evaluation!G2","v":40098.102314814816},"Time hh:ss of T(0)"]
[null,"Where \"MyBA\" = your BA pneumonic"]

{"sheet":"IPFR","index":2,"n_rows":41,"n_cols":2,"rows_kept":41,"cut":false,"hidden":true,"merged":[]}
[]
[]
[]
[]
[]
[]
[]
[]
[]
[]
[]
[]
[]
[]
[]
[]
[]
[]
[]
[]
[]
[]
[]
[]
[]
[]
[]
[]
[]
[]
[]
[]
[]
[]
[]
[]
[]
[]
[]
[]
[null,"IPFR = Interconnection Primary Frequency Response"]

{"sheet":"Evaluation","index":3,"n_rows":529,"n_cols":122,"rows_kept":529,"cut":false,"hidden":false,"merged":[]}
["scan rate",2,"seconds",null,null,"Date:",{"$f":"G2","v":"2009-10-12T02:27:20"},null,null,null,"Balancing Authority",{"$f":"'Entry Data'!$B$1","v":"My BA"},null,null,null,null,null,null,null,null,null,null,"A Point",{"$f":"$B78","v":40098.10229166667},null,null,null,null,"A Point",{"$f":"$B$78","v":40098.10229166667},null,null,null,null,null,null,null,null,null,null,null,null,null,"Non-Conforming Load sign convention","+","(Data is positive for Load then enter \"+\" else \"-\"",null,null,null,null,null,null,null,null,null,null,null,"Date:",{"$f":"$BG$2","v":"2009-10-12T02:27:20"},null,null,null,null,null,null,null,null,null,null,null,null,"Date:",{"$f":"BU2","v":"2009-10-12T02:27:20"},null,null,null,null,null,null,null,null,null,null,null,null,"Date:",{"$f":"CI2","v":"2009-10-12T02:27:20"},null,null,null,null,null,null,null,null,null,null,null,null,"Date:",{"$f":"CW2","v":"2009-10-12T02:27:20"},null,null,null,null,null,null,null,null,null,null,null,null,"Date:",{"$f":"DK2","v":"2009-10-12T02:27:20"}]
[null,null,null,null,null,"Time of T(0)",{"$f":"'Entry Data'!C8","v":40098.102314814816},null,null,null,"Grid Nominal Frequency",60,"Hz",null,null,null,null,null,null,null,null,null,"FPointA",{"$f":"$C78","v":60.041000366210938},{"$f":"$B78","v":40098.10229166667},null,null,null,"FPointA",{"$f":"$C$78","v":60.041000366210938},{"$f":"$B$78","v":40098.10229166667},null,null,null,null,null,null,null,null,null,null,null,null,null,null,null,null,null,null,null,null,null,null,null,null,null,null,"Time of T(0)",{"$f":"G2","v":40098.102314814816},null,null,null,null,null,null,null,null,null,null,null,null,"Time of T(0)",{"$f":"$G2","v":40098.102314814816},null,null,null,null,null,null,null,null,null,null,null,null,"Time of T(0)",{"$f":"$G2","v":40098.102314814816},null,null,null,null,null,null,null,null,null,null,null,null,"Time of T(0)",{"$f":"$G2","v":40098.102314814816},null,null,null,null,null,null,null,null,null,null,null,null,"Time of T(0)",{"$f":"$G2","v":40098.102314814816}]
[null,null,null,null,null,"Time of Frequency Recovery to 60 Hz or Pre-Perturbation Hz",{"$f":"'Entry Data'!C11","v":40098.106249999997},null,null,null,"Capacity @ Droop for Minimum Performance",{"$f":"L7*-M4*10","v":2400},"MW",null,null,null,null,null,null,null,null,null,"A Value",{"$f":"AVERAGE($C71:$C78)","v":60.041250228881836},null,null,null,null,"A Value",{"$f":"AVERAGE($C$71:$C$78)","v":60.041250228881836},null,null,null,null,null,null,null,null,null,null,null,null,null,null,null,null,null,null,null,null,null,null,null,null,null,null,null,"Time of Frequency Recovery to 60 Hz or Pre-Perturbation Hz",{"$f":"G3","v":40098.106249999997},null,null,null,null,null,null,null,null,null,null,null,null,"Time of Frequency Recovery to 60 Hz or Pre-Perturbation Hz",{"$f":"$G3","v":40098.106249999997},null,null,null,null,null,null,null,null,null,null,null,null,"Time of Frequency Recovery to 60 Hz or Pre-Perturbation Hz",{"$f":"$G3","v":40098.106249999997},null,null,null,null,null,null,null,null,null,null,null,null,"Time of Frequency Recovery to 60 Hz or Pre-Perturbation Hz",{"$f":"$G3","v":40098.106249999997},null,null,null,null,null,null,null,null,null,null,null,null,"Time of Frequency Recovery to 60 Hz or Pre-Perturbation Hz",{"$f":"$G3","v":40098.106249999997}]
[null,null,null,null,null,"Value A Pre-Perturbation Average Frequency [T(-2 ) to T(-16)]",{"$f":"AVERAGE($C$71:$C$78)","v":60.041250228881836},"Hz",null,null,"Droop Setting",0.05,{"$f":"L4*L2","v":3},"Hz",null,null,null,null,null,null,null,null,"C Value",{"$f":"IF($K$16=\"Low Hz\",MIN($C$79:$C$88),MAX($C$79:$C$88))","v":59.852001190185547},{"$f":"LOOKUP($X$4,$C$79:$C$88,$B$79:$B$88)","v":40098.102361111109},null,null,null,"C Value",{"$f":"IF($K$16=\"Low Hz\",MIN($C$79:$C$88),MAX($C$79:$C$88))","v":59.852001190185547},{"$f":"LOOKUP($X$6,$C$79:$C$88,$B$79:$B$88)","v":{"$error":"#N/A"}},null,null,null,null,null,null,null,null,null,null,null,null,null,null,null,null,null,null,null,null,null,null,null,null,null,null,"Value A Pre-Perturbation Average Frequency [T(-2 ) to T(-16)]",{"$f":"AVERAGE($AP$71:$AP$78)","v":60.041250228881836},"Hz",null,null,null,null,null,null,null,null,null,null,null,"Value A Pre-Perturbation Average Frequency [T(-2 ) to T(-16)]",{"$f":"AVERAGE($AP$71:$AP$78)","v":60.041250228881836},"Hz",null,null,null,null,null,null,null,null,null,null,null,"Value A Pre-Perturbation Average Frequency [T(-2 ) to T(-16)]",{"$f":"AVERAGE($AP$71:$AP$78)","v":60.041250228881836},"Hz",null,null,null,null,null,null,null,null,null,null,null,"Value A Pre-Perturbation Average Frequency [T(-2 ) to T(-16)]",{"$f":"AVERAGE($AP$71:$AP$78)","v":60.041250228881836},"Hz",null,null,null,null,null,null,null,null,null,null,null,"Value A Pre-Perturbation Average Frequency [T(-2 ) to T(-16)]",{"$f":"AVERAGE($AP$71:$AP$78)","v":60.041250228881836},"Hz"]
[null,null,null,null,null,"Value B Post-Perturbation Average Frequency [T(+20 to T(+52)]",{"$f":"AVERAGE($C$89:$C$105)","v":59.888294444364661},"Hz",null,null,"Deadband Setting",0,"Hz",null,null,null,null,null,null,null,null,null,"Delta FCA",{"$f":"X4-X3","v":-0.18924903869628906},null,null,null,null,"Delta FC",null,null,null,null,null,null,null,null,null,null,null,null,null,null,null,null,null,null,null,null,null,null,null,null,null,null,null,null,"Value B Post-Perturbation Average Frequency [T(+12 to T(+24)]",{"$f":"AVERAGE($AP$85:$AP$91)","v":59.879572187151226},"Hz",null,null,null,null,null,null,null,null,null,null,null,"Value B Post-Perturbation Average Frequency [T(+18 to T(+30)]",{"$f":"AVERAGE($AP$88:$AP$94)","v":59.883286612374441},"Hz",null,null,null,null,null,null,null,null,null,null,null,"Value B Post-Perturbation Average Frequency [T(+20 to T(+40)]",{"$f":"AVERAGE($AP$89:$AP$99)","v":59.888819261030719},"Hz",null,null,null,null,null,null,null,null,null,null,null,"Value B Post-Perturbation Average Frequency [T(+18 to T(+52)]",{"$f":"AVERAGE($AP$88:$AP$105)","v":59.887555864122177},"Hz",null,null,null,null,null,null,null,null,null,null,null,"Value B Post-Perturbation Average Frequency [T(+20 to T(+52)]",{"$f":"AVERAGE($AP$89:$AP$105)","v":59.888294444364661},"Hz"]
[null,null,null,null,null,"Pre to Post Perturbation Delta Frequency Actual",{"$f":"G5-G4","v":-0.15295578451717518},"Hz",null,null,"Hz Span",{"$f":"M4-L5","v":3},"Hz",null,null,null,null,null,null,null,null,null,"FR C",{"$f":"X8/(X5*10)","v":-334.47990244000766},"MW/0.1 Hz",null,null,null,null,null,null,null,null,null,null,null,null,null,null,null,null,null,null,null,null,null,null,null,null,null,null,null,null,null,null,null,null,"Pre to Post Perturbation Delta Frequency Actual",{"$f":"BG5-BG4","v":-0.16167804173061029},"Hz",null,null,null,null,null,null,null,null,null,null,null,"Pre to Post Perturbation Delta Frequency Actual",{"$f":"BU5-BU4","v":-0.15796361650739499},"Hz",null,null,null,null,null,null,null,null,null,null,null,"Pre to Post Perturbation Delta Frequency Actual",{"$f":"CI5-CI4","v":-0.15243096785111732},"Hz",null,null,null,null,null,null,null,null,null,null,null,"Pre to Post Perturbation Delta Frequency Actual",{"$f":"CW5-CW4","v":-0.1536943647596587},"Hz",null,null,null,null,null,null,null,null,null,null,null,"Pre to Post Perturbation Delta Frequency Actual",{"$f":"DK5-DK4","v":-0.15295578451717518},"Hz"]
[null,null,null,null,null,"Value A Pre-Perturbation Average Interchange MW [T(-2 ) to T(-16)]",{"$f":"AVERAGE($D$71:$D$78)","v":3649.001708984375},"MW",null,null,"Frequency Response Obligation (FRO)",{"$f":"'Entry Data'!B2","v":-80},"MW/0.1 Hz",null,null,null,null,null,null,null,null,null,"Slope A-C dF/dT",{"$f":"(X4-X2)/(Y4-Y2)/86400","v":-3.1499865208508761E-2},"Hz/second",null,null,null,null,"Value B","FR B","Value B","FR B","Value B","FR B","Value B","FR B","Value B","FR B",null,null,null,null,null,null,null,null,null,null,null,null,null,null,null,null,null,null,"Value A Pre-Perturbation Average Interchange MW [T(-2 ) to T(-16)]",{"$f":"AVERAGE($D$71:$D$78)","v":3649.001708984375},"MW",null,null,null,null,null,null,null,null,null,null,null,"Value A Pre-Perturbation Average Interchange MW [T(-2 ) to T(-16)]",{"$f":"AVERAGE($D$71:$D$78)","v":3649.001708984375},"MW",null,null,null,null,null,null,null,null,null,null,null,"Value A Pre-Perturbation Average Interchange MW [T(-2 ) to T(-16)]",{"$f":"AVERAGE($D$71:$D$78)","v":3649.001708984375},"MW",null,null,null,null,null,null,null,null,null,null,null,"Value A Pre-Perturbation Average Interchange MW [T(-2 ) to T(-16)]",{"$f":"AVERAGE($D$71:$D$78)","v":3649.001708984375},"MW",null,null,null,null,null,null,null,null,null,null,null,"Value A Pre-Perturbation Average Interchange MW [T(-2 ) to T(-16)]",{"$f":"AVERAGE($D$71:$D$78)","v":3649.001708984375},"MW"]
[null,null,null,null,null,"Value B Post-Perturbation Average Interchange MW [T(+20 to T(+52)]",{"$f":"AVERAGE($D$89:$D$105)","v":3785.2046472886032},"MW",null,null,null,null,null,null,null,null,null,null,null,null,null,null,"C Value Maximum Resource Loss",{"$f":"MAX(Z79:Z88)","v":633},null,null,null,null,null,"12 to 24 sec","12 to 24 sec","18 to 30 sec","18 to 30 sec","20 to 40 sec","20 to 40 sec","18 to 52 sec","18 to 52 sec","20 to 52 sec","20 to 52 sec",null,null,null,null,null,null,null,null,null,null,null,null,null,null,null,null,null,null,"Value B Post-Perturbation Average Interchange MW [T(+12 to T(+24)]",{"$f":"AVERAGE($D$85:$D$91)","v":3758.9635881696427},"MW",null,null,null,null,null,null,null,null,null,null,null,"Value B Post-Perturbation Average Interchange MW [T(+18 to T(+30)]",{"$f":"AVERAGE($D$88:$D$94)","v":3774.248046875},"MW",null,null,null,null,null,null,null,null,null,null,null,"Value B Post-Perturbation Average Interchange MW [T(+20 to T(+40)]",{"$f":"AVERAGE($D$89:$D$99)","v":3780.725896661932},"MW",null,null,null,null,null,null,null,null,null,null,null,"Value B Post-Perturbation Average Interchange MW [T(+18 to T(+52)]",{"$f":"AVERAGE($D$88:$D$105)","v":3784.1484917534722},"MW",null,null,null,null,null,null,null,null,null,null,null,"Value B Post-Perturbation Average Interchange MW [T(+20 to T(+52)]",{"$f":"AVERAGE($D$89:$D$105)","v":3785.2046472886032},"MW"]
[null,null,null,null,null,"Pre to Post Perturbation Interchange Delta MW Actual",{"$f":"G8-G7","v":136.20293830422816},"MW",null,null,null,null,null,null,null,null,null,null,null,null,null,null,"Secondary C Value",{"$f":"IF((MIN(C89:C139)<X4),MIN(C89:C139),\"No\")","v":"No"},{"$f":"IF(X9=\"No\",\"n/a \",(LOOKUP(X9,C89:C139,B89:B139)))","v":"n/a "},"Time",null,null,"B Frequency Value",{"$f":"AVERAGE($C$85:$C$91)","v":59.879572187151226},null,{"$f":"AVERAGE($C$88:$C$94)","v":59.883286612374441},null,{"$f":"AVERAGE($E$89:$E$99)","v":59.888294444364654},null,{"$f":"AVERAGE($C$88:$C$105)","v":59.887555864122177},null,{"$f":"AVERAGE($C$89:$C$105)","v":59.888294444364661},null,null,null,null,null,null,null,null,null,null,null,null,null,null,null,null,null,null,null,"Pre to Post Perturbation Interchange Delta MW Actual",{"$f":"BG8-BG7","v":109.96187918526766},"MW",null,null,null,null,null,null,null,null,null,null,null,"Pre to Post Perturbation Interchange Delta MW Actual",{"$f":"BU8-BU7","v":125.246337890625},"MW",null,null,null,null,null,null,null,null,null,null,null,"Pre to Post Perturbation Interchange Delta MW Actual",{"$f":"CI8-CI7","v":131.72418767755698},"MW",null,null,null,null,null,null,null,null,null,null,null,"Pre to Post Perturbation Interchange Delta MW Actual",{"$f":"CW8-CW7","v":135.14678276909717},"MW",null,null,null,null,null,null,null,null,null,null,null,"Pre to Post Perturbation Interchange Delta MW Actual",{"$f":"DK8-DK7","v":136.20293830422816},"MW"]
[null,null,null,null,null,"Initial Performance Ramp Magnitude Adjustment",{"$f":"(D77-D49)*0.59","v":-12.61125},"MW",null,null,null,null,null,null,null,null,null,null,null,null,null,null,null,null,null,null,null,null,"Delta FB",{"$f":"AD9-$AD$3","v":-0.16167804173061029},{"$f":"AVERAGE($AA$85:$AA$91)","v":-391.83435745472173},{"$f":"AF9-$AD$3","v":-0.15796361650739499},{"$f":"AVERAGE($AA$88:$AA$94)","v":-401.15622149811759},{"$f":"AH9-$AD$3","v":-0.15295578451718228},{"$f":"AVERAGE($AA$89:$AA$99)","v":-415.8127633199685},{"$f":"AJ9-$AD$3","v":-0.1536943647596587},{"$f":"AVERAGE($AA$88:$AA$105)","v":-412.38887368417539},{"$f":"AL9-$AD$3","v":-0.15295578451717518},{"$f":"AVERAGE($AA$89:$AA$105)","v":-414.24990416522388},null,null,null,null,null,null,null,null,null,null,null,null,null,null,null,null,null,null,"Net Total Adjustments",{"$f":"BG30","v":-51.189907618931159},"MW",null,null,null,null,null,null,null,null,null,null,null,"Net Total Adjustments",{"$f":"BU30","v":-53.045751299176771},"MW",null,null,null,null,null,null,null,null,null,null,null,"Net Total Adjustments",{"$f":"CI30","v":-54.148750305175895},"MW",null,null,null,null,null,null,null,null,null,null,null,"Net Total Adjustments",{"$f":"CW30","v":-53.085372924804517},"MW",null,null,null,null,null,null,null,null,null,null,null,"Net Total Adjustments",{"$f":"DK30","v":-53.223766102510439},"MW"]
[null,null,null,null,null,"EPFR Pre-Perturbation Average",{"$f":"AVERAGE(H71:H78)","v":-33.00018310546875},"MW",null,null,null,null,null,null,null,null,null,null,null,null,null,null,null,null,null,null,null,null,"Slope B dF/dT",{"$f":"AD10/20","v":-8.0839020865305141E-3},null,{"$f":"AF10/20","v":-7.8981808253697494E-3},null,{"$f":"AH10/20","v":-7.6477892258591139E-3},null,{"$f":"AJ10/20","v":-7.6847182379829347E-3},null,{"$f":"AL10/20","v":-7.6477892258587591E-3},null,null,null,null,null,null,null,null,null,null,null,null,null,null,null,null,null,null,null,"EPFR for FRO Pre-Perturbation Average",{"$f":"AVERAGE(AZ71:AZ78)","v":-33.00018310546875},"MW",null,null,null,null,null,null,null,null,null,null,null,"EPFR for FRO Pre-Perturbation Average",{"$f":"AVERAGE(BM71:BM78)","v":-33.00018310546875},"MW",null,null,null,null,null,null,null,null,null,null,null,"EPFR for FRO Pre-Perturbation Average",{"$f":"AVERAGE(CO71:CO78)","v":-33.00018310546875},"MW",null,null,null,null,null,null,null,null,null,null,null,"EPFR for FRO Pre-Perturbation Average",{"$f":"AVERAGE(DC71:DC78)","v":-33.00018310546875},"MW",null,null,null,null,null,null,null,null,null,null,null,"EPFR for FRO Pre-Perturbation Average",{"$f":"AVERAGE(DQ71:DQ78)","v":-33.00018310546875},"MW"]
[null,null,null,null,null,"EPFR Post-Perturbation Average",{"$f":"AVERAGE(H89:H105)","v":89.364444508272058},"MW",null,null,null,null,null,null,null,null,null,null,null,null,null,null,null,null,null,null,null,null,"RatioB-C",{"$f":"(100*(AD10/$X$5))","v":85.431367495649312},null,{"$f":"(100*(AF10/$X$5))","v":83.468649349864549},null,{"$f":"(100*(AH10/$X$5))","v":80.82248954651179},null,{"$f":"(100*(AJ10/$X$5))","v":81.212758499825583},null,{"$f":"(100*(AL10/$X$5))","v":80.822489546508038},null,null,null,null,null,null,null,null,null,null,null,null,null,null,null,null,null,null,null,"EPFR for FRO Post-Perturbation Average",{"$f":"AVERAGE($AZ85:$AZ91)","v":96.342250279017861},"MW",null,null,null,null,null,null,null,null,null,null,null,"EPFR for FRO Post-Perturbation Average",{"$f":"AVERAGE($AZ88:$AZ94)","v":93.370710100446431},"MW",null,null,null,null,null,null,null,null,null,null,null,"EPFR for FRO Post-Perturbation Average",{"$f":"AVERAGE($AZ89:$AZ99)","v":88.94459117542614},"MW",null,null,null,null,null,null,null,null,null,null,null,"EPFR for FRO Post-Perturbation Average",{"$f":"AVERAGE($AZ88:$AZ105)","v":89.955308702256943},"MW",null,null,null,null,null,null,null,null,null,null,null,"EPFR for FRO Post-Perturbation Average",{"$f":"AVERAGE($AZ89:$AZ105)","v":89.364444508272058},"MW"]
[null,null,null,null,null,"EPFR Delta",{"$f":"G12-G11","v":122.36462761374081},"MW",null,null,"TC (frequency response filter constant)",0.35,"Time Constant for delayed delivery of PFR during Sustained Measure",null,null,null,null,null,null,null,null,null,null,null,null,null,null,null,"Sustainability Index",{"$f":"AVERAGE($C$110:$C$119)-AD9","v":-1.4671979631692977E-2},null,{"$f":"AVERAGE($C$110:$C$119)-AF9","v":-1.8386404854908278E-2},null,{"$f":"AVERAGE($C$110:$C$119)-AH9","v":-2.3394236845120986E-2},null,{"$f":"AVERAGE($C$110:$C$119)-AJ9","v":-2.2655656602644569E-2},null,{"$f":"AVERAGE($C$110:$C$119)-AL9","v":-2.3394236845128091E-2},null,null,null,null,null,null,null,null,null,null,null,null,null,null,null,null,null,null,null,"EPFR for FRO Delta",{"$f":"BG12-BG11","v":129.34243338448661},"MW",null,null,null,null,null,null,null,null,null,null,null,"EPFR for FRO Delta",{"$f":"BU12-BU11","v":126.37089320591518},"MW",null,null,null,null,null,null,null,null,null,null,null,"EPFR for FRO Delta",{"$f":"CI12-CI11","v":121.94477428089489},"MW",null,null,null,null,null,null,null,null,null,null,null,"EPFR for FRO Delta",{"$f":"CW12-CW11","v":122.95549180772569},"MW",null,null,null,null,null,null,null,null,null,null,null,"EPFR for FRO Delta",{"$f":"DK12-DK11","v":122.36462761374081},"MW"]
[null,null,null,null,null,null,null,null,null,null,null,null,null,null,null,null,null,null,null,null,null,null,"Tzero",{"$f":"B78","v":40098.10229166667},null,null,null,null,null,null,null,null,null,null,null,null,null,null,null,null,null,null,null,null,null,null,null,null,null,null,null,null,null,null,null,null,null,"EPFR for FRO Adjusted",{"$f":"BG13+BG10","v":78.152525765555453},"MW",null,null,null,null,null,null,null,null,null,null,null,"EPFR for FRO Adjusted",{"$f":"BU13+BU10","v":73.325141906738409},"MW",null,null,null,null,null,null,null,null,null,null,null,"EPFR for FRO Adjusted",{"$f":"CI13+CI10","v":67.796023975718995},"MW",null,null,null,null,null,null,null,null,null,null,null,"EPFR for FRO Adjusted",{"$f":"CW13+CW10","v":69.870118882921176},"MW",null,null,null,null,null,null,null,null,null,null,null,"EPFR for FRO Adjusted",{"$f":"DK13+DK10","v":69.140861511230369},"MW"]
[null,null,null,null,null,null,null,null,null,null,null,null,null,null,null,null,null,null,null,null,null,null,"FT+4",{"$f":"C81","v":59.852001190185547},null,null,null,null,null,null,null,null,null,null,null,null,null,null,null,null,null,null,null,null,null,null,null,null,null,null,null,null,null,null,null,null,null,"Pre JOU Dynamic Schedules MW",{"$f":"AVERAGE($AR$71:$AR$78)","v":350},null,null,null,"Pre-Perturbation Bias Setting",{"$f":"AVERAGE($AX$71:$AX$78)","v":-103},"MW/0.1 Hz",null,null,null,null,null,null,"Pre JOU Dynamic Schedules MW",{"$f":"AVERAGE($AR$71:$AR$78)","v":350},null,null,null,"Pre-Perturbation Bias Setting",{"$f":"AVERAGE($AX$71:$AX$78)","v":-103},"MW/0.1 Hz",null,null,null,null,null,null,"Pre JOU Dynamic Schedules MW",{"$f":"AVERAGE($AR$71:$AR$78)","v":350},"MW",null,null,"Pre-Perturbation Bias Setting",{"$f":"AVERAGE($AX$71:$AX$78)","v":-103},"MW/0.1 Hz",null,null,null,null,null,null,"Pre JOU Dynamic Schedules MW",{"$f":"AVERAGE($AR$71:$AR$78)","v":350},"MW",null,null,"Pre-Perturbation Bias Setting",{"$f":"AVERAGE($AX$71:$AX$78)","v":-103},"MW/0.1 Hz",null,null,null,null,null,null,"Pre JOU Dynamic Schedules MW",{"$f":"AVERAGE($AR$71:$AR$78)","v":350},"MW",null,null,"Pre-Perturbation Bias Setting",{"$f":"AVERAGE($AX$71:$AX$78)","v":-103},"MW/0.1 Hz"]
[null,null,null,null,null,null,null,null,null,null,{"$f":"IF(G6<0,\"Low Hz\",\"High Hz\")","v":"Low Hz"},"Delta Hz Event",null,null,null,null,null,null,null,null,null,null,"FT+10",{"$f":"C84","v":59.868999481201172},null,null,null,null,null,null,null,null,null,null,null,null,null,null,null,null,null,null,null,null,null,null,null,null,null,null,null,null,null,null,null,null,null,"Pre Non-Conforming Load MW",{"$f":"AVERAGE($AS$71:$AS$78)","v":-165.47639465332031},null,null,null,"Post-Perturbation Bias Setting",{"$f":"AVERAGE($AX$85:$AX$91)","v":-103},"MW/0.1 Hz",null,null,null,null,null,null,"Pre Non-Conforming Load MW",{"$f":"AVERAGE($AS$71:$AS$78)","v":-165.47639465332031},null,null,null,"Post-Perturbation Bias Setting",{"$f":"AVERAGE($AX$88:$AX$94)","v":-103},"MW/0.1 Hz",null,null,null,null,null,null,"Pre Non-Conforming Load MW",{"$f":"AVERAGE($AS$71:$AS$78)","v":-165.47639465332031},"MW",null,null,"Post-Perturbation Bias Setting",{"$f":"AVERAGE($AX$89:$AX$99)","v":-103},"MW/0.1 Hz",null,null,null,null,null,null,"Pre Non-Conforming Load MW",{"$f":"AVERAGE($AS$71:$AS$78)","v":-165.47639465332031},"MW",null,null,"Post-Perturbation Bias Setting",{"$f":"AVERAGE($AX$88:$AX$105)","v":-103},"MW/0.1 Hz",null,null,null,null,null,null,"Pre Non-Conforming Load MW",{"$f":"AVERAGE($AS$71:$AS$78)","v":-165.47639465332031},"MW",null,null,"Post-Perturbation Bias Setting",{"$f":"AVERAGE($AX$89:$AX$105)","v":-103},"MW/0.1 Hz"]
[null,null,null,null,null,null,null,null,null,null,{"$f":"LOOKUP(G3,B43:B529,N43:N529)","v":3763.5058679413378},"Actual Interchange MW Average during frequency recovery period",null,null,null,null,null,null,null,null,null,null,"FT+20",{"$f":"C89","v":59.875},null,null,null,null,null,null,null,null,null,null,null,null,null,null,null,null,null,null,null,null,null,null,null,null,null,null,null,null,null,null,null,null,null,"Pre Pumped Hydro MW",{"$f":"AVERAGE($AT$71:$AT$78)","v":0},null,null,null,"EPFR for Bias Setting Pre-Perturbation Average",{"$f":"(BG4-$L$2)*10*BL15","v":-42.487735748291016},"MW",null,null,null,null,null,null,"Pre Pumped Hydro MW",{"$f":"AVERAGE($AT$71:$AT$78)","v":0},null,null,null,"EPFR for Bias Setting Pre-Perturbation Average",{"$f":"(BU4-$L$2)*10*BZ15","v":-42.487735748291016},"MW",null,null,null,null,null,null,"Pre Pumped Hydro MW",{"$f":"AVERAGE($AT$71:$AT$78)","v":0},"MW",null,null,"EPFR for Bias Setting Pre-Perturbation Average",{"$f":"(CI4-$L$2)*10*CN15","v":-42.487735748291016},"MW",null,null,null,null,null,null,"Pre Pumped Hydro MW",{"$f":"AVERAGE($AT$71:$AT$78)","v":0},"MW",null,null,"EPFR for Bias Setting Pre-Perturbation Average",{"$f":"(CW4-$L$2)*10*DB15","v":-42.487735748291016},"MW",null,null,null,null,null,null,"Pre Pumped Hydro MW",{"$f":"AVERAGE($AT$71:$AT$78)","v":0},"MW",null,null,"EPFR for Bias Setting Pre-Perturbation Average",{"$f":"(DK4-$L$2)*10*DP15","v":-42.487735748291016},"MW"]
[null,null,null,null,null,null,null,null,null,null,{"$f":"LOOKUP(G3,B43:B529,O43:O529)","v":3781.5189999176464},"Target Interchange MW Average during frequency recovery period",null,null,null,null,null,null,null,null,null,null,"FT+60",{"$f":"C109","v":59.88800048828125},null,null,null,null,null,null,null,null,null,null,null,null,null,null,null,null,null,null,null,null,null,null,null,null,null,null,null,null,null,null,null,null,null,"Pre Ramping Units MW",{"$f":"AVERAGE($AU$71:$AU$78)","v":90.875},null,null,null,"EPFR for Bias Setting Post-Perturbation Average",{"$f":"(BG5-$L$2)*10*BL16","v":124.04064723423758},"MW",null,null,null,null,null,null,"Pre Ramping Units MW",{"$f":"AVERAGE($AU$71:$AU$78)","v":90.875},null,null,null,"EPFR for Bias Setting Post-Perturbation Average",{"$f":"(BU5-$L$2)*10*BZ16","v":120.21478925432582},"MW",null,null,null,null,null,null,"Pre Ramping Units MW",{"$f":"AVERAGE($AU$71:$AU$78)","v":90.875},"MW",null,null,"EPFR for Bias Setting Post-Perturbation Average",{"$f":"(CI5-$L$2)*10*CN16","v":114.51616113835982},"MW",null,null,null,null,null,null,"Pre Ramping Units MW",{"$f":"AVERAGE($AU$71:$AU$78)","v":90.875},"MW",null,null,"EPFR for Bias Setting Post-Perturbation Average",{"$f":"(CW5-$L$2)*10*DB16","v":115.81745995415744},"MW",null,null,null,null,null,null,"Pre Ramping Units MW",{"$f":"AVERAGE($AU$71:$AU$78)","v":90.875},"MW",null,null,"EPFR for Bias Setting Post-Perturbation Average",{"$f":"(DK5-$L$2)*10*DP16","v":115.05672230439941},"MW"]
[null,null,null,"EPFR = Expected Primary Frequency Response",null,"EPFR(Final)",{"$f":"G13+G10","v":109.75337761374081},"MW",null,null,{"$f":"LOOKUP(G3,B49:B529,Q49:Q529)","v":3727.2376243824524},"Interchange Average Ramp MW during frequency recovery period",null,null,null,null,null,null,null,null,"Interconnection Evaluation",null,null,null,null,null,null,null,null,null,null,null,null,null,null,null,null,null,null,null,null,null,null,null,null,null,null,null,null,null,null,null,null,null,null,null,null,"Pre Transferred Frequency Response MW",{"$f":"AVERAGE($AV$71:$AV$78)*-10*(BG4-$L$2)","v":-4.1250228881835938},null,null,null,"EPFR for Bias Setting Delta",{"$f":"BL18-BL17","v":166.5283829825286},"MW",null,null,null,null,null,null,"Pre Transferred Frequency Response MW",{"$f":"AVERAGE($AV$71:$AV$78)*-10*(BU4-$L$2)","v":-4.1250228881835938},null,null,null,"EPFR for Bias Setting Delta",{"$f":"BZ18-BZ17","v":162.70252500261682},"MW",null,null,null,null,null,null,"Pre Transferred Frequency Response MW",{"$f":"AVERAGE($AV$71:$AV$78)*-10*(CI4-$L$2)","v":-4.1250228881835938},"MW",null,null,"EPFR for Bias Setting Delta",{"$f":"CN18-CN17","v":157.00389688665084},"MW",null,null,null,null,null,null,"Pre Transferred Frequency Response MW",{"$f":"AVERAGE($AV$71:$AV$78)*-10*(CW4-$L$2)","v":-4.1250228881835938},"MW",null,null,"EPFR for Bias Setting Delta",{"$f":"DB18-DB17","v":158.30519570244846},"MW",null,null,null,null,null,null,"Pre Transferred Frequency Response MW",{"$f":"AVERAGE($AV$71:$AV$78)*-10*(DK4-$L$2)","v":-4.1250228881835938},"MW",null,null,"EPFR for Bias Setting Delta",{"$f":"DP18-DP17","v":157.54445805269043},"MW"]
[null,null,null,null,null,"MW Response in right direction for frequency delta",{"$f":"IF((G6*G9)<0,\"Yes\",\"No\")","v":"Yes"},null,null,null,{"$f":"D77","v":3645.44580078125},"Actual MW @ T(-4)",null,null,null,null,null,null,null,null,null,null,null,null,null,null,null,null,null,null,null,null,null,null,null,null,null,null,null,null,null,null,null,null,null,null,null,null,null,null,null,null,null,null,null,null,null,"Pre Contingent BA Lost Generation MW",{"$f":"AVERAGE($AW$71:$AW$78)","v":15},null,null,null,"Primary Frequency Response Delivery of Bias",{"$f":"BG9/BL19","v":0.66031914329465602},null,null,null,null,null,null,null,"Pre Contingent BA Lost Generation MW",{"$f":"AVERAGE($AW$71:$AW$78)","v":15},null,null,null,"Primary Frequency Response Delivery of Bias",{"$f":"BU9/BZ19","v":0.76978730286214425},null,null,null,null,null,null,null,"Pre Contingent BA Lost Generation MW",{"$f":"AVERAGE($AW$71:$AW$78)","v":15},"MW",null,null,"Primary Frequency Response Delivery of Bias",{"$f":"CI9/CN19","v":0.83898674039062504},null,null,null,null,null,null,null,"Pre Contingent BA Lost Generation MW",{"$f":"AVERAGE($AW$71:$AW$78)","v":15},"MW",null,null,"Primary Frequency Response Delivery of Bias",{"$f":"CW9/DB19","v":0.85371034203526708},null,null,null,null,null,null,null,"Pre Contingent BA Lost Generation MW",{"$f":"AVERAGE($AW$71:$AW$78)","v":15},"MW",null,null,"Primary Frequency Response Delivery of Bias",{"$f":"DK9/DP19","v":0.86453652504028644}]
[null,null,null,null,null,null,null,null,null,null,{"$f":"LOOKUP(G3,B43:B524,D43:D524)-D77+I77-LOOKUP(G3,B43:B524,I43:I524)","v":98.661456065308514},"Starting and Ending Difference in Interchange MW during frequency recovery period (indicates ramp direction during recovery period)",null,null,null,null,null,null,null,null,null,null,null,null,null,null,null,null,null,null,null,null,null,null,null,null,null,null,null,null,null,null,null,null,null,null,null,null,null,null,null,null,null,null,null,null,null,"Sum of Pre Perturbation Adjustments",{"$f":"SUM(BG15:BG20)","v":286.27358245849609},null,null,null,null,null,null,null,null,null,null,null,null,"Sum of Pre Perturbation Adjustments",{"$f":"SUM(BU15:BU20)","v":286.27358245849609},null,null,null,null,null,null,null,null,null,null,null,null,"Sum of Pre Perturbation Adjustments",{"$f":"SUM(CI15:CI20)","v":286.27358245849609},"MW",null,null,null,null,null,null,null,null,null,null,null,"Sum of Pre Perturbation Adjustments",{"$f":"SUM(CW15:CW20)","v":286.27358245849609},"MW",null,null,null,null,null,null,null,null,null,null,null,"Sum of Pre Perturbation Adjustments",{"$f":"SUM(DK15:DK20)","v":286.27358245849609},"MW"]
[null,null,null,null,null,null,null,null,null,null,{"$f":"G3-G2","v":"00:05:40"},"Event Duration (h:mm:ss)"]
[null,null,null,null,null,null,null,null,null,null,{"$f":"IF(K18-K20<0,\"Yes\",\"No\")","v":"No"},"Target MW Average minus MW @ T(-4) less than zero",null,null,null,null,null,null,null,null,null,null,"B Value Average Resource Loss",{"$f":"AVERAGE(R89:X105)","v":633},null,null,null,null,null,null,null,null,null,null,null,null,null,null,null,null,null,null,null,null,null,null,null,null,null,null,null,null,null,null,null,null,null,"Post JOU Dynamic Schedules MW",{"$f":"AVERAGE($AR$85:$AR$91)","v":335},null,null,null,"Pre-Perturbation BA Load",{"$f":"AVERAGE($AY$71:$AY$78)","v":7559.9775},"MW",null,null,null,null,null,null,"Post JOU Dynamic Schedules MW",{"$f":"AVERAGE($AR$88:$AR$94)","v":335},null,null,null,"Pre-Perturbation BA Load",{"$f":"AVERAGE($AY$71:$AY$78)","v":7559.9775},"MW",null,null,null,null,null,null,"Post JOU Dynamic Schedules MW",{"$f":"AVERAGE($AR$89:$AR$99)","v":335},"MW",null,null,"Pre-Perturbation BA Load",{"$f":"AVERAGE($AY$71:$AY$78)","v":7559.9775},"MW",null,null,null,null,null,null,"Post JOU Dynamic Schedules MW",{"$f":"AVERAGE($AR$88:$AR$105)","v":335},"MW",null,null,"Pre-Perturbation BA Load",{"$f":"AVERAGE($AY$71:$AY$78)","v":7559.9775},"MW",null,null,null,null,null,null,"Post JOU Dynamic Schedules MW",{"$f":"AVERAGE($AR$89:$AR$105)","v":335},"MW",null,null,"Pre-Perturbation BA Load",{"$f":"AVERAGE($AY$71:$AY$78)","v":7559.9775},"MW"]
[null,null,null,null,null,null,null,null,null,null,{"$f":"IF(K21>0,K18-K20,K18-(K20+K21))","v":136.0731991363964},"Interchange Target Relative Average Change - MW (Low Frequency Event)",null,null,null,null,null,null,null,null,null,null,"B Value Average LaaR Loss",{"$f":"AVERAGE(Y89:Y105)","v":0},null,null,null,null,null,null,null,null,null,null,null,null,null,null,null,null,null,null,null,null,null,null,null,null,null,null,null,null,null,null,null,null,null,"Post Non-Conforming Load MW",{"$f":"AVERAGE($AS$85:$AS$91)","v":-206.4591064453125},null,null,null,"Post-Perturbation BA Load",{"$f":"AVERAGE($AY$85:$AY$91)","v":7561.71},"MW",null,null,null,null,null,null,"Post Non-Conforming Load MW",{"$f":"AVERAGE($AS$88:$AS$94)","v":-208.51493617466517},null,null,null,"Post-Perturbation BA Load",{"$f":"AVERAGE($AY$88:$AY$94)","v":7562.0871428571436},"MW",null,null,null,null,null,null,"Post Non-Conforming Load MW",{"$f":"AVERAGE($AS$89:$AS$99)","v":-209.94778719815341},"MW",null,null,"Post-Perturbation BA Load",{"$f":"AVERAGE($AY$89:$AY$99)","v":7562.49},"MW",null,null,null,null,null,null,"Post Non-Conforming Load MW",{"$f":"AVERAGE($AS$88:$AS$105)","v":-210.36175960964627},"MW",null,null,"Post-Perturbation BA Load",{"$f":"AVERAGE($AY$88:$AY$105)","v":7562.8283333333338},"MW",null,null,null,null,null,null,"Post Non-Conforming Load MW",{"$f":"AVERAGE($AS$89:$AS$105)","v":-210.59132744284238},"MW",null,null,"Post-Perturbation BA Load",{"$f":"AVERAGE($AY$89:$AY$105)","v":7562.8941176470598},"MW"]
[null,null,null,null,null,null,null,null,null,null,{"$f":"IF(K21>0,K17-K20,K17-(K20+K21))","v":118.06006716008778},"Interchange Actual Relative Average Change - MW (Low Frequency Event)",null,null,null,null,null,null,null,null,null,null,"B Value Average Net Loss",{"$f":"X23-X24","v":633},null,null,null,null,null,null,null,null,null,null,null,null,null,null,null,null,null,null,null,null,null,null,null,null,null,null,null,null,null,null,null,null,null,"Post Pumped Hydro MW",{"$f":"AVERAGE($AT$85:$AT$91)","v":1},null,null,null,"Pre to Post Perturbation BA Load Change",{"$f":"BL24-BL23","v":1.7325000000000728},"MW",null,null,null,null,null,null,"Post Pumped Hydro MW",{"$f":"AVERAGE($AT$88:$AT$94)","v":1},null,null,null,"Pre to Post Perturbation BA Load Change",{"$f":"BZ24-BZ23","v":2.1096428571436263},"MW",null,null,null,null,null,null,"Post Pumped Hydro MW",{"$f":"AVERAGE($AT$89:$AT$99)","v":1.2727272727272727},"MW",null,null,"Pre to Post Perturbation BA Load Change",{"$f":"CN24-CN23","v":2.5124999999998181},"MW",null,null,null,null,null,null,"Post Pumped Hydro MW",{"$f":"AVERAGE($AT$88:$AT$105)","v":2.1111111111111112},"MW",null,null,"Pre to Post Perturbation BA Load Change",{"$f":"DB24-DB23","v":2.8508333333338669},"MW",null,null,null,null,null,null,"Post Pumped Hydro MW",{"$f":"AVERAGE($AT$89:$AT$105)","v":2.1764705882352939},"MW",null,null,"Pre to Post Perturbation BA Load Change",{"$f":"DP24-DP23","v":2.9166176470598657},"MW"]
[null,null,null,null,null,null,null,null,null,null,{"$f":"IF(K17-K20<0,\"Yes\",\"No\")","v":"No"},"Interchange Actual Average minus MW @ T(-4) less than zero",null,null,null,null,null,null,null,null,null,null,null,null,null,null,null,null,null,null,null,null,null,null,null,null,null,null,null,null,null,null,null,null,null,null,null,null,null,null,null,null,null,null,null,null,null,"Post Ramping Units MW",{"$f":"AVERAGE($AU$85:$AU$91)","v":93.5},null,null,null,"Load Dampening Frequency Response",{"$f":"BL25/(BG6*-10)","v":1.0715740872757373},"MW/0.1 Hz",null,null,null,null,null,null,"Post Ramping Units MW",{"$f":"AVERAGE($AU$88:$AU$94)","v":94.071428571428569},null,null,null,"Load Dampening Frequency Response",{"$f":"BZ25/(BU6*-10)","v":1.3355245364649297},"MW/0.1 Hz",null,null,null,null,null,null,"Post Ramping Units MW",{"$f":"AVERAGE($AU$89:$AU$99)","v":94.681818181818187},"MW",null,null,"Load Dampening Frequency Response",{"$f":"CN25/(CI6*-10)","v":1.6482871134517969},"MW/0.1 Hz",null,null,null,null,null,null,"Post Ramping Units MW",{"$f":"AVERAGE($AU$88:$AU$105)","v":95.194444444444443},"MW",null,null,"Load Dampening Frequency Response",{"$f":"DB25/(CW6*-10)","v":1.8548717370294543},"MW/0.1 Hz",null,null,null,null,null,null,"Post Ramping Units MW",{"$f":"AVERAGE($AU$89:$AU$105)","v":95.294117647058826},"MW",null,null,"Load Dampening Frequency Response",{"$f":"DP25/(DK6*-10)","v":1.906837100843586},"MW/0.1 Hz"]
[null,null,null,null,null,null,null,null,null,null,{"$f":"IF(K17-K20>0,\"Yes\",\"No\")","v":"Yes"},"Interchange Average MW minus MW @ T(-4) greater than zero",null,null,null,null,null,null,null,null,null,null,null,null,null,"Interconnection Bias Total",null,null,null,null,null,null,null,null,null,null,null,null,null,null,null,null,null,null,null,null,null,null,null,null,null,null,null,null,null,null,null,"Post Transferred Frequency Response MW",{"$f":"AVERAGE($AV$85:$AV$91)*-10*(BG5-$L$2)","v":12.042781284877435},null,null,null,"Load Dampening % of Total BA Frequency Response",{"$f":"BL25/BG9*-1","v":-1.575546009977781E-2},null,null,null,null,null,null,null,"Post Transferred Frequency Response MW",{"$f":"AVERAGE($AV$88:$AV$94)*-10*(BU5-$L$2)","v":11.671338762555905},null,null,null,"Load Dampening % of Total BA Frequency Response",{"$f":"BZ25/BU9*-1","v":-1.6843948435330165E-2},null,null,null,null,null,null,null,"Post Transferred Frequency Response MW",{"$f":"AVERAGE($AV$89:$AV$99)*-10*(CI5-$L$2)","v":11.118073896928138},"MW",null,null,"Load Dampening % of Total BA Frequency Response",{"$f":"CN25/CI9*-1","v":-1.9073945676173602E-2},null,null,null,null,null,null,null,"Post Transferred Frequency Response MW",{"$f":"AVERAGE($AV$88:$AV$105)*-10*(CW5-$L$2)","v":11.244413587782276},"MW",null,null,"Load Dampening % of Total BA Frequency Response",{"$f":"DB25/CW9*-1","v":-2.1094348492221318E-2},null,null,null,null,null,null,null,"Post Transferred Frequency Response MW",{"$f":"AVERAGE($AV$89:$AV$105)*-10*(DK5-$L$2)","v":11.170555563533924},"MW",null,null,"Load Dampening % of Total BA Frequency Response",{"$f":"DP25/DK9*-1","v":-2.1413764514721375E-2}]
[null,null,null,null,null,null,null,null,null,null,{"$f":"IF(K18-K20>0,\"Yes\",\"No\")","v":"Yes"},"Interchange Target MW Average minus MW @ T(-4) greater than zero",null,null,null,null,null,null,null,null,null,null,null,null,null,"EI","ERCOT","WECC",null,null,null,null,null,null,null,null,null,null,null,null,null,null,null,null,null,null,null,null,null,null,null,null,null,null,null,null,null,"Post Contingent BA Lost Generation MW",{"$f":"AVERAGE($AW$85:$AW$91)","v":0},null,null,null,null,null,null,null,null,null,null,null,null,"Post Contingent BA Lost Generation MW",{"$f":"AVERAGE($AW$88:$AW$94)","v":0},null,null,null,null,null,null,null,null,null,null,null,null,"Post Contingent BA Lost Generation MW",{"$f":"AVERAGE($AW$89:$AW$99)","v":0},"MW",null,null,null,null,null,null,null,null,null,null,null,"Post Contingent BA Lost Generation MW",{"$f":"AVERAGE($AW$88:$AW$105)","v":0},"MW",null,null,null,null,null,null,null,null,null,null,null,"Post Contingent BA Lost Generation MW",{"$f":"AVERAGE($AW$89:$AW$105)","v":0},"MW"]
[null,null,null,null,null,null,null,null,null,null,{"$f":"IF(K21>0,K18-(K20+K21),K18-K20)","v":37.41174307108804},"Interchange Target Relative Average Change - MW (High Frequency Event)",null,null,null,null,null,null,null,null,null,null,"Interconnection Bias Setting",-660,null,-6349,-660,-2024,null,null,null,null,null,null,null,null,null,null,null,null,null,null,null,null,null,null,null,null,null,null,null,null,null,null,null,null,null,"Sum of Post Perturbation Adjustments",{"$f":"SUM(BG23:BG28)","v":235.08367483956494},null,null,null,null,null,null,null,null,null,null,null,null,"Sum of Post Perturbation Adjustments",{"$f":"SUM(BU23:BU28)","v":233.22783115931932},null,null,null,null,null,null,null,null,null,null,null,null,"Sum of Post Perturbation Adjustments",{"$f":"SUM(CI23:CI28)","v":232.1248321533202},"MW",null,null,null,null,null,null,null,null,null,null,null,"Sum of Post Perturbation Adjustments",{"$f":"SUM(CW23:CW28)","v":233.18820953369158},"MW",null,null,null,null,null,null,null,null,null,null,null,"Sum of Post Perturbation Adjustments",{"$f":"SUM(DK23:DK28)","v":233.04981635598566},"MW"]
[null,null,null,null,null,null,null,null,null,null,{"$f":"IF(K21>0,K17-(K20+K21),K17-K20)","v":19.398611094779426},"Interchange Actual Relative Average Change - MW (High Frequency Event)",null,null,null,null,null,null,null,null,null,null,"IPFR as a % of Bias Setting",{"$f":"X28/X29","v":0},null,null,null,null,null,null,null,null,null,null,null,null,null,null,null,null,null,null,null,null,null,null,null,null,null,null,null,null,null,null,null,null,null,"Net Total Adjustments MW",{"$f":"BG29-BG21","v":-51.189907618931159},null,null,null,null,null,null,null,null,null,null,null,null,"Net Total Adjustments MW",{"$f":"BU29-BU21","v":-53.045751299176771},null,null,null,null,null,null,null,null,null,null,null,null,"Net Total Adjustments MW",{"$f":"CI29-CI21","v":-54.148750305175895},"MW",null,null,null,null,null,null,null,null,null,null,null,"Net Total Adjustments MW",{"$f":"CW29-CW21","v":-53.085372924804517},"MW",null,null,null,null,null,null,null,null,null,null,null,"Net Total Adjustments MW",{"$f":"DK29-DK21","v":-53.223766102510439},"MW"]
[null,null,null,null,null,null,null,null,null,null,{"$f":"IF(K21>=0,\"Up\",\"Down\")","v":"Up"},"Ramp Direction during frequency recovery period",null,null,null,null,null,null,null,null,null,null,"Interconnection Total Energy",37446,{"$f":"X31/X32","v":0.60068336033622616}]
[null,null,null,null,null,null,null,null,null,null,null,null,null,null,null,null,null,null,null,null,null,null,"Interconnection Peak Energy",62339,null,null,null,null,"Frequency and Interconnection Frequency Response @ different Average periods of B",null,null,null,null,null,null,null,null,null,null,null,"Frequency, Actual Interchange, Adjustment Data, Bias and Load used in the evaluation",null,null,null,null,null,null,null,null,null,null,null,null,"12 to 24 second Average Period Evaluation",null,null,null,null,null,null,null,null,null,null,null,null,null,"18 to 30 second Average Period Evaluation",null,null,null,null,null,null,null,null,null,null,null,null,null,"20 to 40 second Average Period Evaluation",null,null,null,null,null,null,null,null,null,null,null,null,null,"18 to 52 second Average Period Evaluation",null,null,null,null,null,null,null,null,null,null,null,null,null,"20 to 52 second Average Period Evaluation"]
[null,null,null,null,null,"Initial Response P.U. Performance ",{"$f":"IF(G20=\"Yes\",G9/G19,\"No Evaluation\")","v":1.2409908584642586},"P.U.",null,null,{"$f":"IF(G33=\"No Evaluation\",\"No Evaluation\",IF(K16=\"Low Hz\",IF(K23=\"Yes\",IF(K17>K18,1,IF(K17>K19,0.75,0)),IF(K27=\"Yes\",IF((K25/K24)>2,2,K25/K24),IF(K17>K19,0.75,0))),IF(K23=\"Yes\",IF(K27=\"Yes\",IF(K17<K19,0.75,0),IF((K17/K18)>2,2,K17/K18)),IF(K17<K18,1,IF(K17<K19,0.75,0)))))","v":0.86762174997993036},"P.U.   Sustianed Response P.U. Performance",null,null,null,null,null,null,null,null,null,null,null,null,null,null,null,null,null,null,null,null,null,null,null,null,null,null,null,null,null,null,null,null,null,null,null,null,null,null,null,null,null,null,null,null,null,"Initial P.U. Performance for FRO",{"$f":"BG9/BG13","v":0.85016089699188035},"P.U.",null,null,null,null,null,null,null,null,null,null,null,"Initial P.U. Performance for FRO",{"$f":"BU9/BU13","v":0.99110115243501706},"P.U.",null,null,null,null,null,null,null,null,null,null,null,"Initial P.U. Performance for FRO",{"$f":"CI9/CI13","v":1.0801954282529205},"P.U.",null,null,null,null,null,null,null,null,null,null,null,"Initial P.U. Performance for FRO",{"$f":"CW9/CW13","v":1.0991520653704177},"P.U.",null,null,null,null,null,null,null,null,null,null,null,"Initial P.U. Performance for FRO",{"$f":"DK9/DK13","v":1.1130907759893627},"P.U."]
[null,null,null,null,null,null,null,null,null,null,null,null,null,null,null,null,null,null,null,null,null,null,null,null,null,null,null,null,null,null,null,null,null,null,null,null,null,null,null,null,null,null,null,null,null,null,null,null,null,null,null,null,null,null,null,null,null,"Initial P.U. Performance Adjusted for FRO",{"$f":"BG9/BG14","v":1.4070163197941288},"P.U.",null,null,null,null,null,null,null,null,null,null,null,"Initial P.U. Performance Adjusted for FRO",{"$f":"BU9/BU14","v":1.7080954040283303},"P.U.",null,null,null,null,null,null,null,null,null,null,null,"Initial P.U. Performance Adjusted for FRO",{"$f":"CI9/CI14","v":1.9429485676731386},"P.U.",null,null,null,null,null,null,null,null,null,null,null,"Initial P.U. Performance Adjusted for FRO",{"$f":"CW9/CW14","v":1.9342572322734664},"P.U.",null,null,null,null,null,null,null,null,null,null,null,"Initial P.U. Performance Adjusted for FRO",{"$f":"DK9/DK14","v":1.9699340639847982},"P.U."]
[null,null,null,null,null,null,null,null,null,null,"Initial",null,null,null,null,null,null,"Generator","Generator","Generator","Generator","Generator","Generator","Generator","LaaR","Total","Interconnection","FR B",null,null,null,null,null,null,null,null,null,null,null,null,null,null,null,"JOU","Non-",null,null,"Transferred","Contingent",null,null,null,null,null,null,null,"JOU","Non-",null,null,"Transferred","Contingent",null,null,null,"Expected",null,null,null,null,"JOU","Non-",null,null,"Transferred","Contingent",null,null,null,"Expected",null,null,null,null,"JOU","Non-",null,null,"Transferred","Contingent",null,null,null,"Expected",null,null,null,null,"JOU","Non-",null,null,"Transferred","Contingent",null,null,null,"Expected",null,null,null,null,"JOU","Non-",null,null,"Transferred","Contingent",null,null,null,"Expected"]
[null,null,null,null,null,null,null,"FRO",null,null,"Measure",null,null,"Average","Average",null,"Average","Trip","Trip","Trip","Trip","Trip","Trip","Trip","Trip","Generation","Primary","20 to 52 sec",null,"Value B","FR B","Value B","FR B","Value B","FR B","Value B","FR B","Value B","FR B",null,null,null,"Net","Dynamic","Conforming","Pumped","Ramping","Frequency","BA","BA","BA","Expected",null,null,null,"Net","Dynamic","Conforming","Pumped","Ramping","Frequency","BA","BA","BA",null,"Net",null,null,null,"Net","Dynamic","Conforming","Pumped","Ramping","Frequency","BA","BA","BA",null,"Net",null,null,null,"Net","Dynamic","Conforming","Pumped","Ramping","Frequency","BA","BA","BA",null,"Net",null,null,null,"Net","Dynamic","Conforming","Pumped","Ramping","Frequency","BA","BA","BA",null,"Net",null,null,null,"Net","Dynamic","Conforming","Pumped","Ramping","Frequency","BA","BA","BA",null,"Net"]
[null,null,null,null,null,null,null,"(EPFR)","(TC)",null,"Final",null,null,"Output","Target",null,"Ramp","MW","MW","MW","MW","MW","MW","MW","MW","Trip","Frequency","Average",null,"12 to 24 sec","12 to 24 sec","18 to 30 sec","18 to 30 sec","20 to 40 sec","20 to 40 sec","18 to 52 sec","18 to 52 sec","20 to 52 sec","20 to 52 sec",null,null,null,"Actual","Schedules","Load","Hydro","Units","Response","Lost Generation","Bias","Load","Primary",null,null,null,"Actual","Schedules","Load","Hydro","Units","Response","Lost Generation","Bias","Load",null,"Actual",null,null,null,"Actual","Schedules","Load","Hydro","Units","Response","Lost Generation","Bias","Load",null,"Actual",null,null,null,"Actual","Schedules","Load","Hydro","Units","Response","Lost Generation","Bias","Load",null,"Actual",null,null,null,"Actual","Schedules","Load","Hydro","Units","Response","Lost Generation","Bias","Load",null,"Actual",null,null,null,"Actual","Schedules","Load","Hydro","Units","Response","Lost Generation","Bias","Load",null,"Actual"]
[null,null,null,null,"Value B",null,null,"Expected","Delayed",null,"Expected",null,"Recovery","During","During","Recovery","During",null,null,null,null,null,null,null,null,"MW","Response","MW",null,"Average","Average","Average","Average","Average","Average","Average","Average","Average","Average",null,null,"Frequency","Interchange","Imp(-) Exp (+)","Load (-)","Load (-) Gen (+)","Gen (+)","Rec (-) Del (+)","Load (-) Gen (+)","Setting",null,"Freq Response",null,null,"Frequency","Interchange","Imp(-) Exp (+)","Load (-)","Load (-) Gen (+)","Gen (+)","Rec (-) Del (+)","Load (-) Gen (+)","Setting",null,"EPFR","Interchange",null,null,"Frequency","Interchange","Imp(-) Exp (+)","Load (-)","Load (-) Gen (+)","Gen (+)","Rec (-) Del (+)","Load (-) Gen (+)","Setting",null,"EPFR","Interchange",null,null,"Frequency","Interchange","Imp(-) Exp (+)","Load (-)","Load (-) Gen (+)","Gen (+)","Rec (-) Del (+)","Load (-) Gen (+)","Setting",null,"EPFR","Interchange",null,null,"Frequency","Interchange","Imp(-) Exp (+)","Load (-)","Load (-) Gen (+)","Gen (+)","Rec (-) Del (+)","Load (-) Gen (+)","Setting",null,"EPFR","Interchange",null,null,"Frequency","Interchange","Imp(-) Exp (+)","Load (-)","Load (-) Gen (+)","Gen (+)","Rec (-) Del (+)","Load (-) Gen (+)","Setting",null,"EPFR","Interchange"]
[null,null,null,null,"20 to 52 sec",null,null,"Primary","Delivery",null,"Primary","Average","Period","Recovery","Recovery","Period","Recovery",null,null,null,null,null,null,null,null,null,null,null,null,"Frequency","MW","Frequency","MW","Frequency","MW","Frequency","MW","Frequency","MW",null,"T","Hz","MW","MW","MW","MW","MW","MW/0.1 Hz","MW","MW/0.1 Hz","MW","MW",null,"T","Hz","MW","MW","MW","MW","MW","MW/0.1 Hz","MW","MW/0.1 Hz","MW","MW","MW",null,"T","Hz","MW","MW","MW","MW","MW","MW/0.1 Hz","MW","MW/0.1 Hz","MW","MW","MW",null,"T","Hz","MW","MW","MW","MW","MW","MW/0.1 Hz","MW","MW/0.1 Hz","MW","MW","MW",null,"T","Hz","MW","MW","MW","MW","MW","MW/0.1 Hz","MW","MW/0.1 Hz","MW","MW","MW",null,"T","Hz","MW","MW","MW","MW","MW","MW/0.1 Hz","MW","MW/0.1 Hz","MW","MW","MW"]
[null,null,"Frequency","Interchange","Average","Average",null,"Frequency","Frequency",null,"Frequency","Ramp","Target","Period","Period","Ramp","Period"]
[null,"T","Hz","MW","Frequency","MW",null,"Response","Response",null,"Response","MW/scan","MW","MW","MW","MW","MW",{"$f":"'Entry Data'!C15","v":633},null,null,null,null,null,null,null,null,"MW/0.1 Hz"]
[null,null,null,null,null,null,null,null,null,null,null,null,null,null,null,null,null,null,null,null,null,null,null,null,null,{"$f":"SUM(R42:Y42)","v":0}]
["T-72 sec",{"$f":"B44-TIME(0,0,$B$1)","v":40098.10148148155},{"$f":"LOOKUP($B43,Data!$A$6:$A$1806,Data!$B$6:$B$1806)","v":60.019001007080078},{"$f":"LOOKUP(B43,Data!$A$6:$A$1806,Data!C$6:C$1806)","v":3671.193115234375},null,null,null,{"$f":"(IF((C43-L$2)>0,((C43-L$2-L$5)/((L$4*L$2)-L$5)*L$3*-1),((C43-L$2+L$5)/((L$4*L$2)-L$5)*L$3*-1)))","v":-15.2008056640625},{"$f":"L$13*H43+(1-L$13)*I42","v":-5.320281982421875},null,null,null,null,null,null,null,null,null,null,null,null,null,null,null,null,{"$f":"SUM(R43:Y43)","v":0},null,null,{"$f":"A43","v":"T-72 sec"},null,null,null,null,null,null,null,null,null,null,"T-72 sec",{"$f":"AO44-TIME(0,0,$B$1)","v":40098.10148148155},{"$f":"LOOKUP($AO43,Data!$A$6:$A$1806,Data!$B$6:$B$1806)","v":60.019001007080078},{"$f":"LOOKUP($AO43,Data!$A$6:$A$1806,Data!$C$6:$C$1806)","v":3671.193115234375},{"$f":"LOOKUP($AO43,Data!$A$6:$A$1806,Data!$D$6:$D$1806)","v":350},{"$f":"IF($AS$1=\"+\",LOOKUP($AO43,Data!$A$6:$A$1806,Data!$E$6:$E$1806)*-1,LOOKUP($AO43,Data!$A$6:$A$1806,Data!$E$6:$E$1806))","v":-329.98822021484375},{"$f":"LOOKUP($AO43,Data!$A$6:$A$1806,Data!$F$6:$F$1806)","v":0},{"$f":"LOOKUP($AO43,Data!$A$6:$A$1806,Data!$G$6:$G$1806)","v":84.5},{"$f":"LOOKUP($AO43,Data!$A$6:$A$1806,Data!$H$6:$H$1806)","v":10},{"$f":"LOOKUP($AO43,Data!$A$6:$A$1806,Data!$I$6:$I$1806)","v":15},{"$f":"LOOKUP($AO43,Data!$A$6:$A$1806,Data!$J$6:$J$1806)","v":-103},{"$f":"LOOKUP($AO43,Data!$A$6:$A$1806,Data!$K$6:$K$1806)","v":7555.77},{"$f":"(IF((AP43-$L$2)>0,((AP43-$L$2-$L$5)/(($L$4*$L$2)-$L$5)*$L$3*-1),((AP43-$L$2+$L$5)/(($L$4*$L$2)-$L$5)*$L$3*-1)))","v":-15.2008056640625},"T-72 sec",{"$f":"BB44-TIME(0,0,$B$1)","v":40098.10148148155},null,null,null,null,null,null,null,null,null,null,null,null,"T-72 sec",{"$f":"BP44-TIME(0,0,$B$1)","v":40098.10148148155},null,null,null,null,null,null,null,null,null,null,null,null,"T-72 sec",{"$f":"CD44-TIME(0,0,$B$1)","v":40098.10148148155},null,null,null,null,null,null,null,null,null,null,null,null,"T-72 sec",{"$f":"CR44-TIME(0,0,$B$1)","v":40098.10148148155},null,null,null,null,null,null,null,null,null,null,null,null,"T-72 sec",{"$f":"DF44-TIME(0,0,$B$1)","v":40098.10148148155}]
["T-70 sec",40098.101504629696,{"$f":"LOOKUP(B44,Data!$A$6:$A$1806,Data!B$6:B$1806)","v":60.0260009765625},{"$f":"LOOKUP(B44,Data!$A$6:$A$1806,Data!C$6:C$1806)","v":3671.18896484375},null,null,null,{"$f":"(IF((C44-L$2)>0,((C44-L$2-L$5)/((L$4*L$2)-L$5)*L$3*-1),((C44-L$2+L$5)/((L$4*L$2)-L$5)*L$3*-1)))","v":-20.80078125},-10.738456726074219,null,null,null,null,null,null,null,null,null,null,null,null,null,null,null,null,0,null,null,{"$f":"A44","v":"T-70 sec"},null,null,null,null,null,null,null,null,null,null,"T-70 sec",40098.101504629696,{"$f":"LOOKUP($AO44,Data!$A$6:$A$1806,Data!$B$6:$B$1806)","v":60.0260009765625},{"$f":"LOOKUP($AO44,Data!$A$6:$A$1806,Data!$C$6:$C$1806)","v":3671.18896484375},{"$f":"LOOKUP($AO44,Data!$A$6:$A$1806,Data!$D$6:$D$1806)","v":350},{"$f":"IF($AS$1=\"+\",LOOKUP($AO44,Data!$A$6:$A$1806,Data!$E$6:$E$1806)*-1,LOOKUP($AO44,Data!$A$6:$A$1806,Data!$E$6:$E$1806))","v":-329.98822021484375},{"$f":"LOOKUP($AO44,Data!$A$6:$A$1806,Data!$F$6:$F$1806)","v":0},{"$f":"LOOKUP($AO44,Data!$A$6:$A$1806,Data!$G$6:$G$1806)","v":85},{"$f":"LOOKUP($AO44,Data!$A$6:$A$1806,Data!$H$6:$H$1806)","v":10},{"$f":"LOOKUP($AO44,Data!$A$6:$A$1806,Data!$I$6:$I$1806)","v":15},{"$f":"LOOKUP($AO44,Data!$A$6:$A$1806,Data!$J$6:$J$1806)","v":-103},{"$f":"LOOKUP($AO44,Data!$A$6:$A$1806,Data!$K$6:$K$1806)","v":7556.1},{"$f":"(IF((AP44-$L$2)>0,((AP44-$L$2-$L$5)/(($L$4*$L$2)-$L$5)*$L$3*-1),((AP44-$L$2+$L$5)/(($L$4*$L$2)-$L$5)*$L$3*-1)))","v":-20.80078125},"T-70 sec",40098.101504629696,null,null,null,null,null,null,null,null,null,null,null,null,"T-70 sec",40098.101504629696,null,null,null,null,null,null,null,null,null,null,null,null,"T-70 sec",40098.101504629696,null,null,null,null,null,null,null,null,null,null,null,null,"T-70 sec",40098.101504629696,null,null,null,null,null,null,null,null,null,null,null,null,"T-70 sec",40098.101504629696]
["T-68 sec",40098.101527777842,{"$f":"LOOKUP(B45,Data!$A$6:$A$1806,Data!B$6:B$1806)","v":60.0260009765625},{"$f":"LOOKUP(B45,Data!$A$6:$A$1806,Data!C$6:C$1806)","v":3671.18896484375},null,null,null,-20.80078125,-14.260270309448241,null,null,null,null,null,null,null,null,null,null,null,null,null,null,null,null,0,null,null,"T-68 sec",null,null,null,null,null,null,null,null,null,null,"T-68 sec",40098.101527777842,{"$f":"LOOKUP($AO45,Data!$A$6:$A$1806,Data!$B$6:$B$1806)","v":60.0260009765625},{"$f":"LOOKUP($AO45,Data!$A$6:$A$1806,Data!$C$6:$C$1806)","v":3671.18896484375},{"$f":"LOOKUP($AO45,Data!$A$6:$A$1806,Data!$D$6:$D$1806)","v":350},{"$f":"IF($AS$1=\"+\",LOOKUP($AO45,Data!$A$6:$A$1806,Data!$E$6:$E$1806)*-1,LOOKUP($AO45,Data!$A$6:$A$1806,Data!$E$6:$E$1806))","v":-329.98822021484375},{"$f":"LOOKUP($AO45,Data!$A$6:$A$1806,Data!$F$6:$F$1806)","v":0},{"$f":"LOOKUP($AO45,Data!$A$6:$A$1806,Data!$G$6:$G$1806)","v":85},{"$f":"LOOKUP($AO45,Data!$A$6:$A$1806,Data!$H$6:$H$1806)","v":10},{"$f":"LOOKUP($AO45,Data!$A$6:$A$1806,Data!$I$6:$I$1806)","v":15},{"$f":"LOOKUP($AO45,Data!$A$6:$A$1806,Data!$J$6:$J$1806)","v":-103},{"$f":"LOOKUP($AO45,Data!$A$6:$A$1806,Data!$K$6:$K$1806)","v":7556.1},-20.80078125,"T-68 sec",40098.101527777842,null,null,null,null,null,null,null,null,null,null,null,null,"T-68 sec",40098.101527777842,null,null,null,null,null,null,null,null,null,null,null,null,"T-68 sec",40098.101527777842,null,null,null,null,null,null,null,null,null,null,null,null,"T-68 sec",40098.101527777842,null,null,null,null,null,null,null,null,null,null,null,null,"T-68 sec",40098.101527777842]
["T-66 sec",{"$f":"B47-TIME(0,0,$B$1)","v":40098.101550925989},{"$f":"LOOKUP(B46,Data!$A$6:$A$1806,Data!B$6:B$1806)","v":60.0260009765625},{"$f":"LOOKUP(B46,Data!$A$6:$A$1806,Data!C$6:C$1806)","v":3671.18896484375},null,null,null,-20.80078125,-16.549449138641357,null,null,null,null,null,null,null,null,null,null,null,null,null,null,null,null,0,null,null,"T-66 sec",null,null,null,null,null,null,null,null,null,null,"T-66 sec",40098.101550925989,{"$f":"LOOKUP($AO46,Data!$A$6:$A$1806,Data!$B$6:$B$1806)","v":60.0260009765625},{"$f":"LOOKUP($AO46,Data!$A$6:$A$1806,Data!$C$6:$C$1806)","v":3671.18896484375},{"$f":"LOOKUP($AO46,Data!$A$6:$A$1806,Data!$D$6:$D$1806)","v":350},{"$f":"IF($AS$1=\"+\",LOOKUP($AO46,Data!$A$6:$A$1806,Data!$E$6:$E$1806)*-1,LOOKUP($AO46,Data!$A$6:$A$1806,Data!$E$6:$E$1806))","v":-329.98822021484375},{"$f":"LOOKUP($AO46,Data!$A$6:$A$1806,Data!$F$6:$F$1806)","v":0},{"$f":"LOOKUP($AO46,Data!$A$6:$A$1806,Data!$G$6:$G$1806)","v":85},{"$f":"LOOKUP($AO46,Data!$A$6:$A$1806,Data!$H$6:$H$1806)","v":10},{"$f":"LOOKUP($AO46,Data!$A$6:$A$1806,Data!$I$6:$I$1806)","v":15},{"$f":"LOOKUP($AO46,Data!$A$6:$A$1806,Data!$J$6:$J$1806)","v":-103},{"$f":"LOOKUP($AO46,Data!$A$6:$A$1806,Data!$K$6:$K$1806)","v":7556.1},-20.80078125,"T-66 sec",40098.101550925989,null,null,null,null,null,null,null,null,null,null,null,null,"T-66 sec",40098.101550925989,null,null,null,null,null,null,null,null,null,null,null,null,"T-66 sec",40098.101550925989,null,null,null,null,null,null,null,null,null,null,null,null,"T-66 sec",40098.101550925989,null,null,null,null,null,null,null,null,null,null,null,null,"T-66 sec",40098.101550925989]
["T-64 sec",40098.101574074135,{"$f":"LOOKUP(B47,Data!$A$6:$A$1806,Data!B$6:B$1806)","v":60.019001007080078},{"$f":"LOOKUP(B47,Data!$A$6:$A$1806,Data!C$6:C$1806)","v":3664.4951171875},null,null,null,-15.2008056640625,-16.077423922538756,null,null,null,null,null,null,null,null,null,null,null,null,null,null,null,null,0,null,null,"T-64 sec",null,null,null,null,null,null,null,null,null,null,"T-64 sec",40098.101574074135,{"$f":"LOOKUP($AO47,Data!$A$6:$A$1806,Data!$B$6:$B$1806)","v":60.019001007080078},{"$f":"LOOKUP($AO47,Data!$A$6:$A$1806,Data!$C$6:$C$1806)","v":3664.4951171875},{"$f":"LOOKUP($AO47,Data!$A$6:$A$1806,Data!$D$6:$D$1806)","v":350},{"$f":"IF($AS$1=\"+\",LOOKUP($AO47,Data!$A$6:$A$1806,Data!$E$6:$E$1806)*-1,LOOKUP($AO47,Data!$A$6:$A$1806,Data!$E$6:$E$1806))","v":-329.98822021484375},{"$f":"LOOKUP($AO47,Data!$A$6:$A$1806,Data!$F$6:$F$1806)","v":0},{"$f":"LOOKUP($AO47,Data!$A$6:$A$1806,Data!$G$6:$G$1806)","v":85.5},{"$f":"LOOKUP($AO47,Data!$A$6:$A$1806,Data!$H$6:$H$1806)","v":10},{"$f":"LOOKUP($AO47,Data!$A$6:$A$1806,Data!$I$6:$I$1806)","v":15},{"$f":"LOOKUP($AO47,Data!$A$6:$A$1806,Data!$J$6:$J$1806)","v":-103},{"$f":"LOOKUP($AO47,Data!$A$6:$A$1806,Data!$K$6:$K$1806)","v":7556.43},-15.2008056640625,"T-64 sec",40098.101574074135,null,null,null,null,null,null,null,null,null,null,null,null,"T-64 sec",40098.101574074135,null,null,null,null,null,null,null,null,null,null,null,null,"T-64 sec",40098.101574074135,null,null,null,null,null,null,null,null,null,null,null,null,"T-64 sec",40098.101574074135,null,null,null,null,null,null,null,null,null,null,null,null,"T-64 sec",40098.101574074135]
["T-62 sec",40098.101597222281,{"$f":"LOOKUP(B48,Data!$A$6:$A$1806,Data!B$6:B$1806)","v":60.019001007080078},{"$f":"LOOKUP(B48,Data!$A$6:$A$1806,Data!C$6:C$1806)","v":3664.4951171875},null,null,null,-15.2008056640625,-15.770607532072066,null,null,null,null,null,null,null,null,null,null,null,null,null,null,null,null,0,null,null,"T-62 sec",null,null,null,null,null,null,null,null,null,null,"T-62 sec",40098.101597222281,{"$f":"LOOKUP($AO48,Data!$A$6:$A$1806,Data!$B$6:$B$1806)","v":60.019001007080078},{"$f":"LOOKUP($AO48,Data!$A$6:$A$1806,Data!$C$6:$C$1806)","v":3664.4951171875},{"$f":"LOOKUP($AO48,Data!$A$6:$A$1806,Data!$D$6:$D$1806)","v":350},{"$f":"IF($AS$1=\"+\",LOOKUP($AO48,Data!$A$6:$A$1806,Data!$E$6:$E$1806)*-1,LOOKUP($AO48,Data!$A$6:$A$1806,Data!$E$6:$E$1806))","v":-329.98822021484375},{"$f":"LOOKUP($AO48,Data!$A$6:$A$1806,Data!$F$6:$F$1806)","v":0},{"$f":"LOOKUP($AO48,Data!$A$6:$A$1806,Data!$G$6:$G$1806)","v":85.5},{"$f":"LOOKUP($AO48,Data!$A$6:$A$1806,Data!$H$6:$H$1806)","v":10},{"$f":"LOOKUP($AO48,Data!$A$6:$A$1806,Data!$I$6:$I$1806)","v":15},{"$f":"LOOKUP($AO48,Data!$A$6:$A$1806,Data!$J$6:$J$1806)","v":-103},{"$f":"LOOKUP($AO48,Data!$A$6:$A$1806,Data!$K$6:$K$1806)","v":7556.43},-15.2008056640625,"T-62 sec",40098.101597222281,null,null,null,null,null,null,null,null,null,null,null,null,"T-62 sec",40098.101597222281,null,null,null,null,null,null,null,null,null,null,null,null,"T-62 sec",40098.101597222281,null,null,null,null,null,null,null,null,null,null,null,null,"T-62 sec",40098.101597222281,null,null,null,null,null,null,null,null,null,null,null,null,"T-62 sec",40098.101597222281]
["T-60 sec",40098.101620370428,{"$f":"LOOKUP(B49,Data!$A$6:$A$1806,Data!B$6:B$1806)","v":60.020000457763672},{"$f":"LOOKUP(B49,Data!$A$6:$A$1806,Data!C$6:C$1806)","v":3666.82080078125},null,null,null,-16.0003662109375,-15.851023069674968,null,null,{"$f":"(D$78-D$49-I$78+I$49)/29","v":-0.15033345519247701},{"$f":"M50-L49-(I50-I49)","v":3666.8208007812541},null,null,null,null,null,null,null,null,null,null,null,null,0,null,null,"T-60 sec",null,null,null,null,null,null,null,null,null,null,"T-60 sec",40098.101620370428,{"$f":"LOOKUP($AO49,Data!$A$6:$A$1806,Data!$B$6:$B$1806)","v":60.020000457763672},{"$f":"LOOKUP($AO49,Data!$A$6:$A$1806,Data!$C$6:$C$1806)","v":3666.82080078125},{"$f":"LOOKUP($AO49,Data!$A$6:$A$1806,Data!$D$6:$D$1806)","v":350},{"$f":"IF($AS$1=\"+\",LOOKUP($AO49,Data!$A$6:$A$1806,Data!$E$6:$E$1806)*-1,LOOKUP($AO49,Data!$A$6:$A$1806,Data!$E$6:$E$1806))","v":-329.98822021484375},{"$f":"LOOKUP($AO49,Data!$A$6:$A$1806,Data!$F$6:$F$1806)","v":0},{"$f":"LOOKUP($AO49,Data!$A$6:$A$1806,Data!$G$6:$G$1806)","v":86},{"$f":"LOOKUP($AO49,Data!$A$6:$A$1806,Data!$H$6:$H$1806)","v":10},{"$f":"LOOKUP($AO49,Data!$A$6:$A$1806,Data!$I$6:$I$1806)","v":15},{"$f":"LOOKUP($AO49,Data!$A$6:$A$1806,Data!$J$6:$J$1806)","v":-103},{"$f":"LOOKUP($AO49,Data!$A$6:$A$1806,Data!$K$6:$K$1806)","v":7556.76},-16.0003662109375,"T-60 sec",40098.101620370428,null,null,null,null,null,null,null,null,null,null,null,null,"T-60 sec",40098.101620370428,null,null,null,null,null,null,null,null,null,null,null,null,"T-60 sec",40098.101620370428,null,null,null,null,null,null,null,null,null,null,null,null,"T-60 sec",40098.101620370428,null,null,null,null,null,null,null,null,null,null,null,null,"T-60 sec",40098.101620370428]
["T-58 sec",40098.101643518574,{"$f":"LOOKUP(B50,Data!$A$6:$A$1806,Data!B$6:B$1806)","v":60.020000457763672},{"$f":"LOOKUP(B50,Data!$A$6:$A$1806,Data!C$6:C$1806)","v":3666.82080078125},null,null,null,-16.0003662109375,-15.903293169116854,null,null,-0.15033345519247701,{"$f":"M51-L50-(I51-I50)","v":3666.6181972266195},null,null,null,null,null,null,null,null,null,null,null,null,0,null,null,"T-58 sec",null,null,null,null,null,null,null,null,null,null,"T-58 sec",40098.101643518574,{"$f":"LOOKUP($AO50,Data!$A$6:$A$1806,Data!$B$6:$B$1806)","v":60.020000457763672},{"$f":"LOOKUP($AO50,Data!$A$6:$A$1806,Data!$C$6:$C$1806)","v":3666.82080078125},{"$f":"LOOKUP($AO50,Data!$A$6:$A$1806,Data!$D$6:$D$1806)","v":350},{"$f":"IF($AS$1=\"+\",LOOKUP($AO50,Data!$A$6:$A$1806,Data!$E$6:$E$1806)*-1,LOOKUP($AO50,Data!$A$6:$A$1806,Data!$E$6:$E$1806))","v":-329.98822021484375},{"$f":"LOOKUP($AO50,Data!$A$6:$A$1806,Data!$F$6:$F$1806)","v":0},{"$f":"LOOKUP($AO50,Data!$A$6:$A$1806,Data!$G$6:$G$1806)","v":86},{"$f":"LOOKUP($AO50,Data!$A$6:$A$1806,Data!$H$6:$H$1806)","v":10},{"$f":"LOOKUP($AO50,Data!$A$6:$A$1806,Data!$I$6:$I$1806)","v":15},{"$f":"LOOKUP($AO50,Data!$A$6:$A$1806,Data!$J$6:$J$1806)","v":-103},{"$f":"LOOKUP($AO50,Data!$A$6:$A$1806,Data!$K$6:$K$1806)","v":7556.76},-16.0003662109375,"T-58 sec",40098.101643518574,null,null,null,null,null,null,null,null,null,null,null,null,"T-58 sec",40098.101643518574,null,null,null,null,null,null,null,null,null,null,null,null,"T-58 sec",40098.101643518574,null,null,null,null,null,null,null,null,null,null,null,null,"T-58 sec",40098.101643518574,null,null,null,null,null,null,null,null,null,null,null,null,"T-58 sec",40098.101643518574]
["T-56 sec",40098.10166666672,{"$f":"LOOKUP(B51,Data!$A$6:$A$1806,Data!B$6:B$1806)","v":60.020000457763672},{"$f":"LOOKUP(B51,Data!$A$6:$A$1806,Data!C$6:C$1806)","v":3666.82080078125},null,null,null,-16.0003662109375,-15.937268733754079,null,null,-0.15033345519247701,3666.4338882067896,null,null,null,null,null,null,null,null,null,null,null,null,0,null,null,"T-56 sec",null,null,null,null,null,null,null,null,null,null,"T-56 sec",40098.10166666672,{"$f":"LOOKUP($AO51,Data!$A$6:$A$1806,Data!$B$6:$B$1806)","v":60.020000457763672},{"$f":"LOOKUP($AO51,Data!$A$6:$A$1806,Data!$C$6:$C$1806)","v":3666.82080078125},{"$f":"LOOKUP($AO51,Data!$A$6:$A$1806,Data!$D$6:$D$1806)","v":350},{"$f":"IF($AS$1=\"+\",LOOKUP($AO51,Data!$A$6:$A$1806,Data!$E$6:$E$1806)*-1,LOOKUP($AO51,Data!$A$6:$A$1806,Data!$E$6:$E$1806))","v":-329.98822021484375},{"$f":"LOOKUP($AO51,Data!$A$6:$A$1806,Data!$F$6:$F$1806)","v":0},{"$f":"LOOKUP($AO51,Data!$A$6:$A$1806,Data!$G$6:$G$1806)","v":86},{"$f":"LOOKUP($AO51,Data!$A$6:$A$1806,Data!$H$6:$H$1806)","v":10},{"$f":"LOOKUP($AO51,Data!$A$6:$A$1806,Data!$I$6:$I$1806)","v":15},{"$f":"LOOKUP($AO51,Data!$A$6:$A$1806,Data!$J$6:$J$1806)","v":-103},{"$f":"LOOKUP($AO51,Data!$A$6:$A$1806,Data!$K$6:$K$1806)","v":7556.76},-16.0003662109375,"T-56 sec",40098.10166666672,null,null,null,null,null,null,null,null,null,null,null,null,"T-56 sec",40098.10166666672,null,null,null,null,null,null,null,null,null,null,null,null,"T-56 sec",40098.10166666672,null,null,null,null,null,null,null,null,null,null,null,null,"T-56 sec",40098.10166666672,null,null,null,null,null,null,null,null,null,null,null,null,"T-56 sec",40098.10166666672]
["T-54 sec",40098.101689814866,{"$f":"LOOKUP(B52,Data!$A$6:$A$1806,Data!B$6:B$1806)","v":60.020999908447266},{"$f":"LOOKUP(B52,Data!$A$6:$A$1806,Data!C$6:C$1806)","v":3670.266845703125},null,null,null,-16.7999267578125,-16.239199042174526,null,null,-0.15033345519247701,3665.9816244431763,null,null,null,null,null,null,null,null,null,null,null,null,0,null,null,"T-54 sec",null,null,null,null,null,null,null,null,null,null,"T-54 sec",40098.101689814866,{"$f":"LOOKUP($AO52,Data!$A$6:$A$1806,Data!$B$6:$B$1806)","v":60.020999908447266},{"$f":"LOOKUP($AO52,Data!$A$6:$A$1806,Data!$C$6:$C$1806)","v":3670.266845703125},{"$f":"LOOKUP($AO52,Data!$A$6:$A$1806,Data!$D$6:$D$1806)","v":350},{"$f":"IF($AS$1=\"+\",LOOKUP($AO52,Data!$A$6:$A$1806,Data!$E$6:$E$1806)*-1,LOOKUP($AO52,Data!$A$6:$A$1806,Data!$E$6:$E$1806))","v":-255.44416809082031},{"$f":"LOOKUP($AO52,Data!$A$6:$A$1806,Data!$F$6:$F$1806)","v":0},{"$f":"LOOKUP($AO52,Data!$A$6:$A$1806,Data!$G$6:$G$1806)","v":86.5},{"$f":"LOOKUP($AO52,Data!$A$6:$A$1806,Data!$H$6:$H$1806)","v":10},{"$f":"LOOKUP($AO52,Data!$A$6:$A$1806,Data!$I$6:$I$1806)","v":15},{"$f":"LOOKUP($AO52,Data!$A$6:$A$1806,Data!$J$6:$J$1806)","v":-103},{"$f":"LOOKUP($AO52,Data!$A$6:$A$1806,Data!$K$6:$K$1806)","v":7557.09},-16.7999267578125,"T-54 sec",40098.101689814866,null,null,null,null,null,null,null,null,null,null,null,null,"T-54 sec",40098.101689814866,null,null,null,null,null,null,null,null,null,null,null,null,"T-54 sec",40098.101689814866,null,null,null,null,null,null,null,null,null,null,null,null,"T-54 sec",40098.101689814866,null,null,null,null,null,null,null,null,null,null,null,null,"T-54 sec",40098.101689814866]
["T-52 sec",40098.101712963013,{"$f":"LOOKUP(B53,Data!$A$6:$A$1806,Data!B$6:B$1806)","v":60.020999908447266},{"$f":"LOOKUP(B53,Data!$A$6:$A$1806,Data!C$6:C$1806)","v":3670.266845703125},null,null,null,-16.7999267578125,-16.435453742647816,null,null,-0.15033345519247701,3665.6350362875105,null,null,null,null,null,null,null,null,null,null,null,null,0,null,null,"T-52 sec",null,null,null,null,null,null,null,null,null,null,"T-52 sec",40098.101712963013,{"$f":"LOOKUP($AO53,Data!$A$6:$A$1806,Data!$B$6:$B$1806)","v":60.020999908447266},{"$f":"LOOKUP($AO53,Data!$A$6:$A$1806,Data!$C$6:$C$1806)","v":3670.266845703125},{"$f":"LOOKUP($AO53,Data!$A$6:$A$1806,Data!$D$6:$D$1806)","v":350},{"$f":"IF($AS$1=\"+\",LOOKUP($AO53,Data!$A$6:$A$1806,Data!$E$6:$E$1806)*-1,LOOKUP($AO53,Data!$A$6:$A$1806,Data!$E$6:$E$1806))","v":-255.44416809082031},{"$f":"LOOKUP($AO53,Data!$A$6:$A$1806,Data!$F$6:$F$1806)","v":0},{"$f":"LOOKUP($AO53,Data!$A$6:$A$1806,Data!$G$6:$G$1806)","v":86.5},{"$f":"LOOKUP($AO53,Data!$A$6:$A$1806,Data!$H$6:$H$1806)","v":10},{"$f":"LOOKUP($AO53,Data!$A$6:$A$1806,Data!$I$6:$I$1806)","v":15},{"$f":"LOOKUP($AO53,Data!$A$6:$A$1806,Data!$J$6:$J$1806)","v":-103},{"$f":"LOOKUP($AO53,Data!$A$6:$A$1806,Data!$K$6:$K$1806)","v":7557.09},-16.7999267578125,"T-52 sec",40098.101712963013,null,null,null,null,null,null,null,null,null,null,null,null,"T-52 sec",40098.101712963013,null,null,null,null,null,null,null,null,null,null,null,null,"T-52 sec",40098.101712963013,null,null,null,null,null,null,null,null,null,null,null,null,"T-52 sec",40098.101712963013,null,null,null,null,null,null,null,null,null,null,null,null,"T-52 sec",40098.101712963013]
["T-50 sec",40098.101736111159,{"$f":"LOOKUP(B54,Data!$A$6:$A$1806,Data!B$6:B$1806)","v":60.019001007080078},{"$f":"LOOKUP(B54,Data!$A$6:$A$1806,Data!C$6:C$1806)","v":3672.4931640625},null,null,null,-15.2008056640625,-16.003326915142956,null,null,-0.15033345519247701,3665.9168296598227,null,null,null,null,null,null,null,null,null,null,null,null,0,null,null,"T-50 sec",null,null,null,null,null,null,null,null,null,null,"T-50 sec",40098.101736111159,{"$f":"LOOKUP($AO54,Data!$A$6:$A$1806,Data!$B$6:$B$1806)","v":60.019001007080078},{"$f":"LOOKUP($AO54,Data!$A$6:$A$1806,Data!$C$6:$C$1806)","v":3672.4931640625},{"$f":"LOOKUP($AO54,Data!$A$6:$A$1806,Data!$D$6:$D$1806)","v":350},{"$f":"IF($AS$1=\"+\",LOOKUP($AO54,Data!$A$6:$A$1806,Data!$E$6:$E$1806)*-1,LOOKUP($AO54,Data!$A$6:$A$1806,Data!$E$6:$E$1806))","v":-165.1016845703125},{"$f":"LOOKUP($AO54,Data!$A$6:$A$1806,Data!$F$6:$F$1806)","v":0},{"$f":"LOOKUP($AO54,Data!$A$6:$A$1806,Data!$G$6:$G$1806)","v":87},{"$f":"LOOKUP($AO54,Data!$A$6:$A$1806,Data!$H$6:$H$1806)","v":10},{"$f":"LOOKUP($AO54,Data!$A$6:$A$1806,Data!$I$6:$I$1806)","v":15},{"$f":"LOOKUP($AO54,Data!$A$6:$A$1806,Data!$J$6:$J$1806)","v":-103},{"$f":"LOOKUP($AO54,Data!$A$6:$A$1806,Data!$K$6:$K$1806)","v":7557.42},-15.2008056640625,"T-50 sec",40098.101736111159,null,null,null,null,null,null,null,null,null,null,null,null,"T-50 sec",40098.101736111159,null,null,null,null,null,null,null,null,null,null,null,null,"T-50 sec",40098.101736111159,null,null,null,null,null,null,null,null,null,null,null,null,"T-50 sec",40098.101736111159,null,null,null,null,null,null,null,null,null,null,null,null,"T-50 sec",40098.101736111159]
["T-48 sec",40098.101759259305,{"$f":"LOOKUP(B55,Data!$A$6:$A$1806,Data!B$6:B$1806)","v":60.019001007080078},{"$f":"LOOKUP(B55,Data!$A$6:$A$1806,Data!C$6:C$1806)","v":3672.4931640625},null,null,null,-15.2008056640625,-15.722444477264798,null,null,-0.15033345519247701,3666.0473786425082,null,null,null,null,null,null,null,null,null,null,null,null,0,null,null,"T-48 sec",null,null,null,null,null,null,null,null,null,null,"T-48 sec",40098.101759259305,{"$f":"LOOKUP($AO55,Data!$A$6:$A$1806,Data!$B$6:$B$1806)","v":60.019001007080078},{"$f":"LOOKUP($AO55,Data!$A$6:$A$1806,Data!$C$6:$C$1806)","v":3672.4931640625},{"$f":"LOOKUP($AO55,Data!$A$6:$A$1806,Data!$D$6:$D$1806)","v":350},{"$f":"IF($AS$1=\"+\",LOOKUP($AO55,Data!$A$6:$A$1806,Data!$E$6:$E$1806)*-1,LOOKUP($AO55,Data!$A$6:$A$1806,Data!$E$6:$E$1806))","v":-165.1016845703125},{"$f":"LOOKUP($AO55,Data!$A$6:$A$1806,Data!$F$6:$F$1806)","v":0},{"$f":"LOOKUP($AO55,Data!$A$6:$A$1806,Data!$G$6:$G$1806)","v":87},{"$f":"LOOKUP($AO55,Data!$A$6:$A$1806,Data!$H$6:$H$1806)","v":10},{"$f":"LOOKUP($AO55,Data!$A$6:$A$1806,Data!$I$6:$I$1806)","v":15},{"$f":"LOOKUP($AO55,Data!$A$6:$A$1806,Data!$J$6:$J$1806)","v":-103},{"$f":"LOOKUP($AO55,Data!$A$6:$A$1806,Data!$K$6:$K$1806)","v":7557.42},-15.2008056640625,"T-48 sec",40098.101759259305,null,null,null,null,null,null,null,null,null,null,null,null,"T-48 sec",40098.101759259305,null,null,null,null,null,null,null,null,null,null,null,null,"T-48 sec",40098.101759259305,null,null,null,null,null,null,null,null,null,null,null,null,"T-48 sec",40098.101759259305,null,null,null,null,null,null,null,null,null,null,null,null,"T-48 sec",40098.101759259305]
["T-46 sec",40098.101782407452,{"$f":"LOOKUP(B56,Data!$A$6:$A$1806,Data!B$6:B$1806)","v":60.019001007080078},{"$f":"LOOKUP(B56,Data!$A$6:$A$1806,Data!C$6:C$1806)","v":3672.4931640625},null,null,null,-15.2008056640625,-15.539870892643993,null,null,-0.15033345519247701,3666.0796187719366,null,null,null,null,null,null,null,null,null,null,null,null,0,null,null,"T-46 sec",null,null,null,null,null,null,null,null,null,null,"T-46 sec",40098.101782407452,{"$f":"LOOKUP($AO56,Data!$A$6:$A$1806,Data!$B$6:$B$1806)","v":60.019001007080078},{"$f":"LOOKUP($AO56,Data!$A$6:$A$1806,Data!$C$6:$C$1806)","v":3672.4931640625},{"$f":"LOOKUP($AO56,Data!$A$6:$A$1806,Data!$D$6:$D$1806)","v":350},{"$f":"IF($AS$1=\"+\",LOOKUP($AO56,Data!$A$6:$A$1806,Data!$E$6:$E$1806)*-1,LOOKUP($AO56,Data!$A$6:$A$1806,Data!$E$6:$E$1806))","v":-165.1016845703125},{"$f":"LOOKUP($AO56,Data!$A$6:$A$1806,Data!$F$6:$F$1806)","v":0},{"$f":"LOOKUP($AO56,Data!$A$6:$A$1806,Data!$G$6:$G$1806)","v":87},{"$f":"LOOKUP($AO56,Data!$A$6:$A$1806,Data!$H$6:$H$1806)","v":10},{"$f":"LOOKUP($AO56,Data!$A$6:$A$1806,Data!$I$6:$I$1806)","v":15},{"$f":"LOOKUP($AO56,Data!$A$6:$A$1806,Data!$J$6:$J$1806)","v":-103},{"$f":"LOOKUP($AO56,Data!$A$6:$A$1806,Data!$K$6:$K$1806)","v":7557.42},-15.2008056640625,"T-46 sec",40098.101782407452,null,null,null,null,null,null,null,null,null,null,null,null,"T-46 sec",40098.101782407452,null,null,null,null,null,null,null,null,null,null,null,null,"T-46 sec",40098.101782407452,null,null,null,null,null,null,null,null,null,null,null,null,"T-46 sec",40098.101782407452,null,null,null,null,null,null,null,null,null,null,null,null,"T-46 sec",40098.101782407452]
["T-44 sec",40098.101805555598,{"$f":"LOOKUP(B57,Data!$A$6:$A$1806,Data!B$6:B$1806)","v":60.021999359130859},{"$f":"LOOKUP(B57,Data!$A$6:$A$1806,Data!C$6:C$1806)","v":3672.1640625},null,null,null,-17.5994873046875,-16.260736636859221,null,null,-0.15033345519247701,3665.2084195725288,null,null,null,null,null,null,null,null,null,null,null,null,0,null,null,"T-44 sec",null,null,null,null,null,null,null,null,null,null,"T-44 sec",40098.101805555598,{"$f":"LOOKUP($AO57,Data!$A$6:$A$1806,Data!$B$6:$B$1806)","v":60.021999359130859},{"$f":"LOOKUP($AO57,Data!$A$6:$A$1806,Data!$C$6:$C$1806)","v":3672.1640625},{"$f":"LOOKUP($AO57,Data!$A$6:$A$1806,Data!$D$6:$D$1806)","v":350},{"$f":"IF($AS$1=\"+\",LOOKUP($AO57,Data!$A$6:$A$1806,Data!$E$6:$E$1806)*-1,LOOKUP($AO57,Data!$A$6:$A$1806,Data!$E$6:$E$1806))","v":-165.1016845703125},{"$f":"LOOKUP($AO57,Data!$A$6:$A$1806,Data!$F$6:$F$1806)","v":0},{"$f":"LOOKUP($AO57,Data!$A$6:$A$1806,Data!$G$6:$G$1806)","v":87.5},{"$f":"LOOKUP($AO57,Data!$A$6:$A$1806,Data!$H$6:$H$1806)","v":10},{"$f":"LOOKUP($AO57,Data!$A$6:$A$1806,Data!$I$6:$I$1806)","v":15},{"$f":"LOOKUP($AO57,Data!$A$6:$A$1806,Data!$J$6:$J$1806)","v":-103},{"$f":"LOOKUP($AO57,Data!$A$6:$A$1806,Data!$K$6:$K$1806)","v":7557.75},-17.5994873046875,"T-44 sec",40098.101805555598,null,null,null,null,null,null,null,null,null,null,null,null,"T-44 sec",40098.101805555598,null,null,null,null,null,null,null,null,null,null,null,null,"T-44 sec",40098.101805555598,null,null,null,null,null,null,null,null,null,null,null,null,"T-44 sec",40098.101805555598,null,null,null,null,null,null,null,null,null,null,null,null,"T-44 sec",40098.101805555598]
["T-42 sec",40098.101828703744,{"$f":"LOOKUP(B58,Data!$A$6:$A$1806,Data!B$6:B$1806)","v":60.021999359130859},{"$f":"LOOKUP(B58,Data!$A$6:$A$1806,Data!C$6:C$1806)","v":3672.1640625},null,null,null,-17.5994873046875,-16.729299370599119,null,null,-0.15033345519247701,3664.5895233835963,null,null,null,null,null,null,null,null,null,null,null,null,0,null,null,"T-42 sec",null,null,null,null,null,null,null,null,null,null,"T-42 sec",40098.101828703744,{"$f":"LOOKUP($AO58,Data!$A$6:$A$1806,Data!$B$6:$B$1806)","v":60.021999359130859},{"$f":"LOOKUP($AO58,Data!$A$6:$A$1806,Data!$C$6:$C$1806)","v":3672.1640625},{"$f":"LOOKUP($AO58,Data!$A$6:$A$1806,Data!$D$6:$D$1806)","v":350},{"$f":"IF($AS$1=\"+\",LOOKUP($AO58,Data!$A$6:$A$1806,Data!$E$6:$E$1806)*-1,LOOKUP($AO58,Data!$A$6:$A$1806,Data!$E$6:$E$1806))","v":-165.1016845703125},{"$f":"LOOKUP($AO58,Data!$A$6:$A$1806,Data!$F$6:$F$1806)","v":0},{"$f":"LOOKUP($AO58,Data!$A$6:$A$1806,Data!$G$6:$G$1806)","v":87.5},{"$f":"LOOKUP($AO58,Data!$A$6:$A$1806,Data!$H$6:$H$1806)","v":10},{"$f":"LOOKUP($AO58,Data!$A$6:$A$1806,Data!$I$6:$I$1806)","v":15},{"$f":"LOOKUP($AO58,Data!$A$6:$A$1806,Data!$J$6:$J$1806)","v":-103},{"$f":"LOOKUP($AO58,Data!$A$6:$A$1806,Data!$K$6:$K$1806)","v":7557.75},-17.5994873046875,"T-42 sec",40098.101828703744,null,null,null,null,null,null,null,null,null,null,null,null,"T-42 sec",40098.101828703744,null,null,null,null,null,null,null,null,null,null,null,null,"T-42 sec",40098.101828703744,null,null,null,null,null,null,null,null,null,null,null,null,"T-42 sec",40098.101828703744,null,null,null,null,null,null,null,null,null,null,null,null,"T-42 sec",40098.101828703744]
["T-40 sec",40098.10185185189,{"$f":"LOOKUP(B59,Data!$A$6:$A$1806,Data!B$6:B$1806)","v":60.036998748779297},{"$f":"LOOKUP(B59,Data!$A$6:$A$1806,Data!C$6:C$1806)","v":3669.98291015625},null,null,null,-29.5989990234375,-21.233694249092551,null,null,-0.15033345519247701,3659.9347950499105,null,null,null,null,null,null,null,null,null,null,null,null,0,null,null,"T-40 sec",null,null,null,null,null,null,null,null,null,null,"T-40 sec",40098.10185185189,{"$f":"LOOKUP($AO59,Data!$A$6:$A$1806,Data!$B$6:$B$1806)","v":60.036998748779297},{"$f":"LOOKUP($AO59,Data!$A$6:$A$1806,Data!$C$6:$C$1806)","v":3669.98291015625},{"$f":"LOOKUP($AO59,Data!$A$6:$A$1806,Data!$D$6:$D$1806)","v":350},{"$f":"IF($AS$1=\"+\",LOOKUP($AO59,Data!$A$6:$A$1806,Data!$E$6:$E$1806)*-1,LOOKUP($AO59,Data!$A$6:$A$1806,Data!$E$6:$E$1806))","v":-165.1016845703125},{"$f":"LOOKUP($AO59,Data!$A$6:$A$1806,Data!$F$6:$F$1806)","v":0},{"$f":"LOOKUP($AO59,Data!$A$6:$A$1806,Data!$G$6:$G$1806)","v":88},{"$f":"LOOKUP($AO59,Data!$A$6:$A$1806,Data!$H$6:$H$1806)","v":10},{"$f":"LOOKUP($AO59,Data!$A$6:$A$1806,Data!$I$6:$I$1806)","v":15},{"$f":"LOOKUP($AO59,Data!$A$6:$A$1806,Data!$J$6:$J$1806)","v":-103},{"$f":"LOOKUP($AO59,Data!$A$6:$A$1806,Data!$K$6:$K$1806)","v":7558.08},-29.5989990234375,"T-40 sec",40098.10185185189,null,null,null,null,null,null,null,null,null,null,null,null,"T-40 sec",40098.10185185189,null,null,null,null,null,null,null,null,null,null,null,null,"T-40 sec",40098.10185185189,null,null,null,null,null,null,null,null,null,null,null,null,"T-40 sec",40098.10185185189,null,null,null,null,null,null,null,null,null,null,null,null,"T-40 sec",40098.10185185189]
["T-38 sec",40098.101875000037,{"$f":"LOOKUP(B60,Data!$A$6:$A$1806,Data!B$6:B$1806)","v":60.036998748779297},{"$f":"LOOKUP(B60,Data!$A$6:$A$1806,Data!C$6:C$1806)","v":3669.98291015625},null,null,null,-29.5989990234375,-24.161550920113285,null,null,-0.15033345519247701,3656.856604923697,null,null,null,null,null,null,null,null,null,null,null,null,0,null,null,"T-38 sec",null,null,null,null,null,null,null,null,null,null,"T-38 sec",40098.101875000037,{"$f":"LOOKUP($AO60,Data!$A$6:$A$1806,Data!$B$6:$B$1806)","v":60.036998748779297},{"$f":"LOOKUP($AO60,Data!$A$6:$A$1806,Data!$C$6:$C$1806)","v":3669.98291015625},{"$f":"LOOKUP($AO60,Data!$A$6:$A$1806,Data!$D$6:$D$1806)","v":350},{"$f":"IF($AS$1=\"+\",LOOKUP($AO60,Data!$A$6:$A$1806,Data!$E$6:$E$1806)*-1,LOOKUP($AO60,Data!$A$6:$A$1806,Data!$E$6:$E$1806))","v":-165.1016845703125},{"$f":"LOOKUP($AO60,Data!$A$6:$A$1806,Data!$F$6:$F$1806)","v":0},{"$f":"LOOKUP($AO60,Data!$A$6:$A$1806,Data!$G$6:$G$1806)","v":88},{"$f":"LOOKUP($AO60,Data!$A$6:$A$1806,Data!$H$6:$H$1806)","v":10},{"$f":"LOOKUP($AO60,Data!$A$6:$A$1806,Data!$I$6:$I$1806)","v":15},{"$f":"LOOKUP($AO60,Data!$A$6:$A$1806,Data!$J$6:$J$1806)","v":-103},{"$f":"LOOKUP($AO60,Data!$A$6:$A$1806,Data!$K$6:$K$1806)","v":7558.08},-29.5989990234375,"T-38 sec",40098.101875000037,null,null,null,null,null,null,null,null,null,null,null,null,"T-38 sec",40098.101875000037,null,null,null,null,null,null,null,null,null,null,null,null,"T-38 sec",40098.101875000037,null,null,null,null,null,null,null,null,null,null,null,null,"T-38 sec",40098.101875000037,null,null,null,null,null,null,null,null,null,null,null,null,"T-38 sec",40098.101875000037]
["T-36 sec",40098.101898148183,{"$f":"LOOKUP(B61,Data!$A$6:$A$1806,Data!B$6:B$1806)","v":60.036998748779297},{"$f":"LOOKUP(B61,Data!$A$6:$A$1806,Data!C$6:C$1806)","v":3669.98291015625},null,null,null,-29.5989990234375,-26.064657756276759,null,null,-0.15033345519247701,3654.8031646323411,null,null,null,null,null,null,null,null,null,null,null,null,0,null,null,"T-36 sec",null,null,null,null,null,null,null,null,null,null,"T-36 sec",40098.101898148183,{"$f":"LOOKUP($AO61,Data!$A$6:$A$1806,Data!$B$6:$B$1806)","v":60.036998748779297},{"$f":"LOOKUP($AO61,Data!$A$6:$A$1806,Data!$C$6:$C$1806)","v":3669.98291015625},{"$f":"LOOKUP($AO61,Data!$A$6:$A$1806,Data!$D$6:$D$1806)","v":350},{"$f":"IF($AS$1=\"+\",LOOKUP($AO61,Data!$A$6:$A$1806,Data!$E$6:$E$1806)*-1,LOOKUP($AO61,Data!$A$6:$A$1806,Data!$E$6:$E$1806))","v":-165.1016845703125},{"$f":"LOOKUP($AO61,Data!$A$6:$A$1806,Data!$F$6:$F$1806)","v":0},{"$f":"LOOKUP($AO61,Data!$A$6:$A$1806,Data!$G$6:$G$1806)","v":88},{"$f":"LOOKUP($AO61,Data!$A$6:$A$1806,Data!$H$6:$H$1806)","v":10},{"$f":"LOOKUP($AO61,Data!$A$6:$A$1806,Data!$I$6:$I$1806)","v":15},{"$f":"LOOKUP($AO61,Data!$A$6:$A$1806,Data!$J$6:$J$1806)","v":-103},{"$f":"LOOKUP($AO61,Data!$A$6:$A$1806,Data!$K$6:$K$1806)","v":7558.08},-29.5989990234375,"T-36 sec",40098.101898148183,null,null,null,null,null,null,null,null,null,null,null,null,"T-36 sec",40098.101898148183,null,null,null,null,null,null,null,null,null,null,null,null,"T-36 sec",40098.101898148183,null,null,null,null,null,null,null,null,null,null,null,null,"T-36 sec",40098.101898148183,null,null,null,null,null,null,null,null,null,null,null,null,"T-36 sec",40098.101898148183]
["T-34 sec",40098.101921296329,{"$f":"LOOKUP(B62,Data!$A$6:$A$1806,Data!B$6:B$1806)","v":60.036998748779297},{"$f":"LOOKUP(B62,Data!$A$6:$A$1806,Data!C$6:C$1806)","v":3661.59912109375},null,null,null,-29.5989990234375,-27.301677199783018,null,null,-0.15033345519247701,3653.4158117336424,null,null,null,null,null,null,null,null,null,null,null,null,0,null,null,"T-34 sec",null,null,null,null,null,null,null,null,null,null,"T-34 sec",40098.101921296329,{"$f":"LOOKUP($AO62,Data!$A$6:$A$1806,Data!$B$6:$B$1806)","v":60.036998748779297},{"$f":"LOOKUP($AO62,Data!$A$6:$A$1806,Data!$C$6:$C$1806)","v":3661.59912109375},{"$f":"LOOKUP($AO62,Data!$A$6:$A$1806,Data!$D$6:$D$1806)","v":350},{"$f":"IF($AS$1=\"+\",LOOKUP($AO62,Data!$A$6:$A$1806,Data!$E$6:$E$1806)*-1,LOOKUP($AO62,Data!$A$6:$A$1806,Data!$E$6:$E$1806))","v":-165.1016845703125},{"$f":"LOOKUP($AO62,Data!$A$6:$A$1806,Data!$F$6:$F$1806)","v":0},{"$f":"LOOKUP($AO62,Data!$A$6:$A$1806,Data!$G$6:$G$1806)","v":88.5},{"$f":"LOOKUP($AO62,Data!$A$6:$A$1806,Data!$H$6:$H$1806)","v":10},{"$f":"LOOKUP($AO62,Data!$A$6:$A$1806,Data!$I$6:$I$1806)","v":15},{"$f":"LOOKUP($AO62,Data!$A$6:$A$1806,Data!$J$6:$J$1806)","v":-103},{"$f":"LOOKUP($AO62,Data!$A$6:$A$1806,Data!$K$6:$K$1806)","v":7558.41},-29.5989990234375,"T-34 sec",40098.101921296329,null,null,null,null,null,null,null,null,null,null,null,null,"T-34 sec",40098.101921296329,null,null,null,null,null,null,null,null,null,null,null,null,"T-34 sec",40098.101921296329,null,null,null,null,null,null,null,null,null,null,null,null,"T-34 sec",40098.101921296329,null,null,null,null,null,null,null,null,null,null,null,null,"T-34 sec",40098.101921296329]
["T-32 sec",40098.101944444476,{"$f":"LOOKUP(B63,Data!$A$6:$A$1806,Data!B$6:B$1806)","v":60.036998748779297},{"$f":"LOOKUP(B63,Data!$A$6:$A$1806,Data!C$6:C$1806)","v":3661.59912109375},null,null,null,-29.5989990234375,-28.105739838062089,null,null,-0.15033345519247701,3652.4614156401708,null,null,null,null,null,null,null,null,null,null,null,null,0,null,null,"T-32 sec",null,null,null,null,null,null,null,null,null,null,"T-32 sec",40098.101944444476,{"$f":"LOOKUP($AO63,Data!$A$6:$A$1806,Data!$B$6:$B$1806)","v":60.036998748779297},{"$f":"LOOKUP($AO63,Data!$A$6:$A$1806,Data!$C$6:$C$1806)","v":3661.59912109375},{"$f":"LOOKUP($AO63,Data!$A$6:$A$1806,Data!$D$6:$D$1806)","v":350},{"$f":"IF($AS$1=\"+\",LOOKUP($AO63,Data!$A$6:$A$1806,Data!$E$6:$E$1806)*-1,LOOKUP($AO63,Data!$A$6:$A$1806,Data!$E$6:$E$1806))","v":-165.1016845703125},{"$f":"LOOKUP($AO63,Data!$A$6:$A$1806,Data!$F$6:$F$1806)","v":0},{"$f":"LOOKUP($AO63,Data!$A$6:$A$1806,Data!$G$6:$G$1806)","v":88.5},{"$f":"LOOKUP($AO63,Data!$A$6:$A$1806,Data!$H$6:$H$1806)","v":10},{"$f":"LOOKUP($AO63,Data!$A$6:$A$1806,Data!$I$6:$I$1806)","v":15},{"$f":"LOOKUP($AO63,Data!$A$6:$A$1806,Data!$J$6:$J$1806)","v":-103},{"$f":"LOOKUP($AO63,Data!$A$6:$A$1806,Data!$K$6:$K$1806)","v":7558.41},-29.5989990234375,"T-32 sec",40098.101944444476,null,null,null,null,null,null,null,null,null,null,null,null,"T-32 sec",40098.101944444476,null,null,null,null,null,null,null,null,null,null,null,null,"T-32 sec",40098.101944444476,null,null,null,null,null,null,null,null,null,null,null,null,"T-32 sec",40098.101944444476,null,null,null,null,null,null,null,null,null,null,null,null,"T-32 sec",40098.101944444476]
["T-30 sec",40098.101967592622,{"$f":"LOOKUP(B64,Data!$A$6:$A$1806,Data!B$6:B$1806)","v":60.048000335693359},{"$f":"LOOKUP(B64,Data!$A$6:$A$1806,Data!C$6:C$1806)","v":3651.49169921875},null,null,null,-38.4002685546875,-31.708824888880983,null,null,-0.15033345519247701,3648.7079971341591,null,null,null,null,null,null,null,null,null,null,null,null,0,null,null,"T-30 sec",null,null,null,null,null,null,null,null,null,null,"T-30 sec",40098.101967592622,{"$f":"LOOKUP($AO64,Data!$A$6:$A$1806,Data!$B$6:$B$1806)","v":60.048000335693359},{"$f":"LOOKUP($AO64,Data!$A$6:$A$1806,Data!$C$6:$C$1806)","v":3651.49169921875},{"$f":"LOOKUP($AO64,Data!$A$6:$A$1806,Data!$D$6:$D$1806)","v":350},{"$f":"IF($AS$1=\"+\",LOOKUP($AO64,Data!$A$6:$A$1806,Data!$E$6:$E$1806)*-1,LOOKUP($AO64,Data!$A$6:$A$1806,Data!$E$6:$E$1806))","v":-165.1016845703125},{"$f":"LOOKUP($AO64,Data!$A$6:$A$1806,Data!$F$6:$F$1806)","v":0},{"$f":"LOOKUP($AO64,Data!$A$6:$A$1806,Data!$G$6:$G$1806)","v":89},{"$f":"LOOKUP($AO64,Data!$A$6:$A$1806,Data!$H$6:$H$1806)","v":10},{"$f":"LOOKUP($AO64,Data!$A$6:$A$1806,Data!$I$6:$I$1806)","v":15},{"$f":"LOOKUP($AO64,Data!$A$6:$A$1806,Data!$J$6:$J$1806)","v":-103},{"$f":"LOOKUP($AO64,Data!$A$6:$A$1806,Data!$K$6:$K$1806)","v":7558.74},-38.4002685546875,"T-30 sec",40098.101967592622,null,null,null,null,null,null,null,null,null,null,null,null,"T-30 sec",40098.101967592622,null,null,null,null,null,null,null,null,null,null,null,null,"T-30 sec",40098.101967592622,null,null,null,null,null,null,null,null,null,null,null,null,"T-30 sec",40098.101967592622,null,null,null,null,null,null,null,null,null,null,null,null,"T-30 sec",40098.101967592622]
["T-28 sec",40098.101990740768,{"$f":"LOOKUP(B65,Data!$A$6:$A$1806,Data!B$6:B$1806)","v":60.048000335693359},{"$f":"LOOKUP(B65,Data!$A$6:$A$1806,Data!C$6:C$1806)","v":3651.49169921875},null,null,null,-38.4002685546875,-34.050830171913262,null,null,-0.15033345519247701,3646.215658395934,null,null,null,null,null,null,null,null,null,null,null,null,0,null,null,"T-28 sec",null,null,null,null,null,null,null,null,null,null,"T-28 sec",40098.101990740768,{"$f":"LOOKUP($AO65,Data!$A$6:$A$1806,Data!$B$6:$B$1806)","v":60.048000335693359},{"$f":"LOOKUP($AO65,Data!$A$6:$A$1806,Data!$C$6:$C$1806)","v":3651.49169921875},{"$f":"LOOKUP($AO65,Data!$A$6:$A$1806,Data!$D$6:$D$1806)","v":350},{"$f":"IF($AS$1=\"+\",LOOKUP($AO65,Data!$A$6:$A$1806,Data!$E$6:$E$1806)*-1,LOOKUP($AO65,Data!$A$6:$A$1806,Data!$E$6:$E$1806))","v":-165.1016845703125},{"$f":"LOOKUP($AO65,Data!$A$6:$A$1806,Data!$F$6:$F$1806)","v":0},{"$f":"LOOKUP($AO65,Data!$A$6:$A$1806,Data!$G$6:$G$1806)","v":89},{"$f":"LOOKUP($AO65,Data!$A$6:$A$1806,Data!$H$6:$H$1806)","v":10},{"$f":"LOOKUP($AO65,Data!$A$6:$A$1806,Data!$I$6:$I$1806)","v":15},{"$f":"LOOKUP($AO65,Data!$A$6:$A$1806,Data!$J$6:$J$1806)","v":-103},{"$f":"LOOKUP($AO65,Data!$A$6:$A$1806,Data!$K$6:$K$1806)","v":7558.74},-38.4002685546875,"T-28 sec",40098.101990740768,null,null,null,null,null,null,null,null,null,null,null,null,"T-28 sec",40098.101990740768,null,null,null,null,null,null,null,null,null,null,null,null,"T-28 sec",40098.101990740768,null,null,null,null,null,null,null,null,null,null,null,null,"T-28 sec",40098.101990740768,null,null,null,null,null,null,null,null,null,null,null,null,"T-28 sec",40098.101990740768]
["T-26 sec",40098.102013888914,{"$f":"LOOKUP(B66,Data!$A$6:$A$1806,Data!B$6:B$1806)","v":60.048000335693359},{"$f":"LOOKUP(B66,Data!$A$6:$A$1806,Data!C$6:C$1806)","v":3651.49169921875},null,null,null,-38.4002685546875,-35.573133605884244,null,null,-0.15033345519247701,3644.5430215067704,null,null,null,null,null,null,null,null,null,null,null,null,0,null,null,"T-26 sec",null,null,null,null,null,null,null,null,null,null,"T-26 sec",40098.102013888914,{"$f":"LOOKUP($AO66,Data!$A$6:$A$1806,Data!$B$6:$B$1806)","v":60.048000335693359},{"$f":"LOOKUP($AO66,Data!$A$6:$A$1806,Data!$C$6:$C$1806)","v":3651.49169921875},{"$f":"LOOKUP($AO66,Data!$A$6:$A$1806,Data!$D$6:$D$1806)","v":350},{"$f":"IF($AS$1=\"+\",LOOKUP($AO66,Data!$A$6:$A$1806,Data!$E$6:$E$1806)*-1,LOOKUP($AO66,Data!$A$6:$A$1806,Data!$E$6:$E$1806))","v":-165.1016845703125},{"$f":"LOOKUP($AO66,Data!$A$6:$A$1806,Data!$F$6:$F$1806)","v":0},{"$f":"LOOKUP($AO66,Data!$A$6:$A$1806,Data!$G$6:$G$1806)","v":89},{"$f":"LOOKUP($AO66,Data!$A$6:$A$1806,Data!$H$6:$H$1806)","v":10},{"$f":"LOOKUP($AO66,Data!$A$6:$A$1806,Data!$I$6:$I$1806)","v":15},{"$f":"LOOKUP($AO66,Data!$A$6:$A$1806,Data!$J$6:$J$1806)","v":-103},{"$f":"LOOKUP($AO66,Data!$A$6:$A$1806,Data!$K$6:$K$1806)","v":7558.74},-38.4002685546875,"T-26 sec",40098.102013888914,null,null,null,null,null,null,null,null,null,null,null,null,"T-26 sec",40098.102013888914,null,null,null,null,null,null,null,null,null,null,null,null,"T-26 sec",40098.102013888914,null,null,null,null,null,null,null,null,null,null,null,null,"T-26 sec",40098.102013888914,null,null,null,null,null,null,null,null,null,null,null,null,"T-26 sec",40098.102013888914]
["T-24 sec",40098.102037037061,{"$f":"LOOKUP(B67,Data!$A$6:$A$1806,Data!B$6:B$1806)","v":60.041000366210938},{"$f":"LOOKUP(B67,Data!$A$6:$A$1806,Data!C$6:C$1806)","v":3648.246337890625},null,null,null,-32.80029296875,-34.602639382887261,null,null,-0.15033345519247701,3645.3631822745747,null,null,null,null,null,null,null,null,null,null,null,null,0,null,null,"T-24 sec",null,null,null,null,null,null,null,null,null,null,"T-24 sec",40098.102037037061,{"$f":"LOOKUP($AO67,Data!$A$6:$A$1806,Data!$B$6:$B$1806)","v":60.041000366210938},{"$f":"LOOKUP($AO67,Data!$A$6:$A$1806,Data!$C$6:$C$1806)","v":3648.246337890625},{"$f":"LOOKUP($AO67,Data!$A$6:$A$1806,Data!$D$6:$D$1806)","v":350},{"$f":"IF($AS$1=\"+\",LOOKUP($AO67,Data!$A$6:$A$1806,Data!$E$6:$E$1806)*-1,LOOKUP($AO67,Data!$A$6:$A$1806,Data!$E$6:$E$1806))","v":-165.47639465332031},{"$f":"LOOKUP($AO67,Data!$A$6:$A$1806,Data!$F$6:$F$1806)","v":0},{"$f":"LOOKUP($AO67,Data!$A$6:$A$1806,Data!$G$6:$G$1806)","v":89.5},{"$f":"LOOKUP($AO67,Data!$A$6:$A$1806,Data!$H$6:$H$1806)","v":10},{"$f":"LOOKUP($AO67,Data!$A$6:$A$1806,Data!$I$6:$I$1806)","v":15},{"$f":"LOOKUP($AO67,Data!$A$6:$A$1806,Data!$J$6:$J$1806)","v":-103},{"$f":"LOOKUP($AO67,Data!$A$6:$A$1806,Data!$K$6:$K$1806)","v":7559.07},-32.80029296875,"T-24 sec",40098.102037037061,null,null,null,null,null,null,null,null,null,null,null,null,"T-24 sec",40098.102037037061,null,null,null,null,null,null,null,null,null,null,null,null,"T-24 sec",40098.102037037061,null,null,null,null,null,null,null,null,null,null,null,null,"T-24 sec",40098.102037037061,null,null,null,null,null,null,null,null,null,null,null,null,"T-24 sec",40098.102037037061]
["T-22 sec",40098.102060185207,{"$f":"LOOKUP(B68,Data!$A$6:$A$1806,Data!B$6:B$1806)","v":60.041000366210938},{"$f":"LOOKUP(B68,Data!$A$6:$A$1806,Data!C$6:C$1806)","v":3648.246337890625},null,null,null,-32.80029296875,-33.971818137939223,null,null,-0.15033345519247701,3645.8436700643301,null,null,null,null,null,null,null,null,null,null,null,null,0,null,null,"T-22 sec",null,null,null,null,null,null,null,null,null,null,"T-22 sec",40098.102060185207,{"$f":"LOOKUP($AO68,Data!$A$6:$A$1806,Data!$B$6:$B$1806)","v":60.041000366210938},{"$f":"LOOKUP($AO68,Data!$A$6:$A$1806,Data!$C$6:$C$1806)","v":3648.246337890625},{"$f":"LOOKUP($AO68,Data!$A$6:$A$1806,Data!$D$6:$D$1806)","v":350},{"$f":"IF($AS$1=\"+\",LOOKUP($AO68,Data!$A$6:$A$1806,Data!$E$6:$E$1806)*-1,LOOKUP($AO68,Data!$A$6:$A$1806,Data!$E$6:$E$1806))","v":-165.47639465332031},{"$f":"LOOKUP($AO68,Data!$A$6:$A$1806,Data!$F$6:$F$1806)","v":0},{"$f":"LOOKUP($AO68,Data!$A$6:$A$1806,Data!$G$6:$G$1806)","v":89.5},{"$f":"LOOKUP($AO68,Data!$A$6:$A$1806,Data!$H$6:$H$1806)","v":10},{"$f":"LOOKUP($AO68,Data!$A$6:$A$1806,Data!$I$6:$I$1806)","v":15},{"$f":"LOOKUP($AO68,Data!$A$6:$A$1806,Data!$J$6:$J$1806)","v":-103},{"$f":"LOOKUP($AO68,Data!$A$6:$A$1806,Data!$K$6:$K$1806)","v":7559.07},-32.80029296875,"T-22 sec",40098.102060185207,null,null,null,null,null,null,null,null,null,null,null,null,"T-22 sec",40098.102060185207,null,null,null,null,null,null,null,null,null,null,null,null,"T-22 sec",40098.102060185207,null,null,null,null,null,null,null,null,null,null,null,null,"T-22 sec",40098.102060185207,null,null,null,null,null,null,null,null,null,null,null,null,"T-22 sec",40098.102060185207]
["T-20 sec",40098.102083333353,{"$f":"LOOKUP(B69,Data!$A$6:$A$1806,Data!B$6:B$1806)","v":60.03900146484375},{"$f":"LOOKUP(B69,Data!$A$6:$A$1806,Data!C$6:C$1806)","v":3654.29443359375},null,null,null,-31.201171875,-33.002091945910493,null,null,-0.15033345519247701,3646.6630628011662,null,null,null,null,null,null,null,null,null,null,null,null,0,null,null,"T-20 sec",null,null,null,null,null,null,null,null,null,null,"T-20 sec",40098.102083333353,{"$f":"LOOKUP($AO69,Data!$A$6:$A$1806,Data!$B$6:$B$1806)","v":60.03900146484375},{"$f":"LOOKUP($AO69,Data!$A$6:$A$1806,Data!$C$6:$C$1806)","v":3654.29443359375},{"$f":"LOOKUP($AO69,Data!$A$6:$A$1806,Data!$D$6:$D$1806)","v":350},{"$f":"IF($AS$1=\"+\",LOOKUP($AO69,Data!$A$6:$A$1806,Data!$E$6:$E$1806)*-1,LOOKUP($AO69,Data!$A$6:$A$1806,Data!$E$6:$E$1806))","v":-165.47639465332031},{"$f":"LOOKUP($AO69,Data!$A$6:$A$1806,Data!$F$6:$F$1806)","v":0},{"$f":"LOOKUP($AO69,Data!$A$6:$A$1806,Data!$G$6:$G$1806)","v":90},{"$f":"LOOKUP($AO69,Data!$A$6:$A$1806,Data!$H$6:$H$1806)","v":10},{"$f":"LOOKUP($AO69,Data!$A$6:$A$1806,Data!$I$6:$I$1806)","v":15},{"$f":"LOOKUP($AO69,Data!$A$6:$A$1806,Data!$J$6:$J$1806)","v":-103},{"$f":"LOOKUP($AO69,Data!$A$6:$A$1806,Data!$K$6:$K$1806)","v":7559.4},-31.201171875,"T-20 sec",40098.102083333353,null,null,null,null,null,null,null,null,null,null,null,null,"T-20 sec",40098.102083333353,null,null,null,null,null,null,null,null,null,null,null,null,"T-20 sec",40098.102083333353,null,null,null,null,null,null,null,null,null,null,null,null,"T-20 sec",40098.102083333353,null,null,null,null,null,null,null,null,null,null,null,null,"T-20 sec",40098.102083333353]
["T-18 sec",40098.1021064815,{"$f":"LOOKUP(B70,Data!$A$6:$A$1806,Data!B$6:B$1806)","v":60.03900146484375},{"$f":"LOOKUP(B70,Data!$A$6:$A$1806,Data!C$6:C$1806)","v":3654.29443359375},null,null,null,-31.201171875,-32.371769921091825,null,null,-0.15033345519247701,3647.1430513707924,null,null,null,null,null,null,null,null,null,null,null,null,0,null,null,"T-18 sec",null,null,null,null,null,null,null,null,null,null,"T-18 sec",40098.1021064815,{"$f":"LOOKUP($AO70,Data!$A$6:$A$1806,Data!$B$6:$B$1806)","v":60.03900146484375},{"$f":"LOOKUP($AO70,Data!$A$6:$A$1806,Data!$C$6:$C$1806)","v":3654.29443359375},{"$f":"LOOKUP($AO70,Data!$A$6:$A$1806,Data!$D$6:$D$1806)","v":350},{"$f":"IF($AS$1=\"+\",LOOKUP($AO70,Data!$A$6:$A$1806,Data!$E$6:$E$1806)*-1,LOOKUP($AO70,Data!$A$6:$A$1806,Data!$E$6:$E$1806))","v":-165.47639465332031},{"$f":"LOOKUP($AO70,Data!$A$6:$A$1806,Data!$F$6:$F$1806)","v":0},{"$f":"LOOKUP($AO70,Data!$A$6:$A$1806,Data!$G$6:$G$1806)","v":90},{"$f":"LOOKUP($AO70,Data!$A$6:$A$1806,Data!$H$6:$H$1806)","v":10},{"$f":"LOOKUP($AO70,Data!$A$6:$A$1806,Data!$I$6:$I$1806)","v":15},{"$f":"LOOKUP($AO70,Data!$A$6:$A$1806,Data!$J$6:$J$1806)","v":-103},{"$f":"LOOKUP($AO70,Data!$A$6:$A$1806,Data!$K$6:$K$1806)","v":7559.4},-31.201171875,"T-18 sec",40098.1021064815,null,null,null,null,null,null,null,null,null,null,null,null,"T-18 sec",40098.1021064815,null,null,null,null,null,null,null,null,null,null,null,null,"T-18 sec",40098.1021064815,null,null,null,null,null,null,null,null,null,null,null,null,"T-18 sec",40098.1021064815,null,null,null,null,null,null,null,null,null,null,null,null,"T-18 sec",40098.1021064815]
["T-16 sec",40098.102129629646,{"$f":"LOOKUP(B71,Data!$A$6:$A$1806,Data!B$6:B$1806)","v":60.03900146484375},{"$f":"LOOKUP(B71,Data!$A$6:$A$1806,Data!C$6:C$1806)","v":3654.29443359375},{"$f":"AVERAGE($C$71:$C$78)","v":60.041250228881836},{"$f":"AVERAGE($D$71:$D$78)","v":3649.001708984375},null,{"$f":"(IF((C71-$L$2)>0,((C71-$L$2-$L$5)/(($L$4*$L$2)-$L$5)*$L$3*-1),((C71-$L$2+$L$5)/(($L$4*$L$2)-$L$5)*$L$3*-1)))","v":-31.201171875},-31.962060604959689,null,null,-0.15033345519247701,3647.402427231732,null,null,null,null,null,null,null,null,null,null,null,null,0,null,null,"T-16 sec",{"$f":"AVERAGE($C$71:$C$78)","v":60.041250228881836},null,null,null,null,null,null,null,null,null,"T-16 sec",40098.102129629646,{"$f":"LOOKUP($AO71,Data!$A$6:$A$1806,Data!$B$6:$B$1806)","v":60.03900146484375},{"$f":"LOOKUP($AO71,Data!$A$6:$A$1806,Data!$C$6:$C$1806)","v":3654.29443359375},{"$f":"LOOKUP($AO71,Data!$A$6:$A$1806,Data!$D$6:$D$1806)","v":350},{"$f":"IF($AS$1=\"+\",LOOKUP($AO71,Data!$A$6:$A$1806,Data!$E$6:$E$1806)*-1,LOOKUP($AO71,Data!$A$6:$A$1806,Data!$E$6:$E$1806))","v":-165.47639465332031},{"$f":"LOOKUP($AO71,Data!$A$6:$A$1806,Data!$F$6:$F$1806)","v":0},{"$f":"LOOKUP($AO71,Data!$A$6:$A$1806,Data!$G$6:$G$1806)","v":90},{"$f":"LOOKUP($AO71,Data!$A$6:$A$1806,Data!$H$6:$H$1806)","v":10},{"$f":"LOOKUP($AO71,Data!$A$6:$A$1806,Data!$I$6:$I$1806)","v":15},{"$f":"LOOKUP($AO71,Data!$A$6:$A$1806,Data!$J$6:$J$1806)","v":-103},{"$f":"LOOKUP($AO71,Data!$A$6:$A$1806,Data!$K$6:$K$1806)","v":7559.4},-31.201171875,"T-16 sec",40098.102129629646,{"$f":"AVERAGE($AP$71:$AP$78)","v":60.041250228881836},{"$f":"AVERAGE($AQ$71:$AQ$78)","v":3649.001708984375},{"$f":"AVERAGE($AR$71:$AR$78)","v":350},{"$f":"AVERAGE($AS$71:$AS$78)","v":-165.47639465332031},{"$f":"AVERAGE($AT$71:$AT$78)","v":0},{"$f":"AVERAGE($AU$71:$AU$78)","v":90.875},{"$f":"AVERAGE($AV$71:$AV$78)","v":10},{"$f":"AVERAGE($AW$71:$AW$78)","v":15},{"$f":"AVERAGE($AX$71:$AX$78)","v":-103},{"$f":"AVERAGE($AY$71:$AY$78)","v":7559.9775},{"$f":"AVERAGE($AZ$71:$AZ$78)","v":-33.00018310546875},null,"T-16 sec",40098.102129629646,{"$f":"AVERAGE($AP$71:$AP$78)","v":60.041250228881836},{"$f":"AVERAGE($AQ$71:$AQ$78)","v":3649.001708984375},{"$f":"AVERAGE($AR$71:$AR$78)","v":350},{"$f":"AVERAGE($AS$71:$AS$78)","v":-165.47639465332031},{"$f":"AVERAGE($AT$71:$AT$78)","v":0},{"$f":"AVERAGE($AU$71:$AU$78)","v":90.875},{"$f":"AVERAGE($AV$71:$AV$78)","v":10},{"$f":"AVERAGE($AW$71:$AW$78)","v":15},{"$f":"AVERAGE($AX$71:$AX$78)","v":-103},{"$f":"AVERAGE($AY$71:$AY$78)","v":7559.9775},{"$f":"AVERAGE($AZ$71:$AZ$78)","v":-33.00018310546875},null,"T-16 sec",40098.102129629646,{"$f":"AVERAGE($AP$71:$AP$78)","v":60.041250228881836},{"$f":"AVERAGE($AQ$71:$AQ$78)","v":3649.001708984375},{"$f":"AVERAGE($AR$71:$AR$78)","v":350},{"$f":"AVERAGE($AS$71:$AS$78)","v":-165.47639465332031},{"$f":"AVERAGE($AT$71:$AT$78)","v":0},{"$f":"AVERAGE($AU$71:$AU$78)","v":90.875},{"$f":"AVERAGE($AV$71:$AV$78)","v":10},{"$f":"AVERAGE($AW$71:$AW$78)","v":15},{"$f":"AVERAGE($AX$71:$AX$78)","v":-103},{"$f":"AVERAGE($AY$71:$AY$78)","v":7559.9775},{"$f":"AVERAGE($AZ$71:$AZ$78)","v":-33.00018310546875},null,"T-16 sec",40098.102129629646,{"$f":"AVERAGE($AP$71:$AP$78)","v":60.041250228881836},{"$f":"AVERAGE($AQ$71:$AQ$78)","v":3649.001708984375},{"$f":"AVERAGE($AR$71:$AR$78)","v":350},{"$f":"AVERAGE($AS$71:$AS$78)","v":-165.47639465332031},{"$f":"AVERAGE($AT$71:$AT$78)","v":0},{"$f":"AVERAGE($AU$71:$AU$78)","v":90.875},{"$f":"AVERAGE($AV$71:$AV$78)","v":10},{"$f":"AVERAGE($AW$71:$AW$78)","v":15},{"$f":"AVERAGE($AX$71:$AX$78)","v":-103},{"$f":"AVERAGE($AY$71:$AY$78)","v":7559.9775},{"$f":"AVERAGE($AZ$71:$AZ$78)","v":-33.00018310546875},null,"T-16 sec",40098.102129629646,{"$f":"AVERAGE($AP$71:$AP$78)","v":60.041250228881836},{"$f":"AVERAGE($AQ$71:$AQ$78)","v":3649.001708984375},{"$f":"AVERAGE($AR$71:$AR$78)","v":350},{"$f":"AVERAGE($AS$71:$AS$78)","v":-165.47639465332031},{"$f":"AVERAGE($AT$71:$AT$78)","v":0},{"$f":"AVERAGE($AU$71:$AU$78)","v":90.875},{"$f":"AVERAGE($AV$71:$AV$78)","v":10},{"$f":"AVERAGE($AW$71:$AW$78)","v":15},{"$f":"AVERAGE($AX$71:$AX$78)","v":-103},{"$f":"AVERAGE($AY$71:$AY$78)","v":7559.9775},{"$f":"AVERAGE($AZ$71:$AZ$78)","v":-33.00018310546875}]
["T-14 sec",40098.102152777792,{"$f":"LOOKUP(B72,Data!$A$6:$A$1806,Data!B$6:B$1806)","v":60.042999267578125},{"$f":"LOOKUP(B72,Data!$A$6:$A$1806,Data!C$6:C$1806)","v":3651.059326171875},{"$f":"AVERAGE($C$71:$C$78)","v":60.041250228881836},{"$f":"AVERAGE($D$71:$D$78)","v":3649.001708984375},null,-34.3994140625,-32.815134315098803,null,null,-0.15033345519247701,3646.3990200664002,null,null,null,null,null,null,null,null,null,null,null,null,0,null,null,"T-14 sec",{"$f":"AVERAGE($C$71:$C$78)","v":60.041250228881836},null,null,null,null,null,null,null,null,null,"T-14 sec",40098.102152777792,{"$f":"LOOKUP($AO72,Data!$A$6:$A$1806,Data!$B$6:$B$1806)","v":60.042999267578125},{"$f":"LOOKUP($AO72,Data!$A$6:$A$1806,Data!$C$6:$C$1806)","v":3651.059326171875},{"$f":"LOOKUP($AO72,Data!$A$6:$A$1806,Data!$D$6:$D$1806)","v":350},{"$f":"IF($AS$1=\"+\",LOOKUP($AO72,Data!$A$6:$A$1806,Data!$E$6:$E$1806)*-1,LOOKUP($AO72,Data!$A$6:$A$1806,Data!$E$6:$E$1806))","v":-165.47639465332031},{"$f":"LOOKUP($AO72,Data!$A$6:$A$1806,Data!$F$6:$F$1806)","v":0},{"$f":"LOOKUP($AO72,Data!$A$6:$A$1806,Data!$G$6:$G$1806)","v":90.5},{"$f":"LOOKUP($AO72,Data!$A$6:$A$1806,Data!$H$6:$H$1806)","v":10},{"$f":"LOOKUP($AO72,Data!$A$6:$A$1806,Data!$I$6:$I$1806)","v":15},{"$f":"LOOKUP($AO72,Data!$A$6:$A$1806,Data!$J$6:$J$1806)","v":-103},{"$f":"LOOKUP($AO72,Data!$A$6:$A$1806,Data!$K$6:$K$1806)","v":7559.73},-34.3994140625,"T-14 sec",40098.102152777792,{"$f":"AVERAGE($AP$71:$AP$78)","v":60.041250228881836},{"$f":"AVERAGE($AQ$71:$AQ$78)","v":3649.001708984375},{"$f":"AVERAGE($AR$71:$AR$78)","v":350},{"$f":"AVERAGE($AS$71:$AS$78)","v":-165.47639465332031},{"$f":"AVERAGE($AT$71:$AT$78)","v":0},{"$f":"AVERAGE($AU$71:$AU$78)","v":90.875},{"$f":"AVERAGE($AV$71:$AV$78)","v":10},{"$f":"AVERAGE($AW$71:$AW$78)","v":15},{"$f":"AVERAGE($AX$71:$AX$78)","v":-103},{"$f":"AVERAGE($AY$71:$AY$78)","v":7559.9775},{"$f":"AVERAGE($AZ$71:$AZ$78)","v":-33.00018310546875},null,"T-14 sec",40098.102152777792,{"$f":"AVERAGE($AP$71:$AP$78)","v":60.041250228881836},{"$f":"AVERAGE($AQ$71:$AQ$78)","v":3649.001708984375},{"$f":"AVERAGE($AR$71:$AR$78)","v":350},{"$f":"AVERAGE($AS$71:$AS$78)","v":-165.47639465332031},{"$f":"AVERAGE($AT$71:$AT$78)","v":0},{"$f":"AVERAGE($AU$71:$AU$78)","v":90.875},{"$f":"AVERAGE($AV$71:$AV$78)","v":10},{"$f":"AVERAGE($AW$71:$AW$78)","v":15},{"$f":"AVERAGE($AX$71:$AX$78)","v":-103},{"$f":"AVERAGE($AY$71:$AY$78)","v":7559.9775},{"$f":"AVERAGE($AZ$71:$AZ$78)","v":-33.00018310546875},null,"T-14 sec",40098.102152777792,{"$f":"AVERAGE($AP$71:$AP$78)","v":60.041250228881836},{"$f":"AVERAGE($AQ$71:$AQ$78)","v":3649.001708984375},{"$f":"AVERAGE($AR$71:$AR$78)","v":350},{"$f":"AVERAGE($AS$71:$AS$78)","v":-165.47639465332031},{"$f":"AVERAGE($AT$71:$AT$78)","v":0},{"$f":"AVERAGE($AU$71:$AU$78)","v":90.875},{"$f":"AVERAGE($AV$71:$AV$78)","v":10},{"$f":"AVERAGE($AW$71:$AW$78)","v":15},{"$f":"AVERAGE($AX$71:$AX$78)","v":-103},{"$f":"AVERAGE($AY$71:$AY$78)","v":7559.9775},{"$f":"AVERAGE($AZ$71:$AZ$78)","v":-33.00018310546875},null,"T-14 sec",40098.102152777792,{"$f":"AVERAGE($AP$71:$AP$78)","v":60.041250228881836},{"$f":"AVERAGE($AQ$71:$AQ$78)","v":3649.001708984375},{"$f":"AVERAGE($AR$71:$AR$78)","v":350},{"$f":"AVERAGE($AS$71:$AS$78)","v":-165.47639465332031},{"$f":"AVERAGE($AT$71:$AT$78)","v":0},{"$f":"AVERAGE($AU$71:$AU$78)","v":90.875},{"$f":"AVERAGE($AV$71:$AV$78)","v":10},{"$f":"AVERAGE($AW$71:$AW$78)","v":15},{"$f":"AVERAGE($AX$71:$AX$78)","v":-103},{"$f":"AVERAGE($AY$71:$AY$78)","v":7559.9775},{"$f":"AVERAGE($AZ$71:$AZ$78)","v":-33.00018310546875},null,"T-14 sec",40098.102152777792,{"$f":"AVERAGE($AP$71:$AP$78)","v":60.041250228881836},{"$f":"AVERAGE($AQ$71:$AQ$78)","v":3649.001708984375},{"$f":"AVERAGE($AR$71:$AR$78)","v":350},{"$f":"AVERAGE($AS$71:$AS$78)","v":-165.47639465332031},{"$f":"AVERAGE($AT$71:$AT$78)","v":0},{"$f":"AVERAGE($AU$71:$AU$78)","v":90.875},{"$f":"AVERAGE($AV$71:$AV$78)","v":10},{"$f":"AVERAGE($AW$71:$AW$78)","v":15},{"$f":"AVERAGE($AX$71:$AX$78)","v":-103},{"$f":"AVERAGE($AY$71:$AY$78)","v":7559.9775},{"$f":"AVERAGE($AZ$71:$AZ$78)","v":-33.00018310546875}]
["T-12 sec",40098.102175925938,{"$f":"LOOKUP(B73,Data!$A$6:$A$1806,Data!B$6:B$1806)","v":60.042999267578125},{"$f":"LOOKUP(B73,Data!$A$6:$A$1806,Data!C$6:C$1806)","v":3651.059326171875},60.041250228881836,3649.001708984375,null,-34.3994140625,-33.36963222668922,null,null,-0.15033345519247701,3645.6941886996174,null,null,null,null,null,null,null,null,null,null,null,null,0,null,null,"T-12 sec",60.041250228881836,null,null,null,null,null,null,null,null,null,"T-12 sec",40098.102175925938,{"$f":"LOOKUP($AO73,Data!$A$6:$A$1806,Data!$B$6:$B$1806)","v":60.042999267578125},{"$f":"LOOKUP($AO73,Data!$A$6:$A$1806,Data!$C$6:$C$1806)","v":3651.059326171875},{"$f":"LOOKUP($AO73,Data!$A$6:$A$1806,Data!$D$6:$D$1806)","v":350},{"$f":"IF($AS$1=\"+\",LOOKUP($AO73,Data!$A$6:$A$1806,Data!$E$6:$E$1806)*-1,LOOKUP($AO73,Data!$A$6:$A$1806,Data!$E$6:$E$1806))","v":-165.47639465332031},{"$f":"LOOKUP($AO73,Data!$A$6:$A$1806,Data!$F$6:$F$1806)","v":0},{"$f":"LOOKUP($AO73,Data!$A$6:$A$1806,Data!$G$6:$G$1806)","v":90.5},{"$f":"LOOKUP($AO73,Data!$A$6:$A$1806,Data!$H$6:$H$1806)","v":10},{"$f":"LOOKUP($AO73,Data!$A$6:$A$1806,Data!$I$6:$I$1806)","v":15},{"$f":"LOOKUP($AO73,Data!$A$6:$A$1806,Data!$J$6:$J$1806)","v":-103},{"$f":"LOOKUP($AO73,Data!$A$6:$A$1806,Data!$K$6:$K$1806)","v":7559.73},-34.3994140625,"T-12 sec",40098.102175925938,60.041250228881836,3649.001708984375,350,-165.47639465332031,0,90.875,10,15,-103,7559.9775,-33.00018310546875,null,"T-12 sec",40098.102175925938,60.041250228881836,3649.001708984375,350,-165.47639465332031,0,90.875,10,15,-103,7559.9775,-33.00018310546875,null,"T-12 sec",40098.102175925938,60.041250228881836,3649.001708984375,350,-165.47639465332031,0,90.875,10,15,-103,7559.9775,-33.00018310546875,null,"T-12 sec",40098.102175925938,60.041250228881836,3649.001708984375,350,-165.47639465332031,0,90.875,10,15,-103,7559.9775,-33.00018310546875,null,"T-12 sec",40098.102175925938,60.041250228881836,3649.001708984375,350,-165.47639465332031,0,90.875,10,15,-103,7559.9775,-33.00018310546875]
["T-10 sec",40098.102199074085,{"$f":"LOOKUP(B74,Data!$A$6:$A$1806,Data!B$6:B$1806)","v":60.041000366210938},{"$f":"LOOKUP(B74,Data!$A$6:$A$1806,Data!C$6:C$1806)","v":3648.236328125},60.041250228881836,3649.001708984375,null,-32.80029296875,-33.170363486410494,null,null,-0.15033345519247701,3645.7431239847033,null,null,null,null,null,null,null,null,null,null,null,null,0,null,null,"T-10 sec",60.041250228881836,null,null,null,null,null,null,null,null,null,"T-10 sec",40098.102199074085,{"$f":"LOOKUP($AO74,Data!$A$6:$A$1806,Data!$B$6:$B$1806)","v":60.041000366210938},{"$f":"LOOKUP($AO74,Data!$A$6:$A$1806,Data!$C$6:$C$1806)","v":3648.236328125},{"$f":"LOOKUP($AO74,Data!$A$6:$A$1806,Data!$D$6:$D$1806)","v":350},{"$f":"IF($AS$1=\"+\",LOOKUP($AO74,Data!$A$6:$A$1806,Data!$E$6:$E$1806)*-1,LOOKUP($AO74,Data!$A$6:$A$1806,Data!$E$6:$E$1806))","v":-165.47639465332031},{"$f":"LOOKUP($AO74,Data!$A$6:$A$1806,Data!$F$6:$F$1806)","v":0},{"$f":"LOOKUP($AO74,Data!$A$6:$A$1806,Data!$G$6:$G$1806)","v":91},{"$f":"LOOKUP($AO74,Data!$A$6:$A$1806,Data!$H$6:$H$1806)","v":10},{"$f":"LOOKUP($AO74,Data!$A$6:$A$1806,Data!$I$6:$I$1806)","v":15},{"$f":"LOOKUP($AO74,Data!$A$6:$A$1806,Data!$J$6:$J$1806)","v":-103},{"$f":"LOOKUP($AO74,Data!$A$6:$A$1806,Data!$K$6:$K$1806)","v":7560.06},-32.80029296875,"T-10 sec",40098.102199074085,60.041250228881836,3649.001708984375,350,-165.47639465332031,0,90.875,10,15,-103,7559.9775,-33.00018310546875,null,"T-10 sec",40098.102199074085,60.041250228881836,3649.001708984375,350,-165.47639465332031,0,90.875,10,15,-103,7559.9775,-33.00018310546875,null,"T-10 sec",40098.102199074085,60.041250228881836,3649.001708984375,350,-165.47639465332031,0,90.875,10,15,-103,7559.9775,-33.00018310546875,null,"T-10 sec",40098.102199074085,60.041250228881836,3649.001708984375,350,-165.47639465332031,0,90.875,10,15,-103,7559.9775,-33.00018310546875,null,"T-10 sec",40098.102199074085,60.041250228881836,3649.001708984375,350,-165.47639465332031,0,90.875,10,15,-103,7559.9775,-33.00018310546875]
["T-08 sec",40098.102222222231,{"$f":"LOOKUP(B75,Data!$A$6:$A$1806,Data!B$6:B$1806)","v":60.041000366210938},{"$f":"LOOKUP(B75,Data!$A$6:$A$1806,Data!C$6:C$1806)","v":3648.236328125},60.041250228881836,3649.001708984375,null,-32.80029296875,-33.04083880522932,null,null,-0.15033345519247701,3645.7223152106917,null,null,null,null,null,null,null,null,null,null,null,null,0,null,null,"T-08 sec",60.041250228881836,null,null,null,null,null,null,null,null,null,"T-08 sec",40098.102222222231,{"$f":"LOOKUP($AO75,Data!$A$6:$A$1806,Data!$B$6:$B$1806)","v":60.041000366210938},{"$f":"LOOKUP($AO75,Data!$A$6:$A$1806,Data!$C$6:$C$1806)","v":3648.236328125},{"$f":"LOOKUP($AO75,Data!$A$6:$A$1806,Data!$D$6:$D$1806)","v":350},{"$f":"IF($AS$1=\"+\",LOOKUP($AO75,Data!$A$6:$A$1806,Data!$E$6:$E$1806)*-1,LOOKUP($AO75,Data!$A$6:$A$1806,Data!$E$6:$E$1806))","v":-165.47639465332031},{"$f":"LOOKUP($AO75,Data!$A$6:$A$1806,Data!$F$6:$F$1806)","v":0},{"$f":"LOOKUP($AO75,Data!$A$6:$A$1806,Data!$G$6:$G$1806)","v":91},{"$f":"LOOKUP($AO75,Data!$A$6:$A$1806,Data!$H$6:$H$1806)","v":10},{"$f":"LOOKUP($AO75,Data!$A$6:$A$1806,Data!$I$6:$I$1806)","v":15},{"$f":"LOOKUP($AO75,Data!$A$6:$A$1806,Data!$J$6:$J$1806)","v":-103},{"$f":"LOOKUP($AO75,Data!$A$6:$A$1806,Data!$K$6:$K$1806)","v":7560.06},-32.80029296875,"T-08 sec",40098.102222222231,60.041250228881836,3649.001708984375,350,-165.47639465332031,0,90.875,10,15,-103,7559.9775,-33.00018310546875,null,"T-08 sec",40098.102222222231,60.041250228881836,3649.001708984375,350,-165.47639465332031,0,90.875,10,15,-103,7559.9775,-33.00018310546875,null,"T-08 sec",40098.102222222231,60.041250228881836,3649.001708984375,350,-165.47639465332031,0,90.875,10,15,-103,7559.9775,-33.00018310546875,null,"T-08 sec",40098.102222222231,60.041250228881836,3649.001708984375,350,-165.47639465332031,0,90.875,10,15,-103,7559.9775,-33.00018310546875,null,"T-08 sec",40098.102222222231,60.041250228881836,3649.001708984375,350,-165.47639465332031,0,90.875,10,15,-103,7559.9775,-33.00018310546875]
["T-06 sec",40098.102245370377,{"$f":"LOOKUP(B76,Data!$A$6:$A$1806,Data!B$6:B$1806)","v":60.041000366210938},{"$f":"LOOKUP(B76,Data!$A$6:$A$1806,Data!C$6:C$1806)","v":3648.236328125},60.041250228881836,3649.001708984375,null,-32.80029296875,-32.956647762461557,null,null,-0.15033345519247701,3645.6561727982667,null,null,null,null,null,null,null,null,null,null,null,null,0,null,null,"T-06 sec",60.041250228881836,null,null,null,null,null,null,null,null,null,"T-06 sec",40098.102245370377,{"$f":"LOOKUP($AO76,Data!$A$6:$A$1806,Data!$B$6:$B$1806)","v":60.041000366210938},{"$f":"LOOKUP($AO76,Data!$A$6:$A$1806,Data!$C$6:$C$1806)","v":3648.236328125},{"$f":"LOOKUP($AO76,Data!$A$6:$A$1806,Data!$D$6:$D$1806)","v":350},{"$f":"IF($AS$1=\"+\",LOOKUP($AO76,Data!$A$6:$A$1806,Data!$E$6:$E$1806)*-1,LOOKUP($AO76,Data!$A$6:$A$1806,Data!$E$6:$E$1806))","v":-165.47639465332031},{"$f":"LOOKUP($AO76,Data!$A$6:$A$1806,Data!$F$6:$F$1806)","v":0},{"$f":"LOOKUP($AO76,Data!$A$6:$A$1806,Data!$G$6:$G$1806)","v":91},{"$f":"LOOKUP($AO76,Data!$A$6:$A$1806,Data!$H$6:$H$1806)","v":10},{"$f":"LOOKUP($AO76,Data!$A$6:$A$1806,Data!$I$6:$I$1806)","v":15},{"$f":"LOOKUP($AO76,Data!$A$6:$A$1806,Data!$J$6:$J$1806)","v":-103},{"$f":"LOOKUP($AO76,Data!$A$6:$A$1806,Data!$K$6:$K$1806)","v":7560.06},-32.80029296875,"T-06 sec",40098.102245370377,60.041250228881836,3649.001708984375,350,-165.47639465332031,0,90.875,10,15,-103,7559.9775,-33.00018310546875,null,"T-06 sec",40098.102245370377,60.041250228881836,3649.001708984375,350,-165.47639465332031,0,90.875,10,15,-103,7559.9775,-33.00018310546875,null,"T-06 sec",40098.102245370377,60.041250228881836,3649.001708984375,350,-165.47639465332031,0,90.875,10,15,-103,7559.9775,-33.00018310546875,null,"T-06 sec",40098.102245370377,60.041250228881836,3649.001708984375,350,-165.47639465332031,0,90.875,10,15,-103,7559.9775,-33.00018310546875,null,"T-06 sec",40098.102245370377,60.041250228881836,3649.001708984375,350,-165.47639465332031,0,90.875,10,15,-103,7559.9775,-33.00018310546875]
["T-04 sec",40098.102268518523,{"$f":"LOOKUP(B77,Data!$A$6:$A$1806,Data!B$6:B$1806)","v":60.041000366210938},{"$f":"LOOKUP(B77,Data!$A$6:$A$1806,Data!C$6:C$1806)","v":3645.44580078125},60.041250228881836,3649.001708984375,null,-32.80029296875,-32.901923584662512,null,null,-0.15033345519247701,3645.5605635208731,null,null,null,null,null,null,null,null,null,null,null,null,0,null,null,"T-04 sec",60.041250228881836,null,null,null,null,null,null,null,null,null,"T-04 sec",40098.102268518523,{"$f":"LOOKUP($AO77,Data!$A$6:$A$1806,Data!$B$6:$B$1806)","v":60.041000366210938},{"$f":"LOOKUP($AO77,Data!$A$6:$A$1806,Data!$C$6:$C$1806)","v":3645.44580078125},{"$f":"LOOKUP($AO77,Data!$A$6:$A$1806,Data!$D$6:$D$1806)","v":350},{"$f":"IF($AS$1=\"+\",LOOKUP($AO77,Data!$A$6:$A$1806,Data!$E$6:$E$1806)*-1,LOOKUP($AO77,Data!$A$6:$A$1806,Data!$E$6:$E$1806))","v":-165.47639465332031},{"$f":"LOOKUP($AO77,Data!$A$6:$A$1806,Data!$F$6:$F$1806)","v":0},{"$f":"LOOKUP($AO77,Data!$A$6:$A$1806,Data!$G$6:$G$1806)","v":91.5},{"$f":"LOOKUP($AO77,Data!$A$6:$A$1806,Data!$H$6:$H$1806)","v":10},{"$f":"LOOKUP($AO77,Data!$A$6:$A$1806,Data!$I$6:$I$1806)","v":15},{"$f":"LOOKUP($AO77,Data!$A$6:$A$1806,Data!$J$6:$J$1806)","v":-103},{"$f":"LOOKUP($AO77,Data!$A$6:$A$1806,Data!$K$6:$K$1806)","v":7560.39},-32.80029296875,"T-04 sec",40098.102268518523,60.041250228881836,3649.001708984375,350,-165.47639465332031,0,90.875,10,15,-103,7559.9775,-33.00018310546875,null,"T-04 sec",40098.102268518523,60.041250228881836,3649.001708984375,350,-165.47639465332031,0,90.875,10,15,-103,7559.9775,-33.00018310546875,null,"T-04 sec",40098.102268518523,60.041250228881836,3649.001708984375,350,-165.47639465332031,0,90.875,10,15,-103,7559.9775,-33.00018310546875,null,"T-04 sec",40098.102268518523,60.041250228881836,3649.001708984375,350,-165.47639465332031,0,90.875,10,15,-103,7559.9775,-33.00018310546875,null,"T-04 sec",40098.102268518523,60.041250228881836,3649.001708984375,350,-165.47639465332031,0,90.875,10,15,-103,7559.9775,-33.00018310546875]
["T-02 sec",{"$f":"B79-TIME(0,0,$B$1)","v":40098.10229166667},{"$f":"LOOKUP(B78,Data!$A$6:$A$1806,Data!B$6:B$1806)","v":60.041000366210938},{"$f":"LOOKUP(B78,Data!$A$6:$A$1806,Data!C$6:C$1806)","v":3645.44580078125},60.041250228881836,3649.001708984375,null,-32.80029296875,-32.866352869093134,null,null,-0.15033345519247701,{"$f":"D78","v":3645.44580078125},null,null,null,null,null,null,null,null,null,null,null,null,0,null,null,"T-02 sec",60.041250228881836,null,null,null,null,null,null,null,null,null,"T-02 sec",{"$f":"AO79-TIME(0,0,$B$1)","v":40098.10229166667},{"$f":"LOOKUP($AO78,Data!$A$6:$A$1806,Data!$B$6:$B$1806)","v":60.041000366210938},{"$f":"LOOKUP($AO78,Data!$A$6:$A$1806,Data!$C$6:$C$1806)","v":3645.44580078125},{"$f":"LOOKUP($AO78,Data!$A$6:$A$1806,Data!$D$6:$D$1806)","v":350},{"$f":"IF($AS$1=\"+\",LOOKUP($AO78,Data!$A$6:$A$1806,Data!$E$6:$E$1806)*-1,LOOKUP($AO78,Data!$A$6:$A$1806,Data!$E$6:$E$1806))","v":-165.47639465332031},{"$f":"LOOKUP($AO78,Data!$A$6:$A$1806,Data!$F$6:$F$1806)","v":0},{"$f":"LOOKUP($AO78,Data!$A$6:$A$1806,Data!$G$6:$G$1806)","v":91.5},{"$f":"LOOKUP($AO78,Data!$A$6:$A$1806,Data!$H$6:$H$1806)","v":10},{"$f":"LOOKUP($AO78,Data!$A$6:$A$1806,Data!$I$6:$I$1806)","v":15},{"$f":"LOOKUP($AO78,Data!$A$6:$A$1806,Data!$J$6:$J$1806)","v":-103},{"$f":"LOOKUP($AO78,Data!$A$6:$A$1806,Data!$K$6:$K$1806)","v":7560.39},-32.80029296875,"T-02 sec",{"$f":"BB79-TIME(0,0,$B$1)","v":40098.10229166667},60.041250228881836,3649.001708984375,350,-165.47639465332031,0,90.875,10,15,-103,7559.9775,-33.00018310546875,null,"T-02 sec",{"$f":"BP79-TIME(0,0,$B$1)","v":40098.10229166667},60.041250228881836,3649.001708984375,350,-165.47639465332031,0,90.875,10,15,-103,7559.9775,-33.00018310546875,null,"T-02 sec",{"$f":"CD79-TIME(0,0,$B$1)","v":40098.10229166667},60.041250228881836,3649.001708984375,350,-165.47639465332031,0,90.875,10,15,-103,7559.9775,-33.00018310546875,null,"T-02 sec",{"$f":"CR79-TIME(0,0,$B$1)","v":40098.10229166667},60.041250228881836,3649.001708984375,350,-165.47639465332031,0,90.875,10,15,-103,7559.9775,-33.00018310546875,null,"T-02 sec",{"$f":"DF79-TIME(0,0,$B$1)","v":40098.10229166667},60.041250228881836,3649.001708984375,350,-165.47639465332031,0,90.875,10,15,-103,7559.9775,-33.00018310546875]
["T+0 sec",{"$f":"G2","v":40098.102314814816},{"$f":"LOOKUP(B79,Data!$A$6:$A$1806,Data!B$6:B$1806)","v":59.852001190185547},{"$f":"LOOKUP(B79,Data!$A$6:$A$1806,Data!C$6:C$1806)","v":3641.191162109375},null,null,null,118.3990478515625,20.076537383136337,null,null,0,{"$f":"M78+L79+(I79-I78)","v":3698.3886910334795},null,null,null,null,{"$f":"R$41","v":633},null,null,null,null,null,null,null,633,{"$f":"Z79/((C79-G$4)*10)","v":-334.47990244000766},null,"T+0 sec",null,null,null,null,null,null,null,null,null,null,"T+0 sec",{"$f":"$G2","v":40098.102314814816},{"$f":"LOOKUP($AO79,Data!$A$6:$A$1806,Data!$B$6:$B$1806)","v":59.852001190185547},{"$f":"LOOKUP($AO79,Data!$A$6:$A$1806,Data!$C$6:$C$1806)","v":3641.191162109375},{"$f":"LOOKUP($AO79,Data!$A$6:$A$1806,Data!$D$6:$D$1806)","v":335},{"$f":"IF($AS$1=\"+\",LOOKUP($AO79,Data!$A$6:$A$1806,Data!$E$6:$E$1806)*-1,LOOKUP($AO79,Data!$A$6:$A$1806,Data!$E$6:$E$1806))","v":-206.4591064453125},{"$f":"LOOKUP($AO79,Data!$A$6:$A$1806,Data!$F$6:$F$1806)","v":1},{"$f":"LOOKUP($AO79,Data!$A$6:$A$1806,Data!$G$6:$G$1806)","v":92},{"$f":"LOOKUP($AO79,Data!$A$6:$A$1806,Data!$H$6:$H$1806)","v":10},{"$f":"LOOKUP($AO79,Data!$A$6:$A$1806,Data!$I$6:$I$1806)","v":0},{"$f":"LOOKUP($AO79,Data!$A$6:$A$1806,Data!$J$6:$J$1806)","v":-103},{"$f":"LOOKUP($AO79,Data!$A$6:$A$1806,Data!$K$6:$K$1806)","v":7560.72},118.3990478515625,"T+0 sec",{"$f":"$G2","v":40098.102314814816},null,null,null,null,null,null,null,null,null,null,null,null,"T+0 sec",{"$f":"$G2","v":40098.102314814816},null,null,null,null,null,null,null,null,null,null,null,null,"T+0 sec",{"$f":"$G2","v":40098.102314814816},null,null,null,null,null,null,null,null,null,null,null,null,"T+0 sec",{"$f":"$G2","v":40098.102314814816},null,null,null,null,null,null,null,null,null,null,null,null,"T+0 sec",{"$f":"$G2","v":40098.102314814816}]
["T+02 sec",{"$f":"B79+TIME(0,0,$B$1)","v":40098.102337962962},{"$f":"LOOKUP(B80,Data!$A$6:$A$1806,Data!B$6:B$1806)","v":59.852001190185547},{"$f":"LOOKUP(B80,Data!$A$6:$A$1806,Data!C$6:C$1806)","v":3641.191162109375},null,null,null,118.3990478515625,54.489416047085498,null,null,{"$f":"IF(B80>G$3,0,(K$21*0.000023148/K$22))","v":0.58035779256491771},{"$f":"M79+L80+(I80-I79)","v":3733.3819274899934},{"$f":"AVERAGE(D$79:D80)","v":3641.191162109375},{"$f":"AVERAGE(M$79:M80)","v":3715.8853092617364},{"$f":"K20+L78-I77","v":3678.1973909107201},{"$f":"AVERAGE(P$79:P80)","v":3678.1973909107201},{"$f":"R$41","v":633},null,null,null,null,null,null,null,633,{"$f":"Z80/((C80-G$4)*10)","v":-334.47990244000766},null,"T+02 sec",null,null,null,null,null,null,null,null,null,null,"T+02 sec",{"$f":"AO79+TIME(0,0,$B$1)","v":40098.102337962962},{"$f":"LOOKUP($AO80,Data!$A$6:$A$1806,Data!$B$6:$B$1806)","v":59.852001190185547},{"$f":"LOOKUP($AO80,Data!$A$6:$A$1806,Data!$C$6:$C$1806)","v":3641.191162109375},{"$f":"LOOKUP($AO80,Data!$A$6:$A$1806,Data!$D$6:$D$1806)","v":335},{"$f":"IF($AS$1=\"+\",LOOKUP($AO80,Data!$A$6:$A$1806,Data!$E$6:$E$1806)*-1,LOOKUP($AO80,Data!$A$6:$A$1806,Data!$E$6:$E$1806))","v":-206.4591064453125},{"$f":"LOOKUP($AO80,Data!$A$6:$A$1806,Data!$F$6:$F$1806)","v":1},{"$f":"LOOKUP($AO80,Data!$A$6:$A$1806,Data!$G$6:$G$1806)","v":92},{"$f":"LOOKUP($AO80,Data!$A$6:$A$1806,Data!$H$6:$H$1806)","v":10},{"$f":"LOOKUP($AO80,Data!$A$6:$A$1806,Data!$I$6:$I$1806)","v":0},{"$f":"LOOKUP($AO80,Data!$A$6:$A$1806,Data!$J$6:$J$1806)","v":-103},{"$f":"LOOKUP($AO80,Data!$A$6:$A$1806,Data!$K$6:$K$1806)","v":7560.72},118.3990478515625,"T+02 sec",{"$f":"BB79+TIME(0,0,$B$1)","v":40098.102337962962},null,null,null,null,null,null,null,null,null,null,null,null,"T+02 sec",{"$f":"BP79+TIME(0,0,$B$1)","v":40098.102337962962},null,null,null,null,null,null,null,null,null,null,null,null,"T+02 sec",{"$f":"CD79+TIME(0,0,$B$1)","v":40098.102337962962},null,null,null,null,null,null,null,null,null,null,null,null,"T+02 sec",{"$f":"CR79+TIME(0,0,$B$1)","v":40098.102337962962},null,null,null,null,null,null,null,null,null,null,null,null,"T+02 sec",{"$f":"DF79+TIME(0,0,$B$1)","v":40098.102337962962}]
["T+04 sec",{"$f":"B80+TIME(0,0,$B$1)","v":40098.102361111109},{"$f":"LOOKUP(B81,Data!$A$6:$A$1806,Data!B$6:B$1806)","v":59.852001190185547},{"$f":"LOOKUP(B81,Data!$A$6:$A$1806,Data!C$6:C$1806)","v":3641.191162109375},null,null,null,118.3990478515625,76.857787178652444,null,null,0.58035779256491771,3756.3306564141253,{"$f":"AVERAGE(D$79:D81)","v":3641.191162109375},{"$f":"AVERAGE(M$79:M81)","v":3729.3670916458664},{"$f":"P80+L81","v":3678.7777487032849},{"$f":"AVERAGE(P$79:P81)","v":3678.4875698070027},{"$f":"R$41","v":633},null,null,null,null,null,null,null,633,-334.47990244000766,null,"T+04 sec",null,null,null,null,null,null,null,null,null,null,"T+04 sec",{"$f":"AO80+TIME(0,0,$B$1)","v":40098.102361111109},{"$f":"LOOKUP($AO81,Data!$A$6:$A$1806,Data!$B$6:$B$1806)","v":59.852001190185547},{"$f":"LOOKUP($AO81,Data!$A$6:$A$1806,Data!$C$6:$C$1806)","v":3641.191162109375},{"$f":"LOOKUP($AO81,Data!$A$6:$A$1806,Data!$D$6:$D$1806)","v":335},{"$f":"IF($AS$1=\"+\",LOOKUP($AO81,Data!$A$6:$A$1806,Data!$E$6:$E$1806)*-1,LOOKUP($AO81,Data!$A$6:$A$1806,Data!$E$6:$E$1806))","v":-206.4591064453125},{"$f":"LOOKUP($AO81,Data!$A$6:$A$1806,Data!$F$6:$F$1806)","v":1},{"$f":"LOOKUP($AO81,Data!$A$6:$A$1806,Data!$G$6:$G$1806)","v":92},{"$f":"LOOKUP($AO81,Data!$A$6:$A$1806,Data!$H$6:$H$1806)","v":10},{"$f":"LOOKUP($AO81,Data!$A$6:$A$1806,Data!$I$6:$I$1806)","v":0},{"$f":"LOOKUP($AO81,Data!$A$6:$A$1806,Data!$J$6:$J$1806)","v":-103},{"$f":"LOOKUP($AO81,Data!$A$6:$A$1806,Data!$K$6:$K$1806)","v":7560.72},118.3990478515625,"T+04 sec",{"$f":"BB80+TIME(0,0,$B$1)","v":40098.102361111109},null,null,null,null,null,null,null,null,null,null,null,null,"T+04 sec",{"$f":"BP80+TIME(0,0,$B$1)","v":40098.102361111109},null,null,null,null,null,null,null,null,null,null,null,null,"T+04 sec",{"$f":"CD80+TIME(0,0,$B$1)","v":40098.102361111109},null,null,null,null,null,null,null,null,null,null,null,null,"T+04 sec",{"$f":"CR80+TIME(0,0,$B$1)","v":40098.102361111109},null,null,null,null,null,null,null,null,null,null,null,null,"T+04 sec",{"$f":"DF80+TIME(0,0,$B$1)","v":40098.102361111109}]
["T+06 sec",40098.102384259255,{"$f":"LOOKUP(B82,Data!$A$6:$A$1806,Data!B$6:B$1806)","v":59.868999481201172},{"$f":"LOOKUP(B82,Data!$A$6:$A$1806,Data!C$6:C$1806)","v":3734.904296875},null,null,null,104.8004150390625,86.637706929795968,null,null,0.58035779256491771,3766.6909339578337,{"$f":"AVERAGE(D$79:D82)","v":3664.6194458007812},{"$f":"AVERAGE(M$79:M82)","v":3738.6980522238582},{"$f":"P81+L82","v":3679.3581064958498},{"$f":"AVERAGE(P$79:P82)","v":3678.7777487032849},633,null,null,null,null,null,null,0,633,-367.48751951632727,null,"T+06 sec",null,null,null,null,null,null,null,null,null,null,"T+06 sec",40098.102384259255,{"$f":"LOOKUP($AO82,Data!$A$6:$A$1806,Data!$B$6:$B$1806)","v":59.868999481201172},{"$f":"LOOKUP($AO82,Data!$A$6:$A$1806,Data!$C$6:$C$1806)","v":3734.904296875},{"$f":"LOOKUP($AO82,Data!$A$6:$A$1806,Data!$D$6:$D$1806)","v":335},{"$f":"IF($AS$1=\"+\",LOOKUP($AO82,Data!$A$6:$A$1806,Data!$E$6:$E$1806)*-1,LOOKUP($AO82,Data!$A$6:$A$1806,Data!$E$6:$E$1806))","v":-206.4591064453125},{"$f":"LOOKUP($AO82,Data!$A$6:$A$1806,Data!$F$6:$F$1806)","v":1},{"$f":"LOOKUP($AO82,Data!$A$6:$A$1806,Data!$G$6:$G$1806)","v":92.5},{"$f":"LOOKUP($AO82,Data!$A$6:$A$1806,Data!$H$6:$H$1806)","v":10},{"$f":"LOOKUP($AO82,Data!$A$6:$A$1806,Data!$I$6:$I$1806)","v":0},{"$f":"LOOKUP($AO82,Data!$A$6:$A$1806,Data!$J$6:$J$1806)","v":-103},{"$f":"LOOKUP($AO82,Data!$A$6:$A$1806,Data!$K$6:$K$1806)","v":7561.05},104.8004150390625,"T+06 sec",40098.102384259255,null,null,null,null,null,null,null,null,null,null,null,null,"T+06 sec",40098.102384259255,null,null,null,null,null,null,null,null,null,null,null,null,"T+06 sec",40098.102384259255,null,null,null,null,null,null,null,null,null,null,null,null,"T+06 sec",40098.102384259255,null,null,null,null,null,null,null,null,null,null,null,null,"T+06 sec",40098.102384259255]
["T+08 sec",40098.102407407401,{"$f":"LOOKUP(B83,Data!$A$6:$A$1806,Data!B$6:B$1806)","v":59.868999481201172},{"$f":"LOOKUP(B83,Data!$A$6:$A$1806,Data!C$6:C$1806)","v":3734.904296875},null,null,null,104.8004150390625,92.994654768039254,null,null,0.58035779256491771,3773.6282395886419,{"$f":"AVERAGE(D$79:D83)","v":3678.6764160156249},{"$f":"AVERAGE(M$79:M83)","v":3745.6840896968147},3679.9384642884147,{"$f":"AVERAGE(P$79:P83)","v":3679.0679275995672},633,null,null,null,null,null,null,0,633,-367.48751951632727,null,"T+08 sec",null,null,null,null,null,null,null,null,null,null,"T+08 sec",40098.102407407401,{"$f":"LOOKUP($AO83,Data!$A$6:$A$1806,Data!$B$6:$B$1806)","v":59.868999481201172},{"$f":"LOOKUP($AO83,Data!$A$6:$A$1806,Data!$C$6:$C$1806)","v":3734.904296875},{"$f":"LOOKUP($AO83,Data!$A$6:$A$1806,Data!$D$6:$D$1806)","v":335},{"$f":"IF($AS$1=\"+\",LOOKUP($AO83,Data!$A$6:$A$1806,Data!$E$6:$E$1806)*-1,LOOKUP($AO83,Data!$A$6:$A$1806,Data!$E$6:$E$1806))","v":-206.4591064453125},{"$f":"LOOKUP($AO83,Data!$A$6:$A$1806,Data!$F$6:$F$1806)","v":1},{"$f":"LOOKUP($AO83,Data!$A$6:$A$1806,Data!$G$6:$G$1806)","v":92.5},{"$f":"LOOKUP($AO83,Data!$A$6:$A$1806,Data!$H$6:$H$1806)","v":10},{"$f":"LOOKUP($AO83,Data!$A$6:$A$1806,Data!$I$6:$I$1806)","v":0},{"$f":"LOOKUP($AO83,Data!$A$6:$A$1806,Data!$J$6:$J$1806)","v":-103},{"$f":"LOOKUP($AO83,Data!$A$6:$A$1806,Data!$K$6:$K$1806)","v":7561.05},104.8004150390625,"T+08 sec",40098.102407407401,null,null,null,null,null,null,null,null,null,null,null,null,"T+08 sec",40098.102407407401,null,null,null,null,null,null,null,null,null,null,null,null,"T+08 sec",40098.102407407401,null,null,null,null,null,null,null,null,null,null,null,null,"T+08 sec",40098.102407407401,null,null,null,null,null,null,null,null,null,null,null,null,"T+08 sec",40098.102407407401]
["T+10 sec",40098.102430555547,{"$f":"LOOKUP(B84,Data!$A$6:$A$1806,Data!B$6:B$1806)","v":59.868999481201172},{"$f":"LOOKUP(B84,Data!$A$6:$A$1806,Data!C$6:C$1806)","v":3734.904296875},null,null,null,104.8004150390625,97.126670862897384,null,null,0.58035779256491771,3778.3406134760648,{"$f":"AVERAGE(D$79:D84)","v":3688.0477294921875},{"$f":"AVERAGE(M$79:M84)","v":3751.1268436600235},3680.5188220809796,{"$f":"AVERAGE(P$79:P84)","v":3679.3581064958498},633,null,null,null,null,null,null,0,633,-367.48751951632727,null,"T+10 sec",null,null,null,null,null,null,null,null,null,null,"T+10 sec",40098.102430555547,{"$f":"LOOKUP($AO84,Data!$A$6:$A$1806,Data!$B$6:$B$1806)","v":59.868999481201172},{"$f":"LOOKUP($AO84,Data!$A$6:$A$1806,Data!$C$6:$C$1806)","v":3734.904296875},{"$f":"LOOKUP($AO84,Data!$A$6:$A$1806,Data!$D$6:$D$1806)","v":335},{"$f":"IF($AS$1=\"+\",LOOKUP($AO84,Data!$A$6:$A$1806,Data!$E$6:$E$1806)*-1,LOOKUP($AO84,Data!$A$6:$A$1806,Data!$E$6:$E$1806))","v":-206.4591064453125},{"$f":"LOOKUP($AO84,Data!$A$6:$A$1806,Data!$F$6:$F$1806)","v":1},{"$f":"LOOKUP($AO84,Data!$A$6:$A$1806,Data!$G$6:$G$1806)","v":92.5},{"$f":"LOOKUP($AO84,Data!$A$6:$A$1806,Data!$H$6:$H$1806)","v":10},{"$f":"LOOKUP($AO84,Data!$A$6:$A$1806,Data!$I$6:$I$1806)","v":0},{"$f":"LOOKUP($AO84,Data!$A$6:$A$1806,Data!$J$6:$J$1806)","v":-103},{"$f":"LOOKUP($AO84,Data!$A$6:$A$1806,Data!$K$6:$K$1806)","v":7561.05},104.8004150390625,"T+10 sec",40098.102430555547,null,null,null,null,null,null,null,null,null,null,null,null,"T+10 sec",40098.102430555547,null,null,null,null,null,null,null,null,null,null,null,null,"T+10 sec",40098.102430555547,null,null,null,null,null,null,null,null,null,null,null,null,"T+10 sec",40098.102430555547,null,null,null,null,null,null,null,null,null,null,null,null,"T+10 sec",40098.102430555547]
["T+12 sec",40098.102453703694,{"$f":"LOOKUP(B85,Data!$A$6:$A$1806,Data!B$6:B$1806)","v":59.880001068115234},{"$f":"LOOKUP(B85,Data!$A$6:$A$1806,Data!C$6:C$1806)","v":3737.15673828125},null,null,null,95.9991455078125,96.732036988617679,null,null,0.58035779256491771,3778.5263373943499,{"$f":"AVERAGE(D$79:D85)","v":3695.0633021763392},{"$f":"AVERAGE(M$79:M85)","v":3755.0410570506415},3681.0991798735445,{"$f":"AVERAGE(P$79:P85)","v":3679.648285392132},633,null,null,null,null,null,null,0,633,-392.56018263327854,null,"T+12 sec",{"$f":"AVERAGE($C$85:$C$91)","v":59.879572187151226},{"$f":"AVERAGE($AA$85:$AA$91)","v":-391.83435745472173},null,null,null,null,null,null,null,null,"T+12 sec",40098.102453703694,{"$f":"LOOKUP($AO85,Data!$A$6:$A$1806,Data!$B$6:$B$1806)","v":59.880001068115234},{"$f":"LOOKUP($AO85,Data!$A$6:$A$1806,Data!$C$6:$C$1806)","v":3737.15673828125},{"$f":"LOOKUP($AO85,Data!$A$6:$A$1806,Data!$D$6:$D$1806)","v":335},{"$f":"IF($AS$1=\"+\",LOOKUP($AO85,Data!$A$6:$A$1806,Data!$E$6:$E$1806)*-1,LOOKUP($AO85,Data!$A$6:$A$1806,Data!$E$6:$E$1806))","v":-206.4591064453125},{"$f":"LOOKUP($AO85,Data!$A$6:$A$1806,Data!$F$6:$F$1806)","v":1},{"$f":"LOOKUP($AO85,Data!$A$6:$A$1806,Data!$G$6:$G$1806)","v":93},{"$f":"LOOKUP($AO85,Data!$A$6:$A$1806,Data!$H$6:$H$1806)","v":10},{"$f":"LOOKUP($AO85,Data!$A$6:$A$1806,Data!$I$6:$I$1806)","v":0},{"$f":"LOOKUP($AO85,Data!$A$6:$A$1806,Data!$J$6:$J$1806)","v":-103},{"$f":"LOOKUP($AO85,Data!$A$6:$A$1806,Data!$K$6:$K$1806)","v":7561.38},95.9991455078125,"T+12 sec",40098.102453703694,{"$f":"AVERAGE($AP$85:$AP$91)","v":59.879572187151226},{"$f":"AVERAGE($AQ$85:$AQ$91)","v":3758.9635881696427},{"$f":"AVERAGE($AR$85:$AR$91)","v":335},{"$f":"AVERAGE($AS$85:$AS$91)","v":-206.4591064453125},{"$f":"AVERAGE($AT$85:$AT$91)","v":1},{"$f":"AVERAGE($AU$85:$AU$91)","v":93.5},{"$f":"AVERAGE($AV$85:$AV$91)","v":10},{"$f":"AVERAGE($AW$85:$AW$91)","v":0},{"$f":"AVERAGE($AX$85:$AX$91)","v":-103},{"$f":"AVERAGE($AY$85:$AY$91)","v":7561.71},{"$f":"AVERAGE($AZ$85:$AZ$91)","v":96.342250279017861},{"$f":"BG$7+BG$14","v":3727.1542347499303},"T+12 sec",40098.102453703694,null,null,null,null,null,null,null,null,null,null,null,null,"T+12 sec",40098.102453703694,null,null,null,null,null,null,null,null,null,null,null,null,"T+12 sec",40098.102453703694,null,null,null,null,null,null,null,null,null,null,null,null,"T+12 sec",40098.102453703694]
["T+14 sec",40098.10247685184,{"$f":"LOOKUP(B86,Data!$A$6:$A$1806,Data!B$6:B$1806)","v":59.880001068115234},{"$f":"LOOKUP(B86,Data!$A$6:$A$1806,Data!C$6:C$1806)","v":3737.15673828125},null,null,null,95.9991455078125,96.475524970335869,null,null,0.58035779256491771,3778.8501831686331,{"$f":"AVERAGE(D$79:D86)","v":3700.3249816894531},{"$f":"AVERAGE(M$79:M86)","v":3758.0171978153903},3681.6795376661094,{"$f":"AVERAGE(P$79:P86)","v":3679.9384642884147},633,null,null,null,null,null,null,0,633,-392.56018263327854,null,"T+14 sec",{"$f":"AVERAGE($C$85:$C$91)","v":59.879572187151226},{"$f":"AVERAGE($AA$85:$AA$91)","v":-391.83435745472173},null,null,null,null,null,null,null,null,"T+14 sec",40098.10247685184,{"$f":"LOOKUP($AO86,Data!$A$6:$A$1806,Data!$B$6:$B$1806)","v":59.880001068115234},{"$f":"LOOKUP($AO86,Data!$A$6:$A$1806,Data!$C$6:$C$1806)","v":3737.15673828125},{"$f":"LOOKUP($AO86,Data!$A$6:$A$1806,Data!$D$6:$D$1806)","v":335},{"$f":"IF($AS$1=\"+\",LOOKUP($AO86,Data!$A$6:$A$1806,Data!$E$6:$E$1806)*-1,LOOKUP($AO86,Data!$A$6:$A$1806,Data!$E$6:$E$1806))","v":-206.4591064453125},{"$f":"LOOKUP($AO86,Data!$A$6:$A$1806,Data!$F$6:$F$1806)","v":1},{"$f":"LOOKUP($AO86,Data!$A$6:$A$1806,Data!$G$6:$G$1806)","v":93},{"$f":"LOOKUP($AO86,Data!$A$6:$A$1806,Data!$H$6:$H$1806)","v":10},{"$f":"LOOKUP($AO86,Data!$A$6:$A$1806,Data!$I$6:$I$1806)","v":0},{"$f":"LOOKUP($AO86,Data!$A$6:$A$1806,Data!$J$6:$J$1806)","v":-103},{"$f":"LOOKUP($AO86,Data!$A$6:$A$1806,Data!$K$6:$K$1806)","v":7561.38},95.9991455078125,"T+14 sec",40098.10247685184,{"$f":"AVERAGE($AP$85:$AP$91)","v":59.879572187151226},{"$f":"AVERAGE($AQ$85:$AQ$91)","v":3758.9635881696427},{"$f":"AVERAGE($AR$85:$AR$91)","v":335},{"$f":"AVERAGE($AS$85:$AS$91)","v":-206.4591064453125},{"$f":"AVERAGE($AT$85:$AT$91)","v":1},{"$f":"AVERAGE($AU$85:$AU$91)","v":93.5},{"$f":"AVERAGE($AV$85:$AV$91)","v":10},{"$f":"AVERAGE($AW$85:$AW$91)","v":0},{"$f":"AVERAGE($AX$85:$AX$91)","v":-103},{"$f":"AVERAGE($AY$85:$AY$91)","v":7561.71},{"$f":"AVERAGE($AZ$85:$AZ$91)","v":96.342250279017861},{"$f":"BG$7+BG$14","v":3727.1542347499303},"T+14 sec",40098.10247685184,null,null,null,null,null,null,null,null,null,null,null,null,"T+14 sec",40098.10247685184,null,null,null,null,null,null,null,null,null,null,null,null,"T+14 sec",40098.10247685184,null,null,null,null,null,null,null,null,null,null,null,null,"T+14 sec",40098.10247685184]
["T+16 sec",40098.102499999986,{"$f":"LOOKUP(B87,Data!$A$6:$A$1806,Data!B$6:B$1806)","v":59.875},{"$f":"LOOKUP(B87,Data!$A$6:$A$1806,Data!C$6:C$1806)","v":3766.19384765625},null,null,null,100,97.709091230718315,null,null,0.58035779256491771,3780.6641072215803,{"$f":"AVERAGE(D$79:D87)","v":3707.6437445746528},{"$f":"AVERAGE(M$79:M87)","v":3760.5335210827448},3682.2598954586742,{"$f":"AVERAGE(P$79:P87)","v":3680.2286431846974},633,null,null,null,null,null,null,0,633,-380.75135550635019,null,"T+16 sec",59.879572187151226,-391.83435745472173,null,null,null,null,null,null,null,null,"T+16 sec",40098.102499999986,{"$f":"LOOKUP($AO87,Data!$A$6:$A$1806,Data!$B$6:$B$1806)","v":59.875},{"$f":"LOOKUP($AO87,Data!$A$6:$A$1806,Data!$C$6:$C$1806)","v":3766.19384765625},{"$f":"LOOKUP($AO87,Data!$A$6:$A$1806,Data!$D$6:$D$1806)","v":335},{"$f":"IF($AS$1=\"+\",LOOKUP($AO87,Data!$A$6:$A$1806,Data!$E$6:$E$1806)*-1,LOOKUP($AO87,Data!$A$6:$A$1806,Data!$E$6:$E$1806))","v":-206.4591064453125},{"$f":"LOOKUP($AO87,Data!$A$6:$A$1806,Data!$F$6:$F$1806)","v":1},{"$f":"LOOKUP($AO87,Data!$A$6:$A$1806,Data!$G$6:$G$1806)","v":93.5},{"$f":"LOOKUP($AO87,Data!$A$6:$A$1806,Data!$H$6:$H$1806)","v":10},{"$f":"LOOKUP($AO87,Data!$A$6:$A$1806,Data!$I$6:$I$1806)","v":0},{"$f":"LOOKUP($AO87,Data!$A$6:$A$1806,Data!$J$6:$J$1806)","v":-103},{"$f":"LOOKUP($AO87,Data!$A$6:$A$1806,Data!$K$6:$K$1806)","v":7561.71},100,"T+16 sec",40098.102499999986,59.879572187151226,3758.9635881696427,335,-206.4591064453125,1,93.5,10,0,-103,7561.71,96.342250279017861,3727.1542347499303,"T+16 sec",40098.102499999986,null,null,null,null,null,null,null,null,null,null,null,null,"T+16 sec",40098.102499999986,null,null,null,null,null,null,null,null,null,null,null,null,"T+16 sec",40098.102499999986,null,null,null,null,null,null,null,null,null,null,null,null,"T+16 sec",40098.102499999986]
["T+18 sec",40098.102523148133,{"$f":"LOOKUP(B88,Data!$A$6:$A$1806,Data!B$6:B$1806)","v":59.875},{"$f":"LOOKUP(B88,Data!$A$6:$A$1806,Data!C$6:C$1806)","v":3766.19384765625},null,null,null,100,98.510909299966897,null,null,0.58035779256491771,3782.0462830833935,{"$f":"AVERAGE(D$79:D88)","v":3713.4987548828126},{"$f":"AVERAGE(M$79:M88)","v":3762.6847972828095},3682.8402532512391,{"$f":"AVERAGE(P$79:P88)","v":3680.5188220809796},633,null,null,null,null,null,null,0,633,-380.75135550635019,null,"T+18 sec",59.879572187151226,-391.83435745472173,{"$f":"AVERAGE($C$88:$C$94)","v":59.883286612374441},{"$f":"AVERAGE($AA$88:$AA$94)","v":-401.15622149811759},null,null,{"$f":"AVERAGE($C$88:$C$105)","v":59.887555864122177},{"$f":"AVERAGE($AA$88:$AA$105)","v":-412.38887368417539},null,null,"T+18 sec",40098.102523148133,{"$f":"LOOKUP($AO88,Data!$A$6:$A$1806,Data!$B$6:$B$1806)","v":59.875},{"$f":"LOOKUP($AO88,Data!$A$6:$A$1806,Data!$C$6:$C$1806)","v":3766.19384765625},{"$f":"LOOKUP($AO88,Data!$A$6:$A$1806,Data!$D$6:$D$1806)","v":335},{"$f":"IF($AS$1=\"+\",LOOKUP($AO88,Data!$A$6:$A$1806,Data!$E$6:$E$1806)*-1,LOOKUP($AO88,Data!$A$6:$A$1806,Data!$E$6:$E$1806))","v":-206.4591064453125},{"$f":"LOOKUP($AO88,Data!$A$6:$A$1806,Data!$F$6:$F$1806)","v":1},{"$f":"LOOKUP($AO88,Data!$A$6:$A$1806,Data!$G$6:$G$1806)","v":93.5},{"$f":"LOOKUP($AO88,Data!$A$6:$A$1806,Data!$H$6:$H$1806)","v":10},{"$f":"LOOKUP($AO88,Data!$A$6:$A$1806,Data!$I$6:$I$1806)","v":0},{"$f":"LOOKUP($AO88,Data!$A$6:$A$1806,Data!$J$6:$J$1806)","v":-103},{"$f":"LOOKUP($AO88,Data!$A$6:$A$1806,Data!$K$6:$K$1806)","v":7561.71},100,"T+18 sec",40098.102523148133,59.879572187151226,3758.9635881696427,335,-206.4591064453125,1,93.5,10,0,-103,7561.71,96.342250279017861,3727.1542347499303,"T+18 sec",40098.102523148133,{"$f":"AVERAGE($AP$88:$AP$94)","v":59.883286612374441},{"$f":"AVERAGE($AQ$88:$AQ$94)","v":3774.248046875},{"$f":"AVERAGE($AR$88:$AR$94)","v":335},{"$f":"AVERAGE($AS$88:$AS$94)","v":-208.51493617466517},{"$f":"AVERAGE($AT$88:$AT$94)","v":1},{"$f":"AVERAGE($AU$88:$AU$94)","v":94.071428571428569},{"$f":"AVERAGE($AV$88:$AV$94)","v":10},{"$f":"AVERAGE($AW$88:$AW$94)","v":0},{"$f":"AVERAGE($AX$88:$AX$94)","v":-103},{"$f":"AVERAGE($AY$88:$AY$94)","v":7562.0871428571436},{"$f":"AVERAGE($AZ$88:$AZ$94)","v":93.370710100446431},{"$f":"BU$7+BU$14","v":3722.3268508911133},"T+18 sec",40098.102523148133,null,null,null,null,null,null,null,null,null,null,null,null,"T+18 sec",40098.102523148133,{"$f":"AVERAGE($AP$88:$AP$105)","v":59.887555864122177},{"$f":"AVERAGE($AQ$88:$AQ$105)","v":3784.1484917534722},{"$f":"AVERAGE($AR$88:$AR$105)","v":335},{"$f":"AVERAGE($AS$88:$AS$105)","v":-210.36175960964627},{"$f":"AVERAGE($AT$88:$AT$105)","v":2.1111111111111112},{"$f":"AVERAGE($AU$88:$AU$105)","v":95.194444444444443},{"$f":"AVERAGE($AV$88:$AV$105)","v":10},{"$f":"AVERAGE($AW$88:$AW$105)","v":0},{"$f":"AVERAGE($AX$88:$AX$105)","v":-103},{"$f":"AVERAGE($AY$88:$AY$105)","v":7562.8283333333338},{"$f":"AVERAGE($AZ$88:$AZ$105)","v":89.955308702256943},{"$f":"CW$7+CW$14","v":3718.8718278672964},"T+18 sec",40098.102523148133]
["T+20 sec",40098.102546296279,{"$f":"LOOKUP(B89,Data!$A$6:$A$1806,Data!B$6:B$1806)","v":59.875},{"$f":"LOOKUP(B89,Data!$A$6:$A$1806,Data!C$6:C$1806)","v":3766.19384765625},{"$f":"AVERAGE($C$89:$C$105)","v":59.888294444364661},{"$f":"AVERAGE($D$89:$D$105)","v":3785.2046472886032},null,100,99.032091044978486,null,{"$f":"G$19+G$7","v":3758.7550865981157},0.58035779256491771,3783.1478226209701,{"$f":"AVERAGE(D$79:D89)","v":3718.289217862216},{"$f":"AVERAGE(M$79:M89)","v":3764.5450723135514},3683.420611043804,{"$f":"AVERAGE(P$79:P89)","v":3680.8090009772618},633,null,null,null,null,null,null,0,633,-380.75135550635019,{"$f":"AVERAGE(AA$89:AA$105)","v":-414.24990416522388},"T+20 sec",59.879572187151226,-391.83435745472173,{"$f":"AVERAGE($C$88:$C$94)","v":59.883286612374441},{"$f":"AVERAGE($AA$88:$AA$94)","v":-401.15622149811759},{"$f":"AVERAGE($E$89:$E$99)","v":59.888294444364654},{"$f":"AVERAGE($AA$89:$AA$99)","v":-415.8127633199685},{"$f":"AVERAGE($C$88:$C$105)","v":59.887555864122177},{"$f":"AVERAGE($AA$88:$AA$105)","v":-412.38887368417539},{"$f":"AVERAGE($C$89:$C$105)","v":59.888294444364661},{"$f":"AVERAGE($AA$89:$AA$105)","v":-414.24990416522388},"T+20 sec",40098.102546296279,{"$f":"LOOKUP($AO89,Data!$A$6:$A$1806,Data!$B$6:$B$1806)","v":59.875},{"$f":"LOOKUP($AO89,Data!$A$6:$A$1806,Data!$C$6:$C$1806)","v":3766.19384765625},{"$f":"LOOKUP($AO89,Data!$A$6:$A$1806,Data!$D$6:$D$1806)","v":335},{"$f":"IF($AS$1=\"+\",LOOKUP($AO89,Data!$A$6:$A$1806,Data!$E$6:$E$1806)*-1,LOOKUP($AO89,Data!$A$6:$A$1806,Data!$E$6:$E$1806))","v":-206.4591064453125},{"$f":"LOOKUP($AO89,Data!$A$6:$A$1806,Data!$F$6:$F$1806)","v":1},{"$f":"LOOKUP($AO89,Data!$A$6:$A$1806,Data!$G$6:$G$1806)","v":93.5},{"$f":"LOOKUP($AO89,Data!$A$6:$A$1806,Data!$H$6:$H$1806)","v":10},{"$f":"LOOKUP($AO89,Data!$A$6:$A$1806,Data!$I$6:$I$1806)","v":0},{"$f":"LOOKUP($AO89,Data!$A$6:$A$1806,Data!$J$6:$J$1806)","v":-103},{"$f":"LOOKUP($AO89,Data!$A$6:$A$1806,Data!$K$6:$K$1806)","v":7561.71},100,"T+20 sec",40098.102546296279,59.879572187151226,3758.9635881696427,335,-206.4591064453125,1,93.5,10,0,-103,7561.71,96.342250279017861,3727.1542347499303,"T+20 sec",40098.102546296279,{"$f":"AVERAGE($AP$88:$AP$94)","v":59.883286612374441},{"$f":"AVERAGE($AQ$88:$AQ$94)","v":3774.248046875},{"$f":"AVERAGE($AR$88:$AR$94)","v":335},{"$f":"AVERAGE($AS$88:$AS$94)","v":-208.51493617466517},{"$f":"AVERAGE($AT$88:$AT$94)","v":1},{"$f":"AVERAGE($AU$88:$AU$94)","v":94.071428571428569},{"$f":"AVERAGE($AV$88:$AV$94)","v":10},{"$f":"AVERAGE($AW$88:$AW$94)","v":0},{"$f":"AVERAGE($AX$88:$AX$94)","v":-103},{"$f":"AVERAGE($AY$88:$AY$94)","v":7562.0871428571436},{"$f":"AVERAGE($AZ$88:$AZ$94)","v":93.370710100446431},{"$f":"BU$7+BU$14","v":3722.3268508911133},"T+20 sec",40098.102546296279,{"$f":"AVERAGE($AP$89:$AP$99)","v":59.888819261030719},{"$f":"AVERAGE($AQ$89:$AQ$99)","v":3780.725896661932},{"$f":"AVERAGE($AR$89:$AR$99)","v":335},{"$f":"AVERAGE($AS$89:$AS$99)","v":-209.94778719815341},{"$f":"AVERAGE($AT$89:$AT$99)","v":1.2727272727272727},{"$f":"AVERAGE($AU$89:$AU$99)","v":94.681818181818187},{"$f":"AVERAGE($AV$89:$AV$99)","v":10},{"$f":"AVERAGE($AW$89:$AW$99)","v":0},{"$f":"AVERAGE($AX$89:$AX$99)","v":-103},{"$f":"AVERAGE($AY$89:$AY$99)","v":7562.49},{"$f":"AVERAGE($AZ$89:$AZ$99)","v":88.94459117542614},{"$f":"CI$7+CI$14","v":3716.797732960094},"T+20 sec",40098.102546296279,{"$f":"AVERAGE($AP$88:$AP$105)","v":59.887555864122177},{"$f":"AVERAGE($AQ$88:$AQ$105)","v":3784.1484917534722},{"$f":"AVERAGE($AR$88:$AR$105)","v":335},{"$f":"AVERAGE($AS$88:$AS$105)","v":-210.36175960964627},{"$f":"AVERAGE($AT$88:$AT$105)","v":2.1111111111111112},{"$f":"AVERAGE($AU$88:$AU$105)","v":95.194444444444443},{"$f":"AVERAGE($AV$88:$AV$105)","v":10},{"$f":"AVERAGE($AW$88:$AW$105)","v":0},{"$f":"AVERAGE($AX$88:$AX$105)","v":-103},{"$f":"AVERAGE($AY$88:$AY$105)","v":7562.8283333333338},{"$f":"AVERAGE($AZ$88:$AZ$105)","v":89.955308702256943},{"$f":"CW$7+CW$14","v":3718.8718278672964},"T+20 sec",40098.102546296279,{"$f":"AVERAGE($AP$89:$AP$105)","v":59.888294444364661},{"$f":"AVERAGE($AQ$89:$AQ$105)","v":3785.2046472886032},{"$f":"AVERAGE($AR$89:$AR$105)","v":335},{"$f":"AVERAGE($AS$89:$AS$105)","v":-210.59132744284238},{"$f":"AVERAGE($AT$89:$AT$105)","v":2.1764705882352939},{"$f":"AVERAGE($AU$89:$AU$105)","v":95.294117647058826},{"$f":"AVERAGE($AV$89:$AV$105)","v":10},{"$f":"AVERAGE($AW$89:$AW$105)","v":0},{"$f":"AVERAGE($AX$89:$AX$105)","v":-103},{"$f":"AVERAGE($AY$89:$AY$105)","v":7562.8941176470598},{"$f":"AVERAGE($AZ$89:$AZ$105)","v":89.364444508272058},{"$f":"DK$7+DK$14","v":3718.1425704956055}]
["T+22 sec",40098.102569444425,{"$f":"LOOKUP(B90,Data!$A$6:$A$1806,Data!B$6:B$1806)","v":59.886001586914063},{"$f":"LOOKUP(B90,Data!$A$6:$A$1806,Data!C$6:C$1806)","v":3769.925048828125},{"$f":"AVERAGE($C$89:$C$105)","v":59.888294444364661},{"$f":"AVERAGE($D$89:$D$105)","v":3785.2046472886032},null,91.19873046875,96.290414843298521,null,{"$f":"G$19+G$7","v":3758.7550865981157},0.58035779256491771,3780.9865042118549,{"$f":"AVERAGE(D$79:D90)","v":3722.5922037760415},{"$f":"AVERAGE(M$79:M90)","v":3765.9151916384103},3684.0009688363689,{"$f":"AVERAGE(P$79:P90)","v":3681.0991798735445},633,null,null,null,null,null,null,0,633,-407.73303519872229,{"$f":"AVERAGE(AA$89:AA$105)","v":-414.24990416522388},"T+22 sec",59.879572187151226,-391.83435745472173,{"$f":"AVERAGE($C$88:$C$94)","v":59.883286612374441},-401.15622149811759,{"$f":"AVERAGE($E$89:$E$99)","v":59.888294444364654},{"$f":"AVERAGE($AA$89:$AA$99)","v":-415.8127633199685},59.887555864122177,-412.38887368417539,{"$f":"AVERAGE($C$89:$C$105)","v":59.888294444364661},{"$f":"AVERAGE($AA$89:$AA$105)","v":-414.24990416522388},"T+22 sec",40098.102569444425,{"$f":"LOOKUP($AO90,Data!$A$6:$A$1806,Data!$B$6:$B$1806)","v":59.886001586914063},{"$f":"LOOKUP($AO90,Data!$A$6:$A$1806,Data!$C$6:$C$1806)","v":3769.925048828125},{"$f":"LOOKUP($AO90,Data!$A$6:$A$1806,Data!$D$6:$D$1806)","v":335},{"$f":"IF($AS$1=\"+\",LOOKUP($AO90,Data!$A$6:$A$1806,Data!$E$6:$E$1806)*-1,LOOKUP($AO90,Data!$A$6:$A$1806,Data!$E$6:$E$1806))","v":-206.4591064453125},{"$f":"LOOKUP($AO90,Data!$A$6:$A$1806,Data!$F$6:$F$1806)","v":1},{"$f":"LOOKUP($AO90,Data!$A$6:$A$1806,Data!$G$6:$G$1806)","v":94},{"$f":"LOOKUP($AO90,Data!$A$6:$A$1806,Data!$H$6:$H$1806)","v":10},{"$f":"LOOKUP($AO90,Data!$A$6:$A$1806,Data!$I$6:$I$1806)","v":0},{"$f":"LOOKUP($AO90,Data!$A$6:$A$1806,Data!$J$6:$J$1806)","v":-103},{"$f":"LOOKUP($AO90,Data!$A$6:$A$1806,Data!$K$6:$K$1806)","v":7562.04},91.19873046875,"T+22 sec",40098.102569444425,59.879572187151226,3758.9635881696427,335,-206.4591064453125,1,93.5,10,0,-103,7561.71,96.342250279017861,3727.1542347499303,"T+22 sec",40098.102569444425,59.883286612374441,3774.248046875,335,-208.51493617466517,1,94.071428571428569,10,0,-103,7562.0871428571436,93.370710100446431,3722.3268508911133,"T+22 sec",40098.102569444425,{"$f":"AVERAGE($AP$89:$AP$99)","v":59.888819261030719},{"$f":"AVERAGE($AQ$89:$AQ$99)","v":3780.725896661932},{"$f":"AVERAGE($AR$89:$AR$99)","v":335},{"$f":"AVERAGE($AS$89:$AS$99)","v":-209.94778719815341},{"$f":"AVERAGE($AT$89:$AT$99)","v":1.2727272727272727},{"$f":"AVERAGE($AU$89:$AU$99)","v":94.681818181818187},{"$f":"AVERAGE($AV$89:$AV$99)","v":10},{"$f":"AVERAGE($AW$89:$AW$99)","v":0},{"$f":"AVERAGE($AX$89:$AX$99)","v":-103},{"$f":"AVERAGE($AY$89:$AY$99)","v":7562.49},{"$f":"AVERAGE($AZ$89:$AZ$99)","v":88.94459117542614},{"$f":"CI$7+CI$14","v":3716.797732960094},"T+22 sec",40098.102569444425,59.887555864122177,3784.1484917534722,335,-210.36175960964627,2.1111111111111112,95.194444444444443,10,0,-103,7562.8283333333338,89.955308702256943,3718.8718278672964,"T+22 sec",40098.102569444425,{"$f":"AVERAGE($AP$89:$AP$105)","v":59.888294444364661},{"$f":"AVERAGE($AQ$89:$AQ$105)","v":3785.2046472886032},{"$f":"AVERAGE($AR$89:$AR$105)","v":335},{"$f":"AVERAGE($AS$89:$AS$105)","v":-210.59132744284238},{"$f":"AVERAGE($AT$89:$AT$105)","v":2.1764705882352939},{"$f":"AVERAGE($AU$89:$AU$105)","v":95.294117647058826},{"$f":"AVERAGE($AV$89:$AV$105)","v":10},{"$f":"AVERAGE($AW$89:$AW$105)","v":0},{"$f":"AVERAGE($AX$89:$AX$105)","v":-103},{"$f":"AVERAGE($AY$89:$AY$105)","v":7562.8941176470598},{"$f":"AVERAGE($AZ$89:$AZ$105)","v":89.364444508272058},{"$f":"DK$7+DK$14","v":3718.1425704956055}]
["T+24 sec",40098.102592592571,{"$f":"LOOKUP(B91,Data!$A$6:$A$1806,Data!B$6:B$1806)","v":59.886001586914063},{"$f":"LOOKUP(B91,Data!$A$6:$A$1806,Data!C$6:C$1806)","v":3769.925048828125},59.888294444364661,3785.2046472886032,null,91.19873046875,94.508325312206537,null,3758.7550865981157,0.58035779256491771,3779.7847724733278,{"$f":"AVERAGE(D$79:D91)","v":3726.2331918569712},{"$f":"AVERAGE(M$79:M91)","v":3766.9820824718654},3684.5813266289338,{"$f":"AVERAGE(P$79:P91)","v":3681.3893587698271},633,null,null,null,null,null,null,0,633,-407.73303519872229,-414.24990416522388,"T+24 sec",59.879572187151226,-391.83435745472173,59.883286612374441,-401.15622149811759,59.888294444364654,-415.8127633199685,59.887555864122177,-412.38887368417539,59.888294444364661,-414.24990416522388,"T+24 sec",40098.102592592571,{"$f":"LOOKUP($AO91,Data!$A$6:$A$1806,Data!$B$6:$B$1806)","v":59.886001586914063},{"$f":"LOOKUP($AO91,Data!$A$6:$A$1806,Data!$C$6:$C$1806)","v":3769.925048828125},{"$f":"LOOKUP($AO91,Data!$A$6:$A$1806,Data!$D$6:$D$1806)","v":335},{"$f":"IF($AS$1=\"+\",LOOKUP($AO91,Data!$A$6:$A$1806,Data!$E$6:$E$1806)*-1,LOOKUP($AO91,Data!$A$6:$A$1806,Data!$E$6:$E$1806))","v":-206.4591064453125},{"$f":"LOOKUP($AO91,Data!$A$6:$A$1806,Data!$F$6:$F$1806)","v":1},{"$f":"LOOKUP($AO91,Data!$A$6:$A$1806,Data!$G$6:$G$1806)","v":94},{"$f":"LOOKUP($AO91,Data!$A$6:$A$1806,Data!$H$6:$H$1806)","v":10},{"$f":"LOOKUP($AO91,Data!$A$6:$A$1806,Data!$I$6:$I$1806)","v":0},{"$f":"LOOKUP($AO91,Data!$A$6:$A$1806,Data!$J$6:$J$1806)","v":-103},{"$f":"LOOKUP($AO91,Data!$A$6:$A$1806,Data!$K$6:$K$1806)","v":7562.04},91.19873046875,"T+24 sec",40098.102592592571,59.879572187151226,3758.9635881696427,335,-206.4591064453125,1,93.5,10,0,-103,7561.71,96.342250279017861,3727.1542347499303,"T+24 sec",40098.102592592571,59.883286612374441,3774.248046875,335,-208.51493617466517,1,94.071428571428569,10,0,-103,7562.0871428571436,93.370710100446431,3722.3268508911133,"T+24 sec",40098.102592592571,59.888819261030719,3780.725896661932,335,-209.94778719815341,1.2727272727272727,94.681818181818187,10,0,-103,7562.49,88.94459117542614,3716.797732960094,"T+24 sec",40098.102592592571,59.887555864122177,3784.1484917534722,335,-210.36175960964627,2.1111111111111112,95.194444444444443,10,0,-103,7562.8283333333338,89.955308702256943,3718.8718278672964,"T+24 sec",40098.102592592571,59.888294444364661,3785.2046472886032,335,-210.59132744284238,2.1764705882352939,95.294117647058826,10,0,-103,7562.8941176470598,89.364444508272058,3718.1425704956055]
["T+26 sec",40098.102615740718,{"$f":"LOOKUP(B92,Data!$A$6:$A$1806,Data!B$6:B$1806)","v":59.887001037597656},{"$f":"LOOKUP(B92,Data!$A$6:$A$1806,Data!C$6:C$1806)","v":3782.49951171875},59.888294444364661,3785.2046472886032,null,90.399169921875,93.070120925590501,null,3758.7550865981157,0.58035779256491771,3778.9269258792765,{"$f":"AVERAGE(D$79:D92)","v":3730.2522147042409},{"$f":"AVERAGE(M$79:M92)","v":3767.8352855723947},3685.1616844214986,{"$f":"AVERAGE(P$79:P92)","v":3681.6795376661098},633,null,null,null,null,null,null,0,633,-410.37492302555921,-414.24990416522388,"T+26 sec",null,null,59.883286612374441,-401.15622149811759,59.888294444364654,-415.8127633199685,59.887555864122177,-412.38887368417539,59.888294444364661,-414.24990416522388,"T+26 sec",40098.102615740718,{"$f":"LOOKUP($AO92,Data!$A$6:$A$1806,Data!$B$6:$B$1806)","v":59.887001037597656},{"$f":"LOOKUP($AO92,Data!$A$6:$A$1806,Data!$C$6:$C$1806)","v":3782.49951171875},{"$f":"LOOKUP($AO92,Data!$A$6:$A$1806,Data!$D$6:$D$1806)","v":335},{"$f":"IF($AS$1=\"+\",LOOKUP($AO92,Data!$A$6:$A$1806,Data!$E$6:$E$1806)*-1,LOOKUP($AO92,Data!$A$6:$A$1806,Data!$E$6:$E$1806))","v":-211.25604248046875},{"$f":"LOOKUP($AO92,Data!$A$6:$A$1806,Data!$F$6:$F$1806)","v":1},{"$f":"LOOKUP($AO92,Data!$A$6:$A$1806,Data!$G$6:$G$1806)","v":94.5},{"$f":"LOOKUP($AO92,Data!$A$6:$A$1806,Data!$H$6:$H$1806)","v":10},{"$f":"LOOKUP($AO92,Data!$A$6:$A$1806,Data!$I$6:$I$1806)","v":0},{"$f":"LOOKUP($AO92,Data!$A$6:$A$1806,Data!$J$6:$J$1806)","v":-103},{"$f":"LOOKUP($AO92,Data!$A$6:$A$1806,Data!$K$6:$K$1806)","v":7562.37},90.399169921875,"T+26 sec",40098.102615740718,null,null,null,null,null,null,null,null,null,null,null,null,"T+26 sec",40098.102615740718,59.883286612374441,3774.248046875,335,-208.51493617466517,1,94.071428571428569,10,0,-103,7562.0871428571436,93.370710100446431,3722.3268508911133,"T+26 sec",40098.102615740718,59.888819261030719,3780.725896661932,335,-209.94778719815341,1.2727272727272727,94.681818181818187,10,0,-103,7562.49,88.94459117542614,3716.797732960094,"T+26 sec",40098.102615740718,59.887555864122177,3784.1484917534722,335,-210.36175960964627,2.1111111111111112,95.194444444444443,10,0,-103,7562.8283333333338,89.955308702256943,3718.8718278672964,"T+26 sec",40098.102615740718,59.888294444364661,3785.2046472886032,335,-210.59132744284238,2.1764705882352939,95.294117647058826,10,0,-103,7562.8941176470598,89.364444508272058,3718.1425704956055]
["T+28 sec",40098.102638888864,{"$f":"LOOKUP(B93,Data!$A$6:$A$1806,Data!B$6:B$1806)","v":59.887001037597656},{"$f":"LOOKUP(B93,Data!$A$6:$A$1806,Data!C$6:C$1806)","v":3782.49951171875},59.888294444364661,3785.2046472886032,null,90.399169921875,92.135288074290074,null,3758.7550865981157,0.58035779256491771,3778.5724508205408,{"$f":"AVERAGE(D$79:D93)","v":3733.7353678385416},{"$f":"AVERAGE(M$79:M93)","v":3768.551096588938},3685.7420422140635,{"$f":"AVERAGE(P$79:P93)","v":3681.969716562392},633,null,null,null,null,null,null,0,633,-410.37492302555921,-414.24990416522388,"T+28 sec",null,null,59.883286612374441,-401.15622149811759,59.888294444364654,-415.8127633199685,59.887555864122177,-412.38887368417539,59.888294444364661,-414.24990416522388,"T+28 sec",40098.102638888864,{"$f":"LOOKUP($AO93,Data!$A$6:$A$1806,Data!$B$6:$B$1806)","v":59.887001037597656},{"$f":"LOOKUP($AO93,Data!$A$6:$A$1806,Data!$C$6:$C$1806)","v":3782.49951171875},{"$f":"LOOKUP($AO93,Data!$A$6:$A$1806,Data!$D$6:$D$1806)","v":335},{"$f":"IF($AS$1=\"+\",LOOKUP($AO93,Data!$A$6:$A$1806,Data!$E$6:$E$1806)*-1,LOOKUP($AO93,Data!$A$6:$A$1806,Data!$E$6:$E$1806))","v":-211.25604248046875},{"$f":"LOOKUP($AO93,Data!$A$6:$A$1806,Data!$F$6:$F$1806)","v":1},{"$f":"LOOKUP($AO93,Data!$A$6:$A$1806,Data!$G$6:$G$1806)","v":94.5},{"$f":"LOOKUP($AO93,Data!$A$6:$A$1806,Data!$H$6:$H$1806)","v":10},{"$f":"LOOKUP($AO93,Data!$A$6:$A$1806,Data!$I$6:$I$1806)","v":0},{"$f":"LOOKUP($AO93,Data!$A$6:$A$1806,Data!$J$6:$J$1806)","v":-103},{"$f":"LOOKUP($AO93,Data!$A$6:$A$1806,Data!$K$6:$K$1806)","v":7562.37},90.399169921875,"T+28 sec",40098.102638888864,null,null,null,null,null,null,null,null,null,null,null,null,"T+28 sec",40098.102638888864,59.883286612374441,3774.248046875,335,-208.51493617466517,1,94.071428571428569,10,0,-103,7562.0871428571436,93.370710100446431,3722.3268508911133,"T+28 sec",40098.102638888864,59.888819261030719,3780.725896661932,335,-209.94778719815341,1.2727272727272727,94.681818181818187,10,0,-103,7562.49,88.94459117542614,3716.797732960094,"T+28 sec",40098.102638888864,59.887555864122177,3784.1484917534722,335,-210.36175960964627,2.1111111111111112,95.194444444444443,10,0,-103,7562.8283333333338,89.955308702256943,3718.8718278672964,"T+28 sec",40098.102638888864,59.888294444364661,3785.2046472886032,335,-210.59132744284238,2.1764705882352939,95.294117647058826,10,0,-103,7562.8941176470598,89.364444508272058,3718.1425704956055]
["T+30 sec",40098.10266203701,{"$f":"LOOKUP(B94,Data!$A$6:$A$1806,Data!B$6:B$1806)","v":59.887001037597656},{"$f":"LOOKUP(B94,Data!$A$6:$A$1806,Data!C$6:C$1806)","v":3782.49951171875},59.888294444364661,3785.2046472886032,null,90.399169921875,91.527646720944801,null,3758.7550865981157,0.58035779256491771,3778.5451672597605,{"$f":"AVERAGE(D$79:D94)","v":3736.7831268310547},{"$f":"AVERAGE(M$79:M94)","v":3769.1757260058644},3686.3224000066284,{"$f":"AVERAGE(P$79:P94)","v":3682.2598954586742},633,null,null,null,null,null,null,0,633,-410.37492302555921,-414.24990416522388,"T+30 sec",null,null,59.883286612374441,-401.15622149811759,59.888294444364654,-415.8127633199685,59.887555864122177,-412.38887368417539,59.888294444364661,-414.24990416522388,"T+30 sec",40098.10266203701,{"$f":"LOOKUP($AO94,Data!$A$6:$A$1806,Data!$B$6:$B$1806)","v":59.887001037597656},{"$f":"LOOKUP($AO94,Data!$A$6:$A$1806,Data!$C$6:$C$1806)","v":3782.49951171875},{"$f":"LOOKUP($AO94,Data!$A$6:$A$1806,Data!$D$6:$D$1806)","v":335},{"$f":"IF($AS$1=\"+\",LOOKUP($AO94,Data!$A$6:$A$1806,Data!$E$6:$E$1806)*-1,LOOKUP($AO94,Data!$A$6:$A$1806,Data!$E$6:$E$1806))","v":-211.25604248046875},{"$f":"LOOKUP($AO94,Data!$A$6:$A$1806,Data!$F$6:$F$1806)","v":1},{"$f":"LOOKUP($AO94,Data!$A$6:$A$1806,Data!$G$6:$G$1806)","v":94.5},{"$f":"LOOKUP($AO94,Data!$A$6:$A$1806,Data!$H$6:$H$1806)","v":10},{"$f":"LOOKUP($AO94,Data!$A$6:$A$1806,Data!$I$6:$I$1806)","v":0},{"$f":"LOOKUP($AO94,Data!$A$6:$A$1806,Data!$J$6:$J$1806)","v":-103},{"$f":"LOOKUP($AO94,Data!$A$6:$A$1806,Data!$K$6:$K$1806)","v":7562.37},90.399169921875,"T+30 sec",40098.10266203701,null,null,null,null,null,null,null,null,null,null,null,null,"T+30 sec",40098.10266203701,59.883286612374441,3774.248046875,335,-208.51493617466517,1,94.071428571428569,10,0,-103,7562.0871428571436,93.370710100446431,3722.3268508911133,"T+30 sec",40098.10266203701,59.888819261030719,3780.725896661932,335,-209.94778719815341,1.2727272727272727,94.681818181818187,10,0,-103,7562.49,88.94459117542614,3716.797732960094,"T+30 sec",40098.10266203701,59.887555864122177,3784.1484917534722,335,-210.36175960964627,2.1111111111111112,95.194444444444443,10,0,-103,7562.8283333333338,89.955308702256943,3718.8718278672964,"T+30 sec",40098.10266203701,59.888294444364661,3785.2046472886032,335,-210.59132744284238,2.1764705882352939,95.294117647058826,10,0,-103,7562.8941176470598,89.364444508272058,3718.1425704956055]
["T+32 sec",40098.102685185157,{"$f":"LOOKUP(B95,Data!$A$6:$A$1806,Data!B$6:B$1806)","v":59.895000457763672},{"$f":"LOOKUP(B95,Data!$A$6:$A$1806,Data!C$6:C$1806)","v":3784.729736328125},59.888294444364661,3785.2046472886032,null,83.9996337890625,88.892842194785999,null,3758.7550865981157,0.58035779256491771,3776.4907205261666,{"$f":"AVERAGE(D$79:D95)","v":3739.603515625},{"$f":"AVERAGE(M$79:M95)","v":3769.6060198011764},3686.9027577991933,{"$f":"AVERAGE(P$79:P95)","v":3682.5500743549569},633,null,null,null,null,null,null,0,633,-432.82119018740951,-414.24990416522388,"T+32 sec",null,null,null,null,59.888294444364654,-415.8127633199685,59.887555864122177,-412.38887368417539,59.888294444364661,-414.24990416522388,"T+32 sec",40098.102685185157,{"$f":"LOOKUP($AO95,Data!$A$6:$A$1806,Data!$B$6:$B$1806)","v":59.895000457763672},{"$f":"LOOKUP($AO95,Data!$A$6:$A$1806,Data!$C$6:$C$1806)","v":3784.729736328125},{"$f":"LOOKUP($AO95,Data!$A$6:$A$1806,Data!$D$6:$D$1806)","v":335},{"$f":"IF($AS$1=\"+\",LOOKUP($AO95,Data!$A$6:$A$1806,Data!$E$6:$E$1806)*-1,LOOKUP($AO95,Data!$A$6:$A$1806,Data!$E$6:$E$1806))","v":-211.25604248046875},{"$f":"LOOKUP($AO95,Data!$A$6:$A$1806,Data!$F$6:$F$1806)","v":1},{"$f":"LOOKUP($AO95,Data!$A$6:$A$1806,Data!$G$6:$G$1806)","v":95},{"$f":"LOOKUP($AO95,Data!$A$6:$A$1806,Data!$H$6:$H$1806)","v":10},{"$f":"LOOKUP($AO95,Data!$A$6:$A$1806,Data!$I$6:$I$1806)","v":0},{"$f":"LOOKUP($AO95,Data!$A$6:$A$1806,Data!$J$6:$J$1806)","v":-103},{"$f":"LOOKUP($AO95,Data!$A$6:$A$1806,Data!$K$6:$K$1806)","v":7562.7},83.9996337890625,"T+32 sec",40098.102685185157,null,null,null,null,null,null,null,null,null,null,null,null,"T+32 sec",40098.102685185157,null,null,null,null,null,null,null,null,null,null,null,null,"T+32 sec",40098.102685185157,59.888819261030719,3780.725896661932,335,-209.94778719815341,1.2727272727272727,94.681818181818187,10,0,-103,7562.49,88.94459117542614,3716.797732960094,"T+32 sec",40098.102685185157,59.887555864122177,3784.1484917534722,335,-210.36175960964627,2.1111111111111112,95.194444444444443,10,0,-103,7562.8283333333338,89.955308702256943,3718.8718278672964,"T+32 sec",40098.102685185157,59.888294444364661,3785.2046472886032,335,-210.59132744284238,2.1764705882352939,95.294117647058826,10,0,-103,7562.8941176470598,89.364444508272058,3718.1425704956055]
["T+34 sec",40098.102708333303,{"$f":"LOOKUP(B96,Data!$A$6:$A$1806,Data!B$6:B$1806)","v":59.895000457763672},{"$f":"LOOKUP(B96,Data!$A$6:$A$1806,Data!C$6:C$1806)","v":3784.729736328125},59.888294444364661,3785.2046472886032,null,83.9996337890625,87.180219252782777,null,3758.7550865981157,0.58035779256491771,3775.3584553767282,{"$f":"AVERAGE(D$79:D96)","v":3742.1105278862847},{"$f":"AVERAGE(M$79:M96)","v":3769.9255995553735},3687.4831155917582,{"$f":"AVERAGE(P$79:P96)","v":3682.8402532512391},633,null,null,null,null,null,null,0,633,-432.82119018740951,-414.24990416522388,"T+34 sec",null,null,null,null,59.888294444364654,-415.8127633199685,59.887555864122177,-412.38887368417539,59.888294444364661,-414.24990416522388,"T+34 sec",40098.102708333303,{"$f":"LOOKUP($AO96,Data!$A$6:$A$1806,Data!$B$6:$B$1806)","v":59.895000457763672},{"$f":"LOOKUP($AO96,Data!$A$6:$A$1806,Data!$C$6:$C$1806)","v":3784.729736328125},{"$f":"LOOKUP($AO96,Data!$A$6:$A$1806,Data!$D$6:$D$1806)","v":335},{"$f":"IF($AS$1=\"+\",LOOKUP($AO96,Data!$A$6:$A$1806,Data!$E$6:$E$1806)*-1,LOOKUP($AO96,Data!$A$6:$A$1806,Data!$E$6:$E$1806))","v":-211.25604248046875},{"$f":"LOOKUP($AO96,Data!$A$6:$A$1806,Data!$F$6:$F$1806)","v":1},{"$f":"LOOKUP($AO96,Data!$A$6:$A$1806,Data!$G$6:$G$1806)","v":95},{"$f":"LOOKUP($AO96,Data!$A$6:$A$1806,Data!$H$6:$H$1806)","v":10},{"$f":"LOOKUP($AO96,Data!$A$6:$A$1806,Data!$I$6:$I$1806)","v":0},{"$f":"LOOKUP($AO96,Data!$A$6:$A$1806,Data!$J$6:$J$1806)","v":-103},{"$f":"LOOKUP($AO96,Data!$A$6:$A$1806,Data!$K$6:$K$1806)","v":7562.7},83.9996337890625,"T+34 sec",40098.102708333303,null,null,null,null,null,null,null,null,null,null,null,null,"T+34 sec",40098.102708333303,null,null,null,null,null,null,null,null,null,null,null,null,"T+34 sec",40098.102708333303,59.888819261030719,3780.725896661932,335,-209.94778719815341,1.2727272727272727,94.681818181818187,10,0,-103,7562.49,88.94459117542614,3716.797732960094,"T+34 sec",40098.102708333303,59.887555864122177,3784.1484917534722,335,-210.36175960964627,2.1111111111111112,95.194444444444443,10,0,-103,7562.8283333333338,89.955308702256943,3718.8718278672964,"T+34 sec",40098.102708333303,59.888294444364661,3785.2046472886032,335,-210.59132744284238,2.1764705882352939,95.294117647058826,10,0,-103,7562.8941176470598,89.364444508272058,3718.1425704956055]
["T+36 sec",40098.102731481449,{"$f":"LOOKUP(B97,Data!$A$6:$A$1806,Data!B$6:B$1806)","v":59.893001556396484},{"$f":"LOOKUP(B97,Data!$A$6:$A$1806,Data!C$6:C$1806)","v":3788.32763671875},59.888294444364661,3785.2046472886032,null,85.5987548828125,86.626706723293182,null,3758.7550865981157,0.58035779256491771,3775.3853006398035,{"$f":"AVERAGE(D$79:D97)","v":3744.5430072985196},{"$f":"AVERAGE(M$79:M97)","v":3770.2129522440273},3688.0634733843231,{"$f":"AVERAGE(P$79:P97)","v":3683.1304321475213},633,null,null,null,null,null,null,0,633,-426.98527372145384,-414.24990416522388,"T+36 sec",null,null,null,null,59.888294444364654,-415.8127633199685,59.887555864122177,-412.38887368417539,59.888294444364661,-414.24990416522388,"T+36 sec",40098.102731481449,{"$f":"LOOKUP($AO97,Data!$A$6:$A$1806,Data!$B$6:$B$1806)","v":59.893001556396484},{"$f":"LOOKUP($AO97,Data!$A$6:$A$1806,Data!$C$6:$C$1806)","v":3788.32763671875},{"$f":"LOOKUP($AO97,Data!$A$6:$A$1806,Data!$D$6:$D$1806)","v":335},{"$f":"IF($AS$1=\"+\",LOOKUP($AO97,Data!$A$6:$A$1806,Data!$E$6:$E$1806)*-1,LOOKUP($AO97,Data!$A$6:$A$1806,Data!$E$6:$E$1806))","v":-211.25604248046875},{"$f":"LOOKUP($AO97,Data!$A$6:$A$1806,Data!$F$6:$F$1806)","v":2},{"$f":"LOOKUP($AO97,Data!$A$6:$A$1806,Data!$G$6:$G$1806)","v":95.5},{"$f":"LOOKUP($AO97,Data!$A$6:$A$1806,Data!$H$6:$H$1806)","v":10},{"$f":"LOOKUP($AO97,Data!$A$6:$A$1806,Data!$I$6:$I$1806)","v":0},{"$f":"LOOKUP($AO97,Data!$A$6:$A$1806,Data!$J$6:$J$1806)","v":-103},{"$f":"LOOKUP($AO97,Data!$A$6:$A$1806,Data!$K$6:$K$1806)","v":7563.03},85.5987548828125,"T+36 sec",40098.102731481449,null,null,null,null,null,null,null,null,null,null,null,null,"T+36 sec",40098.102731481449,null,null,null,null,null,null,null,null,null,null,null,null,"T+36 sec",40098.102731481449,59.888819261030719,3780.725896661932,335,-209.94778719815341,1.2727272727272727,94.681818181818187,10,0,-103,7562.49,88.94459117542614,3716.797732960094,"T+36 sec",40098.102731481449,59.887555864122177,3784.1484917534722,335,-210.36175960964627,2.1111111111111112,95.194444444444443,10,0,-103,7562.8283333333338,89.955308702256943,3718.8718278672964,"T+36 sec",40098.102731481449,59.888294444364661,3785.2046472886032,335,-210.59132744284238,2.1764705882352939,95.294117647058826,10,0,-103,7562.8941176470598,89.364444508272058,3718.1425704956055]
["T+38 sec",40098.102754629595,{"$f":"LOOKUP(B98,Data!$A$6:$A$1806,Data!B$6:B$1806)","v":59.893001556396484},{"$f":"LOOKUP(B98,Data!$A$6:$A$1806,Data!C$6:C$1806)","v":3788.32763671875},59.888294444364661,3785.2046472886032,null,85.5987548828125,86.266923579124935,null,3758.7550865981157,0.58035779256491771,3775.6058752882,{"$f":"AVERAGE(D$79:D98)","v":3746.7322387695312},{"$f":"AVERAGE(M$79:M98)","v":3770.4825983962355},3688.6438311768879,{"$f":"AVERAGE(P$79:P98)","v":3683.420611043804},633,null,null,null,null,null,null,0,633,-426.98527372145384,-414.24990416522388,"T+38 sec",null,null,null,null,59.888294444364654,-415.8127633199685,59.887555864122177,-412.38887368417539,59.888294444364661,-414.24990416522388,"T+38 sec",40098.102754629595,{"$f":"LOOKUP($AO98,Data!$A$6:$A$1806,Data!$B$6:$B$1806)","v":59.893001556396484},{"$f":"LOOKUP($AO98,Data!$A$6:$A$1806,Data!$C$6:$C$1806)","v":3788.32763671875},{"$f":"LOOKUP($AO98,Data!$A$6:$A$1806,Data!$D$6:$D$1806)","v":335},{"$f":"IF($AS$1=\"+\",LOOKUP($AO98,Data!$A$6:$A$1806,Data!$E$6:$E$1806)*-1,LOOKUP($AO98,Data!$A$6:$A$1806,Data!$E$6:$E$1806))","v":-211.25604248046875},{"$f":"LOOKUP($AO98,Data!$A$6:$A$1806,Data!$F$6:$F$1806)","v":2},{"$f":"LOOKUP($AO98,Data!$A$6:$A$1806,Data!$G$6:$G$1806)","v":95.5},{"$f":"LOOKUP($AO98,Data!$A$6:$A$1806,Data!$H$6:$H$1806)","v":10},{"$f":"LOOKUP($AO98,Data!$A$6:$A$1806,Data!$I$6:$I$1806)","v":0},{"$f":"LOOKUP($AO98,Data!$A$6:$A$1806,Data!$J$6:$J$1806)","v":-103},{"$f":"LOOKUP($AO98,Data!$A$6:$A$1806,Data!$K$6:$K$1806)","v":7563.03},85.5987548828125,"T+38 sec",40098.102754629595,null,null,null,null,null,null,null,null,null,null,null,null,"T+38 sec",40098.102754629595,null,null,null,null,null,null,null,null,null,null,null,null,"T+38 sec",40098.102754629595,59.888819261030719,3780.725896661932,335,-209.94778719815341,1.2727272727272727,94.681818181818187,10,0,-103,7562.49,88.94459117542614,3716.797732960094,"T+38 sec",40098.102754629595,59.887555864122177,3784.1484917534722,335,-210.36175960964627,2.1111111111111112,95.194444444444443,10,0,-103,7562.8283333333338,89.955308702256943,3718.8718278672964,"T+38 sec",40098.102754629595,59.888294444364661,3785.2046472886032,335,-210.59132744284238,2.1764705882352939,95.294117647058826,10,0,-103,7562.8941176470598,89.364444508272058,3718.1425704956055]
["T+40 sec",40098.102777777742,{"$f":"LOOKUP(B99,Data!$A$6:$A$1806,Data!B$6:B$1806)","v":59.893001556396484},{"$f":"LOOKUP(B99,Data!$A$6:$A$1806,Data!C$6:C$1806)","v":3788.32763671875},59.888294444364661,3785.2046472886032,null,85.5987548828125,86.033064535415576,null,3758.7550865981157,0.58035779256491771,3775.9523740370555,{"$f":"AVERAGE(D$79:D99)","v":3748.7129720052085},{"$f":"AVERAGE(M$79:M99)","v":3770.7430639029412},3689.2241889694528,{"$f":"AVERAGE(P$79:P99)","v":3683.7107899400862},633,null,null,null,null,null,null,0,633,-426.98527372145384,-414.24990416522388,"T+40 sec",null,null,null,null,59.888294444364654,-415.8127633199685,59.887555864122177,-412.38887368417539,59.888294444364661,-414.24990416522388,"T+40 sec",40098.102777777742,{"$f":"LOOKUP($AO99,Data!$A$6:$A$1806,Data!$B$6:$B$1806)","v":59.893001556396484},{"$f":"LOOKUP($AO99,Data!$A$6:$A$1806,Data!$C$6:$C$1806)","v":3788.32763671875},{"$f":"LOOKUP($AO99,Data!$A$6:$A$1806,Data!$D$6:$D$1806)","v":335},{"$f":"IF($AS$1=\"+\",LOOKUP($AO99,Data!$A$6:$A$1806,Data!$E$6:$E$1806)*-1,LOOKUP($AO99,Data!$A$6:$A$1806,Data!$E$6:$E$1806))","v":-211.25604248046875},{"$f":"LOOKUP($AO99,Data!$A$6:$A$1806,Data!$F$6:$F$1806)","v":2},{"$f":"LOOKUP($AO99,Data!$A$6:$A$1806,Data!$G$6:$G$1806)","v":95.5},{"$f":"LOOKUP($AO99,Data!$A$6:$A$1806,Data!$H$6:$H$1806)","v":10},{"$f":"LOOKUP($AO99,Data!$A$6:$A$1806,Data!$I$6:$I$1806)","v":0},{"$f":"LOOKUP($AO99,Data!$A$6:$A$1806,Data!$J$6:$J$1806)","v":-103},{"$f":"LOOKUP($AO99,Data!$A$6:$A$1806,Data!$K$6:$K$1806)","v":7563.03},85.5987548828125,"T+40 sec",40098.102777777742,null,null,null,null,null,null,null,null,null,null,null,null,"T+40 sec",40098.102777777742,null,null,null,null,null,null,null,null,null,null,null,null,"T+40 sec",40098.102777777742,59.888819261030719,3780.725896661932,335,-209.94778719815341,1.2727272727272727,94.681818181818187,10,0,-103,7562.49,88.94459117542614,3716.797732960094,"T+40 sec",40098.102777777742,59.887555864122177,3784.1484917534722,335,-210.36175960964627,2.1111111111111112,95.194444444444443,10,0,-103,7562.8283333333338,89.955308702256943,3718.8718278672964,"T+40 sec",40098.102777777742,59.888294444364661,3785.2046472886032,335,-210.59132744284238,2.1764705882352939,95.294117647058826,10,0,-103,7562.8941176470598,89.364444508272058,3718.1425704956055]
["T+42 sec",40098.102800925888,{"$f":"LOOKUP(B100,Data!$A$6:$A$1806,Data!B$6:B$1806)","v":59.890998840332031},{"$f":"LOOKUP(B100,Data!$A$6:$A$1806,Data!C$6:C$1806)","v":3788.471923828125},59.888294444364661,3785.2046472886032,null,87.200927734375,86.441816655051369,null,3758.7550865981157,0.58035779256491771,3776.9414839492561,{"$f":"AVERAGE(D$79:D100)","v":3750.520197088068},{"$f":"AVERAGE(M$79:M100)","v":3771.0248102686824},3689.8045467620177,{"$f":"AVERAGE(P$79:P100)","v":3684.0009688363684},633,null,null,null,null,null,null,0,633,-421.29394350999684,-414.24990416522388,"T+42 sec",null,null,null,null,null,null,59.887555864122177,-412.38887368417539,59.888294444364661,-414.24990416522388,"T+42 sec",40098.102800925888,{"$f":"LOOKUP($AO100,Data!$A$6:$A$1806,Data!$B$6:$B$1806)","v":59.890998840332031},{"$f":"LOOKUP($AO100,Data!$A$6:$A$1806,Data!$C$6:$C$1806)","v":3788.471923828125},{"$f":"LOOKUP($AO100,Data!$A$6:$A$1806,Data!$D$6:$D$1806)","v":335},{"$f":"IF($AS$1=\"+\",LOOKUP($AO100,Data!$A$6:$A$1806,Data!$E$6:$E$1806)*-1,LOOKUP($AO100,Data!$A$6:$A$1806,Data!$E$6:$E$1806))","v":-211.25604248046875},{"$f":"LOOKUP($AO100,Data!$A$6:$A$1806,Data!$F$6:$F$1806)","v":3},{"$f":"LOOKUP($AO100,Data!$A$6:$A$1806,Data!$G$6:$G$1806)","v":96},{"$f":"LOOKUP($AO100,Data!$A$6:$A$1806,Data!$H$6:$H$1806)","v":10},{"$f":"LOOKUP($AO100,Data!$A$6:$A$1806,Data!$I$6:$I$1806)","v":0},{"$f":"LOOKUP($AO100,Data!$A$6:$A$1806,Data!$J$6:$J$1806)","v":-103},{"$f":"LOOKUP($AO100,Data!$A$6:$A$1806,Data!$K$6:$K$1806)","v":7563.36},87.200927734375,"T+42 sec",40098.102800925888,null,null,null,null,null,null,null,null,null,null,null,null,"T+42 sec",40098.102800925888,null,null,null,null,null,null,null,null,null,null,null,null,"T+42 sec",40098.102800925888,null,null,null,null,null,null,null,null,null,null,null,null,"T+42 sec",40098.102800925888,59.887555864122177,3784.1484917534722,335,-210.36175960964627,2.1111111111111112,95.194444444444443,10,0,-103,7562.8283333333338,89.955308702256943,3718.8718278672964,"T+42 sec",40098.102800925888,59.888294444364661,3785.2046472886032,335,-210.59132744284238,2.1764705882352939,95.294117647058826,10,0,-103,7562.8941176470598,89.364444508272058,3718.1425704956055]
["T+44 sec",40098.102824074034,{"$f":"LOOKUP(B101,Data!$A$6:$A$1806,Data!B$6:B$1806)","v":59.890998840332031},{"$f":"LOOKUP(B101,Data!$A$6:$A$1806,Data!C$6:C$1806)","v":3788.471923828125},59.888294444364661,3785.2046472886032,null,87.200927734375,86.707505532814636,null,3758.7550865981157,0.58035779256491771,3777.7875306195842,{"$f":"AVERAGE(D$79:D101)","v":3752.170272163723},{"$f":"AVERAGE(M$79:M101)","v":3771.3188415882869},3690.3849045545826,{"$f":"AVERAGE(P$79:P101)","v":3684.2911477326506},633,null,null,null,null,null,null,0,633,-421.29394350999684,-414.24990416522388,"T+44 sec",null,null,null,null,null,null,59.887555864122177,-412.38887368417539,59.888294444364661,-414.24990416522388,"T+44 sec",40098.102824074034,{"$f":"LOOKUP($AO101,Data!$A$6:$A$1806,Data!$B$6:$B$1806)","v":59.890998840332031},{"$f":"LOOKUP($AO101,Data!$A$6:$A$1806,Data!$C$6:$C$1806)","v":3788.471923828125},{"$f":"LOOKUP($AO101,Data!$A$6:$A$1806,Data!$D$6:$D$1806)","v":335},{"$f":"IF($AS$1=\"+\",LOOKUP($AO101,Data!$A$6:$A$1806,Data!$E$6:$E$1806)*-1,LOOKUP($AO101,Data!$A$6:$A$1806,Data!$E$6:$E$1806))","v":-211.25604248046875},{"$f":"LOOKUP($AO101,Data!$A$6:$A$1806,Data!$F$6:$F$1806)","v":3},{"$f":"LOOKUP($AO101,Data!$A$6:$A$1806,Data!$G$6:$G$1806)","v":96},{"$f":"LOOKUP($AO101,Data!$A$6:$A$1806,Data!$H$6:$H$1806)","v":10},{"$f":"LOOKUP($AO101,Data!$A$6:$A$1806,Data!$I$6:$I$1806)","v":0},{"$f":"LOOKUP($AO101,Data!$A$6:$A$1806,Data!$J$6:$J$1806)","v":-103},{"$f":"LOOKUP($AO101,Data!$A$6:$A$1806,Data!$K$6:$K$1806)","v":7563.36},87.200927734375,"T+44 sec",40098.102824074034,null,null,null,null,null,null,null,null,null,null,null,null,"T+44 sec",40098.102824074034,null,null,null,null,null,null,null,null,null,null,null,null,"T+44 sec",40098.102824074034,null,null,null,null,null,null,null,null,null,null,null,null,"T+44 sec",40098.102824074034,59.887555864122177,3784.1484917534722,335,-210.36175960964627,2.1111111111111112,95.194444444444443,10,0,-103,7562.8283333333338,89.955308702256943,3718.8718278672964,"T+44 sec",40098.102824074034,59.888294444364661,3785.2046472886032,335,-210.59132744284238,2.1764705882352939,95.294117647058826,10,0,-103,7562.8941176470598,89.364444508272058,3718.1425704956055]
["T+46 sec",40098.102847222181,{"$f":"LOOKUP(B102,Data!$A$6:$A$1806,Data!B$6:B$1806)","v":59.884998321533203},{"$f":"LOOKUP(B102,Data!$A$6:$A$1806,Data!C$6:C$1806)","v":3794.374267578125},59.888294444364661,3785.2046472886032,null,92.0013427734375,88.560348567032634,null,3758.7550865981157,0.58035779256491771,3780.2207314463672,{"$f":"AVERAGE(D$79:D102)","v":3753.9287719726562},{"$f":"AVERAGE(M$79:M102)","v":3771.689753665707},3690.9652623471475,{"$f":"AVERAGE(P$79:P102)","v":3684.5813266289333},633,null,null,null,null,null,null,0,633,-405.11505474786685,-414.24990416522388,"T+46 sec",null,null,null,null,null,null,59.887555864122177,-412.38887368417539,59.888294444364661,-414.24990416522388,"T+46 sec",40098.102847222181,{"$f":"LOOKUP($AO102,Data!$A$6:$A$1806,Data!$B$6:$B$1806)","v":59.884998321533203},{"$f":"LOOKUP($AO102,Data!$A$6:$A$1806,Data!$C$6:$C$1806)","v":3794.374267578125},{"$f":"LOOKUP($AO102,Data!$A$6:$A$1806,Data!$D$6:$D$1806)","v":335},{"$f":"IF($AS$1=\"+\",LOOKUP($AO102,Data!$A$6:$A$1806,Data!$E$6:$E$1806)*-1,LOOKUP($AO102,Data!$A$6:$A$1806,Data!$E$6:$E$1806))","v":-211.25604248046875},{"$f":"LOOKUP($AO102,Data!$A$6:$A$1806,Data!$F$6:$F$1806)","v":4},{"$f":"LOOKUP($AO102,Data!$A$6:$A$1806,Data!$G$6:$G$1806)","v":96.5},{"$f":"LOOKUP($AO102,Data!$A$6:$A$1806,Data!$H$6:$H$1806)","v":10},{"$f":"LOOKUP($AO102,Data!$A$6:$A$1806,Data!$I$6:$I$1806)","v":0},{"$f":"LOOKUP($AO102,Data!$A$6:$A$1806,Data!$J$6:$J$1806)","v":-103},{"$f":"LOOKUP($AO102,Data!$A$6:$A$1806,Data!$K$6:$K$1806)","v":7563.69},92.0013427734375,"T+46 sec",40098.102847222181,null,null,null,null,null,null,null,null,null,null,null,null,"T+46 sec",40098.102847222181,null,null,null,null,null,null,null,null,null,null,null,null,"T+46 sec",40098.102847222181,null,null,null,null,null,null,null,null,null,null,null,null,"T+46 sec",40098.102847222181,59.887555864122177,3784.1484917534722,335,-210.36175960964627,2.1111111111111112,95.194444444444443,10,0,-103,7562.8283333333338,89.955308702256943,3718.8718278672964,"T+46 sec",40098.102847222181,59.888294444364661,3785.2046472886032,335,-210.59132744284238,2.1764705882352939,95.294117647058826,10,0,-103,7562.8941176470598,89.364444508272058,3718.1425704956055]
["T+48 sec",40098.102870370327,{"$f":"LOOKUP(B103,Data!$A$6:$A$1806,Data!B$6:B$1806)","v":59.884998321533203},{"$f":"LOOKUP(B103,Data!$A$6:$A$1806,Data!C$6:C$1806)","v":3794.374267578125},59.888294444364661,3785.2046472886032,null,92.0013427734375,89.76469653927434,null,3758.7550865981157,0.58035779256491771,3782.0054372111736,{"$f":"AVERAGE(D$79:D103)","v":3755.546591796875},{"$f":"AVERAGE(M$79:M103)","v":3772.1023810075258},3691.5456201397124,{"$f":"AVERAGE(P$79:P103)","v":3684.871505525216},633,null,null,null,null,null,null,0,633,-405.11505474786685,-414.24990416522388,"T+48 sec",null,null,null,null,null,null,59.887555864122177,-412.38887368417539,59.888294444364661,-414.24990416522388,"T+48 sec",40098.102870370327,{"$f":"LOOKUP($AO103,Data!$A$6:$A$1806,Data!$B$6:$B$1806)","v":59.884998321533203},{"$f":"LOOKUP($AO103,Data!$A$6:$A$1806,Data!$C$6:$C$1806)","v":3794.374267578125},{"$f":"LOOKUP($AO103,Data!$A$6:$A$1806,Data!$D$6:$D$1806)","v":335},{"$f":"IF($AS$1=\"+\",LOOKUP($AO103,Data!$A$6:$A$1806,Data!$E$6:$E$1806)*-1,LOOKUP($AO103,Data!$A$6:$A$1806,Data!$E$6:$E$1806))","v":-211.25604248046875},{"$f":"LOOKUP($AO103,Data!$A$6:$A$1806,Data!$F$6:$F$1806)","v":4},{"$f":"LOOKUP($AO103,Data!$A$6:$A$1806,Data!$G$6:$G$1806)","v":96.5},{"$f":"LOOKUP($AO103,Data!$A$6:$A$1806,Data!$H$6:$H$1806)","v":10},{"$f":"LOOKUP($AO103,Data!$A$6:$A$1806,Data!$I$6:$I$1806)","v":0},{"$f":"LOOKUP($AO103,Data!$A$6:$A$1806,Data!$J$6:$J$1806)","v":-103},{"$f":"LOOKUP($AO103,Data!$A$6:$A$1806,Data!$K$6:$K$1806)","v":7563.69},92.0013427734375,"T+48 sec",40098.102870370327,null,null,null,null,null,null,null,null,null,null,null,null,"T+48 sec",40098.102870370327,null,null,null,null,null,null,null,null,null,null,null,null,"T+48 sec",40098.102870370327,null,null,null,null,null,null,null,null,null,null,null,null,"T+48 sec",40098.102870370327,59.887555864122177,3784.1484917534722,335,-210.36175960964627,2.1111111111111112,95.194444444444443,10,0,-103,7562.8283333333338,89.955308702256943,3718.8718278672964,"T+48 sec",40098.102870370327,59.888294444364661,3785.2046472886032,335,-210.59132744284238,2.1764705882352939,95.294117647058826,10,0,-103,7562.8941176470598,89.364444508272058,3718.1425704956055]
["T+50 sec",40098.102893518473,{"$f":"LOOKUP(B104,Data!$A$6:$A$1806,Data!B$6:B$1806)","v":59.884998321533203},{"$f":"LOOKUP(B104,Data!$A$6:$A$1806,Data!C$6:C$1806)","v":3794.374267578125},59.888294444364661,3785.2046472886032,null,92.0013427734375,90.547522721231445,null,3758.7550865981157,0.58035779256491771,3783.3686211856957,{"$f":"AVERAGE(D$79:D104)","v":3757.0399639423076},{"$f":"AVERAGE(M$79:M104)","v":3772.5356979374556},3692.1259779322772,{"$f":"AVERAGE(P$79:P104)","v":3685.1616844214982},633,null,null,null,null,null,null,0,633,-405.11505474786685,-414.24990416522388,"T+50 sec",null,null,null,null,null,null,59.887555864122177,-412.38887368417539,59.888294444364661,-414.24990416522388,"T+50 sec",40098.102893518473,{"$f":"LOOKUP($AO104,Data!$A$6:$A$1806,Data!$B$6:$B$1806)","v":59.884998321533203},{"$f":"LOOKUP($AO104,Data!$A$6:$A$1806,Data!$C$6:$C$1806)","v":3794.374267578125},{"$f":"LOOKUP($AO104,Data!$A$6:$A$1806,Data!$D$6:$D$1806)","v":335},{"$f":"IF($AS$1=\"+\",LOOKUP($AO104,Data!$A$6:$A$1806,Data!$E$6:$E$1806)*-1,LOOKUP($AO104,Data!$A$6:$A$1806,Data!$E$6:$E$1806))","v":-211.25604248046875},{"$f":"LOOKUP($AO104,Data!$A$6:$A$1806,Data!$F$6:$F$1806)","v":4},{"$f":"LOOKUP($AO104,Data!$A$6:$A$1806,Data!$G$6:$G$1806)","v":96.5},{"$f":"LOOKUP($AO104,Data!$A$6:$A$1806,Data!$H$6:$H$1806)","v":10},{"$f":"LOOKUP($AO104,Data!$A$6:$A$1806,Data!$I$6:$I$1806)","v":0},{"$f":"LOOKUP($AO104,Data!$A$6:$A$1806,Data!$J$6:$J$1806)","v":-103},{"$f":"LOOKUP($AO104,Data!$A$6:$A$1806,Data!$K$6:$K$1806)","v":7563.69},92.0013427734375,"T+50 sec",40098.102893518473,null,null,null,null,null,null,null,null,null,null,null,null,"T+50 sec",40098.102893518473,null,null,null,null,null,null,null,null,null,null,null,null,"T+50 sec",40098.102893518473,null,null,null,null,null,null,null,null,null,null,null,null,"T+50 sec",40098.102893518473,59.887555864122177,3784.1484917534722,335,-210.36175960964627,2.1111111111111112,95.194444444444443,10,0,-103,7562.8283333333338,89.955308702256943,3718.8718278672964,"T+50 sec",40098.102893518473,59.888294444364661,3785.2046472886032,335,-210.59132744284238,2.1764705882352939,95.294117647058826,10,0,-103,7562.8941176470598,89.364444508272058,3718.1425704956055]
["T+52 sec",40098.102916666619,{"$f":"LOOKUP(B105,Data!$A$6:$A$1806,Data!B$6:B$1806)","v":59.887001037597656},{"$f":"LOOKUP(B105,Data!$A$6:$A$1806,Data!C$6:C$1806)","v":3800.427490234375},59.888294444364661,3785.2046472886032,null,90.399169921875,90.495599241456688,null,3758.7550865981157,0.58035779256491771,3783.8970554984858,{"$f":"AVERAGE(D$79:D105)","v":3758.6469093605324},{"$f":"AVERAGE(M$79:M105)","v":3772.9564889582343},3692.7063357248421,{"$f":"AVERAGE(P$79:P105)","v":3685.4518633177804},633,null,null,null,null,null,null,0,633,-410.37492302555921,-414.24990416522388,"T+52 sec",null,null,null,null,null,null,59.887555864122177,-412.38887368417539,59.888294444364661,-414.24990416522388,"T+52 sec",40098.102916666619,{"$f":"LOOKUP($AO105,Data!$A$6:$A$1806,Data!$B$6:$B$1806)","v":59.887001037597656},{"$f":"LOOKUP($AO105,Data!$A$6:$A$1806,Data!$C$6:$C$1806)","v":3800.427490234375},{"$f":"LOOKUP($AO105,Data!$A$6:$A$1806,Data!$D$6:$D$1806)","v":335},{"$f":"IF($AS$1=\"+\",LOOKUP($AO105,Data!$A$6:$A$1806,Data!$E$6:$E$1806)*-1,LOOKUP($AO105,Data!$A$6:$A$1806,Data!$E$6:$E$1806))","v":-214.34669494628906},{"$f":"LOOKUP($AO105,Data!$A$6:$A$1806,Data!$F$6:$F$1806)","v":5},{"$f":"LOOKUP($AO105,Data!$A$6:$A$1806,Data!$G$6:$G$1806)","v":97},{"$f":"LOOKUP($AO105,Data!$A$6:$A$1806,Data!$H$6:$H$1806)","v":10},{"$f":"LOOKUP($AO105,Data!$A$6:$A$1806,Data!$I$6:$I$1806)","v":0},{"$f":"LOOKUP($AO105,Data!$A$6:$A$1806,Data!$J$6:$J$1806)","v":-103},{"$f":"LOOKUP($AO105,Data!$A$6:$A$1806,Data!$K$6:$K$1806)","v":7564.02},90.399169921875,"T+52 sec",40098.102916666619,null,null,null,null,null,null,null,null,null,null,null,null,"T+52 sec",40098.102916666619,null,null,null,null,null,null,null,null,null,null,null,null,"T+52 sec",40098.102916666619,null,null,null,null,null,null,null,null,null,null,null,null,"T+52 sec",40098.102916666619,59.887555864122177,3784.1484917534722,335,-210.36175960964627,2.1111111111111112,95.194444444444443,10,0,-103,7562.8283333333338,89.955308702256943,3718.8718278672964,"T+52 sec",40098.102916666619,59.888294444364661,3785.2046472886032,335,-210.59132744284238,2.1764705882352939,95.294117647058826,10,0,-103,7562.8941176470598,89.364444508272058,3718.1425704956055]
["T+54 sec",40098.102939814766,{"$f":"LOOKUP(B106,Data!$A$6:$A$1806,Data!B$6:B$1806)","v":59.887001037597656},{"$f":"LOOKUP(B106,Data!$A$6:$A$1806,Data!C$6:C$1806)","v":3800.427490234375},null,null,null,90.399169921875,90.46184897960309,null,null,0.58035779256491771,3784.4436630291971,{"$f":"AVERAGE(D$79:D106)","v":3760.1390729631698},{"$f":"AVERAGE(M$79:M106)","v":3773.3667451750548},3693.286693517407,{"$f":"AVERAGE(P$79:P106)","v":3685.7420422140631},633,null,null,null,null,null,null,0,633,-410.37492302555921,null,"T+54 sec",null,null,null,null,null,null,null,null,null,null,"T+54 sec",40098.102939814766,{"$f":"LOOKUP($AO106,Data!$A$6:$A$1806,Data!$B$6:$B$1806)","v":59.887001037597656},{"$f":"LOOKUP($AO106,Data!$A$6:$A$1806,Data!$C$6:$C$1806)","v":3800.427490234375},{"$f":"LOOKUP($AO106,Data!$A$6:$A$1806,Data!$D$6:$D$1806)","v":335},{"$f":"IF($AS$1=\"+\",LOOKUP($AO106,Data!$A$6:$A$1806,Data!$E$6:$E$1806)*-1,LOOKUP($AO106,Data!$A$6:$A$1806,Data!$E$6:$E$1806))","v":-214.34669494628906},{"$f":"LOOKUP($AO106,Data!$A$6:$A$1806,Data!$F$6:$F$1806)","v":5},{"$f":"LOOKUP($AO106,Data!$A$6:$A$1806,Data!$G$6:$G$1806)","v":97},{"$f":"LOOKUP($AO106,Data!$A$6:$A$1806,Data!$H$6:$H$1806)","v":10},{"$f":"LOOKUP($AO106,Data!$A$6:$A$1806,Data!$I$6:$I$1806)","v":0},{"$f":"LOOKUP($AO106,Data!$A$6:$A$1806,Data!$J$6:$J$1806)","v":-103},{"$f":"LOOKUP($AO106,Data!$A$6:$A$1806,Data!$K$6:$K$1806)","v":7564.02},90.399169921875,"T+54 sec",40098.102939814766,null,null,null,null,null,null,null,null,null,null,null,null,"T+54 sec",40098.102939814766,null,null,null,null,null,null,null,null,null,null,null,null,"T+54 sec",40098.102939814766,null,null,null,null,null,null,null,null,null,null,null,null,"T+54 sec",40098.102939814766,null,null,null,null,null,null,null,null,null,null,null,null,"T+54 sec",40098.102939814766]
["T+56 sec",40098.102962962912,{"$f":"LOOKUP(B107,Data!$A$6:$A$1806,Data!B$6:B$1806)","v":59.88800048828125},{"$f":"LOOKUP(B107,Data!$A$6:$A$1806,Data!C$6:C$1806)","v":3802.925048828125},null,null,null,89.599609375,{"$f":"L$13*H107+(1-L$13)*I106","v":90.160065117992005},null,null,0.58035779256491771,3784.7222369601509,{"$f":"AVERAGE(D$79:D107)","v":3761.6144514412717},{"$f":"AVERAGE(M$79:M107)","v":3773.7583138572995},3693.8670513099719,{"$f":"AVERAGE(P$79:P107)","v":3686.0322211103457},633,null,null,null,null,null,null,0,{"$f":"SUM(R107:Y107)","v":633},-413.0512701158724,null,"T+56 sec",null,null,null,null,null,null,null,null,null,null,"T+56 sec",40098.102962962912,{"$f":"LOOKUP($AO107,Data!$A$6:$A$1806,Data!$B$6:$B$1806)","v":59.88800048828125},{"$f":"LOOKUP($AO107,Data!$A$6:$A$1806,Data!$C$6:$C$1806)","v":3802.925048828125},{"$f":"LOOKUP($AO107,Data!$A$6:$A$1806,Data!$D$6:$D$1806)","v":335},{"$f":"IF($AS$1=\"+\",LOOKUP($AO107,Data!$A$6:$A$1806,Data!$E$6:$E$1806)*-1,LOOKUP($AO107,Data!$A$6:$A$1806,Data!$E$6:$E$1806))","v":-214.34669494628906},{"$f":"LOOKUP($AO107,Data!$A$6:$A$1806,Data!$F$6:$F$1806)","v":6},{"$f":"LOOKUP($AO107,Data!$A$6:$A$1806,Data!$G$6:$G$1806)","v":97.5},{"$f":"LOOKUP($AO107,Data!$A$6:$A$1806,Data!$H$6:$H$1806)","v":10},{"$f":"LOOKUP($AO107,Data!$A$6:$A$1806,Data!$I$6:$I$1806)","v":0},{"$f":"LOOKUP($AO107,Data!$A$6:$A$1806,Data!$J$6:$J$1806)","v":-103},{"$f":"LOOKUP($AO107,Data!$A$6:$A$1806,Data!$K$6:$K$1806)","v":7564.35},89.599609375,"T+56 sec",40098.102962962912,null,null,null,null,null,null,null,null,null,null,null,null,"T+56 sec",40098.102962962912,null,null,null,null,null,null,null,null,null,null,null,null,"T+56 sec",40098.102962962912,null,null,null,null,null,null,null,null,null,null,null,null,"T+56 sec",40098.102962962912,null,null,null,null,null,null,null,null,null,null,null,null,"T+56 sec",40098.102962962912]
["T+58 sec",40098.102986111058,{"$f":"LOOKUP(B108,Data!$A$6:$A$1806,Data!B$6:B$1806)","v":59.88800048828125},{"$f":"LOOKUP(B108,Data!$A$6:$A$1806,Data!C$6:C$1806)","v":3802.925048828125},null,null,null,{"$f":"(IF((C108-L$2)>0,((C108-L$2-L$5)/((L$4*L$2)-L$5)*L$3*-1),((C108-L$2+L$5)/((L$4*L$2)-L$5)*L$3*-1)))","v":89.599609375},89.963905607944795,null,null,0.58035779256491771,3785.1064352426683,{"$f":"AVERAGE(D$79:D108)","v":3762.9914713541666},{"$f":"AVERAGE(M$79:M108)","v":3774.1365845701448},3694.4474091025368,{"$f":"AVERAGE(P$79:P108)","v":3686.3224000066284},633,null,null,null,null,null,null,0,633,-413.0512701158724,null,{"$f":"A108","v":"T+58 sec"},null,null,null,null,null,null,null,null,null,null,"T+58 sec",40098.102986111058,{"$f":"LOOKUP($AO108,Data!$A$6:$A$1806,Data!$B$6:$B$1806)","v":59.88800048828125},{"$f":"LOOKUP($AO108,Data!$A$6:$A$1806,Data!$C$6:$C$1806)","v":3802.925048828125},{"$f":"LOOKUP($AO108,Data!$A$6:$A$1806,Data!$D$6:$D$1806)","v":335},{"$f":"IF($AS$1=\"+\",LOOKUP($AO108,Data!$A$6:$A$1806,Data!$E$6:$E$1806)*-1,LOOKUP($AO108,Data!$A$6:$A$1806,Data!$E$6:$E$1806))","v":-214.34669494628906},{"$f":"LOOKUP($AO108,Data!$A$6:$A$1806,Data!$F$6:$F$1806)","v":6},{"$f":"LOOKUP($AO108,Data!$A$6:$A$1806,Data!$G$6:$G$1806)","v":97.5},{"$f":"LOOKUP($AO108,Data!$A$6:$A$1806,Data!$H$6:$H$1806)","v":10},{"$f":"LOOKUP($AO108,Data!$A$6:$A$1806,Data!$I$6:$I$1806)","v":0},{"$f":"LOOKUP($AO108,Data!$A$6:$A$1806,Data!$J$6:$J$1806)","v":-103},{"$f":"LOOKUP($AO108,Data!$A$6:$A$1806,Data!$K$6:$K$1806)","v":7564.35},{"$f":"(IF((AP108-$L$2)>0,((AP108-$L$2-$L$5)/(($L$4*$L$2)-$L$5)*$L$3*-1),((AP108-$L$2+$L$5)/(($L$4*$L$2)-$L$5)*$L$3*-1)))","v":89.599609375},"T+58 sec",40098.102986111058,null,null,null,null,null,null,null,null,null,null,null,null,"T+58 sec",40098.102986111058,null,null,null,null,null,null,null,null,null,null,null,null,"T+58 sec",40098.102986111058,null,null,null,null,null,null,null,null,null,null,null,null,"T+58 sec",40098.102986111058,null,null,null,null,null,null,null,null,null,null,null,null,"T+58 sec",40098.102986111058]
["T+60 sec",40098.103009259205,{"$f":"LOOKUP(B109,Data!$A$6:$A$1806,Data!B$6:B$1806)","v":59.88800048828125},{"$f":"LOOKUP(B109,Data!$A$6:$A$1806,Data!C$6:C$1806)","v":3802.925048828125},null,null,null,89.599609375,89.836401926414112,null,null,0.58035779256491771,3785.5592893537028,{"$f":"AVERAGE(D$79:D109)","v":3764.2796512726813},{"$f":"AVERAGE(M$79:M109)","v":3774.5050589180014},3695.0277668951016,{"$f":"AVERAGE(P$79:P109)","v":3686.6125789029106},633,null,null,null,null,null,null,0,633,-413.0512701158724,null,"T+60 sec",null,null,null,null,null,null,null,null,null,null,"T+60 sec",40098.103009259205,{"$f":"LOOKUP($AO109,Data!$A$6:$A$1806,Data!$B$6:$B$1806)","v":59.88800048828125},{"$f":"LOOKUP($AO109,Data!$A$6:$A$1806,Data!$C$6:$C$1806)","v":3802.925048828125},{"$f":"LOOKUP($AO109,Data!$A$6:$A$1806,Data!$D$6:$D$1806)","v":335},{"$f":"IF($AS$1=\"+\",LOOKUP($AO109,Data!$A$6:$A$1806,Data!$E$6:$E$1806)*-1,LOOKUP($AO109,Data!$A$6:$A$1806,Data!$E$6:$E$1806))","v":-214.34669494628906},{"$f":"LOOKUP($AO109,Data!$A$6:$A$1806,Data!$F$6:$F$1806)","v":6},{"$f":"LOOKUP($AO109,Data!$A$6:$A$1806,Data!$G$6:$G$1806)","v":97.5},{"$f":"LOOKUP($AO109,Data!$A$6:$A$1806,Data!$H$6:$H$1806)","v":10},{"$f":"LOOKUP($AO109,Data!$A$6:$A$1806,Data!$I$6:$I$1806)","v":0},{"$f":"LOOKUP($AO109,Data!$A$6:$A$1806,Data!$J$6:$J$1806)","v":-103},{"$f":"LOOKUP($AO109,Data!$A$6:$A$1806,Data!$K$6:$K$1806)","v":7564.35},89.599609375,"T+60 sec",40098.103009259205,null,null,null,null,null,null,null,null,null,null,null,null,"T+60 sec",40098.103009259205,null,null,null,null,null,null,null,null,null,null,null,null,"T+60 sec",40098.103009259205,null,null,null,null,null,null,null,null,null,null,null,null,"T+60 sec",40098.103009259205,null,null,null,null,null,null,null,null,null,null,null,null,"T+60 sec",40098.103009259205]
["T+62 sec",{"$f":"B109+TIME(0,0,$B$1)","v":40098.103032407351},{"$f":"LOOKUP(B110,Data!$A$6:$A$1806,Data!B$6:B$1806)","v":59.881999969482422},{"$f":"LOOKUP(B110,Data!$A$6:$A$1806,Data!C$6:C$1806)","v":3804.387939453125},null,null,null,94.4000244140625,91.433669797091056,null,null,0.58035779256491771,3787.7369150169447,{"$f":"AVERAGE(D$79:D110)","v":3765.5330352783203},{"$f":"AVERAGE(M$79:M110)","v":3774.9185544210932},3695.6081246876665,{"$f":"AVERAGE(P$79:P110)","v":3686.9027577991933},633,null,null,null,null,null,null,0,633,-397.48757859940355,null,"T+62 sec",null,null,null,null,null,null,null,null,null,null,"T+62 sec",40098.103032407351,{"$f":"LOOKUP($AO110,Data!$A$6:$A$1806,Data!$B$6:$B$1806)","v":59.881999969482422},{"$f":"LOOKUP($AO110,Data!$A$6:$A$1806,Data!$C$6:$C$1806)","v":3804.387939453125},{"$f":"LOOKUP($AO110,Data!$A$6:$A$1806,Data!$D$6:$D$1806)","v":335},{"$f":"IF($AS$1=\"+\",LOOKUP($AO110,Data!$A$6:$A$1806,Data!$E$6:$E$1806)*-1,LOOKUP($AO110,Data!$A$6:$A$1806,Data!$E$6:$E$1806))","v":-214.34669494628906},{"$f":"LOOKUP($AO110,Data!$A$6:$A$1806,Data!$F$6:$F$1806)","v":7},{"$f":"LOOKUP($AO110,Data!$A$6:$A$1806,Data!$G$6:$G$1806)","v":98},{"$f":"LOOKUP($AO110,Data!$A$6:$A$1806,Data!$H$6:$H$1806)","v":10},{"$f":"LOOKUP($AO110,Data!$A$6:$A$1806,Data!$I$6:$I$1806)","v":0},{"$f":"LOOKUP($AO110,Data!$A$6:$A$1806,Data!$J$6:$J$1806)","v":-103},{"$f":"LOOKUP($AO110,Data!$A$6:$A$1806,Data!$K$6:$K$1806)","v":7564.68},94.4000244140625,"T+62 sec",40098.103032407351,null,null,null,null,null,null,null,null,null,null,null,null,"T+62 sec",40098.103032407351,null,null,null,null,null,null,null,null,null,null,null,null,"T+62 sec",40098.103032407351,null,null,null,null,null,null,null,null,null,null,null,null,"T+62 sec",40098.103032407351,null,null,null,null,null,null,null,null,null,null,null,null,"T+62 sec",40098.103032407351]
["T+64 sec",40098.103055555497,{"$f":"LOOKUP(B111,Data!$A$6:$A$1806,Data!B$6:B$1806)","v":59.881999969482422},{"$f":"LOOKUP(B111,Data!$A$6:$A$1806,Data!C$6:C$1806)","v":3804.387939453125},null,null,null,94.4000244140625,92.471893913031067,null,null,0.58035779256491771,3789.3554969254496,{"$f":"AVERAGE(D$79:D111)","v":3766.710456616951},{"$f":"AVERAGE(M$79:M111)","v":3775.3560375272859},3696.1884824802314,{"$f":"AVERAGE(P$79:P111)","v":3687.1929366954755},633,null,null,null,null,null,null,0,633,-397.48757859940355,null,"T+64 sec",null,null,null,null,null,null,null,null,null,null,"T+64 sec",40098.103055555497,{"$f":"LOOKUP($AO111,Data!$A$6:$A$1806,Data!$B$6:$B$1806)","v":59.881999969482422},{"$f":"LOOKUP($AO111,Data!$A$6:$A$1806,Data!$C$6:$C$1806)","v":3804.387939453125},{"$f":"LOOKUP($AO111,Data!$A$6:$A$1806,Data!$D$6:$D$1806)","v":335},{"$f":"IF($AS$1=\"+\",LOOKUP($AO111,Data!$A$6:$A$1806,Data!$E$6:$E$1806)*-1,LOOKUP($AO111,Data!$A$6:$A$1806,Data!$E$6:$E$1806))","v":-214.34669494628906},{"$f":"LOOKUP($AO111,Data!$A$6:$A$1806,Data!$F$6:$F$1806)","v":7},{"$f":"LOOKUP($AO111,Data!$A$6:$A$1806,Data!$G$6:$G$1806)","v":98},{"$f":"LOOKUP($AO111,Data!$A$6:$A$1806,Data!$H$6:$H$1806)","v":10},{"$f":"LOOKUP($AO111,Data!$A$6:$A$1806,Data!$I$6:$I$1806)","v":0},{"$f":"LOOKUP($AO111,Data!$A$6:$A$1806,Data!$J$6:$J$1806)","v":-103},{"$f":"LOOKUP($AO111,Data!$A$6:$A$1806,Data!$K$6:$K$1806)","v":7564.68},94.4000244140625,"T+64 sec",40098.103055555497,null,null,null,null,null,null,null,null,null,null,null,null,"T+64 sec",40098.103055555497,null,null,null,null,null,null,null,null,null,null,null,null,"T+64 sec",40098.103055555497,null,null,null,null,null,null,null,null,null,null,null,null,"T+64 sec",40098.103055555497,null,null,null,null,null,null,null,null,null,null,null,null,"T+64 sec",40098.103055555497]
["T+66 sec",40098.103078703643,{"$f":"LOOKUP(B112,Data!$A$6:$A$1806,Data!B$6:B$1806)","v":59.856998443603516},{"$f":"LOOKUP(B112,Data!$A$6:$A$1806,Data!C$6:C$1806)","v":3809.2373046875},null,null,null,114.4012451171875,100.14716683448583,null,null,0.58035779256491771,3797.6111276394695,{"$f":"AVERAGE(D$79:D112)","v":3767.9612462660843},{"$f":"AVERAGE(M$79:M112)","v":3776.0105990011734},3696.7688402727963,{"$f":"AVERAGE(P$79:P112)","v":3687.4831155917577},633,null,null,null,null,null,null,0,633,-343.55162368919576,null,"T+66 sec",null,null,null,null,null,null,null,null,null,null,"T+66 sec",40098.103078703643,{"$f":"LOOKUP($AO112,Data!$A$6:$A$1806,Data!$B$6:$B$1806)","v":59.856998443603516},{"$f":"LOOKUP($AO112,Data!$A$6:$A$1806,Data!$C$6:$C$1806)","v":3809.2373046875},{"$f":"LOOKUP($AO112,Data!$A$6:$A$1806,Data!$D$6:$D$1806)","v":335},{"$f":"IF($AS$1=\"+\",LOOKUP($AO112,Data!$A$6:$A$1806,Data!$E$6:$E$1806)*-1,LOOKUP($AO112,Data!$A$6:$A$1806,Data!$E$6:$E$1806))","v":-214.34669494628906},{"$f":"LOOKUP($AO112,Data!$A$6:$A$1806,Data!$F$6:$F$1806)","v":8},{"$f":"LOOKUP($AO112,Data!$A$6:$A$1806,Data!$G$6:$G$1806)","v":98.5},{"$f":"LOOKUP($AO112,Data!$A$6:$A$1806,Data!$H$6:$H$1806)","v":10},{"$f":"LOOKUP($AO112,Data!$A$6:$A$1806,Data!$I$6:$I$1806)","v":0},{"$f":"LOOKUP($AO112,Data!$A$6:$A$1806,Data!$J$6:$J$1806)","v":-103},{"$f":"LOOKUP($AO112,Data!$A$6:$A$1806,Data!$K$6:$K$1806)","v":7565.01},114.4012451171875,"T+66 sec",40098.103078703643,null,null,null,null,null,null,null,null,null,null,null,null,"T+66 sec",40098.103078703643,null,null,null,null,null,null,null,null,null,null,null,null,"T+66 sec",40098.103078703643,null,null,null,null,null,null,null,null,null,null,null,null,"T+66 sec",40098.103078703643,null,null,null,null,null,null,null,null,null,null,null,null,"T+66 sec",40098.103078703643]
["T+68 sec",40098.10310185179,{"$f":"LOOKUP(B113,Data!$A$6:$A$1806,Data!B$6:B$1806)","v":59.856998443603516},{"$f":"LOOKUP(B113,Data!$A$6:$A$1806,Data!C$6:C$1806)","v":3809.2373046875},null,null,null,114.4012451171875,105.13609423343142,null,null,0.58035779256491771,3803.18041283098,{"$f":"AVERAGE(D$79:D113)","v":3769.1405622209822},{"$f":"AVERAGE(M$79:M113)","v":3776.7868793963107},3697.3491980653612,{"$f":"AVERAGE(P$79:P113)","v":3687.7732944880404},633,null,null,null,null,null,null,0,633,-343.55162368919576,null,"T+68 sec",null,null,null,null,null,null,null,null,null,null,"T+68 sec",40098.10310185179,{"$f":"LOOKUP($AO113,Data!$A$6:$A$1806,Data!$B$6:$B$1806)","v":59.856998443603516},{"$f":"LOOKUP($AO113,Data!$A$6:$A$1806,Data!$C$6:$C$1806)","v":3809.2373046875},{"$f":"LOOKUP($AO113,Data!$A$6:$A$1806,Data!$D$6:$D$1806)","v":335},{"$f":"IF($AS$1=\"+\",LOOKUP($AO113,Data!$A$6:$A$1806,Data!$E$6:$E$1806)*-1,LOOKUP($AO113,Data!$A$6:$A$1806,Data!$E$6:$E$1806))","v":-214.34669494628906},{"$f":"LOOKUP($AO113,Data!$A$6:$A$1806,Data!$F$6:$F$1806)","v":8},{"$f":"LOOKUP($AO113,Data!$A$6:$A$1806,Data!$G$6:$G$1806)","v":98.5},{"$f":"LOOKUP($AO113,Data!$A$6:$A$1806,Data!$H$6:$H$1806)","v":10},{"$f":"LOOKUP($AO113,Data!$A$6:$A$1806,Data!$I$6:$I$1806)","v":0},{"$f":"LOOKUP($AO113,Data!$A$6:$A$1806,Data!$J$6:$J$1806)","v":-103},{"$f":"LOOKUP($AO113,Data!$A$6:$A$1806,Data!$K$6:$K$1806)","v":7565.01},114.4012451171875,"T+68 sec",40098.10310185179,null,null,null,null,null,null,null,null,null,null,null,null,"T+68 sec",40098.10310185179,null,null,null,null,null,null,null,null,null,null,null,null,"T+68 sec",40098.10310185179,null,null,null,null,null,null,null,null,null,null,null,null,"T+68 sec",40098.10310185179,null,null,null,null,null,null,null,null,null,null,null,null,"T+68 sec",40098.10310185179]
["T+70 sec",40098.103124999936,{"$f":"LOOKUP(B114,Data!$A$6:$A$1806,Data!B$6:B$1806)","v":59.856998443603516},{"$f":"LOOKUP(B114,Data!$A$6:$A$1806,Data!C$6:C$1806)","v":3809.2373046875},null,null,null,114.4012451171875,108.37889704274605,null,null,0.58035779256491771,3807.0035734328594,{"$f":"AVERAGE(D$79:D114)","v":3770.2543606228301},{"$f":"AVERAGE(M$79:M114)","v":3777.626232008437},3697.9295558579261,{"$f":"AVERAGE(P$79:P114)","v":3688.0634733843231},633,null,null,null,null,null,null,0,633,-343.55162368919576,null,"T+70 sec",null,null,null,null,null,null,null,null,null,null,"T+70 sec",40098.103124999936,{"$f":"LOOKUP($AO114,Data!$A$6:$A$1806,Data!$B$6:$B$1806)","v":59.856998443603516},{"$f":"LOOKUP($AO114,Data!$A$6:$A$1806,Data!$C$6:$C$1806)","v":3809.2373046875},{"$f":"LOOKUP($AO114,Data!$A$6:$A$1806,Data!$D$6:$D$1806)","v":335},{"$f":"IF($AS$1=\"+\",LOOKUP($AO114,Data!$A$6:$A$1806,Data!$E$6:$E$1806)*-1,LOOKUP($AO114,Data!$A$6:$A$1806,Data!$E$6:$E$1806))","v":-214.34669494628906},{"$f":"LOOKUP($AO114,Data!$A$6:$A$1806,Data!$F$6:$F$1806)","v":8},{"$f":"LOOKUP($AO114,Data!$A$6:$A$1806,Data!$G$6:$G$1806)","v":98.5},{"$f":"LOOKUP($AO114,Data!$A$6:$A$1806,Data!$H$6:$H$1806)","v":10},{"$f":"LOOKUP($AO114,Data!$A$6:$A$1806,Data!$I$6:$I$1806)","v":0},{"$f":"LOOKUP($AO114,Data!$A$6:$A$1806,Data!$J$6:$J$1806)","v":-103},{"$f":"LOOKUP($AO114,Data!$A$6:$A$1806,Data!$K$6:$K$1806)","v":7565.01},114.4012451171875,"T+70 sec",40098.103124999936,null,null,null,null,null,null,null,null,null,null,null,null,"T+70 sec",40098.103124999936,null,null,null,null,null,null,null,null,null,null,null,null,"T+70 sec",40098.103124999936,null,null,null,null,null,null,null,null,null,null,null,null,"T+70 sec",40098.103124999936,null,null,null,null,null,null,null,null,null,null,null,null,"T+70 sec",40098.103124999936]
["T+72 sec",40098.103148148082,{"$f":"LOOKUP(B115,Data!$A$6:$A$1806,Data!B$6:B$1806)","v":59.858001708984375},{"$f":"LOOKUP(B115,Data!$A$6:$A$1806,Data!C$6:C$1806)","v":3814.8623046875},null,null,null,113.5986328125,110.20580456215993,null,null,0.58035779256491771,3809.4108387448382,{"$f":"AVERAGE(D$79:D115)","v":3771.4599807326858},{"$f":"AVERAGE(M$79:M115)","v":3778.4852754337448},3698.5099136504909,{"$f":"AVERAGE(P$79:P115)","v":3688.3536522806057},633,null,null,null,null,null,null,0,633,-345.43253083528492,null,"T+72 sec",null,null,null,null,null,null,null,null,null,null,"T+72 sec",40098.103148148082,{"$f":"LOOKUP($AO115,Data!$A$6:$A$1806,Data!$B$6:$B$1806)","v":59.858001708984375},{"$f":"LOOKUP($AO115,Data!$A$6:$A$1806,Data!$C$6:$C$1806)","v":3814.8623046875},{"$f":"LOOKUP($AO115,Data!$A$6:$A$1806,Data!$D$6:$D$1806)","v":335},{"$f":"IF($AS$1=\"+\",LOOKUP($AO115,Data!$A$6:$A$1806,Data!$E$6:$E$1806)*-1,LOOKUP($AO115,Data!$A$6:$A$1806,Data!$E$6:$E$1806))","v":-214.34669494628906},{"$f":"LOOKUP($AO115,Data!$A$6:$A$1806,Data!$F$6:$F$1806)","v":9},{"$f":"LOOKUP($AO115,Data!$A$6:$A$1806,Data!$G$6:$G$1806)","v":99},{"$f":"LOOKUP($AO115,Data!$A$6:$A$1806,Data!$H$6:$H$1806)","v":10},{"$f":"LOOKUP($AO115,Data!$A$6:$A$1806,Data!$I$6:$I$1806)","v":0},{"$f":"LOOKUP($AO115,Data!$A$6:$A$1806,Data!$J$6:$J$1806)","v":-103},{"$f":"LOOKUP($AO115,Data!$A$6:$A$1806,Data!$K$6:$K$1806)","v":7565.34},113.5986328125,"T+72 sec",40098.103148148082,null,null,null,null,null,null,null,null,null,null,null,null,"T+72 sec",40098.103148148082,null,null,null,null,null,null,null,null,null,null,null,null,"T+72 sec",40098.103148148082,null,null,null,null,null,null,null,null,null,null,null,null,"T+72 sec",40098.103148148082,null,null,null,null,null,null,null,null,null,null,null,null,"T+72 sec",40098.103148148082]
["T+74 sec",40098.103171296229,{"$f":"LOOKUP(B116,Data!$A$6:$A$1806,Data!B$6:B$1806)","v":59.858001708984375},{"$f":"LOOKUP(B116,Data!$A$6:$A$1806,Data!C$6:C$1806)","v":3814.8623046875},null,null,null,113.5986328125,111.39329444977895,null,null,0.58035779256491771,3811.1786864250221,{"$f":"AVERAGE(D$79:D116)","v":3772.6021471525492},{"$f":"AVERAGE(M$79:M116)","v":3779.3456283545684},3699.0902714430558,{"$f":"AVERAGE(P$79:P116)","v":3688.6438311768879},633,null,null,null,null,null,null,0,633,-345.43253083528492,null,"T+74 sec",null,null,null,null,null,null,null,null,null,null,"T+74 sec",40098.103171296229,{"$f":"LOOKUP($AO116,Data!$A$6:$A$1806,Data!$B$6:$B$1806)","v":59.858001708984375},{"$f":"LOOKUP($AO116,Data!$A$6:$A$1806,Data!$C$6:$C$1806)","v":3814.8623046875},{"$f":"LOOKUP($AO116,Data!$A$6:$A$1806,Data!$D$6:$D$1806)","v":335},{"$f":"IF($AS$1=\"+\",LOOKUP($AO116,Data!$A$6:$A$1806,Data!$E$6:$E$1806)*-1,LOOKUP($AO116,Data!$A$6:$A$1806,Data!$E$6:$E$1806))","v":-214.34669494628906},{"$f":"LOOKUP($AO116,Data!$A$6:$A$1806,Data!$F$6:$F$1806)","v":9},{"$f":"LOOKUP($AO116,Data!$A$6:$A$1806,Data!$G$6:$G$1806)","v":99},{"$f":"LOOKUP($AO116,Data!$A$6:$A$1806,Data!$H$6:$H$1806)","v":10},{"$f":"LOOKUP($AO116,Data!$A$6:$A$1806,Data!$I$6:$I$1806)","v":0},{"$f":"LOOKUP($AO116,Data!$A$6:$A$1806,Data!$J$6:$J$1806)","v":-103},{"$f":"LOOKUP($AO116,Data!$A$6:$A$1806,Data!$K$6:$K$1806)","v":7565.34},113.5986328125,"T+74 sec",40098.103171296229,null,null,null,null,null,null,null,null,null,null,null,null,"T+74 sec",40098.103171296229,null,null,null,null,null,null,null,null,null,null,null,null,"T+74 sec",40098.103171296229,null,null,null,null,null,null,null,null,null,null,null,null,"T+74 sec",40098.103171296229,null,null,null,null,null,null,null,null,null,null,null,null,"T+74 sec",40098.103171296229]
["T+76 sec",40098.103194444375,{"$f":"LOOKUP(B117,Data!$A$6:$A$1806,Data!B$6:B$1806)","v":59.866001129150391},{"$f":"LOOKUP(B117,Data!$A$6:$A$1806,Data!C$6:C$1806)","v":3826.05322265625},null,null,null,107.1990966796875,109.92532523024694,null,null,0.58035779256491771,3810.2910749980551,{"$f":"AVERAGE(D$79:D117)","v":3773.9726875500801},{"$f":"AVERAGE(M$79:M117)","v":3780.1391013454272},3699.6706292356207,{"$f":"AVERAGE(P$79:P117)","v":3688.9340100731702},633,null,null,null,null,null,null,0,633,-361.20014366408725,null,"T+76 sec",null,null,null,null,null,null,null,null,null,null,"T+76 sec",40098.103194444375,{"$f":"LOOKUP($AO117,Data!$A$6:$A$1806,Data!$B$6:$B$1806)","v":59.866001129150391},{"$f":"LOOKUP($AO117,Data!$A$6:$A$1806,Data!$C$6:$C$1806)","v":3826.05322265625},{"$f":"LOOKUP($AO117,Data!$A$6:$A$1806,Data!$D$6:$D$1806)","v":335},{"$f":"IF($AS$1=\"+\",LOOKUP($AO117,Data!$A$6:$A$1806,Data!$E$6:$E$1806)*-1,LOOKUP($AO117,Data!$A$6:$A$1806,Data!$E$6:$E$1806))","v":-212.17269897460937},{"$f":"LOOKUP($AO117,Data!$A$6:$A$1806,Data!$F$6:$F$1806)","v":10},{"$f":"LOOKUP($AO117,Data!$A$6:$A$1806,Data!$G$6:$G$1806)","v":99.5},{"$f":"LOOKUP($AO117,Data!$A$6:$A$1806,Data!$H$6:$H$1806)","v":10},{"$f":"LOOKUP($AO117,Data!$A$6:$A$1806,Data!$I$6:$I$1806)","v":0},{"$f":"LOOKUP($AO117,Data!$A$6:$A$1806,Data!$J$6:$J$1806)","v":-103},{"$f":"LOOKUP($AO117,Data!$A$6:$A$1806,Data!$K$6:$K$1806)","v":7565.67},107.1990966796875,"T+76 sec",40098.103194444375,null,null,null,null,null,null,null,null,null,null,null,null,"T+76 sec",40098.103194444375,null,null,null,null,null,null,null,null,null,null,null,null,"T+76 sec",40098.103194444375,null,null,null,null,null,null,null,null,null,null,null,null,"T+76 sec",40098.103194444375,null,null,null,null,null,null,null,null,null,null,null,null,"T+76 sec",40098.103194444375]
["T+78 sec",40098.103217592521,{"$f":"LOOKUP(B118,Data!$A$6:$A$1806,Data!B$6:B$1806)","v":59.866001129150391},{"$f":"LOOKUP(B118,Data!$A$6:$A$1806,Data!C$6:C$1806)","v":3826.05322265625},null,null,null,107.1990966796875,108.97114523755114,null,null,0.58035779256491771,3809.9172527979244,{"$f":"AVERAGE(D$79:D118)","v":3775.2747009277346},{"$f":"AVERAGE(M$79:M118)","v":3780.8835551317397},3700.2509870281856,{"$f":"AVERAGE(P$79:P118)","v":3689.2241889694528},633,null,null,null,null,null,null,0,633,-361.20014366408725,null,"T+78 sec",null,null,null,null,null,null,null,null,null,null,"T+78 sec",40098.103217592521,{"$f":"LOOKUP($AO118,Data!$A$6:$A$1806,Data!$B$6:$B$1806)","v":59.866001129150391},{"$f":"LOOKUP($AO118,Data!$A$6:$A$1806,Data!$C$6:$C$1806)","v":3826.05322265625},{"$f":"LOOKUP($AO118,Data!$A$6:$A$1806,Data!$D$6:$D$1806)","v":335},{"$f":"IF($AS$1=\"+\",LOOKUP($AO118,Data!$A$6:$A$1806,Data!$E$6:$E$1806)*-1,LOOKUP($AO118,Data!$A$6:$A$1806,Data!$E$6:$E$1806))","v":-212.17269897460937},{"$f":"LOOKUP($AO118,Data!$A$6:$A$1806,Data!$F$6:$F$1806)","v":10},{"$f":"LOOKUP($AO118,Data!$A$6:$A$1806,Data!$G$6:$G$1806)","v":99.5},{"$f":"LOOKUP($AO118,Data!$A$6:$A$1806,Data!$H$6:$H$1806)","v":10},{"$f":"LOOKUP($AO118,Data!$A$6:$A$1806,Data!$I$6:$I$1806)","v":0},{"$f":"LOOKUP($AO118,Data!$A$6:$A$1806,Data!$J$6:$J$1806)","v":-103},{"$f":"LOOKUP($AO118,Data!$A$6:$A$1806,Data!$K$6:$K$1806)","v":7565.67},107.1990966796875,"T+78 sec",40098.103217592521,null,null,null,null,null,null,null,null,null,null,null,null,"T+78 sec",40098.103217592521,null,null,null,null,null,null,null,null,null,null,null,null,"T+78 sec",40098.103217592521,null,null,null,null,null,null,null,null,null,null,null,null,"T+78 sec",40098.103217592521,null,null,null,null,null,null,null,null,null,null,null,null,"T+78 sec",40098.103217592521]
["T+80 sec",40098.103240740667,{"$f":"LOOKUP(B119,Data!$A$6:$A$1806,Data!B$6:B$1806)","v":59.866001129150391},{"$f":"LOOKUP(B119,Data!$A$6:$A$1806,Data!C$6:C$1806)","v":3826.05322265625},null,null,null,107.1990966796875,108.35092824229886,null,null,0.58035779256491771,3809.8773935952372,{"$f":"AVERAGE(D$79:D119)","v":3776.513201457698},{"$f":"AVERAGE(M$79:M119)","v":3781.5907219235323},3700.8313448207505,{"$f":"AVERAGE(P$79:P119)","v":3689.5143678657355},633,null,null,null,null,null,null,0,633,-361.20014366408725,null,"T+80 sec",null,null,null,null,null,null,null,null,null,null,"T+80 sec",40098.103240740667,{"$f":"LOOKUP($AO119,Data!$A$6:$A$1806,Data!$B$6:$B$1806)","v":59.866001129150391},{"$f":"LOOKUP($AO119,Data!$A$6:$A$1806,Data!$C$6:$C$1806)","v":3826.05322265625},{"$f":"LOOKUP($AO119,Data!$A$6:$A$1806,Data!$D$6:$D$1806)","v":335},{"$f":"IF($AS$1=\"+\",LOOKUP($AO119,Data!$A$6:$A$1806,Data!$E$6:$E$1806)*-1,LOOKUP($AO119,Data!$A$6:$A$1806,Data!$E$6:$E$1806))","v":-212.17269897460937},{"$f":"LOOKUP($AO119,Data!$A$6:$A$1806,Data!$F$6:$F$1806)","v":10},{"$f":"LOOKUP($AO119,Data!$A$6:$A$1806,Data!$G$6:$G$1806)","v":99.5},{"$f":"LOOKUP($AO119,Data!$A$6:$A$1806,Data!$H$6:$H$1806)","v":10},{"$f":"LOOKUP($AO119,Data!$A$6:$A$1806,Data!$I$6:$I$1806)","v":0},{"$f":"LOOKUP($AO119,Data!$A$6:$A$1806,Data!$J$6:$J$1806)","v":-103},{"$f":"LOOKUP($AO119,Data!$A$6:$A$1806,Data!$K$6:$K$1806)","v":7565.67},107.1990966796875,"T+80 sec",40098.103240740667,null,null,null,null,null,null,null,null,null,null,null,null,"T+80 sec",40098.103240740667,null,null,null,null,null,null,null,null,null,null,null,null,"T+80 sec",40098.103240740667,null,null,null,null,null,null,null,null,null,null,null,null,"T+80 sec",40098.103240740667,null,null,null,null,null,null,null,null,null,null,null,null,"T+80 sec",40098.103240740667]
[null,40098.103263888814,{"$f":"LOOKUP(B120,Data!$A$6:$A$1806,Data!B$6:B$1806)","v":59.866001129150391},{"$f":"LOOKUP(B120,Data!$A$6:$A$1806,Data!C$6:C$1806)","v":3827.52392578125},null,null,null,107.1990966796875,107.94778719538489,null,null,0.58035779256491771,3810.0546103408883,{"$f":"AVERAGE(D$79:D120)","v":3777.727742513021},{"$f":"AVERAGE(M$79:M120)","v":3782.2684335525169},3701.4117026133154,{"$f":"AVERAGE(P$79:P120)","v":3689.8045467620177},633,null,null,null,null,null,null,0,633,-361.20014366408725,null,null,null,null,null,null,null,null,null,null,null,null,null,40098.103263888814,{"$f":"LOOKUP($AO120,Data!$A$6:$A$1806,Data!$B$6:$B$1806)","v":59.866001129150391},{"$f":"LOOKUP($AO120,Data!$A$6:$A$1806,Data!$C$6:$C$1806)","v":3827.52392578125},{"$f":"LOOKUP($AO120,Data!$A$6:$A$1806,Data!$D$6:$D$1806)","v":335},{"$f":"IF($AS$1=\"+\",LOOKUP($AO120,Data!$A$6:$A$1806,Data!$E$6:$E$1806)*-1,LOOKUP($AO120,Data!$A$6:$A$1806,Data!$E$6:$E$1806))","v":-212.17269897460937},{"$f":"LOOKUP($AO120,Data!$A$6:$A$1806,Data!$F$6:$F$1806)","v":11},{"$f":"LOOKUP($AO120,Data!$A$6:$A$1806,Data!$G$6:$G$1806)","v":100},{"$f":"LOOKUP($AO120,Data!$A$6:$A$1806,Data!$H$6:$H$1806)","v":10},{"$f":"LOOKUP($AO120,Data!$A$6:$A$1806,Data!$I$6:$I$1806)","v":0},{"$f":"LOOKUP($AO120,Data!$A$6:$A$1806,Data!$J$6:$J$1806)","v":-103},{"$f":"LOOKUP($AO120,Data!$A$6:$A$1806,Data!$K$6:$K$1806)","v":7566},107.1990966796875]
[null,40098.10328703696,{"$f":"LOOKUP(B121,Data!$A$6:$A$1806,Data!B$6:B$1806)","v":59.866001129150391},{"$f":"LOOKUP(B121,Data!$A$6:$A$1806,Data!C$6:C$1806)","v":3827.52392578125},null,null,null,107.1990966796875,107.68574551489081,null,null,0.58035779256491771,3810.3729264529593,{"$f":"AVERAGE(D$79:D121)","v":3778.8857932867004},{"$f":"AVERAGE(M$79:M121)","v":3782.9220264106666},3701.9920604058802,{"$f":"AVERAGE(P$79:P121)","v":3690.0947256582999},633,null,null,null,null,null,null,0,633,-361.20014366408725,null,null,null,null,null,null,null,null,null,null,null,null,null,40098.10328703696,{"$f":"LOOKUP($AO121,Data!$A$6:$A$1806,Data!$B$6:$B$1806)","v":59.866001129150391},{"$f":"LOOKUP($AO121,Data!$A$6:$A$1806,Data!$C$6:$C$1806)","v":3827.52392578125},{"$f":"LOOKUP($AO121,Data!$A$6:$A$1806,Data!$D$6:$D$1806)","v":335},{"$f":"IF($AS$1=\"+\",LOOKUP($AO121,Data!$A$6:$A$1806,Data!$E$6:$E$1806)*-1,LOOKUP($AO121,Data!$A$6:$A$1806,Data!$E$6:$E$1806))","v":-212.17269897460937},{"$f":"LOOKUP($AO121,Data!$A$6:$A$1806,Data!$F$6:$F$1806)","v":11},{"$f":"LOOKUP($AO121,Data!$A$6:$A$1806,Data!$G$6:$G$1806)","v":100},{"$f":"LOOKUP($AO121,Data!$A$6:$A$1806,Data!$H$6:$H$1806)","v":10},{"$f":"LOOKUP($AO121,Data!$A$6:$A$1806,Data!$I$6:$I$1806)","v":0},{"$f":"LOOKUP($AO121,Data!$A$6:$A$1806,Data!$J$6:$J$1806)","v":-103},{"$f":"LOOKUP($AO121,Data!$A$6:$A$1806,Data!$K$6:$K$1806)","v":7566},107.1990966796875]
[null,40098.103310185106,{"$f":"LOOKUP(B122,Data!$A$6:$A$1806,Data!B$6:B$1806)","v":59.874000549316406},{"$f":"LOOKUP(B122,Data!$A$6:$A$1806,Data!C$6:C$1806)","v":3826.45361328125},null,null,null,100.799560546875,105.27558077608528,null,null,0.58035779256491771,3808.5431195067185,{"$f":"AVERAGE(D$79:D122)","v":3779.9668801047587},{"$f":"AVERAGE(M$79:M122)","v":3783.5043239810311},3702.5724181984451,{"$f":"AVERAGE(P$79:P122)","v":3690.3849045545826},633,null,null,null,null,null,null,0,633,-378.47606144582437,null,null,null,null,null,null,null,null,null,null,null,null,null,40098.103310185106,{"$f":"LOOKUP($AO122,Data!$A$6:$A$1806,Data!$B$6:$B$1806)","v":59.874000549316406},{"$f":"LOOKUP($AO122,Data!$A$6:$A$1806,Data!$C$6:$C$1806)","v":3826.45361328125},{"$f":"LOOKUP($AO122,Data!$A$6:$A$1806,Data!$D$6:$D$1806)","v":335},{"$f":"IF($AS$1=\"+\",LOOKUP($AO122,Data!$A$6:$A$1806,Data!$E$6:$E$1806)*-1,LOOKUP($AO122,Data!$A$6:$A$1806,Data!$E$6:$E$1806))","v":-212.17269897460937},{"$f":"LOOKUP($AO122,Data!$A$6:$A$1806,Data!$F$6:$F$1806)","v":12},{"$f":"LOOKUP($AO122,Data!$A$6:$A$1806,Data!$G$6:$G$1806)","v":100.5},{"$f":"LOOKUP($AO122,Data!$A$6:$A$1806,Data!$H$6:$H$1806)","v":10},{"$f":"LOOKUP($AO122,Data!$A$6:$A$1806,Data!$I$6:$I$1806)","v":0},{"$f":"LOOKUP($AO122,Data!$A$6:$A$1806,Data!$J$6:$J$1806)","v":-103},{"$f":"LOOKUP($AO122,Data!$A$6:$A$1806,Data!$K$6:$K$1806)","v":7566.33},100.799560546875]
[null,40098.103333333253,{"$f":"LOOKUP(B123,Data!$A$6:$A$1806,Data!B$6:B$1806)","v":59.874000549316406},{"$f":"LOOKUP(B123,Data!$A$6:$A$1806,Data!C$6:C$1806)","v":3826.45361328125},null,null,null,100.799560546875,103.70897369586169,null,null,0.58035779256491771,3807.5568702190599,{"$f":"AVERAGE(D$79:D123)","v":3780.9999186197915},{"$f":"AVERAGE(M$79:M123)","v":3784.038825008543},3703.15277599101,{"$f":"AVERAGE(P$79:P123)","v":3690.6750834508653},633,null,null,null,null,null,null,0,633,-378.47606144582437,null,null,null,null,null,null,null,null,null,null,null,null,null,40098.103333333253,{"$f":"LOOKUP($AO123,Data!$A$6:$A$1806,Data!$B$6:$B$1806)","v":59.874000549316406},{"$f":"LOOKUP($AO123,Data!$A$6:$A$1806,Data!$C$6:$C$1806)","v":3826.45361328125},{"$f":"LOOKUP($AO123,Data!$A$6:$A$1806,Data!$D$6:$D$1806)","v":335},{"$f":"IF($AS$1=\"+\",LOOKUP($AO123,Data!$A$6:$A$1806,Data!$E$6:$E$1806)*-1,LOOKUP($AO123,Data!$A$6:$A$1806,Data!$E$6:$E$1806))","v":-212.17269897460937},{"$f":"LOOKUP($AO123,Data!$A$6:$A$1806,Data!$F$6:$F$1806)","v":12},{"$f":"LOOKUP($AO123,Data!$A$6:$A$1806,Data!$G$6:$G$1806)","v":100.5},{"$f":"LOOKUP($AO123,Data!$A$6:$A$1806,Data!$H$6:$H$1806)","v":10},{"$f":"LOOKUP($AO123,Data!$A$6:$A$1806,Data!$I$6:$I$1806)","v":0},{"$f":"LOOKUP($AO123,Data!$A$6:$A$1806,Data!$J$6:$J$1806)","v":-103},{"$f":"LOOKUP($AO123,Data!$A$6:$A$1806,Data!$K$6:$K$1806)","v":7566.33},100.799560546875]
[null,40098.103356481399,{"$f":"LOOKUP(B124,Data!$A$6:$A$1806,Data!B$6:B$1806)","v":59.874000549316406},{"$f":"LOOKUP(B124,Data!$A$6:$A$1806,Data!C$6:C$1806)","v":3826.45361328125},null,null,null,100.799560546875,102.69067909371635,null,null,0.58035779256491771,3807.1189334094793,{"$f":"AVERAGE(D$79:D124)","v":3781.98804241678},{"$f":"AVERAGE(M$79:M124)","v":3784.5405664955197},3703.7331337835749,{"$f":"AVERAGE(P$79:P124)","v":3690.9652623471475},633,null,null,null,null,null,null,0,633,-378.47606144582437,null,null,null,null,null,null,null,null,null,null,null,null,null,40098.103356481399,{"$f":"LOOKUP($AO124,Data!$A$6:$A$1806,Data!$B$6:$B$1806)","v":59.874000549316406},{"$f":"LOOKUP($AO124,Data!$A$6:$A$1806,Data!$C$6:$C$1806)","v":3826.45361328125},{"$f":"LOOKUP($AO124,Data!$A$6:$A$1806,Data!$D$6:$D$1806)","v":335},{"$f":"IF($AS$1=\"+\",LOOKUP($AO124,Data!$A$6:$A$1806,Data!$E$6:$E$1806)*-1,LOOKUP($AO124,Data!$A$6:$A$1806,Data!$E$6:$E$1806))","v":-212.17269897460937},{"$f":"LOOKUP($AO124,Data!$A$6:$A$1806,Data!$F$6:$F$1806)","v":12},{"$f":"LOOKUP($AO124,Data!$A$6:$A$1806,Data!$G$6:$G$1806)","v":100.5},{"$f":"LOOKUP($AO124,Data!$A$6:$A$1806,Data!$H$6:$H$1806)","v":10},{"$f":"LOOKUP($AO124,Data!$A$6:$A$1806,Data!$I$6:$I$1806)","v":0},{"$f":"LOOKUP($AO124,Data!$A$6:$A$1806,Data!$J$6:$J$1806)","v":-103},{"$f":"LOOKUP($AO124,Data!$A$6:$A$1806,Data!$K$6:$K$1806)","v":7566.33},100.799560546875]
[null,40098.103379629545,{"$f":"LOOKUP(B125,Data!$A$6:$A$1806,Data!B$6:B$1806)","v":59.882999420166016},{"$f":"LOOKUP(B125,Data!$A$6:$A$1806,Data!C$6:C$1806)","v":3823.82568359375},null,null,null,93.6004638671875,99.509103764431259,null,null,0.58035779256491771,3804.5177158727593,{"$f":"AVERAGE(D$79:D125)","v":3782.8782049950132},{"$f":"AVERAGE(M$79:M125)","v":3784.9656122269503},3704.3134915761398,{"$f":"AVERAGE(P$79:P125)","v":3691.2554412434301},633,null,null,null,null,null,null,0,633,-399.99795586303316,null,null,null,null,null,null,null,null,null,null,null,null,null,40098.103379629545,{"$f":"LOOKUP($AO125,Data!$A$6:$A$1806,Data!$B$6:$B$1806)","v":59.882999420166016},{"$f":"LOOKUP($AO125,Data!$A$6:$A$1806,Data!$C$6:$C$1806)","v":3823.82568359375},{"$f":"LOOKUP($AO125,Data!$A$6:$A$1806,Data!$D$6:$D$1806)","v":335},{"$f":"IF($AS$1=\"+\",LOOKUP($AO125,Data!$A$6:$A$1806,Data!$E$6:$E$1806)*-1,LOOKUP($AO125,Data!$A$6:$A$1806,Data!$E$6:$E$1806))","v":-212.17269897460937},{"$f":"LOOKUP($AO125,Data!$A$6:$A$1806,Data!$F$6:$F$1806)","v":13},{"$f":"LOOKUP($AO125,Data!$A$6:$A$1806,Data!$G$6:$G$1806)","v":101},{"$f":"LOOKUP($AO125,Data!$A$6:$A$1806,Data!$H$6:$H$1806)","v":10},{"$f":"LOOKUP($AO125,Data!$A$6:$A$1806,Data!$I$6:$I$1806)","v":0},{"$f":"LOOKUP($AO125,Data!$A$6:$A$1806,Data!$J$6:$J$1806)","v":-103},{"$f":"LOOKUP($AO125,Data!$A$6:$A$1806,Data!$K$6:$K$1806)","v":7566.66},93.6004638671875]
[null,40098.103402777691,{"$f":"LOOKUP(B126,Data!$A$6:$A$1806,Data!B$6:B$1806)","v":59.882999420166016},{"$f":"LOOKUP(B126,Data!$A$6:$A$1806,Data!C$6:C$1806)","v":3823.82568359375},null,null,null,93.6004638671875,97.44107980039594,null,null,0.58035779256491771,3803.0300497012886,{"$f":"AVERAGE(D$79:D126)","v":3783.7312774658203},{"$f":"AVERAGE(M$79:M126)","v":3785.3419546743321},3704.8938493687047,{"$f":"AVERAGE(P$79:P126)","v":3691.5456201397124},633,null,null,null,null,null,null,0,633,-399.99795586303316,null,null,null,null,null,null,null,null,null,null,null,null,null,40098.103402777691,{"$f":"LOOKUP($AO126,Data!$A$6:$A$1806,Data!$B$6:$B$1806)","v":59.882999420166016},{"$f":"LOOKUP($AO126,Data!$A$6:$A$1806,Data!$C$6:$C$1806)","v":3823.82568359375},{"$f":"LOOKUP($AO126,Data!$A$6:$A$1806,Data!$D$6:$D$1806)","v":335},{"$f":"IF($AS$1=\"+\",LOOKUP($AO126,Data!$A$6:$A$1806,Data!$E$6:$E$1806)*-1,LOOKUP($AO126,Data!$A$6:$A$1806,Data!$E$6:$E$1806))","v":-212.17269897460937},{"$f":"LOOKUP($AO126,Data!$A$6:$A$1806,Data!$F$6:$F$1806)","v":13},{"$f":"LOOKUP($AO126,Data!$A$6:$A$1806,Data!$G$6:$G$1806)","v":101},{"$f":"LOOKUP($AO126,Data!$A$6:$A$1806,Data!$H$6:$H$1806)","v":10},{"$f":"LOOKUP($AO126,Data!$A$6:$A$1806,Data!$I$6:$I$1806)","v":0},{"$f":"LOOKUP($AO126,Data!$A$6:$A$1806,Data!$J$6:$J$1806)","v":-103},{"$f":"LOOKUP($AO126,Data!$A$6:$A$1806,Data!$K$6:$K$1806)","v":7566.66},93.6004638671875]
[null,40098.103425925838,{"$f":"LOOKUP(B127,Data!$A$6:$A$1806,Data!B$6:B$1806)","v":59.889999389648437},{"$f":"LOOKUP(B127,Data!$A$6:$A$1806,Data!C$6:C$1806)","v":3818.05517578125},null,null,null,88.00048828125,94.136872768694857,null,null,0.58035779256491771,3800.3062004621524,{"$f":"AVERAGE(D$79:D127)","v":3784.4317651865435},{"$f":"AVERAGE(M$79:M127)","v":3785.6473474455124},3705.4742071612695,{"$f":"AVERAGE(P$79:P127)","v":3691.8357990359946},633,null,null,null,null,null,null,0,633,-418.51007452805203,null,null,null,null,null,null,null,null,null,null,null,null,null,40098.103425925838,{"$f":"LOOKUP($AO127,Data!$A$6:$A$1806,Data!$B$6:$B$1806)","v":59.889999389648437},{"$f":"LOOKUP($AO127,Data!$A$6:$A$1806,Data!$C$6:$C$1806)","v":3818.05517578125},{"$f":"LOOKUP($AO127,Data!$A$6:$A$1806,Data!$D$6:$D$1806)","v":335},{"$f":"IF($AS$1=\"+\",LOOKUP($AO127,Data!$A$6:$A$1806,Data!$E$6:$E$1806)*-1,LOOKUP($AO127,Data!$A$6:$A$1806,Data!$E$6:$E$1806))","v":-212.17269897460937},{"$f":"LOOKUP($AO127,Data!$A$6:$A$1806,Data!$F$6:$F$1806)","v":14},{"$f":"LOOKUP($AO127,Data!$A$6:$A$1806,Data!$G$6:$G$1806)","v":101.5},{"$f":"LOOKUP($AO127,Data!$A$6:$A$1806,Data!$H$6:$H$1806)","v":10},{"$f":"LOOKUP($AO127,Data!$A$6:$A$1806,Data!$I$6:$I$1806)","v":0},{"$f":"LOOKUP($AO127,Data!$A$6:$A$1806,Data!$J$6:$J$1806)","v":-103},{"$f":"LOOKUP($AO127,Data!$A$6:$A$1806,Data!$K$6:$K$1806)","v":7566.99},88.00048828125]
[null,40098.103449073984,{"$f":"LOOKUP(B128,Data!$A$6:$A$1806,Data!B$6:B$1806)","v":59.889999389648437},{"$f":"LOOKUP(B128,Data!$A$6:$A$1806,Data!C$6:C$1806)","v":3818.05517578125},null,null,null,88.00048828125,91.989138198089151,null,null,0.58035779256491771,3798.7388236841116,{"$f":"AVERAGE(D$79:D128)","v":3785.1042333984374},{"$f":"AVERAGE(M$79:M128)","v":3785.9091769702845},3706.0545649538344,{"$f":"AVERAGE(P$79:P128)","v":3692.1259779322772},633,null,null,null,null,null,null,0,633,-418.51007452805203,null,null,null,null,null,null,null,null,null,null,null,null,null,40098.103449073984,{"$f":"LOOKUP($AO128,Data!$A$6:$A$1806,Data!$B$6:$B$1806)","v":59.889999389648437},{"$f":"LOOKUP($AO128,Data!$A$6:$A$1806,Data!$C$6:$C$1806)","v":3818.05517578125},{"$f":"LOOKUP($AO128,Data!$A$6:$A$1806,Data!$D$6:$D$1806)","v":335},{"$f":"IF($AS$1=\"+\",LOOKUP($AO128,Data!$A$6:$A$1806,Data!$E$6:$E$1806)*-1,LOOKUP($AO128,Data!$A$6:$A$1806,Data!$E$6:$E$1806))","v":-212.17269897460937},{"$f":"LOOKUP($AO128,Data!$A$6:$A$1806,Data!$F$6:$F$1806)","v":14},{"$f":"LOOKUP($AO128,Data!$A$6:$A$1806,Data!$G$6:$G$1806)","v":101.5},{"$f":"LOOKUP($AO128,Data!$A$6:$A$1806,Data!$H$6:$H$1806)","v":10},{"$f":"LOOKUP($AO128,Data!$A$6:$A$1806,Data!$I$6:$I$1806)","v":0},{"$f":"LOOKUP($AO128,Data!$A$6:$A$1806,Data!$J$6:$J$1806)","v":-103},{"$f":"LOOKUP($AO128,Data!$A$6:$A$1806,Data!$K$6:$K$1806)","v":7566.99},88.00048828125]
[null,40098.10347222213,{"$f":"LOOKUP(B129,Data!$A$6:$A$1806,Data!B$6:B$1806)","v":59.889999389648437},{"$f":"LOOKUP(B129,Data!$A$6:$A$1806,Data!C$6:C$1806)","v":3818.05517578125},null,null,null,88.00048828125,90.593110727195452,null,null,0.58035779256491771,3797.9231540057826,{"$f":"AVERAGE(D$79:D129)","v":3785.7503303079043},{"$f":"AVERAGE(M$79:M129)","v":3786.144745147451},3706.6349227463993,{"$f":"AVERAGE(P$79:P129)","v":3692.4161568285595},633,null,null,null,null,null,null,0,633,-418.51007452805203,null,null,null,null,null,null,null,null,null,null,null,null,null,40098.10347222213,{"$f":"LOOKUP($AO129,Data!$A$6:$A$1806,Data!$B$6:$B$1806)","v":59.889999389648437},{"$f":"LOOKUP($AO129,Data!$A$6:$A$1806,Data!$C$6:$C$1806)","v":3818.05517578125},{"$f":"LOOKUP($AO129,Data!$A$6:$A$1806,Data!$D$6:$D$1806)","v":335},{"$f":"IF($AS$1=\"+\",LOOKUP($AO129,Data!$A$6:$A$1806,Data!$E$6:$E$1806)*-1,LOOKUP($AO129,Data!$A$6:$A$1806,Data!$E$6:$E$1806))","v":-212.17269897460937},{"$f":"LOOKUP($AO129,Data!$A$6:$A$1806,Data!$F$6:$F$1806)","v":14},{"$f":"LOOKUP($AO129,Data!$A$6:$A$1806,Data!$G$6:$G$1806)","v":101.5},{"$f":"LOOKUP($AO129,Data!$A$6:$A$1806,Data!$H$6:$H$1806)","v":10},{"$f":"LOOKUP($AO129,Data!$A$6:$A$1806,Data!$I$6:$I$1806)","v":0},{"$f":"LOOKUP($AO129,Data!$A$6:$A$1806,Data!$J$6:$J$1806)","v":-103},{"$f":"LOOKUP($AO129,Data!$A$6:$A$1806,Data!$K$6:$K$1806)","v":7566.99},88.00048828125]
[null,40098.103495370277,{"$f":"LOOKUP(B130,Data!$A$6:$A$1806,Data!B$6:B$1806)","v":59.893001556396484},{"$f":"LOOKUP(B130,Data!$A$6:$A$1806,Data!C$6:C$1806)","v":3815.009765625},null,null,null,85.5987548828125,88.845086181661415,null,null,0.58035779256491771,3796.7554872528135,{"$f":"AVERAGE(D$79:D130)","v":3786.3130117563101},{"$f":"AVERAGE(M$79:M130)","v":3786.3487978802464},3707.2152805389642,{"$f":"AVERAGE(P$79:P130)","v":3692.7063357248421},633,null,null,null,null,null,null,0,633,-426.98527372145384,null,null,null,null,null,null,null,null,null,null,null,null,null,40098.103495370277,{"$f":"LOOKUP($AO130,Data!$A$6:$A$1806,Data!$B$6:$B$1806)","v":59.893001556396484},{"$f":"LOOKUP($AO130,Data!$A$6:$A$1806,Data!$C$6:$C$1806)","v":3815.009765625},{"$f":"LOOKUP($AO130,Data!$A$6:$A$1806,Data!$D$6:$D$1806)","v":335},{"$f":"IF($AS$1=\"+\",LOOKUP($AO130,Data!$A$6:$A$1806,Data!$E$6:$E$1806)*-1,LOOKUP($AO130,Data!$A$6:$A$1806,Data!$E$6:$E$1806))","v":-215.59817504882812},{"$f":"LOOKUP($AO130,Data!$A$6:$A$1806,Data!$F$6:$F$1806)","v":15},{"$f":"LOOKUP($AO130,Data!$A$6:$A$1806,Data!$G$6:$G$1806)","v":102},{"$f":"LOOKUP($AO130,Data!$A$6:$A$1806,Data!$H$6:$H$1806)","v":10},{"$f":"LOOKUP($AO130,Data!$A$6:$A$1806,Data!$I$6:$I$1806)","v":0},{"$f":"LOOKUP($AO130,Data!$A$6:$A$1806,Data!$J$6:$J$1806)","v":-103},{"$f":"LOOKUP($AO130,Data!$A$6:$A$1806,Data!$K$6:$K$1806)","v":7567.32},85.5987548828125]
[null,40098.103518518423,{"$f":"LOOKUP(B131,Data!$A$6:$A$1806,Data!B$6:B$1806)","v":59.893001556396484},{"$f":"LOOKUP(B131,Data!$A$6:$A$1806,Data!C$6:C$1806)","v":3815.009765625},null,null,null,85.5987548828125,87.708870227064295,null,null,0.58035779256491771,3796.1996290907814,{"$f":"AVERAGE(D$79:D131)","v":3786.8544599425118},{"$f":"AVERAGE(M$79:M131)","v":3786.5346626200676},3707.7956383315291,{"$f":"AVERAGE(P$79:P131)","v":3692.9965146211248},633,null,null,null,null,null,null,0,633,-426.98527372145384,null,null,null,null,null,null,null,null,null,null,null,null,null,40098.103518518423,{"$f":"LOOKUP($AO131,Data!$A$6:$A$1806,Data!$B$6:$B$1806)","v":59.893001556396484},{"$f":"LOOKUP($AO131,Data!$A$6:$A$1806,Data!$C$6:$C$1806)","v":3815.009765625},{"$f":"LOOKUP($AO131,Data!$A$6:$A$1806,Data!$D$6:$D$1806)","v":335},{"$f":"IF($AS$1=\"+\",LOOKUP($AO131,Data!$A$6:$A$1806,Data!$E$6:$E$1806)*-1,LOOKUP($AO131,Data!$A$6:$A$1806,Data!$E$6:$E$1806))","v":-215.59817504882812},{"$f":"LOOKUP($AO131,Data!$A$6:$A$1806,Data!$F$6:$F$1806)","v":15},{"$f":"LOOKUP($AO131,Data!$A$6:$A$1806,Data!$G$6:$G$1806)","v":102},{"$f":"LOOKUP($AO131,Data!$A$6:$A$1806,Data!$H$6:$H$1806)","v":10},{"$f":"LOOKUP($AO131,Data!$A$6:$A$1806,Data!$I$6:$I$1806)","v":0},{"$f":"LOOKUP($AO131,Data!$A$6:$A$1806,Data!$J$6:$J$1806)","v":-103},{"$f":"LOOKUP($AO131,Data!$A$6:$A$1806,Data!$K$6:$K$1806)","v":7567.32},85.5987548828125]
[null,40098.103541666569,{"$f":"LOOKUP(B132,Data!$A$6:$A$1806,Data!B$6:B$1806)","v":59.902999877929688},{"$f":"LOOKUP(B132,Data!$A$6:$A$1806,Data!C$6:C$1806)","v":3809.65185546875},null,null,null,77.60009765625,84.170799827279296,null,null,0.58035779256491771,3793.2419164835615,{"$f":"AVERAGE(D$79:D132)","v":3787.2766339337386},{"$f":"AVERAGE(M$79:M132)","v":3786.6588710249471},3708.3759961240939,{"$f":"AVERAGE(P$79:P132)","v":3693.286693517407},633,null,null,null,null,null,null,0,633,-457.86502214312321,null,null,null,null,null,null,null,null,null,null,null,null,null,40098.103541666569,{"$f":"LOOKUP($AO132,Data!$A$6:$A$1806,Data!$B$6:$B$1806)","v":59.902999877929688},{"$f":"LOOKUP($AO132,Data!$A$6:$A$1806,Data!$C$6:$C$1806)","v":3809.65185546875},{"$f":"LOOKUP($AO132,Data!$A$6:$A$1806,Data!$D$6:$D$1806)","v":335},{"$f":"IF($AS$1=\"+\",LOOKUP($AO132,Data!$A$6:$A$1806,Data!$E$6:$E$1806)*-1,LOOKUP($AO132,Data!$A$6:$A$1806,Data!$E$6:$E$1806))","v":-215.59817504882812},{"$f":"LOOKUP($AO132,Data!$A$6:$A$1806,Data!$F$6:$F$1806)","v":16},{"$f":"LOOKUP($AO132,Data!$A$6:$A$1806,Data!$G$6:$G$1806)","v":102.5},{"$f":"LOOKUP($AO132,Data!$A$6:$A$1806,Data!$H$6:$H$1806)","v":10},{"$f":"LOOKUP($AO132,Data!$A$6:$A$1806,Data!$I$6:$I$1806)","v":0},{"$f":"LOOKUP($AO132,Data!$A$6:$A$1806,Data!$J$6:$J$1806)","v":-103},{"$f":"LOOKUP($AO132,Data!$A$6:$A$1806,Data!$K$6:$K$1806)","v":7567.65},77.60009765625]
[null,40098.103564814715,{"$f":"LOOKUP(B133,Data!$A$6:$A$1806,Data!B$6:B$1806)","v":59.902999877929688},{"$f":"LOOKUP(B133,Data!$A$6:$A$1806,Data!C$6:C$1806)","v":3809.65185546875},null,null,null,77.60009765625,81.871054067419038,null,null,0.58035779256491771,3791.522528516266,{"$f":"AVERAGE(D$79:D133)","v":3787.6834561434657},{"$f":"AVERAGE(M$79:M133)","v":3786.7473011611532},3708.9563539166588,{"$f":"AVERAGE(P$79:P133)","v":3693.5768724136897},633,null,null,null,null,null,null,0,633,-457.86502214312321,null,null,null,null,null,null,null,null,null,null,null,null,null,40098.103564814715,{"$f":"LOOKUP($AO133,Data!$A$6:$A$1806,Data!$B$6:$B$1806)","v":59.902999877929688},{"$f":"LOOKUP($AO133,Data!$A$6:$A$1806,Data!$C$6:$C$1806)","v":3809.65185546875},{"$f":"LOOKUP($AO133,Data!$A$6:$A$1806,Data!$D$6:$D$1806)","v":335},{"$f":"IF($AS$1=\"+\",LOOKUP($AO133,Data!$A$6:$A$1806,Data!$E$6:$E$1806)*-1,LOOKUP($AO133,Data!$A$6:$A$1806,Data!$E$6:$E$1806))","v":-215.59817504882812},{"$f":"LOOKUP($AO133,Data!$A$6:$A$1806,Data!$F$6:$F$1806)","v":16},{"$f":"LOOKUP($AO133,Data!$A$6:$A$1806,Data!$G$6:$G$1806)","v":102.5},{"$f":"LOOKUP($AO133,Data!$A$6:$A$1806,Data!$H$6:$H$1806)","v":10},{"$f":"LOOKUP($AO133,Data!$A$6:$A$1806,Data!$I$6:$I$1806)","v":0},{"$f":"LOOKUP($AO133,Data!$A$6:$A$1806,Data!$J$6:$J$1806)","v":-103},{"$f":"LOOKUP($AO133,Data!$A$6:$A$1806,Data!$K$6:$K$1806)","v":7567.65},77.60009765625]
[null,40098.103587962862,{"$f":"LOOKUP(B134,Data!$A$6:$A$1806,Data!B$6:B$1806)","v":59.902999877929688},{"$f":"LOOKUP(B134,Data!$A$6:$A$1806,Data!C$6:C$1806)","v":3809.65185546875},null,null,null,77.60009765625,80.376219323509872,null,null,0.58035779256491771,3790.6080515649219,{"$f":"AVERAGE(D$79:D134)","v":3788.0757489885605},{"$f":"AVERAGE(M$79:M134)","v":3786.8162431326491},3709.5367117092237,{"$f":"AVERAGE(P$79:P134)","v":3693.8670513099719},633,null,null,null,null,null,null,0,633,-457.86502214312321,null,null,null,null,null,null,null,null,null,null,null,null,null,40098.103587962862,{"$f":"LOOKUP($AO134,Data!$A$6:$A$1806,Data!$B$6:$B$1806)","v":59.902999877929688},{"$f":"LOOKUP($AO134,Data!$A$6:$A$1806,Data!$C$6:$C$1806)","v":3809.65185546875},{"$f":"LOOKUP($AO134,Data!$A$6:$A$1806,Data!$D$6:$D$1806)","v":335},{"$f":"IF($AS$1=\"+\",LOOKUP($AO134,Data!$A$6:$A$1806,Data!$E$6:$E$1806)*-1,LOOKUP($AO134,Data!$A$6:$A$1806,Data!$E$6:$E$1806))","v":-215.59817504882812},{"$f":"LOOKUP($AO134,Data!$A$6:$A$1806,Data!$F$6:$F$1806)","v":16},{"$f":"LOOKUP($AO134,Data!$A$6:$A$1806,Data!$G$6:$G$1806)","v":102.5},{"$f":"LOOKUP($AO134,Data!$A$6:$A$1806,Data!$H$6:$H$1806)","v":10},{"$f":"LOOKUP($AO134,Data!$A$6:$A$1806,Data!$I$6:$I$1806)","v":0},{"$f":"LOOKUP($AO134,Data!$A$6:$A$1806,Data!$J$6:$J$1806)","v":-103},{"$f":"LOOKUP($AO134,Data!$A$6:$A$1806,Data!$K$6:$K$1806)","v":7567.65},77.60009765625]
[null,40098.103611111008,{"$f":"LOOKUP(B135,Data!$A$6:$A$1806,Data!B$6:B$1806)","v":59.903999328613281},{"$f":"LOOKUP(B135,Data!$A$6:$A$1806,Data!C$6:C$1806)","v":3805.59326171875},null,null,null,76.800537109375,79.124730548562667,null,null,0.58035779256491771,3789.9369205825396,{"$f":"AVERAGE(D$79:D135)","v":3788.3830737733006},{"$f":"AVERAGE(M$79:M135)","v":3786.8709918598402},3710.1170695017886,{"$f":"AVERAGE(P$79:P135)","v":3694.1572302062546},633,null,null,null,null,null,null,0,633,-461.19916063313832,null,null,null,null,null,null,null,null,null,null,null,null,null,40098.103611111008,{"$f":"LOOKUP($AO135,Data!$A$6:$A$1806,Data!$B$6:$B$1806)","v":59.903999328613281},{"$f":"LOOKUP($AO135,Data!$A$6:$A$1806,Data!$C$6:$C$1806)","v":3805.59326171875},{"$f":"LOOKUP($AO135,Data!$A$6:$A$1806,Data!$D$6:$D$1806)","v":335},{"$f":"IF($AS$1=\"+\",LOOKUP($AO135,Data!$A$6:$A$1806,Data!$E$6:$E$1806)*-1,LOOKUP($AO135,Data!$A$6:$A$1806,Data!$E$6:$E$1806))","v":-215.59817504882812},{"$f":"LOOKUP($AO135,Data!$A$6:$A$1806,Data!$F$6:$F$1806)","v":16},{"$f":"LOOKUP($AO135,Data!$A$6:$A$1806,Data!$G$6:$G$1806)","v":103},{"$f":"LOOKUP($AO135,Data!$A$6:$A$1806,Data!$H$6:$H$1806)","v":10},{"$f":"LOOKUP($AO135,Data!$A$6:$A$1806,Data!$I$6:$I$1806)","v":0},{"$f":"LOOKUP($AO135,Data!$A$6:$A$1806,Data!$J$6:$J$1806)","v":-103},{"$f":"LOOKUP($AO135,Data!$A$6:$A$1806,Data!$K$6:$K$1806)","v":7567.98},76.800537109375]
[null,40098.103634259154,{"$f":"LOOKUP(B136,Data!$A$6:$A$1806,Data!B$6:B$1806)","v":59.903999328613281},{"$f":"LOOKUP(B136,Data!$A$6:$A$1806,Data!C$6:C$1806)","v":3805.59326171875},null,null,null,76.800537109375,78.311262844846993,null,null,0.58035779256491771,3789.703810671389,{"$f":"AVERAGE(D$79:D136)","v":3788.6798011516703},{"$f":"AVERAGE(M$79:M136)","v":3786.9198335634878},3710.6974272943535,{"$f":"AVERAGE(P$79:P136)","v":3694.4474091025368},633,null,null,null,null,null,null,0,633,-461.19916063313832,null,null,null,null,null,null,null,null,null,null,null,null,null,40098.103634259154,{"$f":"LOOKUP($AO136,Data!$A$6:$A$1806,Data!$B$6:$B$1806)","v":59.903999328613281},{"$f":"LOOKUP($AO136,Data!$A$6:$A$1806,Data!$C$6:$C$1806)","v":3805.59326171875},{"$f":"LOOKUP($AO136,Data!$A$6:$A$1806,Data!$D$6:$D$1806)","v":335},{"$f":"IF($AS$1=\"+\",LOOKUP($AO136,Data!$A$6:$A$1806,Data!$E$6:$E$1806)*-1,LOOKUP($AO136,Data!$A$6:$A$1806,Data!$E$6:$E$1806))","v":-215.59817504882812},{"$f":"LOOKUP($AO136,Data!$A$6:$A$1806,Data!$F$6:$F$1806)","v":16},{"$f":"LOOKUP($AO136,Data!$A$6:$A$1806,Data!$G$6:$G$1806)","v":103},{"$f":"LOOKUP($AO136,Data!$A$6:$A$1806,Data!$H$6:$H$1806)","v":10},{"$f":"LOOKUP($AO136,Data!$A$6:$A$1806,Data!$I$6:$I$1806)","v":0},{"$f":"LOOKUP($AO136,Data!$A$6:$A$1806,Data!$J$6:$J$1806)","v":-103},{"$f":"LOOKUP($AO136,Data!$A$6:$A$1806,Data!$K$6:$K$1806)","v":7567.98},76.800537109375]
[null,40098.1036574073,{"$f":"LOOKUP(B137,Data!$A$6:$A$1806,Data!B$6:B$1806)","v":59.910999298095703},{"$f":"LOOKUP(B137,Data!$A$6:$A$1806,Data!C$6:C$1806)","v":3793.97509765625},null,null,null,71.2005615234375,75.822517382353681,null,null,0.58035779256491771,3787.7954230014607,{"$f":"AVERAGE(D$79:D137)","v":3788.7695519398835},{"$f":"AVERAGE(M$79:M137)","v":3786.9346740624364},3711.2777850869184,{"$f":"AVERAGE(P$79:P137)","v":3694.7375879988194},633,null,null,null,null,null,null,0,633,-485.98501076308042,null,null,null,null,null,null,null,null,null,null,null,null,null,40098.1036574073,{"$f":"LOOKUP($AO137,Data!$A$6:$A$1806,Data!$B$6:$B$1806)","v":59.910999298095703},{"$f":"LOOKUP($AO137,Data!$A$6:$A$1806,Data!$C$6:$C$1806)","v":3793.97509765625},{"$f":"LOOKUP($AO137,Data!$A$6:$A$1806,Data!$D$6:$D$1806)","v":335},{"$f":"IF($AS$1=\"+\",LOOKUP($AO137,Data!$A$6:$A$1806,Data!$E$6:$E$1806)*-1,LOOKUP($AO137,Data!$A$6:$A$1806,Data!$E$6:$E$1806))","v":-215.59817504882812},{"$f":"LOOKUP($AO137,Data!$A$6:$A$1806,Data!$F$6:$F$1806)","v":16},{"$f":"LOOKUP($AO137,Data!$A$6:$A$1806,Data!$G$6:$G$1806)","v":103.5},{"$f":"LOOKUP($AO137,Data!$A$6:$A$1806,Data!$H$6:$H$1806)","v":10},{"$f":"LOOKUP($AO137,Data!$A$6:$A$1806,Data!$I$6:$I$1806)","v":0},{"$f":"LOOKUP($AO137,Data!$A$6:$A$1806,Data!$J$6:$J$1806)","v":-103},{"$f":"LOOKUP($AO137,Data!$A$6:$A$1806,Data!$K$6:$K$1806)","v":7568.31},71.2005615234375]
[null,40098.103680555447,{"$f":"LOOKUP(B138,Data!$A$6:$A$1806,Data!B$6:B$1806)","v":59.910999298095703},{"$f":"LOOKUP(B138,Data!$A$6:$A$1806,Data!C$6:C$1806)","v":3793.97509765625},null,null,null,71.2005615234375,74.204832831733029,null,null,0.58035779256491771,3786.7580962434049,{"$f":"AVERAGE(D$79:D138)","v":3788.8563110351561},{"$f":"AVERAGE(M$79:M138)","v":3786.9317310987858},3711.8581428794832,{"$f":"AVERAGE(P$79:P138)","v":3695.0277668951016},633,null,null,null,null,null,null,0,633,-485.98501076308042,null,null,null,null,null,null,null,null,null,null,null,null,null,40098.103680555447,{"$f":"LOOKUP($AO138,Data!$A$6:$A$1806,Data!$B$6:$B$1806)","v":59.910999298095703},{"$f":"LOOKUP($AO138,Data!$A$6:$A$1806,Data!$C$6:$C$1806)","v":3793.97509765625},{"$f":"LOOKUP($AO138,Data!$A$6:$A$1806,Data!$D$6:$D$1806)","v":335},{"$f":"IF($AS$1=\"+\",LOOKUP($AO138,Data!$A$6:$A$1806,Data!$E$6:$E$1806)*-1,LOOKUP($AO138,Data!$A$6:$A$1806,Data!$E$6:$E$1806))","v":-215.59817504882812},{"$f":"LOOKUP($AO138,Data!$A$6:$A$1806,Data!$F$6:$F$1806)","v":16},{"$f":"LOOKUP($AO138,Data!$A$6:$A$1806,Data!$G$6:$G$1806)","v":103.5},{"$f":"LOOKUP($AO138,Data!$A$6:$A$1806,Data!$H$6:$H$1806)","v":10},{"$f":"LOOKUP($AO138,Data!$A$6:$A$1806,Data!$I$6:$I$1806)","v":0},{"$f":"LOOKUP($AO138,Data!$A$6:$A$1806,Data!$J$6:$J$1806)","v":-103},{"$f":"LOOKUP($AO138,Data!$A$6:$A$1806,Data!$K$6:$K$1806)","v":7568.31},71.2005615234375]
[null,40098.103703703593,{"$f":"LOOKUP(B139,Data!$A$6:$A$1806,Data!B$6:B$1806)","v":59.910999298095703},{"$f":"LOOKUP(B139,Data!$A$6:$A$1806,Data!C$6:C$1806)","v":3793.97509765625},null,null,null,71.2005615234375,73.153337873829599,null,null,0.58035779256491771,3786.2869590780665,{"$f":"AVERAGE(D$79:D139)","v":3788.9402255699283},{"$f":"AVERAGE(M$79:M139)","v":3786.9211610656598},3712.4385006720481,{"$f":"AVERAGE(P$79:P139)","v":3695.3179457913843},633,null,null,null,null,null,null,0,633,-485.98501076308042,null,null,null,null,null,null,null,null,null,null,null,null,null,40098.103703703593,{"$f":"LOOKUP($AO139,Data!$A$6:$A$1806,Data!$B$6:$B$1806)","v":59.910999298095703},{"$f":"LOOKUP($AO139,Data!$A$6:$A$1806,Data!$C$6:$C$1806)","v":3793.97509765625},{"$f":"LOOKUP($AO139,Data!$A$6:$A$1806,Data!$D$6:$D$1806)","v":335},{"$f":"IF($AS$1=\"+\",LOOKUP($AO139,Data!$A$6:$A$1806,Data!$E$6:$E$1806)*-1,LOOKUP($AO139,Data!$A$6:$A$1806,Data!$E$6:$E$1806))","v":-215.59817504882812},{"$f":"LOOKUP($AO139,Data!$A$6:$A$1806,Data!$F$6:$F$1806)","v":16},{"$f":"LOOKUP($AO139,Data!$A$6:$A$1806,Data!$G$6:$G$1806)","v":103.5},{"$f":"LOOKUP($AO139,Data!$A$6:$A$1806,Data!$H$6:$H$1806)","v":10},{"$f":"LOOKUP($AO139,Data!$A$6:$A$1806,Data!$I$6:$I$1806)","v":0},{"$f":"LOOKUP($AO139,Data!$A$6:$A$1806,Data!$J$6:$J$1806)","v":-103},{"$f":"LOOKUP($AO139,Data!$A$6:$A$1806,Data!$K$6:$K$1806)","v":7568.31},71.2005615234375]
[null,40098.103726851739,{"$f":"LOOKUP(B140,Data!$A$6:$A$1806,Data!B$6:B$1806)","v":59.916999816894531},{"$f":"LOOKUP(B140,Data!$A$6:$A$1806,Data!C$6:C$1806)","v":3791.501953125},null,null,null,66.400146484375,70.789720887520488,null,null,0.58035779256491771,3784.5036998843225,{"$f":"AVERAGE(D$79:D140)","v":3788.9815437563002},{"$f":"AVERAGE(M$79:M140)","v":3786.882169756283},3713.018858464613,{"$f":"AVERAGE(P$79:P140)","v":3695.6081246876665},633,null,null,null,null,null,null,0,633,-509.45505119506316,null,null,null,null,null,null,null,null,null,null,null,null,null,40098.103726851739,{"$f":"LOOKUP($AO140,Data!$A$6:$A$1806,Data!$B$6:$B$1806)","v":59.916999816894531},{"$f":"LOOKUP($AO140,Data!$A$6:$A$1806,Data!$C$6:$C$1806)","v":3791.501953125},{"$f":"LOOKUP($AO140,Data!$A$6:$A$1806,Data!$D$6:$D$1806)","v":335},{"$f":"IF($AS$1=\"+\",LOOKUP($AO140,Data!$A$6:$A$1806,Data!$E$6:$E$1806)*-1,LOOKUP($AO140,Data!$A$6:$A$1806,Data!$E$6:$E$1806))","v":-215.59817504882812},{"$f":"LOOKUP($AO140,Data!$A$6:$A$1806,Data!$F$6:$F$1806)","v":16},{"$f":"LOOKUP($AO140,Data!$A$6:$A$1806,Data!$G$6:$G$1806)","v":104},{"$f":"LOOKUP($AO140,Data!$A$6:$A$1806,Data!$H$6:$H$1806)","v":10},{"$f":"LOOKUP($AO140,Data!$A$6:$A$1806,Data!$I$6:$I$1806)","v":0},{"$f":"LOOKUP($AO140,Data!$A$6:$A$1806,Data!$J$6:$J$1806)","v":-103},{"$f":"LOOKUP($AO140,Data!$A$6:$A$1806,Data!$K$6:$K$1806)","v":7568.64},66.400146484375]
[null,40098.103749999886,{"$f":"LOOKUP(B141,Data!$A$6:$A$1806,Data!B$6:B$1806)","v":59.916999816894531},{"$f":"LOOKUP(B141,Data!$A$6:$A$1806,Data!C$6:C$1806)","v":3791.501953125},null,null,null,66.400146484375,69.25336984641956,null,null,0.58035779256491771,3783.5477066357867,{"$f":"AVERAGE(D$79:D141)","v":3789.0215502542164},{"$f":"AVERAGE(M$79:M141)","v":3786.8292417702432},3713.5992162571779,{"$f":"AVERAGE(P$79:P141)","v":3695.8983035839487},633,null,null,null,null,null,null,0,633,-509.45505119506316,null,null,null,null,null,null,null,null,null,null,null,null,null,40098.103749999886,{"$f":"LOOKUP($AO141,Data!$A$6:$A$1806,Data!$B$6:$B$1806)","v":59.916999816894531},{"$f":"LOOKUP($AO141,Data!$A$6:$A$1806,Data!$C$6:$C$1806)","v":3791.501953125},{"$f":"LOOKUP($AO141,Data!$A$6:$A$1806,Data!$D$6:$D$1806)","v":335},{"$f":"IF($AS$1=\"+\",LOOKUP($AO141,Data!$A$6:$A$1806,Data!$E$6:$E$1806)*-1,LOOKUP($AO141,Data!$A$6:$A$1806,Data!$E$6:$E$1806))","v":-215.59817504882812},{"$f":"LOOKUP($AO141,Data!$A$6:$A$1806,Data!$F$6:$F$1806)","v":16},{"$f":"LOOKUP($AO141,Data!$A$6:$A$1806,Data!$G$6:$G$1806)","v":104},{"$f":"LOOKUP($AO141,Data!$A$6:$A$1806,Data!$H$6:$H$1806)","v":10},{"$f":"LOOKUP($AO141,Data!$A$6:$A$1806,Data!$I$6:$I$1806)","v":0},{"$f":"LOOKUP($AO141,Data!$A$6:$A$1806,Data!$J$6:$J$1806)","v":-103},{"$f":"LOOKUP($AO141,Data!$A$6:$A$1806,Data!$K$6:$K$1806)","v":7568.64},66.400146484375]
[null,40098.103773148032,{"$f":"LOOKUP(B142,Data!$A$6:$A$1806,Data!B$6:B$1806)","v":59.919998168945313},{"$f":"LOOKUP(B142,Data!$A$6:$A$1806,Data!C$6:C$1806)","v":3784.5634765625},null,null,null,64.00146484375,67.415203095485225,null,null,0.58035779256491771,3782.2898976774172,{"$f":"AVERAGE(D$79:D142)","v":3788.9518928527832},{"$f":"AVERAGE(M$79:M142)","v":3786.7583145187932},3714.1795740497428,{"$f":"AVERAGE(P$79:P142)","v":3696.1884824802314},633,null,null,null,null,null,null,0,633,-522.05298642462753,null,null,null,null,null,null,null,null,null,null,null,null,null,40098.103773148032,{"$f":"LOOKUP($AO142,Data!$A$6:$A$1806,Data!$B$6:$B$1806)","v":59.919998168945313},{"$f":"LOOKUP($AO142,Data!$A$6:$A$1806,Data!$C$6:$C$1806)","v":3784.5634765625},{"$f":"LOOKUP($AO142,Data!$A$6:$A$1806,Data!$D$6:$D$1806)","v":335},{"$f":"IF($AS$1=\"+\",LOOKUP($AO142,Data!$A$6:$A$1806,Data!$E$6:$E$1806)*-1,LOOKUP($AO142,Data!$A$6:$A$1806,Data!$E$6:$E$1806))","v":-218.32725524902344},{"$f":"LOOKUP($AO142,Data!$A$6:$A$1806,Data!$F$6:$F$1806)","v":16},{"$f":"LOOKUP($AO142,Data!$A$6:$A$1806,Data!$G$6:$G$1806)","v":104.5},{"$f":"LOOKUP($AO142,Data!$A$6:$A$1806,Data!$H$6:$H$1806)","v":10},{"$f":"LOOKUP($AO142,Data!$A$6:$A$1806,Data!$I$6:$I$1806)","v":0},{"$f":"LOOKUP($AO142,Data!$A$6:$A$1806,Data!$J$6:$J$1806)","v":-103},{"$f":"LOOKUP($AO142,Data!$A$6:$A$1806,Data!$K$6:$K$1806)","v":7568.97},64.00146484375]
[null,40098.103796296178,{"$f":"LOOKUP(B143,Data!$A$6:$A$1806,Data!B$6:B$1806)","v":59.919998168945313},{"$f":"LOOKUP(B143,Data!$A$6:$A$1806,Data!C$6:C$1806)","v":3784.5634765625},null,null,null,64.00146484375,66.220394707377892,null,null,0.58035779256491771,3781.6754470818746,{"$f":"AVERAGE(D$79:D143)","v":3788.8843787560095},{"$f":"AVERAGE(M$79:M143)","v":3786.6801165582256},3714.7599318423077,{"$f":"AVERAGE(P$79:P143)","v":3696.4786613765136},633,null,null,null,null,null,null,0,633,-522.05298642462753,null,null,null,null,null,null,null,null,null,null,null,null,null,40098.103796296178,{"$f":"LOOKUP($AO143,Data!$A$6:$A$1806,Data!$B$6:$B$1806)","v":59.919998168945313},{"$f":"LOOKUP($AO143,Data!$A$6:$A$1806,Data!$C$6:$C$1806)","v":3784.5634765625},{"$f":"LOOKUP($AO143,Data!$A$6:$A$1806,Data!$D$6:$D$1806)","v":335},{"$f":"IF($AS$1=\"+\",LOOKUP($AO143,Data!$A$6:$A$1806,Data!$E$6:$E$1806)*-1,LOOKUP($AO143,Data!$A$6:$A$1806,Data!$E$6:$E$1806))","v":-218.32725524902344},{"$f":"LOOKUP($AO143,Data!$A$6:$A$1806,Data!$F$6:$F$1806)","v":16},{"$f":"LOOKUP($AO143,Data!$A$6:$A$1806,Data!$G$6:$G$1806)","v":104.5},{"$f":"LOOKUP($AO143,Data!$A$6:$A$1806,Data!$H$6:$H$1806)","v":10},{"$f":"LOOKUP($AO143,Data!$A$6:$A$1806,Data!$I$6:$I$1806)","v":0},{"$f":"LOOKUP($AO143,Data!$A$6:$A$1806,Data!$J$6:$J$1806)","v":-103},{"$f":"LOOKUP($AO143,Data!$A$6:$A$1806,Data!$K$6:$K$1806)","v":7568.97},64.00146484375]
[null,40098.103819444324,{"$f":"LOOKUP(B144,Data!$A$6:$A$1806,Data!B$6:B$1806)","v":59.919998168945313},{"$f":"LOOKUP(B144,Data!$A$6:$A$1806,Data!C$6:C$1806)","v":3784.5634765625},null,null,null,64.00146484375,65.443769255108123,null,null,{"$f":"IF(B144>G$3,0,(K$21*0.000023148/K$22))","v":0.58035779256491771},{"$f":"M143+L144+(I144-I143)","v":3781.4791794221696},{"$f":"AVERAGE(D$79:D144)","v":3788.8189105409565},{"$f":"AVERAGE(M$79:M144)","v":3786.6013144804065},3715.3402896348725,{"$f":"AVERAGE(P$79:P144)","v":3696.7688402727963},633,null,null,null,null,null,null,0,633,{"$f":"Z144/((C144-G$4)*10)","v":-522.05298642462753},null,null,null,null,null,null,null,null,null,null,null,null,null,40098.103819444324,{"$f":"LOOKUP($AO144,Data!$A$6:$A$1806,Data!$B$6:$B$1806)","v":59.919998168945313},{"$f":"LOOKUP($AO144,Data!$A$6:$A$1806,Data!$C$6:$C$1806)","v":3784.5634765625},{"$f":"LOOKUP($AO144,Data!$A$6:$A$1806,Data!$D$6:$D$1806)","v":335},{"$f":"IF($AS$1=\"+\",LOOKUP($AO144,Data!$A$6:$A$1806,Data!$E$6:$E$1806)*-1,LOOKUP($AO144,Data!$A$6:$A$1806,Data!$E$6:$E$1806))","v":-218.32725524902344},{"$f":"LOOKUP($AO144,Data!$A$6:$A$1806,Data!$F$6:$F$1806)","v":16},{"$f":"LOOKUP($AO144,Data!$A$6:$A$1806,Data!$G$6:$G$1806)","v":104.5},{"$f":"LOOKUP($AO144,Data!$A$6:$A$1806,Data!$H$6:$H$1806)","v":10},{"$f":"LOOKUP($AO144,Data!$A$6:$A$1806,Data!$I$6:$I$1806)","v":0},{"$f":"LOOKUP($AO144,Data!$A$6:$A$1806,Data!$J$6:$J$1806)","v":-103},{"$f":"LOOKUP($AO144,Data!$A$6:$A$1806,Data!$K$6:$K$1806)","v":7568.97},64.00146484375]
[null,40098.103842592471,{"$f":"LOOKUP(B145,Data!$A$6:$A$1806,Data!B$6:B$1806)","v":59.916999816894531},{"$f":"LOOKUP(B145,Data!$A$6:$A$1806,Data!C$6:C$1806)","v":3781.701171875},null,null,null,66.400146484375,65.778501285351524,null,null,0.58035779256491771,3782.3942692449777,{"$f":"AVERAGE(D$79:D145)","v":3788.7126756354942},{"$f":"AVERAGE(M$79:M145)","v":3786.5385227604747},3715.9206474274374,{"$f":"AVERAGE(P$79:P145)","v":3697.059019169079},{"$f":"R$41","v":633},null,null,null,null,null,null,0,633,-509.45505119506316,null,null,null,null,null,null,null,null,null,null,null,null,null,{"$f":"AO144+TIME(0,0,$B$1)","v":40098.103842592471},{"$f":"LOOKUP($AO145,Data!$A$6:$A$1806,Data!$B$6:$B$1806)","v":59.916999816894531},{"$f":"LOOKUP($AO145,Data!$A$6:$A$1806,Data!$C$6:$C$1806)","v":3781.701171875},{"$f":"LOOKUP($AO145,Data!$A$6:$A$1806,Data!$D$6:$D$1806)","v":335},{"$f":"IF($AS$1=\"+\",LOOKUP($AO145,Data!$A$6:$A$1806,Data!$E$6:$E$1806)*-1,LOOKUP($AO145,Data!$A$6:$A$1806,Data!$E$6:$E$1806))","v":-218.32725524902344},{"$f":"LOOKUP($AO145,Data!$A$6:$A$1806,Data!$F$6:$F$1806)","v":16},{"$f":"LOOKUP($AO145,Data!$A$6:$A$1806,Data!$G$6:$G$1806)","v":105},{"$f":"LOOKUP($AO145,Data!$A$6:$A$1806,Data!$H$6:$H$1806)","v":10},{"$f":"LOOKUP($AO145,Data!$A$6:$A$1806,Data!$I$6:$I$1806)","v":0},{"$f":"LOOKUP($AO145,Data!$A$6:$A$1806,Data!$J$6:$J$1806)","v":-103},{"$f":"LOOKUP($AO145,Data!$A$6:$A$1806,Data!$K$6:$K$1806)","v":7569.3},66.400146484375]
[null,40098.103865740617,{"$f":"LOOKUP(B146,Data!$A$6:$A$1806,Data!B$6:B$1806)","v":59.916999816894531},{"$f":"LOOKUP(B146,Data!$A$6:$A$1806,Data!C$6:C$1806)","v":3781.701171875},null,null,null,66.400146484375,65.996077105009732,null,null,0.58035779256491771,3783.1922028572008,{"$f":"AVERAGE(D$79:D146)","v":3788.6095652860754},{"$f":"AVERAGE(M$79:M146)","v":3786.4893121736618},{"$f":"P145+L146","v":3716.5010052200023},{"$f":"AVERAGE(P$79:P146)","v":3697.3491980653612},633,null,null,null,null,null,null,0,633,-509.45505119506316,null,null,null,null,null,null,null,null,null,null,null,null,null,40098.103865740617,{"$f":"LOOKUP($AO146,Data!$A$6:$A$1806,Data!$B$6:$B$1806)","v":59.916999816894531},{"$f":"LOOKUP($AO146,Data!$A$6:$A$1806,Data!$C$6:$C$1806)","v":3781.701171875},{"$f":"LOOKUP($AO146,Data!$A$6:$A$1806,Data!$D$6:$D$1806)","v":335},{"$f":"IF($AS$1=\"+\",LOOKUP($AO146,Data!$A$6:$A$1806,Data!$E$6:$E$1806)*-1,LOOKUP($AO146,Data!$A$6:$A$1806,Data!$E$6:$E$1806))","v":-218.32725524902344},{"$f":"LOOKUP($AO146,Data!$A$6:$A$1806,Data!$F$6:$F$1806)","v":16},{"$f":"LOOKUP($AO146,Data!$A$6:$A$1806,Data!$G$6:$G$1806)","v":105},{"$f":"LOOKUP($AO146,Data!$A$6:$A$1806,Data!$H$6:$H$1806)","v":10},{"$f":"LOOKUP($AO146,Data!$A$6:$A$1806,Data!$I$6:$I$1806)","v":0},{"$f":"LOOKUP($AO146,Data!$A$6:$A$1806,Data!$J$6:$J$1806)","v":-103},{"$f":"LOOKUP($AO146,Data!$A$6:$A$1806,Data!$K$6:$K$1806)","v":7569.3},66.400146484375]
[null,40098.103888888763,{"$f":"LOOKUP(B147,Data!$A$6:$A$1806,Data!B$6:B$1806)","v":59.921001434326172},{"$f":"LOOKUP(B147,Data!$A$6:$A$1806,Data!C$6:C$1806)","v":3774.604248046875},null,null,null,63.1988525390625,65.017048506928205,null,null,0.58035779256491771,3782.793532051684,{"$f":"AVERAGE(D$79:D147)","v":3788.406589673913},{"$f":"AVERAGE(M$79:M147)","v":3786.4357501429081},3717.0813630125672,{"$f":"AVERAGE(P$79:P147)","v":3697.6393769616438},633,null,null,null,null,null,null,0,633,-526.40860337853917,null,null,null,null,null,null,null,null,null,null,null,null,null,40098.103888888763,{"$f":"LOOKUP($AO147,Data!$A$6:$A$1806,Data!$B$6:$B$1806)","v":59.921001434326172},{"$f":"LOOKUP($AO147,Data!$A$6:$A$1806,Data!$C$6:$C$1806)","v":3774.604248046875},{"$f":"LOOKUP($AO147,Data!$A$6:$A$1806,Data!$D$6:$D$1806)","v":335},{"$f":"IF($AS$1=\"+\",LOOKUP($AO147,Data!$A$6:$A$1806,Data!$E$6:$E$1806)*-1,LOOKUP($AO147,Data!$A$6:$A$1806,Data!$E$6:$E$1806))","v":-218.32725524902344},{"$f":"LOOKUP($AO147,Data!$A$6:$A$1806,Data!$F$6:$F$1806)","v":16},{"$f":"LOOKUP($AO147,Data!$A$6:$A$1806,Data!$G$6:$G$1806)","v":105.5},{"$f":"LOOKUP($AO147,Data!$A$6:$A$1806,Data!$H$6:$H$1806)","v":10},{"$f":"LOOKUP($AO147,Data!$A$6:$A$1806,Data!$I$6:$I$1806)","v":0},{"$f":"LOOKUP($AO147,Data!$A$6:$A$1806,Data!$J$6:$J$1806)","v":-103},{"$f":"LOOKUP($AO147,Data!$A$6:$A$1806,Data!$K$6:$K$1806)","v":7569.63},63.1988525390625]
[null,40098.10391203691,{"$f":"LOOKUP(B148,Data!$A$6:$A$1806,Data!B$6:B$1806)","v":59.921001434326172},{"$f":"LOOKUP(B148,Data!$A$6:$A$1806,Data!C$6:C$1806)","v":3774.604248046875},null,null,null,63.1988525390625,64.380679918175218,null,null,0.58035779256491771,3782.7375212554957,{"$f":"AVERAGE(D$79:D148)","v":3788.2094133649553},{"$f":"AVERAGE(M$79:M148)","v":3786.3829183016596},3717.6617208051321,{"$f":"AVERAGE(P$79:P148)","v":3697.9295558579261},633,null,null,null,null,null,null,0,633,-526.40860337853917,null,null,null,null,null,null,null,null,null,null,null,null,null,40098.10391203691,{"$f":"LOOKUP($AO148,Data!$A$6:$A$1806,Data!$B$6:$B$1806)","v":59.921001434326172},{"$f":"LOOKUP($AO148,Data!$A$6:$A$1806,Data!$C$6:$C$1806)","v":3774.604248046875},{"$f":"LOOKUP($AO148,Data!$A$6:$A$1806,Data!$D$6:$D$1806)","v":335},{"$f":"IF($AS$1=\"+\",LOOKUP($AO148,Data!$A$6:$A$1806,Data!$E$6:$E$1806)*-1,LOOKUP($AO148,Data!$A$6:$A$1806,Data!$E$6:$E$1806))","v":-218.32725524902344},{"$f":"LOOKUP($AO148,Data!$A$6:$A$1806,Data!$F$6:$F$1806)","v":16},{"$f":"LOOKUP($AO148,Data!$A$6:$A$1806,Data!$G$6:$G$1806)","v":105.5},{"$f":"LOOKUP($AO148,Data!$A$6:$A$1806,Data!$H$6:$H$1806)","v":10},{"$f":"LOOKUP($AO148,Data!$A$6:$A$1806,Data!$I$6:$I$1806)","v":0},{"$f":"LOOKUP($AO148,Data!$A$6:$A$1806,Data!$J$6:$J$1806)","v":-103},{"$f":"LOOKUP($AO148,Data!$A$6:$A$1806,Data!$K$6:$K$1806)","v":7569.63},63.1988525390625]
[null,40098.103935185056,{"$f":"LOOKUP(B149,Data!$A$6:$A$1806,Data!B$6:B$1806)","v":59.921001434326172},{"$f":"LOOKUP(B149,Data!$A$6:$A$1806,Data!C$6:C$1806)","v":3774.604248046875},null,null,null,63.1988525390625,63.96704033548577,null,null,0.58035779256491771,3782.9042394653711,{"$f":"AVERAGE(D$79:D149)","v":3788.017791318222},{"$f":"AVERAGE(M$79:M149)","v":3786.333922825092},3718.2420785976969,{"$f":"AVERAGE(P$79:P149)","v":3698.2197347542083},633,null,null,null,null,null,null,0,633,-526.40860337853917,null,null,null,null,null,null,null,null,null,null,null,null,null,40098.103935185056,{"$f":"LOOKUP($AO149,Data!$A$6:$A$1806,Data!$B$6:$B$1806)","v":59.921001434326172},{"$f":"LOOKUP($AO149,Data!$A$6:$A$1806,Data!$C$6:$C$1806)","v":3774.604248046875},{"$f":"LOOKUP($AO149,Data!$A$6:$A$1806,Data!$D$6:$D$1806)","v":335},{"$f":"IF($AS$1=\"+\",LOOKUP($AO149,Data!$A$6:$A$1806,Data!$E$6:$E$1806)*-1,LOOKUP($AO149,Data!$A$6:$A$1806,Data!$E$6:$E$1806))","v":-218.32725524902344},{"$f":"LOOKUP($AO149,Data!$A$6:$A$1806,Data!$F$6:$F$1806)","v":16},{"$f":"LOOKUP($AO149,Data!$A$6:$A$1806,Data!$G$6:$G$1806)","v":105.5},{"$f":"LOOKUP($AO149,Data!$A$6:$A$1806,Data!$H$6:$H$1806)","v":10},{"$f":"LOOKUP($AO149,Data!$A$6:$A$1806,Data!$I$6:$I$1806)","v":0},{"$f":"LOOKUP($AO149,Data!$A$6:$A$1806,Data!$J$6:$J$1806)","v":-103},{"$f":"LOOKUP($AO149,Data!$A$6:$A$1806,Data!$K$6:$K$1806)","v":7569.63},63.1988525390625]
[null,40098.103958333202,{"$f":"LOOKUP(B150,Data!$A$6:$A$1806,Data!B$6:B$1806)","v":59.924999237060547},{"$f":"LOOKUP(B150,Data!$A$6:$A$1806,Data!C$6:C$1806)","v":3773.957763671875},null,null,null,60.0006103515625,62.578789841112624,null,null,0.58035779256491771,3782.0963467635629,{"$f":"AVERAGE(D$79:D150)","v":3787.8225131564668},{"$f":"AVERAGE(M$79:M150)","v":3786.275067602015},3718.8224363902618,{"$f":"AVERAGE(P$79:P150)","v":3698.5099136504905},633,null,null,null,null,null,null,0,633,-544.51148337134327,null,null,null,null,null,null,null,null,null,null,null,null,null,40098.103958333202,{"$f":"LOOKUP($AO150,Data!$A$6:$A$1806,Data!$B$6:$B$1806)","v":59.924999237060547},{"$f":"LOOKUP($AO150,Data!$A$6:$A$1806,Data!$C$6:$C$1806)","v":3773.957763671875},{"$f":"LOOKUP($AO150,Data!$A$6:$A$1806,Data!$D$6:$D$1806)","v":335},{"$f":"IF($AS$1=\"+\",LOOKUP($AO150,Data!$A$6:$A$1806,Data!$E$6:$E$1806)*-1,LOOKUP($AO150,Data!$A$6:$A$1806,Data!$E$6:$E$1806))","v":-218.32725524902344},{"$f":"LOOKUP($AO150,Data!$A$6:$A$1806,Data!$F$6:$F$1806)","v":16},{"$f":"LOOKUP($AO150,Data!$A$6:$A$1806,Data!$G$6:$G$1806)","v":106},{"$f":"LOOKUP($AO150,Data!$A$6:$A$1806,Data!$H$6:$H$1806)","v":10},{"$f":"LOOKUP($AO150,Data!$A$6:$A$1806,Data!$I$6:$I$1806)","v":0},{"$f":"LOOKUP($AO150,Data!$A$6:$A$1806,Data!$J$6:$J$1806)","v":-103},{"$f":"LOOKUP($AO150,Data!$A$6:$A$1806,Data!$K$6:$K$1806)","v":7569.96},60.0006103515625]
[null,40098.103981481348,{"$f":"LOOKUP(B151,Data!$A$6:$A$1806,Data!B$6:B$1806)","v":59.924999237060547},{"$f":"LOOKUP(B151,Data!$A$6:$A$1806,Data!C$6:C$1806)","v":3773.957763671875},null,null,null,60.0006103515625,61.676427019770081,null,null,0.58035779256491771,3781.7743417347851,{"$f":"AVERAGE(D$79:D151)","v":3787.6325850813355},{"$f":"AVERAGE(M$79:M151)","v":3786.2134138230117},3719.4027941828267,{"$f":"AVERAGE(P$79:P151)","v":3698.8000925467732},633,null,null,null,null,null,null,0,633,-544.51148337134327,null,null,null,null,null,null,null,null,null,null,null,null,null,40098.103981481348,{"$f":"LOOKUP($AO151,Data!$A$6:$A$1806,Data!$B$6:$B$1806)","v":59.924999237060547},{"$f":"LOOKUP($AO151,Data!$A$6:$A$1806,Data!$C$6:$C$1806)","v":3773.957763671875},{"$f":"LOOKUP($AO151,Data!$A$6:$A$1806,Data!$D$6:$D$1806)","v":335},{"$f":"IF($AS$1=\"+\",LOOKUP($AO151,Data!$A$6:$A$1806,Data!$E$6:$E$1806)*-1,LOOKUP($AO151,Data!$A$6:$A$1806,Data!$E$6:$E$1806))","v":-218.32725524902344},{"$f":"LOOKUP($AO151,Data!$A$6:$A$1806,Data!$F$6:$F$1806)","v":16},{"$f":"LOOKUP($AO151,Data!$A$6:$A$1806,Data!$G$6:$G$1806)","v":106},{"$f":"LOOKUP($AO151,Data!$A$6:$A$1806,Data!$H$6:$H$1806)","v":10},{"$f":"LOOKUP($AO151,Data!$A$6:$A$1806,Data!$I$6:$I$1806)","v":0},{"$f":"LOOKUP($AO151,Data!$A$6:$A$1806,Data!$J$6:$J$1806)","v":-103},{"$f":"LOOKUP($AO151,Data!$A$6:$A$1806,Data!$K$6:$K$1806)","v":7569.96},60.0006103515625]
[null,40098.104004629495,{"$f":"LOOKUP(B152,Data!$A$6:$A$1806,Data!B$6:B$1806)","v":59.926998138427734},{"$f":"LOOKUP(B152,Data!$A$6:$A$1806,Data!C$6:C$1806)","v":3769.629638671875},null,null,null,58.4014892578125,60.530198803084929,null,null,0.58035779256491771,3781.2084713106647,{"$f":"AVERAGE(D$79:D152)","v":3787.3893020217483},{"$f":"AVERAGE(M$79:M152)","v":3786.1457794647367},3719.9831519753916,{"$f":"AVERAGE(P$79:P152)","v":3699.0902714430554},633,null,null,null,null,null,null,0,633,-554.03800270446231,null,null,null,null,null,null,null,null,null,null,null,null,null,40098.104004629495,{"$f":"LOOKUP($AO152,Data!$A$6:$A$1806,Data!$B$6:$B$1806)","v":59.926998138427734},{"$f":"LOOKUP($AO152,Data!$A$6:$A$1806,Data!$C$6:$C$1806)","v":3769.629638671875},{"$f":"LOOKUP($AO152,Data!$A$6:$A$1806,Data!$D$6:$D$1806)","v":335},{"$f":"IF($AS$1=\"+\",LOOKUP($AO152,Data!$A$6:$A$1806,Data!$E$6:$E$1806)*-1,LOOKUP($AO152,Data!$A$6:$A$1806,Data!$E$6:$E$1806))","v":-218.32725524902344},{"$f":"LOOKUP($AO152,Data!$A$6:$A$1806,Data!$F$6:$F$1806)","v":16},{"$f":"LOOKUP($AO152,Data!$A$6:$A$1806,Data!$G$6:$G$1806)","v":106.5},{"$f":"LOOKUP($AO152,Data!$A$6:$A$1806,Data!$H$6:$H$1806)","v":10},{"$f":"LOOKUP($AO152,Data!$A$6:$A$1806,Data!$I$6:$I$1806)","v":0},{"$f":"LOOKUP($AO152,Data!$A$6:$A$1806,Data!$J$6:$J$1806)","v":-103},{"$f":"LOOKUP($AO152,Data!$A$6:$A$1806,Data!$K$6:$K$1806)","v":7570.29},58.4014892578125]
[null,40098.104027777641,{"$f":"LOOKUP(B153,Data!$A$6:$A$1806,Data!B$6:B$1806)","v":59.926998138427734},{"$f":"LOOKUP(B153,Data!$A$6:$A$1806,Data!C$6:C$1806)","v":3769.629638671875},null,null,null,58.4014892578125,59.785150462239578,null,null,0.58035779256491771,3781.0437807623844,{"$f":"AVERAGE(D$79:D153)","v":3787.1525065104165},{"$f":"AVERAGE(M$79:M153)","v":3786.0777528153726},3720.5635097679565,{"$f":"AVERAGE(P$79:P153)","v":3699.3804503393376},633,null,null,null,null,null,null,0,633,-554.03800270446231,null,null,null,null,null,null,null,null,null,null,null,null,null,40098.104027777641,{"$f":"LOOKUP($AO153,Data!$A$6:$A$1806,Data!$B$6:$B$1806)","v":59.926998138427734},{"$f":"LOOKUP($AO153,Data!$A$6:$A$1806,Data!$C$6:$C$1806)","v":3769.629638671875},{"$f":"LOOKUP($AO153,Data!$A$6:$A$1806,Data!$D$6:$D$1806)","v":335},{"$f":"IF($AS$1=\"+\",LOOKUP($AO153,Data!$A$6:$A$1806,Data!$E$6:$E$1806)*-1,LOOKUP($AO153,Data!$A$6:$A$1806,Data!$E$6:$E$1806))","v":-218.32725524902344},{"$f":"LOOKUP($AO153,Data!$A$6:$A$1806,Data!$F$6:$F$1806)","v":16},{"$f":"LOOKUP($AO153,Data!$A$6:$A$1806,Data!$G$6:$G$1806)","v":106.5},{"$f":"LOOKUP($AO153,Data!$A$6:$A$1806,Data!$H$6:$H$1806)","v":10},{"$f":"LOOKUP($AO153,Data!$A$6:$A$1806,Data!$I$6:$I$1806)","v":0},{"$f":"LOOKUP($AO153,Data!$A$6:$A$1806,Data!$J$6:$J$1806)","v":-103},{"$f":"LOOKUP($AO153,Data!$A$6:$A$1806,Data!$K$6:$K$1806)","v":7570.29},58.4014892578125]
[null,40098.104050925787,{"$f":"LOOKUP(B154,Data!$A$6:$A$1806,Data!B$6:B$1806)","v":59.926998138427734},{"$f":"LOOKUP(B154,Data!$A$6:$A$1806,Data!C$6:C$1806)","v":3769.629638671875},null,null,null,58.4014892578125,59.300869040690102,null,null,0.58035779256491771,3781.1398571333998,{"$f":"AVERAGE(D$79:D154)","v":3786.9219424599096},{"$f":"AVERAGE(M$79:M154)","v":3786.0127805037673},3721.1438675605214,{"$f":"AVERAGE(P$79:P154)","v":3699.6706292356203},633,null,null,null,null,null,null,0,633,-554.03800270446231,null,null,null,null,null,null,null,null,null,null,null,null,null,40098.104050925787,{"$f":"LOOKUP($AO154,Data!$A$6:$A$1806,Data!$B$6:$B$1806)","v":59.926998138427734},{"$f":"LOOKUP($AO154,Data!$A$6:$A$1806,Data!$C$6:$C$1806)","v":3769.629638671875},{"$f":"LOOKUP($AO154,Data!$A$6:$A$1806,Data!$D$6:$D$1806)","v":335},{"$f":"IF($AS$1=\"+\",LOOKUP($AO154,Data!$A$6:$A$1806,Data!$E$6:$E$1806)*-1,LOOKUP($AO154,Data!$A$6:$A$1806,Data!$E$6:$E$1806))","v":-218.32725524902344},{"$f":"LOOKUP($AO154,Data!$A$6:$A$1806,Data!$F$6:$F$1806)","v":16},{"$f":"LOOKUP($AO154,Data!$A$6:$A$1806,Data!$G$6:$G$1806)","v":106.5},{"$f":"LOOKUP($AO154,Data!$A$6:$A$1806,Data!$H$6:$H$1806)","v":10},{"$f":"LOOKUP($AO154,Data!$A$6:$A$1806,Data!$I$6:$I$1806)","v":0},{"$f":"LOOKUP($AO154,Data!$A$6:$A$1806,Data!$J$6:$J$1806)","v":-103},{"$f":"LOOKUP($AO154,Data!$A$6:$A$1806,Data!$K$6:$K$1806)","v":7570.29},58.4014892578125]
[null,40098.104074073934,{"$f":"LOOKUP(B155,Data!$A$6:$A$1806,Data!B$6:B$1806)","v":59.928001403808594},{"$f":"LOOKUP(B155,Data!$A$6:$A$1806,Data!C$6:C$1806)","v":3767.642822265625},null,null,null,57.598876953125,58.705171810042316,null,null,0.58035779256491771,3781.1245176953171,{"$f":"AVERAGE(D$79:D155)","v":3786.671564275568},{"$f":"AVERAGE(M$79:M155)","v":3785.9492965711902},3721.7242253530862,{"$f":"AVERAGE(P$79:P155)","v":3699.9608081319029},633,null,null,null,null,null,null,0,633,-558.9461962105263,null,null,null,null,null,null,null,null,null,null,null,null,null,40098.104074073934,{"$f":"LOOKUP($AO155,Data!$A$6:$A$1806,Data!$B$6:$B$1806)","v":59.928001403808594},{"$f":"LOOKUP($AO155,Data!$A$6:$A$1806,Data!$C$6:$C$1806)","v":3767.642822265625},{"$f":"LOOKUP($AO155,Data!$A$6:$A$1806,Data!$D$6:$D$1806)","v":335},{"$f":"IF($AS$1=\"+\",LOOKUP($AO155,Data!$A$6:$A$1806,Data!$E$6:$E$1806)*-1,LOOKUP($AO155,Data!$A$6:$A$1806,Data!$E$6:$E$1806))","v":-217.37942504882812},{"$f":"LOOKUP($AO155,Data!$A$6:$A$1806,Data!$F$6:$F$1806)","v":0},{"$f":"LOOKUP($AO155,Data!$A$6:$A$1806,Data!$G$6:$G$1806)","v":107},{"$f":"LOOKUP($AO155,Data!$A$6:$A$1806,Data!$H$6:$H$1806)","v":10},{"$f":"LOOKUP($AO155,Data!$A$6:$A$1806,Data!$I$6:$I$1806)","v":0},{"$f":"LOOKUP($AO155,Data!$A$6:$A$1806,Data!$J$6:$J$1806)","v":-103},{"$f":"LOOKUP($AO155,Data!$A$6:$A$1806,Data!$K$6:$K$1806)","v":7570.62},57.598876953125]
[null,40098.10409722208,{"$f":"LOOKUP(B156,Data!$A$6:$A$1806,Data!B$6:B$1806)","v":59.928001403808594},{"$f":"LOOKUP(B156,Data!$A$6:$A$1806,Data!C$6:C$1806)","v":3767.642822265625},null,null,null,57.598876953125,58.317968610121255,null,null,0.58035779256491771,3781.3176722879607,{"$f":"AVERAGE(D$79:D156)","v":3786.4276060446714},{"$f":"AVERAGE(M$79:M156)","v":3785.8899167726877},3722.3045831456511,{"$f":"AVERAGE(P$79:P156)","v":3700.2509870281851},633,null,null,null,null,null,null,0,633,-558.9461962105263,null,null,null,null,null,null,null,null,null,null,null,null,null,40098.10409722208,{"$f":"LOOKUP($AO156,Data!$A$6:$A$1806,Data!$B$6:$B$1806)","v":59.928001403808594},{"$f":"LOOKUP($AO156,Data!$A$6:$A$1806,Data!$C$6:$C$1806)","v":3767.642822265625},{"$f":"LOOKUP($AO156,Data!$A$6:$A$1806,Data!$D$6:$D$1806)","v":335},{"$f":"IF($AS$1=\"+\",LOOKUP($AO156,Data!$A$6:$A$1806,Data!$E$6:$E$1806)*-1,LOOKUP($AO156,Data!$A$6:$A$1806,Data!$E$6:$E$1806))","v":-217.37942504882812},{"$f":"LOOKUP($AO156,Data!$A$6:$A$1806,Data!$F$6:$F$1806)","v":0},{"$f":"LOOKUP($AO156,Data!$A$6:$A$1806,Data!$G$6:$G$1806)","v":107},{"$f":"LOOKUP($AO156,Data!$A$6:$A$1806,Data!$H$6:$H$1806)","v":10},{"$f":"LOOKUP($AO156,Data!$A$6:$A$1806,Data!$I$6:$I$1806)","v":0},{"$f":"LOOKUP($AO156,Data!$A$6:$A$1806,Data!$J$6:$J$1806)","v":-103},{"$f":"LOOKUP($AO156,Data!$A$6:$A$1806,Data!$K$6:$K$1806)","v":7570.62},57.598876953125]
[null,40098.104120370226,{"$f":"LOOKUP(B157,Data!$A$6:$A$1806,Data!B$6:B$1806)","v":59.929000854492187},{"$f":"LOOKUP(B157,Data!$A$6:$A$1806,Data!C$6:C$1806)","v":3766.7880859375},null,null,null,56.79931640625,57.786440338766319,null,null,0.58035779256491771,3781.3665018091706,{"$f":"AVERAGE(D$79:D157)","v":3786.1790045243274},{"$f":"AVERAGE(M$79:M157)","v":3785.8326583554281},3722.884940938216,{"$f":"AVERAGE(P$79:P157)","v":3700.5411659244678},633,null,null,null,null,null,null,0,633,-563.92296477544983,null,null,null,null,null,null,null,null,null,null,null,null,null,40098.104120370226,{"$f":"LOOKUP($AO157,Data!$A$6:$A$1806,Data!$B$6:$B$1806)","v":59.929000854492187},{"$f":"LOOKUP($AO157,Data!$A$6:$A$1806,Data!$C$6:$C$1806)","v":3766.7880859375},{"$f":"LOOKUP($AO157,Data!$A$6:$A$1806,Data!$D$6:$D$1806)","v":335},{"$f":"IF($AS$1=\"+\",LOOKUP($AO157,Data!$A$6:$A$1806,Data!$E$6:$E$1806)*-1,LOOKUP($AO157,Data!$A$6:$A$1806,Data!$E$6:$E$1806))","v":-217.37942504882812},{"$f":"LOOKUP($AO157,Data!$A$6:$A$1806,Data!$F$6:$F$1806)","v":0},{"$f":"LOOKUP($AO157,Data!$A$6:$A$1806,Data!$G$6:$G$1806)","v":107.5},{"$f":"LOOKUP($AO157,Data!$A$6:$A$1806,Data!$H$6:$H$1806)","v":10},{"$f":"LOOKUP($AO157,Data!$A$6:$A$1806,Data!$I$6:$I$1806)","v":0},{"$f":"LOOKUP($AO157,Data!$A$6:$A$1806,Data!$J$6:$J$1806)","v":-103},{"$f":"LOOKUP($AO157,Data!$A$6:$A$1806,Data!$K$6:$K$1806)","v":7570.95},56.79931640625]
[null,40098.104143518372,{"$f":"LOOKUP(B158,Data!$A$6:$A$1806,Data!B$6:B$1806)","v":59.929000854492187},{"$f":"LOOKUP(B158,Data!$A$6:$A$1806,Data!C$6:C$1806)","v":3766.7880859375},null,null,null,56.79931640625,57.44094696238561,null,null,0.58035779256491771,3781.6013662253549,{"$f":"AVERAGE(D$79:D158)","v":3785.936618041992},{"$f":"AVERAGE(M$79:M158)","v":3785.7797672038018},3723.4652987307809,{"$f":"AVERAGE(P$79:P158)","v":3700.83134482075},633,null,null,null,null,null,null,0,633,-563.92296477544983,null,null,null,null,null,null,null,null,null,null,null,null,null,40098.104143518372,{"$f":"LOOKUP($AO158,Data!$A$6:$A$1806,Data!$B$6:$B$1806)","v":59.929000854492187},{"$f":"LOOKUP($AO158,Data!$A$6:$A$1806,Data!$C$6:$C$1806)","v":3766.7880859375},{"$f":"LOOKUP($AO158,Data!$A$6:$A$1806,Data!$D$6:$D$1806)","v":335},{"$f":"IF($AS$1=\"+\",LOOKUP($AO158,Data!$A$6:$A$1806,Data!$E$6:$E$1806)*-1,LOOKUP($AO158,Data!$A$6:$A$1806,Data!$E$6:$E$1806))","v":-217.37942504882812},{"$f":"LOOKUP($AO158,Data!$A$6:$A$1806,Data!$F$6:$F$1806)","v":0},{"$f":"LOOKUP($AO158,Data!$A$6:$A$1806,Data!$G$6:$G$1806)","v":107.5},{"$f":"LOOKUP($AO158,Data!$A$6:$A$1806,Data!$H$6:$H$1806)","v":10},{"$f":"LOOKUP($AO158,Data!$A$6:$A$1806,Data!$I$6:$I$1806)","v":0},{"$f":"LOOKUP($AO158,Data!$A$6:$A$1806,Data!$J$6:$J$1806)","v":-103},{"$f":"LOOKUP($AO158,Data!$A$6:$A$1806,Data!$K$6:$K$1806)","v":7570.95},56.79931640625]
[null,40098.104166666519,{"$f":"LOOKUP(B159,Data!$A$6:$A$1806,Data!B$6:B$1806)","v":59.929000854492187},{"$f":"LOOKUP(B159,Data!$A$6:$A$1806,Data!C$6:C$1806)","v":3766.7880859375},null,null,null,56.79931640625,57.216376267738148,null,null,0.58035779256491771,3781.9571533232725,{"$f":"AVERAGE(D$79:D159)","v":3785.7002164110727},{"$f":"AVERAGE(M$79:M159)","v":3785.7325744398445},3724.0456565233458,{"$f":"AVERAGE(P$79:P159)","v":3701.1215237170318},633,null,null,null,null,null,null,0,633,-563.92296477544983,null,null,null,null,null,null,null,null,null,null,null,null,null,40098.104166666519,{"$f":"LOOKUP($AO159,Data!$A$6:$A$1806,Data!$B$6:$B$1806)","v":59.929000854492187},{"$f":"LOOKUP($AO159,Data!$A$6:$A$1806,Data!$C$6:$C$1806)","v":3766.7880859375},{"$f":"LOOKUP($AO159,Data!$A$6:$A$1806,Data!$D$6:$D$1806)","v":335},{"$f":"IF($AS$1=\"+\",LOOKUP($AO159,Data!$A$6:$A$1806,Data!$E$6:$E$1806)*-1,LOOKUP($AO159,Data!$A$6:$A$1806,Data!$E$6:$E$1806))","v":-217.37942504882812},{"$f":"LOOKUP($AO159,Data!$A$6:$A$1806,Data!$F$6:$F$1806)","v":0},{"$f":"LOOKUP($AO159,Data!$A$6:$A$1806,Data!$G$6:$G$1806)","v":107.5},{"$f":"LOOKUP($AO159,Data!$A$6:$A$1806,Data!$H$6:$H$1806)","v":10},{"$f":"LOOKUP($AO159,Data!$A$6:$A$1806,Data!$I$6:$I$1806)","v":0},{"$f":"LOOKUP($AO159,Data!$A$6:$A$1806,Data!$J$6:$J$1806)","v":-103},{"$f":"LOOKUP($AO159,Data!$A$6:$A$1806,Data!$K$6:$K$1806)","v":7570.95},56.79931640625]
[null,40098.104189814665,{"$f":"LOOKUP(B160,Data!$A$6:$A$1806,Data!B$6:B$1806)","v":59.937000274658203},{"$f":"LOOKUP(B160,Data!$A$6:$A$1806,Data!C$6:C$1806)","v":3765.671630859375},null,null,null,50.3997802734375,54.830567669732922,null,null,0.58035779256491771,3780.1517025178323,{"$f":"AVERAGE(D$79:D160)","v":3785.4559653677593},{"$f":"AVERAGE(M$79:M160)","v":3785.6645150261616},3724.6260143159107,{"$f":"AVERAGE(P$79:P160)","v":3701.4117026133144},633,null,null,null,null,null,null,0,633,-607.19451122454575,null,null,null,null,null,null,null,null,null,null,null,null,null,40098.104189814665,{"$f":"LOOKUP($AO160,Data!$A$6:$A$1806,Data!$B$6:$B$1806)","v":59.937000274658203},{"$f":"LOOKUP($AO160,Data!$A$6:$A$1806,Data!$C$6:$C$1806)","v":3765.671630859375},{"$f":"LOOKUP($AO160,Data!$A$6:$A$1806,Data!$D$6:$D$1806)","v":335},{"$f":"IF($AS$1=\"+\",LOOKUP($AO160,Data!$A$6:$A$1806,Data!$E$6:$E$1806)*-1,LOOKUP($AO160,Data!$A$6:$A$1806,Data!$E$6:$E$1806))","v":-217.37942504882812},{"$f":"LOOKUP($AO160,Data!$A$6:$A$1806,Data!$F$6:$F$1806)","v":0},{"$f":"LOOKUP($AO160,Data!$A$6:$A$1806,Data!$G$6:$G$1806)","v":108},{"$f":"LOOKUP($AO160,Data!$A$6:$A$1806,Data!$H$6:$H$1806)","v":10},{"$f":"LOOKUP($AO160,Data!$A$6:$A$1806,Data!$I$6:$I$1806)","v":0},{"$f":"LOOKUP($AO160,Data!$A$6:$A$1806,Data!$J$6:$J$1806)","v":-103},{"$f":"LOOKUP($AO160,Data!$A$6:$A$1806,Data!$K$6:$K$1806)","v":7571.28},50.3997802734375]
[null,40098.104212962811,{"$f":"LOOKUP(B161,Data!$A$6:$A$1806,Data!B$6:B$1806)","v":59.937000274658203},{"$f":"LOOKUP(B161,Data!$A$6:$A$1806,Data!C$6:C$1806)","v":3765.671630859375},null,null,null,50.3997802734375,53.279792081029527,null,null,0.58035779256491771,3779.1812847216938,{"$f":"AVERAGE(D$79:D161)","v":3785.2175998917546},{"$f":"AVERAGE(M$79:M161)","v":3785.5864038176742},3725.2063721084755,{"$f":"AVERAGE(P$79:P161)","v":3701.7018815095971},633,null,null,null,null,null,null,0,633,-607.19451122454575,null,null,null,null,null,null,null,null,null,null,null,null,null,40098.104212962811,{"$f":"LOOKUP($AO161,Data!$A$6:$A$1806,Data!$B$6:$B$1806)","v":59.937000274658203},{"$f":"LOOKUP($AO161,Data!$A$6:$A$1806,Data!$C$6:$C$1806)","v":3765.671630859375},{"$f":"LOOKUP($AO161,Data!$A$6:$A$1806,Data!$D$6:$D$1806)","v":335},{"$f":"IF($AS$1=\"+\",LOOKUP($AO161,Data!$A$6:$A$1806,Data!$E$6:$E$1806)*-1,LOOKUP($AO161,Data!$A$6:$A$1806,Data!$E$6:$E$1806))","v":-217.37942504882812},{"$f":"LOOKUP($AO161,Data!$A$6:$A$1806,Data!$F$6:$F$1806)","v":0},{"$f":"LOOKUP($AO161,Data!$A$6:$A$1806,Data!$G$6:$G$1806)","v":108},{"$f":"LOOKUP($AO161,Data!$A$6:$A$1806,Data!$H$6:$H$1806)","v":10},{"$f":"LOOKUP($AO161,Data!$A$6:$A$1806,Data!$I$6:$I$1806)","v":0},{"$f":"LOOKUP($AO161,Data!$A$6:$A$1806,Data!$J$6:$J$1806)","v":-103},{"$f":"LOOKUP($AO161,Data!$A$6:$A$1806,Data!$K$6:$K$1806)","v":7571.28},50.3997802734375]
[null,40098.104236110958,{"$f":"LOOKUP(B162,Data!$A$6:$A$1806,Data!B$6:B$1806)","v":59.944999694824219},{"$f":"LOOKUP(B162,Data!$A$6:$A$1806,Data!C$6:C$1806)","v":3765.10498046875},null,null,null,44.000244140625,50.031950301887946,null,null,0.58035779256491771,3776.513800735117,{"$f":"AVERAGE(D$79:D162)","v":3784.9781639462426},{"$f":"AVERAGE(M$79:M162)","v":3785.4783966381196},3725.7867299010404,{"$f":"AVERAGE(P$79:P162)","v":3701.9920604058798},633,null,null,null,null,null,null,0,633,-657.65868854408177,null,null,null,null,null,null,null,null,null,null,null,null,null,40098.104236110958,{"$f":"LOOKUP($AO162,Data!$A$6:$A$1806,Data!$B$6:$B$1806)","v":59.944999694824219},{"$f":"LOOKUP($AO162,Data!$A$6:$A$1806,Data!$C$6:$C$1806)","v":3765.10498046875},{"$f":"LOOKUP($AO162,Data!$A$6:$A$1806,Data!$D$6:$D$1806)","v":335},{"$f":"IF($AS$1=\"+\",LOOKUP($AO162,Data!$A$6:$A$1806,Data!$E$6:$E$1806)*-1,LOOKUP($AO162,Data!$A$6:$A$1806,Data!$E$6:$E$1806))","v":-217.37942504882812},{"$f":"LOOKUP($AO162,Data!$A$6:$A$1806,Data!$F$6:$F$1806)","v":0},{"$f":"LOOKUP($AO162,Data!$A$6:$A$1806,Data!$G$6:$G$1806)","v":108.5},{"$f":"LOOKUP($AO162,Data!$A$6:$A$1806,Data!$H$6:$H$1806)","v":10},{"$f":"LOOKUP($AO162,Data!$A$6:$A$1806,Data!$I$6:$I$1806)","v":0},{"$f":"LOOKUP($AO162,Data!$A$6:$A$1806,Data!$J$6:$J$1806)","v":-103},{"$f":"LOOKUP($AO162,Data!$A$6:$A$1806,Data!$K$6:$K$1806)","v":7571.61},44.000244140625]
[null,40098.104259259104,{"$f":"LOOKUP(B163,Data!$A$6:$A$1806,Data!B$6:B$1806)","v":59.944999694824219},{"$f":"LOOKUP(B163,Data!$A$6:$A$1806,Data!C$6:C$1806)","v":3765.10498046875},null,null,null,44.000244140625,47.920853145445918,null,null,0.58035779256491771,3774.9830613712397,{"$f":"AVERAGE(D$79:D163)","v":3784.7443617876838},{"$f":"AVERAGE(M$79:M163)","v":3785.3549221055687},3726.3670876936053,{"$f":"AVERAGE(P$79:P163)","v":3702.282239302162},633,null,null,null,null,null,null,0,633,-657.65868854408177,null,null,null,null,null,null,null,null,null,null,null,null,null,40098.104259259104,{"$f":"LOOKUP($AO163,Data!$A$6:$A$1806,Data!$B$6:$B$1806)","v":59.944999694824219},{"$f":"LOOKUP($AO163,Data!$A$6:$A$1806,Data!$C$6:$C$1806)","v":3765.10498046875},{"$f":"LOOKUP($AO163,Data!$A$6:$A$1806,Data!$D$6:$D$1806)","v":335},{"$f":"IF($AS$1=\"+\",LOOKUP($AO163,Data!$A$6:$A$1806,Data!$E$6:$E$1806)*-1,LOOKUP($AO163,Data!$A$6:$A$1806,Data!$E$6:$E$1806))","v":-217.37942504882812},{"$f":"LOOKUP($AO163,Data!$A$6:$A$1806,Data!$F$6:$F$1806)","v":0},{"$f":"LOOKUP($AO163,Data!$A$6:$A$1806,Data!$G$6:$G$1806)","v":108.5},{"$f":"LOOKUP($AO163,Data!$A$6:$A$1806,Data!$H$6:$H$1806)","v":10},{"$f":"LOOKUP($AO163,Data!$A$6:$A$1806,Data!$I$6:$I$1806)","v":0},{"$f":"LOOKUP($AO163,Data!$A$6:$A$1806,Data!$J$6:$J$1806)","v":-103},{"$f":"LOOKUP($AO163,Data!$A$6:$A$1806,Data!$K$6:$K$1806)","v":7571.61},44.000244140625]
[null,40098.10428240725,{"$f":"LOOKUP(B164,Data!$A$6:$A$1806,Data!B$6:B$1806)","v":59.944999694824219},{"$f":"LOOKUP(B164,Data!$A$6:$A$1806,Data!C$6:C$1806)","v":3765.10498046875},null,null,null,44.000244140625,46.548639993758599,null,null,0.58035779256491771,3774.1912060121172,{"$f":"AVERAGE(D$79:D164)","v":3784.5159968886264},{"$f":"AVERAGE(M$79:M164)","v":3785.2251114533187},3726.9474454861702,{"$f":"AVERAGE(P$79:P164)","v":3702.5724181984442},633,null,null,null,null,null,null,0,633,-657.65868854408177,null,null,null,null,null,null,null,null,null,null,null,null,null,40098.10428240725,{"$f":"LOOKUP($AO164,Data!$A$6:$A$1806,Data!$B$6:$B$1806)","v":59.944999694824219},{"$f":"LOOKUP($AO164,Data!$A$6:$A$1806,Data!$C$6:$C$1806)","v":3765.10498046875},{"$f":"LOOKUP($AO164,Data!$A$6:$A$1806,Data!$D$6:$D$1806)","v":335},{"$f":"IF($AS$1=\"+\",LOOKUP($AO164,Data!$A$6:$A$1806,Data!$E$6:$E$1806)*-1,LOOKUP($AO164,Data!$A$6:$A$1806,Data!$E$6:$E$1806))","v":-217.37942504882812},{"$f":"LOOKUP($AO164,Data!$A$6:$A$1806,Data!$F$6:$F$1806)","v":0},{"$f":"LOOKUP($AO164,Data!$A$6:$A$1806,Data!$G$6:$G$1806)","v":108.5},{"$f":"LOOKUP($AO164,Data!$A$6:$A$1806,Data!$H$6:$H$1806)","v":10},{"$f":"LOOKUP($AO164,Data!$A$6:$A$1806,Data!$I$6:$I$1806)","v":0},{"$f":"LOOKUP($AO164,Data!$A$6:$A$1806,Data!$J$6:$J$1806)","v":-103},{"$f":"LOOKUP($AO164,Data!$A$6:$A$1806,Data!$K$6:$K$1806)","v":7571.61},44.000244140625]
[null,40098.104305555396,{"$f":"LOOKUP(B165,Data!$A$6:$A$1806,Data!B$6:B$1806)","v":59.942001342773438},{"$f":"LOOKUP(B165,Data!$A$6:$A$1806,Data!C$6:C$1806)","v":3758.38720703125},null,null,null,46.39892578125,46.496240019380593,null,null,0.58035779256491771,3774.7191638303038,{"$f":"AVERAGE(D$79:D165)","v":3784.2156659707257},{"$f":"AVERAGE(M$79:M165)","v":3785.1043534346632},3727.5278032787351,{"$f":"AVERAGE(P$79:P165)","v":3702.8625970947269},633,null,null,null,null,null,null,0,633,-637.79053329489761,null,null,null,null,null,null,null,null,null,null,null,null,null,40098.104305555396,{"$f":"LOOKUP($AO165,Data!$A$6:$A$1806,Data!$B$6:$B$1806)","v":59.942001342773438},{"$f":"LOOKUP($AO165,Data!$A$6:$A$1806,Data!$C$6:$C$1806)","v":3758.38720703125},{"$f":"LOOKUP($AO165,Data!$A$6:$A$1806,Data!$D$6:$D$1806)","v":335},{"$f":"IF($AS$1=\"+\",LOOKUP($AO165,Data!$A$6:$A$1806,Data!$E$6:$E$1806)*-1,LOOKUP($AO165,Data!$A$6:$A$1806,Data!$E$6:$E$1806))","v":-217.37942504882812},{"$f":"LOOKUP($AO165,Data!$A$6:$A$1806,Data!$F$6:$F$1806)","v":0},{"$f":"LOOKUP($AO165,Data!$A$6:$A$1806,Data!$G$6:$G$1806)","v":109},{"$f":"LOOKUP($AO165,Data!$A$6:$A$1806,Data!$H$6:$H$1806)","v":10},{"$f":"LOOKUP($AO165,Data!$A$6:$A$1806,Data!$I$6:$I$1806)","v":0},{"$f":"LOOKUP($AO165,Data!$A$6:$A$1806,Data!$J$6:$J$1806)","v":-103},{"$f":"LOOKUP($AO165,Data!$A$6:$A$1806,Data!$K$6:$K$1806)","v":7571.94},46.39892578125]
[null,40098.104328703543,{"$f":"LOOKUP(B166,Data!$A$6:$A$1806,Data!B$6:B$1806)","v":59.942001342773438},{"$f":"LOOKUP(B166,Data!$A$6:$A$1806,Data!C$6:C$1806)","v":3758.38720703125},null,null,null,46.39892578125,46.462180036034887,null,null,0.58035779256491771,3775.265461639523,{"$f":"AVERAGE(D$79:D166)","v":3783.9221607555041},{"$f":"AVERAGE(M$79:M166)","v":3784.9925478460818},3728.1081610712999,{"$f":"AVERAGE(P$79:P166)","v":3703.1527759910095},633,null,null,null,null,null,null,0,633,-637.79053329489761,null,null,null,null,null,null,null,null,null,null,null,null,null,40098.104328703543,{"$f":"LOOKUP($AO166,Data!$A$6:$A$1806,Data!$B$6:$B$1806)","v":59.942001342773438},{"$f":"LOOKUP($AO166,Data!$A$6:$A$1806,Data!$C$6:$C$1806)","v":3758.38720703125},{"$f":"LOOKUP($AO166,Data!$A$6:$A$1806,Data!$D$6:$D$1806)","v":335},{"$f":"IF($AS$1=\"+\",LOOKUP($AO166,Data!$A$6:$A$1806,Data!$E$6:$E$1806)*-1,LOOKUP($AO166,Data!$A$6:$A$1806,Data!$E$6:$E$1806))","v":-217.37942504882812},{"$f":"LOOKUP($AO166,Data!$A$6:$A$1806,Data!$F$6:$F$1806)","v":0},{"$f":"LOOKUP($AO166,Data!$A$6:$A$1806,Data!$G$6:$G$1806)","v":109},{"$f":"LOOKUP($AO166,Data!$A$6:$A$1806,Data!$H$6:$H$1806)","v":10},{"$f":"LOOKUP($AO166,Data!$A$6:$A$1806,Data!$I$6:$I$1806)","v":0},{"$f":"LOOKUP($AO166,Data!$A$6:$A$1806,Data!$J$6:$J$1806)","v":-103},{"$f":"LOOKUP($AO166,Data!$A$6:$A$1806,Data!$K$6:$K$1806)","v":7571.94},46.39892578125]
[null,40098.104351851689,{"$f":"LOOKUP(B167,Data!$A$6:$A$1806,Data!B$6:B$1806)","v":59.942001342773438},{"$f":"LOOKUP(B167,Data!$A$6:$A$1806,Data!C$6:C$1806)","v":3746.888671875},null,null,null,46.39892578125,46.440041046860173,null,null,0.58035779256491771,3775.823680442913,{"$f":"AVERAGE(D$79:D167)","v":3783.5060541388693},{"$f":"AVERAGE(M$79:M167)","v":3784.889526864024},3728.6885188638648,{"$f":"AVERAGE(P$79:P167)","v":3703.4429548872922},633,null,null,null,null,null,null,0,633,-637.79053329489761,null,null,null,null,null,null,null,null,null,null,null,null,null,40098.104351851689,{"$f":"LOOKUP($AO167,Data!$A$6:$A$1806,Data!$B$6:$B$1806)","v":59.942001342773438},{"$f":"LOOKUP($AO167,Data!$A$6:$A$1806,Data!$C$6:$C$1806)","v":3746.888671875},{"$f":"LOOKUP($AO167,Data!$A$6:$A$1806,Data!$D$6:$D$1806)","v":335},{"$f":"IF($AS$1=\"+\",LOOKUP($AO167,Data!$A$6:$A$1806,Data!$E$6:$E$1806)*-1,LOOKUP($AO167,Data!$A$6:$A$1806,Data!$E$6:$E$1806))","v":-214.83035278320312},{"$f":"LOOKUP($AO167,Data!$A$6:$A$1806,Data!$F$6:$F$1806)","v":0},{"$f":"LOOKUP($AO167,Data!$A$6:$A$1806,Data!$G$6:$G$1806)","v":109.5},{"$f":"LOOKUP($AO167,Data!$A$6:$A$1806,Data!$H$6:$H$1806)","v":10},{"$f":"LOOKUP($AO167,Data!$A$6:$A$1806,Data!$I$6:$I$1806)","v":0},{"$f":"LOOKUP($AO167,Data!$A$6:$A$1806,Data!$J$6:$J$1806)","v":-103},{"$f":"LOOKUP($AO167,Data!$A$6:$A$1806,Data!$K$6:$K$1806)","v":7572.27},46.39892578125]
[null,40098.104374999835,{"$f":"LOOKUP(B168,Data!$A$6:$A$1806,Data!B$6:B$1806)","v":59.942001342773438},{"$f":"LOOKUP(B168,Data!$A$6:$A$1806,Data!C$6:C$1806)","v":3746.888671875},null,null,null,46.39892578125,46.425650703896615,null,null,0.58035779256491771,3776.3896478925144,{"$f":"AVERAGE(D$79:D168)","v":3783.0991943359377},{"$f":"AVERAGE(M$79:M168)","v":3784.7950837643402},3729.2688766564297,{"$f":"AVERAGE(P$79:P168)","v":3703.7331337835744},633,null,null,null,null,null,null,0,633,-637.79053329489761,null,null,null,null,null,null,null,null,null,null,null,null,null,40098.104374999835,{"$f":"LOOKUP($AO168,Data!$A$6:$A$1806,Data!$B$6:$B$1806)","v":59.942001342773438},{"$f":"LOOKUP($AO168,Data!$A$6:$A$1806,Data!$C$6:$C$1806)","v":3746.888671875},{"$f":"LOOKUP($AO168,Data!$A$6:$A$1806,Data!$D$6:$D$1806)","v":335},{"$f":"IF($AS$1=\"+\",LOOKUP($AO168,Data!$A$6:$A$1806,Data!$E$6:$E$1806)*-1,LOOKUP($AO168,Data!$A$6:$A$1806,Data!$E$6:$E$1806))","v":-214.83035278320312},{"$f":"LOOKUP($AO168,Data!$A$6:$A$1806,Data!$F$6:$F$1806)","v":0},{"$f":"LOOKUP($AO168,Data!$A$6:$A$1806,Data!$G$6:$G$1806)","v":109.5},{"$f":"LOOKUP($AO168,Data!$A$6:$A$1806,Data!$H$6:$H$1806)","v":10},{"$f":"LOOKUP($AO168,Data!$A$6:$A$1806,Data!$I$6:$I$1806)","v":0},{"$f":"LOOKUP($AO168,Data!$A$6:$A$1806,Data!$J$6:$J$1806)","v":-103},{"$f":"LOOKUP($AO168,Data!$A$6:$A$1806,Data!$K$6:$K$1806)","v":7572.27},46.39892578125]
[null,40098.104398147982,{"$f":"LOOKUP(B169,Data!$A$6:$A$1806,Data!B$6:B$1806)","v":59.942001342773438},{"$f":"LOOKUP(B169,Data!$A$6:$A$1806,Data!C$6:C$1806)","v":3746.888671875},null,null,null,46.39892578125,46.416296980970301,null,null,0.58035779256491771,3776.960651962153,{"$f":"AVERAGE(D$79:D169)","v":3782.7012765066966},{"$f":"AVERAGE(M$79:M169)","v":3784.7089911071735},3729.8492344489946,{"$f":"AVERAGE(P$79:P169)","v":3704.0233126798566},633,null,null,null,null,null,null,0,633,-637.79053329489761,null,null,null,null,null,null,null,null,null,null,null,null,null,40098.104398147982,{"$f":"LOOKUP($AO169,Data!$A$6:$A$1806,Data!$B$6:$B$1806)","v":59.942001342773438},{"$f":"LOOKUP($AO169,Data!$A$6:$A$1806,Data!$C$6:$C$1806)","v":3746.888671875},{"$f":"LOOKUP($AO169,Data!$A$6:$A$1806,Data!$D$6:$D$1806)","v":335},{"$f":"IF($AS$1=\"+\",LOOKUP($AO169,Data!$A$6:$A$1806,Data!$E$6:$E$1806)*-1,LOOKUP($AO169,Data!$A$6:$A$1806,Data!$E$6:$E$1806))","v":-214.83035278320312},{"$f":"LOOKUP($AO169,Data!$A$6:$A$1806,Data!$F$6:$F$1806)","v":0},{"$f":"LOOKUP($AO169,Data!$A$6:$A$1806,Data!$G$6:$G$1806)","v":109.5},{"$f":"LOOKUP($AO169,Data!$A$6:$A$1806,Data!$H$6:$H$1806)","v":10},{"$f":"LOOKUP($AO169,Data!$A$6:$A$1806,Data!$I$6:$I$1806)","v":0},{"$f":"LOOKUP($AO169,Data!$A$6:$A$1806,Data!$J$6:$J$1806)","v":-103},{"$f":"LOOKUP($AO169,Data!$A$6:$A$1806,Data!$K$6:$K$1806)","v":7572.27},46.39892578125]
[null,40098.104421296128,{"$f":"LOOKUP(B170,Data!$A$6:$A$1806,Data!B$6:B$1806)","v":59.946998596191406},{"$f":"LOOKUP(B170,Data!$A$6:$A$1806,Data!C$6:C$1806)","v":3749.59326171875},null,null,null,42.401123046875,45.010986104036945,null,null,0.58035779256491771,3776.1356988777843,{"$f":"AVERAGE(D$79:D170)","v":3782.3414067807403},{"$f":"AVERAGE(M$79:M170)","v":3784.6158031481582},3730.4295922415595,{"$f":"AVERAGE(P$79:P170)","v":3704.3134915761389},633,null,null,null,null,null,null,0,633,-671.60640291409493,null,null,null,null,null,null,null,null,null,null,null,null,null,40098.104421296128,{"$f":"LOOKUP($AO170,Data!$A$6:$A$1806,Data!$B$6:$B$1806)","v":59.946998596191406},{"$f":"LOOKUP($AO170,Data!$A$6:$A$1806,Data!$C$6:$C$1806)","v":3749.59326171875},{"$f":"LOOKUP($AO170,Data!$A$6:$A$1806,Data!$D$6:$D$1806)","v":335},{"$f":"IF($AS$1=\"+\",LOOKUP($AO170,Data!$A$6:$A$1806,Data!$E$6:$E$1806)*-1,LOOKUP($AO170,Data!$A$6:$A$1806,Data!$E$6:$E$1806))","v":-214.83035278320312},{"$f":"LOOKUP($AO170,Data!$A$6:$A$1806,Data!$F$6:$F$1806)","v":0},{"$f":"LOOKUP($AO170,Data!$A$6:$A$1806,Data!$G$6:$G$1806)","v":110},{"$f":"LOOKUP($AO170,Data!$A$6:$A$1806,Data!$H$6:$H$1806)","v":10},{"$f":"LOOKUP($AO170,Data!$A$6:$A$1806,Data!$I$6:$I$1806)","v":0},{"$f":"LOOKUP($AO170,Data!$A$6:$A$1806,Data!$J$6:$J$1806)","v":-103},{"$f":"LOOKUP($AO170,Data!$A$6:$A$1806,Data!$K$6:$K$1806)","v":7572.6},42.401123046875]
[null,40098.104444444274,{"$f":"LOOKUP(B171,Data!$A$6:$A$1806,Data!B$6:B$1806)","v":59.946998596191406},{"$f":"LOOKUP(B171,Data!$A$6:$A$1806,Data!C$6:C$1806)","v":3749.59326171875},null,null,null,42.401123046875,{"$f":"L$13*H171+(1-L$13)*I170","v":44.097534034030261},null,null,0.58035779256491771,3775.8026046003424,{"$f":"AVERAGE(D$79:D171)","v":3781.9892761886763},{"$f":"AVERAGE(M$79:M171)","v":3784.521037572375},3731.0099500341244,{"$f":"AVERAGE(P$79:P171)","v":3704.6036704724215},633,null,null,null,null,null,null,0,{"$f":"SUM(R171:Y171)","v":633},-671.60640291409493,null,null,null,null,null,null,null,null,null,null,null,null,null,40098.104444444274,{"$f":"LOOKUP($AO171,Data!$A$6:$A$1806,Data!$B$6:$B$1806)","v":59.946998596191406},{"$f":"LOOKUP($AO171,Data!$A$6:$A$1806,Data!$C$6:$C$1806)","v":3749.59326171875},{"$f":"LOOKUP($AO171,Data!$A$6:$A$1806,Data!$D$6:$D$1806)","v":335},{"$f":"IF($AS$1=\"+\",LOOKUP($AO171,Data!$A$6:$A$1806,Data!$E$6:$E$1806)*-1,LOOKUP($AO171,Data!$A$6:$A$1806,Data!$E$6:$E$1806))","v":-214.83035278320312},{"$f":"LOOKUP($AO171,Data!$A$6:$A$1806,Data!$F$6:$F$1806)","v":0},{"$f":"LOOKUP($AO171,Data!$A$6:$A$1806,Data!$G$6:$G$1806)","v":110},{"$f":"LOOKUP($AO171,Data!$A$6:$A$1806,Data!$H$6:$H$1806)","v":10},{"$f":"LOOKUP($AO171,Data!$A$6:$A$1806,Data!$I$6:$I$1806)","v":0},{"$f":"LOOKUP($AO171,Data!$A$6:$A$1806,Data!$J$6:$J$1806)","v":-103},{"$f":"LOOKUP($AO171,Data!$A$6:$A$1806,Data!$K$6:$K$1806)","v":7572.6},42.401123046875]
[null,40098.10446759242,{"$f":"LOOKUP(B172,Data!$A$6:$A$1806,Data!B$6:B$1806)","v":59.951000213623047},{"$f":"LOOKUP(B172,Data!$A$6:$A$1806,Data!C$6:C$1806)","v":3749.076904296875},null,null,null,{"$f":"(IF((C172-L$2)>0,((C172-L$2-L$5)/((L$4*L$2)-L$5)*L$3*-1),((C172-L$2+L$5)/((L$4*L$2)-L$5)*L$3*-1)))","v":39.1998291015625},42.383337307666544,null,null,0.58035779256491771,3774.6687656665435,{"$f":"AVERAGE(D$79:D172)","v":3781.6391445728059},{"$f":"AVERAGE(M$79:M172)","v":3784.4162261691217},3731.5903078266892,{"$f":"AVERAGE(P$79:P172)","v":3704.8938493687042},633,null,null,null,null,null,null,0,633,-701.38492296637571,null,null,null,null,null,null,null,null,null,null,null,null,null,40098.10446759242,{"$f":"LOOKUP($AO172,Data!$A$6:$A$1806,Data!$B$6:$B$1806)","v":59.951000213623047},{"$f":"LOOKUP($AO172,Data!$A$6:$A$1806,Data!$C$6:$C$1806)","v":3749.076904296875},{"$f":"LOOKUP($AO172,Data!$A$6:$A$1806,Data!$D$6:$D$1806)","v":335},{"$f":"IF($AS$1=\"+\",LOOKUP($AO172,Data!$A$6:$A$1806,Data!$E$6:$E$1806)*-1,LOOKUP($AO172,Data!$A$6:$A$1806,Data!$E$6:$E$1806))","v":-214.83035278320312},{"$f":"LOOKUP($AO172,Data!$A$6:$A$1806,Data!$F$6:$F$1806)","v":0},{"$f":"LOOKUP($AO172,Data!$A$6:$A$1806,Data!$G$6:$G$1806)","v":110.5},{"$f":"LOOKUP($AO172,Data!$A$6:$A$1806,Data!$H$6:$H$1806)","v":10},{"$f":"LOOKUP($AO172,Data!$A$6:$A$1806,Data!$I$6:$I$1806)","v":0},{"$f":"LOOKUP($AO172,Data!$A$6:$A$1806,Data!$J$6:$J$1806)","v":-103},{"$f":"LOOKUP($AO172,Data!$A$6:$A$1806,Data!$K$6:$K$1806)","v":7572.93},{"$f":"(IF((AP172-$L$2)>0,((AP172-$L$2-$L$5)/(($L$4*$L$2)-$L$5)*$L$3*-1),((AP172-$L$2+$L$5)/(($L$4*$L$2)-$L$5)*$L$3*-1)))","v":39.1998291015625}]
[null,40098.104490740567,{"$f":"LOOKUP(B173,Data!$A$6:$A$1806,Data!B$6:B$1806)","v":59.951000213623047},{"$f":"LOOKUP(B173,Data!$A$6:$A$1806,Data!C$6:C$1806)","v":3749.076904296875},null,null,null,39.1998291015625,41.269109435530126,null,null,0.58035779256491771,3774.1348955869721,{"$f":"AVERAGE(D$79:D173)","v":3781.2963841488486},{"$f":"AVERAGE(M$79:M173)","v":3784.308001636678},3732.1706656192541,{"$f":"AVERAGE(P$79:P173)","v":3705.1840282649864},633,null,null,null,null,null,null,0,633,-701.38492296637571,null,null,null,null,null,null,null,null,null,null,null,null,null,40098.104490740567,{"$f":"LOOKUP($AO173,Data!$A$6:$A$1806,Data!$B$6:$B$1806)","v":59.951000213623047},{"$f":"LOOKUP($AO173,Data!$A$6:$A$1806,Data!$C$6:$C$1806)","v":3749.076904296875},{"$f":"LOOKUP($AO173,Data!$A$6:$A$1806,Data!$D$6:$D$1806)","v":335},{"$f":"IF($AS$1=\"+\",LOOKUP($AO173,Data!$A$6:$A$1806,Data!$E$6:$E$1806)*-1,LOOKUP($AO173,Data!$A$6:$A$1806,Data!$E$6:$E$1806))","v":-214.83035278320312},{"$f":"LOOKUP($AO173,Data!$A$6:$A$1806,Data!$F$6:$F$1806)","v":0},{"$f":"LOOKUP($AO173,Data!$A$6:$A$1806,Data!$G$6:$G$1806)","v":110.5},{"$f":"LOOKUP($AO173,Data!$A$6:$A$1806,Data!$H$6:$H$1806)","v":10},{"$f":"LOOKUP($AO173,Data!$A$6:$A$1806,Data!$I$6:$I$1806)","v":0},{"$f":"LOOKUP($AO173,Data!$A$6:$A$1806,Data!$J$6:$J$1806)","v":-103},{"$f":"LOOKUP($AO173,Data!$A$6:$A$1806,Data!$K$6:$K$1806)","v":7572.93},39.1998291015625]
[null,{"$f":"B173+TIME(0,0,$B$1)","v":40098.104513888713},{"$f":"LOOKUP(B174,Data!$A$6:$A$1806,Data!B$6:B$1806)","v":59.951000213623047},{"$f":"LOOKUP(B174,Data!$A$6:$A$1806,Data!C$6:C$1806)","v":3749.076904296875},null,null,null,39.1998291015625,40.544861318641459,null,null,0.58035779256491771,3773.9910052626483,{"$f":"AVERAGE(D$79:D174)","v":3780.9607645670571},{"$f":"AVERAGE(M$79:M174)","v":3784.2005329244489},3732.751023411819,{"$f":"AVERAGE(P$79:P174)","v":3705.4742071612691},633,null,null,null,null,null,null,0,633,-701.38492296637571,null,null,null,null,null,null,null,null,null,null,null,null,null,40098.104513888713,{"$f":"LOOKUP($AO174,Data!$A$6:$A$1806,Data!$B$6:$B$1806)","v":59.951000213623047},{"$f":"LOOKUP($AO174,Data!$A$6:$A$1806,Data!$C$6:$C$1806)","v":3749.076904296875},{"$f":"LOOKUP($AO174,Data!$A$6:$A$1806,Data!$D$6:$D$1806)","v":335},{"$f":"IF($AS$1=\"+\",LOOKUP($AO174,Data!$A$6:$A$1806,Data!$E$6:$E$1806)*-1,LOOKUP($AO174,Data!$A$6:$A$1806,Data!$E$6:$E$1806))","v":-214.83035278320312},{"$f":"LOOKUP($AO174,Data!$A$6:$A$1806,Data!$F$6:$F$1806)","v":0},{"$f":"LOOKUP($AO174,Data!$A$6:$A$1806,Data!$G$6:$G$1806)","v":110.5},{"$f":"LOOKUP($AO174,Data!$A$6:$A$1806,Data!$H$6:$H$1806)","v":10},{"$f":"LOOKUP($AO174,Data!$A$6:$A$1806,Data!$I$6:$I$1806)","v":0},{"$f":"LOOKUP($AO174,Data!$A$6:$A$1806,Data!$J$6:$J$1806)","v":-103},{"$f":"LOOKUP($AO174,Data!$A$6:$A$1806,Data!$K$6:$K$1806)","v":7572.93},39.1998291015625]
[null,40098.104537036859,{"$f":"LOOKUP(B175,Data!$A$6:$A$1806,Data!B$6:B$1806)","v":59.951000213623047},{"$f":"LOOKUP(B175,Data!$A$6:$A$1806,Data!C$6:C$1806)","v":3740.259033203125},null,null,null,39.1998291015625,40.074100042663829,null,null,0.58035779256491771,3774.1006017792356,{"$f":"AVERAGE(D$79:D175)","v":3780.5411590890785},{"$f":"AVERAGE(M$79:M175)","v":3784.0964099229518},3733.3313812043839,{"$f":"AVERAGE(P$79:P175)","v":3705.7643860575513},633,null,null,null,null,null,null,0,633,-701.38492296637571,null,null,null,null,null,null,null,null,null,null,null,null,null,40098.104537036859,{"$f":"LOOKUP($AO175,Data!$A$6:$A$1806,Data!$B$6:$B$1806)","v":59.951000213623047},{"$f":"LOOKUP($AO175,Data!$A$6:$A$1806,Data!$C$6:$C$1806)","v":3740.259033203125},{"$f":"LOOKUP($AO175,Data!$A$6:$A$1806,Data!$D$6:$D$1806)","v":335},{"$f":"IF($AS$1=\"+\",LOOKUP($AO175,Data!$A$6:$A$1806,Data!$E$6:$E$1806)*-1,LOOKUP($AO175,Data!$A$6:$A$1806,Data!$E$6:$E$1806))","v":-214.83035278320312},{"$f":"LOOKUP($AO175,Data!$A$6:$A$1806,Data!$F$6:$F$1806)","v":0},{"$f":"LOOKUP($AO175,Data!$A$6:$A$1806,Data!$G$6:$G$1806)","v":111},{"$f":"LOOKUP($AO175,Data!$A$6:$A$1806,Data!$H$6:$H$1806)","v":10},{"$f":"LOOKUP($AO175,Data!$A$6:$A$1806,Data!$I$6:$I$1806)","v":0},{"$f":"LOOKUP($AO175,Data!$A$6:$A$1806,Data!$J$6:$J$1806)","v":-103},{"$f":"LOOKUP($AO175,Data!$A$6:$A$1806,Data!$K$6:$K$1806)","v":7573.26},39.1998291015625]
[null,40098.104560185006,{"$f":"LOOKUP(B176,Data!$A$6:$A$1806,Data!B$6:B$1806)","v":59.951000213623047},{"$f":"LOOKUP(B176,Data!$A$6:$A$1806,Data!C$6:C$1806)","v":3740.259033203125},null,null,null,39.1998291015625,39.768105213278361,null,null,0.58035779256491771,3774.3749647424152,{"$f":"AVERAGE(D$79:D176)","v":3780.1301169882017},{"$f":"AVERAGE(M$79:M176)","v":3783.9972115027422},3733.9117389969488,{"$f":"AVERAGE(P$79:P176)","v":3706.054564953834},633,null,null,null,null,null,null,0,633,-701.38492296637571,null,null,null,null,null,null,null,null,null,null,null,null,null,40098.104560185006,{"$f":"LOOKUP($AO176,Data!$A$6:$A$1806,Data!$B$6:$B$1806)","v":59.951000213623047},{"$f":"LOOKUP($AO176,Data!$A$6:$A$1806,Data!$C$6:$C$1806)","v":3740.259033203125},{"$f":"LOOKUP($AO176,Data!$A$6:$A$1806,Data!$D$6:$D$1806)","v":335},{"$f":"IF($AS$1=\"+\",LOOKUP($AO176,Data!$A$6:$A$1806,Data!$E$6:$E$1806)*-1,LOOKUP($AO176,Data!$A$6:$A$1806,Data!$E$6:$E$1806))","v":-214.83035278320312},{"$f":"LOOKUP($AO176,Data!$A$6:$A$1806,Data!$F$6:$F$1806)","v":0},{"$f":"LOOKUP($AO176,Data!$A$6:$A$1806,Data!$G$6:$G$1806)","v":111},{"$f":"LOOKUP($AO176,Data!$A$6:$A$1806,Data!$H$6:$H$1806)","v":10},{"$f":"LOOKUP($AO176,Data!$A$6:$A$1806,Data!$I$6:$I$1806)","v":0},{"$f":"LOOKUP($AO176,Data!$A$6:$A$1806,Data!$J$6:$J$1806)","v":-103},{"$f":"LOOKUP($AO176,Data!$A$6:$A$1806,Data!$K$6:$K$1806)","v":7573.26},39.1998291015625]
[null,40098.104583333152,{"$f":"LOOKUP(B177,Data!$A$6:$A$1806,Data!B$6:B$1806)","v":59.951999664306641},{"$f":"LOOKUP(B177,Data!$A$6:$A$1806,Data!C$6:C$1806)","v":3727.83837890625},null,null,null,38.4002685546875,39.289362382771557,null,null,0.58035779256491771,3774.4765797044734,{"$f":"AVERAGE(D$79:D177)","v":3779.6019176136365},{"$f":"AVERAGE(M$79:M177)","v":3783.9010435047799},3734.4920967895137,{"$f":"AVERAGE(P$79:P177)","v":3706.3447438501166},633,null,null,null,null,null,null,0,633,-709.23921099309723,null,null,null,null,null,null,null,null,null,null,null,null,null,40098.104583333152,{"$f":"LOOKUP($AO177,Data!$A$6:$A$1806,Data!$B$6:$B$1806)","v":59.951999664306641},{"$f":"LOOKUP($AO177,Data!$A$6:$A$1806,Data!$C$6:$C$1806)","v":3727.83837890625},{"$f":"LOOKUP($AO177,Data!$A$6:$A$1806,Data!$D$6:$D$1806)","v":335},{"$f":"IF($AS$1=\"+\",LOOKUP($AO177,Data!$A$6:$A$1806,Data!$E$6:$E$1806)*-1,LOOKUP($AO177,Data!$A$6:$A$1806,Data!$E$6:$E$1806))","v":-214.83035278320312},{"$f":"LOOKUP($AO177,Data!$A$6:$A$1806,Data!$F$6:$F$1806)","v":0},{"$f":"LOOKUP($AO177,Data!$A$6:$A$1806,Data!$G$6:$G$1806)","v":111.5},{"$f":"LOOKUP($AO177,Data!$A$6:$A$1806,Data!$H$6:$H$1806)","v":10},{"$f":"LOOKUP($AO177,Data!$A$6:$A$1806,Data!$I$6:$I$1806)","v":0},{"$f":"LOOKUP($AO177,Data!$A$6:$A$1806,Data!$J$6:$J$1806)","v":-103},{"$f":"LOOKUP($AO177,Data!$A$6:$A$1806,Data!$K$6:$K$1806)","v":7573.59},38.4002685546875]
[null,40098.104606481298,{"$f":"LOOKUP(B178,Data!$A$6:$A$1806,Data!B$6:B$1806)","v":59.951999664306641},{"$f":"LOOKUP(B178,Data!$A$6:$A$1806,Data!C$6:C$1806)","v":3727.83837890625},null,null,null,38.4002685546875,38.978179542942136,null,null,0.58035779256491771,3774.7457546572086,{"$f":"AVERAGE(D$79:D178)","v":3779.0842822265627},{"$f":"AVERAGE(M$79:M178)","v":3783.8094906163042},3735.0724545820785,{"$f":"AVERAGE(P$79:P178)","v":3706.6349227463988},633,null,null,null,null,null,null,0,633,-709.23921099309723,null,null,null,null,null,null,null,null,null,null,null,null,null,40098.104606481298,{"$f":"LOOKUP($AO178,Data!$A$6:$A$1806,Data!$B$6:$B$1806)","v":59.951999664306641},{"$f":"LOOKUP($AO178,Data!$A$6:$A$1806,Data!$C$6:$C$1806)","v":3727.83837890625},{"$f":"LOOKUP($AO178,Data!$A$6:$A$1806,Data!$D$6:$D$1806)","v":335},{"$f":"IF($AS$1=\"+\",LOOKUP($AO178,Data!$A$6:$A$1806,Data!$E$6:$E$1806)*-1,LOOKUP($AO178,Data!$A$6:$A$1806,Data!$E$6:$E$1806))","v":-214.83035278320312},{"$f":"LOOKUP($AO178,Data!$A$6:$A$1806,Data!$F$6:$F$1806)","v":0},{"$f":"LOOKUP($AO178,Data!$A$6:$A$1806,Data!$G$6:$G$1806)","v":111.5},{"$f":"LOOKUP($AO178,Data!$A$6:$A$1806,Data!$H$6:$H$1806)","v":10},{"$f":"LOOKUP($AO178,Data!$A$6:$A$1806,Data!$I$6:$I$1806)","v":0},{"$f":"LOOKUP($AO178,Data!$A$6:$A$1806,Data!$J$6:$J$1806)","v":-103},{"$f":"LOOKUP($AO178,Data!$A$6:$A$1806,Data!$K$6:$K$1806)","v":7573.59},38.4002685546875]
[null,40098.104629629444,{"$f":"LOOKUP(B179,Data!$A$6:$A$1806,Data!B$6:B$1806)","v":59.951999664306641},{"$f":"LOOKUP(B179,Data!$A$6:$A$1806,Data!C$6:C$1806)","v":3727.83837890625},null,null,null,38.4002685546875,38.775910697053014,null,null,0.58035779256491771,3775.1238436038843,{"$f":"AVERAGE(D$79:D179)","v":3778.5768970451732},{"$f":"AVERAGE(M$79:M179)","v":3783.7234941112306},3735.6528123746434,{"$f":"AVERAGE(P$79:P179)","v":3706.9251016426815},633,null,null,null,null,null,null,0,633,-709.23921099309723,null,null,null,null,null,null,null,null,null,null,null,null,null,40098.104629629444,{"$f":"LOOKUP($AO179,Data!$A$6:$A$1806,Data!$B$6:$B$1806)","v":59.951999664306641},{"$f":"LOOKUP($AO179,Data!$A$6:$A$1806,Data!$C$6:$C$1806)","v":3727.83837890625},{"$f":"LOOKUP($AO179,Data!$A$6:$A$1806,Data!$D$6:$D$1806)","v":335},{"$f":"IF($AS$1=\"+\",LOOKUP($AO179,Data!$A$6:$A$1806,Data!$E$6:$E$1806)*-1,LOOKUP($AO179,Data!$A$6:$A$1806,Data!$E$6:$E$1806))","v":-214.83035278320312},{"$f":"LOOKUP($AO179,Data!$A$6:$A$1806,Data!$F$6:$F$1806)","v":0},{"$f":"LOOKUP($AO179,Data!$A$6:$A$1806,Data!$G$6:$G$1806)","v":111.5},{"$f":"LOOKUP($AO179,Data!$A$6:$A$1806,Data!$H$6:$H$1806)","v":10},{"$f":"LOOKUP($AO179,Data!$A$6:$A$1806,Data!$I$6:$I$1806)","v":0},{"$f":"LOOKUP($AO179,Data!$A$6:$A$1806,Data!$J$6:$J$1806)","v":-103},{"$f":"LOOKUP($AO179,Data!$A$6:$A$1806,Data!$K$6:$K$1806)","v":7573.59},38.4002685546875]
[null,40098.104652777591,{"$f":"LOOKUP(B180,Data!$A$6:$A$1806,Data!B$6:B$1806)","v":59.951999664306641},{"$f":"LOOKUP(B180,Data!$A$6:$A$1806,Data!C$6:C$1806)","v":3722.64892578125},null,null,null,38.4002685546875,38.644435947225084,null,null,0.58035779256491771,3775.572726646621,{"$f":"AVERAGE(D$79:D180)","v":3778.0285836014095},{"$f":"AVERAGE(M$79:M180)","v":3783.6435846262834},3736.2331701672083,{"$f":"AVERAGE(P$79:P180)","v":3707.2152805389637},633,null,null,null,null,null,null,0,633,-709.23921099309723,null,null,null,null,null,null,null,null,null,null,null,null,null,40098.104652777591,{"$f":"LOOKUP($AO180,Data!$A$6:$A$1806,Data!$B$6:$B$1806)","v":59.951999664306641},{"$f":"LOOKUP($AO180,Data!$A$6:$A$1806,Data!$C$6:$C$1806)","v":3722.64892578125},{"$f":"LOOKUP($AO180,Data!$A$6:$A$1806,Data!$D$6:$D$1806)","v":335},{"$f":"IF($AS$1=\"+\",LOOKUP($AO180,Data!$A$6:$A$1806,Data!$E$6:$E$1806)*-1,LOOKUP($AO180,Data!$A$6:$A$1806,Data!$E$6:$E$1806))","v":-227.65591430664062},{"$f":"LOOKUP($AO180,Data!$A$6:$A$1806,Data!$F$6:$F$1806)","v":0},{"$f":"LOOKUP($AO180,Data!$A$6:$A$1806,Data!$G$6:$G$1806)","v":112},{"$f":"LOOKUP($AO180,Data!$A$6:$A$1806,Data!$H$6:$H$1806)","v":10},{"$f":"LOOKUP($AO180,Data!$A$6:$A$1806,Data!$I$6:$I$1806)","v":0},{"$f":"LOOKUP($AO180,Data!$A$6:$A$1806,Data!$J$6:$J$1806)","v":-103},{"$f":"LOOKUP($AO180,Data!$A$6:$A$1806,Data!$K$6:$K$1806)","v":7573.92},38.4002685546875]
[null,40098.104675925737,{"$f":"LOOKUP(B181,Data!$A$6:$A$1806,Data!B$6:B$1806)","v":59.951999664306641},{"$f":"LOOKUP(B181,Data!$A$6:$A$1806,Data!C$6:C$1806)","v":3722.64892578125},null,null,null,38.4002685546875,38.558977359836931,null,null,0.58035779256491771,3776.0676258517979,{"$f":"AVERAGE(D$79:D181)","v":3777.4909170206311},{"$f":"AVERAGE(M$79:M181)","v":3783.5700316284729},3736.8135279597732,{"$f":"AVERAGE(P$79:P181)","v":3707.5054594352459},633,null,null,null,null,null,null,0,633,-709.23921099309723,null,null,null,null,null,null,null,null,null,null,null,null,null,40098.104675925737,{"$f":"LOOKUP($AO181,Data!$A$6:$A$1806,Data!$B$6:$B$1806)","v":59.951999664306641},{"$f":"LOOKUP($AO181,Data!$A$6:$A$1806,Data!$C$6:$C$1806)","v":3722.64892578125},{"$f":"LOOKUP($AO181,Data!$A$6:$A$1806,Data!$D$6:$D$1806)","v":335},{"$f":"IF($AS$1=\"+\",LOOKUP($AO181,Data!$A$6:$A$1806,Data!$E$6:$E$1806)*-1,LOOKUP($AO181,Data!$A$6:$A$1806,Data!$E$6:$E$1806))","v":-227.65591430664062},{"$f":"LOOKUP($AO181,Data!$A$6:$A$1806,Data!$F$6:$F$1806)","v":0},{"$f":"LOOKUP($AO181,Data!$A$6:$A$1806,Data!$G$6:$G$1806)","v":112},{"$f":"LOOKUP($AO181,Data!$A$6:$A$1806,Data!$H$6:$H$1806)","v":10},{"$f":"LOOKUP($AO181,Data!$A$6:$A$1806,Data!$I$6:$I$1806)","v":0},{"$f":"LOOKUP($AO181,Data!$A$6:$A$1806,Data!$J$6:$J$1806)","v":-103},{"$f":"LOOKUP($AO181,Data!$A$6:$A$1806,Data!$K$6:$K$1806)","v":7573.92},38.4002685546875]
[null,40098.104699073883,{"$f":"LOOKUP(B182,Data!$A$6:$A$1806,Data!B$6:B$1806)","v":59.951999664306641},{"$f":"LOOKUP(B182,Data!$A$6:$A$1806,Data!C$6:C$1806)","v":3718.141845703125},null,null,null,38.4002685546875,38.503429278034631,null,null,0.58035779256491771,3776.5924355625602,{"$f":"AVERAGE(D$79:D182)","v":3776.9202528733472},{"$f":"AVERAGE(M$79:M182)","v":3783.5029393586083},3737.3938857523381,{"$f":"AVERAGE(P$79:P182)","v":3707.7956383315286},633,null,null,null,null,null,null,0,633,-709.23921099309723,null,null,null,null,null,null,null,null,null,null,null,null,null,40098.104699073883,{"$f":"LOOKUP($AO182,Data!$A$6:$A$1806,Data!$B$6:$B$1806)","v":59.951999664306641},{"$f":"LOOKUP($AO182,Data!$A$6:$A$1806,Data!$C$6:$C$1806)","v":3718.141845703125},{"$f":"LOOKUP($AO182,Data!$A$6:$A$1806,Data!$D$6:$D$1806)","v":335},{"$f":"IF($AS$1=\"+\",LOOKUP($AO182,Data!$A$6:$A$1806,Data!$E$6:$E$1806)*-1,LOOKUP($AO182,Data!$A$6:$A$1806,Data!$E$6:$E$1806))","v":-227.65591430664062},{"$f":"LOOKUP($AO182,Data!$A$6:$A$1806,Data!$F$6:$F$1806)","v":0},{"$f":"LOOKUP($AO182,Data!$A$6:$A$1806,Data!$G$6:$G$1806)","v":112.5},{"$f":"LOOKUP($AO182,Data!$A$6:$A$1806,Data!$H$6:$H$1806)","v":10},{"$f":"LOOKUP($AO182,Data!$A$6:$A$1806,Data!$I$6:$I$1806)","v":0},{"$f":"LOOKUP($AO182,Data!$A$6:$A$1806,Data!$J$6:$J$1806)","v":-103},{"$f":"LOOKUP($AO182,Data!$A$6:$A$1806,Data!$K$6:$K$1806)","v":7574.25},38.4002685546875]
[null,40098.10472222203,{"$f":"LOOKUP(B183,Data!$A$6:$A$1806,Data!B$6:B$1806)","v":59.951999664306641},{"$f":"LOOKUP(B183,Data!$A$6:$A$1806,Data!C$6:C$1806)","v":3718.141845703125},null,null,null,38.4002685546875,38.467323024863134,null,null,0.58035779256491771,3777.1366871019536,{"$f":"AVERAGE(D$79:D183)","v":3776.3604585193452},{"$f":"AVERAGE(M$79:M183)","v":3783.4423083847355},3737.9742435449029,{"$f":"AVERAGE(P$79:P183)","v":3708.0858172278113},633,null,null,null,null,null,null,0,633,-709.23921099309723,null,null,null,null,null,null,null,null,null,null,null,null,null,40098.10472222203,{"$f":"LOOKUP($AO183,Data!$A$6:$A$1806,Data!$B$6:$B$1806)","v":59.951999664306641},{"$f":"LOOKUP($AO183,Data!$A$6:$A$1806,Data!$C$6:$C$1806)","v":3718.141845703125},{"$f":"LOOKUP($AO183,Data!$A$6:$A$1806,Data!$D$6:$D$1806)","v":335},{"$f":"IF($AS$1=\"+\",LOOKUP($AO183,Data!$A$6:$A$1806,Data!$E$6:$E$1806)*-1,LOOKUP($AO183,Data!$A$6:$A$1806,Data!$E$6:$E$1806))","v":-227.65591430664062},{"$f":"LOOKUP($AO183,Data!$A$6:$A$1806,Data!$F$6:$F$1806)","v":0},{"$f":"LOOKUP($AO183,Data!$A$6:$A$1806,Data!$G$6:$G$1806)","v":112.5},{"$f":"LOOKUP($AO183,Data!$A$6:$A$1806,Data!$H$6:$H$1806)","v":10},{"$f":"LOOKUP($AO183,Data!$A$6:$A$1806,Data!$I$6:$I$1806)","v":0},{"$f":"LOOKUP($AO183,Data!$A$6:$A$1806,Data!$J$6:$J$1806)","v":-103},{"$f":"LOOKUP($AO183,Data!$A$6:$A$1806,Data!$K$6:$K$1806)","v":7574.25},38.4002685546875]
[null,40098.104745370176,{"$f":"LOOKUP(B184,Data!$A$6:$A$1806,Data!B$6:B$1806)","v":59.951999664306641},{"$f":"LOOKUP(B184,Data!$A$6:$A$1806,Data!C$6:C$1806)","v":3718.141845703125},null,null,null,38.4002685546875,38.443853960301666,null,null,0.58035779256491771,3777.6935758299569,{"$f":"AVERAGE(D$79:D184)","v":3775.8112263229659},{"$f":"AVERAGE(M$79:M184)","v":3783.3880750587473},3738.5546013374678,{"$f":"AVERAGE(P$79:P184)","v":3708.3759961240935},633,null,null,null,null,null,null,0,633,-709.23921099309723,null,null,null,null,null,null,null,null,null,null,null,null,null,40098.104745370176,{"$f":"LOOKUP($AO184,Data!$A$6:$A$1806,Data!$B$6:$B$1806)","v":59.951999664306641},{"$f":"LOOKUP($AO184,Data!$A$6:$A$1806,Data!$C$6:$C$1806)","v":3718.141845703125},{"$f":"LOOKUP($AO184,Data!$A$6:$A$1806,Data!$D$6:$D$1806)","v":335},{"$f":"IF($AS$1=\"+\",LOOKUP($AO184,Data!$A$6:$A$1806,Data!$E$6:$E$1806)*-1,LOOKUP($AO184,Data!$A$6:$A$1806,Data!$E$6:$E$1806))","v":-227.65591430664062},{"$f":"LOOKUP($AO184,Data!$A$6:$A$1806,Data!$F$6:$F$1806)","v":0},{"$f":"LOOKUP($AO184,Data!$A$6:$A$1806,Data!$G$6:$G$1806)","v":112.5},{"$f":"LOOKUP($AO184,Data!$A$6:$A$1806,Data!$H$6:$H$1806)","v":10},{"$f":"LOOKUP($AO184,Data!$A$6:$A$1806,Data!$I$6:$I$1806)","v":0},{"$f":"LOOKUP($AO184,Data!$A$6:$A$1806,Data!$J$6:$J$1806)","v":-103},{"$f":"LOOKUP($AO184,Data!$A$6:$A$1806,Data!$K$6:$K$1806)","v":7574.25},38.4002685546875]
[null,40098.104768518322,{"$f":"LOOKUP(B185,Data!$A$6:$A$1806,Data!B$6:B$1806)","v":59.951999664306641},{"$f":"LOOKUP(B185,Data!$A$6:$A$1806,Data!C$6:C$1806)","v":3713.69384765625},null,null,null,38.4002685546875,38.428599068336709,null,null,0.58035779256491771,3778.2586787305568,{"$f":"AVERAGE(D$79:D185)","v":3775.230690073744},{"$f":"AVERAGE(M$79:M185)","v":3783.3401367753063},3739.1349591300327,{"$f":"AVERAGE(P$79:P185)","v":3708.6661750203762},633,null,null,null,null,null,null,0,633,-709.23921099309723,null,null,null,null,null,null,null,null,null,null,null,null,null,40098.104768518322,{"$f":"LOOKUP($AO185,Data!$A$6:$A$1806,Data!$B$6:$B$1806)","v":59.951999664306641},{"$f":"LOOKUP($AO185,Data!$A$6:$A$1806,Data!$C$6:$C$1806)","v":3713.69384765625},{"$f":"LOOKUP($AO185,Data!$A$6:$A$1806,Data!$D$6:$D$1806)","v":335},{"$f":"IF($AS$1=\"+\",LOOKUP($AO185,Data!$A$6:$A$1806,Data!$E$6:$E$1806)*-1,LOOKUP($AO185,Data!$A$6:$A$1806,Data!$E$6:$E$1806))","v":-227.65591430664062},{"$f":"LOOKUP($AO185,Data!$A$6:$A$1806,Data!$F$6:$F$1806)","v":0},{"$f":"LOOKUP($AO185,Data!$A$6:$A$1806,Data!$G$6:$G$1806)","v":113},{"$f":"LOOKUP($AO185,Data!$A$6:$A$1806,Data!$H$6:$H$1806)","v":10},{"$f":"LOOKUP($AO185,Data!$A$6:$A$1806,Data!$I$6:$I$1806)","v":0},{"$f":"LOOKUP($AO185,Data!$A$6:$A$1806,Data!$J$6:$J$1806)","v":-103},{"$f":"LOOKUP($AO185,Data!$A$6:$A$1806,Data!$K$6:$K$1806)","v":7574.58},38.4002685546875]
[null,40098.104791666468,{"$f":"LOOKUP(B186,Data!$A$6:$A$1806,Data!B$6:B$1806)","v":59.951999664306641},{"$f":"LOOKUP(B186,Data!$A$6:$A$1806,Data!C$6:C$1806)","v":3713.69384765625},null,null,null,38.4002685546875,38.418683388559487,null,null,0.58035779256491771,3778.8291208433443,{"$f":"AVERAGE(D$79:D186)","v":3774.6609044958045},{"$f":"AVERAGE(M$79:M186)","v":3783.2983681092696},3739.7153169225976,{"$f":"AVERAGE(P$79:P186)","v":3708.9563539166584},633,null,null,null,null,null,null,0,633,-709.23921099309723,null,null,null,null,null,null,null,null,null,null,null,null,null,40098.104791666468,{"$f":"LOOKUP($AO186,Data!$A$6:$A$1806,Data!$B$6:$B$1806)","v":59.951999664306641},{"$f":"LOOKUP($AO186,Data!$A$6:$A$1806,Data!$C$6:$C$1806)","v":3713.69384765625},{"$f":"LOOKUP($AO186,Data!$A$6:$A$1806,Data!$D$6:$D$1806)","v":335},{"$f":"IF($AS$1=\"+\",LOOKUP($AO186,Data!$A$6:$A$1806,Data!$E$6:$E$1806)*-1,LOOKUP($AO186,Data!$A$6:$A$1806,Data!$E$6:$E$1806))","v":-227.65591430664062},{"$f":"LOOKUP($AO186,Data!$A$6:$A$1806,Data!$F$6:$F$1806)","v":0},{"$f":"LOOKUP($AO186,Data!$A$6:$A$1806,Data!$G$6:$G$1806)","v":113},{"$f":"LOOKUP($AO186,Data!$A$6:$A$1806,Data!$H$6:$H$1806)","v":10},{"$f":"LOOKUP($AO186,Data!$A$6:$A$1806,Data!$I$6:$I$1806)","v":0},{"$f":"LOOKUP($AO186,Data!$A$6:$A$1806,Data!$J$6:$J$1806)","v":-103},{"$f":"LOOKUP($AO186,Data!$A$6:$A$1806,Data!$K$6:$K$1806)","v":7574.58},38.4002685546875]
[null,40098.104814814615,{"$f":"LOOKUP(B187,Data!$A$6:$A$1806,Data!B$6:B$1806)","v":59.953998565673828},{"$f":"LOOKUP(B187,Data!$A$6:$A$1806,Data!C$6:C$1806)","v":3710.81005859375},null,null,null,36.8011474609375,37.852545813891794,null,null,0.58035779256491771,3778.8433410612415,{"$f":"AVERAGE(D$79:D187)","v":3774.0751169187215},{"$f":"AVERAGE(M$79:M187)","v":3783.2574963014895},3740.2956747151625,{"$f":"AVERAGE(P$79:P187)","v":3709.246532812941},633,null,null,null,null,null,null,0,633,-725.48760301672314,null,null,null,null,null,null,null,null,null,null,null,null,null,40098.104814814615,{"$f":"LOOKUP($AO187,Data!$A$6:$A$1806,Data!$B$6:$B$1806)","v":59.953998565673828},{"$f":"LOOKUP($AO187,Data!$A$6:$A$1806,Data!$C$6:$C$1806)","v":3710.81005859375},{"$f":"LOOKUP($AO187,Data!$A$6:$A$1806,Data!$D$6:$D$1806)","v":335},{"$f":"IF($AS$1=\"+\",LOOKUP($AO187,Data!$A$6:$A$1806,Data!$E$6:$E$1806)*-1,LOOKUP($AO187,Data!$A$6:$A$1806,Data!$E$6:$E$1806))","v":-227.65591430664062},{"$f":"LOOKUP($AO187,Data!$A$6:$A$1806,Data!$F$6:$F$1806)","v":0},{"$f":"LOOKUP($AO187,Data!$A$6:$A$1806,Data!$G$6:$G$1806)","v":113.5},{"$f":"LOOKUP($AO187,Data!$A$6:$A$1806,Data!$H$6:$H$1806)","v":10},{"$f":"LOOKUP($AO187,Data!$A$6:$A$1806,Data!$I$6:$I$1806)","v":0},{"$f":"LOOKUP($AO187,Data!$A$6:$A$1806,Data!$J$6:$J$1806)","v":-103},{"$f":"LOOKUP($AO187,Data!$A$6:$A$1806,Data!$K$6:$K$1806)","v":7574.91},36.8011474609375]
[null,40098.104837962761,{"$f":"LOOKUP(B188,Data!$A$6:$A$1806,Data!B$6:B$1806)","v":59.953998565673828},{"$f":"LOOKUP(B188,Data!$A$6:$A$1806,Data!C$6:C$1806)","v":3710.81005859375},null,null,null,36.8011474609375,37.484556390357795,null,null,0.58035779256491771,3779.0557094302726,{"$f":"AVERAGE(D$79:D188)","v":3773.4999800248579},{"$f":"AVERAGE(M$79:M188)","v":3783.2192982390238},3740.8760325077274,{"$f":"AVERAGE(P$79:P188)","v":3709.5367117092237},633,null,null,null,null,null,null,0,633,-725.48760301672314,null,null,null,null,null,null,null,null,null,null,null,null,null,40098.104837962761,{"$f":"LOOKUP($AO188,Data!$A$6:$A$1806,Data!$B$6:$B$1806)","v":59.953998565673828},{"$f":"LOOKUP($AO188,Data!$A$6:$A$1806,Data!$C$6:$C$1806)","v":3710.81005859375},{"$f":"LOOKUP($AO188,Data!$A$6:$A$1806,Data!$D$6:$D$1806)","v":335},{"$f":"IF($AS$1=\"+\",LOOKUP($AO188,Data!$A$6:$A$1806,Data!$E$6:$E$1806)*-1,LOOKUP($AO188,Data!$A$6:$A$1806,Data!$E$6:$E$1806))","v":-227.65591430664062},{"$f":"LOOKUP($AO188,Data!$A$6:$A$1806,Data!$F$6:$F$1806)","v":0},{"$f":"LOOKUP($AO188,Data!$A$6:$A$1806,Data!$G$6:$G$1806)","v":113.5},{"$f":"LOOKUP($AO188,Data!$A$6:$A$1806,Data!$H$6:$H$1806)","v":10},{"$f":"LOOKUP($AO188,Data!$A$6:$A$1806,Data!$I$6:$I$1806)","v":0},{"$f":"LOOKUP($AO188,Data!$A$6:$A$1806,Data!$J$6:$J$1806)","v":-103},{"$f":"LOOKUP($AO188,Data!$A$6:$A$1806,Data!$K$6:$K$1806)","v":7574.91},36.8011474609375]
[null,40098.104861110907,{"$f":"LOOKUP(B189,Data!$A$6:$A$1806,Data!B$6:B$1806)","v":59.953998565673828},{"$f":"LOOKUP(B189,Data!$A$6:$A$1806,Data!C$6:C$1806)","v":3710.81005859375},null,null,null,36.8011474609375,37.245363265060689,null,null,0.58035779256491771,3779.3968740975406,{"$f":"AVERAGE(D$79:D189)","v":3772.935205957911},{"$f":"AVERAGE(M$79:M189)","v":3783.1848619854968},3741.4563903002922,{"$f":"AVERAGE(P$79:P189)","v":3709.8268906055059},633,null,null,null,null,null,null,0,633,-725.48760301672314,null,null,null,null,null,null,null,null,null,null,null,null,null,40098.104861110907,{"$f":"LOOKUP($AO189,Data!$A$6:$A$1806,Data!$B$6:$B$1806)","v":59.953998565673828},{"$f":"LOOKUP($AO189,Data!$A$6:$A$1806,Data!$C$6:$C$1806)","v":3710.81005859375},{"$f":"LOOKUP($AO189,Data!$A$6:$A$1806,Data!$D$6:$D$1806)","v":335},{"$f":"IF($AS$1=\"+\",LOOKUP($AO189,Data!$A$6:$A$1806,Data!$E$6:$E$1806)*-1,LOOKUP($AO189,Data!$A$6:$A$1806,Data!$E$6:$E$1806))","v":-227.65591430664062},{"$f":"LOOKUP($AO189,Data!$A$6:$A$1806,Data!$F$6:$F$1806)","v":0},{"$f":"LOOKUP($AO189,Data!$A$6:$A$1806,Data!$G$6:$G$1806)","v":113.5},{"$f":"LOOKUP($AO189,Data!$A$6:$A$1806,Data!$H$6:$H$1806)","v":10},{"$f":"LOOKUP($AO189,Data!$A$6:$A$1806,Data!$I$6:$I$1806)","v":0},{"$f":"LOOKUP($AO189,Data!$A$6:$A$1806,Data!$J$6:$J$1806)","v":-103},{"$f":"LOOKUP($AO189,Data!$A$6:$A$1806,Data!$K$6:$K$1806)","v":7574.91},36.8011474609375]
[null,40098.104884259054,{"$f":"LOOKUP(B190,Data!$A$6:$A$1806,Data!B$6:B$1806)","v":59.956001281738281},{"$f":"LOOKUP(B190,Data!$A$6:$A$1806,Data!C$6:C$1806)","v":3714.62255859375},null,null,null,35.198974609375,36.529127235570698,null,null,0.58035779256491771,3779.2609958606154,{"$f":"AVERAGE(D$79:D190)","v":3772.4145573207311},{"$f":"AVERAGE(M$79:M190)","v":3783.1498274665246},3742.0367480928571,{"$f":"AVERAGE(P$79:P190)","v":3710.1170695017886},633,null,null,null,null,null,null,0,633,-742.53116455979421,null,null,null,null,null,null,null,null,null,null,null,null,null,40098.104884259054,{"$f":"LOOKUP($AO190,Data!$A$6:$A$1806,Data!$B$6:$B$1806)","v":59.956001281738281},{"$f":"LOOKUP($AO190,Data!$A$6:$A$1806,Data!$C$6:$C$1806)","v":3714.62255859375},{"$f":"LOOKUP($AO190,Data!$A$6:$A$1806,Data!$D$6:$D$1806)","v":335},{"$f":"IF($AS$1=\"+\",LOOKUP($AO190,Data!$A$6:$A$1806,Data!$E$6:$E$1806)*-1,LOOKUP($AO190,Data!$A$6:$A$1806,Data!$E$6:$E$1806))","v":-227.65591430664062},{"$f":"LOOKUP($AO190,Data!$A$6:$A$1806,Data!$F$6:$F$1806)","v":0},{"$f":"LOOKUP($AO190,Data!$A$6:$A$1806,Data!$G$6:$G$1806)","v":114},{"$f":"LOOKUP($AO190,Data!$A$6:$A$1806,Data!$H$6:$H$1806)","v":10},{"$f":"LOOKUP($AO190,Data!$A$6:$A$1806,Data!$I$6:$I$1806)","v":0},{"$f":"LOOKUP($AO190,Data!$A$6:$A$1806,Data!$J$6:$J$1806)","v":-103},{"$f":"LOOKUP($AO190,Data!$A$6:$A$1806,Data!$K$6:$K$1806)","v":7575.24},35.198974609375]
[null,40098.1049074072,{"$f":"LOOKUP(B191,Data!$A$6:$A$1806,Data!B$6:B$1806)","v":59.956001281738281},{"$f":"LOOKUP(B191,Data!$A$6:$A$1806,Data!C$6:C$1806)","v":3714.62255859375},null,null,null,35.198974609375,36.063573816402204,null,null,0.58035779256491771,3779.3758002340119,{"$f":"AVERAGE(D$79:D191)","v":3771.9031237036779},{"$f":"AVERAGE(M$79:M191)","v":3783.1164289954404},3742.617105885422,{"$f":"AVERAGE(P$79:P191)","v":3710.4072483980708},633,null,null,null,null,null,null,0,633,-742.53116455979421,null,null,null,null,null,null,null,null,null,null,null,null,null,40098.1049074072,{"$f":"LOOKUP($AO191,Data!$A$6:$A$1806,Data!$B$6:$B$1806)","v":59.956001281738281},{"$f":"LOOKUP($AO191,Data!$A$6:$A$1806,Data!$C$6:$C$1806)","v":3714.62255859375},{"$f":"LOOKUP($AO191,Data!$A$6:$A$1806,Data!$D$6:$D$1806)","v":335},{"$f":"IF($AS$1=\"+\",LOOKUP($AO191,Data!$A$6:$A$1806,Data!$E$6:$E$1806)*-1,LOOKUP($AO191,Data!$A$6:$A$1806,Data!$E$6:$E$1806))","v":-227.65591430664062},{"$f":"LOOKUP($AO191,Data!$A$6:$A$1806,Data!$F$6:$F$1806)","v":0},{"$f":"LOOKUP($AO191,Data!$A$6:$A$1806,Data!$G$6:$G$1806)","v":114},{"$f":"LOOKUP($AO191,Data!$A$6:$A$1806,Data!$H$6:$H$1806)","v":10},{"$f":"LOOKUP($AO191,Data!$A$6:$A$1806,Data!$I$6:$I$1806)","v":0},{"$f":"LOOKUP($AO191,Data!$A$6:$A$1806,Data!$J$6:$J$1806)","v":-103},{"$f":"LOOKUP($AO191,Data!$A$6:$A$1806,Data!$K$6:$K$1806)","v":7575.24},35.198974609375]
[null,40098.104930555346,{"$f":"LOOKUP(B192,Data!$A$6:$A$1806,Data!B$6:B$1806)","v":59.956001281738281},{"$f":"LOOKUP(B192,Data!$A$6:$A$1806,Data!C$6:C$1806)","v":3716.46142578125},null,null,null,35.198974609375,35.760964093942682,null,null,0.58035779256491771,3779.6535483041171,{"$f":"AVERAGE(D$79:D192)","v":3771.4167930201479},{"$f":"AVERAGE(M$79:M192)","v":3783.0860528490252},3743.1974636779869,{"$f":"AVERAGE(P$79:P192)","v":3710.697427294353},633,null,null,null,null,null,null,0,633,-742.53116455979421,null,null,null,null,null,null,null,null,null,null,null,null,null,40098.104930555346,{"$f":"LOOKUP($AO192,Data!$A$6:$A$1806,Data!$B$6:$B$1806)","v":59.956001281738281},{"$f":"LOOKUP($AO192,Data!$A$6:$A$1806,Data!$C$6:$C$1806)","v":3716.46142578125},{"$f":"LOOKUP($AO192,Data!$A$6:$A$1806,Data!$D$6:$D$1806)","v":335},{"$f":"IF($AS$1=\"+\",LOOKUP($AO192,Data!$A$6:$A$1806,Data!$E$6:$E$1806)*-1,LOOKUP($AO192,Data!$A$6:$A$1806,Data!$E$6:$E$1806))","v":-225.01808166503906},{"$f":"LOOKUP($AO192,Data!$A$6:$A$1806,Data!$F$6:$F$1806)","v":0},{"$f":"LOOKUP($AO192,Data!$A$6:$A$1806,Data!$G$6:$G$1806)","v":114.5},{"$f":"LOOKUP($AO192,Data!$A$6:$A$1806,Data!$H$6:$H$1806)","v":10},{"$f":"LOOKUP($AO192,Data!$A$6:$A$1806,Data!$I$6:$I$1806)","v":0},{"$f":"LOOKUP($AO192,Data!$A$6:$A$1806,Data!$J$6:$J$1806)","v":-103},{"$f":"LOOKUP($AO192,Data!$A$6:$A$1806,Data!$K$6:$K$1806)","v":7575.57},35.198974609375]
[null,40098.104953703492,{"$f":"LOOKUP(B193,Data!$A$6:$A$1806,Data!B$6:B$1806)","v":59.956001281738281},{"$f":"LOOKUP(B193,Data!$A$6:$A$1806,Data!C$6:C$1806)","v":3716.46142578125},null,null,null,35.198974609375,35.564267774343996,null,null,0.58035779256491771,3780.0372097770833,{"$f":"AVERAGE(D$79:D193)","v":3770.9389202615489},{"$f":"AVERAGE(M$79:M193)","v":3783.0595411701393},3743.7778214705518,{"$f":"AVERAGE(P$79:P193)","v":3710.9876061906357},633,null,null,null,null,null,null,0,633,-742.53116455979421,null,null,null,null,null,null,null,null,null,null,null,null,null,40098.104953703492,{"$f":"LOOKUP($AO193,Data!$A$6:$A$1806,Data!$B$6:$B$1806)","v":59.956001281738281},{"$f":"LOOKUP($AO193,Data!$A$6:$A$1806,Data!$C$6:$C$1806)","v":3716.46142578125},{"$f":"LOOKUP($AO193,Data!$A$6:$A$1806,Data!$D$6:$D$1806)","v":335},{"$f":"IF($AS$1=\"+\",LOOKUP($AO193,Data!$A$6:$A$1806,Data!$E$6:$E$1806)*-1,LOOKUP($AO193,Data!$A$6:$A$1806,Data!$E$6:$E$1806))","v":-225.01808166503906},{"$f":"LOOKUP($AO193,Data!$A$6:$A$1806,Data!$F$6:$F$1806)","v":0},{"$f":"LOOKUP($AO193,Data!$A$6:$A$1806,Data!$G$6:$G$1806)","v":114.5},{"$f":"LOOKUP($AO193,Data!$A$6:$A$1806,Data!$H$6:$H$1806)","v":10},{"$f":"LOOKUP($AO193,Data!$A$6:$A$1806,Data!$I$6:$I$1806)","v":0},{"$f":"LOOKUP($AO193,Data!$A$6:$A$1806,Data!$J$6:$J$1806)","v":-103},{"$f":"LOOKUP($AO193,Data!$A$6:$A$1806,Data!$K$6:$K$1806)","v":7575.57},35.198974609375]
[null,40098.104976851639,{"$f":"LOOKUP(B194,Data!$A$6:$A$1806,Data!B$6:B$1806)","v":59.956001281738281},{"$f":"LOOKUP(B194,Data!$A$6:$A$1806,Data!C$6:C$1806)","v":3716.46142578125},null,null,null,35.198974609375,35.436415166604846,null,null,0.58035779256491771,3780.4897149619092,{"$f":"AVERAGE(D$79:D194)","v":3770.4692866884429},{"$f":"AVERAGE(M$79:M194)","v":3783.03738749593},3744.3581792631167,{"$f":"AVERAGE(P$79:P194)","v":3711.2777850869184},633,null,null,null,null,null,null,0,633,-742.53116455979421,null,null,null,null,null,null,null,null,null,null,null,null,null,40098.104976851639,{"$f":"LOOKUP($AO194,Data!$A$6:$A$1806,Data!$B$6:$B$1806)","v":59.956001281738281},{"$f":"LOOKUP($AO194,Data!$A$6:$A$1806,Data!$C$6:$C$1806)","v":3716.46142578125},{"$f":"LOOKUP($AO194,Data!$A$6:$A$1806,Data!$D$6:$D$1806)","v":335},{"$f":"IF($AS$1=\"+\",LOOKUP($AO194,Data!$A$6:$A$1806,Data!$E$6:$E$1806)*-1,LOOKUP($AO194,Data!$A$6:$A$1806,Data!$E$6:$E$1806))","v":-225.01808166503906},{"$f":"LOOKUP($AO194,Data!$A$6:$A$1806,Data!$F$6:$F$1806)","v":0},{"$f":"LOOKUP($AO194,Data!$A$6:$A$1806,Data!$G$6:$G$1806)","v":114.5},{"$f":"LOOKUP($AO194,Data!$A$6:$A$1806,Data!$H$6:$H$1806)","v":10},{"$f":"LOOKUP($AO194,Data!$A$6:$A$1806,Data!$I$6:$I$1806)","v":0},{"$f":"LOOKUP($AO194,Data!$A$6:$A$1806,Data!$J$6:$J$1806)","v":-103},{"$f":"LOOKUP($AO194,Data!$A$6:$A$1806,Data!$K$6:$K$1806)","v":7575.57},35.198974609375]
[null,40098.104999999785,{"$f":"LOOKUP(B195,Data!$A$6:$A$1806,Data!B$6:B$1806)","v":59.96099853515625},{"$f":"LOOKUP(B195,Data!$A$6:$A$1806,Data!C$6:C$1806)","v":3717.759033203125},null,null,null,31.201171875,33.954080014543152,null,null,0.58035779256491771,3779.5877376024123,{"$f":"AVERAGE(D$79:D195)","v":3770.0187717013887},{"$f":"AVERAGE(M$79:M195)","v":3783.0079033088064},3744.9385370556815,{"$f":"AVERAGE(P$79:P195)","v":3711.5679639832006},633,null,null,null,null,null,null,0,633,-788.76839928698757,null,null,null,null,null,null,null,null,null,null,null,null,null,40098.104999999785,{"$f":"LOOKUP($AO195,Data!$A$6:$A$1806,Data!$B$6:$B$1806)","v":59.96099853515625},{"$f":"LOOKUP($AO195,Data!$A$6:$A$1806,Data!$C$6:$C$1806)","v":3717.759033203125},{"$f":"LOOKUP($AO195,Data!$A$6:$A$1806,Data!$D$6:$D$1806)","v":335},{"$f":"IF($AS$1=\"+\",LOOKUP($AO195,Data!$A$6:$A$1806,Data!$E$6:$E$1806)*-1,LOOKUP($AO195,Data!$A$6:$A$1806,Data!$E$6:$E$1806))","v":-225.01808166503906},{"$f":"LOOKUP($AO195,Data!$A$6:$A$1806,Data!$F$6:$F$1806)","v":0},{"$f":"LOOKUP($AO195,Data!$A$6:$A$1806,Data!$G$6:$G$1806)","v":115},{"$f":"LOOKUP($AO195,Data!$A$6:$A$1806,Data!$H$6:$H$1806)","v":10},{"$f":"LOOKUP($AO195,Data!$A$6:$A$1806,Data!$I$6:$I$1806)","v":0},{"$f":"LOOKUP($AO195,Data!$A$6:$A$1806,Data!$J$6:$J$1806)","v":-103},{"$f":"LOOKUP($AO195,Data!$A$6:$A$1806,Data!$K$6:$K$1806)","v":7575.9},31.201171875]
[null,40098.105023147931,{"$f":"LOOKUP(B196,Data!$A$6:$A$1806,Data!B$6:B$1806)","v":59.96099853515625},{"$f":"LOOKUP(B196,Data!$A$6:$A$1806,Data!C$6:C$1806)","v":3717.759033203125},null,null,null,31.201171875,32.990562165703054,null,null,0.58035779256491771,3779.204577546137,{"$f":"AVERAGE(D$79:D196)","v":3769.5758925615733},{"$f":"AVERAGE(M$79:M196)","v":3782.9756717345463},3745.5188948482464,{"$f":"AVERAGE(P$79:P196)","v":3711.8581428794832},633,null,null,null,null,null,null,0,633,-788.76839928698757,null,null,null,null,null,null,null,null,null,null,null,null,null,40098.105023147931,{"$f":"LOOKUP($AO196,Data!$A$6:$A$1806,Data!$B$6:$B$1806)","v":59.96099853515625},{"$f":"LOOKUP($AO196,Data!$A$6:$A$1806,Data!$C$6:$C$1806)","v":3717.759033203125},{"$f":"LOOKUP($AO196,Data!$A$6:$A$1806,Data!$D$6:$D$1806)","v":335},{"$f":"IF($AS$1=\"+\",LOOKUP($AO196,Data!$A$6:$A$1806,Data!$E$6:$E$1806)*-1,LOOKUP($AO196,Data!$A$6:$A$1806,Data!$E$6:$E$1806))","v":-225.01808166503906},{"$f":"LOOKUP($AO196,Data!$A$6:$A$1806,Data!$F$6:$F$1806)","v":0},{"$f":"LOOKUP($AO196,Data!$A$6:$A$1806,Data!$G$6:$G$1806)","v":115},{"$f":"LOOKUP($AO196,Data!$A$6:$A$1806,Data!$H$6:$H$1806)","v":10},{"$f":"LOOKUP($AO196,Data!$A$6:$A$1806,Data!$I$6:$I$1806)","v":0},{"$f":"LOOKUP($AO196,Data!$A$6:$A$1806,Data!$J$6:$J$1806)","v":-103},{"$f":"LOOKUP($AO196,Data!$A$6:$A$1806,Data!$K$6:$K$1806)","v":7575.9},31.201171875]
[null,40098.105046296077,{"$f":"LOOKUP(B197,Data!$A$6:$A$1806,Data!B$6:B$1806)","v":59.962001800537109},{"$f":"LOOKUP(B197,Data!$A$6:$A$1806,Data!C$6:C$1806)","v":3722.657958984375},null,null,null,30.3985595703125,32.083361257316362,null,null,0.58035779256491771,3778.8777344303153,{"$f":"AVERAGE(D$79:D197)","v":3769.1816242121849},{"$f":"AVERAGE(M$79:M197)","v":3782.9412352866116},3746.0992526408113,{"$f":"AVERAGE(P$79:P197)","v":3712.1483217757655},633,null,null,null,null,null,null,0,633,-798.7540109268574,null,null,null,null,null,null,null,null,null,null,null,null,null,40098.105046296077,{"$f":"LOOKUP($AO197,Data!$A$6:$A$1806,Data!$B$6:$B$1806)","v":59.962001800537109},{"$f":"LOOKUP($AO197,Data!$A$6:$A$1806,Data!$C$6:$C$1806)","v":3722.657958984375},{"$f":"LOOKUP($AO197,Data!$A$6:$A$1806,Data!$D$6:$D$1806)","v":335},{"$f":"IF($AS$1=\"+\",LOOKUP($AO197,Data!$A$6:$A$1806,Data!$E$6:$E$1806)*-1,LOOKUP($AO197,Data!$A$6:$A$1806,Data!$E$6:$E$1806))","v":-225.01808166503906},{"$f":"LOOKUP($AO197,Data!$A$6:$A$1806,Data!$F$6:$F$1806)","v":0},{"$f":"LOOKUP($AO197,Data!$A$6:$A$1806,Data!$G$6:$G$1806)","v":115.5},{"$f":"LOOKUP($AO197,Data!$A$6:$A$1806,Data!$H$6:$H$1806)","v":10},{"$f":"LOOKUP($AO197,Data!$A$6:$A$1806,Data!$I$6:$I$1806)","v":0},{"$f":"LOOKUP($AO197,Data!$A$6:$A$1806,Data!$J$6:$J$1806)","v":-103},{"$f":"LOOKUP($AO197,Data!$A$6:$A$1806,Data!$K$6:$K$1806)","v":7576.23},30.3985595703125]
[null,40098.105069444224,{"$f":"LOOKUP(B198,Data!$A$6:$A$1806,Data!B$6:B$1806)","v":59.962001800537109},{"$f":"LOOKUP(B198,Data!$A$6:$A$1806,Data!C$6:C$1806)","v":3722.657958984375},null,null,null,30.3985595703125,31.493680666865011,null,null,0.58035779256491771,3778.8684116324289,{"$f":"AVERAGE(D$79:D198)","v":3768.7939270019533},{"$f":"AVERAGE(M$79:M198)","v":3782.9072950894933},3746.6796104333762,{"$f":"AVERAGE(P$79:P198)","v":3712.4385006720477},633,null,null,null,null,null,null,0,633,-798.7540109268574,null,null,null,null,null,null,null,null,null,null,null,null,null,40098.105069444224,{"$f":"LOOKUP($AO198,Data!$A$6:$A$1806,Data!$B$6:$B$1806)","v":59.962001800537109},{"$f":"LOOKUP($AO198,Data!$A$6:$A$1806,Data!$C$6:$C$1806)","v":3722.657958984375},{"$f":"LOOKUP($AO198,Data!$A$6:$A$1806,Data!$D$6:$D$1806)","v":335},{"$f":"IF($AS$1=\"+\",LOOKUP($AO198,Data!$A$6:$A$1806,Data!$E$6:$E$1806)*-1,LOOKUP($AO198,Data!$A$6:$A$1806,Data!$E$6:$E$1806))","v":-225.01808166503906},{"$f":"LOOKUP($AO198,Data!$A$6:$A$1806,Data!$F$6:$F$1806)","v":0},{"$f":"LOOKUP($AO198,Data!$A$6:$A$1806,Data!$G$6:$G$1806)","v":115.5},{"$f":"LOOKUP($AO198,Data!$A$6:$A$1806,Data!$H$6:$H$1806)","v":10},{"$f":"LOOKUP($AO198,Data!$A$6:$A$1806,Data!$I$6:$I$1806)","v":0},{"$f":"LOOKUP($AO198,Data!$A$6:$A$1806,Data!$J$6:$J$1806)","v":-103},{"$f":"LOOKUP($AO198,Data!$A$6:$A$1806,Data!$K$6:$K$1806)","v":7576.23},30.3985595703125]
[null,40098.10509259237,{"$f":"LOOKUP(B199,Data!$A$6:$A$1806,Data!B$6:B$1806)","v":59.962001800537109},{"$f":"LOOKUP(B199,Data!$A$6:$A$1806,Data!C$6:C$1806)","v":3722.657958984375},null,null,null,30.3985595703125,31.110388283071632,null,null,0.58035779256491771,3779.0654770412002,{"$f":"AVERAGE(D$79:D199)","v":3768.4126380100724},{"$f":"AVERAGE(M$79:M199)","v":3782.8755445271108},3747.2599682259411,{"$f":"AVERAGE(P$79:P199)","v":3712.7286795683303},633,null,null,null,null,null,null,0,633,-798.7540109268574,null,null,null,null,null,null,null,null,null,null,null,null,null,40098.10509259237,{"$f":"LOOKUP($AO199,Data!$A$6:$A$1806,Data!$B$6:$B$1806)","v":59.962001800537109},{"$f":"LOOKUP($AO199,Data!$A$6:$A$1806,Data!$C$6:$C$1806)","v":3722.657958984375},{"$f":"LOOKUP($AO199,Data!$A$6:$A$1806,Data!$D$6:$D$1806)","v":335},{"$f":"IF($AS$1=\"+\",LOOKUP($AO199,Data!$A$6:$A$1806,Data!$E$6:$E$1806)*-1,LOOKUP($AO199,Data!$A$6:$A$1806,Data!$E$6:$E$1806))","v":-225.01808166503906},{"$f":"LOOKUP($AO199,Data!$A$6:$A$1806,Data!$F$6:$F$1806)","v":0},{"$f":"LOOKUP($AO199,Data!$A$6:$A$1806,Data!$G$6:$G$1806)","v":115.5},{"$f":"LOOKUP($AO199,Data!$A$6:$A$1806,Data!$H$6:$H$1806)","v":10},{"$f":"LOOKUP($AO199,Data!$A$6:$A$1806,Data!$I$6:$I$1806)","v":0},{"$f":"LOOKUP($AO199,Data!$A$6:$A$1806,Data!$J$6:$J$1806)","v":-103},{"$f":"LOOKUP($AO199,Data!$A$6:$A$1806,Data!$K$6:$K$1806)","v":7576.23},30.3985595703125]
[null,40098.105115740516,{"$f":"LOOKUP(B200,Data!$A$6:$A$1806,Data!B$6:B$1806)","v":59.965999603271484},{"$f":"LOOKUP(B200,Data!$A$6:$A$1806,Data!C$6:C$1806)","v":3722.277587890625},null,null,null,27.2003173828125,29.741863467980938,null,null,0.58035779256491771,3778.2773100186746,{"$f":"AVERAGE(D$79:D200)","v":3768.0344818615522},{"$f":"AVERAGE(M$79:M200)","v":3782.8378540803201},3747.8403260185059,{"$f":"AVERAGE(P$79:P200)","v":3713.0188584646125},633,null,null,null,null,null,null,0,633,-841.18901984639956,null,null,null,null,null,null,null,null,null,null,null,null,null,40098.105115740516,{"$f":"LOOKUP($AO200,Data!$A$6:$A$1806,Data!$B$6:$B$1806)","v":59.965999603271484},{"$f":"LOOKUP($AO200,Data!$A$6:$A$1806,Data!$C$6:$C$1806)","v":3722.277587890625},{"$f":"LOOKUP($AO200,Data!$A$6:$A$1806,Data!$D$6:$D$1806)","v":335},{"$f":"IF($AS$1=\"+\",LOOKUP($AO200,Data!$A$6:$A$1806,Data!$E$6:$E$1806)*-1,LOOKUP($AO200,Data!$A$6:$A$1806,Data!$E$6:$E$1806))","v":-225.01808166503906},{"$f":"LOOKUP($AO200,Data!$A$6:$A$1806,Data!$F$6:$F$1806)","v":0},{"$f":"LOOKUP($AO200,Data!$A$6:$A$1806,Data!$G$6:$G$1806)","v":116},{"$f":"LOOKUP($AO200,Data!$A$6:$A$1806,Data!$H$6:$H$1806)","v":10},{"$f":"LOOKUP($AO200,Data!$A$6:$A$1806,Data!$I$6:$I$1806)","v":0},{"$f":"LOOKUP($AO200,Data!$A$6:$A$1806,Data!$J$6:$J$1806)","v":-103},{"$f":"LOOKUP($AO200,Data!$A$6:$A$1806,Data!$K$6:$K$1806)","v":7576.56},27.2003173828125]
[null,40098.105138888663,{"$f":"LOOKUP(B201,Data!$A$6:$A$1806,Data!B$6:B$1806)","v":59.965999603271484},{"$f":"LOOKUP(B201,Data!$A$6:$A$1806,Data!C$6:C$1806)","v":3722.277587890625},null,null,null,27.2003173828125,28.852322338171984,null,null,0.58035779256491771,3777.9681266814305,{"$f":"AVERAGE(D$79:D201)","v":3767.662474593496},{"$f":"AVERAGE(M$79:M201)","v":3782.7982628006544},3748.4206838110708,{"$f":"AVERAGE(P$79:P201)","v":3713.3090373608952},633,null,null,null,null,null,null,0,633,-841.18901984639956,null,null,null,null,null,null,null,null,null,null,null,null,null,40098.105138888663,{"$f":"LOOKUP($AO201,Data!$A$6:$A$1806,Data!$B$6:$B$1806)","v":59.965999603271484},{"$f":"LOOKUP($AO201,Data!$A$6:$A$1806,Data!$C$6:$C$1806)","v":3722.277587890625},{"$f":"LOOKUP($AO201,Data!$A$6:$A$1806,Data!$D$6:$D$1806)","v":335},{"$f":"IF($AS$1=\"+\",LOOKUP($AO201,Data!$A$6:$A$1806,Data!$E$6:$E$1806)*-1,LOOKUP($AO201,Data!$A$6:$A$1806,Data!$E$6:$E$1806))","v":-225.01808166503906},{"$f":"LOOKUP($AO201,Data!$A$6:$A$1806,Data!$F$6:$F$1806)","v":0},{"$f":"LOOKUP($AO201,Data!$A$6:$A$1806,Data!$G$6:$G$1806)","v":116},{"$f":"LOOKUP($AO201,Data!$A$6:$A$1806,Data!$H$6:$H$1806)","v":10},{"$f":"LOOKUP($AO201,Data!$A$6:$A$1806,Data!$I$6:$I$1806)","v":0},{"$f":"LOOKUP($AO201,Data!$A$6:$A$1806,Data!$J$6:$J$1806)","v":-103},{"$f":"LOOKUP($AO201,Data!$A$6:$A$1806,Data!$K$6:$K$1806)","v":7576.56},27.2003173828125]
[null,40098.105162036809,{"$f":"LOOKUP(B202,Data!$A$6:$A$1806,Data!B$6:B$1806)","v":59.970001220703125},{"$f":"LOOKUP(B202,Data!$A$6:$A$1806,Data!C$6:C$1806)","v":3723.98388671875},null,null,null,23.9990234375,27.153667722936792,null,null,0.58035779256491771,3776.8498298587601,{"$f":"AVERAGE(D$79:D202)","v":3767.3102279170866},{"$f":"AVERAGE(M$79:M202)","v":3782.7502915672521},3749.0010416036357,{"$f":"AVERAGE(P$79:P202)","v":3713.5992162571774},633,null,null,null,null,null,null,0,633,-888.43341989024225,null,null,null,null,null,null,null,null,null,null,null,null,null,40098.105162036809,{"$f":"LOOKUP($AO202,Data!$A$6:$A$1806,Data!$B$6:$B$1806)","v":59.970001220703125},{"$f":"LOOKUP($AO202,Data!$A$6:$A$1806,Data!$C$6:$C$1806)","v":3723.98388671875},{"$f":"LOOKUP($AO202,Data!$A$6:$A$1806,Data!$D$6:$D$1806)","v":335},{"$f":"IF($AS$1=\"+\",LOOKUP($AO202,Data!$A$6:$A$1806,Data!$E$6:$E$1806)*-1,LOOKUP($AO202,Data!$A$6:$A$1806,Data!$E$6:$E$1806))","v":-225.01808166503906},{"$f":"LOOKUP($AO202,Data!$A$6:$A$1806,Data!$F$6:$F$1806)","v":0},{"$f":"LOOKUP($AO202,Data!$A$6:$A$1806,Data!$G$6:$G$1806)","v":116.5},{"$f":"LOOKUP($AO202,Data!$A$6:$A$1806,Data!$H$6:$H$1806)","v":10},{"$f":"LOOKUP($AO202,Data!$A$6:$A$1806,Data!$I$6:$I$1806)","v":0},{"$f":"LOOKUP($AO202,Data!$A$6:$A$1806,Data!$J$6:$J$1806)","v":-103},{"$f":"LOOKUP($AO202,Data!$A$6:$A$1806,Data!$K$6:$K$1806)","v":7576.89},23.9990234375]
[null,40098.105185184955,{"$f":"LOOKUP(B203,Data!$A$6:$A$1806,Data!B$6:B$1806)","v":59.970001220703125},{"$f":"LOOKUP(B203,Data!$A$6:$A$1806,Data!C$6:C$1806)","v":3723.98388671875},null,null,null,23.9990234375,26.049542223033914,null,null,0.58035779256491771,3776.3260621514223,{"$f":"AVERAGE(D$79:D203)","v":3766.9636171874999},{"$f":"AVERAGE(M$79:M203)","v":3782.6988977319252},3749.5813993962006,{"$f":"AVERAGE(P$79:P203)","v":3713.8893951534596},633,null,null,null,null,null,null,0,633,-888.43341989024225,null,null,null,null,null,null,null,null,null,null,null,null,null,40098.105185184955,{"$f":"LOOKUP($AO203,Data!$A$6:$A$1806,Data!$B$6:$B$1806)","v":59.970001220703125},{"$f":"LOOKUP($AO203,Data!$A$6:$A$1806,Data!$C$6:$C$1806)","v":3723.98388671875},{"$f":"LOOKUP($AO203,Data!$A$6:$A$1806,Data!$D$6:$D$1806)","v":335},{"$f":"IF($AS$1=\"+\",LOOKUP($AO203,Data!$A$6:$A$1806,Data!$E$6:$E$1806)*-1,LOOKUP($AO203,Data!$A$6:$A$1806,Data!$E$6:$E$1806))","v":-225.01808166503906},{"$f":"LOOKUP($AO203,Data!$A$6:$A$1806,Data!$F$6:$F$1806)","v":0},{"$f":"LOOKUP($AO203,Data!$A$6:$A$1806,Data!$G$6:$G$1806)","v":116.5},{"$f":"LOOKUP($AO203,Data!$A$6:$A$1806,Data!$H$6:$H$1806)","v":10},{"$f":"LOOKUP($AO203,Data!$A$6:$A$1806,Data!$I$6:$I$1806)","v":0},{"$f":"LOOKUP($AO203,Data!$A$6:$A$1806,Data!$J$6:$J$1806)","v":-103},{"$f":"LOOKUP($AO203,Data!$A$6:$A$1806,Data!$K$6:$K$1806)","v":7576.89},23.9990234375]
[null,40098.105208333101,{"$f":"LOOKUP(B204,Data!$A$6:$A$1806,Data!B$6:B$1806)","v":59.970001220703125},{"$f":"LOOKUP(B204,Data!$A$6:$A$1806,Data!C$6:C$1806)","v":3723.98388671875},null,null,null,23.9990234375,25.331860648097045,null,null,0.58035779256491771,3776.1887383690505,{"$f":"AVERAGE(D$79:D204)","v":3766.6225082155256},{"$f":"AVERAGE(M$79:M204)","v":3782.6472298004737},3750.1617571887655,{"$f":"AVERAGE(P$79:P204)","v":3714.1795740497423},633,null,null,null,null,null,null,0,633,-888.43341989024225,null,null,null,null,null,null,null,null,null,null,null,null,null,40098.105208333101,{"$f":"LOOKUP($AO204,Data!$A$6:$A$1806,Data!$B$6:$B$1806)","v":59.970001220703125},{"$f":"LOOKUP($AO204,Data!$A$6:$A$1806,Data!$C$6:$C$1806)","v":3723.98388671875},{"$f":"LOOKUP($AO204,Data!$A$6:$A$1806,Data!$D$6:$D$1806)","v":335},{"$f":"IF($AS$1=\"+\",LOOKUP($AO204,Data!$A$6:$A$1806,Data!$E$6:$E$1806)*-1,LOOKUP($AO204,Data!$A$6:$A$1806,Data!$E$6:$E$1806))","v":-225.01808166503906},{"$f":"LOOKUP($AO204,Data!$A$6:$A$1806,Data!$F$6:$F$1806)","v":0},{"$f":"LOOKUP($AO204,Data!$A$6:$A$1806,Data!$G$6:$G$1806)","v":116.5},{"$f":"LOOKUP($AO204,Data!$A$6:$A$1806,Data!$H$6:$H$1806)","v":10},{"$f":"LOOKUP($AO204,Data!$A$6:$A$1806,Data!$I$6:$I$1806)","v":0},{"$f":"LOOKUP($AO204,Data!$A$6:$A$1806,Data!$J$6:$J$1806)","v":-103},{"$f":"LOOKUP($AO204,Data!$A$6:$A$1806,Data!$K$6:$K$1806)","v":7576.89},23.9990234375]
[null,40098.105231481248,{"$f":"LOOKUP(B205,Data!$A$6:$A$1806,Data!B$6:B$1806)","v":59.969001770019531},{"$f":"LOOKUP(B205,Data!$A$6:$A$1806,Data!C$6:C$1806)","v":3723.89306640625},null,null,null,24.798583984375,25.145213815794332,null,null,0.58035779256491771,3776.5824493293126,{"$f":"AVERAGE(D$79:D205)","v":3766.2860559178148},{"$f":"AVERAGE(M$79:M205)","v":3782.5994756235355},3750.7421149813304,{"$f":"AVERAGE(P$79:P205)","v":3714.469752946025},633,null,null,null,null,null,null,0,633,-876.14325615776556,null,null,null,null,null,null,null,null,null,null,null,null,null,40098.105231481248,{"$f":"LOOKUP($AO205,Data!$A$6:$A$1806,Data!$B$6:$B$1806)","v":59.969001770019531},{"$f":"LOOKUP($AO205,Data!$A$6:$A$1806,Data!$C$6:$C$1806)","v":3723.89306640625},{"$f":"LOOKUP($AO205,Data!$A$6:$A$1806,Data!$D$6:$D$1806)","v":335},{"$f":"IF($AS$1=\"+\",LOOKUP($AO205,Data!$A$6:$A$1806,Data!$E$6:$E$1806)*-1,LOOKUP($AO205,Data!$A$6:$A$1806,Data!$E$6:$E$1806))","v":-228.36515808105469},{"$f":"LOOKUP($AO205,Data!$A$6:$A$1806,Data!$F$6:$F$1806)","v":0},{"$f":"LOOKUP($AO205,Data!$A$6:$A$1806,Data!$G$6:$G$1806)","v":117},{"$f":"LOOKUP($AO205,Data!$A$6:$A$1806,Data!$H$6:$H$1806)","v":10},{"$f":"LOOKUP($AO205,Data!$A$6:$A$1806,Data!$I$6:$I$1806)","v":0},{"$f":"LOOKUP($AO205,Data!$A$6:$A$1806,Data!$J$6:$J$1806)","v":-103},{"$f":"LOOKUP($AO205,Data!$A$6:$A$1806,Data!$K$6:$K$1806)","v":7577.22},24.798583984375]
[null,40098.105254629394,{"$f":"LOOKUP(B206,Data!$A$6:$A$1806,Data!B$6:B$1806)","v":59.969001770019531},{"$f":"LOOKUP(B206,Data!$A$6:$A$1806,Data!C$6:C$1806)","v":3723.89306640625},null,null,null,24.798583984375,25.023893374797566,null,null,0.58035779256491771,3777.0414866808806,{"$f":"AVERAGE(D$79:D206)","v":3765.9548606872559},{"$f":"AVERAGE(M$79:M206)","v":3782.5560538349209},3751.3224727738952,{"$f":"AVERAGE(P$79:P206)","v":3714.7599318423077},633,null,null,null,null,null,null,0,633,-876.14325615776556,null,null,null,null,null,null,null,null,null,null,null,null,null,40098.105254629394,{"$f":"LOOKUP($AO206,Data!$A$6:$A$1806,Data!$B$6:$B$1806)","v":59.969001770019531},{"$f":"LOOKUP($AO206,Data!$A$6:$A$1806,Data!$C$6:$C$1806)","v":3723.89306640625},{"$f":"LOOKUP($AO206,Data!$A$6:$A$1806,Data!$D$6:$D$1806)","v":335},{"$f":"IF($AS$1=\"+\",LOOKUP($AO206,Data!$A$6:$A$1806,Data!$E$6:$E$1806)*-1,LOOKUP($AO206,Data!$A$6:$A$1806,Data!$E$6:$E$1806))","v":-228.36515808105469},{"$f":"LOOKUP($AO206,Data!$A$6:$A$1806,Data!$F$6:$F$1806)","v":0},{"$f":"LOOKUP($AO206,Data!$A$6:$A$1806,Data!$G$6:$G$1806)","v":117},{"$f":"LOOKUP($AO206,Data!$A$6:$A$1806,Data!$H$6:$H$1806)","v":10},{"$f":"LOOKUP($AO206,Data!$A$6:$A$1806,Data!$I$6:$I$1806)","v":0},{"$f":"LOOKUP($AO206,Data!$A$6:$A$1806,Data!$J$6:$J$1806)","v":-103},{"$f":"LOOKUP($AO206,Data!$A$6:$A$1806,Data!$K$6:$K$1806)","v":7577.22},24.798583984375]
[null,40098.10527777754,{"$f":"LOOKUP(B207,Data!$A$6:$A$1806,Data!B$6:B$1806)","v":59.970001220703125},{"$f":"LOOKUP(B207,Data!$A$6:$A$1806,Data!C$6:C$1806)","v":3728.052978515625},null,null,null,23.9990234375,24.66518889674342,null,null,0.58035779256491771,3777.2631399953912,{"$f":"AVERAGE(D$79:D207)","v":3765.6610476471656},{"$f":"AVERAGE(M$79:M207)","v":3782.5150234950797},3751.9028305664601,{"$f":"AVERAGE(P$79:P207)","v":3715.0501107385899},633,null,null,null,null,null,null,0,633,-888.43341989024225,null,null,null,null,null,null,null,null,null,null,null,null,null,40098.10527777754,{"$f":"LOOKUP($AO207,Data!$A$6:$A$1806,Data!$B$6:$B$1806)","v":59.970001220703125},{"$f":"LOOKUP($AO207,Data!$A$6:$A$1806,Data!$C$6:$C$1806)","v":3728.052978515625},{"$f":"LOOKUP($AO207,Data!$A$6:$A$1806,Data!$D$6:$D$1806)","v":335},{"$f":"IF($AS$1=\"+\",LOOKUP($AO207,Data!$A$6:$A$1806,Data!$E$6:$E$1806)*-1,LOOKUP($AO207,Data!$A$6:$A$1806,Data!$E$6:$E$1806))","v":-228.36515808105469},{"$f":"LOOKUP($AO207,Data!$A$6:$A$1806,Data!$F$6:$F$1806)","v":0},{"$f":"LOOKUP($AO207,Data!$A$6:$A$1806,Data!$G$6:$G$1806)","v":117.5},{"$f":"LOOKUP($AO207,Data!$A$6:$A$1806,Data!$H$6:$H$1806)","v":10},{"$f":"LOOKUP($AO207,Data!$A$6:$A$1806,Data!$I$6:$I$1806)","v":0},{"$f":"LOOKUP($AO207,Data!$A$6:$A$1806,Data!$J$6:$J$1806)","v":-103},{"$f":"LOOKUP($AO207,Data!$A$6:$A$1806,Data!$K$6:$K$1806)","v":7577.55},23.9990234375]
[null,40098.105300925687,{"$f":"LOOKUP(B208,Data!$A$6:$A$1806,Data!B$6:B$1806)","v":59.970001220703125},{"$f":"LOOKUP(B208,Data!$A$6:$A$1806,Data!C$6:C$1806)","v":3728.052978515625},null,null,null,23.9990234375,24.432030986008222,null,null,{"$f":"IF(B208>G$3,0,(K$21*0.000023148/K$22))","v":0.58035779256491771},{"$f":"M207+L208+(I208-I207)","v":3777.6103398772207},{"$f":"AVERAGE(D$79:D208)","v":3765.3717548076925},{"$f":"AVERAGE(M$79:M208)","v":3782.4772951595573},3752.483188359025,{"$f":"AVERAGE(P$79:P208)","v":3715.3402896348721},633,null,null,null,null,null,null,0,633,{"$f":"Z208/((C208-G$4)*10)","v":-888.43341989024225},null,null,null,null,null,null,null,null,null,null,null,null,null,40098.105300925687,{"$f":"LOOKUP($AO208,Data!$A$6:$A$1806,Data!$B$6:$B$1806)","v":59.970001220703125},{"$f":"LOOKUP($AO208,Data!$A$6:$A$1806,Data!$C$6:$C$1806)","v":3728.052978515625},{"$f":"LOOKUP($AO208,Data!$A$6:$A$1806,Data!$D$6:$D$1806)","v":335},{"$f":"IF($AS$1=\"+\",LOOKUP($AO208,Data!$A$6:$A$1806,Data!$E$6:$E$1806)*-1,LOOKUP($AO208,Data!$A$6:$A$1806,Data!$E$6:$E$1806))","v":-228.36515808105469},{"$f":"LOOKUP($AO208,Data!$A$6:$A$1806,Data!$F$6:$F$1806)","v":0},{"$f":"LOOKUP($AO208,Data!$A$6:$A$1806,Data!$G$6:$G$1806)","v":117.5},{"$f":"LOOKUP($AO208,Data!$A$6:$A$1806,Data!$H$6:$H$1806)","v":10},{"$f":"LOOKUP($AO208,Data!$A$6:$A$1806,Data!$I$6:$I$1806)","v":0},{"$f":"LOOKUP($AO208,Data!$A$6:$A$1806,Data!$J$6:$J$1806)","v":-103},{"$f":"LOOKUP($AO208,Data!$A$6:$A$1806,Data!$K$6:$K$1806)","v":7577.55},23.9990234375]
[null,40098.105324073833,{"$f":"LOOKUP(B209,Data!$A$6:$A$1806,Data!B$6:B$1806)","v":59.970001220703125},{"$f":"LOOKUP(B209,Data!$A$6:$A$1806,Data!C$6:C$1806)","v":3728.052978515625},null,null,null,23.9990234375,24.280478344030342,null,null,0.58035779256491771,3778.0391450278075,{"$f":"AVERAGE(D$79:D209)","v":3765.0868786527913},{"$f":"AVERAGE(M$79:M209)","v":3782.443416150918},3753.0635461515899,{"$f":"AVERAGE(P$79:P209)","v":3715.6304685311543},{"$f":"R$41","v":633},null,null,null,null,null,null,0,633,-888.43341989024225,null,null,null,null,null,null,null,null,null,null,null,null,null,{"$f":"AO208+TIME(0,0,$B$1)","v":40098.105324073833},{"$f":"LOOKUP($AO209,Data!$A$6:$A$1806,Data!$B$6:$B$1806)","v":59.970001220703125},{"$f":"LOOKUP($AO209,Data!$A$6:$A$1806,Data!$C$6:$C$1806)","v":3728.052978515625},{"$f":"LOOKUP($AO209,Data!$A$6:$A$1806,Data!$D$6:$D$1806)","v":335},{"$f":"IF($AS$1=\"+\",LOOKUP($AO209,Data!$A$6:$A$1806,Data!$E$6:$E$1806)*-1,LOOKUP($AO209,Data!$A$6:$A$1806,Data!$E$6:$E$1806))","v":-228.36515808105469},{"$f":"LOOKUP($AO209,Data!$A$6:$A$1806,Data!$F$6:$F$1806)","v":0},{"$f":"LOOKUP($AO209,Data!$A$6:$A$1806,Data!$G$6:$G$1806)","v":117.5},{"$f":"LOOKUP($AO209,Data!$A$6:$A$1806,Data!$H$6:$H$1806)","v":10},{"$f":"LOOKUP($AO209,Data!$A$6:$A$1806,Data!$I$6:$I$1806)","v":0},{"$f":"LOOKUP($AO209,Data!$A$6:$A$1806,Data!$J$6:$J$1806)","v":-103},{"$f":"LOOKUP($AO209,Data!$A$6:$A$1806,Data!$K$6:$K$1806)","v":7577.55},23.9990234375]
[null,40098.105347221979,{"$f":"LOOKUP(B210,Data!$A$6:$A$1806,Data!B$6:B$1806)","v":59.972999572753906},{"$f":"LOOKUP(B210,Data!$A$6:$A$1806,Data!C$6:C$1806)","v":3732.530029296875},null,null,null,21.600341796875,23.342430552525972,null,null,0.58035779256491771,3777.6814550288682,{"$f":"AVERAGE(D$79:D210)","v":3764.84023585464},{"$f":"AVERAGE(M$79:M210)","v":3782.4073406878724},{"$f":"P209+L210","v":3753.6439039441548},{"$f":"AVERAGE(P$79:P210)","v":3715.920647427437},633,null,null,null,null,null,null,0,633,-927.46361121202801,null,null,null,null,null,null,null,null,null,null,null,null,null,40098.105347221979,{"$f":"LOOKUP($AO210,Data!$A$6:$A$1806,Data!$B$6:$B$1806)","v":59.972999572753906},{"$f":"LOOKUP($AO210,Data!$A$6:$A$1806,Data!$C$6:$C$1806)","v":3732.530029296875},{"$f":"LOOKUP($AO210,Data!$A$6:$A$1806,Data!$D$6:$D$1806)","v":335},{"$f":"IF($AS$1=\"+\",LOOKUP($AO210,Data!$A$6:$A$1806,Data!$E$6:$E$1806)*-1,LOOKUP($AO210,Data!$A$6:$A$1806,Data!$E$6:$E$1806))","v":-228.36515808105469},{"$f":"LOOKUP($AO210,Data!$A$6:$A$1806,Data!$F$6:$F$1806)","v":0},{"$f":"LOOKUP($AO210,Data!$A$6:$A$1806,Data!$G$6:$G$1806)","v":118},{"$f":"LOOKUP($AO210,Data!$A$6:$A$1806,Data!$H$6:$H$1806)","v":10},{"$f":"LOOKUP($AO210,Data!$A$6:$A$1806,Data!$I$6:$I$1806)","v":0},{"$f":"LOOKUP($AO210,Data!$A$6:$A$1806,Data!$J$6:$J$1806)","v":-103},{"$f":"LOOKUP($AO210,Data!$A$6:$A$1806,Data!$K$6:$K$1806)","v":7577.88},21.600341796875]
[null,40098.105370370125,{"$f":"LOOKUP(B211,Data!$A$6:$A$1806,Data!B$6:B$1806)","v":59.972999572753906},{"$f":"LOOKUP(B211,Data!$A$6:$A$1806,Data!C$6:C$1806)","v":3732.530029296875},null,null,null,21.600341796875,22.73269948804813,null,null,0.58035779256491771,3777.6520817569553,{"$f":"AVERAGE(D$79:D211)","v":3764.5973019707471},{"$f":"AVERAGE(M$79:M211)","v":3782.3715868613244},3754.2242617367197,{"$f":"AVERAGE(P$79:P211)","v":3716.2108263237196},633,null,null,null,null,null,null,0,633,-927.46361121202801,null,null,null,null,null,null,null,null,null,null,null,null,null,40098.105370370125,{"$f":"LOOKUP($AO211,Data!$A$6:$A$1806,Data!$B$6:$B$1806)","v":59.972999572753906},{"$f":"LOOKUP($AO211,Data!$A$6:$A$1806,Data!$C$6:$C$1806)","v":3732.530029296875},{"$f":"LOOKUP($AO211,Data!$A$6:$A$1806,Data!$D$6:$D$1806)","v":335},{"$f":"IF($AS$1=\"+\",LOOKUP($AO211,Data!$A$6:$A$1806,Data!$E$6:$E$1806)*-1,LOOKUP($AO211,Data!$A$6:$A$1806,Data!$E$6:$E$1806))","v":-228.36515808105469},{"$f":"LOOKUP($AO211,Data!$A$6:$A$1806,Data!$F$6:$F$1806)","v":0},{"$f":"LOOKUP($AO211,Data!$A$6:$A$1806,Data!$G$6:$G$1806)","v":118},{"$f":"LOOKUP($AO211,Data!$A$6:$A$1806,Data!$H$6:$H$1806)","v":10},{"$f":"LOOKUP($AO211,Data!$A$6:$A$1806,Data!$I$6:$I$1806)","v":0},{"$f":"LOOKUP($AO211,Data!$A$6:$A$1806,Data!$J$6:$J$1806)","v":-103},{"$f":"LOOKUP($AO211,Data!$A$6:$A$1806,Data!$K$6:$K$1806)","v":7577.88},21.600341796875]
[null,40098.105393518272,{"$f":"LOOKUP(B212,Data!$A$6:$A$1806,Data!B$6:B$1806)","v":59.978000640869141},{"$f":"LOOKUP(B212,Data!$A$6:$A$1806,Data!C$6:C$1806)","v":3736.907470703125},null,null,null,17.5994873046875,20.93607522387191,null,null,0.58035779256491771,3776.4358152853438,{"$f":"AVERAGE(D$79:D212)","v":3764.3906614388993},{"$f":"AVERAGE(M$79:M212)","v":3782.3272900585189},3754.8046195292845,{"$f":"AVERAGE(P$79:P212)","v":3716.5010052200018},633,null,null,null,null,null,null,0,633,-1000.7970326588462,null,null,null,null,null,null,null,null,null,null,null,null,null,40098.105393518272,{"$f":"LOOKUP($AO212,Data!$A$6:$A$1806,Data!$B$6:$B$1806)","v":59.978000640869141},{"$f":"LOOKUP($AO212,Data!$A$6:$A$1806,Data!$C$6:$C$1806)","v":3736.907470703125},{"$f":"LOOKUP($AO212,Data!$A$6:$A$1806,Data!$D$6:$D$1806)","v":335},{"$f":"IF($AS$1=\"+\",LOOKUP($AO212,Data!$A$6:$A$1806,Data!$E$6:$E$1806)*-1,LOOKUP($AO212,Data!$A$6:$A$1806,Data!$E$6:$E$1806))","v":-228.36515808105469},{"$f":"LOOKUP($AO212,Data!$A$6:$A$1806,Data!$F$6:$F$1806)","v":0},{"$f":"LOOKUP($AO212,Data!$A$6:$A$1806,Data!$G$6:$G$1806)","v":118.5},{"$f":"LOOKUP($AO212,Data!$A$6:$A$1806,Data!$H$6:$H$1806)","v":10},{"$f":"LOOKUP($AO212,Data!$A$6:$A$1806,Data!$I$6:$I$1806)","v":0},{"$f":"LOOKUP($AO212,Data!$A$6:$A$1806,Data!$J$6:$J$1806)","v":-103},{"$f":"LOOKUP($AO212,Data!$A$6:$A$1806,Data!$K$6:$K$1806)","v":7578.21},17.5994873046875]
[null,40098.105416666418,{"$f":"LOOKUP(B213,Data!$A$6:$A$1806,Data!B$6:B$1806)","v":59.978000640869141},{"$f":"LOOKUP(B213,Data!$A$6:$A$1806,Data!C$6:C$1806)","v":3736.907470703125},null,null,null,17.5994873046875,19.768269452157369,null,null,0.58035779256491771,3775.8483673061942,{"$f":"AVERAGE(D$79:D213)","v":3764.1870822482638},{"$f":"AVERAGE(M$79:M213)","v":3782.2792980381309},3755.3849773218494,{"$f":"AVERAGE(P$79:P213)","v":3716.7911841162845},633,null,null,null,null,null,null,0,633,-1000.7970326588462,null,null,null,null,null,null,null,null,null,null,null,null,null,40098.105416666418,{"$f":"LOOKUP($AO213,Data!$A$6:$A$1806,Data!$B$6:$B$1806)","v":59.978000640869141},{"$f":"LOOKUP($AO213,Data!$A$6:$A$1806,Data!$C$6:$C$1806)","v":3736.907470703125},{"$f":"LOOKUP($AO213,Data!$A$6:$A$1806,Data!$D$6:$D$1806)","v":335},{"$f":"IF($AS$1=\"+\",LOOKUP($AO213,Data!$A$6:$A$1806,Data!$E$6:$E$1806)*-1,LOOKUP($AO213,Data!$A$6:$A$1806,Data!$E$6:$E$1806))","v":-228.36515808105469},{"$f":"LOOKUP($AO213,Data!$A$6:$A$1806,Data!$F$6:$F$1806)","v":0},{"$f":"LOOKUP($AO213,Data!$A$6:$A$1806,Data!$G$6:$G$1806)","v":118.5},{"$f":"LOOKUP($AO213,Data!$A$6:$A$1806,Data!$H$6:$H$1806)","v":10},{"$f":"LOOKUP($AO213,Data!$A$6:$A$1806,Data!$I$6:$I$1806)","v":0},{"$f":"LOOKUP($AO213,Data!$A$6:$A$1806,Data!$J$6:$J$1806)","v":-103},{"$f":"LOOKUP($AO213,Data!$A$6:$A$1806,Data!$K$6:$K$1806)","v":7578.21},17.5994873046875]
[null,40098.105439814564,{"$f":"LOOKUP(B214,Data!$A$6:$A$1806,Data!B$6:B$1806)","v":59.978000640869141},{"$f":"LOOKUP(B214,Data!$A$6:$A$1806,Data!C$6:C$1806)","v":3736.907470703125},null,null,null,17.5994873046875,19.009195700542918,null,null,0.58035779256491771,3775.6696513471447,{"$f":"AVERAGE(D$79:D214)","v":3763.9864968692555},{"$f":"AVERAGE(M$79:M214)","v":3782.2306976948148},3755.9653351144143,{"$f":"AVERAGE(P$79:P214)","v":3717.0813630125667},633,null,null,null,null,null,null,0,633,-1000.7970326588462,null,null,null,null,null,null,null,null,null,null,null,null,null,40098.105439814564,{"$f":"LOOKUP($AO214,Data!$A$6:$A$1806,Data!$B$6:$B$1806)","v":59.978000640869141},{"$f":"LOOKUP($AO214,Data!$A$6:$A$1806,Data!$C$6:$C$1806)","v":3736.907470703125},{"$f":"LOOKUP($AO214,Data!$A$6:$A$1806,Data!$D$6:$D$1806)","v":335},{"$f":"IF($AS$1=\"+\",LOOKUP($AO214,Data!$A$6:$A$1806,Data!$E$6:$E$1806)*-1,LOOKUP($AO214,Data!$A$6:$A$1806,Data!$E$6:$E$1806))","v":-228.36515808105469},{"$f":"LOOKUP($AO214,Data!$A$6:$A$1806,Data!$F$6:$F$1806)","v":0},{"$f":"LOOKUP($AO214,Data!$A$6:$A$1806,Data!$G$6:$G$1806)","v":118.5},{"$f":"LOOKUP($AO214,Data!$A$6:$A$1806,Data!$H$6:$H$1806)","v":10},{"$f":"LOOKUP($AO214,Data!$A$6:$A$1806,Data!$I$6:$I$1806)","v":0},{"$f":"LOOKUP($AO214,Data!$A$6:$A$1806,Data!$J$6:$J$1806)","v":-103},{"$f":"LOOKUP($AO214,Data!$A$6:$A$1806,Data!$K$6:$K$1806)","v":7578.21},17.5994873046875]
[null,40098.105462962711,{"$f":"LOOKUP(B215,Data!$A$6:$A$1806,Data!B$6:B$1806)","v":59.978000640869141},{"$f":"LOOKUP(B215,Data!$A$6:$A$1806,Data!C$6:C$1806)","v":3738.69921875},null,null,null,17.5994873046875,18.515797761993522,null,null,0.58035779256491771,3775.75661120116,{"$f":"AVERAGE(D$79:D215)","v":3763.8019181968521},{"$f":"AVERAGE(M$79:M215)","v":3782.1834415890216},3756.5456929069792,{"$f":"AVERAGE(P$79:P215)","v":3717.3715419088494},633,null,null,null,null,null,null,0,633,-1000.7970326588462,null,null,null,null,null,null,null,null,null,null,null,null,null,40098.105462962711,{"$f":"LOOKUP($AO215,Data!$A$6:$A$1806,Data!$B$6:$B$1806)","v":59.978000640869141},{"$f":"LOOKUP($AO215,Data!$A$6:$A$1806,Data!$C$6:$C$1806)","v":3738.69921875},{"$f":"LOOKUP($AO215,Data!$A$6:$A$1806,Data!$D$6:$D$1806)","v":335},{"$f":"IF($AS$1=\"+\",LOOKUP($AO215,Data!$A$6:$A$1806,Data!$E$6:$E$1806)*-1,LOOKUP($AO215,Data!$A$6:$A$1806,Data!$E$6:$E$1806))","v":-228.36515808105469},{"$f":"LOOKUP($AO215,Data!$A$6:$A$1806,Data!$F$6:$F$1806)","v":0},{"$f":"LOOKUP($AO215,Data!$A$6:$A$1806,Data!$G$6:$G$1806)","v":119},{"$f":"LOOKUP($AO215,Data!$A$6:$A$1806,Data!$H$6:$H$1806)","v":10},{"$f":"LOOKUP($AO215,Data!$A$6:$A$1806,Data!$I$6:$I$1806)","v":0},{"$f":"LOOKUP($AO215,Data!$A$6:$A$1806,Data!$J$6:$J$1806)","v":-103},{"$f":"LOOKUP($AO215,Data!$A$6:$A$1806,Data!$K$6:$K$1806)","v":7578.54},17.5994873046875]
[null,40098.105486110857,{"$f":"LOOKUP(B216,Data!$A$6:$A$1806,Data!B$6:B$1806)","v":59.978000640869141},{"$f":"LOOKUP(B216,Data!$A$6:$A$1806,Data!C$6:C$1806)","v":3738.69921875},null,null,null,17.5994873046875,18.195089101936414,null,null,0.58035779256491771,3776.0162603336676,{"$f":"AVERAGE(D$79:D216)","v":3763.620014577672},{"$f":"AVERAGE(M$79:M216)","v":3782.1387518697798},3757.1260506995441,{"$f":"AVERAGE(P$79:P216)","v":3717.6617208051321},633,null,null,null,null,null,null,0,633,-1000.7970326588462,null,null,null,null,null,null,null,null,null,null,null,null,null,40098.105486110857,{"$f":"LOOKUP($AO216,Data!$A$6:$A$1806,Data!$B$6:$B$1806)","v":59.978000640869141},{"$f":"LOOKUP($AO216,Data!$A$6:$A$1806,Data!$C$6:$C$1806)","v":3738.69921875},{"$f":"LOOKUP($AO216,Data!$A$6:$A$1806,Data!$D$6:$D$1806)","v":335},{"$f":"IF($AS$1=\"+\",LOOKUP($AO216,Data!$A$6:$A$1806,Data!$E$6:$E$1806)*-1,LOOKUP($AO216,Data!$A$6:$A$1806,Data!$E$6:$E$1806))","v":-228.36515808105469},{"$f":"LOOKUP($AO216,Data!$A$6:$A$1806,Data!$F$6:$F$1806)","v":0},{"$f":"LOOKUP($AO216,Data!$A$6:$A$1806,Data!$G$6:$G$1806)","v":119},{"$f":"LOOKUP($AO216,Data!$A$6:$A$1806,Data!$H$6:$H$1806)","v":10},{"$f":"LOOKUP($AO216,Data!$A$6:$A$1806,Data!$I$6:$I$1806)","v":0},{"$f":"LOOKUP($AO216,Data!$A$6:$A$1806,Data!$J$6:$J$1806)","v":-103},{"$f":"LOOKUP($AO216,Data!$A$6:$A$1806,Data!$K$6:$K$1806)","v":7578.54},17.5994873046875]
[null,40098.105509259003,{"$f":"LOOKUP(B217,Data!$A$6:$A$1806,Data!B$6:B$1806)","v":59.978000640869141},{"$f":"LOOKUP(B217,Data!$A$6:$A$1806,Data!C$6:C$1806)","v":3741.793701171875},null,null,null,17.5994873046875,17.986628472899294,null,null,0.58035779256491771,3776.3881574971952,{"$f":"AVERAGE(D$79:D217)","v":3763.4629907402204},{"$f":"AVERAGE(M$79:M217)","v":3782.097380687243},3757.7064084921089,{"$f":"AVERAGE(P$79:P217)","v":3717.9518997014143},633,null,null,null,null,null,null,0,633,-1000.7970326588462,null,null,null,null,null,null,null,null,null,null,null,null,null,40098.105509259003,{"$f":"LOOKUP($AO217,Data!$A$6:$A$1806,Data!$B$6:$B$1806)","v":59.978000640869141},{"$f":"LOOKUP($AO217,Data!$A$6:$A$1806,Data!$C$6:$C$1806)","v":3741.793701171875},{"$f":"LOOKUP($AO217,Data!$A$6:$A$1806,Data!$D$6:$D$1806)","v":335},{"$f":"IF($AS$1=\"+\",LOOKUP($AO217,Data!$A$6:$A$1806,Data!$E$6:$E$1806)*-1,LOOKUP($AO217,Data!$A$6:$A$1806,Data!$E$6:$E$1806))","v":-234.07533264160156},{"$f":"LOOKUP($AO217,Data!$A$6:$A$1806,Data!$F$6:$F$1806)","v":0},{"$f":"LOOKUP($AO217,Data!$A$6:$A$1806,Data!$G$6:$G$1806)","v":119.5},{"$f":"LOOKUP($AO217,Data!$A$6:$A$1806,Data!$H$6:$H$1806)","v":10},{"$f":"LOOKUP($AO217,Data!$A$6:$A$1806,Data!$I$6:$I$1806)","v":0},{"$f":"LOOKUP($AO217,Data!$A$6:$A$1806,Data!$J$6:$J$1806)","v":-103},{"$f":"LOOKUP($AO217,Data!$A$6:$A$1806,Data!$K$6:$K$1806)","v":7578.87},17.5994873046875]
[null,40098.105532407149,{"$f":"LOOKUP(B218,Data!$A$6:$A$1806,Data!B$6:B$1806)","v":59.978000640869141},{"$f":"LOOKUP(B218,Data!$A$6:$A$1806,Data!C$6:C$1806)","v":3741.793701171875},null,null,null,17.5994873046875,17.851129064025166,null,null,0.58035779256491771,3776.8330158808858,{"$f":"AVERAGE(D$79:D218)","v":3763.3082101004466},{"$f":"AVERAGE(M$79:M218)","v":3782.0597780814837},3758.2867662846738,{"$f":"AVERAGE(P$79:P218)","v":3718.2420785976969},633,null,null,null,null,null,null,0,633,-1000.7970326588462,null,null,null,null,null,null,null,null,null,null,null,null,null,40098.105532407149,{"$f":"LOOKUP($AO218,Data!$A$6:$A$1806,Data!$B$6:$B$1806)","v":59.978000640869141},{"$f":"LOOKUP($AO218,Data!$A$6:$A$1806,Data!$C$6:$C$1806)","v":3741.793701171875},{"$f":"LOOKUP($AO218,Data!$A$6:$A$1806,Data!$D$6:$D$1806)","v":335},{"$f":"IF($AS$1=\"+\",LOOKUP($AO218,Data!$A$6:$A$1806,Data!$E$6:$E$1806)*-1,LOOKUP($AO218,Data!$A$6:$A$1806,Data!$E$6:$E$1806))","v":-234.07533264160156},{"$f":"LOOKUP($AO218,Data!$A$6:$A$1806,Data!$F$6:$F$1806)","v":0},{"$f":"LOOKUP($AO218,Data!$A$6:$A$1806,Data!$G$6:$G$1806)","v":119.5},{"$f":"LOOKUP($AO218,Data!$A$6:$A$1806,Data!$H$6:$H$1806)","v":10},{"$f":"LOOKUP($AO218,Data!$A$6:$A$1806,Data!$I$6:$I$1806)","v":0},{"$f":"LOOKUP($AO218,Data!$A$6:$A$1806,Data!$J$6:$J$1806)","v":-103},{"$f":"LOOKUP($AO218,Data!$A$6:$A$1806,Data!$K$6:$K$1806)","v":7578.87},17.5994873046875]
[null,40098.105555555296,{"$f":"LOOKUP(B219,Data!$A$6:$A$1806,Data!B$6:B$1806)","v":59.978000640869141},{"$f":"LOOKUP(B219,Data!$A$6:$A$1806,Data!C$6:C$1806)","v":3741.793701171875},null,null,null,17.5994873046875,17.763054448256984,null,null,0.58035779256491771,3777.3252990576825,{"$f":"AVERAGE(D$79:D219)","v":3763.15562493074},{"$f":"AVERAGE(M$79:M219)","v":3782.0262002160662},3758.8671240772387,{"$f":"AVERAGE(P$79:P219)","v":3718.5322574939792},633,null,null,null,null,null,null,0,633,-1000.7970326588462,null,null,null,null,null,null,null,null,null,null,null,null,null,40098.105555555296,{"$f":"LOOKUP($AO219,Data!$A$6:$A$1806,Data!$B$6:$B$1806)","v":59.978000640869141},{"$f":"LOOKUP($AO219,Data!$A$6:$A$1806,Data!$C$6:$C$1806)","v":3741.793701171875},{"$f":"LOOKUP($AO219,Data!$A$6:$A$1806,Data!$D$6:$D$1806)","v":335},{"$f":"IF($AS$1=\"+\",LOOKUP($AO219,Data!$A$6:$A$1806,Data!$E$6:$E$1806)*-1,LOOKUP($AO219,Data!$A$6:$A$1806,Data!$E$6:$E$1806))","v":-234.07533264160156},{"$f":"LOOKUP($AO219,Data!$A$6:$A$1806,Data!$F$6:$F$1806)","v":0},{"$f":"LOOKUP($AO219,Data!$A$6:$A$1806,Data!$G$6:$G$1806)","v":119.5},{"$f":"LOOKUP($AO219,Data!$A$6:$A$1806,Data!$H$6:$H$1806)","v":10},{"$f":"LOOKUP($AO219,Data!$A$6:$A$1806,Data!$I$6:$I$1806)","v":0},{"$f":"LOOKUP($AO219,Data!$A$6:$A$1806,Data!$J$6:$J$1806)","v":-103},{"$f":"LOOKUP($AO219,Data!$A$6:$A$1806,Data!$K$6:$K$1806)","v":7578.87},17.5994873046875]
[null,40098.105578703442,{"$f":"LOOKUP(B220,Data!$A$6:$A$1806,Data!B$6:B$1806)","v":59.981998443603516},{"$f":"LOOKUP(B220,Data!$A$6:$A$1806,Data!C$6:C$1806)","v":3746.60791015625},null,null,null,14.4012451171875,16.586421182382665,null,null,0.58035779256491771,3776.729023584373,{"$f":"AVERAGE(D$79:D220)","v":3763.0390917281029},{"$f":"AVERAGE(M$79:M220)","v":3781.9888961552797},3759.4474818698036,{"$f":"AVERAGE(P$79:P220)","v":3718.8224363902614},633,null,null,null,null,null,null,0,633,-1068.3222404635442,null,null,null,null,null,null,null,null,null,null,null,null,null,40098.105578703442,{"$f":"LOOKUP($AO220,Data!$A$6:$A$1806,Data!$B$6:$B$1806)","v":59.981998443603516},{"$f":"LOOKUP($AO220,Data!$A$6:$A$1806,Data!$C$6:$C$1806)","v":3746.60791015625},{"$f":"LOOKUP($AO220,Data!$A$6:$A$1806,Data!$D$6:$D$1806)","v":335},{"$f":"IF($AS$1=\"+\",LOOKUP($AO220,Data!$A$6:$A$1806,Data!$E$6:$E$1806)*-1,LOOKUP($AO220,Data!$A$6:$A$1806,Data!$E$6:$E$1806))","v":-234.07533264160156},{"$f":"LOOKUP($AO220,Data!$A$6:$A$1806,Data!$F$6:$F$1806)","v":0},{"$f":"LOOKUP($AO220,Data!$A$6:$A$1806,Data!$G$6:$G$1806)","v":120},{"$f":"LOOKUP($AO220,Data!$A$6:$A$1806,Data!$H$6:$H$1806)","v":10},{"$f":"LOOKUP($AO220,Data!$A$6:$A$1806,Data!$I$6:$I$1806)","v":0},{"$f":"LOOKUP($AO220,Data!$A$6:$A$1806,Data!$J$6:$J$1806)","v":-103},{"$f":"LOOKUP($AO220,Data!$A$6:$A$1806,Data!$K$6:$K$1806)","v":7579.2},14.4012451171875]
[null,40098.105601851588,{"$f":"LOOKUP(B221,Data!$A$6:$A$1806,Data!B$6:B$1806)","v":59.981998443603516},{"$f":"LOOKUP(B221,Data!$A$6:$A$1806,Data!C$6:C$1806)","v":3746.60791015625},null,null,null,14.4012451171875,15.821609559564358,null,null,0.58035779256491771,3776.5445697541195,{"$f":"AVERAGE(D$79:D221)","v":3762.9241883604677},{"$f":"AVERAGE(M$79:M221)","v":3781.9508239426846},3760.0278396623685,{"$f":"AVERAGE(P$79:P221)","v":3719.112615286544},633,null,null,null,null,null,null,0,633,-1068.3222404635442,null,null,null,null,null,null,null,null,null,null,null,null,null,40098.105601851588,{"$f":"LOOKUP($AO221,Data!$A$6:$A$1806,Data!$B$6:$B$1806)","v":59.981998443603516},{"$f":"LOOKUP($AO221,Data!$A$6:$A$1806,Data!$C$6:$C$1806)","v":3746.60791015625},{"$f":"LOOKUP($AO221,Data!$A$6:$A$1806,Data!$D$6:$D$1806)","v":335},{"$f":"IF($AS$1=\"+\",LOOKUP($AO221,Data!$A$6:$A$1806,Data!$E$6:$E$1806)*-1,LOOKUP($AO221,Data!$A$6:$A$1806,Data!$E$6:$E$1806))","v":-234.07533264160156},{"$f":"LOOKUP($AO221,Data!$A$6:$A$1806,Data!$F$6:$F$1806)","v":0},{"$f":"LOOKUP($AO221,Data!$A$6:$A$1806,Data!$G$6:$G$1806)","v":120},{"$f":"LOOKUP($AO221,Data!$A$6:$A$1806,Data!$H$6:$H$1806)","v":10},{"$f":"LOOKUP($AO221,Data!$A$6:$A$1806,Data!$I$6:$I$1806)","v":0},{"$f":"LOOKUP($AO221,Data!$A$6:$A$1806,Data!$J$6:$J$1806)","v":-103},{"$f":"LOOKUP($AO221,Data!$A$6:$A$1806,Data!$K$6:$K$1806)","v":7579.2},14.4012451171875]
[null,40098.105624999735,{"$f":"LOOKUP(B222,Data!$A$6:$A$1806,Data!B$6:B$1806)","v":59.979999542236328},{"$f":"LOOKUP(B222,Data!$A$6:$A$1806,Data!C$6:C$1806)","v":3751.5576171875},null,null,null,16.0003662109375,15.884174387544958,null,null,0.58035779256491771,3777.187492374665,{"$f":"AVERAGE(D$79:D222)","v":3762.8452538384331},{"$f":"AVERAGE(M$79:M222)","v":3781.9177452512399},3760.6081974549334,{"$f":"AVERAGE(P$79:P222)","v":3719.4027941828263},633,null,null,null,null,null,null,0,633,-1033.4578021362065,null,null,null,null,null,null,null,null,null,null,null,null,null,40098.105624999735,{"$f":"LOOKUP($AO222,Data!$A$6:$A$1806,Data!$B$6:$B$1806)","v":59.979999542236328},{"$f":"LOOKUP($AO222,Data!$A$6:$A$1806,Data!$C$6:$C$1806)","v":3751.5576171875},{"$f":"LOOKUP($AO222,Data!$A$6:$A$1806,Data!$D$6:$D$1806)","v":335},{"$f":"IF($AS$1=\"+\",LOOKUP($AO222,Data!$A$6:$A$1806,Data!$E$6:$E$1806)*-1,LOOKUP($AO222,Data!$A$6:$A$1806,Data!$E$6:$E$1806))","v":-234.07533264160156},{"$f":"LOOKUP($AO222,Data!$A$6:$A$1806,Data!$F$6:$F$1806)","v":0},{"$f":"LOOKUP($AO222,Data!$A$6:$A$1806,Data!$G$6:$G$1806)","v":120.5},{"$f":"LOOKUP($AO222,Data!$A$6:$A$1806,Data!$H$6:$H$1806)","v":10},{"$f":"LOOKUP($AO222,Data!$A$6:$A$1806,Data!$I$6:$I$1806)","v":0},{"$f":"LOOKUP($AO222,Data!$A$6:$A$1806,Data!$J$6:$J$1806)","v":-103},{"$f":"LOOKUP($AO222,Data!$A$6:$A$1806,Data!$K$6:$K$1806)","v":7579.53},16.0003662109375]
[null,40098.105648147881,{"$f":"LOOKUP(B223,Data!$A$6:$A$1806,Data!B$6:B$1806)","v":59.979999542236328},{"$f":"LOOKUP(B223,Data!$A$6:$A$1806,Data!C$6:C$1806)","v":3751.5576171875},null,null,null,16.0003662109375,15.924841525732347,null,null,0.58035779256491771,3777.8085173054174,{"$f":"AVERAGE(D$79:D223)","v":3762.7674080684269},{"$f":"AVERAGE(M$79:M223)","v":3781.8894057481652},3761.1885552474982,{"$f":"AVERAGE(P$79:P223)","v":3719.6929730791089},633,null,null,null,null,null,null,0,633,-1033.4578021362065,null,null,null,null,null,null,null,null,null,null,null,null,null,40098.105648147881,{"$f":"LOOKUP($AO223,Data!$A$6:$A$1806,Data!$B$6:$B$1806)","v":59.979999542236328},{"$f":"LOOKUP($AO223,Data!$A$6:$A$1806,Data!$C$6:$C$1806)","v":3751.5576171875},{"$f":"LOOKUP($AO223,Data!$A$6:$A$1806,Data!$D$6:$D$1806)","v":335},{"$f":"IF($AS$1=\"+\",LOOKUP($AO223,Data!$A$6:$A$1806,Data!$E$6:$E$1806)*-1,LOOKUP($AO223,Data!$A$6:$A$1806,Data!$E$6:$E$1806))","v":-234.07533264160156},{"$f":"LOOKUP($AO223,Data!$A$6:$A$1806,Data!$F$6:$F$1806)","v":0},{"$f":"LOOKUP($AO223,Data!$A$6:$A$1806,Data!$G$6:$G$1806)","v":120.5},{"$f":"LOOKUP($AO223,Data!$A$6:$A$1806,Data!$H$6:$H$1806)","v":10},{"$f":"LOOKUP($AO223,Data!$A$6:$A$1806,Data!$I$6:$I$1806)","v":0},{"$f":"LOOKUP($AO223,Data!$A$6:$A$1806,Data!$J$6:$J$1806)","v":-103},{"$f":"LOOKUP($AO223,Data!$A$6:$A$1806,Data!$K$6:$K$1806)","v":7579.53},16.0003662109375]
[null,40098.105671296027,{"$f":"LOOKUP(B224,Data!$A$6:$A$1806,Data!B$6:B$1806)","v":59.979999542236328},{"$f":"LOOKUP(B224,Data!$A$6:$A$1806,Data!C$6:C$1806)","v":3751.5576171875},null,null,null,16.0003662109375,15.951275165554151,null,null,0.58035779256491771,3778.415308737804,{"$f":"AVERAGE(D$79:D224)","v":3762.6906286788312},{"$f":"AVERAGE(M$79:M224)","v":3781.8656105631626},3761.7689130400631,{"$f":"AVERAGE(P$79:P224)","v":3719.9831519753911},633,null,null,null,null,null,null,0,633,-1033.4578021362065,null,null,null,null,null,null,null,null,null,null,null,null,null,40098.105671296027,{"$f":"LOOKUP($AO224,Data!$A$6:$A$1806,Data!$B$6:$B$1806)","v":59.979999542236328},{"$f":"LOOKUP($AO224,Data!$A$6:$A$1806,Data!$C$6:$C$1806)","v":3751.5576171875},{"$f":"LOOKUP($AO224,Data!$A$6:$A$1806,Data!$D$6:$D$1806)","v":335},{"$f":"IF($AS$1=\"+\",LOOKUP($AO224,Data!$A$6:$A$1806,Data!$E$6:$E$1806)*-1,LOOKUP($AO224,Data!$A$6:$A$1806,Data!$E$6:$E$1806))","v":-234.07533264160156},{"$f":"LOOKUP($AO224,Data!$A$6:$A$1806,Data!$F$6:$F$1806)","v":0},{"$f":"LOOKUP($AO224,Data!$A$6:$A$1806,Data!$G$6:$G$1806)","v":120.5},{"$f":"LOOKUP($AO224,Data!$A$6:$A$1806,Data!$H$6:$H$1806)","v":10},{"$f":"LOOKUP($AO224,Data!$A$6:$A$1806,Data!$I$6:$I$1806)","v":0},{"$f":"LOOKUP($AO224,Data!$A$6:$A$1806,Data!$J$6:$J$1806)","v":-103},{"$f":"LOOKUP($AO224,Data!$A$6:$A$1806,Data!$K$6:$K$1806)","v":7579.53},16.0003662109375]
[null,40098.105694444173,{"$f":"LOOKUP(B225,Data!$A$6:$A$1806,Data!B$6:B$1806)","v":59.979000091552734},{"$f":"LOOKUP(B225,Data!$A$6:$A$1806,Data!C$6:C$1806)","v":3755.5986328125},null,null,null,16.7999267578125,16.248303222844573,null,null,0.58035779256491771,3779.2926945876593,{"$f":"AVERAGE(D$79:D225)","v":3762.6423838089922},{"$f":"AVERAGE(M$79:M225)","v":3781.8481077333972},3762.349270832628,{"$f":"AVERAGE(P$79:P225)","v":3720.2733308716738},633,null,null,null,null,null,null,0,633,-1016.8652265833257,null,null,null,null,null,null,null,null,null,null,null,null,null,40098.105694444173,{"$f":"LOOKUP($AO225,Data!$A$6:$A$1806,Data!$B$6:$B$1806)","v":59.979000091552734},{"$f":"LOOKUP($AO225,Data!$A$6:$A$1806,Data!$C$6:$C$1806)","v":3755.5986328125},{"$f":"LOOKUP($AO225,Data!$A$6:$A$1806,Data!$D$6:$D$1806)","v":335},{"$f":"IF($AS$1=\"+\",LOOKUP($AO225,Data!$A$6:$A$1806,Data!$E$6:$E$1806)*-1,LOOKUP($AO225,Data!$A$6:$A$1806,Data!$E$6:$E$1806))","v":-234.07533264160156},{"$f":"LOOKUP($AO225,Data!$A$6:$A$1806,Data!$F$6:$F$1806)","v":0},{"$f":"LOOKUP($AO225,Data!$A$6:$A$1806,Data!$G$6:$G$1806)","v":121},{"$f":"LOOKUP($AO225,Data!$A$6:$A$1806,Data!$H$6:$H$1806)","v":10},{"$f":"LOOKUP($AO225,Data!$A$6:$A$1806,Data!$I$6:$I$1806)","v":0},{"$f":"LOOKUP($AO225,Data!$A$6:$A$1806,Data!$J$6:$J$1806)","v":-103},{"$f":"LOOKUP($AO225,Data!$A$6:$A$1806,Data!$K$6:$K$1806)","v":7579.86},16.7999267578125]
[null,40098.10571759232,{"$f":"LOOKUP(B226,Data!$A$6:$A$1806,Data!B$6:B$1806)","v":59.979000091552734},{"$f":"LOOKUP(B226,Data!$A$6:$A$1806,Data!C$6:C$1806)","v":3755.5986328125},null,null,null,16.7999267578125,16.441371460083346,null,null,0.58035779256491771,3780.0661206174627,{"$f":"AVERAGE(D$79:D226)","v":3762.5947908968537},{"$f":"AVERAGE(M$79:M226)","v":3781.8360672799108},3762.9296286251929,{"$f":"AVERAGE(P$79:P226)","v":3720.563509767956},633,null,null,null,null,null,null,0,633,-1016.8652265833257,null,null,null,null,null,null,null,null,null,null,null,null,null,40098.10571759232,{"$f":"LOOKUP($AO226,Data!$A$6:$A$1806,Data!$B$6:$B$1806)","v":59.979000091552734},{"$f":"LOOKUP($AO226,Data!$A$6:$A$1806,Data!$C$6:$C$1806)","v":3755.5986328125},{"$f":"LOOKUP($AO226,Data!$A$6:$A$1806,Data!$D$6:$D$1806)","v":335},{"$f":"IF($AS$1=\"+\",LOOKUP($AO226,Data!$A$6:$A$1806,Data!$E$6:$E$1806)*-1,LOOKUP($AO226,Data!$A$6:$A$1806,Data!$E$6:$E$1806))","v":-234.07533264160156},{"$f":"LOOKUP($AO226,Data!$A$6:$A$1806,Data!$F$6:$F$1806)","v":0},{"$f":"LOOKUP($AO226,Data!$A$6:$A$1806,Data!$G$6:$G$1806)","v":121},{"$f":"LOOKUP($AO226,Data!$A$6:$A$1806,Data!$H$6:$H$1806)","v":10},{"$f":"LOOKUP($AO226,Data!$A$6:$A$1806,Data!$I$6:$I$1806)","v":0},{"$f":"LOOKUP($AO226,Data!$A$6:$A$1806,Data!$J$6:$J$1806)","v":-103},{"$f":"LOOKUP($AO226,Data!$A$6:$A$1806,Data!$K$6:$K$1806)","v":7579.86},16.7999267578125]
[null,40098.105740740466,{"$f":"LOOKUP(B227,Data!$A$6:$A$1806,Data!B$6:B$1806)","v":59.983001708984375},{"$f":"LOOKUP(B227,Data!$A$6:$A$1806,Data!C$6:C$1806)","v":3760.4052734375},null,null,null,13.5986328125,15.446412933429174,null,null,0.58035779256491771,3779.6515198833736,{"$f":"AVERAGE(D$79:D227)","v":3762.5800961488044},{"$f":"AVERAGE(M$79:M227)","v":3781.821405887988},3763.5099864177578,{"$f":"AVERAGE(P$79:P227)","v":3720.8536886642382},633,null,null,null,null,null,null,0,633,-1086.7228920396869,null,null,null,null,null,null,null,null,null,null,null,null,null,40098.105740740466,{"$f":"LOOKUP($AO227,Data!$A$6:$A$1806,Data!$B$6:$B$1806)","v":59.983001708984375},{"$f":"LOOKUP($AO227,Data!$A$6:$A$1806,Data!$C$6:$C$1806)","v":3760.4052734375},{"$f":"LOOKUP($AO227,Data!$A$6:$A$1806,Data!$D$6:$D$1806)","v":335},{"$f":"IF($AS$1=\"+\",LOOKUP($AO227,Data!$A$6:$A$1806,Data!$E$6:$E$1806)*-1,LOOKUP($AO227,Data!$A$6:$A$1806,Data!$E$6:$E$1806))","v":-234.07533264160156},{"$f":"LOOKUP($AO227,Data!$A$6:$A$1806,Data!$F$6:$F$1806)","v":0},{"$f":"LOOKUP($AO227,Data!$A$6:$A$1806,Data!$G$6:$G$1806)","v":121.5},{"$f":"LOOKUP($AO227,Data!$A$6:$A$1806,Data!$H$6:$H$1806)","v":10},{"$f":"LOOKUP($AO227,Data!$A$6:$A$1806,Data!$I$6:$I$1806)","v":0},{"$f":"LOOKUP($AO227,Data!$A$6:$A$1806,Data!$J$6:$J$1806)","v":-103},{"$f":"LOOKUP($AO227,Data!$A$6:$A$1806,Data!$K$6:$K$1806)","v":7580.19},13.5986328125]
[null,40098.105763888612,{"$f":"LOOKUP(B228,Data!$A$6:$A$1806,Data!B$6:B$1806)","v":59.983001708984375},{"$f":"LOOKUP(B228,Data!$A$6:$A$1806,Data!C$6:C$1806)","v":3760.4052734375},null,null,null,13.5986328125,14.799689891103963,null,null,0.58035779256491771,3779.5851546336135,{"$f":"AVERAGE(D$79:D228)","v":3762.5655973307294},{"$f":"AVERAGE(M$79:M228)","v":3781.8064975462926},3764.0903442103227,{"$f":"AVERAGE(P$79:P228)","v":3721.14386756052},633,null,null,null,null,null,null,0,633,-1086.7228920396869,null,null,null,null,null,null,null,null,null,null,null,null,null,40098.105763888612,{"$f":"LOOKUP($AO228,Data!$A$6:$A$1806,Data!$B$6:$B$1806)","v":59.983001708984375},{"$f":"LOOKUP($AO228,Data!$A$6:$A$1806,Data!$C$6:$C$1806)","v":3760.4052734375},{"$f":"LOOKUP($AO228,Data!$A$6:$A$1806,Data!$D$6:$D$1806)","v":335},{"$f":"IF($AS$1=\"+\",LOOKUP($AO228,Data!$A$6:$A$1806,Data!$E$6:$E$1806)*-1,LOOKUP($AO228,Data!$A$6:$A$1806,Data!$E$6:$E$1806))","v":-234.07533264160156},{"$f":"LOOKUP($AO228,Data!$A$6:$A$1806,Data!$F$6:$F$1806)","v":0},{"$f":"LOOKUP($AO228,Data!$A$6:$A$1806,Data!$G$6:$G$1806)","v":121.5},{"$f":"LOOKUP($AO228,Data!$A$6:$A$1806,Data!$H$6:$H$1806)","v":10},{"$f":"LOOKUP($AO228,Data!$A$6:$A$1806,Data!$I$6:$I$1806)","v":0},{"$f":"LOOKUP($AO228,Data!$A$6:$A$1806,Data!$J$6:$J$1806)","v":-103},{"$f":"LOOKUP($AO228,Data!$A$6:$A$1806,Data!$K$6:$K$1806)","v":7580.19},13.5986328125]
[null,40098.105787036759,{"$f":"LOOKUP(B229,Data!$A$6:$A$1806,Data!B$6:B$1806)","v":59.983001708984375},{"$f":"LOOKUP(B229,Data!$A$6:$A$1806,Data!C$6:C$1806)","v":3760.4052734375},null,null,null,13.5986328125,14.379319913592576,null,null,0.58035779256491771,3779.7451424486671,{"$f":"AVERAGE(D$79:D229)","v":3762.5512905499795},{"$f":"AVERAGE(M$79:M229)","v":3781.7928461880301},3764.6707020028875,{"$f":"AVERAGE(P$79:P229)","v":3721.4340464568031},633,null,null,null,null,null,null,0,633,-1086.7228920396869,null,null,null,null,null,null,null,null,null,null,null,null,null,40098.105787036759,{"$f":"LOOKUP($AO229,Data!$A$6:$A$1806,Data!$B$6:$B$1806)","v":59.983001708984375},{"$f":"LOOKUP($AO229,Data!$A$6:$A$1806,Data!$C$6:$C$1806)","v":3760.4052734375},{"$f":"LOOKUP($AO229,Data!$A$6:$A$1806,Data!$D$6:$D$1806)","v":335},{"$f":"IF($AS$1=\"+\",LOOKUP($AO229,Data!$A$6:$A$1806,Data!$E$6:$E$1806)*-1,LOOKUP($AO229,Data!$A$6:$A$1806,Data!$E$6:$E$1806))","v":-234.07533264160156},{"$f":"LOOKUP($AO229,Data!$A$6:$A$1806,Data!$F$6:$F$1806)","v":0},{"$f":"LOOKUP($AO229,Data!$A$6:$A$1806,Data!$G$6:$G$1806)","v":121.5},{"$f":"LOOKUP($AO229,Data!$A$6:$A$1806,Data!$H$6:$H$1806)","v":10},{"$f":"LOOKUP($AO229,Data!$A$6:$A$1806,Data!$I$6:$I$1806)","v":0},{"$f":"LOOKUP($AO229,Data!$A$6:$A$1806,Data!$J$6:$J$1806)","v":-103},{"$f":"LOOKUP($AO229,Data!$A$6:$A$1806,Data!$K$6:$K$1806)","v":7580.19},13.5986328125]
[null,40098.105810184905,{"$f":"LOOKUP(B230,Data!$A$6:$A$1806,Data!B$6:B$1806)","v":59.988998413085937},{"$f":"LOOKUP(B230,Data!$A$6:$A$1806,Data!C$6:C$1806)","v":3761.406982421875},null,null,null,8.80126953125,12.427002279772674,null,null,0.58035779256491771,3778.3731826074122,{"$f":"AVERAGE(D$79:D230)","v":3762.5437622070312},{"$f":"AVERAGE(M$79:M230)","v":3781.7703484013159},3765.2510597954524,{"$f":"AVERAGE(P$79:P230)","v":3721.7242253530858},633,null,null,null,null,null,null,0,633,-1211.4411534951635,null,null,null,null,null,null,null,null,null,null,null,null,null,40098.105810184905,{"$f":"LOOKUP($AO230,Data!$A$6:$A$1806,Data!$B$6:$B$1806)","v":59.988998413085937},{"$f":"LOOKUP($AO230,Data!$A$6:$A$1806,Data!$C$6:$C$1806)","v":3761.406982421875},{"$f":"LOOKUP($AO230,Data!$A$6:$A$1806,Data!$D$6:$D$1806)","v":335},{"$f":"IF($AS$1=\"+\",LOOKUP($AO230,Data!$A$6:$A$1806,Data!$E$6:$E$1806)*-1,LOOKUP($AO230,Data!$A$6:$A$1806,Data!$E$6:$E$1806))","v":-228.79815673828125},{"$f":"LOOKUP($AO230,Data!$A$6:$A$1806,Data!$F$6:$F$1806)","v":0},{"$f":"LOOKUP($AO230,Data!$A$6:$A$1806,Data!$G$6:$G$1806)","v":122},{"$f":"LOOKUP($AO230,Data!$A$6:$A$1806,Data!$H$6:$H$1806)","v":10},{"$f":"LOOKUP($AO230,Data!$A$6:$A$1806,Data!$I$6:$I$1806)","v":0},{"$f":"LOOKUP($AO230,Data!$A$6:$A$1806,Data!$J$6:$J$1806)","v":-103},{"$f":"LOOKUP($AO230,Data!$A$6:$A$1806,Data!$K$6:$K$1806)","v":7580.52},8.80126953125]
[null,40098.105833333051,{"$f":"LOOKUP(B231,Data!$A$6:$A$1806,Data!B$6:B$1806)","v":59.988998413085937},{"$f":"LOOKUP(B231,Data!$A$6:$A$1806,Data!C$6:C$1806)","v":3761.406982421875},null,null,null,8.80126953125,11.157995817789738,null,null,0.58035779256491771,3777.6845339379943,{"$f":"AVERAGE(D$79:D231)","v":3762.5363322737949},{"$f":"AVERAGE(M$79:M231)","v":3781.7436437316205},3765.8314175880173,{"$f":"AVERAGE(P$79:P231)","v":3722.0144042493685},633,null,null,null,null,null,null,0,633,-1211.4411534951635,null,null,null,null,null,null,null,null,null,null,null,null,null,40098.105833333051,{"$f":"LOOKUP($AO231,Data!$A$6:$A$1806,Data!$B$6:$B$1806)","v":59.988998413085937},{"$f":"LOOKUP($AO231,Data!$A$6:$A$1806,Data!$C$6:$C$1806)","v":3761.406982421875},{"$f":"LOOKUP($AO231,Data!$A$6:$A$1806,Data!$D$6:$D$1806)","v":335},{"$f":"IF($AS$1=\"+\",LOOKUP($AO231,Data!$A$6:$A$1806,Data!$E$6:$E$1806)*-1,LOOKUP($AO231,Data!$A$6:$A$1806,Data!$E$6:$E$1806))","v":-228.79815673828125},{"$f":"LOOKUP($AO231,Data!$A$6:$A$1806,Data!$F$6:$F$1806)","v":0},{"$f":"LOOKUP($AO231,Data!$A$6:$A$1806,Data!$G$6:$G$1806)","v":122},{"$f":"LOOKUP($AO231,Data!$A$6:$A$1806,Data!$H$6:$H$1806)","v":10},{"$f":"LOOKUP($AO231,Data!$A$6:$A$1806,Data!$I$6:$I$1806)","v":0},{"$f":"LOOKUP($AO231,Data!$A$6:$A$1806,Data!$J$6:$J$1806)","v":-103},{"$f":"LOOKUP($AO231,Data!$A$6:$A$1806,Data!$K$6:$K$1806)","v":7580.52},8.80126953125]
[null,40098.105856481197,{"$f":"LOOKUP(B232,Data!$A$6:$A$1806,Data!B$6:B$1806)","v":59.98699951171875},{"$f":"LOOKUP(B232,Data!$A$6:$A$1806,Data!C$6:C$1806)","v":3764.95751953125},null,null,null,10.400390625,10.892834000313329,null,null,0.58035779256491771,3777.9997299130828,{"$f":"AVERAGE(D$79:D232)","v":3762.5520542689733},{"$f":"AVERAGE(M$79:M232)","v":3781.7193326029287},3766.4117753805822,{"$f":"AVERAGE(P$79:P232)","v":3722.3045831456511},633,null,null,null,null,null,null,0,633,-1166.8048518088808,null,null,null,null,null,null,null,null,null,null,null,null,null,40098.105856481197,{"$f":"LOOKUP($AO232,Data!$A$6:$A$1806,Data!$B$6:$B$1806)","v":59.98699951171875},{"$f":"LOOKUP($AO232,Data!$A$6:$A$1806,Data!$C$6:$C$1806)","v":3764.95751953125},{"$f":"LOOKUP($AO232,Data!$A$6:$A$1806,Data!$D$6:$D$1806)","v":335},{"$f":"IF($AS$1=\"+\",LOOKUP($AO232,Data!$A$6:$A$1806,Data!$E$6:$E$1806)*-1,LOOKUP($AO232,Data!$A$6:$A$1806,Data!$E$6:$E$1806))","v":-228.79815673828125},{"$f":"LOOKUP($AO232,Data!$A$6:$A$1806,Data!$F$6:$F$1806)","v":0},{"$f":"LOOKUP($AO232,Data!$A$6:$A$1806,Data!$G$6:$G$1806)","v":122.5},{"$f":"LOOKUP($AO232,Data!$A$6:$A$1806,Data!$H$6:$H$1806)","v":10},{"$f":"LOOKUP($AO232,Data!$A$6:$A$1806,Data!$I$6:$I$1806)","v":0},{"$f":"LOOKUP($AO232,Data!$A$6:$A$1806,Data!$J$6:$J$1806)","v":-103},{"$f":"LOOKUP($AO232,Data!$A$6:$A$1806,Data!$K$6:$K$1806)","v":7580.85},10.400390625]
[null,40098.105879629344,{"$f":"LOOKUP(B233,Data!$A$6:$A$1806,Data!B$6:B$1806)","v":59.98699951171875},{"$f":"LOOKUP(B233,Data!$A$6:$A$1806,Data!C$6:C$1806)","v":3764.95751953125},null,null,null,10.400390625,10.720478818953664,null,null,0.58035779256491771,3778.4077325242879,{"$f":"AVERAGE(D$79:D233)","v":3762.5675733996977},{"$f":"AVERAGE(M$79:M233)","v":3781.6979674411314},3766.9921331731471,{"$f":"AVERAGE(P$79:P233)","v":3722.5947620419333},633,null,null,null,null,null,null,0,633,-1166.8048518088808,null,null,null,null,null,null,null,null,null,null,null,null,null,40098.105879629344,{"$f":"LOOKUP($AO233,Data!$A$6:$A$1806,Data!$B$6:$B$1806)","v":59.98699951171875},{"$f":"LOOKUP($AO233,Data!$A$6:$A$1806,Data!$C$6:$C$1806)","v":3764.95751953125},{"$f":"LOOKUP($AO233,Data!$A$6:$A$1806,Data!$D$6:$D$1806)","v":335},{"$f":"IF($AS$1=\"+\",LOOKUP($AO233,Data!$A$6:$A$1806,Data!$E$6:$E$1806)*-1,LOOKUP($AO233,Data!$A$6:$A$1806,Data!$E$6:$E$1806))","v":-228.79815673828125},{"$f":"LOOKUP($AO233,Data!$A$6:$A$1806,Data!$F$6:$F$1806)","v":0},{"$f":"LOOKUP($AO233,Data!$A$6:$A$1806,Data!$G$6:$G$1806)","v":122.5},{"$f":"LOOKUP($AO233,Data!$A$6:$A$1806,Data!$H$6:$H$1806)","v":10},{"$f":"LOOKUP($AO233,Data!$A$6:$A$1806,Data!$I$6:$I$1806)","v":0},{"$f":"LOOKUP($AO233,Data!$A$6:$A$1806,Data!$J$6:$J$1806)","v":-103},{"$f":"LOOKUP($AO233,Data!$A$6:$A$1806,Data!$K$6:$K$1806)","v":7580.85},10.400390625]
[null,40098.10590277749,{"$f":"LOOKUP(B234,Data!$A$6:$A$1806,Data!B$6:B$1806)","v":59.98699951171875},{"$f":"LOOKUP(B234,Data!$A$6:$A$1806,Data!C$6:C$1806)","v":3764.95751953125},null,null,null,10.400390625,10.608447951069881,null,null,0.58035779256491771,3778.876059448969,{"$f":"AVERAGE(D$79:D234)","v":3762.5828935672075},{"$f":"AVERAGE(M$79:M234)","v":3781.6798782873352},3767.5724909657119,{"$f":"AVERAGE(P$79:P234)","v":3722.884940938216},633,null,null,null,null,null,null,0,633,-1166.8048518088808,null,null,null,null,null,null,null,null,null,null,null,null,null,40098.10590277749,{"$f":"LOOKUP($AO234,Data!$A$6:$A$1806,Data!$B$6:$B$1806)","v":59.98699951171875},{"$f":"LOOKUP($AO234,Data!$A$6:$A$1806,Data!$C$6:$C$1806)","v":3764.95751953125},{"$f":"LOOKUP($AO234,Data!$A$6:$A$1806,Data!$D$6:$D$1806)","v":335},{"$f":"IF($AS$1=\"+\",LOOKUP($AO234,Data!$A$6:$A$1806,Data!$E$6:$E$1806)*-1,LOOKUP($AO234,Data!$A$6:$A$1806,Data!$E$6:$E$1806))","v":-228.79815673828125},{"$f":"LOOKUP($AO234,Data!$A$6:$A$1806,Data!$F$6:$F$1806)","v":0},{"$f":"LOOKUP($AO234,Data!$A$6:$A$1806,Data!$G$6:$G$1806)","v":122.5},{"$f":"LOOKUP($AO234,Data!$A$6:$A$1806,Data!$H$6:$H$1806)","v":10},{"$f":"LOOKUP($AO234,Data!$A$6:$A$1806,Data!$I$6:$I$1806)","v":0},{"$f":"LOOKUP($AO234,Data!$A$6:$A$1806,Data!$J$6:$J$1806)","v":-103},{"$f":"LOOKUP($AO234,Data!$A$6:$A$1806,Data!$K$6:$K$1806)","v":7580.85},10.400390625]
[null,40098.105925925636,{"$f":"LOOKUP(B235,Data!$A$6:$A$1806,Data!B$6:B$1806)","v":59.992000579833984},{"$f":"LOOKUP(B235,Data!$A$6:$A$1806,Data!C$6:C$1806)","v":3766.43310546875},null,null,null,6.3995361328125,{"$f":"L$13*H235+(1-L$13)*I234","v":9.1353288146797986},null,null,0.58035779256491771,3777.9832981051441,{"$f":"AVERAGE(D$79:D235)","v":3762.6074172098924},{"$f":"AVERAGE(M$79:M235)","v":3781.6563331906336},3768.1528487582768,{"$f":"AVERAGE(P$79:P235)","v":3723.1751198344982},633,null,null,null,null,null,null,0,{"$f":"SUM(R235:Y235)","v":633},-1285.2883466945509,null,null,null,null,null,null,null,null,null,null,null,null,null,40098.105925925636,{"$f":"LOOKUP($AO235,Data!$A$6:$A$1806,Data!$B$6:$B$1806)","v":59.992000579833984},{"$f":"LOOKUP($AO235,Data!$A$6:$A$1806,Data!$C$6:$C$1806)","v":3766.43310546875},{"$f":"LOOKUP($AO235,Data!$A$6:$A$1806,Data!$D$6:$D$1806)","v":335},{"$f":"IF($AS$1=\"+\",LOOKUP($AO235,Data!$A$6:$A$1806,Data!$E$6:$E$1806)*-1,LOOKUP($AO235,Data!$A$6:$A$1806,Data!$E$6:$E$1806))","v":-354.89566040039062},{"$f":"LOOKUP($AO235,Data!$A$6:$A$1806,Data!$F$6:$F$1806)","v":0},{"$f":"LOOKUP($AO235,Data!$A$6:$A$1806,Data!$G$6:$G$1806)","v":123},{"$f":"LOOKUP($AO235,Data!$A$6:$A$1806,Data!$H$6:$H$1806)","v":10},{"$f":"LOOKUP($AO235,Data!$A$6:$A$1806,Data!$I$6:$I$1806)","v":0},{"$f":"LOOKUP($AO235,Data!$A$6:$A$1806,Data!$J$6:$J$1806)","v":-103},{"$f":"LOOKUP($AO235,Data!$A$6:$A$1806,Data!$K$6:$K$1806)","v":7581.18},6.3995361328125]
[null,40098.105949073783,{"$f":"LOOKUP(B236,Data!$A$6:$A$1806,Data!B$6:B$1806)","v":59.992000579833984},{"$f":"LOOKUP(B236,Data!$A$6:$A$1806,Data!C$6:C$1806)","v":3766.43310546875},null,null,null,{"$f":"(IF((C236-L$2)>0,((C236-L$2-L$5)/((L$4*L$2)-L$5)*L$3*-1),((C236-L$2+L$5)/((L$4*L$2)-L$5)*L$3*-1)))","v":6.3995361328125},8.1778013760262454,null,null,0.58035779256491771,3777.6061284590555,{"$f":"AVERAGE(D$79:D236)","v":3762.6316304267207},{"$f":"AVERAGE(M$79:M236)","v":3781.630698983472},3768.7332065508417,{"$f":"AVERAGE(P$79:P236)","v":3723.4652987307809},633,null,null,null,null,null,null,0,633,-1285.2883466945509,null,null,null,null,null,null,null,null,null,null,null,null,null,40098.105949073783,{"$f":"LOOKUP($AO236,Data!$A$6:$A$1806,Data!$B$6:$B$1806)","v":59.992000579833984},{"$f":"LOOKUP($AO236,Data!$A$6:$A$1806,Data!$C$6:$C$1806)","v":3766.43310546875},{"$f":"LOOKUP($AO236,Data!$A$6:$A$1806,Data!$D$6:$D$1806)","v":335},{"$f":"IF($AS$1=\"+\",LOOKUP($AO236,Data!$A$6:$A$1806,Data!$E$6:$E$1806)*-1,LOOKUP($AO236,Data!$A$6:$A$1806,Data!$E$6:$E$1806))","v":-354.89566040039062},{"$f":"LOOKUP($AO236,Data!$A$6:$A$1806,Data!$F$6:$F$1806)","v":0},{"$f":"LOOKUP($AO236,Data!$A$6:$A$1806,Data!$G$6:$G$1806)","v":123},{"$f":"LOOKUP($AO236,Data!$A$6:$A$1806,Data!$H$6:$H$1806)","v":10},{"$f":"LOOKUP($AO236,Data!$A$6:$A$1806,Data!$I$6:$I$1806)","v":0},{"$f":"LOOKUP($AO236,Data!$A$6:$A$1806,Data!$J$6:$J$1806)","v":-103},{"$f":"LOOKUP($AO236,Data!$A$6:$A$1806,Data!$K$6:$K$1806)","v":7581.18},{"$f":"(IF((AP236-$L$2)>0,((AP236-$L$2-$L$5)/(($L$4*$L$2)-$L$5)*$L$3*-1),((AP236-$L$2+$L$5)/(($L$4*$L$2)-$L$5)*$L$3*-1)))","v":6.3995361328125}]
[null,40098.105972221929,{"$f":"LOOKUP(B237,Data!$A$6:$A$1806,Data!B$6:B$1806)","v":59.988998413085937},{"$f":"LOOKUP(B237,Data!$A$6:$A$1806,Data!C$6:C$1806)","v":3768.633544921875},null,null,null,8.80126953125,8.3960152303545605,null,null,0.58035779256491771,3778.4047001059489,{"$f":"AVERAGE(D$79:D237)","v":3762.6693783166274},{"$f":"AVERAGE(M$79:M237)","v":3781.6104096823551},3769.3135643434066,{"$f":"AVERAGE(P$79:P237)","v":3723.7554776270631},633,null,null,null,null,null,null,0,633,-1211.4411534951635,null,null,null,null,null,null,null,null,null,null,null,null,null,40098.105972221929,{"$f":"LOOKUP($AO237,Data!$A$6:$A$1806,Data!$B$6:$B$1806)","v":59.988998413085937},{"$f":"LOOKUP($AO237,Data!$A$6:$A$1806,Data!$C$6:$C$1806)","v":3768.633544921875},{"$f":"LOOKUP($AO237,Data!$A$6:$A$1806,Data!$D$6:$D$1806)","v":335},{"$f":"IF($AS$1=\"+\",LOOKUP($AO237,Data!$A$6:$A$1806,Data!$E$6:$E$1806)*-1,LOOKUP($AO237,Data!$A$6:$A$1806,Data!$E$6:$E$1806))","v":-354.89566040039062},{"$f":"LOOKUP($AO237,Data!$A$6:$A$1806,Data!$F$6:$F$1806)","v":0},{"$f":"LOOKUP($AO237,Data!$A$6:$A$1806,Data!$G$6:$G$1806)","v":123.5},{"$f":"LOOKUP($AO237,Data!$A$6:$A$1806,Data!$H$6:$H$1806)","v":10},{"$f":"LOOKUP($AO237,Data!$A$6:$A$1806,Data!$I$6:$I$1806)","v":0},{"$f":"LOOKUP($AO237,Data!$A$6:$A$1806,Data!$J$6:$J$1806)","v":-103},{"$f":"LOOKUP($AO237,Data!$A$6:$A$1806,Data!$K$6:$K$1806)","v":7581.51},8.80126953125]
[null,{"$f":"B237+TIME(0,0,$B$1)","v":40098.105995370075},{"$f":"LOOKUP(B238,Data!$A$6:$A$1806,Data!B$6:B$1806)","v":59.988998413085937},{"$f":"LOOKUP(B238,Data!$A$6:$A$1806,Data!C$6:C$1806)","v":3768.633544921875},null,null,null,8.80126953125,8.5378542356679645,null,null,0.58035779256491771,3779.1268969038274,{"$f":"AVERAGE(D$79:D238)","v":3762.7066543579103},{"$f":"AVERAGE(M$79:M238)","v":3781.5948877274895},3769.8939221359715,{"$f":"AVERAGE(P$79:P238)","v":3724.0456565233453},633,null,null,null,null,null,null,0,633,-1211.4411534951635,null,null,null,null,null,null,null,null,null,null,null,null,null,40098.105995370075,{"$f":"LOOKUP($AO238,Data!$A$6:$A$1806,Data!$B$6:$B$1806)","v":59.988998413085937},{"$f":"LOOKUP($AO238,Data!$A$6:$A$1806,Data!$C$6:$C$1806)","v":3768.633544921875},{"$f":"LOOKUP($AO238,Data!$A$6:$A$1806,Data!$D$6:$D$1806)","v":335},{"$f":"IF($AS$1=\"+\",LOOKUP($AO238,Data!$A$6:$A$1806,Data!$E$6:$E$1806)*-1,LOOKUP($AO238,Data!$A$6:$A$1806,Data!$E$6:$E$1806))","v":-354.89566040039062},{"$f":"LOOKUP($AO238,Data!$A$6:$A$1806,Data!$F$6:$F$1806)","v":0},{"$f":"LOOKUP($AO238,Data!$A$6:$A$1806,Data!$G$6:$G$1806)","v":123.5},{"$f":"LOOKUP($AO238,Data!$A$6:$A$1806,Data!$H$6:$H$1806)","v":10},{"$f":"LOOKUP($AO238,Data!$A$6:$A$1806,Data!$I$6:$I$1806)","v":0},{"$f":"LOOKUP($AO238,Data!$A$6:$A$1806,Data!$J$6:$J$1806)","v":-103},{"$f":"LOOKUP($AO238,Data!$A$6:$A$1806,Data!$K$6:$K$1806)","v":7581.51},8.80126953125]
[null,40098.106018518221,{"$f":"LOOKUP(B239,Data!$A$6:$A$1806,Data!B$6:B$1806)","v":59.988998413085937},{"$f":"LOOKUP(B239,Data!$A$6:$A$1806,Data!C$6:C$1806)","v":3768.633544921875},null,null,null,8.80126953125,8.6300495891216773,null,null,0.58035779256491771,3779.7994500498462,{"$f":"AVERAGE(D$79:D239)","v":3762.7434673427797},{"$f":"AVERAGE(M$79:M239)","v":3781.5837359406719},3770.4742799285364,{"$f":"AVERAGE(P$79:P239)","v":3724.3358354196271},633,null,null,null,null,null,null,0,633,-1211.4411534951635,null,null,null,null,null,null,null,null,null,null,null,null,null,40098.106018518221,{"$f":"LOOKUP($AO239,Data!$A$6:$A$1806,Data!$B$6:$B$1806)","v":59.988998413085937},{"$f":"LOOKUP($AO239,Data!$A$6:$A$1806,Data!$C$6:$C$1806)","v":3768.633544921875},{"$f":"LOOKUP($AO239,Data!$A$6:$A$1806,Data!$D$6:$D$1806)","v":335},{"$f":"IF($AS$1=\"+\",LOOKUP($AO239,Data!$A$6:$A$1806,Data!$E$6:$E$1806)*-1,LOOKUP($AO239,Data!$A$6:$A$1806,Data!$E$6:$E$1806))","v":-354.89566040039062},{"$f":"LOOKUP($AO239,Data!$A$6:$A$1806,Data!$F$6:$F$1806)","v":0},{"$f":"LOOKUP($AO239,Data!$A$6:$A$1806,Data!$G$6:$G$1806)","v":123.5},{"$f":"LOOKUP($AO239,Data!$A$6:$A$1806,Data!$H$6:$H$1806)","v":10},{"$f":"LOOKUP($AO239,Data!$A$6:$A$1806,Data!$I$6:$I$1806)","v":0},{"$f":"LOOKUP($AO239,Data!$A$6:$A$1806,Data!$J$6:$J$1806)","v":-103},{"$f":"LOOKUP($AO239,Data!$A$6:$A$1806,Data!$K$6:$K$1806)","v":7581.51},8.80126953125]
[null,40098.106041666368,{"$f":"LOOKUP(B240,Data!$A$6:$A$1806,Data!B$6:B$1806)","v":59.983001708984375},{"$f":"LOOKUP(B240,Data!$A$6:$A$1806,Data!C$6:C$1806)","v":3772.444580078125},null,null,null,13.5986328125,10.369053717304091,null,null,0.58035779256491771,3782.1188119705935,{"$f":"AVERAGE(D$79:D240)","v":3762.8033507547261},{"$f":"AVERAGE(M$79:M240)","v":3781.5870388791282},3771.0546377211012,{"$f":"AVERAGE(P$79:P240)","v":3724.6260143159102},633,null,null,null,null,null,null,0,633,-1086.7228920396869,null,null,null,null,null,null,null,null,null,null,null,null,null,40098.106041666368,{"$f":"LOOKUP($AO240,Data!$A$6:$A$1806,Data!$B$6:$B$1806)","v":59.983001708984375},{"$f":"LOOKUP($AO240,Data!$A$6:$A$1806,Data!$C$6:$C$1806)","v":3772.444580078125},{"$f":"LOOKUP($AO240,Data!$A$6:$A$1806,Data!$D$6:$D$1806)","v":335},{"$f":"IF($AS$1=\"+\",LOOKUP($AO240,Data!$A$6:$A$1806,Data!$E$6:$E$1806)*-1,LOOKUP($AO240,Data!$A$6:$A$1806,Data!$E$6:$E$1806))","v":-340.4693603515625},{"$f":"LOOKUP($AO240,Data!$A$6:$A$1806,Data!$F$6:$F$1806)","v":0},{"$f":"LOOKUP($AO240,Data!$A$6:$A$1806,Data!$G$6:$G$1806)","v":124},{"$f":"LOOKUP($AO240,Data!$A$6:$A$1806,Data!$H$6:$H$1806)","v":10},{"$f":"LOOKUP($AO240,Data!$A$6:$A$1806,Data!$I$6:$I$1806)","v":0},{"$f":"LOOKUP($AO240,Data!$A$6:$A$1806,Data!$J$6:$J$1806)","v":-103},{"$f":"LOOKUP($AO240,Data!$A$6:$A$1806,Data!$K$6:$K$1806)","v":7581.84},13.5986328125]
[null,40098.106064814514,{"$f":"LOOKUP(B241,Data!$A$6:$A$1806,Data!B$6:B$1806)","v":59.983001708984375},{"$f":"LOOKUP(B241,Data!$A$6:$A$1806,Data!C$6:C$1806)","v":3772.444580078125},null,null,null,13.5986328125,11.499406400622659,null,null,0.58035779256491771,3783.8295224464769,{"$f":"AVERAGE(D$79:D241)","v":3762.8624994008819},{"$f":"AVERAGE(M$79:M241)","v":3781.6007964470264},3771.6349955136661,{"$f":"AVERAGE(P$79:P241)","v":3724.9161932121929},633,null,null,null,null,null,null,0,633,-1086.7228920396869,null,null,null,null,null,null,null,null,null,null,null,null,null,40098.106064814514,{"$f":"LOOKUP($AO241,Data!$A$6:$A$1806,Data!$B$6:$B$1806)","v":59.983001708984375},{"$f":"LOOKUP($AO241,Data!$A$6:$A$1806,Data!$C$6:$C$1806)","v":3772.444580078125},{"$f":"LOOKUP($AO241,Data!$A$6:$A$1806,Data!$D$6:$D$1806)","v":335},{"$f":"IF($AS$1=\"+\",LOOKUP($AO241,Data!$A$6:$A$1806,Data!$E$6:$E$1806)*-1,LOOKUP($AO241,Data!$A$6:$A$1806,Data!$E$6:$E$1806))","v":-340.4693603515625},{"$f":"LOOKUP($AO241,Data!$A$6:$A$1806,Data!$F$6:$F$1806)","v":0},{"$f":"LOOKUP($AO241,Data!$A$6:$A$1806,Data!$G$6:$G$1806)","v":124},{"$f":"LOOKUP($AO241,Data!$A$6:$A$1806,Data!$H$6:$H$1806)","v":10},{"$f":"LOOKUP($AO241,Data!$A$6:$A$1806,Data!$I$6:$I$1806)","v":0},{"$f":"LOOKUP($AO241,Data!$A$6:$A$1806,Data!$J$6:$J$1806)","v":-103},{"$f":"LOOKUP($AO241,Data!$A$6:$A$1806,Data!$K$6:$K$1806)","v":7581.84},13.5986328125]
[null,40098.10608796266,{"$f":"LOOKUP(B242,Data!$A$6:$A$1806,Data!B$6:B$1806)","v":59.993000030517578},{"$f":"LOOKUP(B242,Data!$A$6:$A$1806,Data!C$6:C$1806)","v":3775.8408203125},null,null,null,5.5999755859375,9.4346056154828535,null,null,0.58035779256491771,3782.3450794539021,{"$f":"AVERAGE(D$79:D242)","v":3762.9416355040016},{"$f":"AVERAGE(M$79:M242)","v":3781.6053347580437},3772.215353306231,{"$f":"AVERAGE(P$79:P242)","v":3725.2063721084755},633,null,null,null,null,null,null,0,633,-1311.9117049452504,null,null,null,null,null,null,null,null,null,null,null,null,null,40098.10608796266,{"$f":"LOOKUP($AO242,Data!$A$6:$A$1806,Data!$B$6:$B$1806)","v":59.993000030517578},{"$f":"LOOKUP($AO242,Data!$A$6:$A$1806,Data!$C$6:$C$1806)","v":3775.8408203125},{"$f":"LOOKUP($AO242,Data!$A$6:$A$1806,Data!$D$6:$D$1806)","v":335},{"$f":"IF($AS$1=\"+\",LOOKUP($AO242,Data!$A$6:$A$1806,Data!$E$6:$E$1806)*-1,LOOKUP($AO242,Data!$A$6:$A$1806,Data!$E$6:$E$1806))","v":-340.4693603515625},{"$f":"LOOKUP($AO242,Data!$A$6:$A$1806,Data!$F$6:$F$1806)","v":0},{"$f":"LOOKUP($AO242,Data!$A$6:$A$1806,Data!$G$6:$G$1806)","v":124.5},{"$f":"LOOKUP($AO242,Data!$A$6:$A$1806,Data!$H$6:$H$1806)","v":10},{"$f":"LOOKUP($AO242,Data!$A$6:$A$1806,Data!$I$6:$I$1806)","v":0},{"$f":"LOOKUP($AO242,Data!$A$6:$A$1806,Data!$J$6:$J$1806)","v":-103},{"$f":"LOOKUP($AO242,Data!$A$6:$A$1806,Data!$K$6:$K$1806)","v":7582.17},5.5999755859375]
[null,40098.106111110807,{"$f":"LOOKUP(B243,Data!$A$6:$A$1806,Data!B$6:B$1806)","v":59.993000030517578},{"$f":"LOOKUP(B243,Data!$A$6:$A$1806,Data!C$6:C$1806)","v":3775.8408203125},null,null,null,5.5999755859375,8.0924851051419804,null,null,0.58035779256491771,3781.5833167361261,{"$f":"AVERAGE(D$79:D243)","v":3763.019812381629},{"$f":"AVERAGE(M$79:M243)","v":3781.6052013154867},3772.7957110987959,{"$f":"AVERAGE(P$79:P243)","v":3725.4965510047582},633,null,null,null,null,null,null,0,633,-1311.9117049452504,null,null,null,null,null,null,null,null,null,null,null,null,null,40098.106111110807,{"$f":"LOOKUP($AO243,Data!$A$6:$A$1806,Data!$B$6:$B$1806)","v":59.993000030517578},{"$f":"LOOKUP($AO243,Data!$A$6:$A$1806,Data!$C$6:$C$1806)","v":3775.8408203125},{"$f":"LOOKUP($AO243,Data!$A$6:$A$1806,Data!$D$6:$D$1806)","v":335},{"$f":"IF($AS$1=\"+\",LOOKUP($AO243,Data!$A$6:$A$1806,Data!$E$6:$E$1806)*-1,LOOKUP($AO243,Data!$A$6:$A$1806,Data!$E$6:$E$1806))","v":-340.4693603515625},{"$f":"LOOKUP($AO243,Data!$A$6:$A$1806,Data!$F$6:$F$1806)","v":0},{"$f":"LOOKUP($AO243,Data!$A$6:$A$1806,Data!$G$6:$G$1806)","v":124.5},{"$f":"LOOKUP($AO243,Data!$A$6:$A$1806,Data!$H$6:$H$1806)","v":10},{"$f":"LOOKUP($AO243,Data!$A$6:$A$1806,Data!$I$6:$I$1806)","v":0},{"$f":"LOOKUP($AO243,Data!$A$6:$A$1806,Data!$J$6:$J$1806)","v":-103},{"$f":"LOOKUP($AO243,Data!$A$6:$A$1806,Data!$K$6:$K$1806)","v":7582.17},5.5999755859375]
[null,40098.106134258953,{"$f":"LOOKUP(B244,Data!$A$6:$A$1806,Data!B$6:B$1806)","v":59.993000030517578},{"$f":"LOOKUP(B244,Data!$A$6:$A$1806,Data!C$6:C$1806)","v":3775.8408203125},null,null,null,5.5999755859375,7.2201067734204125,null,null,0.58035779256491771,3781.2912961969696,{"$f":"AVERAGE(D$79:D244)","v":3763.0970473691641},{"$f":"AVERAGE(M$79:M244)","v":3781.6033103207969},3773.3760688913608,{"$f":"AVERAGE(P$79:P244)","v":3725.7867299010404},633,null,null,null,null,null,null,0,633,-1311.9117049452504,null,null,null,null,null,null,null,null,null,null,null,null,null,40098.106134258953,{"$f":"LOOKUP($AO244,Data!$A$6:$A$1806,Data!$B$6:$B$1806)","v":59.993000030517578},{"$f":"LOOKUP($AO244,Data!$A$6:$A$1806,Data!$C$6:$C$1806)","v":3775.8408203125},{"$f":"LOOKUP($AO244,Data!$A$6:$A$1806,Data!$D$6:$D$1806)","v":335},{"$f":"IF($AS$1=\"+\",LOOKUP($AO244,Data!$A$6:$A$1806,Data!$E$6:$E$1806)*-1,LOOKUP($AO244,Data!$A$6:$A$1806,Data!$E$6:$E$1806))","v":-340.4693603515625},{"$f":"LOOKUP($AO244,Data!$A$6:$A$1806,Data!$F$6:$F$1806)","v":0},{"$f":"LOOKUP($AO244,Data!$A$6:$A$1806,Data!$G$6:$G$1806)","v":124.5},{"$f":"LOOKUP($AO244,Data!$A$6:$A$1806,Data!$H$6:$H$1806)","v":10},{"$f":"LOOKUP($AO244,Data!$A$6:$A$1806,Data!$I$6:$I$1806)","v":0},{"$f":"LOOKUP($AO244,Data!$A$6:$A$1806,Data!$J$6:$J$1806)","v":-103},{"$f":"LOOKUP($AO244,Data!$A$6:$A$1806,Data!$K$6:$K$1806)","v":7582.17},5.5999755859375]
[null,40098.106157407099,{"$f":"LOOKUP(B245,Data!$A$6:$A$1806,Data!B$6:B$1806)","v":59.999000549316406},{"$f":"LOOKUP(B245,Data!$A$6:$A$1806,Data!C$6:C$1806)","v":3774.8662109375},null,null,null,0.799560546875,4.9729155941295184,null,null,0.58035779256491771,3779.6244628102436,{"$f":"AVERAGE(D$79:D245)","v":3763.1675214025076},{"$f":"AVERAGE(M$79:M245)","v":3781.5914609345064},3773.9564266839257,{"$f":"AVERAGE(P$79:P245)","v":3726.0769087973231},633,null,null,null,null,null,null,0,633,-1498.236215069297,null,null,null,null,null,null,null,null,null,null,null,null,null,40098.106157407099,{"$f":"LOOKUP($AO245,Data!$A$6:$A$1806,Data!$B$6:$B$1806)","v":59.999000549316406},{"$f":"LOOKUP($AO245,Data!$A$6:$A$1806,Data!$C$6:$C$1806)","v":3774.8662109375},{"$f":"LOOKUP($AO245,Data!$A$6:$A$1806,Data!$D$6:$D$1806)","v":335},{"$f":"IF($AS$1=\"+\",LOOKUP($AO245,Data!$A$6:$A$1806,Data!$E$6:$E$1806)*-1,LOOKUP($AO245,Data!$A$6:$A$1806,Data!$E$6:$E$1806))","v":-340.4693603515625},{"$f":"LOOKUP($AO245,Data!$A$6:$A$1806,Data!$F$6:$F$1806)","v":0},{"$f":"LOOKUP($AO245,Data!$A$6:$A$1806,Data!$G$6:$G$1806)","v":125},{"$f":"LOOKUP($AO245,Data!$A$6:$A$1806,Data!$H$6:$H$1806)","v":10},{"$f":"LOOKUP($AO245,Data!$A$6:$A$1806,Data!$I$6:$I$1806)","v":0},{"$f":"LOOKUP($AO245,Data!$A$6:$A$1806,Data!$J$6:$J$1806)","v":-103},{"$f":"LOOKUP($AO245,Data!$A$6:$A$1806,Data!$K$6:$K$1806)","v":7582.5},0.799560546875]
[null,40098.106180555245,{"$f":"LOOKUP(B246,Data!$A$6:$A$1806,Data!B$6:B$1806)","v":59.999000549316406},{"$f":"LOOKUP(B246,Data!$A$6:$A$1806,Data!C$6:C$1806)","v":3774.8662109375},null,null,null,0.799560546875,3.5122413275904369,null,null,0.58035779256491771,3778.7441463362693,{"$f":"AVERAGE(D$79:D246)","v":3763.2371564592636},{"$f":"AVERAGE(M$79:M246)","v":3781.5745126333259},3774.5367844764905,{"$f":"AVERAGE(P$79:P246)","v":3726.3670876936053},633,null,null,null,null,null,null,0,633,-1498.236215069297,null,null,null,null,null,null,null,null,null,null,null,null,null,40098.106180555245,{"$f":"LOOKUP($AO246,Data!$A$6:$A$1806,Data!$B$6:$B$1806)","v":59.999000549316406},{"$f":"LOOKUP($AO246,Data!$A$6:$A$1806,Data!$C$6:$C$1806)","v":3774.8662109375},{"$f":"LOOKUP($AO246,Data!$A$6:$A$1806,Data!$D$6:$D$1806)","v":335},{"$f":"IF($AS$1=\"+\",LOOKUP($AO246,Data!$A$6:$A$1806,Data!$E$6:$E$1806)*-1,LOOKUP($AO246,Data!$A$6:$A$1806,Data!$E$6:$E$1806))","v":-340.4693603515625},{"$f":"LOOKUP($AO246,Data!$A$6:$A$1806,Data!$F$6:$F$1806)","v":0},{"$f":"LOOKUP($AO246,Data!$A$6:$A$1806,Data!$G$6:$G$1806)","v":125},{"$f":"LOOKUP($AO246,Data!$A$6:$A$1806,Data!$H$6:$H$1806)","v":10},{"$f":"LOOKUP($AO246,Data!$A$6:$A$1806,Data!$I$6:$I$1806)","v":0},{"$f":"LOOKUP($AO246,Data!$A$6:$A$1806,Data!$J$6:$J$1806)","v":-103},{"$f":"LOOKUP($AO246,Data!$A$6:$A$1806,Data!$K$6:$K$1806)","v":7582.5},0.799560546875]
[null,40098.106203703392,{"$f":"LOOKUP(B247,Data!$A$6:$A$1806,Data!B$6:B$1806)","v":59.999000549316406},{"$f":"LOOKUP(B247,Data!$A$6:$A$1806,Data!C$6:C$1806)","v":3778.5537109375},null,null,null,0.799560546875,2.562803054340034,null,null,0.58035779256491771,3778.3750658555837,{"$f":"AVERAGE(D$79:D247)","v":3763.3277869591348},{"$f":"AVERAGE(M$79:M247)","v":3781.5555809955877},3775.1171422690554,{"$f":"AVERAGE(P$79:P247)","v":3726.657266589888},633,null,null,null,null,null,null,0,633,-1498.236215069297,null,null,null,null,null,null,null,null,null,null,null,null,null,40098.106203703392,{"$f":"LOOKUP($AO247,Data!$A$6:$A$1806,Data!$B$6:$B$1806)","v":59.999000549316406},{"$f":"LOOKUP($AO247,Data!$A$6:$A$1806,Data!$C$6:$C$1806)","v":3778.5537109375},{"$f":"LOOKUP($AO247,Data!$A$6:$A$1806,Data!$D$6:$D$1806)","v":335},{"$f":"IF($AS$1=\"+\",LOOKUP($AO247,Data!$A$6:$A$1806,Data!$E$6:$E$1806)*-1,LOOKUP($AO247,Data!$A$6:$A$1806,Data!$E$6:$E$1806))","v":-340.4693603515625},{"$f":"LOOKUP($AO247,Data!$A$6:$A$1806,Data!$F$6:$F$1806)","v":0},{"$f":"LOOKUP($AO247,Data!$A$6:$A$1806,Data!$G$6:$G$1806)","v":125.5},{"$f":"LOOKUP($AO247,Data!$A$6:$A$1806,Data!$H$6:$H$1806)","v":10},{"$f":"LOOKUP($AO247,Data!$A$6:$A$1806,Data!$I$6:$I$1806)","v":0},{"$f":"LOOKUP($AO247,Data!$A$6:$A$1806,Data!$J$6:$J$1806)","v":-103},{"$f":"LOOKUP($AO247,Data!$A$6:$A$1806,Data!$K$6:$K$1806)","v":7582.83},0.799560546875]
[null,40098.106226851538,{"$f":"LOOKUP(B248,Data!$A$6:$A$1806,Data!B$6:B$1806)","v":59.999000549316406},{"$f":"LOOKUP(B248,Data!$A$6:$A$1806,Data!C$6:C$1806)","v":3778.5537109375},null,null,null,0.799560546875,1.9456681767272721,null,null,0.58035779256491771,3778.3382887705357,{"$f":"AVERAGE(D$79:D248)","v":3763.4173512178309},{"$f":"AVERAGE(M$79:M248)","v":3781.5366557472048},3775.6975000616203,{"$f":"AVERAGE(P$79:P248)","v":3726.9474454861702},633,null,null,null,null,null,null,0,633,-1498.236215069297,null,null,null,null,null,null,null,null,null,null,null,null,null,40098.106226851538,{"$f":"LOOKUP($AO248,Data!$A$6:$A$1806,Data!$B$6:$B$1806)","v":59.999000549316406},{"$f":"LOOKUP($AO248,Data!$A$6:$A$1806,Data!$C$6:$C$1806)","v":3778.5537109375},{"$f":"LOOKUP($AO248,Data!$A$6:$A$1806,Data!$D$6:$D$1806)","v":335},{"$f":"IF($AS$1=\"+\",LOOKUP($AO248,Data!$A$6:$A$1806,Data!$E$6:$E$1806)*-1,LOOKUP($AO248,Data!$A$6:$A$1806,Data!$E$6:$E$1806))","v":-340.4693603515625},{"$f":"LOOKUP($AO248,Data!$A$6:$A$1806,Data!$F$6:$F$1806)","v":0},{"$f":"LOOKUP($AO248,Data!$A$6:$A$1806,Data!$G$6:$G$1806)","v":125.5},{"$f":"LOOKUP($AO248,Data!$A$6:$A$1806,Data!$H$6:$H$1806)","v":10},{"$f":"LOOKUP($AO248,Data!$A$6:$A$1806,Data!$I$6:$I$1806)","v":0},{"$f":"LOOKUP($AO248,Data!$A$6:$A$1806,Data!$J$6:$J$1806)","v":-103},{"$f":"LOOKUP($AO248,Data!$A$6:$A$1806,Data!$K$6:$K$1806)","v":7582.83},0.799560546875]
[null,40098.106249999684,{"$f":"LOOKUP(B249,Data!$A$6:$A$1806,Data!B$6:B$1806)","v":59.999000549316406},{"$f":"LOOKUP(B249,Data!$A$6:$A$1806,Data!C$6:C$1806)","v":3778.5537109375},null,null,null,0.799560546875,1.5445305062789769,null,null,0.58035779256491771,3778.5175088926521,{"$f":"AVERAGE(D$79:D249)","v":3763.5058679413378},{"$f":"AVERAGE(M$79:M249)","v":3781.5189999176464},3776.2778578541852,{"$f":"AVERAGE(P$79:P249)","v":3727.2376243824524},633,null,null,null,null,null,null,0,633,-1498.236215069297,null,null,null,null,null,null,null,null,null,null,null,null,null,40098.106249999684,{"$f":"LOOKUP($AO249,Data!$A$6:$A$1806,Data!$B$6:$B$1806)","v":59.999000549316406},{"$f":"LOOKUP($AO249,Data!$A$6:$A$1806,Data!$C$6:$C$1806)","v":3778.5537109375},{"$f":"LOOKUP($AO249,Data!$A$6:$A$1806,Data!$D$6:$D$1806)","v":335},{"$f":"IF($AS$1=\"+\",LOOKUP($AO249,Data!$A$6:$A$1806,Data!$E$6:$E$1806)*-1,LOOKUP($AO249,Data!$A$6:$A$1806,Data!$E$6:$E$1806))","v":-340.4693603515625},{"$f":"LOOKUP($AO249,Data!$A$6:$A$1806,Data!$F$6:$F$1806)","v":0},{"$f":"LOOKUP($AO249,Data!$A$6:$A$1806,Data!$G$6:$G$1806)","v":125.5},{"$f":"LOOKUP($AO249,Data!$A$6:$A$1806,Data!$H$6:$H$1806)","v":10},{"$f":"LOOKUP($AO249,Data!$A$6:$A$1806,Data!$I$6:$I$1806)","v":0},{"$f":"LOOKUP($AO249,Data!$A$6:$A$1806,Data!$J$6:$J$1806)","v":-103},{"$f":"LOOKUP($AO249,Data!$A$6:$A$1806,Data!$K$6:$K$1806)","v":7582.83},0.799560546875]
[null,40098.106273147831,{"$f":"LOOKUP(B250,Data!$A$6:$A$1806,Data!B$6:B$1806)","v":60.001998901367188},{"$f":"LOOKUP(B250,Data!$A$6:$A$1806,Data!C$6:C$1806)","v":3781.255859375},null,null,null,-1.59912109375,0.44425244626883509,null,null,0,3777.417230832642,{"$f":"AVERAGE(D$79:D250)","v":3763.6090655659518},{"$f":"AVERAGE(M$79:M250)","v":3781.4951524229659},3776.2778578541852,{"$f":"AVERAGE(P$79:P250)","v":3727.524409373515},633,null,null,null,null,null,null,0,633,-1612.6843092472909,null,null,null,null,null,null,null,null,null,null,null,null,null,40098.106273147831,{"$f":"LOOKUP($AO250,Data!$A$6:$A$1806,Data!$B$6:$B$1806)","v":60.001998901367188},{"$f":"LOOKUP($AO250,Data!$A$6:$A$1806,Data!$C$6:$C$1806)","v":3781.255859375},{"$f":"LOOKUP($AO250,Data!$A$6:$A$1806,Data!$D$6:$D$1806)","v":335},{"$f":"IF($AS$1=\"+\",LOOKUP($AO250,Data!$A$6:$A$1806,Data!$E$6:$E$1806)*-1,LOOKUP($AO250,Data!$A$6:$A$1806,Data!$E$6:$E$1806))","v":-340.4693603515625},{"$f":"LOOKUP($AO250,Data!$A$6:$A$1806,Data!$F$6:$F$1806)","v":0},{"$f":"LOOKUP($AO250,Data!$A$6:$A$1806,Data!$G$6:$G$1806)","v":126},{"$f":"LOOKUP($AO250,Data!$A$6:$A$1806,Data!$H$6:$H$1806)","v":10},{"$f":"LOOKUP($AO250,Data!$A$6:$A$1806,Data!$I$6:$I$1806)","v":0},{"$f":"LOOKUP($AO250,Data!$A$6:$A$1806,Data!$J$6:$J$1806)","v":-103},{"$f":"LOOKUP($AO250,Data!$A$6:$A$1806,Data!$K$6:$K$1806)","v":7583.16},-1.59912109375]
[null,40098.106296295977,{"$f":"LOOKUP(B251,Data!$A$6:$A$1806,Data!B$6:B$1806)","v":60.001998901367188},{"$f":"LOOKUP(B251,Data!$A$6:$A$1806,Data!C$6:C$1806)","v":3781.255859375},null,null,null,-1.59912109375,-0.2709282927377572,null,null,0,3776.7020500936355,{"$f":"AVERAGE(D$79:D251)","v":3763.7110701544439},{"$f":"AVERAGE(M$79:M251)","v":3781.4674466291553},3776.2778578541852,{"$f":"AVERAGE(P$79:P251)","v":3727.8078596553792},633,null,null,null,null,null,null,0,633,-1612.6843092472909,null,null,null,null,null,null,null,null,null,null,null,null,null,40098.106296295977,{"$f":"LOOKUP($AO251,Data!$A$6:$A$1806,Data!$B$6:$B$1806)","v":60.001998901367188},{"$f":"LOOKUP($AO251,Data!$A$6:$A$1806,Data!$C$6:$C$1806)","v":3781.255859375},{"$f":"LOOKUP($AO251,Data!$A$6:$A$1806,Data!$D$6:$D$1806)","v":335},{"$f":"IF($AS$1=\"+\",LOOKUP($AO251,Data!$A$6:$A$1806,Data!$E$6:$E$1806)*-1,LOOKUP($AO251,Data!$A$6:$A$1806,Data!$E$6:$E$1806))","v":-340.4693603515625},{"$f":"LOOKUP($AO251,Data!$A$6:$A$1806,Data!$F$6:$F$1806)","v":0},{"$f":"LOOKUP($AO251,Data!$A$6:$A$1806,Data!$G$6:$G$1806)","v":126},{"$f":"LOOKUP($AO251,Data!$A$6:$A$1806,Data!$H$6:$H$1806)","v":10},{"$f":"LOOKUP($AO251,Data!$A$6:$A$1806,Data!$I$6:$I$1806)","v":0},{"$f":"LOOKUP($AO251,Data!$A$6:$A$1806,Data!$J$6:$J$1806)","v":-103},{"$f":"LOOKUP($AO251,Data!$A$6:$A$1806,Data!$K$6:$K$1806)","v":7583.16},-1.59912109375]
[null,40098.106319444123,{"$f":"LOOKUP(B252,Data!$A$6:$A$1806,Data!B$6:B$1806)","v":60.006999969482422},{"$f":"LOOKUP(B252,Data!$A$6:$A$1806,Data!C$6:C$1806)","v":3783.8955078125},null,null,null,-5.5999755859375,-2.1360948453576669,null,null,0,3774.8368835410156,{"$f":"AVERAGE(D$79:D252)","v":3763.8270726697197},{"$f":"AVERAGE(M$79:M252)","v":3781.4293399447401},3776.2778578541852,{"$f":"AVERAGE(P$79:P252)","v":3728.0880330553719},633,null,null,null,null,null,null,0,633,-1848.1611850531826,null,null,null,null,null,null,null,null,null,null,null,null,null,40098.106319444123,{"$f":"LOOKUP($AO252,Data!$A$6:$A$1806,Data!$B$6:$B$1806)","v":60.006999969482422},{"$f":"LOOKUP($AO252,Data!$A$6:$A$1806,Data!$C$6:$C$1806)","v":3783.8955078125},{"$f":"LOOKUP($AO252,Data!$A$6:$A$1806,Data!$D$6:$D$1806)","v":335},{"$f":"IF($AS$1=\"+\",LOOKUP($AO252,Data!$A$6:$A$1806,Data!$E$6:$E$1806)*-1,LOOKUP($AO252,Data!$A$6:$A$1806,Data!$E$6:$E$1806))","v":-337.64291381835937},{"$f":"LOOKUP($AO252,Data!$A$6:$A$1806,Data!$F$6:$F$1806)","v":0},{"$f":"LOOKUP($AO252,Data!$A$6:$A$1806,Data!$G$6:$G$1806)","v":126.5},{"$f":"LOOKUP($AO252,Data!$A$6:$A$1806,Data!$H$6:$H$1806)","v":10},{"$f":"LOOKUP($AO252,Data!$A$6:$A$1806,Data!$I$6:$I$1806)","v":0},{"$f":"LOOKUP($AO252,Data!$A$6:$A$1806,Data!$J$6:$J$1806)","v":-103},{"$f":"LOOKUP($AO252,Data!$A$6:$A$1806,Data!$K$6:$K$1806)","v":7583.49},-5.5999755859375]
[null,40098.106342592269,{"$f":"LOOKUP(B253,Data!$A$6:$A$1806,Data!B$6:B$1806)","v":60.006999969482422},{"$f":"LOOKUP(B253,Data!$A$6:$A$1806,Data!C$6:C$1806)","v":3783.8955078125},null,null,null,-5.5999755859375,-3.3484531045606083,null,null,0,3773.6245252818126,{"$f":"AVERAGE(D$79:D253)","v":3763.9417494419645},{"$f":"AVERAGE(M$79:M253)","v":3781.3847410038093},3776.2778578541852,{"$f":"AVERAGE(P$79:P253)","v":3728.3649860714568},633,null,null,null,null,null,null,0,633,-1848.1611850531826,null,null,null,null,null,null,null,null,null,null,null,null,null,40098.106342592269,{"$f":"LOOKUP($AO253,Data!$A$6:$A$1806,Data!$B$6:$B$1806)","v":60.006999969482422},{"$f":"LOOKUP($AO253,Data!$A$6:$A$1806,Data!$C$6:$C$1806)","v":3783.8955078125},{"$f":"LOOKUP($AO253,Data!$A$6:$A$1806,Data!$D$6:$D$1806)","v":335},{"$f":"IF($AS$1=\"+\",LOOKUP($AO253,Data!$A$6:$A$1806,Data!$E$6:$E$1806)*-1,LOOKUP($AO253,Data!$A$6:$A$1806,Data!$E$6:$E$1806))","v":-337.64291381835937},{"$f":"LOOKUP($AO253,Data!$A$6:$A$1806,Data!$F$6:$F$1806)","v":0},{"$f":"LOOKUP($AO253,Data!$A$6:$A$1806,Data!$G$6:$G$1806)","v":126.5},{"$f":"LOOKUP($AO253,Data!$A$6:$A$1806,Data!$H$6:$H$1806)","v":10},{"$f":"LOOKUP($AO253,Data!$A$6:$A$1806,Data!$I$6:$I$1806)","v":0},{"$f":"LOOKUP($AO253,Data!$A$6:$A$1806,Data!$J$6:$J$1806)","v":-103},{"$f":"LOOKUP($AO253,Data!$A$6:$A$1806,Data!$K$6:$K$1806)","v":7583.49},-5.5999755859375]
[null,40098.106365740416,{"$f":"LOOKUP(B254,Data!$A$6:$A$1806,Data!B$6:B$1806)","v":60.006999969482422},{"$f":"LOOKUP(B254,Data!$A$6:$A$1806,Data!C$6:C$1806)","v":3783.8955078125},null,null,null,-5.5999755859375,-4.1364859730425199,null,null,0,3772.8364924133307,{"$f":"AVERAGE(D$79:D254)","v":3764.0551230690694},{"$f":"AVERAGE(M$79:M254)","v":3781.3361714095449},3776.2778578541852,{"$f":"AVERAGE(P$79:P254)","v":3728.6387739102151},633,null,null,null,null,null,null,0,633,-1848.1611850531826,null,null,null,null,null,null,null,null,null,null,null,null,null,40098.106365740416,{"$f":"LOOKUP($AO254,Data!$A$6:$A$1806,Data!$B$6:$B$1806)","v":60.006999969482422},{"$f":"LOOKUP($AO254,Data!$A$6:$A$1806,Data!$C$6:$C$1806)","v":3783.8955078125},{"$f":"LOOKUP($AO254,Data!$A$6:$A$1806,Data!$D$6:$D$1806)","v":335},{"$f":"IF($AS$1=\"+\",LOOKUP($AO254,Data!$A$6:$A$1806,Data!$E$6:$E$1806)*-1,LOOKUP($AO254,Data!$A$6:$A$1806,Data!$E$6:$E$1806))","v":-337.64291381835937},{"$f":"LOOKUP($AO254,Data!$A$6:$A$1806,Data!$F$6:$F$1806)","v":0},{"$f":"LOOKUP($AO254,Data!$A$6:$A$1806,Data!$G$6:$G$1806)","v":126.5},{"$f":"LOOKUP($AO254,Data!$A$6:$A$1806,Data!$H$6:$H$1806)","v":10},{"$f":"LOOKUP($AO254,Data!$A$6:$A$1806,Data!$I$6:$I$1806)","v":0},{"$f":"LOOKUP($AO254,Data!$A$6:$A$1806,Data!$J$6:$J$1806)","v":-103},{"$f":"LOOKUP($AO254,Data!$A$6:$A$1806,Data!$K$6:$K$1806)","v":7583.49},-5.5999755859375]
[null,40098.106388888562,{"$f":"LOOKUP(B255,Data!$A$6:$A$1806,Data!B$6:B$1806)","v":60.013999938964844},{"$f":"LOOKUP(B255,Data!$A$6:$A$1806,Data!C$6:C$1806)","v":3785.76806640625},null,null,null,-11.199951171875,-6.6086987926338878,null,null,0,3770.3642795937394,{"$f":"AVERAGE(D$79:D255)","v":3764.177795065325},{"$f":"AVERAGE(M$79:M255)","v":3781.2741833201899},3776.2778578541852,{"$f":"AVERAGE(P$79:P255)","v":3728.909450523533},633,null,null,null,null,null,null,0,633,-2322.9110660040596,null,null,null,null,null,null,null,null,null,null,null,null,null,40098.106388888562,{"$f":"LOOKUP($AO255,Data!$A$6:$A$1806,Data!$B$6:$B$1806)","v":60.013999938964844},{"$f":"LOOKUP($AO255,Data!$A$6:$A$1806,Data!$C$6:$C$1806)","v":3785.76806640625},{"$f":"LOOKUP($AO255,Data!$A$6:$A$1806,Data!$D$6:$D$1806)","v":335},{"$f":"IF($AS$1=\"+\",LOOKUP($AO255,Data!$A$6:$A$1806,Data!$E$6:$E$1806)*-1,LOOKUP($AO255,Data!$A$6:$A$1806,Data!$E$6:$E$1806))","v":-337.64291381835937},{"$f":"LOOKUP($AO255,Data!$A$6:$A$1806,Data!$F$6:$F$1806)","v":0},{"$f":"LOOKUP($AO255,Data!$A$6:$A$1806,Data!$G$6:$G$1806)","v":127},{"$f":"LOOKUP($AO255,Data!$A$6:$A$1806,Data!$H$6:$H$1806)","v":10},{"$f":"LOOKUP($AO255,Data!$A$6:$A$1806,Data!$I$6:$I$1806)","v":0},{"$f":"LOOKUP($AO255,Data!$A$6:$A$1806,Data!$J$6:$J$1806)","v":-103},{"$f":"LOOKUP($AO255,Data!$A$6:$A$1806,Data!$K$6:$K$1806)","v":7583.82},-11.199951171875]
[null,40098.106412036708,{"$f":"LOOKUP(B256,Data!$A$6:$A$1806,Data!B$6:B$1806)","v":60.013999938964844},{"$f":"LOOKUP(B256,Data!$A$6:$A$1806,Data!C$6:C$1806)","v":3785.76806640625},null,null,null,-11.199951171875,-8.2156371253682767,null,null,0,3768.757341261005,{"$f":"AVERAGE(D$79:D256)","v":3764.2990887245437},{"$f":"AVERAGE(M$79:M256)","v":3781.2038639827788},3776.2778578541852,{"$f":"AVERAGE(P$79:P256)","v":3729.1770686440445},633,null,null,null,null,null,null,0,633,-2322.9110660040596,null,null,null,null,null,null,null,null,null,null,null,null,null,40098.106412036708,{"$f":"LOOKUP($AO256,Data!$A$6:$A$1806,Data!$B$6:$B$1806)","v":60.013999938964844},{"$f":"LOOKUP($AO256,Data!$A$6:$A$1806,Data!$C$6:$C$1806)","v":3785.76806640625},{"$f":"LOOKUP($AO256,Data!$A$6:$A$1806,Data!$D$6:$D$1806)","v":335},{"$f":"IF($AS$1=\"+\",LOOKUP($AO256,Data!$A$6:$A$1806,Data!$E$6:$E$1806)*-1,LOOKUP($AO256,Data!$A$6:$A$1806,Data!$E$6:$E$1806))","v":-337.64291381835937},{"$f":"LOOKUP($AO256,Data!$A$6:$A$1806,Data!$F$6:$F$1806)","v":0},{"$f":"LOOKUP($AO256,Data!$A$6:$A$1806,Data!$G$6:$G$1806)","v":127},{"$f":"LOOKUP($AO256,Data!$A$6:$A$1806,Data!$H$6:$H$1806)","v":10},{"$f":"LOOKUP($AO256,Data!$A$6:$A$1806,Data!$I$6:$I$1806)","v":0},{"$f":"LOOKUP($AO256,Data!$A$6:$A$1806,Data!$J$6:$J$1806)","v":-103},{"$f":"LOOKUP($AO256,Data!$A$6:$A$1806,Data!$K$6:$K$1806)","v":7583.82},-11.199951171875]
[null,40098.106435184854,{"$f":"LOOKUP(B257,Data!$A$6:$A$1806,Data!B$6:B$1806)","v":60.019001007080078},{"$f":"LOOKUP(B257,Data!$A$6:$A$1806,Data!C$6:C$1806)","v":3786.30419921875},null,null,null,-15.2008056640625,-10.660446113911256,null,null,0,3766.3125322724618,{"$f":"AVERAGE(D$79:D257)","v":3764.4220223027237},{"$f":"AVERAGE(M$79:M257)","v":3781.1206721855142},3776.2778578541852,{"$f":"AVERAGE(P$79:P257)","v":3729.4416798193824},633,null,null,null,null,null,null,0,633,-2845.0433261894555,null,null,null,null,null,null,null,null,null,null,null,null,null,40098.106435184854,{"$f":"LOOKUP($AO257,Data!$A$6:$A$1806,Data!$B$6:$B$1806)","v":60.019001007080078},{"$f":"LOOKUP($AO257,Data!$A$6:$A$1806,Data!$C$6:$C$1806)","v":3786.30419921875},{"$f":"LOOKUP($AO257,Data!$A$6:$A$1806,Data!$D$6:$D$1806)","v":335},{"$f":"IF($AS$1=\"+\",LOOKUP($AO257,Data!$A$6:$A$1806,Data!$E$6:$E$1806)*-1,LOOKUP($AO257,Data!$A$6:$A$1806,Data!$E$6:$E$1806))","v":-337.64291381835937},{"$f":"LOOKUP($AO257,Data!$A$6:$A$1806,Data!$F$6:$F$1806)","v":0},{"$f":"LOOKUP($AO257,Data!$A$6:$A$1806,Data!$G$6:$G$1806)","v":127.5},{"$f":"LOOKUP($AO257,Data!$A$6:$A$1806,Data!$H$6:$H$1806)","v":10},{"$f":"LOOKUP($AO257,Data!$A$6:$A$1806,Data!$I$6:$I$1806)","v":0},{"$f":"LOOKUP($AO257,Data!$A$6:$A$1806,Data!$J$6:$J$1806)","v":-103},{"$f":"LOOKUP($AO257,Data!$A$6:$A$1806,Data!$K$6:$K$1806)","v":7584.15},-15.2008056640625]
[null,40098.106458333001,{"$f":"LOOKUP(B258,Data!$A$6:$A$1806,Data!B$6:B$1806)","v":60.019001007080078},{"$f":"LOOKUP(B258,Data!$A$6:$A$1806,Data!C$6:C$1806)","v":3786.30419921875},null,null,null,-15.2008056640625,-12.249571956464191,null,null,0,3764.7234064299087,{"$f":"AVERAGE(D$79:D258)","v":3764.5435899522568},{"$f":"AVERAGE(M$79:M258)","v":3781.0295762646497},3776.2778578541852,{"$f":"AVERAGE(P$79:P258)","v":3729.7033344452748},633,null,null,null,null,null,null,0,633,-2845.0433261894555,null,null,null,null,null,null,null,null,null,null,null,null,null,40098.106458333001,{"$f":"LOOKUP($AO258,Data!$A$6:$A$1806,Data!$B$6:$B$1806)","v":60.019001007080078},{"$f":"LOOKUP($AO258,Data!$A$6:$A$1806,Data!$C$6:$C$1806)","v":3786.30419921875},{"$f":"LOOKUP($AO258,Data!$A$6:$A$1806,Data!$D$6:$D$1806)","v":335},{"$f":"IF($AS$1=\"+\",LOOKUP($AO258,Data!$A$6:$A$1806,Data!$E$6:$E$1806)*-1,LOOKUP($AO258,Data!$A$6:$A$1806,Data!$E$6:$E$1806))","v":-337.64291381835937},{"$f":"LOOKUP($AO258,Data!$A$6:$A$1806,Data!$F$6:$F$1806)","v":0},{"$f":"LOOKUP($AO258,Data!$A$6:$A$1806,Data!$G$6:$G$1806)","v":127.5},{"$f":"LOOKUP($AO258,Data!$A$6:$A$1806,Data!$H$6:$H$1806)","v":10},{"$f":"LOOKUP($AO258,Data!$A$6:$A$1806,Data!$I$6:$I$1806)","v":0},{"$f":"LOOKUP($AO258,Data!$A$6:$A$1806,Data!$J$6:$J$1806)","v":-103},{"$f":"LOOKUP($AO258,Data!$A$6:$A$1806,Data!$K$6:$K$1806)","v":7584.15},-15.2008056640625]
[null,40098.106481481147,{"$f":"LOOKUP(B259,Data!$A$6:$A$1806,Data!B$6:B$1806)","v":60.019001007080078},{"$f":"LOOKUP(B259,Data!$A$6:$A$1806,Data!C$6:C$1806)","v":3786.30419921875},null,null,null,-15.2008056640625,-13.282503754123599,null,null,0,3763.6904746322493,{"$f":"AVERAGE(D$79:D259)","v":3764.6638143128453},{"$f":"AVERAGE(M$79:M259)","v":3780.933780123034},3776.2778578541852,{"$f":"AVERAGE(P$79:P259)","v":3729.9620817975465},633,null,null,null,null,null,null,0,633,-2845.0433261894555,null,null,null,null,null,null,null,null,null,null,null,null,null,40098.106481481147,{"$f":"LOOKUP($AO259,Data!$A$6:$A$1806,Data!$B$6:$B$1806)","v":60.019001007080078},{"$f":"LOOKUP($AO259,Data!$A$6:$A$1806,Data!$C$6:$C$1806)","v":3786.30419921875},{"$f":"LOOKUP($AO259,Data!$A$6:$A$1806,Data!$D$6:$D$1806)","v":335},{"$f":"IF($AS$1=\"+\",LOOKUP($AO259,Data!$A$6:$A$1806,Data!$E$6:$E$1806)*-1,LOOKUP($AO259,Data!$A$6:$A$1806,Data!$E$6:$E$1806))","v":-337.64291381835937},{"$f":"LOOKUP($AO259,Data!$A$6:$A$1806,Data!$F$6:$F$1806)","v":0},{"$f":"LOOKUP($AO259,Data!$A$6:$A$1806,Data!$G$6:$G$1806)","v":127.5},{"$f":"LOOKUP($AO259,Data!$A$6:$A$1806,Data!$H$6:$H$1806)","v":10},{"$f":"LOOKUP($AO259,Data!$A$6:$A$1806,Data!$I$6:$I$1806)","v":0},{"$f":"LOOKUP($AO259,Data!$A$6:$A$1806,Data!$J$6:$J$1806)","v":-103},{"$f":"LOOKUP($AO259,Data!$A$6:$A$1806,Data!$K$6:$K$1806)","v":7584.15},-15.2008056640625]
[null,40098.106504629293,{"$f":"LOOKUP(B260,Data!$A$6:$A$1806,Data!B$6:B$1806)","v":60.016998291015625},{"$f":"LOOKUP(B260,Data!$A$6:$A$1806,Data!C$6:C$1806)","v":3787.515869140625},null,null,null,-13.5986328125,-13.393148924555339,null,null,0,3763.5798294618176,{"$f":"AVERAGE(D$79:D260)","v":3764.7893750536573},{"$f":"AVERAGE(M$79:M260)","v":3780.8384287457748},3776.2778578541852,{"$f":"AVERAGE(P$79:P260)","v":3730.2179700630527},633,null,null,null,null,null,null,0,633,-2610.1006999606766,null,null,null,null,null,null,null,null,null,null,null,null,null,40098.106504629293,{"$f":"LOOKUP($AO260,Data!$A$6:$A$1806,Data!$B$6:$B$1806)","v":60.016998291015625},{"$f":"LOOKUP($AO260,Data!$A$6:$A$1806,Data!$C$6:$C$1806)","v":3787.515869140625},{"$f":"LOOKUP($AO260,Data!$A$6:$A$1806,Data!$D$6:$D$1806)","v":335},{"$f":"IF($AS$1=\"+\",LOOKUP($AO260,Data!$A$6:$A$1806,Data!$E$6:$E$1806)*-1,LOOKUP($AO260,Data!$A$6:$A$1806,Data!$E$6:$E$1806))","v":-337.64291381835937},{"$f":"LOOKUP($AO260,Data!$A$6:$A$1806,Data!$F$6:$F$1806)","v":0},{"$f":"LOOKUP($AO260,Data!$A$6:$A$1806,Data!$G$6:$G$1806)","v":128},{"$f":"LOOKUP($AO260,Data!$A$6:$A$1806,Data!$H$6:$H$1806)","v":10},{"$f":"LOOKUP($AO260,Data!$A$6:$A$1806,Data!$I$6:$I$1806)","v":0},{"$f":"LOOKUP($AO260,Data!$A$6:$A$1806,Data!$J$6:$J$1806)","v":-103},{"$f":"LOOKUP($AO260,Data!$A$6:$A$1806,Data!$K$6:$K$1806)","v":7584.48},-13.5986328125]
[null,40098.10652777744,{"$f":"LOOKUP(B261,Data!$A$6:$A$1806,Data!B$6:B$1806)","v":60.016998291015625},{"$f":"LOOKUP(B261,Data!$A$6:$A$1806,Data!C$6:C$1806)","v":3787.515869140625},null,null,null,-13.5986328125,-13.46506828533597,null,null,0,3763.5079101010369,{"$f":"AVERAGE(D$79:D261)","v":3764.9135635459356},{"$f":"AVERAGE(M$79:M261)","v":3780.743726458099},3776.2778578541852,{"$f":"AVERAGE(P$79:P261)","v":3730.4710463695969},633,null,null,null,null,null,null,0,633,-2610.1006999606766,null,null,null,null,null,null,null,null,null,null,null,null,null,40098.10652777744,{"$f":"LOOKUP($AO261,Data!$A$6:$A$1806,Data!$B$6:$B$1806)","v":60.016998291015625},{"$f":"LOOKUP($AO261,Data!$A$6:$A$1806,Data!$C$6:$C$1806)","v":3787.515869140625},{"$f":"LOOKUP($AO261,Data!$A$6:$A$1806,Data!$D$6:$D$1806)","v":335},{"$f":"IF($AS$1=\"+\",LOOKUP($AO261,Data!$A$6:$A$1806,Data!$E$6:$E$1806)*-1,LOOKUP($AO261,Data!$A$6:$A$1806,Data!$E$6:$E$1806))","v":-337.64291381835937},{"$f":"LOOKUP($AO261,Data!$A$6:$A$1806,Data!$F$6:$F$1806)","v":0},{"$f":"LOOKUP($AO261,Data!$A$6:$A$1806,Data!$G$6:$G$1806)","v":128},{"$f":"LOOKUP($AO261,Data!$A$6:$A$1806,Data!$H$6:$H$1806)","v":10},{"$f":"LOOKUP($AO261,Data!$A$6:$A$1806,Data!$I$6:$I$1806)","v":0},{"$f":"LOOKUP($AO261,Data!$A$6:$A$1806,Data!$J$6:$J$1806)","v":-103},{"$f":"LOOKUP($AO261,Data!$A$6:$A$1806,Data!$K$6:$K$1806)","v":7584.48},-13.5986328125]
[null,40098.106550925586,{"$f":"LOOKUP(B262,Data!$A$6:$A$1806,Data!B$6:B$1806)","v":60.022998809814453},{"$f":"LOOKUP(B262,Data!$A$6:$A$1806,Data!C$6:C$1806)","v":3788.606689453125},null,null,null,-18.3990478515625,-15.191961133515257,null,null,0,3761.7810172528575,{"$f":"AVERAGE(D$79:D262)","v":3765.0423305345616},{"$f":"AVERAGE(M$79:M262)","v":3780.6406682558963},3776.2778578541852,{"$f":"AVERAGE(P$79:P262)","v":3730.7213568148677},633,null,null,null,null,null,null,0,633,-3468.2234716271291,null,null,null,null,null,null,null,null,null,null,null,null,null,40098.106550925586,{"$f":"LOOKUP($AO262,Data!$A$6:$A$1806,Data!$B$6:$B$1806)","v":60.022998809814453},{"$f":"LOOKUP($AO262,Data!$A$6:$A$1806,Data!$C$6:$C$1806)","v":3788.606689453125},{"$f":"LOOKUP($AO262,Data!$A$6:$A$1806,Data!$D$6:$D$1806)","v":335},{"$f":"IF($AS$1=\"+\",LOOKUP($AO262,Data!$A$6:$A$1806,Data!$E$6:$E$1806)*-1,LOOKUP($AO262,Data!$A$6:$A$1806,Data!$E$6:$E$1806))","v":-337.64291381835937},{"$f":"LOOKUP($AO262,Data!$A$6:$A$1806,Data!$F$6:$F$1806)","v":0},{"$f":"LOOKUP($AO262,Data!$A$6:$A$1806,Data!$G$6:$G$1806)","v":128.5},{"$f":"LOOKUP($AO262,Data!$A$6:$A$1806,Data!$H$6:$H$1806)","v":10},{"$f":"LOOKUP($AO262,Data!$A$6:$A$1806,Data!$I$6:$I$1806)","v":0},{"$f":"LOOKUP($AO262,Data!$A$6:$A$1806,Data!$J$6:$J$1806)","v":-103},{"$f":"LOOKUP($AO262,Data!$A$6:$A$1806,Data!$K$6:$K$1806)","v":7584.81},-18.3990478515625]
[null,40098.106574073732,{"$f":"LOOKUP(B263,Data!$A$6:$A$1806,Data!B$6:B$1806)","v":60.022998809814453},{"$f":"LOOKUP(B263,Data!$A$6:$A$1806,Data!C$6:C$1806)","v":3788.606689453125},null,null,null,-18.3990478515625,-16.314441484831793,null,null,0,3760.6585369015411,{"$f":"AVERAGE(D$79:D263)","v":3765.1697054476354},{"$f":"AVERAGE(M$79:M263)","v":3780.5326567350621},3776.2778578541852,{"$f":"AVERAGE(P$79:P263)","v":3730.968946494429},633,null,null,null,null,null,null,0,633,-3468.2234716271291,null,null,null,null,null,null,null,null,null,null,null,null,null,40098.106574073732,{"$f":"LOOKUP($AO263,Data!$A$6:$A$1806,Data!$B$6:$B$1806)","v":60.022998809814453},{"$f":"LOOKUP($AO263,Data!$A$6:$A$1806,Data!$C$6:$C$1806)","v":3788.606689453125},{"$f":"LOOKUP($AO263,Data!$A$6:$A$1806,Data!$D$6:$D$1806)","v":335},{"$f":"IF($AS$1=\"+\",LOOKUP($AO263,Data!$A$6:$A$1806,Data!$E$6:$E$1806)*-1,LOOKUP($AO263,Data!$A$6:$A$1806,Data!$E$6:$E$1806))","v":-337.64291381835937},{"$f":"LOOKUP($AO263,Data!$A$6:$A$1806,Data!$F$6:$F$1806)","v":0},{"$f":"LOOKUP($AO263,Data!$A$6:$A$1806,Data!$G$6:$G$1806)","v":128.5},{"$f":"LOOKUP($AO263,Data!$A$6:$A$1806,Data!$H$6:$H$1806)","v":10},{"$f":"LOOKUP($AO263,Data!$A$6:$A$1806,Data!$I$6:$I$1806)","v":0},{"$f":"LOOKUP($AO263,Data!$A$6:$A$1806,Data!$J$6:$J$1806)","v":-103},{"$f":"LOOKUP($AO263,Data!$A$6:$A$1806,Data!$K$6:$K$1806)","v":7584.81},-18.3990478515625]
[null,40098.106597221878,{"$f":"LOOKUP(B264,Data!$A$6:$A$1806,Data!B$6:B$1806)","v":60.022998809814453},{"$f":"LOOKUP(B264,Data!$A$6:$A$1806,Data!C$6:C$1806)","v":3788.606689453125},null,null,null,-18.3990478515625,-17.044053713187541,null,null,0,3759.9289246731855,{"$f":"AVERAGE(D$79:D264)","v":3765.2957107379871},{"$f":"AVERAGE(M$79:M264)","v":3780.4218839820419},3776.2778578541852,{"$f":"AVERAGE(P$79:P264)","v":3731.2138595288061},633,null,null,null,null,null,null,0,633,-3468.2234716271291,null,null,null,null,null,null,null,null,null,null,null,null,null,40098.106597221878,{"$f":"LOOKUP($AO264,Data!$A$6:$A$1806,Data!$B$6:$B$1806)","v":60.022998809814453},{"$f":"LOOKUP($AO264,Data!$A$6:$A$1806,Data!$C$6:$C$1806)","v":3788.606689453125},{"$f":"LOOKUP($AO264,Data!$A$6:$A$1806,Data!$D$6:$D$1806)","v":335},{"$f":"IF($AS$1=\"+\",LOOKUP($AO264,Data!$A$6:$A$1806,Data!$E$6:$E$1806)*-1,LOOKUP($AO264,Data!$A$6:$A$1806,Data!$E$6:$E$1806))","v":-337.64291381835937},{"$f":"LOOKUP($AO264,Data!$A$6:$A$1806,Data!$F$6:$F$1806)","v":0},{"$f":"LOOKUP($AO264,Data!$A$6:$A$1806,Data!$G$6:$G$1806)","v":128.5},{"$f":"LOOKUP($AO264,Data!$A$6:$A$1806,Data!$H$6:$H$1806)","v":10},{"$f":"LOOKUP($AO264,Data!$A$6:$A$1806,Data!$I$6:$I$1806)","v":0},{"$f":"LOOKUP($AO264,Data!$A$6:$A$1806,Data!$J$6:$J$1806)","v":-103},{"$f":"LOOKUP($AO264,Data!$A$6:$A$1806,Data!$K$6:$K$1806)","v":7584.81},-18.3990478515625]
[null,40098.106620370025,{"$f":"LOOKUP(B265,Data!$A$6:$A$1806,Data!B$6:B$1806)","v":60.020999908447266},{"$f":"LOOKUP(B265,Data!$A$6:$A$1806,Data!C$6:C$1806)","v":3787.53662109375},null,null,null,-16.7999267578125,-16.958609278806279,null,null,0,3760.0143691075668,{"$f":"AVERAGE(D$79:D265)","v":3765.4146460874831},{"$f":"AVERAGE(M$79:M265)","v":3780.3127528864561},3776.2778578541852,{"$f":"AVERAGE(P$79:P265)","v":3731.4561390896947},633,null,null,null,null,null,null,0,633,-3125.8764622774797,null,null,null,null,null,null,null,null,null,null,null,null,null,40098.106620370025,{"$f":"LOOKUP($AO265,Data!$A$6:$A$1806,Data!$B$6:$B$1806)","v":60.020999908447266},{"$f":"LOOKUP($AO265,Data!$A$6:$A$1806,Data!$C$6:$C$1806)","v":3787.53662109375},{"$f":"LOOKUP($AO265,Data!$A$6:$A$1806,Data!$D$6:$D$1806)","v":335},{"$f":"IF($AS$1=\"+\",LOOKUP($AO265,Data!$A$6:$A$1806,Data!$E$6:$E$1806)*-1,LOOKUP($AO265,Data!$A$6:$A$1806,Data!$E$6:$E$1806))","v":-284.36083984375},{"$f":"LOOKUP($AO265,Data!$A$6:$A$1806,Data!$F$6:$F$1806)","v":0},{"$f":"LOOKUP($AO265,Data!$A$6:$A$1806,Data!$G$6:$G$1806)","v":129},{"$f":"LOOKUP($AO265,Data!$A$6:$A$1806,Data!$H$6:$H$1806)","v":10},{"$f":"LOOKUP($AO265,Data!$A$6:$A$1806,Data!$I$6:$I$1806)","v":0},{"$f":"LOOKUP($AO265,Data!$A$6:$A$1806,Data!$J$6:$J$1806)","v":-103},{"$f":"LOOKUP($AO265,Data!$A$6:$A$1806,Data!$K$6:$K$1806)","v":7585.14},-16.7999267578125]
[null,40098.106643518171,{"$f":"LOOKUP(B266,Data!$A$6:$A$1806,Data!B$6:B$1806)","v":60.020999908447266},{"$f":"LOOKUP(B266,Data!$A$6:$A$1806,Data!C$6:C$1806)","v":3787.53662109375},null,null,null,-16.7999267578125,-16.903070396458457,null,null,0,3760.0699079899146,{"$f":"AVERAGE(D$79:D266)","v":3765.5323161673036},{"$f":"AVERAGE(M$79:M266)","v":3780.2050781795597},3776.2778578541852,{"$f":"AVERAGE(P$79:P266)","v":3731.6958274253338},633,null,null,null,null,null,null,0,633,-3125.8764622774797,null,null,null,null,null,null,null,null,null,null,null,null,null,40098.106643518171,{"$f":"LOOKUP($AO266,Data!$A$6:$A$1806,Data!$B$6:$B$1806)","v":60.020999908447266},{"$f":"LOOKUP($AO266,Data!$A$6:$A$1806,Data!$C$6:$C$1806)","v":3787.53662109375},{"$f":"LOOKUP($AO266,Data!$A$6:$A$1806,Data!$D$6:$D$1806)","v":335},{"$f":"IF($AS$1=\"+\",LOOKUP($AO266,Data!$A$6:$A$1806,Data!$E$6:$E$1806)*-1,LOOKUP($AO266,Data!$A$6:$A$1806,Data!$E$6:$E$1806))","v":-284.36083984375},{"$f":"LOOKUP($AO266,Data!$A$6:$A$1806,Data!$F$6:$F$1806)","v":0},{"$f":"LOOKUP($AO266,Data!$A$6:$A$1806,Data!$G$6:$G$1806)","v":129},{"$f":"LOOKUP($AO266,Data!$A$6:$A$1806,Data!$H$6:$H$1806)","v":10},{"$f":"LOOKUP($AO266,Data!$A$6:$A$1806,Data!$I$6:$I$1806)","v":0},{"$f":"LOOKUP($AO266,Data!$A$6:$A$1806,Data!$J$6:$J$1806)","v":-103},{"$f":"LOOKUP($AO266,Data!$A$6:$A$1806,Data!$K$6:$K$1806)","v":7585.14},-16.7999267578125]
[null,40098.106666666317,{"$f":"LOOKUP(B267,Data!$A$6:$A$1806,Data!B$6:B$1806)","v":60.023998260498047},{"$f":"LOOKUP(B267,Data!$A$6:$A$1806,Data!C$6:C$1806)","v":3787.930419921875},null,null,null,-19.1986083984375,-17.706508697151122,null,null,0,3759.266469689222,{"$f":"AVERAGE(D$79:D267)","v":3765.6508246527778},{"$f":"AVERAGE(M$79:M267)","v":3780.094291891251},3776.2778578541852,{"$f":"AVERAGE(P$79:P267)","v":3731.9329658850615},633,null,null,null,null,null,null,0,633,-3669.146533996683,null,null,null,null,null,null,null,null,null,null,null,null,null,40098.106666666317,{"$f":"LOOKUP($AO267,Data!$A$6:$A$1806,Data!$B$6:$B$1806)","v":60.023998260498047},{"$f":"LOOKUP($AO267,Data!$A$6:$A$1806,Data!$C$6:$C$1806)","v":3787.930419921875},{"$f":"LOOKUP($AO267,Data!$A$6:$A$1806,Data!$D$6:$D$1806)","v":335},{"$f":"IF($AS$1=\"+\",LOOKUP($AO267,Data!$A$6:$A$1806,Data!$E$6:$E$1806)*-1,LOOKUP($AO267,Data!$A$6:$A$1806,Data!$E$6:$E$1806))","v":-284.36083984375},{"$f":"LOOKUP($AO267,Data!$A$6:$A$1806,Data!$F$6:$F$1806)","v":0},{"$f":"LOOKUP($AO267,Data!$A$6:$A$1806,Data!$G$6:$G$1806)","v":129.5},{"$f":"LOOKUP($AO267,Data!$A$6:$A$1806,Data!$H$6:$H$1806)","v":10},{"$f":"LOOKUP($AO267,Data!$A$6:$A$1806,Data!$I$6:$I$1806)","v":0},{"$f":"LOOKUP($AO267,Data!$A$6:$A$1806,Data!$J$6:$J$1806)","v":-103},{"$f":"LOOKUP($AO267,Data!$A$6:$A$1806,Data!$K$6:$K$1806)","v":7585.47},-19.1986083984375]
[null,40098.106689814464,{"$f":"LOOKUP(B268,Data!$A$6:$A$1806,Data!B$6:B$1806)","v":60.023998260498047},{"$f":"LOOKUP(B268,Data!$A$6:$A$1806,Data!C$6:C$1806)","v":3787.930419921875},null,null,null,-19.1986083984375,-18.228743592601354,null,null,0,3758.7442347937717,{"$f":"AVERAGE(D$79:D268)","v":3765.76808568051},{"$f":"AVERAGE(M$79:M268)","v":3779.9819231696856},3776.2778578541852,{"$f":"AVERAGE(P$79:P268)","v":3732.1675949430987},633,null,null,null,null,null,null,0,633,-3669.146533996683,null,null,null,null,null,null,null,null,null,null,null,null,null,40098.106689814464,{"$f":"LOOKUP($AO268,Data!$A$6:$A$1806,Data!$B$6:$B$1806)","v":60.023998260498047},{"$f":"LOOKUP($AO268,Data!$A$6:$A$1806,Data!$C$6:$C$1806)","v":3787.930419921875},{"$f":"LOOKUP($AO268,Data!$A$6:$A$1806,Data!$D$6:$D$1806)","v":335},{"$f":"IF($AS$1=\"+\",LOOKUP($AO268,Data!$A$6:$A$1806,Data!$E$6:$E$1806)*-1,LOOKUP($AO268,Data!$A$6:$A$1806,Data!$E$6:$E$1806))","v":-284.36083984375},{"$f":"LOOKUP($AO268,Data!$A$6:$A$1806,Data!$F$6:$F$1806)","v":0},{"$f":"LOOKUP($AO268,Data!$A$6:$A$1806,Data!$G$6:$G$1806)","v":129.5},{"$f":"LOOKUP($AO268,Data!$A$6:$A$1806,Data!$H$6:$H$1806)","v":10},{"$f":"LOOKUP($AO268,Data!$A$6:$A$1806,Data!$I$6:$I$1806)","v":0},{"$f":"LOOKUP($AO268,Data!$A$6:$A$1806,Data!$J$6:$J$1806)","v":-103},{"$f":"LOOKUP($AO268,Data!$A$6:$A$1806,Data!$K$6:$K$1806)","v":7585.47},-19.1986083984375]
[null,40098.10671296261,{"$f":"LOOKUP(B269,Data!$A$6:$A$1806,Data!B$6:B$1806)","v":60.023998260498047},{"$f":"LOOKUP(B269,Data!$A$6:$A$1806,Data!C$6:C$1806)","v":3787.930419921875},null,null,null,-19.1986083984375,-18.568196274644006,null,null,0,3758.4047821117292,{"$f":"AVERAGE(D$79:D269)","v":3765.8841188440774},{"$f":"AVERAGE(M$79:M269)","v":3779.8689538447748},3776.2778578541852,{"$f":"AVERAGE(P$79:P269)","v":3732.399754221578},633,null,null,null,null,null,null,0,633,-3669.146533996683,null,null,null,null,null,null,null,null,null,null,null,null,null,40098.10671296261,{"$f":"LOOKUP($AO269,Data!$A$6:$A$1806,Data!$B$6:$B$1806)","v":60.023998260498047},{"$f":"LOOKUP($AO269,Data!$A$6:$A$1806,Data!$C$6:$C$1806)","v":3787.930419921875},{"$f":"LOOKUP($AO269,Data!$A$6:$A$1806,Data!$D$6:$D$1806)","v":335},{"$f":"IF($AS$1=\"+\",LOOKUP($AO269,Data!$A$6:$A$1806,Data!$E$6:$E$1806)*-1,LOOKUP($AO269,Data!$A$6:$A$1806,Data!$E$6:$E$1806))","v":-284.36083984375},{"$f":"LOOKUP($AO269,Data!$A$6:$A$1806,Data!$F$6:$F$1806)","v":0},{"$f":"LOOKUP($AO269,Data!$A$6:$A$1806,Data!$G$6:$G$1806)","v":129.5},{"$f":"LOOKUP($AO269,Data!$A$6:$A$1806,Data!$H$6:$H$1806)","v":10},{"$f":"LOOKUP($AO269,Data!$A$6:$A$1806,Data!$I$6:$I$1806)","v":0},{"$f":"LOOKUP($AO269,Data!$A$6:$A$1806,Data!$J$6:$J$1806)","v":-103},{"$f":"LOOKUP($AO269,Data!$A$6:$A$1806,Data!$K$6:$K$1806)","v":7585.47},-19.1986083984375]
[null,40098.106736110756,{"$f":"LOOKUP(B270,Data!$A$6:$A$1806,Data!B$6:B$1806)","v":60.020000457763672},{"$f":"LOOKUP(B270,Data!$A$6:$A$1806,Data!C$6:C$1806)","v":3786.874755859375},null,null,null,-16.0003662109375,-17.669455752346728,null,null,0,3759.3035226340266,{"$f":"AVERAGE(D$79:D270)","v":3765.9934450785317},{"$f":"AVERAGE(M$79:M270)","v":3779.7618422238852},3776.2778578541852,{"$f":"AVERAGE(P$79:P270)","v":3732.629482512848},633,null,null,null,null,null,null,0,633,-2978.8556143972714,null,null,null,null,null,null,null,null,null,null,null,null,null,40098.106736110756,{"$f":"LOOKUP($AO270,Data!$A$6:$A$1806,Data!$B$6:$B$1806)","v":60.020000457763672},{"$f":"LOOKUP($AO270,Data!$A$6:$A$1806,Data!$C$6:$C$1806)","v":3786.874755859375},{"$f":"LOOKUP($AO270,Data!$A$6:$A$1806,Data!$D$6:$D$1806)","v":350},{"$f":"IF($AS$1=\"+\",LOOKUP($AO270,Data!$A$6:$A$1806,Data!$E$6:$E$1806)*-1,LOOKUP($AO270,Data!$A$6:$A$1806,Data!$E$6:$E$1806))","v":-284.36083984375},{"$f":"LOOKUP($AO270,Data!$A$6:$A$1806,Data!$F$6:$F$1806)","v":0},{"$f":"LOOKUP($AO270,Data!$A$6:$A$1806,Data!$G$6:$G$1806)","v":130},{"$f":"LOOKUP($AO270,Data!$A$6:$A$1806,Data!$H$6:$H$1806)","v":10},{"$f":"LOOKUP($AO270,Data!$A$6:$A$1806,Data!$I$6:$I$1806)","v":0},{"$f":"LOOKUP($AO270,Data!$A$6:$A$1806,Data!$J$6:$J$1806)","v":-103},{"$f":"LOOKUP($AO270,Data!$A$6:$A$1806,Data!$K$6:$K$1806)","v":7585.8},-16.0003662109375]
[null,40098.106759258902,{"$f":"LOOKUP(B271,Data!$A$6:$A$1806,Data!B$6:B$1806)","v":60.020000457763672},{"$f":"LOOKUP(B271,Data!$A$6:$A$1806,Data!C$6:C$1806)","v":3786.874755859375},null,null,null,-16.0003662109375,-17.085274412853501,null,null,0,3759.8877039735198,{"$f":"AVERAGE(D$79:D271)","v":3766.1016383986398},{"$f":"AVERAGE(M$79:M271)","v":3779.6588674142981},3776.2778578541852,{"$f":"AVERAGE(P$79:P271)","v":3732.8568178010842},633,null,null,null,null,null,null,0,633,-2978.8556143972714,null,null,null,null,null,null,null,null,null,null,null,null,null,40098.106759258902,{"$f":"LOOKUP($AO271,Data!$A$6:$A$1806,Data!$B$6:$B$1806)","v":60.020000457763672},{"$f":"LOOKUP($AO271,Data!$A$6:$A$1806,Data!$C$6:$C$1806)","v":3786.874755859375},{"$f":"LOOKUP($AO271,Data!$A$6:$A$1806,Data!$D$6:$D$1806)","v":350},{"$f":"IF($AS$1=\"+\",LOOKUP($AO271,Data!$A$6:$A$1806,Data!$E$6:$E$1806)*-1,LOOKUP($AO271,Data!$A$6:$A$1806,Data!$E$6:$E$1806))","v":-284.36083984375},{"$f":"LOOKUP($AO271,Data!$A$6:$A$1806,Data!$F$6:$F$1806)","v":0},{"$f":"LOOKUP($AO271,Data!$A$6:$A$1806,Data!$G$6:$G$1806)","v":130},{"$f":"LOOKUP($AO271,Data!$A$6:$A$1806,Data!$H$6:$H$1806)","v":10},{"$f":"LOOKUP($AO271,Data!$A$6:$A$1806,Data!$I$6:$I$1806)","v":0},{"$f":"LOOKUP($AO271,Data!$A$6:$A$1806,Data!$J$6:$J$1806)","v":-103},{"$f":"LOOKUP($AO271,Data!$A$6:$A$1806,Data!$K$6:$K$1806)","v":7585.8},-16.0003662109375]
[null,40098.106782407049,{"$f":"LOOKUP(B272,Data!$A$6:$A$1806,Data!B$6:B$1806)","v":60.023998260498047},{"$f":"LOOKUP(B272,Data!$A$6:$A$1806,Data!C$6:C$1806)","v":3785.01806640625},null,null,null,-19.1986083984375,-17.824941307807901,null,null,{"$f":"IF(B272>G$3,0,(K$21*0.000023148/K$22))","v":0},{"$f":"M271+L272+(I272-I271)","v":3759.1480370785653},{"$f":"AVERAGE(D$79:D272)","v":3766.1991457595041},{"$f":"AVERAGE(M$79:M272)","v":3779.5531414847324},3776.2778578541852,{"$f":"AVERAGE(P$79:P272)","v":3733.0817972832242},633,null,null,null,null,null,null,0,633,{"$f":"Z272/((C272-G$4)*10)","v":-3669.146533996683},null,null,null,null,null,null,null,null,null,null,null,null,null,40098.106782407049,{"$f":"LOOKUP($AO272,Data!$A$6:$A$1806,Data!$B$6:$B$1806)","v":60.023998260498047},{"$f":"LOOKUP($AO272,Data!$A$6:$A$1806,Data!$C$6:$C$1806)","v":3785.01806640625},{"$f":"LOOKUP($AO272,Data!$A$6:$A$1806,Data!$D$6:$D$1806)","v":350},{"$f":"IF($AS$1=\"+\",LOOKUP($AO272,Data!$A$6:$A$1806,Data!$E$6:$E$1806)*-1,LOOKUP($AO272,Data!$A$6:$A$1806,Data!$E$6:$E$1806))","v":-284.36083984375},{"$f":"LOOKUP($AO272,Data!$A$6:$A$1806,Data!$F$6:$F$1806)","v":0},{"$f":"LOOKUP($AO272,Data!$A$6:$A$1806,Data!$G$6:$G$1806)","v":130.5},{"$f":"LOOKUP($AO272,Data!$A$6:$A$1806,Data!$H$6:$H$1806)","v":10},{"$f":"LOOKUP($AO272,Data!$A$6:$A$1806,Data!$I$6:$I$1806)","v":0},{"$f":"LOOKUP($AO272,Data!$A$6:$A$1806,Data!$J$6:$J$1806)","v":-103},{"$f":"LOOKUP($AO272,Data!$A$6:$A$1806,Data!$K$6:$K$1806)","v":7586.13},-19.1986083984375]
[null,40098.106805555195,{"$f":"LOOKUP(B273,Data!$A$6:$A$1806,Data!B$6:B$1806)","v":60.023998260498047},{"$f":"LOOKUP(B273,Data!$A$6:$A$1806,Data!C$6:C$1806)","v":3785.01806640625},null,null,null,-19.1986083984375,-18.305724789528263,null,null,0,3758.6672535968451,{"$f":"AVERAGE(D$79:D273)","v":3766.2956530448719},{"$f":"AVERAGE(M$79:M273)","v":3779.4460343673586},3776.2778578541852,{"$f":"AVERAGE(P$79:P273)","v":3733.3044573892598},{"$f":"R$41","v":633},null,null,null,null,null,null,0,633,-3669.146533996683,null,null,null,null,null,null,null,null,null,null,null,null,null,{"$f":"AO272+TIME(0,0,$B$1)","v":40098.106805555195},{"$f":"LOOKUP($AO273,Data!$A$6:$A$1806,Data!$B$6:$B$1806)","v":60.023998260498047},{"$f":"LOOKUP($AO273,Data!$A$6:$A$1806,Data!$C$6:$C$1806)","v":3785.01806640625},{"$f":"LOOKUP($AO273,Data!$A$6:$A$1806,Data!$D$6:$D$1806)","v":350},{"$f":"IF($AS$1=\"+\",LOOKUP($AO273,Data!$A$6:$A$1806,Data!$E$6:$E$1806)*-1,LOOKUP($AO273,Data!$A$6:$A$1806,Data!$E$6:$E$1806))","v":-284.36083984375},{"$f":"LOOKUP($AO273,Data!$A$6:$A$1806,Data!$F$6:$F$1806)","v":0},{"$f":"LOOKUP($AO273,Data!$A$6:$A$1806,Data!$G$6:$G$1806)","v":130.5},{"$f":"LOOKUP($AO273,Data!$A$6:$A$1806,Data!$H$6:$H$1806)","v":10},{"$f":"LOOKUP($AO273,Data!$A$6:$A$1806,Data!$I$6:$I$1806)","v":0},{"$f":"LOOKUP($AO273,Data!$A$6:$A$1806,Data!$J$6:$J$1806)","v":-103},{"$f":"LOOKUP($AO273,Data!$A$6:$A$1806,Data!$K$6:$K$1806)","v":7586.13},-19.1986083984375]
[null,40098.106828703341,{"$f":"LOOKUP(B274,Data!$A$6:$A$1806,Data!B$6:B$1806)","v":60.023998260498047},{"$f":"LOOKUP(B274,Data!$A$6:$A$1806,Data!C$6:C$1806)","v":3785.01806640625},null,null,null,-19.1986083984375,-18.618234052646496,null,null,0,3758.354744333727,{"$f":"AVERAGE(D$79:D274)","v":3766.3911755620215},{"$f":"AVERAGE(M$79:M274)","v":3779.3384257447383},{"$f":"P273+L274","v":3776.2778578541852},{"$f":"AVERAGE(P$79:P274)","v":3733.5248338019005},633,null,null,null,null,null,null,0,633,-3669.146533996683,null,null,null,null,null,null,null,null,null,null,null,null,null,40098.106828703341,{"$f":"LOOKUP($AO274,Data!$A$6:$A$1806,Data!$B$6:$B$1806)","v":60.023998260498047},{"$f":"LOOKUP($AO274,Data!$A$6:$A$1806,Data!$C$6:$C$1806)","v":3785.01806640625},{"$f":"LOOKUP($AO274,Data!$A$6:$A$1806,Data!$D$6:$D$1806)","v":350},{"$f":"IF($AS$1=\"+\",LOOKUP($AO274,Data!$A$6:$A$1806,Data!$E$6:$E$1806)*-1,LOOKUP($AO274,Data!$A$6:$A$1806,Data!$E$6:$E$1806))","v":-284.36083984375},{"$f":"LOOKUP($AO274,Data!$A$6:$A$1806,Data!$F$6:$F$1806)","v":0},{"$f":"LOOKUP($AO274,Data!$A$6:$A$1806,Data!$G$6:$G$1806)","v":130.5},{"$f":"LOOKUP($AO274,Data!$A$6:$A$1806,Data!$H$6:$H$1806)","v":10},{"$f":"LOOKUP($AO274,Data!$A$6:$A$1806,Data!$I$6:$I$1806)","v":0},{"$f":"LOOKUP($AO274,Data!$A$6:$A$1806,Data!$J$6:$J$1806)","v":-103},{"$f":"LOOKUP($AO274,Data!$A$6:$A$1806,Data!$K$6:$K$1806)","v":7586.13},-19.1986083984375]
[null,40098.106851851488,{"$f":"LOOKUP(B275,Data!$A$6:$A$1806,Data!B$6:B$1806)","v":60.021999359130859},{"$f":"LOOKUP(B275,Data!$A$6:$A$1806,Data!C$6:C$1806)","v":3785.94921875},null,null,null,-17.5994873046875,-18.261672690860848,null,null,0,3758.7113056955127,{"$f":"AVERAGE(D$79:D275)","v":3766.4904549690673},{"$f":"AVERAGE(M$79:M275)","v":3779.2337195515947},3776.2778578541852,{"$f":"AVERAGE(P$79:P275)","v":3733.7429614756365},633,null,null,null,null,null,null,0,633,-3288.1631229565046,null,null,null,null,null,null,null,null,null,null,null,null,null,40098.106851851488,{"$f":"LOOKUP($AO275,Data!$A$6:$A$1806,Data!$B$6:$B$1806)","v":60.021999359130859},{"$f":"LOOKUP($AO275,Data!$A$6:$A$1806,Data!$C$6:$C$1806)","v":3785.94921875},{"$f":"LOOKUP($AO275,Data!$A$6:$A$1806,Data!$D$6:$D$1806)","v":350},{"$f":"IF($AS$1=\"+\",LOOKUP($AO275,Data!$A$6:$A$1806,Data!$E$6:$E$1806)*-1,LOOKUP($AO275,Data!$A$6:$A$1806,Data!$E$6:$E$1806))","v":-284.36083984375},{"$f":"LOOKUP($AO275,Data!$A$6:$A$1806,Data!$F$6:$F$1806)","v":0},{"$f":"LOOKUP($AO275,Data!$A$6:$A$1806,Data!$G$6:$G$1806)","v":131},{"$f":"LOOKUP($AO275,Data!$A$6:$A$1806,Data!$H$6:$H$1806)","v":10},{"$f":"LOOKUP($AO275,Data!$A$6:$A$1806,Data!$I$6:$I$1806)","v":0},{"$f":"LOOKUP($AO275,Data!$A$6:$A$1806,Data!$J$6:$J$1806)","v":-103},{"$f":"LOOKUP($AO275,Data!$A$6:$A$1806,Data!$K$6:$K$1806)","v":7586.46},-17.5994873046875]
[null,40098.106874999634,{"$f":"LOOKUP(B276,Data!$A$6:$A$1806,Data!B$6:B$1806)","v":60.021999359130859},{"$f":"LOOKUP(B276,Data!$A$6:$A$1806,Data!C$6:C$1806)","v":3785.94921875},null,null,null,-17.5994873046875,-18.029907805700176,null,null,0,3758.9430705806735,{"$f":"AVERAGE(D$79:D276)","v":3766.5887315538193},{"$f":"AVERAGE(M$79:M276)","v":3779.1312415264892},3776.2778578541852,{"$f":"AVERAGE(P$79:P276)","v":3733.9588746552226},633,null,null,null,null,null,null,0,633,-3288.1631229565046,null,null,null,null,null,null,null,null,null,null,null,null,null,40098.106874999634,{"$f":"LOOKUP($AO276,Data!$A$6:$A$1806,Data!$B$6:$B$1806)","v":60.021999359130859},{"$f":"LOOKUP($AO276,Data!$A$6:$A$1806,Data!$C$6:$C$1806)","v":3785.94921875},{"$f":"LOOKUP($AO276,Data!$A$6:$A$1806,Data!$D$6:$D$1806)","v":350},{"$f":"IF($AS$1=\"+\",LOOKUP($AO276,Data!$A$6:$A$1806,Data!$E$6:$E$1806)*-1,LOOKUP($AO276,Data!$A$6:$A$1806,Data!$E$6:$E$1806))","v":-284.36083984375},{"$f":"LOOKUP($AO276,Data!$A$6:$A$1806,Data!$F$6:$F$1806)","v":0},{"$f":"LOOKUP($AO276,Data!$A$6:$A$1806,Data!$G$6:$G$1806)","v":131},{"$f":"LOOKUP($AO276,Data!$A$6:$A$1806,Data!$H$6:$H$1806)","v":10},{"$f":"LOOKUP($AO276,Data!$A$6:$A$1806,Data!$I$6:$I$1806)","v":0},{"$f":"LOOKUP($AO276,Data!$A$6:$A$1806,Data!$J$6:$J$1806)","v":-103},{"$f":"LOOKUP($AO276,Data!$A$6:$A$1806,Data!$K$6:$K$1806)","v":7586.46},-17.5994873046875]
[null,40098.10689814778,{"$f":"LOOKUP(B277,Data!$A$6:$A$1806,Data!B$6:B$1806)","v":60.021999359130859},{"$f":"LOOKUP(B277,Data!$A$6:$A$1806,Data!C$6:C$1806)","v":3786.877197265625},null,null,null,-17.5994873046875,-17.87926063034574,null,null,0,3759.0937177560281,{"$f":"AVERAGE(D$79:D277)","v":3766.6906836428234},{"$f":"AVERAGE(M$79:M277)","v":3779.0305504522657},3776.2778578541852,{"$f":"AVERAGE(P$79:P277)","v":3734.1726068936009},633,null,null,null,null,null,null,0,633,-3288.1631229565046,null,null,null,null,null,null,null,null,null,null,null,null,null,40098.10689814778,{"$f":"LOOKUP($AO277,Data!$A$6:$A$1806,Data!$B$6:$B$1806)","v":60.021999359130859},{"$f":"LOOKUP($AO277,Data!$A$6:$A$1806,Data!$C$6:$C$1806)","v":3786.877197265625},{"$f":"LOOKUP($AO277,Data!$A$6:$A$1806,Data!$D$6:$D$1806)","v":350},{"$f":"IF($AS$1=\"+\",LOOKUP($AO277,Data!$A$6:$A$1806,Data!$E$6:$E$1806)*-1,LOOKUP($AO277,Data!$A$6:$A$1806,Data!$E$6:$E$1806))","v":-260.46798706054687},{"$f":"LOOKUP($AO277,Data!$A$6:$A$1806,Data!$F$6:$F$1806)","v":0},{"$f":"LOOKUP($AO277,Data!$A$6:$A$1806,Data!$G$6:$G$1806)","v":131.5},{"$f":"LOOKUP($AO277,Data!$A$6:$A$1806,Data!$H$6:$H$1806)","v":10},{"$f":"LOOKUP($AO277,Data!$A$6:$A$1806,Data!$I$6:$I$1806)","v":0},{"$f":"LOOKUP($AO277,Data!$A$6:$A$1806,Data!$J$6:$J$1806)","v":-103},{"$f":"LOOKUP($AO277,Data!$A$6:$A$1806,Data!$K$6:$K$1806)","v":7586.79},-17.5994873046875]
[null,40098.106921295926,{"$f":"LOOKUP(B278,Data!$A$6:$A$1806,Data!B$6:B$1806)","v":60.021999359130859},{"$f":"LOOKUP(B278,Data!$A$6:$A$1806,Data!C$6:C$1806)","v":3786.877197265625},null,null,null,-17.5994873046875,-17.781339966365358,null,null,0,3759.1916384200085,{"$f":"AVERAGE(D$79:D278)","v":3766.7916162109377},{"$f":"AVERAGE(M$79:M278)","v":3778.9313558921044},3776.2778578541852,{"$f":"AVERAGE(P$79:P278)","v":3734.3841910692822},633,null,null,null,null,null,null,0,633,-3288.1631229565046,null,null,null,null,null,null,null,null,null,null,null,null,null,40098.106921295926,{"$f":"LOOKUP($AO278,Data!$A$6:$A$1806,Data!$B$6:$B$1806)","v":60.021999359130859},{"$f":"LOOKUP($AO278,Data!$A$6:$A$1806,Data!$C$6:$C$1806)","v":3786.877197265625},{"$f":"LOOKUP($AO278,Data!$A$6:$A$1806,Data!$D$6:$D$1806)","v":350},{"$f":"IF($AS$1=\"+\",LOOKUP($AO278,Data!$A$6:$A$1806,Data!$E$6:$E$1806)*-1,LOOKUP($AO278,Data!$A$6:$A$1806,Data!$E$6:$E$1806))","v":-260.46798706054687},{"$f":"LOOKUP($AO278,Data!$A$6:$A$1806,Data!$F$6:$F$1806)","v":0},{"$f":"LOOKUP($AO278,Data!$A$6:$A$1806,Data!$G$6:$G$1806)","v":131.5},{"$f":"LOOKUP($AO278,Data!$A$6:$A$1806,Data!$H$6:$H$1806)","v":10},{"$f":"LOOKUP($AO278,Data!$A$6:$A$1806,Data!$I$6:$I$1806)","v":0},{"$f":"LOOKUP($AO278,Data!$A$6:$A$1806,Data!$J$6:$J$1806)","v":-103},{"$f":"LOOKUP($AO278,Data!$A$6:$A$1806,Data!$K$6:$K$1806)","v":7586.79},-17.5994873046875]
[null,40098.106944444073,{"$f":"LOOKUP(B279,Data!$A$6:$A$1806,Data!B$6:B$1806)","v":60.021999359130859},{"$f":"LOOKUP(B279,Data!$A$6:$A$1806,Data!C$6:C$1806)","v":3786.877197265625},null,null,null,-17.5994873046875,-17.717691534778108,null,null,0,3759.2552868515959,{"$f":"AVERAGE(D$79:D279)","v":3766.8915444748914},{"$f":"AVERAGE(M$79:M279)","v":3778.8334650013553},3776.2778578541852,{"$f":"AVERAGE(P$79:P279)","v":3734.5936594032064},633,null,null,null,null,null,null,0,633,-3288.1631229565046,null,null,null,null,null,null,null,null,null,null,null,null,null,40098.106944444073,{"$f":"LOOKUP($AO279,Data!$A$6:$A$1806,Data!$B$6:$B$1806)","v":60.021999359130859},{"$f":"LOOKUP($AO279,Data!$A$6:$A$1806,Data!$C$6:$C$1806)","v":3786.877197265625},{"$f":"LOOKUP($AO279,Data!$A$6:$A$1806,Data!$D$6:$D$1806)","v":350},{"$f":"IF($AS$1=\"+\",LOOKUP($AO279,Data!$A$6:$A$1806,Data!$E$6:$E$1806)*-1,LOOKUP($AO279,Data!$A$6:$A$1806,Data!$E$6:$E$1806))","v":-260.46798706054687},{"$f":"LOOKUP($AO279,Data!$A$6:$A$1806,Data!$F$6:$F$1806)","v":0},{"$f":"LOOKUP($AO279,Data!$A$6:$A$1806,Data!$G$6:$G$1806)","v":131.5},{"$f":"LOOKUP($AO279,Data!$A$6:$A$1806,Data!$H$6:$H$1806)","v":10},{"$f":"LOOKUP($AO279,Data!$A$6:$A$1806,Data!$I$6:$I$1806)","v":0},{"$f":"LOOKUP($AO279,Data!$A$6:$A$1806,Data!$J$6:$J$1806)","v":-103},{"$f":"LOOKUP($AO279,Data!$A$6:$A$1806,Data!$K$6:$K$1806)","v":7586.79},-17.5994873046875]
[null,40098.106967592219,{"$f":"LOOKUP(B280,Data!$A$6:$A$1806,Data!B$6:B$1806)","v":60.022998809814453},{"$f":"LOOKUP(B280,Data!$A$6:$A$1806,Data!C$6:C$1806)","v":3785.72607421875},null,null,null,-18.3990478515625,-17.956166245652646,null,null,0,3759.0168121407214,{"$f":"AVERAGE(D$79:D280)","v":3766.9847847211481},{"$f":"AVERAGE(M$79:M280)","v":3778.7353627594707},3776.2778578541852,{"$f":"AVERAGE(P$79:P280)","v":3734.8010434751018},633,null,null,null,null,null,null,0,633,-3468.2234716271291,null,null,null,null,null,null,null,null,null,null,null,null,null,40098.106967592219,{"$f":"LOOKUP($AO280,Data!$A$6:$A$1806,Data!$B$6:$B$1806)","v":60.022998809814453},{"$f":"LOOKUP($AO280,Data!$A$6:$A$1806,Data!$C$6:$C$1806)","v":3785.72607421875},{"$f":"LOOKUP($AO280,Data!$A$6:$A$1806,Data!$D$6:$D$1806)","v":350},{"$f":"IF($AS$1=\"+\",LOOKUP($AO280,Data!$A$6:$A$1806,Data!$E$6:$E$1806)*-1,LOOKUP($AO280,Data!$A$6:$A$1806,Data!$E$6:$E$1806))","v":-260.46798706054687},{"$f":"LOOKUP($AO280,Data!$A$6:$A$1806,Data!$F$6:$F$1806)","v":0},{"$f":"LOOKUP($AO280,Data!$A$6:$A$1806,Data!$G$6:$G$1806)","v":132},{"$f":"LOOKUP($AO280,Data!$A$6:$A$1806,Data!$H$6:$H$1806)","v":10},{"$f":"LOOKUP($AO280,Data!$A$6:$A$1806,Data!$I$6:$I$1806)","v":0},{"$f":"LOOKUP($AO280,Data!$A$6:$A$1806,Data!$J$6:$J$1806)","v":-103},{"$f":"LOOKUP($AO280,Data!$A$6:$A$1806,Data!$K$6:$K$1806)","v":7587.12},-18.3990478515625]
[null,40098.106990740365,{"$f":"LOOKUP(B281,Data!$A$6:$A$1806,Data!B$6:B$1806)","v":60.022998809814453},{"$f":"LOOKUP(B281,Data!$A$6:$A$1806,Data!C$6:C$1806)","v":3785.72607421875},null,null,null,-18.3990478515625,-18.111174807721095,null,null,0,3758.8618035786531,{"$f":"AVERAGE(D$79:D281)","v":3767.0771063442889},{"$f":"AVERAGE(M$79:M281)","v":3778.6374634531617},3776.2778578541852,{"$f":"AVERAGE(P$79:P281)","v":3735.0063742393545},633,null,null,null,null,null,null,0,633,-3468.2234716271291,null,null,null,null,null,null,null,null,null,null,null,null,null,40098.106990740365,{"$f":"LOOKUP($AO281,Data!$A$6:$A$1806,Data!$B$6:$B$1806)","v":60.022998809814453},{"$f":"LOOKUP($AO281,Data!$A$6:$A$1806,Data!$C$6:$C$1806)","v":3785.72607421875},{"$f":"LOOKUP($AO281,Data!$A$6:$A$1806,Data!$D$6:$D$1806)","v":350},{"$f":"IF($AS$1=\"+\",LOOKUP($AO281,Data!$A$6:$A$1806,Data!$E$6:$E$1806)*-1,LOOKUP($AO281,Data!$A$6:$A$1806,Data!$E$6:$E$1806))","v":-260.46798706054687},{"$f":"LOOKUP($AO281,Data!$A$6:$A$1806,Data!$F$6:$F$1806)","v":0},{"$f":"LOOKUP($AO281,Data!$A$6:$A$1806,Data!$G$6:$G$1806)","v":132},{"$f":"LOOKUP($AO281,Data!$A$6:$A$1806,Data!$H$6:$H$1806)","v":10},{"$f":"LOOKUP($AO281,Data!$A$6:$A$1806,Data!$I$6:$I$1806)","v":0},{"$f":"LOOKUP($AO281,Data!$A$6:$A$1806,Data!$J$6:$J$1806)","v":-103},{"$f":"LOOKUP($AO281,Data!$A$6:$A$1806,Data!$K$6:$K$1806)","v":7587.12},-18.3990478515625]
[null,40098.107013888512,{"$f":"LOOKUP(B282,Data!$A$6:$A$1806,Data!B$6:B$1806)","v":60.021999359130859},{"$f":"LOOKUP(B282,Data!$A$6:$A$1806,Data!C$6:C$1806)","v":3785.79833984375},null,null,null,-17.5994873046875,-17.932084181659338,null,null,0,3759.0408942047147,{"$f":"AVERAGE(D$79:D282)","v":3767.1688770967371},{"$f":"AVERAGE(M$79:M282)","v":3778.5414018391989},3776.2778578541852,{"$f":"AVERAGE(P$79:P282)","v":3735.2096820404126},633,null,null,null,null,null,null,0,633,-3288.1631229565046,null,null,null,null,null,null,null,null,null,null,null,null,null,40098.107013888512,{"$f":"LOOKUP($AO282,Data!$A$6:$A$1806,Data!$B$6:$B$1806)","v":60.021999359130859},{"$f":"LOOKUP($AO282,Data!$A$6:$A$1806,Data!$C$6:$C$1806)","v":3785.79833984375},{"$f":"LOOKUP($AO282,Data!$A$6:$A$1806,Data!$D$6:$D$1806)","v":350},{"$f":"IF($AS$1=\"+\",LOOKUP($AO282,Data!$A$6:$A$1806,Data!$E$6:$E$1806)*-1,LOOKUP($AO282,Data!$A$6:$A$1806,Data!$E$6:$E$1806))","v":-260.46798706054687},{"$f":"LOOKUP($AO282,Data!$A$6:$A$1806,Data!$F$6:$F$1806)","v":0},{"$f":"LOOKUP($AO282,Data!$A$6:$A$1806,Data!$G$6:$G$1806)","v":132.5},{"$f":"LOOKUP($AO282,Data!$A$6:$A$1806,Data!$H$6:$H$1806)","v":10},{"$f":"LOOKUP($AO282,Data!$A$6:$A$1806,Data!$I$6:$I$1806)","v":0},{"$f":"LOOKUP($AO282,Data!$A$6:$A$1806,Data!$J$6:$J$1806)","v":-103},{"$f":"LOOKUP($AO282,Data!$A$6:$A$1806,Data!$K$6:$K$1806)","v":7587.45},-17.5994873046875]
[null,40098.107037036658,{"$f":"LOOKUP(B283,Data!$A$6:$A$1806,Data!B$6:B$1806)","v":60.021999359130859},{"$f":"LOOKUP(B283,Data!$A$6:$A$1806,Data!C$6:C$1806)","v":3785.79833984375},null,null,null,-17.5994873046875,-17.815675274719197,null,null,0,3759.157303111655,{"$f":"AVERAGE(D$79:D283)","v":3767.2597525247716},{"$f":"AVERAGE(M$79:M283)","v":3778.4468452600399},3776.2778578541852,{"$f":"AVERAGE(P$79:P283)","v":3735.4109966277347},633,null,null,null,null,null,null,0,633,-3288.1631229565046,null,null,null,null,null,null,null,null,null,null,null,null,null,40098.107037036658,{"$f":"LOOKUP($AO283,Data!$A$6:$A$1806,Data!$B$6:$B$1806)","v":60.021999359130859},{"$f":"LOOKUP($AO283,Data!$A$6:$A$1806,Data!$C$6:$C$1806)","v":3785.79833984375},{"$f":"LOOKUP($AO283,Data!$A$6:$A$1806,Data!$D$6:$D$1806)","v":350},{"$f":"IF($AS$1=\"+\",LOOKUP($AO283,Data!$A$6:$A$1806,Data!$E$6:$E$1806)*-1,LOOKUP($AO283,Data!$A$6:$A$1806,Data!$E$6:$E$1806))","v":-260.46798706054687},{"$f":"LOOKUP($AO283,Data!$A$6:$A$1806,Data!$F$6:$F$1806)","v":0},{"$f":"LOOKUP($AO283,Data!$A$6:$A$1806,Data!$G$6:$G$1806)","v":132.5},{"$f":"LOOKUP($AO283,Data!$A$6:$A$1806,Data!$H$6:$H$1806)","v":10},{"$f":"LOOKUP($AO283,Data!$A$6:$A$1806,Data!$I$6:$I$1806)","v":0},{"$f":"LOOKUP($AO283,Data!$A$6:$A$1806,Data!$J$6:$J$1806)","v":-103},{"$f":"LOOKUP($AO283,Data!$A$6:$A$1806,Data!$K$6:$K$1806)","v":7587.45},-17.5994873046875]
[null,40098.107060184804,{"$f":"LOOKUP(B284,Data!$A$6:$A$1806,Data!B$6:B$1806)","v":60.021999359130859},{"$f":"LOOKUP(B284,Data!$A$6:$A$1806,Data!C$6:C$1806)","v":3785.79833984375},null,null,null,-17.5994873046875,-17.740009485208105,null,null,0,3759.2329689011663,{"$f":"AVERAGE(D$79:D284)","v":3767.3497456670966},{"$f":"AVERAGE(M$79:M284)","v":3778.3535740155794},3776.2778578541852,{"$f":"AVERAGE(P$79:P284)","v":3735.6103471703027},633,null,null,null,null,null,null,0,633,-3288.1631229565046,null,null,null,null,null,null,null,null,null,null,null,null,null,40098.107060184804,{"$f":"LOOKUP($AO284,Data!$A$6:$A$1806,Data!$B$6:$B$1806)","v":60.021999359130859},{"$f":"LOOKUP($AO284,Data!$A$6:$A$1806,Data!$C$6:$C$1806)","v":3785.79833984375},{"$f":"LOOKUP($AO284,Data!$A$6:$A$1806,Data!$D$6:$D$1806)","v":350},{"$f":"IF($AS$1=\"+\",LOOKUP($AO284,Data!$A$6:$A$1806,Data!$E$6:$E$1806)*-1,LOOKUP($AO284,Data!$A$6:$A$1806,Data!$E$6:$E$1806))","v":-260.46798706054687},{"$f":"LOOKUP($AO284,Data!$A$6:$A$1806,Data!$F$6:$F$1806)","v":0},{"$f":"LOOKUP($AO284,Data!$A$6:$A$1806,Data!$G$6:$G$1806)","v":132.5},{"$f":"LOOKUP($AO284,Data!$A$6:$A$1806,Data!$H$6:$H$1806)","v":10},{"$f":"LOOKUP($AO284,Data!$A$6:$A$1806,Data!$I$6:$I$1806)","v":0},{"$f":"LOOKUP($AO284,Data!$A$6:$A$1806,Data!$J$6:$J$1806)","v":-103},{"$f":"LOOKUP($AO284,Data!$A$6:$A$1806,Data!$K$6:$K$1806)","v":7587.45},-17.5994873046875]
[null,40098.10708333295,{"$f":"LOOKUP(B285,Data!$A$6:$A$1806,Data!B$6:B$1806)","v":60.018001556396484},{"$f":"LOOKUP(B285,Data!$A$6:$A$1806,Data!C$6:C$1806)","v":3786.939208984375},null,null,null,-14.4012451171875,-16.571441956400896,null,null,0,3760.4015364299735,{"$f":"AVERAGE(D$79:D285)","v":3767.4443807555858},{"$f":"AVERAGE(M$79:M285)","v":3778.2668491963254},3776.2778578541852,{"$f":"AVERAGE(P$79:P285)","v":3735.8077622707096},633,null,null,null,null,null,null,0,633,-2722.7361063253752,null,null,null,null,null,null,null,null,null,null,null,null,null,40098.10708333295,{"$f":"LOOKUP($AO285,Data!$A$6:$A$1806,Data!$B$6:$B$1806)","v":60.018001556396484},{"$f":"LOOKUP($AO285,Data!$A$6:$A$1806,Data!$C$6:$C$1806)","v":3786.939208984375},{"$f":"LOOKUP($AO285,Data!$A$6:$A$1806,Data!$D$6:$D$1806)","v":350},{"$f":"IF($AS$1=\"+\",LOOKUP($AO285,Data!$A$6:$A$1806,Data!$E$6:$E$1806)*-1,LOOKUP($AO285,Data!$A$6:$A$1806,Data!$E$6:$E$1806))","v":-260.46798706054687},{"$f":"LOOKUP($AO285,Data!$A$6:$A$1806,Data!$F$6:$F$1806)","v":0},{"$f":"LOOKUP($AO285,Data!$A$6:$A$1806,Data!$G$6:$G$1806)","v":133},{"$f":"LOOKUP($AO285,Data!$A$6:$A$1806,Data!$H$6:$H$1806)","v":10},{"$f":"LOOKUP($AO285,Data!$A$6:$A$1806,Data!$I$6:$I$1806)","v":0},{"$f":"LOOKUP($AO285,Data!$A$6:$A$1806,Data!$J$6:$J$1806)","v":-103},{"$f":"LOOKUP($AO285,Data!$A$6:$A$1806,Data!$K$6:$K$1806)","v":7587.78},-14.4012451171875]
[null,40098.107106481097,{"$f":"LOOKUP(B286,Data!$A$6:$A$1806,Data!B$6:B$1806)","v":60.018001556396484},{"$f":"LOOKUP(B286,Data!$A$6:$A$1806,Data!C$6:C$1806)","v":3786.939208984375},null,null,null,-14.4012451171875,-15.811873062676208,null,null,0,3761.1611053236979,{"$f":"AVERAGE(D$79:D286)","v":3767.5381058913013},{"$f":"AVERAGE(M$79:M286)","v":3778.1846100430917},3776.2778578541852,{"$f":"AVERAGE(P$79:P286)","v":3736.0032699788421},633,null,null,null,null,null,null,0,633,-2722.7361063253752,null,null,null,null,null,null,null,null,null,null,null,null,null,40098.107106481097,{"$f":"LOOKUP($AO286,Data!$A$6:$A$1806,Data!$B$6:$B$1806)","v":60.018001556396484},{"$f":"LOOKUP($AO286,Data!$A$6:$A$1806,Data!$C$6:$C$1806)","v":3786.939208984375},{"$f":"LOOKUP($AO286,Data!$A$6:$A$1806,Data!$D$6:$D$1806)","v":350},{"$f":"IF($AS$1=\"+\",LOOKUP($AO286,Data!$A$6:$A$1806,Data!$E$6:$E$1806)*-1,LOOKUP($AO286,Data!$A$6:$A$1806,Data!$E$6:$E$1806))","v":-260.46798706054687},{"$f":"LOOKUP($AO286,Data!$A$6:$A$1806,Data!$F$6:$F$1806)","v":0},{"$f":"LOOKUP($AO286,Data!$A$6:$A$1806,Data!$G$6:$G$1806)","v":133},{"$f":"LOOKUP($AO286,Data!$A$6:$A$1806,Data!$H$6:$H$1806)","v":10},{"$f":"LOOKUP($AO286,Data!$A$6:$A$1806,Data!$I$6:$I$1806)","v":0},{"$f":"LOOKUP($AO286,Data!$A$6:$A$1806,Data!$J$6:$J$1806)","v":-103},{"$f":"LOOKUP($AO286,Data!$A$6:$A$1806,Data!$K$6:$K$1806)","v":7587.78},-14.4012451171875]
[null,40098.107129629243,{"$f":"LOOKUP(B287,Data!$A$6:$A$1806,Data!B$6:B$1806)","v":60.018001556396484},{"$f":"LOOKUP(B287,Data!$A$6:$A$1806,Data!C$6:C$1806)","v":3789.67333984375},null,null,null,-14.4012451171875,-15.31815328175516,null,null,0,3761.6548251046188,{"$f":"AVERAGE(D$79:D287)","v":3767.6440161015998},{"$f":"AVERAGE(M$79:M287)","v":3778.1055201630033},3776.2778578541852,{"$f":"AVERAGE(P$79:P287)","v":3736.1968978051659},633,null,null,null,null,null,null,0,633,-2722.7361063253752,null,null,null,null,null,null,null,null,null,null,null,null,null,40098.107129629243,{"$f":"LOOKUP($AO287,Data!$A$6:$A$1806,Data!$B$6:$B$1806)","v":60.018001556396484},{"$f":"LOOKUP($AO287,Data!$A$6:$A$1806,Data!$C$6:$C$1806)","v":3789.67333984375},{"$f":"LOOKUP($AO287,Data!$A$6:$A$1806,Data!$D$6:$D$1806)","v":350},{"$f":"IF($AS$1=\"+\",LOOKUP($AO287,Data!$A$6:$A$1806,Data!$E$6:$E$1806)*-1,LOOKUP($AO287,Data!$A$6:$A$1806,Data!$E$6:$E$1806))","v":-260.46798706054687},{"$f":"LOOKUP($AO287,Data!$A$6:$A$1806,Data!$F$6:$F$1806)","v":0},{"$f":"LOOKUP($AO287,Data!$A$6:$A$1806,Data!$G$6:$G$1806)","v":133.5},{"$f":"LOOKUP($AO287,Data!$A$6:$A$1806,Data!$H$6:$H$1806)","v":10},{"$f":"LOOKUP($AO287,Data!$A$6:$A$1806,Data!$I$6:$I$1806)","v":0},{"$f":"LOOKUP($AO287,Data!$A$6:$A$1806,Data!$J$6:$J$1806)","v":-103},{"$f":"LOOKUP($AO287,Data!$A$6:$A$1806,Data!$K$6:$K$1806)","v":7588.11},-14.4012451171875]
[null,40098.107152777389,{"$f":"LOOKUP(B288,Data!$A$6:$A$1806,Data!B$6:B$1806)","v":60.018001556396484},{"$f":"LOOKUP(B288,Data!$A$6:$A$1806,Data!C$6:C$1806)","v":3789.67333984375},null,null,null,-14.4012451171875,-14.997235424156479,null,null,0,3761.9757429622173,{"$f":"AVERAGE(D$79:D288)","v":3767.7489176432291},{"$f":"AVERAGE(M$79:M288)","v":3778.0287117001421},3776.2778578541852,{"$f":"AVERAGE(P$79:P288)","v":3736.3886727336298},633,null,null,null,null,null,null,0,633,-2722.7361063253752,null,null,null,null,null,null,null,null,null,null,null,null,null,40098.107152777389,{"$f":"LOOKUP($AO288,Data!$A$6:$A$1806,Data!$B$6:$B$1806)","v":60.018001556396484},{"$f":"LOOKUP($AO288,Data!$A$6:$A$1806,Data!$C$6:$C$1806)","v":3789.67333984375},{"$f":"LOOKUP($AO288,Data!$A$6:$A$1806,Data!$D$6:$D$1806)","v":350},{"$f":"IF($AS$1=\"+\",LOOKUP($AO288,Data!$A$6:$A$1806,Data!$E$6:$E$1806)*-1,LOOKUP($AO288,Data!$A$6:$A$1806,Data!$E$6:$E$1806))","v":-260.46798706054687},{"$f":"LOOKUP($AO288,Data!$A$6:$A$1806,Data!$F$6:$F$1806)","v":0},{"$f":"LOOKUP($AO288,Data!$A$6:$A$1806,Data!$G$6:$G$1806)","v":133.5},{"$f":"LOOKUP($AO288,Data!$A$6:$A$1806,Data!$H$6:$H$1806)","v":10},{"$f":"LOOKUP($AO288,Data!$A$6:$A$1806,Data!$I$6:$I$1806)","v":0},{"$f":"LOOKUP($AO288,Data!$A$6:$A$1806,Data!$J$6:$J$1806)","v":-103},{"$f":"LOOKUP($AO288,Data!$A$6:$A$1806,Data!$K$6:$K$1806)","v":7588.11},-14.4012451171875]
[null,40098.107175925536,{"$f":"LOOKUP(B289,Data!$A$6:$A$1806,Data!B$6:B$1806)","v":60.018001556396484},{"$f":"LOOKUP(B289,Data!$A$6:$A$1806,Data!C$6:C$1806)","v":3789.67333984375},null,null,null,-14.4012451171875,-14.788638816717336,null,null,0,3762.1843395696565,{"$f":"AVERAGE(D$79:D289)","v":3767.8528248574498},{"$f":"AVERAGE(M$79:M289)","v":3777.9536198890974},3776.2778578541852,{"$f":"AVERAGE(P$79:P289)","v":3736.5786212342036},633,null,null,null,null,null,null,0,633,-2722.7361063253752,null,null,null,null,null,null,null,null,null,null,null,null,null,40098.107175925536,{"$f":"LOOKUP($AO289,Data!$A$6:$A$1806,Data!$B$6:$B$1806)","v":60.018001556396484},{"$f":"LOOKUP($AO289,Data!$A$6:$A$1806,Data!$C$6:$C$1806)","v":3789.67333984375},{"$f":"LOOKUP($AO289,Data!$A$6:$A$1806,Data!$D$6:$D$1806)","v":350},{"$f":"IF($AS$1=\"+\",LOOKUP($AO289,Data!$A$6:$A$1806,Data!$E$6:$E$1806)*-1,LOOKUP($AO289,Data!$A$6:$A$1806,Data!$E$6:$E$1806))","v":-260.46798706054687},{"$f":"LOOKUP($AO289,Data!$A$6:$A$1806,Data!$F$6:$F$1806)","v":0},{"$f":"LOOKUP($AO289,Data!$A$6:$A$1806,Data!$G$6:$G$1806)","v":133.5},{"$f":"LOOKUP($AO289,Data!$A$6:$A$1806,Data!$H$6:$H$1806)","v":10},{"$f":"LOOKUP($AO289,Data!$A$6:$A$1806,Data!$I$6:$I$1806)","v":0},{"$f":"LOOKUP($AO289,Data!$A$6:$A$1806,Data!$J$6:$J$1806)","v":-103},{"$f":"LOOKUP($AO289,Data!$A$6:$A$1806,Data!$K$6:$K$1806)","v":7588.11},-14.4012451171875]
[null,40098.107199073682,{"$f":"LOOKUP(B290,Data!$A$6:$A$1806,Data!B$6:B$1806)","v":60.015998840332031},{"$f":"LOOKUP(B290,Data!$A$6:$A$1806,Data!C$6:C$1806)","v":3788.478759765625},null,null,null,-12.799072265625,-14.092290523835018,null,null,0,3762.8806878625387,{"$f":"AVERAGE(D$79:D290)","v":3767.9501170032431},{"$f":"AVERAGE(M$79:M290)","v":3777.882521153123},3776.2778578541852,{"$f":"AVERAGE(P$79:P290)","v":3736.7667692750565},633,null,null,null,null,null,null,0,633,-2506.7928393383186,null,null,null,null,null,null,null,null,null,null,null,null,null,40098.107199073682,{"$f":"LOOKUP($AO290,Data!$A$6:$A$1806,Data!$B$6:$B$1806)","v":60.015998840332031},{"$f":"LOOKUP($AO290,Data!$A$6:$A$1806,Data!$C$6:$C$1806)","v":3788.478759765625},{"$f":"LOOKUP($AO290,Data!$A$6:$A$1806,Data!$D$6:$D$1806)","v":350},{"$f":"IF($AS$1=\"+\",LOOKUP($AO290,Data!$A$6:$A$1806,Data!$E$6:$E$1806)*-1,LOOKUP($AO290,Data!$A$6:$A$1806,Data!$E$6:$E$1806))","v":-253.14154052734375},{"$f":"LOOKUP($AO290,Data!$A$6:$A$1806,Data!$F$6:$F$1806)","v":0},{"$f":"LOOKUP($AO290,Data!$A$6:$A$1806,Data!$G$6:$G$1806)","v":134},{"$f":"LOOKUP($AO290,Data!$A$6:$A$1806,Data!$H$6:$H$1806)","v":10},{"$f":"LOOKUP($AO290,Data!$A$6:$A$1806,Data!$I$6:$I$1806)","v":0},{"$f":"LOOKUP($AO290,Data!$A$6:$A$1806,Data!$J$6:$J$1806)","v":-103},{"$f":"LOOKUP($AO290,Data!$A$6:$A$1806,Data!$K$6:$K$1806)","v":7588.44},-12.799072265625]
[null,40098.107222221828,{"$f":"LOOKUP(B291,Data!$A$6:$A$1806,Data!B$6:B$1806)","v":60.015998840332031},{"$f":"LOOKUP(B291,Data!$A$6:$A$1806,Data!C$6:C$1806)","v":3788.478759765625},null,null,null,-12.799072265625,-13.639664133461512,null,null,0,3763.3333142529123,{"$f":"AVERAGE(D$79:D291)","v":3768.0464956077612},{"$f":"AVERAGE(M$79:M291)","v":3777.8142150174413},3776.2778578541852,{"$f":"AVERAGE(P$79:P291)","v":3736.9531423343919},633,null,null,null,null,null,null,0,633,-2506.7928393383186,null,null,null,null,null,null,null,null,null,null,null,null,null,40098.107222221828,{"$f":"LOOKUP($AO291,Data!$A$6:$A$1806,Data!$B$6:$B$1806)","v":60.015998840332031},{"$f":"LOOKUP($AO291,Data!$A$6:$A$1806,Data!$C$6:$C$1806)","v":3788.478759765625},{"$f":"LOOKUP($AO291,Data!$A$6:$A$1806,Data!$D$6:$D$1806)","v":350},{"$f":"IF($AS$1=\"+\",LOOKUP($AO291,Data!$A$6:$A$1806,Data!$E$6:$E$1806)*-1,LOOKUP($AO291,Data!$A$6:$A$1806,Data!$E$6:$E$1806))","v":-253.14154052734375},{"$f":"LOOKUP($AO291,Data!$A$6:$A$1806,Data!$F$6:$F$1806)","v":0},{"$f":"LOOKUP($AO291,Data!$A$6:$A$1806,Data!$G$6:$G$1806)","v":134},{"$f":"LOOKUP($AO291,Data!$A$6:$A$1806,Data!$H$6:$H$1806)","v":10},{"$f":"LOOKUP($AO291,Data!$A$6:$A$1806,Data!$I$6:$I$1806)","v":0},{"$f":"LOOKUP($AO291,Data!$A$6:$A$1806,Data!$J$6:$J$1806)","v":-103},{"$f":"LOOKUP($AO291,Data!$A$6:$A$1806,Data!$K$6:$K$1806)","v":7588.44},-12.799072265625]
[null,40098.107245369974,{"$f":"LOOKUP(B292,Data!$A$6:$A$1806,Data!B$6:B$1806)","v":60.015998840332031},{"$f":"LOOKUP(B292,Data!$A$6:$A$1806,Data!C$6:C$1806)","v":3789.0048828125},null,null,null,-12.799072265625,-13.345456979718733,null,null,0,3763.627521406655,{"$f":"AVERAGE(D$79:D292)","v":3768.1444319965685},{"$f":"AVERAGE(M$79:M292)","v":3777.7479220566429},3776.2778578541852,{"$f":"AVERAGE(P$79:P292)","v":3737.1377654119492},633,null,null,null,null,null,null,0,633,-2506.7928393383186,null,null,null,null,null,null,null,null,null,null,null,null,null,40098.107245369974,{"$f":"LOOKUP($AO292,Data!$A$6:$A$1806,Data!$B$6:$B$1806)","v":60.015998840332031},{"$f":"LOOKUP($AO292,Data!$A$6:$A$1806,Data!$C$6:$C$1806)","v":3789.0048828125},{"$f":"LOOKUP($AO292,Data!$A$6:$A$1806,Data!$D$6:$D$1806)","v":350},{"$f":"IF($AS$1=\"+\",LOOKUP($AO292,Data!$A$6:$A$1806,Data!$E$6:$E$1806)*-1,LOOKUP($AO292,Data!$A$6:$A$1806,Data!$E$6:$E$1806))","v":-253.14154052734375},{"$f":"LOOKUP($AO292,Data!$A$6:$A$1806,Data!$F$6:$F$1806)","v":0},{"$f":"LOOKUP($AO292,Data!$A$6:$A$1806,Data!$G$6:$G$1806)","v":134.5},{"$f":"LOOKUP($AO292,Data!$A$6:$A$1806,Data!$H$6:$H$1806)","v":10},{"$f":"LOOKUP($AO292,Data!$A$6:$A$1806,Data!$I$6:$I$1806)","v":0},{"$f":"LOOKUP($AO292,Data!$A$6:$A$1806,Data!$J$6:$J$1806)","v":-103},{"$f":"LOOKUP($AO292,Data!$A$6:$A$1806,Data!$K$6:$K$1806)","v":7588.77},-12.799072265625]
[null,40098.107268518121,{"$f":"LOOKUP(B293,Data!$A$6:$A$1806,Data!B$6:B$1806)","v":60.015998840332031},{"$f":"LOOKUP(B293,Data!$A$6:$A$1806,Data!C$6:C$1806)","v":3789.0048828125},null,null,null,-12.799072265625,-13.154222329785927,null,null,0,3763.818756056588,{"$f":"AVERAGE(D$79:D293)","v":3768.2414573492006},{"$f":"AVERAGE(M$79:M293)","v":3777.6831352380382},3776.2778578541852,{"$f":"AVERAGE(P$79:P293)","v":3737.3206630401842},633,null,null,null,null,null,null,0,633,-2506.7928393383186,null,null,null,null,null,null,null,null,null,null,null,null,null,40098.107268518121,{"$f":"LOOKUP($AO293,Data!$A$6:$A$1806,Data!$B$6:$B$1806)","v":60.015998840332031},{"$f":"LOOKUP($AO293,Data!$A$6:$A$1806,Data!$C$6:$C$1806)","v":3789.0048828125},{"$f":"LOOKUP($AO293,Data!$A$6:$A$1806,Data!$D$6:$D$1806)","v":350},{"$f":"IF($AS$1=\"+\",LOOKUP($AO293,Data!$A$6:$A$1806,Data!$E$6:$E$1806)*-1,LOOKUP($AO293,Data!$A$6:$A$1806,Data!$E$6:$E$1806))","v":-253.14154052734375},{"$f":"LOOKUP($AO293,Data!$A$6:$A$1806,Data!$F$6:$F$1806)","v":0},{"$f":"LOOKUP($AO293,Data!$A$6:$A$1806,Data!$G$6:$G$1806)","v":134.5},{"$f":"LOOKUP($AO293,Data!$A$6:$A$1806,Data!$H$6:$H$1806)","v":10},{"$f":"LOOKUP($AO293,Data!$A$6:$A$1806,Data!$I$6:$I$1806)","v":0},{"$f":"LOOKUP($AO293,Data!$A$6:$A$1806,Data!$J$6:$J$1806)","v":-103},{"$f":"LOOKUP($AO293,Data!$A$6:$A$1806,Data!$K$6:$K$1806)","v":7588.77},-12.799072265625]
[null,40098.107291666267,{"$f":"LOOKUP(B294,Data!$A$6:$A$1806,Data!B$6:B$1806)","v":60.015998840332031},{"$f":"LOOKUP(B294,Data!$A$6:$A$1806,Data!C$6:C$1806)","v":3789.0048828125},null,null,null,-12.799072265625,-13.029919807329604,null,null,0,3763.9430585790442,{"$f":"AVERAGE(D$79:D294)","v":3768.3375843189383},{"$f":"AVERAGE(M$79:M294)","v":3777.619523772024},3776.2778578541852,{"$f":"AVERAGE(P$79:P294)","v":3737.5018592951328},633,null,null,null,null,null,null,0,633,-2506.7928393383186,null,null,null,null,null,null,null,null,null,null,null,null,null,40098.107291666267,{"$f":"LOOKUP($AO294,Data!$A$6:$A$1806,Data!$B$6:$B$1806)","v":60.015998840332031},{"$f":"LOOKUP($AO294,Data!$A$6:$A$1806,Data!$C$6:$C$1806)","v":3789.0048828125},{"$f":"LOOKUP($AO294,Data!$A$6:$A$1806,Data!$D$6:$D$1806)","v":350},{"$f":"IF($AS$1=\"+\",LOOKUP($AO294,Data!$A$6:$A$1806,Data!$E$6:$E$1806)*-1,LOOKUP($AO294,Data!$A$6:$A$1806,Data!$E$6:$E$1806))","v":-253.14154052734375},{"$f":"LOOKUP($AO294,Data!$A$6:$A$1806,Data!$F$6:$F$1806)","v":0},{"$f":"LOOKUP($AO294,Data!$A$6:$A$1806,Data!$G$6:$G$1806)","v":134.5},{"$f":"LOOKUP($AO294,Data!$A$6:$A$1806,Data!$H$6:$H$1806)","v":10},{"$f":"LOOKUP($AO294,Data!$A$6:$A$1806,Data!$I$6:$I$1806)","v":0},{"$f":"LOOKUP($AO294,Data!$A$6:$A$1806,Data!$J$6:$J$1806)","v":-103},{"$f":"LOOKUP($AO294,Data!$A$6:$A$1806,Data!$K$6:$K$1806)","v":7588.77},-12.799072265625]
[null,40098.107314814413,{"$f":"LOOKUP(B295,Data!$A$6:$A$1806,Data!B$6:B$1806)","v":60.012001037597656},{"$f":"LOOKUP(B295,Data!$A$6:$A$1806,Data!C$6:C$1806)","v":3788.932861328125},null,null,null,-9.600830078125,-11.829738402107992,null,null,0,3765.1432399842656,{"$f":"AVERAGE(D$79:D295)","v":3768.4324934295796},{"$f":"AVERAGE(M$79:M295)","v":3777.5620293766888},3776.2778578541852,{"$f":"AVERAGE(P$79:P295)","v":3737.68137780698},633,null,null,null,null,null,null,0,633,-2164.1623997391589,null,null,null,null,null,null,null,null,null,null,null,null,null,40098.107314814413,{"$f":"LOOKUP($AO295,Data!$A$6:$A$1806,Data!$B$6:$B$1806)","v":60.012001037597656},{"$f":"LOOKUP($AO295,Data!$A$6:$A$1806,Data!$C$6:$C$1806)","v":3788.932861328125},{"$f":"LOOKUP($AO295,Data!$A$6:$A$1806,Data!$D$6:$D$1806)","v":350},{"$f":"IF($AS$1=\"+\",LOOKUP($AO295,Data!$A$6:$A$1806,Data!$E$6:$E$1806)*-1,LOOKUP($AO295,Data!$A$6:$A$1806,Data!$E$6:$E$1806))","v":-253.14154052734375},{"$f":"LOOKUP($AO295,Data!$A$6:$A$1806,Data!$F$6:$F$1806)","v":0},{"$f":"LOOKUP($AO295,Data!$A$6:$A$1806,Data!$G$6:$G$1806)","v":135},{"$f":"LOOKUP($AO295,Data!$A$6:$A$1806,Data!$H$6:$H$1806)","v":10},{"$f":"LOOKUP($AO295,Data!$A$6:$A$1806,Data!$I$6:$I$1806)","v":0},{"$f":"LOOKUP($AO295,Data!$A$6:$A$1806,Data!$J$6:$J$1806)","v":-103},{"$f":"LOOKUP($AO295,Data!$A$6:$A$1806,Data!$K$6:$K$1806)","v":7589.1},-9.600830078125]
[null,40098.10733796256,{"$f":"LOOKUP(B296,Data!$A$6:$A$1806,Data!B$6:B$1806)","v":60.012001037597656},{"$f":"LOOKUP(B296,Data!$A$6:$A$1806,Data!C$6:C$1806)","v":3788.932861328125},null,null,null,-9.600830078125,-11.049620488713945,null,null,0,3765.9233578976596,{"$f":"AVERAGE(D$79:D296)","v":3768.5265318144352},{"$f":"AVERAGE(M$79:M296)","v":3777.508640975409},3776.2778578541852,{"$f":"AVERAGE(P$79:P296)","v":3737.8592417703308},633,null,null,null,null,null,null,0,633,-2164.1623997391589,null,null,null,null,null,null,null,null,null,null,null,null,null,40098.10733796256,{"$f":"LOOKUP($AO296,Data!$A$6:$A$1806,Data!$B$6:$B$1806)","v":60.012001037597656},{"$f":"LOOKUP($AO296,Data!$A$6:$A$1806,Data!$C$6:$C$1806)","v":3788.932861328125},{"$f":"LOOKUP($AO296,Data!$A$6:$A$1806,Data!$D$6:$D$1806)","v":350},{"$f":"IF($AS$1=\"+\",LOOKUP($AO296,Data!$A$6:$A$1806,Data!$E$6:$E$1806)*-1,LOOKUP($AO296,Data!$A$6:$A$1806,Data!$E$6:$E$1806))","v":-253.14154052734375},{"$f":"LOOKUP($AO296,Data!$A$6:$A$1806,Data!$F$6:$F$1806)","v":0},{"$f":"LOOKUP($AO296,Data!$A$6:$A$1806,Data!$G$6:$G$1806)","v":135},{"$f":"LOOKUP($AO296,Data!$A$6:$A$1806,Data!$H$6:$H$1806)","v":10},{"$f":"LOOKUP($AO296,Data!$A$6:$A$1806,Data!$I$6:$I$1806)","v":0},{"$f":"LOOKUP($AO296,Data!$A$6:$A$1806,Data!$J$6:$J$1806)","v":-103},{"$f":"LOOKUP($AO296,Data!$A$6:$A$1806,Data!$K$6:$K$1806)","v":7589.1},-9.600830078125]
[null,40098.107361110706,{"$f":"LOOKUP(B297,Data!$A$6:$A$1806,Data!B$6:B$1806)","v":60.009998321533203},{"$f":"LOOKUP(B297,Data!$A$6:$A$1806,Data!C$6:C$1806)","v":3790.4111328125},null,null,null,-7.9986572265625,-9.9817833469609383,null,null,0,3766.9911950394126,{"$f":"AVERAGE(D$79:D297)","v":3768.6264614993579},{"$f":"AVERAGE(M$79:M297)","v":3777.460616108121},3776.2778578541852,{"$f":"AVERAGE(P$79:P297)","v":3738.0354739542017},633,null,null,null,null,null,null,0,633,-2025.4763747329876,null,null,null,null,null,null,null,null,null,null,null,null,null,40098.107361110706,{"$f":"LOOKUP($AO297,Data!$A$6:$A$1806,Data!$B$6:$B$1806)","v":60.009998321533203},{"$f":"LOOKUP($AO297,Data!$A$6:$A$1806,Data!$C$6:$C$1806)","v":3790.4111328125},{"$f":"LOOKUP($AO297,Data!$A$6:$A$1806,Data!$D$6:$D$1806)","v":350},{"$f":"IF($AS$1=\"+\",LOOKUP($AO297,Data!$A$6:$A$1806,Data!$E$6:$E$1806)*-1,LOOKUP($AO297,Data!$A$6:$A$1806,Data!$E$6:$E$1806))","v":-253.14154052734375},{"$f":"LOOKUP($AO297,Data!$A$6:$A$1806,Data!$F$6:$F$1806)","v":0},{"$f":"LOOKUP($AO297,Data!$A$6:$A$1806,Data!$G$6:$G$1806)","v":135.5},{"$f":"LOOKUP($AO297,Data!$A$6:$A$1806,Data!$H$6:$H$1806)","v":10},{"$f":"LOOKUP($AO297,Data!$A$6:$A$1806,Data!$I$6:$I$1806)","v":0},{"$f":"LOOKUP($AO297,Data!$A$6:$A$1806,Data!$J$6:$J$1806)","v":-103},{"$f":"LOOKUP($AO297,Data!$A$6:$A$1806,Data!$K$6:$K$1806)","v":7589.43},-7.9986572265625]
[null,40098.107384258852,{"$f":"LOOKUP(B298,Data!$A$6:$A$1806,Data!B$6:B$1806)","v":60.009998321533203},{"$f":"LOOKUP(B298,Data!$A$6:$A$1806,Data!C$6:C$1806)","v":3790.4111328125},null,null,null,-7.9986572265625,-9.2876892048214863,null,null,0,3767.685289181552,{"$f":"AVERAGE(D$79:D298)","v":3768.7254827325996},{"$f":"AVERAGE(M$79:M298)","v":3777.4161828039091},3776.2778578541852,{"$f":"AVERAGE(P$79:P298)","v":3738.2100967117358},633,null,null,null,null,null,null,0,633,-2025.4763747329876,null,null,null,null,null,null,null,null,null,null,null,null,null,40098.107384258852,{"$f":"LOOKUP($AO298,Data!$A$6:$A$1806,Data!$B$6:$B$1806)","v":60.009998321533203},{"$f":"LOOKUP($AO298,Data!$A$6:$A$1806,Data!$C$6:$C$1806)","v":3790.4111328125},{"$f":"LOOKUP($AO298,Data!$A$6:$A$1806,Data!$D$6:$D$1806)","v":350},{"$f":"IF($AS$1=\"+\",LOOKUP($AO298,Data!$A$6:$A$1806,Data!$E$6:$E$1806)*-1,LOOKUP($AO298,Data!$A$6:$A$1806,Data!$E$6:$E$1806))","v":-253.14154052734375},{"$f":"LOOKUP($AO298,Data!$A$6:$A$1806,Data!$F$6:$F$1806)","v":0},{"$f":"LOOKUP($AO298,Data!$A$6:$A$1806,Data!$G$6:$G$1806)","v":135.5},{"$f":"LOOKUP($AO298,Data!$A$6:$A$1806,Data!$H$6:$H$1806)","v":10},{"$f":"LOOKUP($AO298,Data!$A$6:$A$1806,Data!$I$6:$I$1806)","v":0},{"$f":"LOOKUP($AO298,Data!$A$6:$A$1806,Data!$J$6:$J$1806)","v":-103},{"$f":"LOOKUP($AO298,Data!$A$6:$A$1806,Data!$K$6:$K$1806)","v":7589.43},-7.9986572265625]
[null,40098.107407406998,{"$f":"LOOKUP(B299,Data!$A$6:$A$1806,Data!B$6:B$1806)","v":60.009998321533203},{"$f":"LOOKUP(B299,Data!$A$6:$A$1806,Data!C$6:C$1806)","v":3790.4111328125},null,null,null,-7.9986572265625,{"$f":"L$13*H299+(1-L$13)*I298","v":-8.8365280124308416},null,null,0,3768.1364503739428,{"$f":"AVERAGE(D$79:D299)","v":3768.8236078460832},{"$f":"AVERAGE(M$79:M299)","v":3777.3741930644069},3776.2778578541852,{"$f":"AVERAGE(P$79:P299)","v":3738.3831319896558},633,null,null,null,null,null,null,0,{"$f":"SUM(R299:Y299)","v":633},-2025.4763747329876,null,null,null,null,null,null,null,null,null,null,null,null,null,40098.107407406998,{"$f":"LOOKUP($AO299,Data!$A$6:$A$1806,Data!$B$6:$B$1806)","v":60.009998321533203},{"$f":"LOOKUP($AO299,Data!$A$6:$A$1806,Data!$C$6:$C$1806)","v":3790.4111328125},{"$f":"LOOKUP($AO299,Data!$A$6:$A$1806,Data!$D$6:$D$1806)","v":350},{"$f":"IF($AS$1=\"+\",LOOKUP($AO299,Data!$A$6:$A$1806,Data!$E$6:$E$1806)*-1,LOOKUP($AO299,Data!$A$6:$A$1806,Data!$E$6:$E$1806))","v":-253.14154052734375},{"$f":"LOOKUP($AO299,Data!$A$6:$A$1806,Data!$F$6:$F$1806)","v":0},{"$f":"LOOKUP($AO299,Data!$A$6:$A$1806,Data!$G$6:$G$1806)","v":135.5},{"$f":"LOOKUP($AO299,Data!$A$6:$A$1806,Data!$H$6:$H$1806)","v":10},{"$f":"LOOKUP($AO299,Data!$A$6:$A$1806,Data!$I$6:$I$1806)","v":0},{"$f":"LOOKUP($AO299,Data!$A$6:$A$1806,Data!$J$6:$J$1806)","v":-103},{"$f":"LOOKUP($AO299,Data!$A$6:$A$1806,Data!$K$6:$K$1806)","v":7589.43},-7.9986572265625]
[null,40098.107430555145,{"$f":"LOOKUP(B300,Data!$A$6:$A$1806,Data!B$6:B$1806)","v":60.008998870849609},{"$f":"LOOKUP(B300,Data!$A$6:$A$1806,Data!C$6:C$1806)","v":3791.539794921875},null,null,null,{"$f":"(IF((C300-L$2)>0,((C300-L$2-L$5)/((L$4*L$2)-L$5)*L$3*-1),((C300-L$2+L$5)/((L$4*L$2)-L$5)*L$3*-1)))","v":-7.1990966796875},-8.2634270459706727,null,null,0,3768.7095513404029,{"$f":"AVERAGE(D$79:D300)","v":3768.9259330130913},{"$f":"AVERAGE(M$79:M300)","v":3777.3351631467312},3776.2778578541852,{"$f":"AVERAGE(P$79:P300)","v":3738.5546013374587},633,null,null,null,null,null,null,0,633,-1962.7080489680052,null,null,null,null,null,null,null,null,null,null,null,null,null,40098.107430555145,{"$f":"LOOKUP($AO300,Data!$A$6:$A$1806,Data!$B$6:$B$1806)","v":60.008998870849609},{"$f":"LOOKUP($AO300,Data!$A$6:$A$1806,Data!$C$6:$C$1806)","v":3791.539794921875},{"$f":"LOOKUP($AO300,Data!$A$6:$A$1806,Data!$D$6:$D$1806)","v":350},{"$f":"IF($AS$1=\"+\",LOOKUP($AO300,Data!$A$6:$A$1806,Data!$E$6:$E$1806)*-1,LOOKUP($AO300,Data!$A$6:$A$1806,Data!$E$6:$E$1806))","v":-253.14154052734375},{"$f":"LOOKUP($AO300,Data!$A$6:$A$1806,Data!$F$6:$F$1806)","v":0},{"$f":"LOOKUP($AO300,Data!$A$6:$A$1806,Data!$G$6:$G$1806)","v":136},{"$f":"LOOKUP($AO300,Data!$A$6:$A$1806,Data!$H$6:$H$1806)","v":10},{"$f":"LOOKUP($AO300,Data!$A$6:$A$1806,Data!$I$6:$I$1806)","v":0},{"$f":"LOOKUP($AO300,Data!$A$6:$A$1806,Data!$J$6:$J$1806)","v":-103},{"$f":"LOOKUP($AO300,Data!$A$6:$A$1806,Data!$K$6:$K$1806)","v":7589.76},{"$f":"(IF((AP300-$L$2)>0,((AP300-$L$2-$L$5)/(($L$4*$L$2)-$L$5)*$L$3*-1),((AP300-$L$2+$L$5)/(($L$4*$L$2)-$L$5)*$L$3*-1)))","v":-7.1990966796875}]
[null,40098.107453703291,{"$f":"LOOKUP(B301,Data!$A$6:$A$1806,Data!B$6:B$1806)","v":60.008998870849609},{"$f":"LOOKUP(B301,Data!$A$6:$A$1806,Data!C$6:C$1806)","v":3791.539794921875},null,null,null,-7.1990966796875,-7.8909114177715622,null,null,0,3769.0820669686018,{"$f":"AVERAGE(D$79:D301)","v":3769.0273404655968},{"$f":"AVERAGE(M$79:M301)","v":3777.2981537468295},3776.2778578541852,{"$f":"AVERAGE(P$79:P301)","v":3738.7245259163628},633,null,null,null,null,null,null,0,633,-1962.7080489680052,null,null,null,null,null,null,null,null,null,null,null,null,null,40098.107453703291,{"$f":"LOOKUP($AO301,Data!$A$6:$A$1806,Data!$B$6:$B$1806)","v":60.008998870849609},{"$f":"LOOKUP($AO301,Data!$A$6:$A$1806,Data!$C$6:$C$1806)","v":3791.539794921875},{"$f":"LOOKUP($AO301,Data!$A$6:$A$1806,Data!$D$6:$D$1806)","v":350},{"$f":"IF($AS$1=\"+\",LOOKUP($AO301,Data!$A$6:$A$1806,Data!$E$6:$E$1806)*-1,LOOKUP($AO301,Data!$A$6:$A$1806,Data!$E$6:$E$1806))","v":-253.14154052734375},{"$f":"LOOKUP($AO301,Data!$A$6:$A$1806,Data!$F$6:$F$1806)","v":0},{"$f":"LOOKUP($AO301,Data!$A$6:$A$1806,Data!$G$6:$G$1806)","v":136},{"$f":"LOOKUP($AO301,Data!$A$6:$A$1806,Data!$H$6:$H$1806)","v":10},{"$f":"LOOKUP($AO301,Data!$A$6:$A$1806,Data!$I$6:$I$1806)","v":0},{"$f":"LOOKUP($AO301,Data!$A$6:$A$1806,Data!$J$6:$J$1806)","v":-103},{"$f":"LOOKUP($AO301,Data!$A$6:$A$1806,Data!$K$6:$K$1806)","v":7589.76},-7.1990966796875]
[null,{"$f":"B301+TIME(0,0,$B$1)","v":40098.107476851437},{"$f":"LOOKUP(B302,Data!$A$6:$A$1806,Data!B$6:B$1806)","v":60.009998321533203},{"$f":"LOOKUP(B302,Data!$A$6:$A$1806,Data!C$6:C$1806)","v":3791.443115234375},null,null,null,-7.9986572265625,-7.9286224508483905,null,null,0,3769.0443559355249,{"$f":"AVERAGE(D$79:D302)","v":3769.1274108886719},{"$f":"AVERAGE(M$79:M302)","v":3777.2613064351717},3776.2778578541852,{"$f":"AVERAGE(P$79:P302)","v":3738.8929265080119},633,null,null,null,null,null,null,0,633,-2025.4763747329876,null,null,null,null,null,null,null,null,null,null,null,null,null,40098.107476851437,{"$f":"LOOKUP($AO302,Data!$A$6:$A$1806,Data!$B$6:$B$1806)","v":60.009998321533203},{"$f":"LOOKUP($AO302,Data!$A$6:$A$1806,Data!$C$6:$C$1806)","v":3791.443115234375},{"$f":"LOOKUP($AO302,Data!$A$6:$A$1806,Data!$D$6:$D$1806)","v":350},{"$f":"IF($AS$1=\"+\",LOOKUP($AO302,Data!$A$6:$A$1806,Data!$E$6:$E$1806)*-1,LOOKUP($AO302,Data!$A$6:$A$1806,Data!$E$6:$E$1806))","v":-251.92987060546875},{"$f":"LOOKUP($AO302,Data!$A$6:$A$1806,Data!$F$6:$F$1806)","v":0},{"$f":"LOOKUP($AO302,Data!$A$6:$A$1806,Data!$G$6:$G$1806)","v":136.5},{"$f":"LOOKUP($AO302,Data!$A$6:$A$1806,Data!$H$6:$H$1806)","v":10},{"$f":"LOOKUP($AO302,Data!$A$6:$A$1806,Data!$I$6:$I$1806)","v":0},{"$f":"LOOKUP($AO302,Data!$A$6:$A$1806,Data!$J$6:$J$1806)","v":-103},{"$f":"LOOKUP($AO302,Data!$A$6:$A$1806,Data!$K$6:$K$1806)","v":7590.09},-7.9986572265625]
[null,40098.107499999584,{"$f":"LOOKUP(B303,Data!$A$6:$A$1806,Data!B$6:B$1806)","v":60.009998321533203},{"$f":"LOOKUP(B303,Data!$A$6:$A$1806,Data!C$6:C$1806)","v":3791.443115234375},null,null,null,-7.9986572265625,-7.9531346223483288,null,null,0,3769.0198437640252,{"$f":"AVERAGE(D$79:D303)","v":3769.2265917968748},{"$f":"AVERAGE(M$79:M303)","v":3777.2246777121886},3776.2778578541852,{"$f":"AVERAGE(P$79:P303)","v":3739.0598235229504},633,null,null,null,null,null,null,0,633,-2025.4763747329876,null,null,null,null,null,null,null,null,null,null,null,null,null,40098.107499999584,{"$f":"LOOKUP($AO303,Data!$A$6:$A$1806,Data!$B$6:$B$1806)","v":60.009998321533203},{"$f":"LOOKUP($AO303,Data!$A$6:$A$1806,Data!$C$6:$C$1806)","v":3791.443115234375},{"$f":"LOOKUP($AO303,Data!$A$6:$A$1806,Data!$D$6:$D$1806)","v":350},{"$f":"IF($AS$1=\"+\",LOOKUP($AO303,Data!$A$6:$A$1806,Data!$E$6:$E$1806)*-1,LOOKUP($AO303,Data!$A$6:$A$1806,Data!$E$6:$E$1806))","v":-251.92987060546875},{"$f":"LOOKUP($AO303,Data!$A$6:$A$1806,Data!$F$6:$F$1806)","v":0},{"$f":"LOOKUP($AO303,Data!$A$6:$A$1806,Data!$G$6:$G$1806)","v":136.5},{"$f":"LOOKUP($AO303,Data!$A$6:$A$1806,Data!$H$6:$H$1806)","v":10},{"$f":"LOOKUP($AO303,Data!$A$6:$A$1806,Data!$I$6:$I$1806)","v":0},{"$f":"LOOKUP($AO303,Data!$A$6:$A$1806,Data!$J$6:$J$1806)","v":-103},{"$f":"LOOKUP($AO303,Data!$A$6:$A$1806,Data!$K$6:$K$1806)","v":7590.09},-7.9986572265625]
[null,40098.10752314773,{"$f":"LOOKUP(B304,Data!$A$6:$A$1806,Data!B$6:B$1806)","v":60.009998321533203},{"$f":"LOOKUP(B304,Data!$A$6:$A$1806,Data!C$6:C$1806)","v":3791.443115234375},null,null,null,-7.9986572265625,-7.9690675338232886,null,null,0,3769.0039108525502,{"$f":"AVERAGE(D$79:D304)","v":3769.3248949979261},{"$f":"AVERAGE(M$79:M304)","v":3777.188302637589},3776.2778578541852,{"$f":"AVERAGE(P$79:P304)","v":3739.2252370088668},633,null,null,null,null,null,null,0,633,-2025.4763747329876,null,null,null,null,null,null,null,null,null,null,null,null,null,40098.10752314773,{"$f":"LOOKUP($AO304,Data!$A$6:$A$1806,Data!$B$6:$B$1806)","v":60.009998321533203},{"$f":"LOOKUP($AO304,Data!$A$6:$A$1806,Data!$C$6:$C$1806)","v":3791.443115234375},{"$f":"LOOKUP($AO304,Data!$A$6:$A$1806,Data!$D$6:$D$1806)","v":350},{"$f":"IF($AS$1=\"+\",LOOKUP($AO304,Data!$A$6:$A$1806,Data!$E$6:$E$1806)*-1,LOOKUP($AO304,Data!$A$6:$A$1806,Data!$E$6:$E$1806))","v":-251.92987060546875},{"$f":"LOOKUP($AO304,Data!$A$6:$A$1806,Data!$F$6:$F$1806)","v":0},{"$f":"LOOKUP($AO304,Data!$A$6:$A$1806,Data!$G$6:$G$1806)","v":136.5},{"$f":"LOOKUP($AO304,Data!$A$6:$A$1806,Data!$H$6:$H$1806)","v":10},{"$f":"LOOKUP($AO304,Data!$A$6:$A$1806,Data!$I$6:$I$1806)","v":0},{"$f":"LOOKUP($AO304,Data!$A$6:$A$1806,Data!$J$6:$J$1806)","v":-103},{"$f":"LOOKUP($AO304,Data!$A$6:$A$1806,Data!$K$6:$K$1806)","v":7590.09},-7.9986572265625]
[null,40098.107546295876,{"$f":"LOOKUP(B305,Data!$A$6:$A$1806,Data!B$6:B$1806)","v":59.994998931884766},{"$f":"LOOKUP(B305,Data!$A$6:$A$1806,Data!C$6:C$1806)","v":3790.60302734375},null,null,null,4.0008544921875,-3.7795948247195126,null,null,0,3773.1933835616542,{"$f":"AVERAGE(D$79:D305)","v":3769.4186312637667},{"$f":"AVERAGE(M$79:M305)","v":3777.1707038751401},3776.2778578541852,{"$f":"AVERAGE(P$79:P305)","v":3739.3891866586246},633,null,null,null,null,null,null,0,633,-1368.6102684646789,null,null,null,null,null,null,null,null,null,null,null,null,null,40098.107546295876,{"$f":"LOOKUP($AO305,Data!$A$6:$A$1806,Data!$B$6:$B$1806)","v":59.994998931884766},{"$f":"LOOKUP($AO305,Data!$A$6:$A$1806,Data!$C$6:$C$1806)","v":3790.60302734375},{"$f":"LOOKUP($AO305,Data!$A$6:$A$1806,Data!$D$6:$D$1806)","v":350},{"$f":"IF($AS$1=\"+\",LOOKUP($AO305,Data!$A$6:$A$1806,Data!$E$6:$E$1806)*-1,LOOKUP($AO305,Data!$A$6:$A$1806,Data!$E$6:$E$1806))","v":-251.92987060546875},{"$f":"LOOKUP($AO305,Data!$A$6:$A$1806,Data!$F$6:$F$1806)","v":0},{"$f":"LOOKUP($AO305,Data!$A$6:$A$1806,Data!$G$6:$G$1806)","v":137},{"$f":"LOOKUP($AO305,Data!$A$6:$A$1806,Data!$H$6:$H$1806)","v":10},{"$f":"LOOKUP($AO305,Data!$A$6:$A$1806,Data!$I$6:$I$1806)","v":0},{"$f":"LOOKUP($AO305,Data!$A$6:$A$1806,Data!$J$6:$J$1806)","v":-103},{"$f":"LOOKUP($AO305,Data!$A$6:$A$1806,Data!$K$6:$K$1806)","v":7590.42},4.0008544921875]
[null,40098.107569444022,{"$f":"LOOKUP(B306,Data!$A$6:$A$1806,Data!B$6:B$1806)","v":59.994998931884766},{"$f":"LOOKUP(B306,Data!$A$6:$A$1806,Data!C$6:C$1806)","v":3790.60302734375},null,null,null,4.0008544921875,-1.0564375638020582,null,null,0,3775.9165408225717,{"$f":"AVERAGE(D$79:D306)","v":3769.5115452816613},{"$f":"AVERAGE(M$79:M306)","v":3777.165203159997},3776.2778578541852,{"$f":"AVERAGE(P$79:P306)","v":3739.5516918180761},633,null,null,null,null,null,null,0,633,-1368.6102684646789,null,null,null,null,null,null,null,null,null,null,null,null,null,40098.107569444022,{"$f":"LOOKUP($AO306,Data!$A$6:$A$1806,Data!$B$6:$B$1806)","v":59.994998931884766},{"$f":"LOOKUP($AO306,Data!$A$6:$A$1806,Data!$C$6:$C$1806)","v":3790.60302734375},{"$f":"LOOKUP($AO306,Data!$A$6:$A$1806,Data!$D$6:$D$1806)","v":350},{"$f":"IF($AS$1=\"+\",LOOKUP($AO306,Data!$A$6:$A$1806,Data!$E$6:$E$1806)*-1,LOOKUP($AO306,Data!$A$6:$A$1806,Data!$E$6:$E$1806))","v":-251.92987060546875},{"$f":"LOOKUP($AO306,Data!$A$6:$A$1806,Data!$F$6:$F$1806)","v":0},{"$f":"LOOKUP($AO306,Data!$A$6:$A$1806,Data!$G$6:$G$1806)","v":137},{"$f":"LOOKUP($AO306,Data!$A$6:$A$1806,Data!$H$6:$H$1806)","v":10},{"$f":"LOOKUP($AO306,Data!$A$6:$A$1806,Data!$I$6:$I$1806)","v":0},{"$f":"LOOKUP($AO306,Data!$A$6:$A$1806,Data!$J$6:$J$1806)","v":-103},{"$f":"LOOKUP($AO306,Data!$A$6:$A$1806,Data!$K$6:$K$1806)","v":7590.42},4.0008544921875]
[null,40098.107592592169,{"$f":"LOOKUP(B307,Data!$A$6:$A$1806,Data!B$6:B$1806)","v":59.991001129150391},{"$f":"LOOKUP(B307,Data!$A$6:$A$1806,Data!C$6:C$1806)","v":3789.5849609375},null,null,null,7.1990966796875,1.8329994214192871,null,null,0,3778.8059778077932,{"$f":"AVERAGE(D$79:D307)","v":3769.5992021185862},{"$f":"AVERAGE(M$79:M307)","v":3777.1723681147914},3776.2778578541852,{"$f":"AVERAGE(P$79:P307)","v":3739.7127714936728},633,null,null,null,null,null,null,0,633,-1259.7240614917441,null,null,null,null,null,null,null,null,null,null,null,null,null,40098.107592592169,{"$f":"LOOKUP($AO307,Data!$A$6:$A$1806,Data!$B$6:$B$1806)","v":59.991001129150391},{"$f":"LOOKUP($AO307,Data!$A$6:$A$1806,Data!$C$6:$C$1806)","v":3789.5849609375},{"$f":"LOOKUP($AO307,Data!$A$6:$A$1806,Data!$D$6:$D$1806)","v":350},{"$f":"IF($AS$1=\"+\",LOOKUP($AO307,Data!$A$6:$A$1806,Data!$E$6:$E$1806)*-1,LOOKUP($AO307,Data!$A$6:$A$1806,Data!$E$6:$E$1806))","v":-251.92987060546875},{"$f":"LOOKUP($AO307,Data!$A$6:$A$1806,Data!$F$6:$F$1806)","v":0},{"$f":"LOOKUP($AO307,Data!$A$6:$A$1806,Data!$G$6:$G$1806)","v":137.5},{"$f":"LOOKUP($AO307,Data!$A$6:$A$1806,Data!$H$6:$H$1806)","v":10},{"$f":"LOOKUP($AO307,Data!$A$6:$A$1806,Data!$I$6:$I$1806)","v":0},{"$f":"LOOKUP($AO307,Data!$A$6:$A$1806,Data!$J$6:$J$1806)","v":-103},{"$f":"LOOKUP($AO307,Data!$A$6:$A$1806,Data!$K$6:$K$1806)","v":7590.75},7.1990966796875]
[null,40098.107615740315,{"$f":"LOOKUP(B308,Data!$A$6:$A$1806,Data!B$6:B$1806)","v":59.991001129150391},{"$f":"LOOKUP(B308,Data!$A$6:$A$1806,Data!C$6:C$1806)","v":3789.5849609375},null,null,null,7.1990966796875,3.7111334618131617,null,null,0,3780.6841118481871,{"$f":"AVERAGE(D$79:D308)","v":3769.6860967221469},{"$f":"AVERAGE(M$79:M308)","v":3777.1876365658063},3776.2778578541852,{"$f":"AVERAGE(P$79:P308)","v":3739.8724443598758},633,null,null,null,null,null,null,0,633,-1259.7240614917441,null,null,null,null,null,null,null,null,null,null,null,null,null,40098.107615740315,{"$f":"LOOKUP($AO308,Data!$A$6:$A$1806,Data!$B$6:$B$1806)","v":59.991001129150391},{"$f":"LOOKUP($AO308,Data!$A$6:$A$1806,Data!$C$6:$C$1806)","v":3789.5849609375},{"$f":"LOOKUP($AO308,Data!$A$6:$A$1806,Data!$D$6:$D$1806)","v":350},{"$f":"IF($AS$1=\"+\",LOOKUP($AO308,Data!$A$6:$A$1806,Data!$E$6:$E$1806)*-1,LOOKUP($AO308,Data!$A$6:$A$1806,Data!$E$6:$E$1806))","v":-251.92987060546875},{"$f":"LOOKUP($AO308,Data!$A$6:$A$1806,Data!$F$6:$F$1806)","v":0},{"$f":"LOOKUP($AO308,Data!$A$6:$A$1806,Data!$G$6:$G$1806)","v":137.5},{"$f":"LOOKUP($AO308,Data!$A$6:$A$1806,Data!$H$6:$H$1806)","v":10},{"$f":"LOOKUP($AO308,Data!$A$6:$A$1806,Data!$I$6:$I$1806)","v":0},{"$f":"LOOKUP($AO308,Data!$A$6:$A$1806,Data!$J$6:$J$1806)","v":-103},{"$f":"LOOKUP($AO308,Data!$A$6:$A$1806,Data!$K$6:$K$1806)","v":7590.75},7.1990966796875]
[null,40098.107638888461,{"$f":"LOOKUP(B309,Data!$A$6:$A$1806,Data!B$6:B$1806)","v":59.991001129150391},{"$f":"LOOKUP(B309,Data!$A$6:$A$1806,Data!C$6:C$1806)","v":3789.5849609375},null,null,null,7.1990966796875,4.9319205880691808,null,null,0,3781.9048989744429,{"$f":"AVERAGE(D$79:D309)","v":3769.7722389914775},{"$f":"AVERAGE(M$79:M309)","v":3777.2080576151943},3776.2778578541852,{"$f":"AVERAGE(P$79:P309)","v":3740.0307287663727},633,null,null,null,null,null,null,0,633,-1259.7240614917441,null,null,null,null,null,null,null,null,null,null,null,null,null,40098.107638888461,{"$f":"LOOKUP($AO309,Data!$A$6:$A$1806,Data!$B$6:$B$1806)","v":59.991001129150391},{"$f":"LOOKUP($AO309,Data!$A$6:$A$1806,Data!$C$6:$C$1806)","v":3789.5849609375},{"$f":"LOOKUP($AO309,Data!$A$6:$A$1806,Data!$D$6:$D$1806)","v":350},{"$f":"IF($AS$1=\"+\",LOOKUP($AO309,Data!$A$6:$A$1806,Data!$E$6:$E$1806)*-1,LOOKUP($AO309,Data!$A$6:$A$1806,Data!$E$6:$E$1806))","v":-251.92987060546875},{"$f":"LOOKUP($AO309,Data!$A$6:$A$1806,Data!$F$6:$F$1806)","v":0},{"$f":"LOOKUP($AO309,Data!$A$6:$A$1806,Data!$G$6:$G$1806)","v":137.5},{"$f":"LOOKUP($AO309,Data!$A$6:$A$1806,Data!$H$6:$H$1806)","v":10},{"$f":"LOOKUP($AO309,Data!$A$6:$A$1806,Data!$I$6:$I$1806)","v":0},{"$f":"LOOKUP($AO309,Data!$A$6:$A$1806,Data!$J$6:$J$1806)","v":-103},{"$f":"LOOKUP($AO309,Data!$A$6:$A$1806,Data!$K$6:$K$1806)","v":7590.75},7.1990966796875]
[null,40098.107662036608,{"$f":"LOOKUP(B310,Data!$A$6:$A$1806,Data!B$6:B$1806)","v":59.987998962402344},{"$f":"LOOKUP(B310,Data!$A$6:$A$1806,Data!C$6:C$1806)","v":3788.10498046875},null,null,null,9.600830078125,6.5660389095887179,null,null,0,3783.5390172959624,{"$f":"AVERAGE(D$79:D310)","v":3769.8512594288795},{"$f":"AVERAGE(M$79:M310)","v":3777.2353462345081},3776.2778578541852,{"$f":"AVERAGE(P$79:P310)","v":3740.1876427451075},633,null,null,null,null,null,null,0,633,-1188.7041226404958,null,null,null,null,null,null,null,null,null,null,null,null,null,40098.107662036608,{"$f":"LOOKUP($AO310,Data!$A$6:$A$1806,Data!$B$6:$B$1806)","v":59.987998962402344},{"$f":"LOOKUP($AO310,Data!$A$6:$A$1806,Data!$C$6:$C$1806)","v":3788.10498046875},{"$f":"LOOKUP($AO310,Data!$A$6:$A$1806,Data!$D$6:$D$1806)","v":350},{"$f":"IF($AS$1=\"+\",LOOKUP($AO310,Data!$A$6:$A$1806,Data!$E$6:$E$1806)*-1,LOOKUP($AO310,Data!$A$6:$A$1806,Data!$E$6:$E$1806))","v":-251.92987060546875},{"$f":"LOOKUP($AO310,Data!$A$6:$A$1806,Data!$F$6:$F$1806)","v":0},{"$f":"LOOKUP($AO310,Data!$A$6:$A$1806,Data!$G$6:$G$1806)","v":138},{"$f":"LOOKUP($AO310,Data!$A$6:$A$1806,Data!$H$6:$H$1806)","v":10},{"$f":"LOOKUP($AO310,Data!$A$6:$A$1806,Data!$I$6:$I$1806)","v":0},{"$f":"LOOKUP($AO310,Data!$A$6:$A$1806,Data!$J$6:$J$1806)","v":-103},{"$f":"LOOKUP($AO310,Data!$A$6:$A$1806,Data!$K$6:$K$1806)","v":7591.08},9.600830078125]
[null,40098.107685184754,{"$f":"LOOKUP(B311,Data!$A$6:$A$1806,Data!B$6:B$1806)","v":59.987998962402344},{"$f":"LOOKUP(B311,Data!$A$6:$A$1806,Data!C$6:C$1806)","v":3788.10498046875},null,null,null,9.600830078125,7.6282158185764164,null,null,0,3784.6011942049499,{"$f":"AVERAGE(D$79:D311)","v":3769.9296015792652},{"$f":"AVERAGE(M$79:M311)","v":3777.2669593159262},3776.2778578541852,{"$f":"AVERAGE(P$79:P311)","v":3740.3432040171292},633,null,null,null,null,null,null,0,633,-1188.7041226404958,null,null,null,null,null,null,null,null,null,null,null,null,null,40098.107685184754,{"$f":"LOOKUP($AO311,Data!$A$6:$A$1806,Data!$B$6:$B$1806)","v":59.987998962402344},{"$f":"LOOKUP($AO311,Data!$A$6:$A$1806,Data!$C$6:$C$1806)","v":3788.10498046875},{"$f":"LOOKUP($AO311,Data!$A$6:$A$1806,Data!$D$6:$D$1806)","v":350},{"$f":"IF($AS$1=\"+\",LOOKUP($AO311,Data!$A$6:$A$1806,Data!$E$6:$E$1806)*-1,LOOKUP($AO311,Data!$A$6:$A$1806,Data!$E$6:$E$1806))","v":-251.92987060546875},{"$f":"LOOKUP($AO311,Data!$A$6:$A$1806,Data!$F$6:$F$1806)","v":0},{"$f":"LOOKUP($AO311,Data!$A$6:$A$1806,Data!$G$6:$G$1806)","v":138},{"$f":"LOOKUP($AO311,Data!$A$6:$A$1806,Data!$H$6:$H$1806)","v":10},{"$f":"LOOKUP($AO311,Data!$A$6:$A$1806,Data!$I$6:$I$1806)","v":0},{"$f":"LOOKUP($AO311,Data!$A$6:$A$1806,Data!$J$6:$J$1806)","v":-103},{"$f":"LOOKUP($AO311,Data!$A$6:$A$1806,Data!$K$6:$K$1806)","v":7591.08},9.600830078125]
[null,40098.1077083329,{"$f":"LOOKUP(B312,Data!$A$6:$A$1806,Data!B$6:B$1806)","v":59.985000610351563},{"$f":"LOOKUP(B312,Data!$A$6:$A$1806,Data!C$6:C$1806)","v":3788.497314453125},null,null,null,11.99951171875,9.1581693836371709,null,null,0,3786.1311477700106,{"$f":"AVERAGE(D$79:D312)","v":3770.0089507795806},{"$f":"AVERAGE(M$79:M312)","v":3777.3048404631659},3776.2778578541852,{"$f":"AVERAGE(P$79:P312)","v":3740.4974299992627},633,null,null,null,null,null,null,0,633,-1125.3409650401818,null,null,null,null,null,null,null,null,null,null,null,null,null,40098.1077083329,{"$f":"LOOKUP($AO312,Data!$A$6:$A$1806,Data!$B$6:$B$1806)","v":59.985000610351563},{"$f":"LOOKUP($AO312,Data!$A$6:$A$1806,Data!$C$6:$C$1806)","v":3788.497314453125},{"$f":"LOOKUP($AO312,Data!$A$6:$A$1806,Data!$D$6:$D$1806)","v":350},{"$f":"IF($AS$1=\"+\",LOOKUP($AO312,Data!$A$6:$A$1806,Data!$E$6:$E$1806)*-1,LOOKUP($AO312,Data!$A$6:$A$1806,Data!$E$6:$E$1806))","v":-251.92987060546875},{"$f":"LOOKUP($AO312,Data!$A$6:$A$1806,Data!$F$6:$F$1806)","v":0},{"$f":"LOOKUP($AO312,Data!$A$6:$A$1806,Data!$G$6:$G$1806)","v":138.5},{"$f":"LOOKUP($AO312,Data!$A$6:$A$1806,Data!$H$6:$H$1806)","v":10},{"$f":"LOOKUP($AO312,Data!$A$6:$A$1806,Data!$I$6:$I$1806)","v":0},{"$f":"LOOKUP($AO312,Data!$A$6:$A$1806,Data!$J$6:$J$1806)","v":-103},{"$f":"LOOKUP($AO312,Data!$A$6:$A$1806,Data!$K$6:$K$1806)","v":7591.41},11.99951171875]
[null,40098.107731481046,{"$f":"LOOKUP(B313,Data!$A$6:$A$1806,Data!B$6:B$1806)","v":59.985000610351563},{"$f":"LOOKUP(B313,Data!$A$6:$A$1806,Data!C$6:C$1806)","v":3788.497314453125},null,null,null,11.99951171875,10.152639200926661,null,null,0,3787.1256175873,{"$f":"AVERAGE(D$79:D313)","v":3770.087624667553},{"$f":"AVERAGE(M$79:M313)","v":3777.3466310041199},3776.2778578541852,{"$f":"AVERAGE(P$79:P313)","v":3740.6503378106081},633,null,null,null,null,null,null,0,633,-1125.3409650401818,null,null,null,null,null,null,null,null,null,null,null,null,null,40098.107731481046,{"$f":"LOOKUP($AO313,Data!$A$6:$A$1806,Data!$B$6:$B$1806)","v":59.985000610351563},{"$f":"LOOKUP($AO313,Data!$A$6:$A$1806,Data!$C$6:$C$1806)","v":3788.497314453125},{"$f":"LOOKUP($AO313,Data!$A$6:$A$1806,Data!$D$6:$D$1806)","v":350},{"$f":"IF($AS$1=\"+\",LOOKUP($AO313,Data!$A$6:$A$1806,Data!$E$6:$E$1806)*-1,LOOKUP($AO313,Data!$A$6:$A$1806,Data!$E$6:$E$1806))","v":-251.92987060546875},{"$f":"LOOKUP($AO313,Data!$A$6:$A$1806,Data!$F$6:$F$1806)","v":0},{"$f":"LOOKUP($AO313,Data!$A$6:$A$1806,Data!$G$6:$G$1806)","v":138.5},{"$f":"LOOKUP($AO313,Data!$A$6:$A$1806,Data!$H$6:$H$1806)","v":10},{"$f":"LOOKUP($AO313,Data!$A$6:$A$1806,Data!$I$6:$I$1806)","v":0},{"$f":"LOOKUP($AO313,Data!$A$6:$A$1806,Data!$J$6:$J$1806)","v":-103},{"$f":"LOOKUP($AO313,Data!$A$6:$A$1806,Data!$K$6:$K$1806)","v":7591.41},11.99951171875]
[null,40098.107754629193,{"$f":"LOOKUP(B314,Data!$A$6:$A$1806,Data!B$6:B$1806)","v":59.985000610351563},{"$f":"LOOKUP(B314,Data!$A$6:$A$1806,Data!C$6:C$1806)","v":3788.497314453125},null,null,null,11.99951171875,10.799044582164829,null,null,0,3787.7720229685383,{"$f":"AVERAGE(D$79:D314)","v":3770.1656318276614},{"$f":"AVERAGE(M$79:M314)","v":3777.3908063937993},3776.2778578541852,{"$f":"AVERAGE(P$79:P314)","v":3740.8019442788786},633,null,null,null,null,null,null,0,633,-1125.3409650401818,null,null,null,null,null,null,null,null,null,null,null,null,null,40098.107754629193,{"$f":"LOOKUP($AO314,Data!$A$6:$A$1806,Data!$B$6:$B$1806)","v":59.985000610351563},{"$f":"LOOKUP($AO314,Data!$A$6:$A$1806,Data!$C$6:$C$1806)","v":3788.497314453125},{"$f":"LOOKUP($AO314,Data!$A$6:$A$1806,Data!$D$6:$D$1806)","v":350},{"$f":"IF($AS$1=\"+\",LOOKUP($AO314,Data!$A$6:$A$1806,Data!$E$6:$E$1806)*-1,LOOKUP($AO314,Data!$A$6:$A$1806,Data!$E$6:$E$1806))","v":-251.92987060546875},{"$f":"LOOKUP($AO314,Data!$A$6:$A$1806,Data!$F$6:$F$1806)","v":0},{"$f":"LOOKUP($AO314,Data!$A$6:$A$1806,Data!$G$6:$G$1806)","v":138.5},{"$f":"LOOKUP($AO314,Data!$A$6:$A$1806,Data!$H$6:$H$1806)","v":10},{"$f":"LOOKUP($AO314,Data!$A$6:$A$1806,Data!$I$6:$I$1806)","v":0},{"$f":"LOOKUP($AO314,Data!$A$6:$A$1806,Data!$J$6:$J$1806)","v":-103},{"$f":"LOOKUP($AO314,Data!$A$6:$A$1806,Data!$K$6:$K$1806)","v":7591.41},11.99951171875]
[null,40098.107777777339,{"$f":"LOOKUP(B315,Data!$A$6:$A$1806,Data!B$6:B$1806)","v":59.984001159667969},{"$f":"LOOKUP(B315,Data!$A$6:$A$1806,Data!C$6:C$1806)","v":3788.57080078125},null,null,null,12.799072265625,11.49905427137589,null,null,0,3788.4720326577494,{"$f":"AVERAGE(D$79:D315)","v":3770.2432907683938},{"$f":"AVERAGE(M$79:M315)","v":3777.4375626227611},3776.2778578541852,{"$f":"AVERAGE(P$79:P315)","v":3740.9522659465706},633,null,null,null,null,null,null,0,633,-1105.6948325837081,null,null,null,null,null,null,null,null,null,null,null,null,null,40098.107777777339,{"$f":"LOOKUP($AO315,Data!$A$6:$A$1806,Data!$B$6:$B$1806)","v":59.984001159667969},{"$f":"LOOKUP($AO315,Data!$A$6:$A$1806,Data!$C$6:$C$1806)","v":3788.57080078125},{"$f":"LOOKUP($AO315,Data!$A$6:$A$1806,Data!$D$6:$D$1806)","v":350},{"$f":"IF($AS$1=\"+\",LOOKUP($AO315,Data!$A$6:$A$1806,Data!$E$6:$E$1806)*-1,LOOKUP($AO315,Data!$A$6:$A$1806,Data!$E$6:$E$1806))","v":-250.6741943359375},{"$f":"LOOKUP($AO315,Data!$A$6:$A$1806,Data!$F$6:$F$1806)","v":0},{"$f":"LOOKUP($AO315,Data!$A$6:$A$1806,Data!$G$6:$G$1806)","v":139},{"$f":"LOOKUP($AO315,Data!$A$6:$A$1806,Data!$H$6:$H$1806)","v":10},{"$f":"LOOKUP($AO315,Data!$A$6:$A$1806,Data!$I$6:$I$1806)","v":0},{"$f":"LOOKUP($AO315,Data!$A$6:$A$1806,Data!$J$6:$J$1806)","v":-103},{"$f":"LOOKUP($AO315,Data!$A$6:$A$1806,Data!$K$6:$K$1806)","v":7591.74},12.799072265625]
[null,40098.107800925485,{"$f":"LOOKUP(B316,Data!$A$6:$A$1806,Data!B$6:B$1806)","v":59.984001159667969},{"$f":"LOOKUP(B316,Data!$A$6:$A$1806,Data!C$6:C$1806)","v":3788.57080078125},null,null,null,12.799072265625,11.954060569363079,null,null,0,3788.9270389557364,{"$f":"AVERAGE(D$79:D316)","v":3770.3202971129858},{"$f":"AVERAGE(M$79:M316)","v":3777.485837733404},3776.2778578541852,{"$f":"AVERAGE(P$79:P316)","v":3741.1013190769822},633,null,null,null,null,null,null,0,633,-1105.6948325837081,null,null,null,null,null,null,null,null,null,null,null,null,null,40098.107800925485,{"$f":"LOOKUP($AO316,Data!$A$6:$A$1806,Data!$B$6:$B$1806)","v":59.984001159667969},{"$f":"LOOKUP($AO316,Data!$A$6:$A$1806,Data!$C$6:$C$1806)","v":3788.57080078125},{"$f":"LOOKUP($AO316,Data!$A$6:$A$1806,Data!$D$6:$D$1806)","v":350},{"$f":"IF($AS$1=\"+\",LOOKUP($AO316,Data!$A$6:$A$1806,Data!$E$6:$E$1806)*-1,LOOKUP($AO316,Data!$A$6:$A$1806,Data!$E$6:$E$1806))","v":-250.6741943359375},{"$f":"LOOKUP($AO316,Data!$A$6:$A$1806,Data!$F$6:$F$1806)","v":0},{"$f":"LOOKUP($AO316,Data!$A$6:$A$1806,Data!$G$6:$G$1806)","v":139},{"$f":"LOOKUP($AO316,Data!$A$6:$A$1806,Data!$H$6:$H$1806)","v":10},{"$f":"LOOKUP($AO316,Data!$A$6:$A$1806,Data!$I$6:$I$1806)","v":0},{"$f":"LOOKUP($AO316,Data!$A$6:$A$1806,Data!$J$6:$J$1806)","v":-103},{"$f":"LOOKUP($AO316,Data!$A$6:$A$1806,Data!$K$6:$K$1806)","v":7591.74},12.799072265625]
[null,40098.107824073631,{"$f":"LOOKUP(B317,Data!$A$6:$A$1806,Data!B$6:B$1806)","v":59.980998992919922},{"$f":"LOOKUP(B317,Data!$A$6:$A$1806,Data!C$6:C$1806)","v":3786.452880859375},null,null,null,15.2008056640625,13.090421352507878,null,null,0,3790.0633997388813,{"$f":"AVERAGE(D$79:D317)","v":3770.3877974633892},{"$f":"AVERAGE(M$79:M317)","v":3777.5384635158534},3776.2778578541852,{"$f":"AVERAGE(P$79:P317)","v":3741.2491196600795},633,null,null,null,null,null,null,0,633,-1050.6008547279116,null,null,null,null,null,null,null,null,null,null,null,null,null,40098.107824073631,{"$f":"LOOKUP($AO317,Data!$A$6:$A$1806,Data!$B$6:$B$1806)","v":59.980998992919922},{"$f":"LOOKUP($AO317,Data!$A$6:$A$1806,Data!$C$6:$C$1806)","v":3786.452880859375},{"$f":"LOOKUP($AO317,Data!$A$6:$A$1806,Data!$D$6:$D$1806)","v":350},{"$f":"IF($AS$1=\"+\",LOOKUP($AO317,Data!$A$6:$A$1806,Data!$E$6:$E$1806)*-1,LOOKUP($AO317,Data!$A$6:$A$1806,Data!$E$6:$E$1806))","v":-250.6741943359375},{"$f":"LOOKUP($AO317,Data!$A$6:$A$1806,Data!$F$6:$F$1806)","v":0},{"$f":"LOOKUP($AO317,Data!$A$6:$A$1806,Data!$G$6:$G$1806)","v":139.5},{"$f":"LOOKUP($AO317,Data!$A$6:$A$1806,Data!$H$6:$H$1806)","v":10},{"$f":"LOOKUP($AO317,Data!$A$6:$A$1806,Data!$I$6:$I$1806)","v":0},{"$f":"LOOKUP($AO317,Data!$A$6:$A$1806,Data!$J$6:$J$1806)","v":-103},{"$f":"LOOKUP($AO317,Data!$A$6:$A$1806,Data!$K$6:$K$1806)","v":7592.07},15.2008056640625]
[null,40098.107847221778,{"$f":"LOOKUP(B318,Data!$A$6:$A$1806,Data!B$6:B$1806)","v":59.980998992919922},{"$f":"LOOKUP(B318,Data!$A$6:$A$1806,Data!C$6:C$1806)","v":3786.452880859375},null,null,null,15.2008056640625,13.829055861551996,null,null,0,3790.8020342479253,{"$f":"AVERAGE(D$79:D318)","v":3770.4547353108724},{"$f":"AVERAGE(M$79:M318)","v":3777.5937283939038},3776.2778578541852,{"$f":"AVERAGE(P$79:P318)","v":3741.3956834182136},633,null,null,null,null,null,null,0,633,-1050.6008547279116,null,null,null,null,null,null,null,null,null,null,null,null,null,40098.107847221778,{"$f":"LOOKUP($AO318,Data!$A$6:$A$1806,Data!$B$6:$B$1806)","v":59.980998992919922},{"$f":"LOOKUP($AO318,Data!$A$6:$A$1806,Data!$C$6:$C$1806)","v":3786.452880859375},{"$f":"LOOKUP($AO318,Data!$A$6:$A$1806,Data!$D$6:$D$1806)","v":350},{"$f":"IF($AS$1=\"+\",LOOKUP($AO318,Data!$A$6:$A$1806,Data!$E$6:$E$1806)*-1,LOOKUP($AO318,Data!$A$6:$A$1806,Data!$E$6:$E$1806))","v":-250.6741943359375},{"$f":"LOOKUP($AO318,Data!$A$6:$A$1806,Data!$F$6:$F$1806)","v":0},{"$f":"LOOKUP($AO318,Data!$A$6:$A$1806,Data!$G$6:$G$1806)","v":139.5},{"$f":"LOOKUP($AO318,Data!$A$6:$A$1806,Data!$H$6:$H$1806)","v":10},{"$f":"LOOKUP($AO318,Data!$A$6:$A$1806,Data!$I$6:$I$1806)","v":0},{"$f":"LOOKUP($AO318,Data!$A$6:$A$1806,Data!$J$6:$J$1806)","v":-103},{"$f":"LOOKUP($AO318,Data!$A$6:$A$1806,Data!$K$6:$K$1806)","v":7592.07},15.2008056640625]
[null,40098.107870369924,{"$f":"LOOKUP(B319,Data!$A$6:$A$1806,Data!B$6:B$1806)","v":59.980998992919922},{"$f":"LOOKUP(B319,Data!$A$6:$A$1806,Data!C$6:C$1806)","v":3786.452880859375},null,null,null,15.2008056640625,14.309168292430673,null,null,0,3791.2821466788041,{"$f":"AVERAGE(D$79:D319)","v":3770.5211176575467},{"$f":"AVERAGE(M$79:M319)","v":3777.6505268100236},3776.2778578541852,{"$f":"AVERAGE(P$79:P319)","v":3741.5410258116967},633,null,null,null,null,null,null,0,633,-1050.6008547279116,null,null,null,null,null,null,null,null,null,null,null,null,null,40098.107870369924,{"$f":"LOOKUP($AO319,Data!$A$6:$A$1806,Data!$B$6:$B$1806)","v":59.980998992919922},{"$f":"LOOKUP($AO319,Data!$A$6:$A$1806,Data!$C$6:$C$1806)","v":3786.452880859375},{"$f":"LOOKUP($AO319,Data!$A$6:$A$1806,Data!$D$6:$D$1806)","v":350},{"$f":"IF($AS$1=\"+\",LOOKUP($AO319,Data!$A$6:$A$1806,Data!$E$6:$E$1806)*-1,LOOKUP($AO319,Data!$A$6:$A$1806,Data!$E$6:$E$1806))","v":-250.6741943359375},{"$f":"LOOKUP($AO319,Data!$A$6:$A$1806,Data!$F$6:$F$1806)","v":0},{"$f":"LOOKUP($AO319,Data!$A$6:$A$1806,Data!$G$6:$G$1806)","v":139.5},{"$f":"LOOKUP($AO319,Data!$A$6:$A$1806,Data!$H$6:$H$1806)","v":10},{"$f":"LOOKUP($AO319,Data!$A$6:$A$1806,Data!$I$6:$I$1806)","v":0},{"$f":"LOOKUP($AO319,Data!$A$6:$A$1806,Data!$J$6:$J$1806)","v":-103},{"$f":"LOOKUP($AO319,Data!$A$6:$A$1806,Data!$K$6:$K$1806)","v":7592.07},15.2008056640625]
[null,40098.10789351807,{"$f":"LOOKUP(B320,Data!$A$6:$A$1806,Data!B$6:B$1806)","v":59.977001190185547},{"$f":"LOOKUP(B320,Data!$A$6:$A$1806,Data!C$6:C$1806)","v":3788.8134765625},null,null,null,18.3990478515625,15.740626138126812,null,null,0,3792.7136045245002,{"$f":"AVERAGE(D$79:D320)","v":3770.5967059174845},{"$f":"AVERAGE(M$79:M320)","v":3777.7127709328106},3776.2778578541852,{"$f":"AVERAGE(P$79:P320)","v":3741.685162044238},633,null,null,null,null,null,null,0,633,-985.22874870120233,null,null,null,null,null,null,null,null,null,null,null,null,null,40098.10789351807,{"$f":"LOOKUP($AO320,Data!$A$6:$A$1806,Data!$B$6:$B$1806)","v":59.977001190185547},{"$f":"LOOKUP($AO320,Data!$A$6:$A$1806,Data!$C$6:$C$1806)","v":3788.8134765625},{"$f":"LOOKUP($AO320,Data!$A$6:$A$1806,Data!$D$6:$D$1806)","v":350},{"$f":"IF($AS$1=\"+\",LOOKUP($AO320,Data!$A$6:$A$1806,Data!$E$6:$E$1806)*-1,LOOKUP($AO320,Data!$A$6:$A$1806,Data!$E$6:$E$1806))","v":-250.6741943359375},{"$f":"LOOKUP($AO320,Data!$A$6:$A$1806,Data!$F$6:$F$1806)","v":0},{"$f":"LOOKUP($AO320,Data!$A$6:$A$1806,Data!$G$6:$G$1806)","v":140},{"$f":"LOOKUP($AO320,Data!$A$6:$A$1806,Data!$H$6:$H$1806)","v":10},{"$f":"LOOKUP($AO320,Data!$A$6:$A$1806,Data!$I$6:$I$1806)","v":0},{"$f":"LOOKUP($AO320,Data!$A$6:$A$1806,Data!$J$6:$J$1806)","v":-103},{"$f":"LOOKUP($AO320,Data!$A$6:$A$1806,Data!$K$6:$K$1806)","v":7592.4},18.3990478515625]
[null,40098.107916666217,{"$f":"LOOKUP(B321,Data!$A$6:$A$1806,Data!B$6:B$1806)","v":59.977001190185547},{"$f":"LOOKUP(B321,Data!$A$6:$A$1806,Data!C$6:C$1806)","v":3788.8134765625},null,null,null,18.3990478515625,16.671073737829303,null,null,0,3793.6440521242025,{"$f":"AVERAGE(D$79:D321)","v":3770.6716720518261},{"$f":"AVERAGE(M$79:M321)","v":3777.7783317607586},3776.2778578541852,{"$f":"AVERAGE(P$79:P321)","v":3741.828107068246},633,null,null,null,null,null,null,0,633,-985.22874870120233,null,null,null,null,null,null,null,null,null,null,null,null,null,40098.107916666217,{"$f":"LOOKUP($AO321,Data!$A$6:$A$1806,Data!$B$6:$B$1806)","v":59.977001190185547},{"$f":"LOOKUP($AO321,Data!$A$6:$A$1806,Data!$C$6:$C$1806)","v":3788.8134765625},{"$f":"LOOKUP($AO321,Data!$A$6:$A$1806,Data!$D$6:$D$1806)","v":350},{"$f":"IF($AS$1=\"+\",LOOKUP($AO321,Data!$A$6:$A$1806,Data!$E$6:$E$1806)*-1,LOOKUP($AO321,Data!$A$6:$A$1806,Data!$E$6:$E$1806))","v":-250.6741943359375},{"$f":"LOOKUP($AO321,Data!$A$6:$A$1806,Data!$F$6:$F$1806)","v":0},{"$f":"LOOKUP($AO321,Data!$A$6:$A$1806,Data!$G$6:$G$1806)","v":140},{"$f":"LOOKUP($AO321,Data!$A$6:$A$1806,Data!$H$6:$H$1806)","v":10},{"$f":"LOOKUP($AO321,Data!$A$6:$A$1806,Data!$I$6:$I$1806)","v":0},{"$f":"LOOKUP($AO321,Data!$A$6:$A$1806,Data!$J$6:$J$1806)","v":-103},{"$f":"LOOKUP($AO321,Data!$A$6:$A$1806,Data!$K$6:$K$1806)","v":7592.4},18.3990478515625]
[null,40098.107939814363,{"$f":"LOOKUP(B322,Data!$A$6:$A$1806,Data!B$6:B$1806)","v":59.976001739501953},{"$f":"LOOKUP(B322,Data!$A$6:$A$1806,Data!C$6:C$1806)","v":3788.40966796875},null,null,null,19.1986083984375,17.555710869042173,null,null,0,3794.5286892554154,{"$f":"AVERAGE(D$79:D322)","v":3770.7443687564037},{"$f":"AVERAGE(M$79:M322)","v":3777.8469807668848},3776.2778578541852,{"$f":"AVERAGE(P$79:P322)","v":3741.9698755899985},633,null,null,null,null,null,null,0,633,-970.13740243795496,null,null,null,null,null,null,null,null,null,null,null,null,null,40098.107939814363,{"$f":"LOOKUP($AO322,Data!$A$6:$A$1806,Data!$B$6:$B$1806)","v":59.976001739501953},{"$f":"LOOKUP($AO322,Data!$A$6:$A$1806,Data!$C$6:$C$1806)","v":3788.40966796875},{"$f":"LOOKUP($AO322,Data!$A$6:$A$1806,Data!$D$6:$D$1806)","v":350},{"$f":"IF($AS$1=\"+\",LOOKUP($AO322,Data!$A$6:$A$1806,Data!$E$6:$E$1806)*-1,LOOKUP($AO322,Data!$A$6:$A$1806,Data!$E$6:$E$1806))","v":-250.6741943359375},{"$f":"LOOKUP($AO322,Data!$A$6:$A$1806,Data!$F$6:$F$1806)","v":0},{"$f":"LOOKUP($AO322,Data!$A$6:$A$1806,Data!$G$6:$G$1806)","v":140.5},{"$f":"LOOKUP($AO322,Data!$A$6:$A$1806,Data!$H$6:$H$1806)","v":10},{"$f":"LOOKUP($AO322,Data!$A$6:$A$1806,Data!$I$6:$I$1806)","v":0},{"$f":"LOOKUP($AO322,Data!$A$6:$A$1806,Data!$J$6:$J$1806)","v":-103},{"$f":"LOOKUP($AO322,Data!$A$6:$A$1806,Data!$K$6:$K$1806)","v":7592.73},19.1986083984375]
[null,40098.107962962509,{"$f":"LOOKUP(B323,Data!$A$6:$A$1806,Data!B$6:B$1806)","v":59.976001739501953},{"$f":"LOOKUP(B323,Data!$A$6:$A$1806,Data!C$6:C$1806)","v":3788.40966796875},null,null,null,19.1986083984375,18.130725004330536,null,null,0,3795.1037033907037,{"$f":"AVERAGE(D$79:D323)","v":3770.816472018495},{"$f":"AVERAGE(M$79:M323)","v":3777.9174163694306},3776.2778578541852,{"$f":"AVERAGE(P$79:P323)","v":3742.1104820746878},633,null,null,null,null,null,null,0,633,-970.13740243795496,null,null,null,null,null,null,null,null,null,null,null,null,null,40098.107962962509,{"$f":"LOOKUP($AO323,Data!$A$6:$A$1806,Data!$B$6:$B$1806)","v":59.976001739501953},{"$f":"LOOKUP($AO323,Data!$A$6:$A$1806,Data!$C$6:$C$1806)","v":3788.40966796875},{"$f":"LOOKUP($AO323,Data!$A$6:$A$1806,Data!$D$6:$D$1806)","v":350},{"$f":"IF($AS$1=\"+\",LOOKUP($AO323,Data!$A$6:$A$1806,Data!$E$6:$E$1806)*-1,LOOKUP($AO323,Data!$A$6:$A$1806,Data!$E$6:$E$1806))","v":-250.6741943359375},{"$f":"LOOKUP($AO323,Data!$A$6:$A$1806,Data!$F$6:$F$1806)","v":0},{"$f":"LOOKUP($AO323,Data!$A$6:$A$1806,Data!$G$6:$G$1806)","v":140.5},{"$f":"LOOKUP($AO323,Data!$A$6:$A$1806,Data!$H$6:$H$1806)","v":10},{"$f":"LOOKUP($AO323,Data!$A$6:$A$1806,Data!$I$6:$I$1806)","v":0},{"$f":"LOOKUP($AO323,Data!$A$6:$A$1806,Data!$J$6:$J$1806)","v":-103},{"$f":"LOOKUP($AO323,Data!$A$6:$A$1806,Data!$K$6:$K$1806)","v":7592.73},19.1986083984375]
[null,40098.107986110655,{"$f":"LOOKUP(B324,Data!$A$6:$A$1806,Data!B$6:B$1806)","v":59.976001739501953},{"$f":"LOOKUP(B324,Data!$A$6:$A$1806,Data!C$6:C$1806)","v":3788.40966796875},null,null,null,19.1986083984375,18.504484192267974,null,null,0,3795.4774625786413,{"$f":"AVERAGE(D$79:D324)","v":3770.8879890752032},{"$f":"AVERAGE(M$79:M324)","v":3777.9887986710946},3776.2778578541852,{"$f":"AVERAGE(P$79:P324)","v":3742.2499407513387},633,null,null,null,null,null,null,0,633,-970.13740243795496,null,null,null,null,null,null,null,null,null,null,null,null,null,40098.107986110655,{"$f":"LOOKUP($AO324,Data!$A$6:$A$1806,Data!$B$6:$B$1806)","v":59.976001739501953},{"$f":"LOOKUP($AO324,Data!$A$6:$A$1806,Data!$C$6:$C$1806)","v":3788.40966796875},{"$f":"LOOKUP($AO324,Data!$A$6:$A$1806,Data!$D$6:$D$1806)","v":350},{"$f":"IF($AS$1=\"+\",LOOKUP($AO324,Data!$A$6:$A$1806,Data!$E$6:$E$1806)*-1,LOOKUP($AO324,Data!$A$6:$A$1806,Data!$E$6:$E$1806))","v":-250.6741943359375},{"$f":"LOOKUP($AO324,Data!$A$6:$A$1806,Data!$F$6:$F$1806)","v":0},{"$f":"LOOKUP($AO324,Data!$A$6:$A$1806,Data!$G$6:$G$1806)","v":140.5},{"$f":"LOOKUP($AO324,Data!$A$6:$A$1806,Data!$H$6:$H$1806)","v":10},{"$f":"LOOKUP($AO324,Data!$A$6:$A$1806,Data!$I$6:$I$1806)","v":0},{"$f":"LOOKUP($AO324,Data!$A$6:$A$1806,Data!$J$6:$J$1806)","v":-103},{"$f":"LOOKUP($AO324,Data!$A$6:$A$1806,Data!$K$6:$K$1806)","v":7592.73},19.1986083984375]
[null,40098.108009258802,{"$f":"LOOKUP(B325,Data!$A$6:$A$1806,Data!B$6:B$1806)","v":59.978000640869141},{"$f":"LOOKUP(B325,Data!$A$6:$A$1806,Data!C$6:C$1806)","v":3790.66455078125},null,null,null,17.5994873046875,18.187735281614806,null,null,0,3795.1607136679881,{"$f":"AVERAGE(D$79:D325)","v":3770.9680561266446},{"$f":"AVERAGE(M$79:M325)","v":3778.0583205941589},3776.2778578541852,{"$f":"AVERAGE(P$79:P325)","v":3742.3882656176102},633,null,null,null,null,null,null,0,633,-1000.7970326588462,null,null,null,null,null,null,null,null,null,null,null,null,null,40098.108009258802,{"$f":"LOOKUP($AO325,Data!$A$6:$A$1806,Data!$B$6:$B$1806)","v":59.978000640869141},{"$f":"LOOKUP($AO325,Data!$A$6:$A$1806,Data!$C$6:$C$1806)","v":3790.66455078125},{"$f":"LOOKUP($AO325,Data!$A$6:$A$1806,Data!$D$6:$D$1806)","v":350},{"$f":"IF($AS$1=\"+\",LOOKUP($AO325,Data!$A$6:$A$1806,Data!$E$6:$E$1806)*-1,LOOKUP($AO325,Data!$A$6:$A$1806,Data!$E$6:$E$1806))","v":-250.6741943359375},{"$f":"LOOKUP($AO325,Data!$A$6:$A$1806,Data!$F$6:$F$1806)","v":0},{"$f":"LOOKUP($AO325,Data!$A$6:$A$1806,Data!$G$6:$G$1806)","v":141},{"$f":"LOOKUP($AO325,Data!$A$6:$A$1806,Data!$H$6:$H$1806)","v":10},{"$f":"LOOKUP($AO325,Data!$A$6:$A$1806,Data!$I$6:$I$1806)","v":0},{"$f":"LOOKUP($AO325,Data!$A$6:$A$1806,Data!$J$6:$J$1806)","v":-103},{"$f":"LOOKUP($AO325,Data!$A$6:$A$1806,Data!$K$6:$K$1806)","v":7593.06},17.5994873046875]
[null,40098.108032406948,{"$f":"LOOKUP(B326,Data!$A$6:$A$1806,Data!B$6:B$1806)","v":59.978000640869141},{"$f":"LOOKUP(B326,Data!$A$6:$A$1806,Data!C$6:C$1806)","v":3790.66455078125},null,null,null,17.5994873046875,17.98184848969025,null,null,0,3794.9548268760636,{"$f":"AVERAGE(D$79:D326)","v":3771.0474774760582},{"$f":"AVERAGE(M$79:M326)","v":3778.1264516678762},3776.2778578541852,{"$f":"AVERAGE(P$79:P326)","v":3742.5254704444787},633,null,null,null,null,null,null,0,633,-1000.7970326588462,null,null,null,null,null,null,null,null,null,null,null,null,null,40098.108032406948,{"$f":"LOOKUP($AO326,Data!$A$6:$A$1806,Data!$B$6:$B$1806)","v":59.978000640869141},{"$f":"LOOKUP($AO326,Data!$A$6:$A$1806,Data!$C$6:$C$1806)","v":3790.66455078125},{"$f":"LOOKUP($AO326,Data!$A$6:$A$1806,Data!$D$6:$D$1806)","v":350},{"$f":"IF($AS$1=\"+\",LOOKUP($AO326,Data!$A$6:$A$1806,Data!$E$6:$E$1806)*-1,LOOKUP($AO326,Data!$A$6:$A$1806,Data!$E$6:$E$1806))","v":-250.6741943359375},{"$f":"LOOKUP($AO326,Data!$A$6:$A$1806,Data!$F$6:$F$1806)","v":0},{"$f":"LOOKUP($AO326,Data!$A$6:$A$1806,Data!$G$6:$G$1806)","v":141},{"$f":"LOOKUP($AO326,Data!$A$6:$A$1806,Data!$H$6:$H$1806)","v":10},{"$f":"LOOKUP($AO326,Data!$A$6:$A$1806,Data!$I$6:$I$1806)","v":0},{"$f":"LOOKUP($AO326,Data!$A$6:$A$1806,Data!$J$6:$J$1806)","v":-103},{"$f":"LOOKUP($AO326,Data!$A$6:$A$1806,Data!$K$6:$K$1806)","v":7593.06},17.5994873046875]
[null,40098.108055555094,{"$f":"LOOKUP(B327,Data!$A$6:$A$1806,Data!B$6:B$1806)","v":59.9739990234375},{"$f":"LOOKUP(B327,Data!$A$6:$A$1806,Data!C$6:C$1806)","v":3789.26708984375},null,null,null,20.80078125,18.968474955798662,null,null,0,3795.9414533421718,{"$f":"AVERAGE(D$79:D327)","v":3771.1206486100655},{"$f":"AVERAGE(M$79:M327)","v":3778.1979978593395},3776.2778578541852,{"$f":"AVERAGE(P$79:P327)","v":3742.661568780808},633,null,null,null,null,null,null,0,633,-941.24706883348927,null,null,null,null,null,null,null,null,null,null,null,null,null,40098.108055555094,{"$f":"LOOKUP($AO327,Data!$A$6:$A$1806,Data!$B$6:$B$1806)","v":59.9739990234375},{"$f":"LOOKUP($AO327,Data!$A$6:$A$1806,Data!$C$6:$C$1806)","v":3789.26708984375},{"$f":"LOOKUP($AO327,Data!$A$6:$A$1806,Data!$D$6:$D$1806)","v":350},{"$f":"IF($AS$1=\"+\",LOOKUP($AO327,Data!$A$6:$A$1806,Data!$E$6:$E$1806)*-1,LOOKUP($AO327,Data!$A$6:$A$1806,Data!$E$6:$E$1806))","v":-253.63186645507812},{"$f":"LOOKUP($AO327,Data!$A$6:$A$1806,Data!$F$6:$F$1806)","v":0},{"$f":"LOOKUP($AO327,Data!$A$6:$A$1806,Data!$G$6:$G$1806)","v":141.5},{"$f":"LOOKUP($AO327,Data!$A$6:$A$1806,Data!$H$6:$H$1806)","v":10},{"$f":"LOOKUP($AO327,Data!$A$6:$A$1806,Data!$I$6:$I$1806)","v":0},{"$f":"LOOKUP($AO327,Data!$A$6:$A$1806,Data!$J$6:$J$1806)","v":-103},{"$f":"LOOKUP($AO327,Data!$A$6:$A$1806,Data!$K$6:$K$1806)","v":7593.39},20.80078125]
[null,40098.108078703241,{"$f":"LOOKUP(B328,Data!$A$6:$A$1806,Data!B$6:B$1806)","v":59.9739990234375},{"$f":"LOOKUP(B328,Data!$A$6:$A$1806,Data!C$6:C$1806)","v":3789.26708984375},null,null,null,20.80078125,19.609782158769129,null,null,0,3796.5827605451423,{"$f":"AVERAGE(D$79:D328)","v":3771.193234375},{"$f":"AVERAGE(M$79:M328)","v":3778.2715369100829},3776.2778578541852,{"$f":"AVERAGE(P$79:P328)","v":3742.7965739578094},633,null,null,null,null,null,null,0,633,-941.24706883348927,null,null,null,null,null,null,null,null,null,null,null,null,null,40098.108078703241,{"$f":"LOOKUP($AO328,Data!$A$6:$A$1806,Data!$B$6:$B$1806)","v":59.9739990234375},{"$f":"LOOKUP($AO328,Data!$A$6:$A$1806,Data!$C$6:$C$1806)","v":3789.26708984375},{"$f":"LOOKUP($AO328,Data!$A$6:$A$1806,Data!$D$6:$D$1806)","v":350},{"$f":"IF($AS$1=\"+\",LOOKUP($AO328,Data!$A$6:$A$1806,Data!$E$6:$E$1806)*-1,LOOKUP($AO328,Data!$A$6:$A$1806,Data!$E$6:$E$1806))","v":-253.63186645507812},{"$f":"LOOKUP($AO328,Data!$A$6:$A$1806,Data!$F$6:$F$1806)","v":0},{"$f":"LOOKUP($AO328,Data!$A$6:$A$1806,Data!$G$6:$G$1806)","v":141.5},{"$f":"LOOKUP($AO328,Data!$A$6:$A$1806,Data!$H$6:$H$1806)","v":10},{"$f":"LOOKUP($AO328,Data!$A$6:$A$1806,Data!$I$6:$I$1806)","v":0},{"$f":"LOOKUP($AO328,Data!$A$6:$A$1806,Data!$J$6:$J$1806)","v":-103},{"$f":"LOOKUP($AO328,Data!$A$6:$A$1806,Data!$K$6:$K$1806)","v":7593.39},20.80078125]
[null,40098.108101851387,{"$f":"LOOKUP(B329,Data!$A$6:$A$1806,Data!B$6:B$1806)","v":59.9739990234375},{"$f":"LOOKUP(B329,Data!$A$6:$A$1806,Data!C$6:C$1806)","v":3789.26708984375},null,null,null,20.80078125,20.026631840699935,null,null,0,3796.9996102270729,{"$f":"AVERAGE(D$79:D329)","v":3771.2652417673057},{"$f":"AVERAGE(M$79:M329)","v":3778.3461507479988},3776.2778578541852,{"$f":"AVERAGE(P$79:P329)","v":3742.9304990933947},633,null,null,null,null,null,null,0,633,-941.24706883348927,null,null,null,null,null,null,null,null,null,null,null,null,null,40098.108101851387,{"$f":"LOOKUP($AO329,Data!$A$6:$A$1806,Data!$B$6:$B$1806)","v":59.9739990234375},{"$f":"LOOKUP($AO329,Data!$A$6:$A$1806,Data!$C$6:$C$1806)","v":3789.26708984375},{"$f":"LOOKUP($AO329,Data!$A$6:$A$1806,Data!$D$6:$D$1806)","v":350},{"$f":"IF($AS$1=\"+\",LOOKUP($AO329,Data!$A$6:$A$1806,Data!$E$6:$E$1806)*-1,LOOKUP($AO329,Data!$A$6:$A$1806,Data!$E$6:$E$1806))","v":-253.63186645507812},{"$f":"LOOKUP($AO329,Data!$A$6:$A$1806,Data!$F$6:$F$1806)","v":0},{"$f":"LOOKUP($AO329,Data!$A$6:$A$1806,Data!$G$6:$G$1806)","v":141.5},{"$f":"LOOKUP($AO329,Data!$A$6:$A$1806,Data!$H$6:$H$1806)","v":10},{"$f":"LOOKUP($AO329,Data!$A$6:$A$1806,Data!$I$6:$I$1806)","v":0},{"$f":"LOOKUP($AO329,Data!$A$6:$A$1806,Data!$J$6:$J$1806)","v":-103},{"$f":"LOOKUP($AO329,Data!$A$6:$A$1806,Data!$K$6:$K$1806)","v":7593.39},20.80078125]
[null,40098.108124999533,{"$f":"LOOKUP(B330,Data!$A$6:$A$1806,Data!B$6:B$1806)","v":59.977001190185547},{"$f":"LOOKUP(B330,Data!$A$6:$A$1806,Data!C$6:C$1806)","v":3790.430419921875},null,null,null,18.3990478515625,19.456977444501831,null,null,0,3796.4299558308749,{"$f":"AVERAGE(D$79:D330)","v":3771.3412940615699},{"$f":"AVERAGE(M$79:M330)","v":3778.4179118792804},3776.2778578541852,{"$f":"AVERAGE(P$79:P330)","v":3743.0633570964255},633,null,null,null,null,null,null,0,633,-985.22874870120233,null,null,null,null,null,null,null,null,null,null,null,null,null,40098.108124999533,{"$f":"LOOKUP($AO330,Data!$A$6:$A$1806,Data!$B$6:$B$1806)","v":59.977001190185547},{"$f":"LOOKUP($AO330,Data!$A$6:$A$1806,Data!$C$6:$C$1806)","v":3790.430419921875},{"$f":"LOOKUP($AO330,Data!$A$6:$A$1806,Data!$D$6:$D$1806)","v":350},{"$f":"IF($AS$1=\"+\",LOOKUP($AO330,Data!$A$6:$A$1806,Data!$E$6:$E$1806)*-1,LOOKUP($AO330,Data!$A$6:$A$1806,Data!$E$6:$E$1806))","v":-253.63186645507812},{"$f":"LOOKUP($AO330,Data!$A$6:$A$1806,Data!$F$6:$F$1806)","v":0},{"$f":"LOOKUP($AO330,Data!$A$6:$A$1806,Data!$G$6:$G$1806)","v":142},{"$f":"LOOKUP($AO330,Data!$A$6:$A$1806,Data!$H$6:$H$1806)","v":10},{"$f":"LOOKUP($AO330,Data!$A$6:$A$1806,Data!$I$6:$I$1806)","v":0},{"$f":"LOOKUP($AO330,Data!$A$6:$A$1806,Data!$J$6:$J$1806)","v":-103},{"$f":"LOOKUP($AO330,Data!$A$6:$A$1806,Data!$K$6:$K$1806)","v":7593.72},18.3990478515625]
[null,40098.108148147679,{"$f":"LOOKUP(B331,Data!$A$6:$A$1806,Data!B$6:B$1806)","v":59.977001190185547},{"$f":"LOOKUP(B331,Data!$A$6:$A$1806,Data!C$6:C$1806)","v":3790.430419921875},null,null,null,18.3990478515625,19.086702086973066,null,null,0,3796.0596804733459,{"$f":"AVERAGE(D$79:D331)","v":3771.416745151927},{"$f":"AVERAGE(M$79:M331)","v":3778.4876421899285},3776.2778578541852,{"$f":"AVERAGE(P$79:P331)","v":3743.1951606708612},633,null,null,null,null,null,null,0,633,-985.22874870120233,null,null,null,null,null,null,null,null,null,null,null,null,null,40098.108148147679,{"$f":"LOOKUP($AO331,Data!$A$6:$A$1806,Data!$B$6:$B$1806)","v":59.977001190185547},{"$f":"LOOKUP($AO331,Data!$A$6:$A$1806,Data!$C$6:$C$1806)","v":3790.430419921875},{"$f":"LOOKUP($AO331,Data!$A$6:$A$1806,Data!$D$6:$D$1806)","v":350},{"$f":"IF($AS$1=\"+\",LOOKUP($AO331,Data!$A$6:$A$1806,Data!$E$6:$E$1806)*-1,LOOKUP($AO331,Data!$A$6:$A$1806,Data!$E$6:$E$1806))","v":-253.63186645507812},{"$f":"LOOKUP($AO331,Data!$A$6:$A$1806,Data!$F$6:$F$1806)","v":0},{"$f":"LOOKUP($AO331,Data!$A$6:$A$1806,Data!$G$6:$G$1806)","v":142},{"$f":"LOOKUP($AO331,Data!$A$6:$A$1806,Data!$H$6:$H$1806)","v":10},{"$f":"LOOKUP($AO331,Data!$A$6:$A$1806,Data!$I$6:$I$1806)","v":0},{"$f":"LOOKUP($AO331,Data!$A$6:$A$1806,Data!$J$6:$J$1806)","v":-103},{"$f":"LOOKUP($AO331,Data!$A$6:$A$1806,Data!$K$6:$K$1806)","v":7593.72},18.3990478515625]
[null,40098.108171295826,{"$f":"LOOKUP(B332,Data!$A$6:$A$1806,Data!B$6:B$1806)","v":59.972999572753906},{"$f":"LOOKUP(B332,Data!$A$6:$A$1806,Data!C$6:C$1806)","v":3787.442138671875},null,null,null,21.600341796875,19.966475985438741,null,null,0,3796.9394543718117,{"$f":"AVERAGE(D$79:D332)","v":3771.4798372523992},{"$f":"AVERAGE(M$79:M332)","v":3778.5602871197784},3776.2778578541852,{"$f":"AVERAGE(P$79:P332)","v":3743.325922319807},633,null,null,null,null,null,null,0,633,-927.46361121202801,null,null,null,null,null,null,null,null,null,null,null,null,null,40098.108171295826,{"$f":"LOOKUP($AO332,Data!$A$6:$A$1806,Data!$B$6:$B$1806)","v":59.972999572753906},{"$f":"LOOKUP($AO332,Data!$A$6:$A$1806,Data!$C$6:$C$1806)","v":3787.442138671875},{"$f":"LOOKUP($AO332,Data!$A$6:$A$1806,Data!$D$6:$D$1806)","v":350},{"$f":"IF($AS$1=\"+\",LOOKUP($AO332,Data!$A$6:$A$1806,Data!$E$6:$E$1806)*-1,LOOKUP($AO332,Data!$A$6:$A$1806,Data!$E$6:$E$1806))","v":-253.63186645507812},{"$f":"LOOKUP($AO332,Data!$A$6:$A$1806,Data!$F$6:$F$1806)","v":0},{"$f":"LOOKUP($AO332,Data!$A$6:$A$1806,Data!$G$6:$G$1806)","v":142.5},{"$f":"LOOKUP($AO332,Data!$A$6:$A$1806,Data!$H$6:$H$1806)","v":10},{"$f":"LOOKUP($AO332,Data!$A$6:$A$1806,Data!$I$6:$I$1806)","v":0},{"$f":"LOOKUP($AO332,Data!$A$6:$A$1806,Data!$J$6:$J$1806)","v":-103},{"$f":"LOOKUP($AO332,Data!$A$6:$A$1806,Data!$K$6:$K$1806)","v":7594.05},21.600341796875]
[null,40098.108194443972,{"$f":"LOOKUP(B333,Data!$A$6:$A$1806,Data!B$6:B$1806)","v":59.972999572753906},{"$f":"LOOKUP(B333,Data!$A$6:$A$1806,Data!C$6:C$1806)","v":3787.442138671875},null,null,null,21.600341796875,20.538329019441431,null,null,0,3797.5113074058145,{"$f":"AVERAGE(D$79:D333)","v":3771.5424345128677},{"$f":"AVERAGE(M$79:M333)","v":3778.6346048463902},3776.2778578541852,{"$f":"AVERAGE(P$79:P333)","v":3743.4556543494696},633,null,null,null,null,null,null,0,633,-927.46361121202801,null,null,null,null,null,null,null,null,null,null,null,null,null,40098.108194443972,{"$f":"LOOKUP($AO333,Data!$A$6:$A$1806,Data!$B$6:$B$1806)","v":59.972999572753906},{"$f":"LOOKUP($AO333,Data!$A$6:$A$1806,Data!$C$6:$C$1806)","v":3787.442138671875},{"$f":"LOOKUP($AO333,Data!$A$6:$A$1806,Data!$D$6:$D$1806)","v":350},{"$f":"IF($AS$1=\"+\",LOOKUP($AO333,Data!$A$6:$A$1806,Data!$E$6:$E$1806)*-1,LOOKUP($AO333,Data!$A$6:$A$1806,Data!$E$6:$E$1806))","v":-253.63186645507812},{"$f":"LOOKUP($AO333,Data!$A$6:$A$1806,Data!$F$6:$F$1806)","v":0},{"$f":"LOOKUP($AO333,Data!$A$6:$A$1806,Data!$G$6:$G$1806)","v":142.5},{"$f":"LOOKUP($AO333,Data!$A$6:$A$1806,Data!$H$6:$H$1806)","v":10},{"$f":"LOOKUP($AO333,Data!$A$6:$A$1806,Data!$I$6:$I$1806)","v":0},{"$f":"LOOKUP($AO333,Data!$A$6:$A$1806,Data!$J$6:$J$1806)","v":-103},{"$f":"LOOKUP($AO333,Data!$A$6:$A$1806,Data!$K$6:$K$1806)","v":7594.05},21.600341796875]
[null,40098.108217592118,{"$f":"LOOKUP(B334,Data!$A$6:$A$1806,Data!B$6:B$1806)","v":59.972999572753906},{"$f":"LOOKUP(B334,Data!$A$6:$A$1806,Data!C$6:C$1806)","v":3787.442138671875},null,null,null,21.600341796875,20.910033491543178,null,null,0,3797.883011877916,{"$f":"AVERAGE(D$79:D334)","v":3771.6045427322388},{"$f":"AVERAGE(M$79:M334)","v":3778.7097939363571},3776.2778578541852,{"$f":"AVERAGE(P$79:P334)","v":3743.5843688730174},633,null,null,null,null,null,null,0,633,-927.46361121202801,null,null,null,null,null,null,null,null,null,null,null,null,null,40098.108217592118,{"$f":"LOOKUP($AO334,Data!$A$6:$A$1806,Data!$B$6:$B$1806)","v":59.972999572753906},{"$f":"LOOKUP($AO334,Data!$A$6:$A$1806,Data!$C$6:$C$1806)","v":3787.442138671875},{"$f":"LOOKUP($AO334,Data!$A$6:$A$1806,Data!$D$6:$D$1806)","v":350},{"$f":"IF($AS$1=\"+\",LOOKUP($AO334,Data!$A$6:$A$1806,Data!$E$6:$E$1806)*-1,LOOKUP($AO334,Data!$A$6:$A$1806,Data!$E$6:$E$1806))","v":-253.63186645507812},{"$f":"LOOKUP($AO334,Data!$A$6:$A$1806,Data!$F$6:$F$1806)","v":0},{"$f":"LOOKUP($AO334,Data!$A$6:$A$1806,Data!$G$6:$G$1806)","v":142.5},{"$f":"LOOKUP($AO334,Data!$A$6:$A$1806,Data!$H$6:$H$1806)","v":10},{"$f":"LOOKUP($AO334,Data!$A$6:$A$1806,Data!$I$6:$I$1806)","v":0},{"$f":"LOOKUP($AO334,Data!$A$6:$A$1806,Data!$J$6:$J$1806)","v":-103},{"$f":"LOOKUP($AO334,Data!$A$6:$A$1806,Data!$K$6:$K$1806)","v":7594.05},21.600341796875]
[null,40098.108240740265,{"$f":"LOOKUP(B335,Data!$A$6:$A$1806,Data!B$6:B$1806)","v":59.971000671386719},{"$f":"LOOKUP(B335,Data!$A$6:$A$1806,Data!C$6:C$1806)","v":3790.6015625},null,null,null,23.199462890625,21.711333781221818,null,null,0,3798.6843121675947,{"$f":"AVERAGE(D$79:D335)","v":3771.678461097094},{"$f":"AVERAGE(M$79:M335)","v":3778.7875157971789},3776.2778578541852,{"$f":"AVERAGE(P$79:P335)","v":3743.7120778143499},633,null,null,null,null,null,null,0,633,-901.07329152072987,null,null,null,null,null,null,null,null,null,null,null,null,null,40098.108240740265,{"$f":"LOOKUP($AO335,Data!$A$6:$A$1806,Data!$B$6:$B$1806)","v":59.971000671386719},{"$f":"LOOKUP($AO335,Data!$A$6:$A$1806,Data!$C$6:$C$1806)","v":3790.6015625},{"$f":"LOOKUP($AO335,Data!$A$6:$A$1806,Data!$D$6:$D$1806)","v":350},{"$f":"IF($AS$1=\"+\",LOOKUP($AO335,Data!$A$6:$A$1806,Data!$E$6:$E$1806)*-1,LOOKUP($AO335,Data!$A$6:$A$1806,Data!$E$6:$E$1806))","v":-253.63186645507812},{"$f":"LOOKUP($AO335,Data!$A$6:$A$1806,Data!$F$6:$F$1806)","v":0},{"$f":"LOOKUP($AO335,Data!$A$6:$A$1806,Data!$G$6:$G$1806)","v":143},{"$f":"LOOKUP($AO335,Data!$A$6:$A$1806,Data!$H$6:$H$1806)","v":10},{"$f":"LOOKUP($AO335,Data!$A$6:$A$1806,Data!$I$6:$I$1806)","v":0},{"$f":"LOOKUP($AO335,Data!$A$6:$A$1806,Data!$J$6:$J$1806)","v":-103},{"$f":"LOOKUP($AO335,Data!$A$6:$A$1806,Data!$K$6:$K$1806)","v":7594.38},23.199462890625]
[null,40098.108263888411,{"$f":"LOOKUP(B336,Data!$A$6:$A$1806,Data!B$6:B$1806)","v":59.971000671386719},{"$f":"LOOKUP(B336,Data!$A$6:$A$1806,Data!C$6:C$1806)","v":3790.6015625},null,null,null,23.199462890625,22.23217896951293,null,null,{"$f":"IF(B336>G$3,0,(K$21*0.000023148/K$22))","v":0},{"$f":"M335+L336+(I336-I335)","v":3799.2051573558861},{"$f":"AVERAGE(D$79:D336)","v":3771.7518064513688},{"$f":"AVERAGE(M$79:M336)","v":3778.8666539427554},3776.2778578541852,{"$f":"AVERAGE(P$79:P336)","v":3743.8387929117812},633,null,null,null,null,null,null,0,633,{"$f":"Z336/((C336-G$4)*10)","v":-901.07329152072987},null,null,null,null,null,null,null,null,null,null,null,null,null,40098.108263888411,{"$f":"LOOKUP($AO336,Data!$A$6:$A$1806,Data!$B$6:$B$1806)","v":59.971000671386719},{"$f":"LOOKUP($AO336,Data!$A$6:$A$1806,Data!$C$6:$C$1806)","v":3790.6015625},{"$f":"LOOKUP($AO336,Data!$A$6:$A$1806,Data!$D$6:$D$1806)","v":350},{"$f":"IF($AS$1=\"+\",LOOKUP($AO336,Data!$A$6:$A$1806,Data!$E$6:$E$1806)*-1,LOOKUP($AO336,Data!$A$6:$A$1806,Data!$E$6:$E$1806))","v":-253.63186645507812},{"$f":"LOOKUP($AO336,Data!$A$6:$A$1806,Data!$F$6:$F$1806)","v":0},{"$f":"LOOKUP($AO336,Data!$A$6:$A$1806,Data!$G$6:$G$1806)","v":143},{"$f":"LOOKUP($AO336,Data!$A$6:$A$1806,Data!$H$6:$H$1806)","v":10},{"$f":"LOOKUP($AO336,Data!$A$6:$A$1806,Data!$I$6:$I$1806)","v":0},{"$f":"LOOKUP($AO336,Data!$A$6:$A$1806,Data!$J$6:$J$1806)","v":-103},{"$f":"LOOKUP($AO336,Data!$A$6:$A$1806,Data!$K$6:$K$1806)","v":7594.38},23.199462890625]
[null,40098.108287036557,{"$f":"LOOKUP(B337,Data!$A$6:$A$1806,Data!B$6:B$1806)","v":59.978000640869141},{"$f":"LOOKUP(B337,Data!$A$6:$A$1806,Data!C$6:C$1806)","v":3792.311279296875},null,null,null,17.5994873046875,20.610736886824029,null,null,0,3797.583715273197,{"$f":"AVERAGE(D$79:D337)","v":3771.8311866554054},{"$f":"AVERAGE(M$79:M337)","v":3778.9389205888187},3776.2778578541852,{"$f":"AVERAGE(P$79:P337)","v":3743.9645257216353},{"$f":"R$41","v":633},null,null,null,null,null,null,0,633,-1000.7970326588462,null,null,null,null,null,null,null,null,null,null,null,null,null,{"$f":"AO336+TIME(0,0,$B$1)","v":40098.108287036557},{"$f":"LOOKUP($AO337,Data!$A$6:$A$1806,Data!$B$6:$B$1806)","v":59.978000640869141},{"$f":"LOOKUP($AO337,Data!$A$6:$A$1806,Data!$C$6:$C$1806)","v":3792.311279296875},{"$f":"LOOKUP($AO337,Data!$A$6:$A$1806,Data!$D$6:$D$1806)","v":350},{"$f":"IF($AS$1=\"+\",LOOKUP($AO337,Data!$A$6:$A$1806,Data!$E$6:$E$1806)*-1,LOOKUP($AO337,Data!$A$6:$A$1806,Data!$E$6:$E$1806))","v":-253.63186645507812},{"$f":"LOOKUP($AO337,Data!$A$6:$A$1806,Data!$F$6:$F$1806)","v":0},{"$f":"LOOKUP($AO337,Data!$A$6:$A$1806,Data!$G$6:$G$1806)","v":143.5},{"$f":"LOOKUP($AO337,Data!$A$6:$A$1806,Data!$H$6:$H$1806)","v":10},{"$f":"LOOKUP($AO337,Data!$A$6:$A$1806,Data!$I$6:$I$1806)","v":0},{"$f":"LOOKUP($AO337,Data!$A$6:$A$1806,Data!$J$6:$J$1806)","v":-103},{"$f":"LOOKUP($AO337,Data!$A$6:$A$1806,Data!$K$6:$K$1806)","v":7594.71},17.5994873046875]
[null,40098.108310184703,{"$f":"LOOKUP(B338,Data!$A$6:$A$1806,Data!B$6:B$1806)","v":59.978000640869141},{"$f":"LOOKUP(B338,Data!$A$6:$A$1806,Data!C$6:C$1806)","v":3792.311279296875},null,null,null,17.5994873046875,19.556799533076244,null,null,0,3796.5297779194493,{"$f":"AVERAGE(D$79:D338)","v":3771.9099562424881},{"$f":"AVERAGE(M$79:M338)","v":3779.006577732398},{"$f":"P337+L338","v":3776.2778578541852},{"$f":"AVERAGE(P$79:P338)","v":3744.0892876217608},633,null,null,null,null,null,null,0,633,-1000.7970326588462,null,null,null,null,null,null,null,null,null,null,null,null,null,40098.108310184703,{"$f":"LOOKUP($AO338,Data!$A$6:$A$1806,Data!$B$6:$B$1806)","v":59.978000640869141},{"$f":"LOOKUP($AO338,Data!$A$6:$A$1806,Data!$C$6:$C$1806)","v":3792.311279296875},{"$f":"LOOKUP($AO338,Data!$A$6:$A$1806,Data!$D$6:$D$1806)","v":350},{"$f":"IF($AS$1=\"+\",LOOKUP($AO338,Data!$A$6:$A$1806,Data!$E$6:$E$1806)*-1,LOOKUP($AO338,Data!$A$6:$A$1806,Data!$E$6:$E$1806))","v":-253.63186645507812},{"$f":"LOOKUP($AO338,Data!$A$6:$A$1806,Data!$F$6:$F$1806)","v":0},{"$f":"LOOKUP($AO338,Data!$A$6:$A$1806,Data!$G$6:$G$1806)","v":143.5},{"$f":"LOOKUP($AO338,Data!$A$6:$A$1806,Data!$H$6:$H$1806)","v":10},{"$f":"LOOKUP($AO338,Data!$A$6:$A$1806,Data!$I$6:$I$1806)","v":0},{"$f":"LOOKUP($AO338,Data!$A$6:$A$1806,Data!$J$6:$J$1806)","v":-103},{"$f":"LOOKUP($AO338,Data!$A$6:$A$1806,Data!$K$6:$K$1806)","v":7594.71},17.5994873046875]
[null,40098.10833333285,{"$f":"LOOKUP(B339,Data!$A$6:$A$1806,Data!B$6:B$1806)","v":59.978000640869141},{"$f":"LOOKUP(B339,Data!$A$6:$A$1806,Data!C$6:C$1806)","v":3792.311279296875},null,null,null,17.5994873046875,18.871740253140182,null,null,0,3795.8447186395133,{"$f":"AVERAGE(D$79:D339)","v":3771.9881222312019},{"$f":"AVERAGE(M$79:M339)","v":3779.0710916822336},3776.2778578541852,{"$f":"AVERAGE(P$79:P339)","v":3744.2130898149621},633,null,null,null,null,null,null,0,633,-1000.7970326588462,null,null,null,null,null,null,null,null,null,null,null,null,null,40098.10833333285,{"$f":"LOOKUP($AO339,Data!$A$6:$A$1806,Data!$B$6:$B$1806)","v":59.978000640869141},{"$f":"LOOKUP($AO339,Data!$A$6:$A$1806,Data!$C$6:$C$1806)","v":3792.311279296875},{"$f":"LOOKUP($AO339,Data!$A$6:$A$1806,Data!$D$6:$D$1806)","v":350},{"$f":"IF($AS$1=\"+\",LOOKUP($AO339,Data!$A$6:$A$1806,Data!$E$6:$E$1806)*-1,LOOKUP($AO339,Data!$A$6:$A$1806,Data!$E$6:$E$1806))","v":-253.63186645507812},{"$f":"LOOKUP($AO339,Data!$A$6:$A$1806,Data!$F$6:$F$1806)","v":0},{"$f":"LOOKUP($AO339,Data!$A$6:$A$1806,Data!$G$6:$G$1806)","v":143.5},{"$f":"LOOKUP($AO339,Data!$A$6:$A$1806,Data!$H$6:$H$1806)","v":10},{"$f":"LOOKUP($AO339,Data!$A$6:$A$1806,Data!$I$6:$I$1806)","v":0},{"$f":"LOOKUP($AO339,Data!$A$6:$A$1806,Data!$J$6:$J$1806)","v":-103},{"$f":"LOOKUP($AO339,Data!$A$6:$A$1806,Data!$K$6:$K$1806)","v":7594.71},17.5994873046875]
[null,40098.108356480996,{"$f":"LOOKUP(B340,Data!$A$6:$A$1806,Data!B$6:B$1806)","v":59.974998474121094},{"$f":"LOOKUP(B340,Data!$A$6:$A$1806,Data!C$6:C$1806)","v":3788.07958984375},null,null,null,20.001220703125,19.267058410634867,null,null,0,3796.2400367970081,{"$f":"AVERAGE(D$79:D340)","v":3772.049540046517},{"$f":"AVERAGE(M$79:M340)","v":3779.136622007099},3776.2778578541852,{"$f":"AVERAGE(P$79:P340)","v":3744.3359433323535},633,null,null,null,null,null,null,0,633,-955.44639124802075,null,null,null,null,null,null,null,null,null,null,null,null,null,40098.108356480996,{"$f":"LOOKUP($AO340,Data!$A$6:$A$1806,Data!$B$6:$B$1806)","v":59.974998474121094},{"$f":"LOOKUP($AO340,Data!$A$6:$A$1806,Data!$C$6:$C$1806)","v":3788.07958984375},{"$f":"LOOKUP($AO340,Data!$A$6:$A$1806,Data!$D$6:$D$1806)","v":350},{"$f":"IF($AS$1=\"+\",LOOKUP($AO340,Data!$A$6:$A$1806,Data!$E$6:$E$1806)*-1,LOOKUP($AO340,Data!$A$6:$A$1806,Data!$E$6:$E$1806))","v":-246.95730590820312},{"$f":"LOOKUP($AO340,Data!$A$6:$A$1806,Data!$F$6:$F$1806)","v":0},{"$f":"LOOKUP($AO340,Data!$A$6:$A$1806,Data!$G$6:$G$1806)","v":144},{"$f":"LOOKUP($AO340,Data!$A$6:$A$1806,Data!$H$6:$H$1806)","v":10},{"$f":"LOOKUP($AO340,Data!$A$6:$A$1806,Data!$I$6:$I$1806)","v":15},{"$f":"LOOKUP($AO340,Data!$A$6:$A$1806,Data!$J$6:$J$1806)","v":-103},{"$f":"LOOKUP($AO340,Data!$A$6:$A$1806,Data!$K$6:$K$1806)","v":7595.04},20.001220703125]
[null,40098.108379629142,{"$f":"LOOKUP(B341,Data!$A$6:$A$1806,Data!B$6:B$1806)","v":59.974998474121094},{"$f":"LOOKUP(B341,Data!$A$6:$A$1806,Data!C$6:C$1806)","v":3788.07958984375},null,null,null,20.001220703125,19.524015213006415,null,null,0,3796.4969935993795,{"$f":"AVERAGE(D$79:D341)","v":3772.1104908062025},{"$f":"AVERAGE(M$79:M341)","v":3779.2026310245601},3776.2778578541852,{"$f":"AVERAGE(P$79:P341)","v":3744.4578590366355},633,null,null,null,null,null,null,0,633,-955.44639124802075,null,null,null,null,null,null,null,null,null,null,null,null,null,40098.108379629142,{"$f":"LOOKUP($AO341,Data!$A$6:$A$1806,Data!$B$6:$B$1806)","v":59.974998474121094},{"$f":"LOOKUP($AO341,Data!$A$6:$A$1806,Data!$C$6:$C$1806)","v":3788.07958984375},{"$f":"LOOKUP($AO341,Data!$A$6:$A$1806,Data!$D$6:$D$1806)","v":350},{"$f":"IF($AS$1=\"+\",LOOKUP($AO341,Data!$A$6:$A$1806,Data!$E$6:$E$1806)*-1,LOOKUP($AO341,Data!$A$6:$A$1806,Data!$E$6:$E$1806))","v":-246.95730590820312},{"$f":"LOOKUP($AO341,Data!$A$6:$A$1806,Data!$F$6:$F$1806)","v":0},{"$f":"LOOKUP($AO341,Data!$A$6:$A$1806,Data!$G$6:$G$1806)","v":144},{"$f":"LOOKUP($AO341,Data!$A$6:$A$1806,Data!$H$6:$H$1806)","v":10},{"$f":"LOOKUP($AO341,Data!$A$6:$A$1806,Data!$I$6:$I$1806)","v":15},{"$f":"LOOKUP($AO341,Data!$A$6:$A$1806,Data!$J$6:$J$1806)","v":-103},{"$f":"LOOKUP($AO341,Data!$A$6:$A$1806,Data!$K$6:$K$1806)","v":7595.04},20.001220703125]
[null,40098.108402777289,{"$f":"LOOKUP(B342,Data!$A$6:$A$1806,Data!B$6:B$1806)","v":59.976001739501953},{"$f":"LOOKUP(B342,Data!$A$6:$A$1806,Data!C$6:C$1806)","v":3787.164306640625},null,null,null,19.1986083984375,19.410122827907294,null,null,0,3796.3831012142805,{"$f":"AVERAGE(D$79:D342)","v":3772.1675128358784},{"$f":"AVERAGE(M$79:M342)","v":3779.2677085631576},3776.2778578541852,{"$f":"AVERAGE(P$79:P342)","v":3744.5788476252951},633,null,null,null,null,null,null,0,633,-970.13740243795496,null,null,null,null,null,null,null,null,null,null,null,null,null,40098.108402777289,{"$f":"LOOKUP($AO342,Data!$A$6:$A$1806,Data!$B$6:$B$1806)","v":59.976001739501953},{"$f":"LOOKUP($AO342,Data!$A$6:$A$1806,Data!$C$6:$C$1806)","v":3787.164306640625},{"$f":"LOOKUP($AO342,Data!$A$6:$A$1806,Data!$D$6:$D$1806)","v":350},{"$f":"IF($AS$1=\"+\",LOOKUP($AO342,Data!$A$6:$A$1806,Data!$E$6:$E$1806)*-1,LOOKUP($AO342,Data!$A$6:$A$1806,Data!$E$6:$E$1806))","v":-246.95730590820312},{"$f":"LOOKUP($AO342,Data!$A$6:$A$1806,Data!$F$6:$F$1806)","v":0},{"$f":"LOOKUP($AO342,Data!$A$6:$A$1806,Data!$G$6:$G$1806)","v":144.5},{"$f":"LOOKUP($AO342,Data!$A$6:$A$1806,Data!$H$6:$H$1806)","v":10},{"$f":"LOOKUP($AO342,Data!$A$6:$A$1806,Data!$I$6:$I$1806)","v":15},{"$f":"LOOKUP($AO342,Data!$A$6:$A$1806,Data!$J$6:$J$1806)","v":-103},{"$f":"LOOKUP($AO342,Data!$A$6:$A$1806,Data!$K$6:$K$1806)","v":7595.37},19.1986083984375]
[null,40098.108425925435,{"$f":"LOOKUP(B343,Data!$A$6:$A$1806,Data!B$6:B$1806)","v":59.976001739501953},{"$f":"LOOKUP(B343,Data!$A$6:$A$1806,Data!C$6:C$1806)","v":3787.164306640625},null,null,null,19.1986083984375,19.336092777592867,null,null,0,3796.3090711639661,{"$f":"AVERAGE(D$79:D343)","v":3772.2241045106134},{"$f":"AVERAGE(M$79:M343)","v":3779.33201559184},3776.2778578541852,{"$f":"AVERAGE(P$79:P343)","v":3744.6989196337377},633,null,null,null,null,null,null,0,633,-970.13740243795496,null,null,null,null,null,null,null,null,null,null,null,null,null,40098.108425925435,{"$f":"LOOKUP($AO343,Data!$A$6:$A$1806,Data!$B$6:$B$1806)","v":59.976001739501953},{"$f":"LOOKUP($AO343,Data!$A$6:$A$1806,Data!$C$6:$C$1806)","v":3787.164306640625},{"$f":"LOOKUP($AO343,Data!$A$6:$A$1806,Data!$D$6:$D$1806)","v":350},{"$f":"IF($AS$1=\"+\",LOOKUP($AO343,Data!$A$6:$A$1806,Data!$E$6:$E$1806)*-1,LOOKUP($AO343,Data!$A$6:$A$1806,Data!$E$6:$E$1806))","v":-246.95730590820312},{"$f":"LOOKUP($AO343,Data!$A$6:$A$1806,Data!$F$6:$F$1806)","v":0},{"$f":"LOOKUP($AO343,Data!$A$6:$A$1806,Data!$G$6:$G$1806)","v":144.5},{"$f":"LOOKUP($AO343,Data!$A$6:$A$1806,Data!$H$6:$H$1806)","v":10},{"$f":"LOOKUP($AO343,Data!$A$6:$A$1806,Data!$I$6:$I$1806)","v":15},{"$f":"LOOKUP($AO343,Data!$A$6:$A$1806,Data!$J$6:$J$1806)","v":-103},{"$f":"LOOKUP($AO343,Data!$A$6:$A$1806,Data!$K$6:$K$1806)","v":7595.37},19.1986083984375]
[null,40098.108449073581,{"$f":"LOOKUP(B344,Data!$A$6:$A$1806,Data!B$6:B$1806)","v":59.976001739501953},{"$f":"LOOKUP(B344,Data!$A$6:$A$1806,Data!C$6:C$1806)","v":3787.164306640625},null,null,null,19.1986083984375,19.287973244888491,null,null,0,3796.2609516312618,{"$f":"AVERAGE(D$79:D344)","v":3772.2802706840343},{"$f":"AVERAGE(M$79:M344)","v":3779.3956582085293},3776.2778578541852,{"$f":"AVERAGE(P$79:P344)","v":3744.8180854383431},633,null,null,null,null,null,null,0,633,-970.13740243795496,null,null,null,null,null,null,null,null,null,null,null,null,null,40098.108449073581,{"$f":"LOOKUP($AO344,Data!$A$6:$A$1806,Data!$B$6:$B$1806)","v":59.976001739501953},{"$f":"LOOKUP($AO344,Data!$A$6:$A$1806,Data!$C$6:$C$1806)","v":3787.164306640625},{"$f":"LOOKUP($AO344,Data!$A$6:$A$1806,Data!$D$6:$D$1806)","v":350},{"$f":"IF($AS$1=\"+\",LOOKUP($AO344,Data!$A$6:$A$1806,Data!$E$6:$E$1806)*-1,LOOKUP($AO344,Data!$A$6:$A$1806,Data!$E$6:$E$1806))","v":-246.95730590820312},{"$f":"LOOKUP($AO344,Data!$A$6:$A$1806,Data!$F$6:$F$1806)","v":0},{"$f":"LOOKUP($AO344,Data!$A$6:$A$1806,Data!$G$6:$G$1806)","v":144.5},{"$f":"LOOKUP($AO344,Data!$A$6:$A$1806,Data!$H$6:$H$1806)","v":10},{"$f":"LOOKUP($AO344,Data!$A$6:$A$1806,Data!$I$6:$I$1806)","v":15},{"$f":"LOOKUP($AO344,Data!$A$6:$A$1806,Data!$J$6:$J$1806)","v":-103},{"$f":"LOOKUP($AO344,Data!$A$6:$A$1806,Data!$K$6:$K$1806)","v":7595.37},19.1986083984375]
[null,40098.108472221727,{"$f":"LOOKUP(B345,Data!$A$6:$A$1806,Data!B$6:B$1806)","v":59.969001770019531},{"$f":"LOOKUP(B345,Data!$A$6:$A$1806,Data!C$6:C$1806)","v":3787.40478515625},null,null,null,24.798583984375,21.21668700370877,null,null,0,3798.1896653900822,{"$f":"AVERAGE(D$79:D345)","v":3772.3369168056529},{"$f":"AVERAGE(M$79:M345)","v":3779.4660477485354},3776.2778578541852,{"$f":"AVERAGE(P$79:P345)","v":3744.936355259455},633,null,null,null,null,null,null,0,633,-876.14325615776556,null,null,null,null,null,null,null,null,null,null,null,null,null,40098.108472221727,{"$f":"LOOKUP($AO345,Data!$A$6:$A$1806,Data!$B$6:$B$1806)","v":59.969001770019531},{"$f":"LOOKUP($AO345,Data!$A$6:$A$1806,Data!$C$6:$C$1806)","v":3787.40478515625},{"$f":"LOOKUP($AO345,Data!$A$6:$A$1806,Data!$D$6:$D$1806)","v":350},{"$f":"IF($AS$1=\"+\",LOOKUP($AO345,Data!$A$6:$A$1806,Data!$E$6:$E$1806)*-1,LOOKUP($AO345,Data!$A$6:$A$1806,Data!$E$6:$E$1806))","v":-246.95730590820312},{"$f":"LOOKUP($AO345,Data!$A$6:$A$1806,Data!$F$6:$F$1806)","v":0},{"$f":"LOOKUP($AO345,Data!$A$6:$A$1806,Data!$G$6:$G$1806)","v":145},{"$f":"LOOKUP($AO345,Data!$A$6:$A$1806,Data!$H$6:$H$1806)","v":10},{"$f":"LOOKUP($AO345,Data!$A$6:$A$1806,Data!$I$6:$I$1806)","v":15},{"$f":"LOOKUP($AO345,Data!$A$6:$A$1806,Data!$J$6:$J$1806)","v":-103},{"$f":"LOOKUP($AO345,Data!$A$6:$A$1806,Data!$K$6:$K$1806)","v":7595.7},24.798583984375]
[null,40098.108495369874,{"$f":"LOOKUP(B346,Data!$A$6:$A$1806,Data!B$6:B$1806)","v":59.969001770019531},{"$f":"LOOKUP(B346,Data!$A$6:$A$1806,Data!C$6:C$1806)","v":3787.40478515625},null,null,null,24.798583984375,22.470350946941949,null,null,0,3799.4433293333154,{"$f":"AVERAGE(D$79:D346)","v":3772.3931401950208},{"$f":"AVERAGE(M$79:M346)","v":3779.5405898440008},3776.2778578541852,{"$f":"AVERAGE(P$79:P346)","v":3745.0537391643043},633,null,null,null,null,null,null,0,633,-876.14325615776556,null,null,null,null,null,null,null,null,null,null,null,null,null,40098.108495369874,{"$f":"LOOKUP($AO346,Data!$A$6:$A$1806,Data!$B$6:$B$1806)","v":59.969001770019531},{"$f":"LOOKUP($AO346,Data!$A$6:$A$1806,Data!$C$6:$C$1806)","v":3787.40478515625},{"$f":"LOOKUP($AO346,Data!$A$6:$A$1806,Data!$D$6:$D$1806)","v":350},{"$f":"IF($AS$1=\"+\",LOOKUP($AO346,Data!$A$6:$A$1806,Data!$E$6:$E$1806)*-1,LOOKUP($AO346,Data!$A$6:$A$1806,Data!$E$6:$E$1806))","v":-246.95730590820312},{"$f":"LOOKUP($AO346,Data!$A$6:$A$1806,Data!$F$6:$F$1806)","v":0},{"$f":"LOOKUP($AO346,Data!$A$6:$A$1806,Data!$G$6:$G$1806)","v":145},{"$f":"LOOKUP($AO346,Data!$A$6:$A$1806,Data!$H$6:$H$1806)","v":10},{"$f":"LOOKUP($AO346,Data!$A$6:$A$1806,Data!$I$6:$I$1806)","v":15},{"$f":"LOOKUP($AO346,Data!$A$6:$A$1806,Data!$J$6:$J$1806)","v":-103},{"$f":"LOOKUP($AO346,Data!$A$6:$A$1806,Data!$K$6:$K$1806)","v":7595.7},24.798583984375]
[null,40098.10851851802,{"$f":"LOOKUP(B347,Data!$A$6:$A$1806,Data!B$6:B$1806)","v":59.965000152587891},{"$f":"LOOKUP(B347,Data!$A$6:$A$1806,Data!C$6:C$1806)","v":3789.2138671875},null,null,null,27.9998779296875,24.405685390902892,null,null,0,3801.3786637772764,{"$f":"AVERAGE(D$79:D347)","v":3772.455670778636},{"$f":"AVERAGE(M$79:M347)","v":3779.6217722749793},3776.2778578541852,{"$f":"AVERAGE(P$79:P347)","v":3745.1702470698633},633,null,null,null,null,null,null,0,633,-830.1631037846762,null,null,null,null,null,null,null,null,null,null,null,null,null,40098.10851851802,{"$f":"LOOKUP($AO347,Data!$A$6:$A$1806,Data!$B$6:$B$1806)","v":59.965000152587891},{"$f":"LOOKUP($AO347,Data!$A$6:$A$1806,Data!$C$6:$C$1806)","v":3789.2138671875},{"$f":"LOOKUP($AO347,Data!$A$6:$A$1806,Data!$D$6:$D$1806)","v":350},{"$f":"IF($AS$1=\"+\",LOOKUP($AO347,Data!$A$6:$A$1806,Data!$E$6:$E$1806)*-1,LOOKUP($AO347,Data!$A$6:$A$1806,Data!$E$6:$E$1806))","v":-246.95730590820312},{"$f":"LOOKUP($AO347,Data!$A$6:$A$1806,Data!$F$6:$F$1806)","v":0},{"$f":"LOOKUP($AO347,Data!$A$6:$A$1806,Data!$G$6:$G$1806)","v":145.5},{"$f":"LOOKUP($AO347,Data!$A$6:$A$1806,Data!$H$6:$H$1806)","v":10},{"$f":"LOOKUP($AO347,Data!$A$6:$A$1806,Data!$I$6:$I$1806)","v":15},{"$f":"LOOKUP($AO347,Data!$A$6:$A$1806,Data!$J$6:$J$1806)","v":-103},{"$f":"LOOKUP($AO347,Data!$A$6:$A$1806,Data!$K$6:$K$1806)","v":7596.03},27.9998779296875]
[null,40098.108541666166,{"$f":"LOOKUP(B348,Data!$A$6:$A$1806,Data!B$6:B$1806)","v":59.965000152587891},{"$f":"LOOKUP(B348,Data!$A$6:$A$1806,Data!C$6:C$1806)","v":3789.2138671875},null,null,null,27.9998779296875,25.663652779477506,null,null,0,3802.6366311658512,{"$f":"AVERAGE(D$79:D348)","v":3772.5177381727431},{"$f":"AVERAGE(M$79:M348)","v":3779.7070124930938},3776.2778578541852,{"$f":"AVERAGE(P$79:P348)","v":3745.2858887456414},633,null,null,null,null,null,null,0,633,-830.1631037846762,null,null,null,null,null,null,null,null,null,null,null,null,null,40098.108541666166,{"$f":"LOOKUP($AO348,Data!$A$6:$A$1806,Data!$B$6:$B$1806)","v":59.965000152587891},{"$f":"LOOKUP($AO348,Data!$A$6:$A$1806,Data!$C$6:$C$1806)","v":3789.2138671875},{"$f":"LOOKUP($AO348,Data!$A$6:$A$1806,Data!$D$6:$D$1806)","v":350},{"$f":"IF($AS$1=\"+\",LOOKUP($AO348,Data!$A$6:$A$1806,Data!$E$6:$E$1806)*-1,LOOKUP($AO348,Data!$A$6:$A$1806,Data!$E$6:$E$1806))","v":-246.95730590820312},{"$f":"LOOKUP($AO348,Data!$A$6:$A$1806,Data!$F$6:$F$1806)","v":0},{"$f":"LOOKUP($AO348,Data!$A$6:$A$1806,Data!$G$6:$G$1806)","v":145.5},{"$f":"LOOKUP($AO348,Data!$A$6:$A$1806,Data!$H$6:$H$1806)","v":10},{"$f":"LOOKUP($AO348,Data!$A$6:$A$1806,Data!$I$6:$I$1806)","v":15},{"$f":"LOOKUP($AO348,Data!$A$6:$A$1806,Data!$J$6:$J$1806)","v":-103},{"$f":"LOOKUP($AO348,Data!$A$6:$A$1806,Data!$K$6:$K$1806)","v":7596.03},27.9998779296875]
[null,40098.108564814313,{"$f":"LOOKUP(B349,Data!$A$6:$A$1806,Data!B$6:B$1806)","v":59.965000152587891},{"$f":"LOOKUP(B349,Data!$A$6:$A$1806,Data!C$6:C$1806)","v":3789.2138671875},null,null,null,27.9998779296875,26.481331582051006,null,null,0,3803.4543099684247,{"$f":"AVERAGE(D$79:D349)","v":3772.5793475049009},{"$f":"AVERAGE(M$79:M349)","v":3779.794640897062},3776.2778578541852,{"$f":"AVERAGE(P$79:P349)","v":3745.4006738164135},633,null,null,null,null,null,null,0,633,-830.1631037846762,null,null,null,null,null,null,null,null,null,null,null,null,null,40098.108564814313,{"$f":"LOOKUP($AO349,Data!$A$6:$A$1806,Data!$B$6:$B$1806)","v":59.965000152587891},{"$f":"LOOKUP($AO349,Data!$A$6:$A$1806,Data!$C$6:$C$1806)","v":3789.2138671875},{"$f":"LOOKUP($AO349,Data!$A$6:$A$1806,Data!$D$6:$D$1806)","v":350},{"$f":"IF($AS$1=\"+\",LOOKUP($AO349,Data!$A$6:$A$1806,Data!$E$6:$E$1806)*-1,LOOKUP($AO349,Data!$A$6:$A$1806,Data!$E$6:$E$1806))","v":-246.95730590820312},{"$f":"LOOKUP($AO349,Data!$A$6:$A$1806,Data!$F$6:$F$1806)","v":0},{"$f":"LOOKUP($AO349,Data!$A$6:$A$1806,Data!$G$6:$G$1806)","v":145.5},{"$f":"LOOKUP($AO349,Data!$A$6:$A$1806,Data!$H$6:$H$1806)","v":10},{"$f":"LOOKUP($AO349,Data!$A$6:$A$1806,Data!$I$6:$I$1806)","v":15},{"$f":"LOOKUP($AO349,Data!$A$6:$A$1806,Data!$J$6:$J$1806)","v":-103},{"$f":"LOOKUP($AO349,Data!$A$6:$A$1806,Data!$K$6:$K$1806)","v":7596.03},27.9998779296875]
[null,40098.108587962459,{"$f":"LOOKUP(B350,Data!$A$6:$A$1806,Data!B$6:B$1806)","v":59.970001220703125},{"$f":"LOOKUP(B350,Data!$A$6:$A$1806,Data!C$6:C$1806)","v":3791.22119140625},null,null,null,23.9990234375,25.612523731458154,null,null,0,3802.5855021178318,{"$f":"AVERAGE(D$79:D350)","v":3772.6478836957144},{"$f":"AVERAGE(M$79:M350)","v":3779.8784308280206},3776.2778578541852,{"$f":"AVERAGE(P$79:P350)","v":3745.5146117648924},633,null,null,null,null,null,null,0,633,-888.43341989024225,null,null,null,null,null,null,null,null,null,null,null,null,null,40098.108587962459,{"$f":"LOOKUP($AO350,Data!$A$6:$A$1806,Data!$B$6:$B$1806)","v":59.970001220703125},{"$f":"LOOKUP($AO350,Data!$A$6:$A$1806,Data!$C$6:$C$1806)","v":3791.22119140625},{"$f":"LOOKUP($AO350,Data!$A$6:$A$1806,Data!$D$6:$D$1806)","v":350},{"$f":"IF($AS$1=\"+\",LOOKUP($AO350,Data!$A$6:$A$1806,Data!$E$6:$E$1806)*-1,LOOKUP($AO350,Data!$A$6:$A$1806,Data!$E$6:$E$1806))","v":-246.95730590820312},{"$f":"LOOKUP($AO350,Data!$A$6:$A$1806,Data!$F$6:$F$1806)","v":0},{"$f":"LOOKUP($AO350,Data!$A$6:$A$1806,Data!$G$6:$G$1806)","v":146},{"$f":"LOOKUP($AO350,Data!$A$6:$A$1806,Data!$H$6:$H$1806)","v":10},{"$f":"LOOKUP($AO350,Data!$A$6:$A$1806,Data!$I$6:$I$1806)","v":15},{"$f":"LOOKUP($AO350,Data!$A$6:$A$1806,Data!$J$6:$J$1806)","v":-103},{"$f":"LOOKUP($AO350,Data!$A$6:$A$1806,Data!$K$6:$K$1806)","v":7596.36},23.9990234375]
[null,40098.108611110605,{"$f":"LOOKUP(B351,Data!$A$6:$A$1806,Data!B$6:B$1806)","v":59.970001220703125},{"$f":"LOOKUP(B351,Data!$A$6:$A$1806,Data!C$6:C$1806)","v":3791.22119140625},null,null,null,23.9990234375,25.047798628572799,null,null,0,3802.0207770149464,{"$f":"AVERAGE(D$79:D351)","v":3772.7159177898925},{"$f":"AVERAGE(M$79:M351)","v":3779.9595383232108},3776.2778578541852,{"$f":"AVERAGE(P$79:P351)","v":3745.6277119343381},633,null,null,null,null,null,null,0,633,-888.43341989024225,null,null,null,null,null,null,null,null,null,null,null,null,null,40098.108611110605,{"$f":"LOOKUP($AO351,Data!$A$6:$A$1806,Data!$B$6:$B$1806)","v":59.970001220703125},{"$f":"LOOKUP($AO351,Data!$A$6:$A$1806,Data!$C$6:$C$1806)","v":3791.22119140625},{"$f":"LOOKUP($AO351,Data!$A$6:$A$1806,Data!$D$6:$D$1806)","v":350},{"$f":"IF($AS$1=\"+\",LOOKUP($AO351,Data!$A$6:$A$1806,Data!$E$6:$E$1806)*-1,LOOKUP($AO351,Data!$A$6:$A$1806,Data!$E$6:$E$1806))","v":-246.95730590820312},{"$f":"LOOKUP($AO351,Data!$A$6:$A$1806,Data!$F$6:$F$1806)","v":0},{"$f":"LOOKUP($AO351,Data!$A$6:$A$1806,Data!$G$6:$G$1806)","v":146},{"$f":"LOOKUP($AO351,Data!$A$6:$A$1806,Data!$H$6:$H$1806)","v":10},{"$f":"LOOKUP($AO351,Data!$A$6:$A$1806,Data!$I$6:$I$1806)","v":15},{"$f":"LOOKUP($AO351,Data!$A$6:$A$1806,Data!$J$6:$J$1806)","v":-103},{"$f":"LOOKUP($AO351,Data!$A$6:$A$1806,Data!$K$6:$K$1806)","v":7596.36},23.9990234375]
[null,40098.108634258751,{"$f":"LOOKUP(B352,Data!$A$6:$A$1806,Data!B$6:B$1806)","v":59.965000152587891},{"$f":"LOOKUP(B352,Data!$A$6:$A$1806,Data!C$6:C$1806)","v":3788.82421875},null,null,null,27.9998779296875,26.081026383962946,null,null,0,3803.0540047703366,{"$f":"AVERAGE(D$79:D352)","v":3772.7747072094548},{"$f":"AVERAGE(M$79:M352)","v":3780.0438246971053},3776.2778578541852,{"$f":"AVERAGE(P$79:P352)","v":3745.7399835311139},633,null,null,null,null,null,null,0,633,-830.1631037846762,null,null,null,null,null,null,null,null,null,null,null,null,null,40098.108634258751,{"$f":"LOOKUP($AO352,Data!$A$6:$A$1806,Data!$B$6:$B$1806)","v":59.965000152587891},{"$f":"LOOKUP($AO352,Data!$A$6:$A$1806,Data!$C$6:$C$1806)","v":3788.82421875},{"$f":"LOOKUP($AO352,Data!$A$6:$A$1806,Data!$D$6:$D$1806)","v":350},{"$f":"IF($AS$1=\"+\",LOOKUP($AO352,Data!$A$6:$A$1806,Data!$E$6:$E$1806)*-1,LOOKUP($AO352,Data!$A$6:$A$1806,Data!$E$6:$E$1806))","v":-254.54177856445312},{"$f":"LOOKUP($AO352,Data!$A$6:$A$1806,Data!$F$6:$F$1806)","v":0},{"$f":"LOOKUP($AO352,Data!$A$6:$A$1806,Data!$G$6:$G$1806)","v":146.5},{"$f":"LOOKUP($AO352,Data!$A$6:$A$1806,Data!$H$6:$H$1806)","v":10},{"$f":"LOOKUP($AO352,Data!$A$6:$A$1806,Data!$I$6:$I$1806)","v":15},{"$f":"LOOKUP($AO352,Data!$A$6:$A$1806,Data!$J$6:$J$1806)","v":-103},{"$f":"LOOKUP($AO352,Data!$A$6:$A$1806,Data!$K$6:$K$1806)","v":7596.69},27.9998779296875]
[null,40098.108657406898,{"$f":"LOOKUP(B353,Data!$A$6:$A$1806,Data!B$6:B$1806)","v":59.965000152587891},{"$f":"LOOKUP(B353,Data!$A$6:$A$1806,Data!C$6:C$1806)","v":3788.82421875},null,null,null,27.9998779296875,26.752624424966541,null,null,0,3803.7256028113402,{"$f":"AVERAGE(D$79:D353)","v":3772.8330690696021},{"$f":"AVERAGE(M$79:M353)","v":3780.1299402538843},3776.2778578541852,{"$f":"AVERAGE(P$79:P353)","v":3745.8514356271835},633,null,null,null,null,null,null,0,633,-830.1631037846762,null,null,null,null,null,null,null,null,null,null,null,null,null,40098.108657406898,{"$f":"LOOKUP($AO353,Data!$A$6:$A$1806,Data!$B$6:$B$1806)","v":59.965000152587891},{"$f":"LOOKUP($AO353,Data!$A$6:$A$1806,Data!$C$6:$C$1806)","v":3788.82421875},{"$f":"LOOKUP($AO353,Data!$A$6:$A$1806,Data!$D$6:$D$1806)","v":350},{"$f":"IF($AS$1=\"+\",LOOKUP($AO353,Data!$A$6:$A$1806,Data!$E$6:$E$1806)*-1,LOOKUP($AO353,Data!$A$6:$A$1806,Data!$E$6:$E$1806))","v":-254.54177856445312},{"$f":"LOOKUP($AO353,Data!$A$6:$A$1806,Data!$F$6:$F$1806)","v":0},{"$f":"LOOKUP($AO353,Data!$A$6:$A$1806,Data!$G$6:$G$1806)","v":146.5},{"$f":"LOOKUP($AO353,Data!$A$6:$A$1806,Data!$H$6:$H$1806)","v":10},{"$f":"LOOKUP($AO353,Data!$A$6:$A$1806,Data!$I$6:$I$1806)","v":15},{"$f":"LOOKUP($AO353,Data!$A$6:$A$1806,Data!$J$6:$J$1806)","v":-103},{"$f":"LOOKUP($AO353,Data!$A$6:$A$1806,Data!$K$6:$K$1806)","v":7596.69},27.9998779296875]
[null,40098.108680555044,{"$f":"LOOKUP(B354,Data!$A$6:$A$1806,Data!B$6:B$1806)","v":59.965000152587891},{"$f":"LOOKUP(B354,Data!$A$6:$A$1806,Data!C$6:C$1806)","v":3788.82421875},null,null,null,27.9998779296875,27.189163151618878,null,null,0,3804.1621415379927,{"$f":"AVERAGE(D$79:D354)","v":3772.8910080177197},{"$f":"AVERAGE(M$79:M354)","v":3780.2170134469429},3776.2778578541852,{"$f":"AVERAGE(P$79:P354)","v":3745.9620771625541},633,null,null,null,null,null,null,0,633,-830.1631037846762,null,null,null,null,null,null,null,null,null,null,null,null,null,40098.108680555044,{"$f":"LOOKUP($AO354,Data!$A$6:$A$1806,Data!$B$6:$B$1806)","v":59.965000152587891},{"$f":"LOOKUP($AO354,Data!$A$6:$A$1806,Data!$C$6:$C$1806)","v":3788.82421875},{"$f":"LOOKUP($AO354,Data!$A$6:$A$1806,Data!$D$6:$D$1806)","v":350},{"$f":"IF($AS$1=\"+\",LOOKUP($AO354,Data!$A$6:$A$1806,Data!$E$6:$E$1806)*-1,LOOKUP($AO354,Data!$A$6:$A$1806,Data!$E$6:$E$1806))","v":-254.54177856445312},{"$f":"LOOKUP($AO354,Data!$A$6:$A$1806,Data!$F$6:$F$1806)","v":0},{"$f":"LOOKUP($AO354,Data!$A$6:$A$1806,Data!$G$6:$G$1806)","v":146.5},{"$f":"LOOKUP($AO354,Data!$A$6:$A$1806,Data!$H$6:$H$1806)","v":10},{"$f":"LOOKUP($AO354,Data!$A$6:$A$1806,Data!$I$6:$I$1806)","v":15},{"$f":"LOOKUP($AO354,Data!$A$6:$A$1806,Data!$J$6:$J$1806)","v":-103},{"$f":"LOOKUP($AO354,Data!$A$6:$A$1806,Data!$K$6:$K$1806)","v":7596.69},27.9998779296875]
[null,40098.10870370319,{"$f":"LOOKUP(B355,Data!$A$6:$A$1806,Data!B$6:B$1806)","v":59.972000122070313},{"$f":"LOOKUP(B355,Data!$A$6:$A$1806,Data!C$6:C$1806)","v":3789.16748046875},null,null,null,22.39990234375,25.512921868864773,null,null,0,3802.4859002552384,{"$f":"AVERAGE(D$79:D355)","v":3772.9497678460625},{"$f":"AVERAGE(M$79:M355)","v":3780.2974065401136},3776.2778578541852,{"$f":"AVERAGE(P$79:P355)","v":3746.0719169476683},633,null,null,null,null,null,null,0,633,-914.07801250447574,null,null,null,null,null,null,null,null,null,null,null,null,null,40098.10870370319,{"$f":"LOOKUP($AO355,Data!$A$6:$A$1806,Data!$B$6:$B$1806)","v":59.972000122070313},{"$f":"LOOKUP($AO355,Data!$A$6:$A$1806,Data!$C$6:$C$1806)","v":3789.16748046875},{"$f":"LOOKUP($AO355,Data!$A$6:$A$1806,Data!$D$6:$D$1806)","v":350},{"$f":"IF($AS$1=\"+\",LOOKUP($AO355,Data!$A$6:$A$1806,Data!$E$6:$E$1806)*-1,LOOKUP($AO355,Data!$A$6:$A$1806,Data!$E$6:$E$1806))","v":-254.54177856445312},{"$f":"LOOKUP($AO355,Data!$A$6:$A$1806,Data!$F$6:$F$1806)","v":0},{"$f":"LOOKUP($AO355,Data!$A$6:$A$1806,Data!$G$6:$G$1806)","v":147},{"$f":"LOOKUP($AO355,Data!$A$6:$A$1806,Data!$H$6:$H$1806)","v":10},{"$f":"LOOKUP($AO355,Data!$A$6:$A$1806,Data!$I$6:$I$1806)","v":15},{"$f":"LOOKUP($AO355,Data!$A$6:$A$1806,Data!$J$6:$J$1806)","v":-103},{"$f":"LOOKUP($AO355,Data!$A$6:$A$1806,Data!$K$6:$K$1806)","v":7597.02},22.39990234375]
[null,40098.108726851337,{"$f":"LOOKUP(B356,Data!$A$6:$A$1806,Data!B$6:B$1806)","v":59.972000122070313},{"$f":"LOOKUP(B356,Data!$A$6:$A$1806,Data!C$6:C$1806)","v":3789.16748046875},null,null,null,22.39990234375,24.423365035074603,null,null,0,3801.3963434214484,{"$f":"AVERAGE(D$79:D356)","v":3773.0081049418277},{"$f":"AVERAGE(M$79:M356)","v":3780.3733019965211},3776.2778578541852,{"$f":"AVERAGE(P$79:P356)","v":3746.1809636657426},633,null,null,null,null,null,null,0,633,-914.07801250447574,null,null,null,null,null,null,null,null,null,null,null,null,null,40098.108726851337,{"$f":"LOOKUP($AO356,Data!$A$6:$A$1806,Data!$B$6:$B$1806)","v":59.972000122070313},{"$f":"LOOKUP($AO356,Data!$A$6:$A$1806,Data!$C$6:$C$1806)","v":3789.16748046875},{"$f":"LOOKUP($AO356,Data!$A$6:$A$1806,Data!$D$6:$D$1806)","v":350},{"$f":"IF($AS$1=\"+\",LOOKUP($AO356,Data!$A$6:$A$1806,Data!$E$6:$E$1806)*-1,LOOKUP($AO356,Data!$A$6:$A$1806,Data!$E$6:$E$1806))","v":-254.54177856445312},{"$f":"LOOKUP($AO356,Data!$A$6:$A$1806,Data!$F$6:$F$1806)","v":0},{"$f":"LOOKUP($AO356,Data!$A$6:$A$1806,Data!$G$6:$G$1806)","v":147},{"$f":"LOOKUP($AO356,Data!$A$6:$A$1806,Data!$H$6:$H$1806)","v":10},{"$f":"LOOKUP($AO356,Data!$A$6:$A$1806,Data!$I$6:$I$1806)","v":15},{"$f":"LOOKUP($AO356,Data!$A$6:$A$1806,Data!$J$6:$J$1806)","v":-103},{"$f":"LOOKUP($AO356,Data!$A$6:$A$1806,Data!$K$6:$K$1806)","v":7597.02},22.39990234375]
[null,40098.108749999483,{"$f":"LOOKUP(B357,Data!$A$6:$A$1806,Data!B$6:B$1806)","v":59.966999053955078},{"$f":"LOOKUP(B357,Data!$A$6:$A$1806,Data!C$6:C$1806)","v":3784.83056640625},null,null,null,26.4007568359375,25.115452165376617,null,null,0,3802.0884305517502,{"$f":"AVERAGE(D$79:D357)","v":3773.0504793556788},{"$f":"AVERAGE(M$79:M357)","v":3780.4511339985115},3776.2778578541852,{"$f":"AVERAGE(P$79:P357)","v":3746.2892258750535},633,null,null,null,null,null,null,0,633,-852.51176243931263,null,null,null,null,null,null,null,null,null,null,null,null,null,40098.108749999483,{"$f":"LOOKUP($AO357,Data!$A$6:$A$1806,Data!$B$6:$B$1806)","v":59.966999053955078},{"$f":"LOOKUP($AO357,Data!$A$6:$A$1806,Data!$C$6:$C$1806)","v":3784.83056640625},{"$f":"LOOKUP($AO357,Data!$A$6:$A$1806,Data!$D$6:$D$1806)","v":350},{"$f":"IF($AS$1=\"+\",LOOKUP($AO357,Data!$A$6:$A$1806,Data!$E$6:$E$1806)*-1,LOOKUP($AO357,Data!$A$6:$A$1806,Data!$E$6:$E$1806))","v":-254.54177856445312},{"$f":"LOOKUP($AO357,Data!$A$6:$A$1806,Data!$F$6:$F$1806)","v":0},{"$f":"LOOKUP($AO357,Data!$A$6:$A$1806,Data!$G$6:$G$1806)","v":147.5},{"$f":"LOOKUP($AO357,Data!$A$6:$A$1806,Data!$H$6:$H$1806)","v":10},{"$f":"LOOKUP($AO357,Data!$A$6:$A$1806,Data!$I$6:$I$1806)","v":15},{"$f":"LOOKUP($AO357,Data!$A$6:$A$1806,Data!$J$6:$J$1806)","v":-103},{"$f":"LOOKUP($AO357,Data!$A$6:$A$1806,Data!$K$6:$K$1806)","v":7597.35},26.4007568359375]
[null,40098.108773147629,{"$f":"LOOKUP(B358,Data!$A$6:$A$1806,Data!B$6:B$1806)","v":59.966999053955078},{"$f":"LOOKUP(B358,Data!$A$6:$A$1806,Data!C$6:C$1806)","v":3784.83056640625},null,null,null,26.4007568359375,25.565308800072927,null,null,0,3802.5382871864467,{"$f":"AVERAGE(D$79:D358)","v":3773.0925510951452},{"$f":"AVERAGE(M$79:M358)","v":3780.5300166884685},3776.2778578541852,{"$f":"AVERAGE(P$79:P358)","v":3746.3967120111793},633,null,null,null,null,null,null,0,633,-852.51176243931263,null,null,null,null,null,null,null,null,null,null,null,null,null,40098.108773147629,{"$f":"LOOKUP($AO358,Data!$A$6:$A$1806,Data!$B$6:$B$1806)","v":59.966999053955078},{"$f":"LOOKUP($AO358,Data!$A$6:$A$1806,Data!$C$6:$C$1806)","v":3784.83056640625},{"$f":"LOOKUP($AO358,Data!$A$6:$A$1806,Data!$D$6:$D$1806)","v":350},{"$f":"IF($AS$1=\"+\",LOOKUP($AO358,Data!$A$6:$A$1806,Data!$E$6:$E$1806)*-1,LOOKUP($AO358,Data!$A$6:$A$1806,Data!$E$6:$E$1806))","v":-254.54177856445312},{"$f":"LOOKUP($AO358,Data!$A$6:$A$1806,Data!$F$6:$F$1806)","v":0},{"$f":"LOOKUP($AO358,Data!$A$6:$A$1806,Data!$G$6:$G$1806)","v":147.5},{"$f":"LOOKUP($AO358,Data!$A$6:$A$1806,Data!$H$6:$H$1806)","v":10},{"$f":"LOOKUP($AO358,Data!$A$6:$A$1806,Data!$I$6:$I$1806)","v":15},{"$f":"LOOKUP($AO358,Data!$A$6:$A$1806,Data!$J$6:$J$1806)","v":-103},{"$f":"LOOKUP($AO358,Data!$A$6:$A$1806,Data!$K$6:$K$1806)","v":7597.35},26.4007568359375]
[null,40098.108796295775,{"$f":"LOOKUP(B359,Data!$A$6:$A$1806,Data!B$6:B$1806)","v":59.966999053955078},{"$f":"LOOKUP(B359,Data!$A$6:$A$1806,Data!C$6:C$1806)","v":3784.83056640625},null,null,null,26.4007568359375,25.85771561262553,null,null,0,3802.8306939989993,{"$f":"AVERAGE(D$79:D359)","v":3773.1343233916259},{"$f":"AVERAGE(M$79:M359)","v":3780.6093785294315},3776.2778578541852,{"$f":"AVERAGE(P$79:P359)","v":3746.5034303891898},633,null,null,null,null,null,null,0,633,-852.51176243931263,null,null,null,null,null,null,null,null,null,null,null,null,null,40098.108796295775,{"$f":"LOOKUP($AO359,Data!$A$6:$A$1806,Data!$B$6:$B$1806)","v":59.966999053955078},{"$f":"LOOKUP($AO359,Data!$A$6:$A$1806,Data!$C$6:$C$1806)","v":3784.83056640625},{"$f":"LOOKUP($AO359,Data!$A$6:$A$1806,Data!$D$6:$D$1806)","v":350},{"$f":"IF($AS$1=\"+\",LOOKUP($AO359,Data!$A$6:$A$1806,Data!$E$6:$E$1806)*-1,LOOKUP($AO359,Data!$A$6:$A$1806,Data!$E$6:$E$1806))","v":-254.54177856445312},{"$f":"LOOKUP($AO359,Data!$A$6:$A$1806,Data!$F$6:$F$1806)","v":0},{"$f":"LOOKUP($AO359,Data!$A$6:$A$1806,Data!$G$6:$G$1806)","v":147.5},{"$f":"LOOKUP($AO359,Data!$A$6:$A$1806,Data!$H$6:$H$1806)","v":10},{"$f":"LOOKUP($AO359,Data!$A$6:$A$1806,Data!$I$6:$I$1806)","v":15},{"$f":"LOOKUP($AO359,Data!$A$6:$A$1806,Data!$J$6:$J$1806)","v":-103},{"$f":"LOOKUP($AO359,Data!$A$6:$A$1806,Data!$K$6:$K$1806)","v":7597.35},26.4007568359375]
[null,40098.108819443922,{"$f":"LOOKUP(B360,Data!$A$6:$A$1806,Data!B$6:B$1806)","v":59.969001770019531},{"$f":"LOOKUP(B360,Data!$A$6:$A$1806,Data!C$6:C$1806)","v":3784.3203125},null,null,null,24.798583984375,25.487019542737844,null,null,0,3802.4599979291115,{"$f":"AVERAGE(D$79:D360)","v":3773.1739900196699},{"$f":"AVERAGE(M$79:M360)","v":3780.6868629953883},3776.2778578541852,{"$f":"AVERAGE(P$79:P360)","v":3746.6093892057916},633,null,null,null,null,null,null,0,633,-876.14325615776556,null,null,null,null,null,null,null,null,null,null,null,null,null,40098.108819443922,{"$f":"LOOKUP($AO360,Data!$A$6:$A$1806,Data!$B$6:$B$1806)","v":59.969001770019531},{"$f":"LOOKUP($AO360,Data!$A$6:$A$1806,Data!$C$6:$C$1806)","v":3784.3203125},{"$f":"LOOKUP($AO360,Data!$A$6:$A$1806,Data!$D$6:$D$1806)","v":350},{"$f":"IF($AS$1=\"+\",LOOKUP($AO360,Data!$A$6:$A$1806,Data!$E$6:$E$1806)*-1,LOOKUP($AO360,Data!$A$6:$A$1806,Data!$E$6:$E$1806))","v":-254.54177856445312},{"$f":"LOOKUP($AO360,Data!$A$6:$A$1806,Data!$F$6:$F$1806)","v":0},{"$f":"LOOKUP($AO360,Data!$A$6:$A$1806,Data!$G$6:$G$1806)","v":148},{"$f":"LOOKUP($AO360,Data!$A$6:$A$1806,Data!$H$6:$H$1806)","v":10},{"$f":"LOOKUP($AO360,Data!$A$6:$A$1806,Data!$I$6:$I$1806)","v":15},{"$f":"LOOKUP($AO360,Data!$A$6:$A$1806,Data!$J$6:$J$1806)","v":-103},{"$f":"LOOKUP($AO360,Data!$A$6:$A$1806,Data!$K$6:$K$1806)","v":7597.68},24.798583984375]
[null,40098.108842592068,{"$f":"LOOKUP(B361,Data!$A$6:$A$1806,Data!B$6:B$1806)","v":59.969001770019531},{"$f":"LOOKUP(B361,Data!$A$6:$A$1806,Data!C$6:C$1806)","v":3784.3203125},null,null,null,24.798583984375,25.246067097310849,null,null,0,3802.2190454836846,{"$f":"AVERAGE(D$79:D361)","v":3773.2133763181869},{"$f":"AVERAGE(M$79:M361)","v":3780.7629484458771},3776.2778578541852,{"$f":"AVERAGE(P$79:P361)","v":3746.7145965414243},633,null,null,null,null,null,null,0,633,-876.14325615776556,null,null,null,null,null,null,null,null,null,null,null,null,null,40098.108842592068,{"$f":"LOOKUP($AO361,Data!$A$6:$A$1806,Data!$B$6:$B$1806)","v":59.969001770019531},{"$f":"LOOKUP($AO361,Data!$A$6:$A$1806,Data!$C$6:$C$1806)","v":3784.3203125},{"$f":"LOOKUP($AO361,Data!$A$6:$A$1806,Data!$D$6:$D$1806)","v":350},{"$f":"IF($AS$1=\"+\",LOOKUP($AO361,Data!$A$6:$A$1806,Data!$E$6:$E$1806)*-1,LOOKUP($AO361,Data!$A$6:$A$1806,Data!$E$6:$E$1806))","v":-254.54177856445312},{"$f":"LOOKUP($AO361,Data!$A$6:$A$1806,Data!$F$6:$F$1806)","v":0},{"$f":"LOOKUP($AO361,Data!$A$6:$A$1806,Data!$G$6:$G$1806)","v":148},{"$f":"LOOKUP($AO361,Data!$A$6:$A$1806,Data!$H$6:$H$1806)","v":10},{"$f":"LOOKUP($AO361,Data!$A$6:$A$1806,Data!$I$6:$I$1806)","v":15},{"$f":"LOOKUP($AO361,Data!$A$6:$A$1806,Data!$J$6:$J$1806)","v":-103},{"$f":"LOOKUP($AO361,Data!$A$6:$A$1806,Data!$K$6:$K$1806)","v":7597.68},24.798583984375]
[null,40098.108865740214,{"$f":"LOOKUP(B362,Data!$A$6:$A$1806,Data!B$6:B$1806)","v":59.966999053955078},{"$f":"LOOKUP(B362,Data!$A$6:$A$1806,Data!C$6:C$1806)","v":3779.3515625},null,null,null,26.4007568359375,25.650208505830179,null,null,0,3802.6231868922041,{"$f":"AVERAGE(D$79:D362)","v":3773.2349896498131},{"$f":"AVERAGE(M$79:M362)","v":3780.8399211164624},3776.2778578541852,{"$f":"AVERAGE(P$79:P362)","v":3746.8190603623175},633,null,null,null,null,null,null,0,633,-852.51176243931263,null,null,null,null,null,null,null,null,null,null,null,null,null,40098.108865740214,{"$f":"LOOKUP($AO362,Data!$A$6:$A$1806,Data!$B$6:$B$1806)","v":59.966999053955078},{"$f":"LOOKUP($AO362,Data!$A$6:$A$1806,Data!$C$6:$C$1806)","v":3779.3515625},{"$f":"LOOKUP($AO362,Data!$A$6:$A$1806,Data!$D$6:$D$1806)","v":350},{"$f":"IF($AS$1=\"+\",LOOKUP($AO362,Data!$A$6:$A$1806,Data!$E$6:$E$1806)*-1,LOOKUP($AO362,Data!$A$6:$A$1806,Data!$E$6:$E$1806))","v":-254.54177856445312},{"$f":"LOOKUP($AO362,Data!$A$6:$A$1806,Data!$F$6:$F$1806)","v":0},{"$f":"LOOKUP($AO362,Data!$A$6:$A$1806,Data!$G$6:$G$1806)","v":148.5},{"$f":"LOOKUP($AO362,Data!$A$6:$A$1806,Data!$H$6:$H$1806)","v":10},{"$f":"LOOKUP($AO362,Data!$A$6:$A$1806,Data!$I$6:$I$1806)","v":15},{"$f":"LOOKUP($AO362,Data!$A$6:$A$1806,Data!$J$6:$J$1806)","v":-103},{"$f":"LOOKUP($AO362,Data!$A$6:$A$1806,Data!$K$6:$K$1806)","v":7598.01},26.4007568359375]
[null,40098.108888888361,{"$f":"LOOKUP(B363,Data!$A$6:$A$1806,Data!B$6:B$1806)","v":59.966999053955078},{"$f":"LOOKUP(B363,Data!$A$6:$A$1806,Data!C$6:C$1806)","v":3779.3515625},null,null,null,26.4007568359375,{"$f":"L$13*H363+(1-L$13)*I362","v":25.912900421367741},null,null,0,3802.8858788077418,{"$f":"AVERAGE(D$79:D363)","v":3773.2564513089364},{"$f":"AVERAGE(M$79:M363)","v":3780.9172753539751},3776.2778578541852,{"$f":"AVERAGE(P$79:P363)","v":3746.9227885225005},633,null,null,null,null,null,null,0,{"$f":"SUM(R363:Y363)","v":633},-852.51176243931263,null,null,null,null,null,null,null,null,null,null,null,null,null,40098.108888888361,{"$f":"LOOKUP($AO363,Data!$A$6:$A$1806,Data!$B$6:$B$1806)","v":59.966999053955078},{"$f":"LOOKUP($AO363,Data!$A$6:$A$1806,Data!$C$6:$C$1806)","v":3779.3515625},{"$f":"LOOKUP($AO363,Data!$A$6:$A$1806,Data!$D$6:$D$1806)","v":350},{"$f":"IF($AS$1=\"+\",LOOKUP($AO363,Data!$A$6:$A$1806,Data!$E$6:$E$1806)*-1,LOOKUP($AO363,Data!$A$6:$A$1806,Data!$E$6:$E$1806))","v":-254.54177856445312},{"$f":"LOOKUP($AO363,Data!$A$6:$A$1806,Data!$F$6:$F$1806)","v":0},{"$f":"LOOKUP($AO363,Data!$A$6:$A$1806,Data!$G$6:$G$1806)","v":148.5},{"$f":"LOOKUP($AO363,Data!$A$6:$A$1806,Data!$H$6:$H$1806)","v":10},{"$f":"LOOKUP($AO363,Data!$A$6:$A$1806,Data!$I$6:$I$1806)","v":15},{"$f":"LOOKUP($AO363,Data!$A$6:$A$1806,Data!$J$6:$J$1806)","v":-103},{"$f":"LOOKUP($AO363,Data!$A$6:$A$1806,Data!$K$6:$K$1806)","v":7598.01},26.4007568359375]
[null,40098.108912036507,{"$f":"LOOKUP(B364,Data!$A$6:$A$1806,Data!B$6:B$1806)","v":59.966999053955078},{"$f":"LOOKUP(B364,Data!$A$6:$A$1806,Data!C$6:C$1806)","v":3779.3515625},null,null,null,{"$f":"(IF((C364-L$2)>0,((C364-L$2-L$5)/((L$4*L$2)-L$5)*L$3*-1),((C364-L$2+L$5)/((L$4*L$2)-L$5)*L$3*-1)))","v":26.4007568359375},26.083650166467159,null,null,0,3803.0566285528412,{"$f":"AVERAGE(D$79:D364)","v":3773.2777628865274},{"$f":"AVERAGE(M$79:M364)","v":3780.9946856798451},3776.2778578541852,{"$f":"AVERAGE(P$79:P364)","v":3747.0257887657699},633,null,null,null,null,null,null,0,633,-852.51176243931263,null,null,null,null,null,null,null,null,null,null,null,null,null,40098.108912036507,{"$f":"LOOKUP($AO364,Data!$A$6:$A$1806,Data!$B$6:$B$1806)","v":59.966999053955078},{"$f":"LOOKUP($AO364,Data!$A$6:$A$1806,Data!$C$6:$C$1806)","v":3779.3515625},{"$f":"LOOKUP($AO364,Data!$A$6:$A$1806,Data!$D$6:$D$1806)","v":350},{"$f":"IF($AS$1=\"+\",LOOKUP($AO364,Data!$A$6:$A$1806,Data!$E$6:$E$1806)*-1,LOOKUP($AO364,Data!$A$6:$A$1806,Data!$E$6:$E$1806))","v":-254.54177856445312},{"$f":"LOOKUP($AO364,Data!$A$6:$A$1806,Data!$F$6:$F$1806)","v":0},{"$f":"LOOKUP($AO364,Data!$A$6:$A$1806,Data!$G$6:$G$1806)","v":148.5},{"$f":"LOOKUP($AO364,Data!$A$6:$A$1806,Data!$H$6:$H$1806)","v":10},{"$f":"LOOKUP($AO364,Data!$A$6:$A$1806,Data!$I$6:$I$1806)","v":15},{"$f":"LOOKUP($AO364,Data!$A$6:$A$1806,Data!$J$6:$J$1806)","v":-103},{"$f":"LOOKUP($AO364,Data!$A$6:$A$1806,Data!$K$6:$K$1806)","v":7598.01},{"$f":"(IF((AP364-$L$2)>0,((AP364-$L$2-$L$5)/(($L$4*$L$2)-$L$5)*$L$3*-1),((AP364-$L$2+$L$5)/(($L$4*$L$2)-$L$5)*$L$3*-1)))","v":26.4007568359375}]
[null,40098.108935184653,{"$f":"LOOKUP(B365,Data!$A$6:$A$1806,Data!B$6:B$1806)","v":59.971000671386719},{"$f":"LOOKUP(B365,Data!$A$6:$A$1806,Data!C$6:C$1806)","v":3778.63330078125},null,null,null,23.199462890625,25.074184619922402,null,null,0,3802.0471630062966,{"$f":"AVERAGE(D$79:D365)","v":3773.2964232973104},{"$f":"AVERAGE(M$79:M365)","v":3781.0680392593799},3776.2778578541852,{"$f":"AVERAGE(P$79:P365)","v":3747.1280687276176},633,null,null,null,null,null,null,0,633,-901.07329152072987,null,null,null,null,null,null,null,null,null,null,null,null,null,40098.108935184653,{"$f":"LOOKUP($AO365,Data!$A$6:$A$1806,Data!$B$6:$B$1806)","v":59.971000671386719},{"$f":"LOOKUP($AO365,Data!$A$6:$A$1806,Data!$C$6:$C$1806)","v":3778.63330078125},{"$f":"LOOKUP($AO365,Data!$A$6:$A$1806,Data!$D$6:$D$1806)","v":350},{"$f":"IF($AS$1=\"+\",LOOKUP($AO365,Data!$A$6:$A$1806,Data!$E$6:$E$1806)*-1,LOOKUP($AO365,Data!$A$6:$A$1806,Data!$E$6:$E$1806))","v":-256.57159423828125},{"$f":"LOOKUP($AO365,Data!$A$6:$A$1806,Data!$F$6:$F$1806)","v":0},{"$f":"LOOKUP($AO365,Data!$A$6:$A$1806,Data!$G$6:$G$1806)","v":149},{"$f":"LOOKUP($AO365,Data!$A$6:$A$1806,Data!$H$6:$H$1806)","v":10},{"$f":"LOOKUP($AO365,Data!$A$6:$A$1806,Data!$I$6:$I$1806)","v":15},{"$f":"LOOKUP($AO365,Data!$A$6:$A$1806,Data!$J$6:$J$1806)","v":-103},{"$f":"LOOKUP($AO365,Data!$A$6:$A$1806,Data!$K$6:$K$1806)","v":7598.34},23.199462890625]
[null,{"$f":"B365+TIME(0,0,$B$1)","v":40098.108958332799},{"$f":"LOOKUP(B366,Data!$A$6:$A$1806,Data!B$6:B$1806)","v":59.971000671386719},{"$f":"LOOKUP(B366,Data!$A$6:$A$1806,Data!C$6:C$1806)","v":3778.63330078125},null,null,null,23.199462890625,24.418032014668313,null,null,0,3801.3910104010424,{"$f":"AVERAGE(D$79:D366)","v":3773.3149541219077},{"$f":"AVERAGE(M$79:M366)","v":3781.1386051313998},3776.2778578541852,{"$f":"AVERAGE(P$79:P366)","v":3747.2296359371185},633,null,null,null,null,null,null,0,633,-901.07329152072987,null,null,null,null,null,null,null,null,null,null,null,null,null,40098.108958332799,{"$f":"LOOKUP($AO366,Data!$A$6:$A$1806,Data!$B$6:$B$1806)","v":59.971000671386719},{"$f":"LOOKUP($AO366,Data!$A$6:$A$1806,Data!$C$6:$C$1806)","v":3778.63330078125},{"$f":"LOOKUP($AO366,Data!$A$6:$A$1806,Data!$D$6:$D$1806)","v":350},{"$f":"IF($AS$1=\"+\",LOOKUP($AO366,Data!$A$6:$A$1806,Data!$E$6:$E$1806)*-1,LOOKUP($AO366,Data!$A$6:$A$1806,Data!$E$6:$E$1806))","v":-256.57159423828125},{"$f":"LOOKUP($AO366,Data!$A$6:$A$1806,Data!$F$6:$F$1806)","v":0},{"$f":"LOOKUP($AO366,Data!$A$6:$A$1806,Data!$G$6:$G$1806)","v":149},{"$f":"LOOKUP($AO366,Data!$A$6:$A$1806,Data!$H$6:$H$1806)","v":10},{"$f":"LOOKUP($AO366,Data!$A$6:$A$1806,Data!$I$6:$I$1806)","v":15},{"$f":"LOOKUP($AO366,Data!$A$6:$A$1806,Data!$J$6:$J$1806)","v":-103},{"$f":"LOOKUP($AO366,Data!$A$6:$A$1806,Data!$K$6:$K$1806)","v":7598.34},23.199462890625]
[null,40098.108981480946,{"$f":"LOOKUP(B367,Data!$A$6:$A$1806,Data!B$6:B$1806)","v":59.965000152587891},{"$f":"LOOKUP(B367,Data!$A$6:$A$1806,Data!C$6:C$1806)","v":3776.42919921875},null,null,null,27.9998779296875,25.671678084925027,null,null,0,3802.6446564712992,{"$f":"AVERAGE(D$79:D367)","v":3773.3257300564987},{"$f":"AVERAGE(M$79:M367)","v":3781.2130205339599},3776.2778578541852,{"$f":"AVERAGE(P$79:P367)","v":3747.3304978187753},633,null,null,null,null,null,null,0,633,-830.1631037846762,null,null,null,null,null,null,null,null,null,null,null,null,null,40098.108981480946,{"$f":"LOOKUP($AO367,Data!$A$6:$A$1806,Data!$B$6:$B$1806)","v":59.965000152587891},{"$f":"LOOKUP($AO367,Data!$A$6:$A$1806,Data!$C$6:$C$1806)","v":3776.42919921875},{"$f":"LOOKUP($AO367,Data!$A$6:$A$1806,Data!$D$6:$D$1806)","v":350},{"$f":"IF($AS$1=\"+\",LOOKUP($AO367,Data!$A$6:$A$1806,Data!$E$6:$E$1806)*-1,LOOKUP($AO367,Data!$A$6:$A$1806,Data!$E$6:$E$1806))","v":-256.57159423828125},{"$f":"LOOKUP($AO367,Data!$A$6:$A$1806,Data!$F$6:$F$1806)","v":0},{"$f":"LOOKUP($AO367,Data!$A$6:$A$1806,Data!$G$6:$G$1806)","v":149.5},{"$f":"LOOKUP($AO367,Data!$A$6:$A$1806,Data!$H$6:$H$1806)","v":10},{"$f":"LOOKUP($AO367,Data!$A$6:$A$1806,Data!$I$6:$I$1806)","v":15},{"$f":"LOOKUP($AO367,Data!$A$6:$A$1806,Data!$J$6:$J$1806)","v":-103},{"$f":"LOOKUP($AO367,Data!$A$6:$A$1806,Data!$K$6:$K$1806)","v":7598.67},27.9998779296875]
[null,40098.109004629092,{"$f":"LOOKUP(B368,Data!$A$6:$A$1806,Data!B$6:B$1806)","v":59.965000152587891},{"$f":"LOOKUP(B368,Data!$A$6:$A$1806,Data!C$6:C$1806)","v":3776.42919921875},null,null,null,27.9998779296875,26.486548030591894,null,null,0,3803.4595264169661,{"$f":"AVERAGE(D$79:D368)","v":3773.3364316742995},{"$f":"AVERAGE(M$79:M368)","v":3781.2897326232119},3776.2778578541852,{"$f":"AVERAGE(P$79:P368)","v":3747.4306616943304},633,null,null,null,null,null,null,0,633,-830.1631037846762,null,null,null,null,null,null,null,null,null,null,null,null,null,40098.109004629092,{"$f":"LOOKUP($AO368,Data!$A$6:$A$1806,Data!$B$6:$B$1806)","v":59.965000152587891},{"$f":"LOOKUP($AO368,Data!$A$6:$A$1806,Data!$C$6:$C$1806)","v":3776.42919921875},{"$f":"LOOKUP($AO368,Data!$A$6:$A$1806,Data!$D$6:$D$1806)","v":350},{"$f":"IF($AS$1=\"+\",LOOKUP($AO368,Data!$A$6:$A$1806,Data!$E$6:$E$1806)*-1,LOOKUP($AO368,Data!$A$6:$A$1806,Data!$E$6:$E$1806))","v":-256.57159423828125},{"$f":"LOOKUP($AO368,Data!$A$6:$A$1806,Data!$F$6:$F$1806)","v":0},{"$f":"LOOKUP($AO368,Data!$A$6:$A$1806,Data!$G$6:$G$1806)","v":149.5},{"$f":"LOOKUP($AO368,Data!$A$6:$A$1806,Data!$H$6:$H$1806)","v":10},{"$f":"LOOKUP($AO368,Data!$A$6:$A$1806,Data!$I$6:$I$1806)","v":15},{"$f":"LOOKUP($AO368,Data!$A$6:$A$1806,Data!$J$6:$J$1806)","v":-103},{"$f":"LOOKUP($AO368,Data!$A$6:$A$1806,Data!$K$6:$K$1806)","v":7598.67},27.9998779296875]
[null,40098.109027777238,{"$f":"LOOKUP(B369,Data!$A$6:$A$1806,Data!B$6:B$1806)","v":59.965000152587891},{"$f":"LOOKUP(B369,Data!$A$6:$A$1806,Data!C$6:C$1806)","v":3776.42919921875},null,null,null,27.9998779296875,27.016213495275355,null,null,0,3803.9891918816497,{"$f":"AVERAGE(D$79:D369)","v":3773.3470597414625},{"$f":"AVERAGE(M$79:M369)","v":3781.3677376378455},3776.2778578541852,{"$f":"AVERAGE(P$79:P369)","v":3747.530134784537},633,null,null,null,null,null,null,0,633,-830.1631037846762,null,null,null,null,null,null,null,null,null,null,null,null,null,40098.109027777238,{"$f":"LOOKUP($AO369,Data!$A$6:$A$1806,Data!$B$6:$B$1806)","v":59.965000152587891},{"$f":"LOOKUP($AO369,Data!$A$6:$A$1806,Data!$C$6:$C$1806)","v":3776.42919921875},{"$f":"LOOKUP($AO369,Data!$A$6:$A$1806,Data!$D$6:$D$1806)","v":350},{"$f":"IF($AS$1=\"+\",LOOKUP($AO369,Data!$A$6:$A$1806,Data!$E$6:$E$1806)*-1,LOOKUP($AO369,Data!$A$6:$A$1806,Data!$E$6:$E$1806))","v":-256.57159423828125},{"$f":"LOOKUP($AO369,Data!$A$6:$A$1806,Data!$F$6:$F$1806)","v":0},{"$f":"LOOKUP($AO369,Data!$A$6:$A$1806,Data!$G$6:$G$1806)","v":149.5},{"$f":"LOOKUP($AO369,Data!$A$6:$A$1806,Data!$H$6:$H$1806)","v":10},{"$f":"LOOKUP($AO369,Data!$A$6:$A$1806,Data!$I$6:$I$1806)","v":15},{"$f":"LOOKUP($AO369,Data!$A$6:$A$1806,Data!$J$6:$J$1806)","v":-103},{"$f":"LOOKUP($AO369,Data!$A$6:$A$1806,Data!$K$6:$K$1806)","v":7598.67},27.9998779296875]
[null,40098.109050925385,{"$f":"LOOKUP(B370,Data!$A$6:$A$1806,Data!B$6:B$1806)","v":59.970001220703125},{"$f":"LOOKUP(B370,Data!$A$6:$A$1806,Data!C$6:C$1806)","v":3776.5966796875},null,null,null,23.9990234375,25.960196975053982,null,null,0,3802.9331753614283,{"$f":"AVERAGE(D$79:D370)","v":3773.3581885768945},{"$f":"AVERAGE(M$79:M370)","v":3781.4415918766254},3776.2778578541852,{"$f":"AVERAGE(P$79:P370)","v":3747.6289242108933},633,null,null,null,null,null,null,0,633,-888.43341989024225,null,null,null,null,null,null,null,null,null,null,null,null,null,40098.109050925385,{"$f":"LOOKUP($AO370,Data!$A$6:$A$1806,Data!$B$6:$B$1806)","v":59.970001220703125},{"$f":"LOOKUP($AO370,Data!$A$6:$A$1806,Data!$C$6:$C$1806)","v":3776.5966796875},{"$f":"LOOKUP($AO370,Data!$A$6:$A$1806,Data!$D$6:$D$1806)","v":350},{"$f":"IF($AS$1=\"+\",LOOKUP($AO370,Data!$A$6:$A$1806,Data!$E$6:$E$1806)*-1,LOOKUP($AO370,Data!$A$6:$A$1806,Data!$E$6:$E$1806))","v":-256.57159423828125},{"$f":"LOOKUP($AO370,Data!$A$6:$A$1806,Data!$F$6:$F$1806)","v":0},{"$f":"LOOKUP($AO370,Data!$A$6:$A$1806,Data!$G$6:$G$1806)","v":150},{"$f":"LOOKUP($AO370,Data!$A$6:$A$1806,Data!$H$6:$H$1806)","v":10},{"$f":"LOOKUP($AO370,Data!$A$6:$A$1806,Data!$I$6:$I$1806)","v":15},{"$f":"LOOKUP($AO370,Data!$A$6:$A$1806,Data!$J$6:$J$1806)","v":-103},{"$f":"LOOKUP($AO370,Data!$A$6:$A$1806,Data!$K$6:$K$1806)","v":7599},23.9990234375]
[null,40098.109074073531,{"$f":"LOOKUP(B371,Data!$A$6:$A$1806,Data!B$6:B$1806)","v":59.970001220703125},{"$f":"LOOKUP(B371,Data!$A$6:$A$1806,Data!C$6:C$1806)","v":3776.5966796875},null,null,null,23.9990234375,25.273786236910087,null,null,0,3802.2467646232844,{"$f":"AVERAGE(D$79:D371)","v":3773.369241447579},{"$f":"AVERAGE(M$79:M371)","v":3781.512599292143},3776.2778578541852,{"$f":"AVERAGE(P$79:P371)","v":3747.7270369973435},633,null,null,null,null,null,null,0,633,-888.43341989024225,null,null,null,null,null,null,null,null,null,null,null,null,null,40098.109074073531,{"$f":"LOOKUP($AO371,Data!$A$6:$A$1806,Data!$B$6:$B$1806)","v":59.970001220703125},{"$f":"LOOKUP($AO371,Data!$A$6:$A$1806,Data!$C$6:$C$1806)","v":3776.5966796875},{"$f":"LOOKUP($AO371,Data!$A$6:$A$1806,Data!$D$6:$D$1806)","v":350},{"$f":"IF($AS$1=\"+\",LOOKUP($AO371,Data!$A$6:$A$1806,Data!$E$6:$E$1806)*-1,LOOKUP($AO371,Data!$A$6:$A$1806,Data!$E$6:$E$1806))","v":-256.57159423828125},{"$f":"LOOKUP($AO371,Data!$A$6:$A$1806,Data!$F$6:$F$1806)","v":0},{"$f":"LOOKUP($AO371,Data!$A$6:$A$1806,Data!$G$6:$G$1806)","v":150},{"$f":"LOOKUP($AO371,Data!$A$6:$A$1806,Data!$H$6:$H$1806)","v":10},{"$f":"LOOKUP($AO371,Data!$A$6:$A$1806,Data!$I$6:$I$1806)","v":15},{"$f":"LOOKUP($AO371,Data!$A$6:$A$1806,Data!$J$6:$J$1806)","v":-103},{"$f":"LOOKUP($AO371,Data!$A$6:$A$1806,Data!$K$6:$K$1806)","v":7599},23.9990234375]
[null,40098.109097221677,{"$f":"LOOKUP(B372,Data!$A$6:$A$1806,Data!B$6:B$1806)","v":59.969001770019531},{"$f":"LOOKUP(B372,Data!$A$6:$A$1806,Data!C$6:C$1806)","v":3773.169921875},null,null,null,24.798583984375,25.107465448522806,null,null,0,3802.0804438348973,{"$f":"AVERAGE(D$79:D372)","v":3773.3685634898488},{"$f":"AVERAGE(M$79:M372)","v":3781.5825579470502},3776.2778578541852,{"$f":"AVERAGE(P$79:P372)","v":3747.8244800719403},633,null,null,null,null,null,null,0,633,-876.14325615776556,null,null,null,null,null,null,null,null,null,null,null,null,null,40098.109097221677,{"$f":"LOOKUP($AO372,Data!$A$6:$A$1806,Data!$B$6:$B$1806)","v":59.969001770019531},{"$f":"LOOKUP($AO372,Data!$A$6:$A$1806,Data!$C$6:$C$1806)","v":3773.169921875},{"$f":"LOOKUP($AO372,Data!$A$6:$A$1806,Data!$D$6:$D$1806)","v":350},{"$f":"IF($AS$1=\"+\",LOOKUP($AO372,Data!$A$6:$A$1806,Data!$E$6:$E$1806)*-1,LOOKUP($AO372,Data!$A$6:$A$1806,Data!$E$6:$E$1806))","v":-256.57159423828125},{"$f":"LOOKUP($AO372,Data!$A$6:$A$1806,Data!$F$6:$F$1806)","v":0},{"$f":"LOOKUP($AO372,Data!$A$6:$A$1806,Data!$G$6:$G$1806)","v":150.5},{"$f":"LOOKUP($AO372,Data!$A$6:$A$1806,Data!$H$6:$H$1806)","v":10},{"$f":"LOOKUP($AO372,Data!$A$6:$A$1806,Data!$I$6:$I$1806)","v":15},{"$f":"LOOKUP($AO372,Data!$A$6:$A$1806,Data!$J$6:$J$1806)","v":-103},{"$f":"LOOKUP($AO372,Data!$A$6:$A$1806,Data!$K$6:$K$1806)","v":7599.33},24.798583984375]
[null,40098.109120369823,{"$f":"LOOKUP(B373,Data!$A$6:$A$1806,Data!B$6:B$1806)","v":59.969001770019531},{"$f":"LOOKUP(B373,Data!$A$6:$A$1806,Data!C$6:C$1806)","v":3773.169921875},null,null,null,24.798583984375,24.999356936071074,null,null,0,3801.9723353224458,{"$f":"AVERAGE(D$79:D373)","v":3773.3678901284429},{"$f":"AVERAGE(M$79:M373)","v":3781.6516758364587},3776.2778578541852,{"$f":"AVERAGE(P$79:P373)","v":3747.9212602684788},633,null,null,null,null,null,null,0,633,-876.14325615776556,null,null,null,null,null,null,null,null,null,null,null,null,null,40098.109120369823,{"$f":"LOOKUP($AO373,Data!$A$6:$A$1806,Data!$B$6:$B$1806)","v":59.969001770019531},{"$f":"LOOKUP($AO373,Data!$A$6:$A$1806,Data!$C$6:$C$1806)","v":3773.169921875},{"$f":"LOOKUP($AO373,Data!$A$6:$A$1806,Data!$D$6:$D$1806)","v":350},{"$f":"IF($AS$1=\"+\",LOOKUP($AO373,Data!$A$6:$A$1806,Data!$E$6:$E$1806)*-1,LOOKUP($AO373,Data!$A$6:$A$1806,Data!$E$6:$E$1806))","v":-256.57159423828125},{"$f":"LOOKUP($AO373,Data!$A$6:$A$1806,Data!$F$6:$F$1806)","v":0},{"$f":"LOOKUP($AO373,Data!$A$6:$A$1806,Data!$G$6:$G$1806)","v":150.5},{"$f":"LOOKUP($AO373,Data!$A$6:$A$1806,Data!$H$6:$H$1806)","v":10},{"$f":"LOOKUP($AO373,Data!$A$6:$A$1806,Data!$I$6:$I$1806)","v":15},{"$f":"LOOKUP($AO373,Data!$A$6:$A$1806,Data!$J$6:$J$1806)","v":-103},{"$f":"LOOKUP($AO373,Data!$A$6:$A$1806,Data!$K$6:$K$1806)","v":7599.33},24.798583984375]
[null,40098.10914351797,{"$f":"LOOKUP(B374,Data!$A$6:$A$1806,Data!B$6:B$1806)","v":59.969001770019531},{"$f":"LOOKUP(B374,Data!$A$6:$A$1806,Data!C$6:C$1806)","v":3773.169921875},null,null,null,24.798583984375,24.929086402977447,null,null,0,3801.9020647893522,{"$f":"AVERAGE(D$79:D374)","v":3773.3672213167756},{"$f":"AVERAGE(M$79:M374)","v":3781.7200893126505},3776.2778578541852,{"$f":"AVERAGE(P$79:P374)","v":3748.0173843280918},633,null,null,null,null,null,null,0,633,-876.14325615776556,null,null,null,null,null,null,null,null,null,null,null,null,null,40098.10914351797,{"$f":"LOOKUP($AO374,Data!$A$6:$A$1806,Data!$B$6:$B$1806)","v":59.969001770019531},{"$f":"LOOKUP($AO374,Data!$A$6:$A$1806,Data!$C$6:$C$1806)","v":3773.169921875},{"$f":"LOOKUP($AO374,Data!$A$6:$A$1806,Data!$D$6:$D$1806)","v":350},{"$f":"IF($AS$1=\"+\",LOOKUP($AO374,Data!$A$6:$A$1806,Data!$E$6:$E$1806)*-1,LOOKUP($AO374,Data!$A$6:$A$1806,Data!$E$6:$E$1806))","v":-256.57159423828125},{"$f":"LOOKUP($AO374,Data!$A$6:$A$1806,Data!$F$6:$F$1806)","v":0},{"$f":"LOOKUP($AO374,Data!$A$6:$A$1806,Data!$G$6:$G$1806)","v":150.5},{"$f":"LOOKUP($AO374,Data!$A$6:$A$1806,Data!$H$6:$H$1806)","v":10},{"$f":"LOOKUP($AO374,Data!$A$6:$A$1806,Data!$I$6:$I$1806)","v":15},{"$f":"LOOKUP($AO374,Data!$A$6:$A$1806,Data!$J$6:$J$1806)","v":-103},{"$f":"LOOKUP($AO374,Data!$A$6:$A$1806,Data!$K$6:$K$1806)","v":7599.33},24.798583984375]
[null,40098.109166666116,{"$f":"LOOKUP(B375,Data!$A$6:$A$1806,Data!B$6:B$1806)","v":59.965000152587891},{"$f":"LOOKUP(B375,Data!$A$6:$A$1806,Data!C$6:C$1806)","v":3768.79296875},null,null,null,27.9998779296875,26.003863437325965,null,null,0,3802.9768418237009,{"$f":"AVERAGE(D$79:D375)","v":3773.351819792982},{"$f":"AVERAGE(M$79:M375)","v":3781.791660869927},3776.2778578541852,{"$f":"AVERAGE(P$79:P375)","v":3748.1128589008154},633,null,null,null,null,null,null,0,633,-830.1631037846762,null,null,null,null,null,null,null,null,null,null,null,null,null,40098.109166666116,{"$f":"LOOKUP($AO375,Data!$A$6:$A$1806,Data!$B$6:$B$1806)","v":59.965000152587891},{"$f":"LOOKUP($AO375,Data!$A$6:$A$1806,Data!$C$6:$C$1806)","v":3768.79296875},{"$f":"LOOKUP($AO375,Data!$A$6:$A$1806,Data!$D$6:$D$1806)","v":350},{"$f":"IF($AS$1=\"+\",LOOKUP($AO375,Data!$A$6:$A$1806,Data!$E$6:$E$1806)*-1,LOOKUP($AO375,Data!$A$6:$A$1806,Data!$E$6:$E$1806))","v":-256.57159423828125},{"$f":"LOOKUP($AO375,Data!$A$6:$A$1806,Data!$F$6:$F$1806)","v":0},{"$f":"LOOKUP($AO375,Data!$A$6:$A$1806,Data!$G$6:$G$1806)","v":151},{"$f":"LOOKUP($AO375,Data!$A$6:$A$1806,Data!$H$6:$H$1806)","v":10},{"$f":"LOOKUP($AO375,Data!$A$6:$A$1806,Data!$I$6:$I$1806)","v":15},{"$f":"LOOKUP($AO375,Data!$A$6:$A$1806,Data!$J$6:$J$1806)","v":-103},{"$f":"LOOKUP($AO375,Data!$A$6:$A$1806,Data!$K$6:$K$1806)","v":7599.66},27.9998779296875]
[null,40098.109189814262,{"$f":"LOOKUP(B376,Data!$A$6:$A$1806,Data!B$6:B$1806)","v":59.965000152587891},{"$f":"LOOKUP(B376,Data!$A$6:$A$1806,Data!C$6:C$1806)","v":3768.79296875},null,null,null,27.9998779296875,26.702468509652501,null,null,0,3803.6754468960276,{"$f":"AVERAGE(D$79:D376)","v":3773.3365216351194},{"$f":"AVERAGE(M$79:M376)","v":3781.8650963935047},3776.2778578541852,{"$f":"AVERAGE(P$79:P376)","v":3748.2076905471231},633,null,null,null,null,null,null,0,633,-830.1631037846762,null,null,null,null,null,null,null,null,null,null,null,null,null,40098.109189814262,{"$f":"LOOKUP($AO376,Data!$A$6:$A$1806,Data!$B$6:$B$1806)","v":59.965000152587891},{"$f":"LOOKUP($AO376,Data!$A$6:$A$1806,Data!$C$6:$C$1806)","v":3768.79296875},{"$f":"LOOKUP($AO376,Data!$A$6:$A$1806,Data!$D$6:$D$1806)","v":350},{"$f":"IF($AS$1=\"+\",LOOKUP($AO376,Data!$A$6:$A$1806,Data!$E$6:$E$1806)*-1,LOOKUP($AO376,Data!$A$6:$A$1806,Data!$E$6:$E$1806))","v":-256.57159423828125},{"$f":"LOOKUP($AO376,Data!$A$6:$A$1806,Data!$F$6:$F$1806)","v":0},{"$f":"LOOKUP($AO376,Data!$A$6:$A$1806,Data!$G$6:$G$1806)","v":151},{"$f":"LOOKUP($AO376,Data!$A$6:$A$1806,Data!$H$6:$H$1806)","v":10},{"$f":"LOOKUP($AO376,Data!$A$6:$A$1806,Data!$I$6:$I$1806)","v":15},{"$f":"LOOKUP($AO376,Data!$A$6:$A$1806,Data!$J$6:$J$1806)","v":-103},{"$f":"LOOKUP($AO376,Data!$A$6:$A$1806,Data!$K$6:$K$1806)","v":7599.66},27.9998779296875]
[null,40098.109212962408,{"$f":"LOOKUP(B377,Data!$A$6:$A$1806,Data!B$6:B$1806)","v":59.972999572753906},{"$f":"LOOKUP(B377,Data!$A$6:$A$1806,Data!C$6:C$1806)","v":3767.3662109375},null,null,null,21.600341796875,24.916724160180376,null,null,0,3801.8897025465553,{"$f":"AVERAGE(D$79:D377)","v":3773.3165540408131},{"$f":"AVERAGE(M$79:M377)","v":3781.9320683204382},3776.2778578541852,{"$f":"AVERAGE(P$79:P377)","v":3748.3018857394291},633,null,null,null,null,null,null,0,633,-927.46361121202801,null,null,null,null,null,null,null,null,null,null,null,null,null,40098.109212962408,{"$f":"LOOKUP($AO377,Data!$A$6:$A$1806,Data!$B$6:$B$1806)","v":59.972999572753906},{"$f":"LOOKUP($AO377,Data!$A$6:$A$1806,Data!$C$6:$C$1806)","v":3767.3662109375},{"$f":"LOOKUP($AO377,Data!$A$6:$A$1806,Data!$D$6:$D$1806)","v":350},{"$f":"IF($AS$1=\"+\",LOOKUP($AO377,Data!$A$6:$A$1806,Data!$E$6:$E$1806)*-1,LOOKUP($AO377,Data!$A$6:$A$1806,Data!$E$6:$E$1806))","v":-258.37261962890625},{"$f":"LOOKUP($AO377,Data!$A$6:$A$1806,Data!$F$6:$F$1806)","v":0},{"$f":"LOOKUP($AO377,Data!$A$6:$A$1806,Data!$G$6:$G$1806)","v":151.5},{"$f":"LOOKUP($AO377,Data!$A$6:$A$1806,Data!$H$6:$H$1806)","v":10},{"$f":"LOOKUP($AO377,Data!$A$6:$A$1806,Data!$I$6:$I$1806)","v":15},{"$f":"LOOKUP($AO377,Data!$A$6:$A$1806,Data!$J$6:$J$1806)","v":-103},{"$f":"LOOKUP($AO377,Data!$A$6:$A$1806,Data!$K$6:$K$1806)","v":7599.99},21.600341796875]
[null,40098.109236110555,{"$f":"LOOKUP(B378,Data!$A$6:$A$1806,Data!B$6:B$1806)","v":59.972999572753906},{"$f":"LOOKUP(B378,Data!$A$6:$A$1806,Data!C$6:C$1806)","v":3767.3662109375},null,null,null,21.600341796875,23.755990333023494,null,null,0,3800.7289687193984,{"$f":"AVERAGE(D$79:D378)","v":3773.2967195638021},{"$f":"AVERAGE(M$79:M378)","v":3781.9947246551019},3776.2778578541852,{"$f":"AVERAGE(P$79:P378)","v":3748.3954508635588},633,null,null,null,null,null,null,0,633,-927.46361121202801,null,null,null,null,null,null,null,null,null,null,null,null,null,40098.109236110555,{"$f":"LOOKUP($AO378,Data!$A$6:$A$1806,Data!$B$6:$B$1806)","v":59.972999572753906},{"$f":"LOOKUP($AO378,Data!$A$6:$A$1806,Data!$C$6:$C$1806)","v":3767.3662109375},{"$f":"LOOKUP($AO378,Data!$A$6:$A$1806,Data!$D$6:$D$1806)","v":350},{"$f":"IF($AS$1=\"+\",LOOKUP($AO378,Data!$A$6:$A$1806,Data!$E$6:$E$1806)*-1,LOOKUP($AO378,Data!$A$6:$A$1806,Data!$E$6:$E$1806))","v":-258.37261962890625},{"$f":"LOOKUP($AO378,Data!$A$6:$A$1806,Data!$F$6:$F$1806)","v":0},{"$f":"LOOKUP($AO378,Data!$A$6:$A$1806,Data!$G$6:$G$1806)","v":151.5},{"$f":"LOOKUP($AO378,Data!$A$6:$A$1806,Data!$H$6:$H$1806)","v":10},{"$f":"LOOKUP($AO378,Data!$A$6:$A$1806,Data!$I$6:$I$1806)","v":15},{"$f":"LOOKUP($AO378,Data!$A$6:$A$1806,Data!$J$6:$J$1806)","v":-103},{"$f":"LOOKUP($AO378,Data!$A$6:$A$1806,Data!$K$6:$K$1806)","v":7599.99},21.600341796875]
[null,40098.109259258701,{"$f":"LOOKUP(B379,Data!$A$6:$A$1806,Data!B$6:B$1806)","v":59.972999572753906},{"$f":"LOOKUP(B379,Data!$A$6:$A$1806,Data!C$6:C$1806)","v":3767.3662109375},null,null,null,21.600341796875,23.001513345371521,null,null,0,3799.9744917317462,{"$f":"AVERAGE(D$79:D379)","v":3773.2770168773359},{"$f":"AVERAGE(M$79:M379)","v":3782.0544581005388},3776.2778578541852,{"$f":"AVERAGE(P$79:P379)","v":3748.4883922201948},633,null,null,null,null,null,null,0,633,-927.46361121202801,null,null,null,null,null,null,null,null,null,null,null,null,null,40098.109259258701,{"$f":"LOOKUP($AO379,Data!$A$6:$A$1806,Data!$B$6:$B$1806)","v":59.972999572753906},{"$f":"LOOKUP($AO379,Data!$A$6:$A$1806,Data!$C$6:$C$1806)","v":3767.3662109375},{"$f":"LOOKUP($AO379,Data!$A$6:$A$1806,Data!$D$6:$D$1806)","v":350},{"$f":"IF($AS$1=\"+\",LOOKUP($AO379,Data!$A$6:$A$1806,Data!$E$6:$E$1806)*-1,LOOKUP($AO379,Data!$A$6:$A$1806,Data!$E$6:$E$1806))","v":-258.37261962890625},{"$f":"LOOKUP($AO379,Data!$A$6:$A$1806,Data!$F$6:$F$1806)","v":0},{"$f":"LOOKUP($AO379,Data!$A$6:$A$1806,Data!$G$6:$G$1806)","v":151.5},{"$f":"LOOKUP($AO379,Data!$A$6:$A$1806,Data!$H$6:$H$1806)","v":10},{"$f":"LOOKUP($AO379,Data!$A$6:$A$1806,Data!$I$6:$I$1806)","v":15},{"$f":"LOOKUP($AO379,Data!$A$6:$A$1806,Data!$J$6:$J$1806)","v":-103},{"$f":"LOOKUP($AO379,Data!$A$6:$A$1806,Data!$K$6:$K$1806)","v":7599.99},21.600341796875]
[null,40098.109282406847,{"$f":"LOOKUP(B380,Data!$A$6:$A$1806,Data!B$6:B$1806)","v":59.967998504638672},{"$f":"LOOKUP(B380,Data!$A$6:$A$1806,Data!C$6:C$1806)","v":3760.29541015625},null,null,null,25.6011962890625,23.911402375663364,null,null,0,3800.8843807620378,{"$f":"AVERAGE(D$79:D380)","v":3773.2340314246171},{"$f":"AVERAGE(M$79:M380)","v":3782.1168088378286},3776.2778578541852,{"$f":"AVERAGE(P$79:P380)","v":3748.580716026288},633,null,null,null,null,null,null,0,633,-864.14348131753673,null,null,null,null,null,null,null,null,null,null,null,null,null,40098.109282406847,{"$f":"LOOKUP($AO380,Data!$A$6:$A$1806,Data!$B$6:$B$1806)","v":59.967998504638672},{"$f":"LOOKUP($AO380,Data!$A$6:$A$1806,Data!$C$6:$C$1806)","v":3760.29541015625},{"$f":"LOOKUP($AO380,Data!$A$6:$A$1806,Data!$D$6:$D$1806)","v":350},{"$f":"IF($AS$1=\"+\",LOOKUP($AO380,Data!$A$6:$A$1806,Data!$E$6:$E$1806)*-1,LOOKUP($AO380,Data!$A$6:$A$1806,Data!$E$6:$E$1806))","v":-258.37261962890625},{"$f":"LOOKUP($AO380,Data!$A$6:$A$1806,Data!$F$6:$F$1806)","v":0},{"$f":"LOOKUP($AO380,Data!$A$6:$A$1806,Data!$G$6:$G$1806)","v":152},{"$f":"LOOKUP($AO380,Data!$A$6:$A$1806,Data!$H$6:$H$1806)","v":10},{"$f":"LOOKUP($AO380,Data!$A$6:$A$1806,Data!$I$6:$I$1806)","v":15},{"$f":"LOOKUP($AO380,Data!$A$6:$A$1806,Data!$J$6:$J$1806)","v":-103},{"$f":"LOOKUP($AO380,Data!$A$6:$A$1806,Data!$K$6:$K$1806)","v":7600.32},25.6011962890625]
[null,40098.109305554994,{"$f":"LOOKUP(B381,Data!$A$6:$A$1806,Data!B$6:B$1806)","v":59.967998504638672},{"$f":"LOOKUP(B381,Data!$A$6:$A$1806,Data!C$6:C$1806)","v":3760.29541015625},null,null,null,25.6011962890625,24.50283024535306,null,null,0,3801.4758086317274,{"$f":"AVERAGE(D$79:D381)","v":3773.1913297042597},{"$f":"AVERAGE(M$79:M381)","v":3782.1806999262571},3776.2778578541852,{"$f":"AVERAGE(P$79:P381)","v":3748.6724284164466},633,null,null,null,null,null,null,0,633,-864.14348131753673,null,null,null,null,null,null,null,null,null,null,null,null,null,40098.109305554994,{"$f":"LOOKUP($AO381,Data!$A$6:$A$1806,Data!$B$6:$B$1806)","v":59.967998504638672},{"$f":"LOOKUP($AO381,Data!$A$6:$A$1806,Data!$C$6:$C$1806)","v":3760.29541015625},{"$f":"LOOKUP($AO381,Data!$A$6:$A$1806,Data!$D$6:$D$1806)","v":350},{"$f":"IF($AS$1=\"+\",LOOKUP($AO381,Data!$A$6:$A$1806,Data!$E$6:$E$1806)*-1,LOOKUP($AO381,Data!$A$6:$A$1806,Data!$E$6:$E$1806))","v":-258.37261962890625},{"$f":"LOOKUP($AO381,Data!$A$6:$A$1806,Data!$F$6:$F$1806)","v":0},{"$f":"LOOKUP($AO381,Data!$A$6:$A$1806,Data!$G$6:$G$1806)","v":152},{"$f":"LOOKUP($AO381,Data!$A$6:$A$1806,Data!$H$6:$H$1806)","v":10},{"$f":"LOOKUP($AO381,Data!$A$6:$A$1806,Data!$I$6:$I$1806)","v":15},{"$f":"LOOKUP($AO381,Data!$A$6:$A$1806,Data!$J$6:$J$1806)","v":-103},{"$f":"LOOKUP($AO381,Data!$A$6:$A$1806,Data!$K$6:$K$1806)","v":7600.32},25.6011962890625]
[null,40098.10932870314,{"$f":"LOOKUP(B382,Data!$A$6:$A$1806,Data!B$6:B$1806)","v":59.966999053955078},{"$f":"LOOKUP(B382,Data!$A$6:$A$1806,Data!C$6:C$1806)","v":3761.776611328125},null,null,null,26.4007568359375,25.167104552057616,null,null,0,3802.140082938432,{"$f":"AVERAGE(D$79:D382)","v":3773.1537812885485},{"$f":"AVERAGE(M$79:M382)","v":3782.2463557914284},3776.2778578541852,{"$f":"AVERAGE(P$79:P382)","v":3748.7635354442941},633,null,null,null,null,null,null,0,633,-852.51176243931263,null,null,null,null,null,null,null,null,null,null,null,null,null,40098.10932870314,{"$f":"LOOKUP($AO382,Data!$A$6:$A$1806,Data!$B$6:$B$1806)","v":59.966999053955078},{"$f":"LOOKUP($AO382,Data!$A$6:$A$1806,Data!$C$6:$C$1806)","v":3761.776611328125},{"$f":"LOOKUP($AO382,Data!$A$6:$A$1806,Data!$D$6:$D$1806)","v":350},{"$f":"IF($AS$1=\"+\",LOOKUP($AO382,Data!$A$6:$A$1806,Data!$E$6:$E$1806)*-1,LOOKUP($AO382,Data!$A$6:$A$1806,Data!$E$6:$E$1806))","v":-258.37261962890625},{"$f":"LOOKUP($AO382,Data!$A$6:$A$1806,Data!$F$6:$F$1806)","v":0},{"$f":"LOOKUP($AO382,Data!$A$6:$A$1806,Data!$G$6:$G$1806)","v":152.5},{"$f":"LOOKUP($AO382,Data!$A$6:$A$1806,Data!$H$6:$H$1806)","v":10},{"$f":"LOOKUP($AO382,Data!$A$6:$A$1806,Data!$I$6:$I$1806)","v":15},{"$f":"LOOKUP($AO382,Data!$A$6:$A$1806,Data!$J$6:$J$1806)","v":-103},{"$f":"LOOKUP($AO382,Data!$A$6:$A$1806,Data!$K$6:$K$1806)","v":7600.65},26.4007568359375]
[null,40098.109351851286,{"$f":"LOOKUP(B383,Data!$A$6:$A$1806,Data!B$6:B$1806)","v":59.966999053955078},{"$f":"LOOKUP(B383,Data!$A$6:$A$1806,Data!C$6:C$1806)","v":3761.776611328125},null,null,null,26.4007568359375,25.598882851415574,null,null,0,3802.57186123779,{"$f":"AVERAGE(D$79:D383)","v":3773.116479091957},{"$f":"AVERAGE(M$79:M383)","v":3782.3129967928917},3776.2778578541852,{"$f":"AVERAGE(P$79:P383)","v":3748.8540430838007},633,null,null,null,null,null,null,0,633,-852.51176243931263,null,null,null,null,null,null,null,null,null,null,null,null,null,40098.109351851286,{"$f":"LOOKUP($AO383,Data!$A$6:$A$1806,Data!$B$6:$B$1806)","v":59.966999053955078},{"$f":"LOOKUP($AO383,Data!$A$6:$A$1806,Data!$C$6:$C$1806)","v":3761.776611328125},{"$f":"LOOKUP($AO383,Data!$A$6:$A$1806,Data!$D$6:$D$1806)","v":350},{"$f":"IF($AS$1=\"+\",LOOKUP($AO383,Data!$A$6:$A$1806,Data!$E$6:$E$1806)*-1,LOOKUP($AO383,Data!$A$6:$A$1806,Data!$E$6:$E$1806))","v":-258.37261962890625},{"$f":"LOOKUP($AO383,Data!$A$6:$A$1806,Data!$F$6:$F$1806)","v":0},{"$f":"LOOKUP($AO383,Data!$A$6:$A$1806,Data!$G$6:$G$1806)","v":152.5},{"$f":"LOOKUP($AO383,Data!$A$6:$A$1806,Data!$H$6:$H$1806)","v":10},{"$f":"LOOKUP($AO383,Data!$A$6:$A$1806,Data!$I$6:$I$1806)","v":15},{"$f":"LOOKUP($AO383,Data!$A$6:$A$1806,Data!$J$6:$J$1806)","v":-103},{"$f":"LOOKUP($AO383,Data!$A$6:$A$1806,Data!$K$6:$K$1806)","v":7600.65},26.4007568359375]
[null,40098.109374999432,{"$f":"LOOKUP(B384,Data!$A$6:$A$1806,Data!B$6:B$1806)","v":59.966999053955078},{"$f":"LOOKUP(B384,Data!$A$6:$A$1806,Data!C$6:C$1806)","v":3761.776611328125},null,null,null,26.4007568359375,25.87953874599825,null,null,0,3802.8525171323727,{"$f":"AVERAGE(D$79:D384)","v":3773.079420700572},{"$f":"AVERAGE(M$79:M384)","v":3782.3801194083803},3776.2778578541852,{"$f":"AVERAGE(P$79:P384)","v":3748.9439572305891},633,null,null,null,null,null,null,0,633,-852.51176243931263,null,null,null,null,null,null,null,null,null,null,null,null,null,40098.109374999432,{"$f":"LOOKUP($AO384,Data!$A$6:$A$1806,Data!$B$6:$B$1806)","v":59.966999053955078},{"$f":"LOOKUP($AO384,Data!$A$6:$A$1806,Data!$C$6:$C$1806)","v":3761.776611328125},{"$f":"LOOKUP($AO384,Data!$A$6:$A$1806,Data!$D$6:$D$1806)","v":350},{"$f":"IF($AS$1=\"+\",LOOKUP($AO384,Data!$A$6:$A$1806,Data!$E$6:$E$1806)*-1,LOOKUP($AO384,Data!$A$6:$A$1806,Data!$E$6:$E$1806))","v":-258.37261962890625},{"$f":"LOOKUP($AO384,Data!$A$6:$A$1806,Data!$F$6:$F$1806)","v":0},{"$f":"LOOKUP($AO384,Data!$A$6:$A$1806,Data!$G$6:$G$1806)","v":152.5},{"$f":"LOOKUP($AO384,Data!$A$6:$A$1806,Data!$H$6:$H$1806)","v":10},{"$f":"LOOKUP($AO384,Data!$A$6:$A$1806,Data!$I$6:$I$1806)","v":15},{"$f":"LOOKUP($AO384,Data!$A$6:$A$1806,Data!$J$6:$J$1806)","v":-103},{"$f":"LOOKUP($AO384,Data!$A$6:$A$1806,Data!$K$6:$K$1806)","v":7600.65},26.4007568359375]
[null,40098.109398147579,{"$f":"LOOKUP(B385,Data!$A$6:$A$1806,Data!B$6:B$1806)","v":59.979000091552734},{"$f":"LOOKUP(B385,Data!$A$6:$A$1806,Data!C$6:C$1806)","v":3760.157470703125},null,null,null,16.7999267578125,22.701674550133237,null,null,0,3799.6746529365078,{"$f":"AVERAGE(D$79:D385)","v":3773.0373296582347},{"$f":"AVERAGE(M$79:M385)","v":3782.4364533938137},3776.2778578541852,{"$f":"AVERAGE(P$79:P385)","v":3749.0332837032156},633,null,null,null,null,null,null,0,633,-1016.8652265833257,null,null,null,null,null,null,null,null,null,null,null,null,null,40098.109398147579,{"$f":"LOOKUP($AO385,Data!$A$6:$A$1806,Data!$B$6:$B$1806)","v":59.979000091552734},{"$f":"LOOKUP($AO385,Data!$A$6:$A$1806,Data!$C$6:$C$1806)","v":3760.157470703125},{"$f":"LOOKUP($AO385,Data!$A$6:$A$1806,Data!$D$6:$D$1806)","v":350},{"$f":"IF($AS$1=\"+\",LOOKUP($AO385,Data!$A$6:$A$1806,Data!$E$6:$E$1806)*-1,LOOKUP($AO385,Data!$A$6:$A$1806,Data!$E$6:$E$1806))","v":-258.37261962890625},{"$f":"LOOKUP($AO385,Data!$A$6:$A$1806,Data!$F$6:$F$1806)","v":0},{"$f":"LOOKUP($AO385,Data!$A$6:$A$1806,Data!$G$6:$G$1806)","v":153},{"$f":"LOOKUP($AO385,Data!$A$6:$A$1806,Data!$H$6:$H$1806)","v":10},{"$f":"LOOKUP($AO385,Data!$A$6:$A$1806,Data!$I$6:$I$1806)","v":15},{"$f":"LOOKUP($AO385,Data!$A$6:$A$1806,Data!$J$6:$J$1806)","v":-103},{"$f":"LOOKUP($AO385,Data!$A$6:$A$1806,Data!$K$6:$K$1806)","v":7600.98},16.7999267578125]
[null,40098.109421295725,{"$f":"LOOKUP(B386,Data!$A$6:$A$1806,Data!B$6:B$1806)","v":59.979000091552734},{"$f":"LOOKUP(B386,Data!$A$6:$A$1806,Data!C$6:C$1806)","v":3760.157470703125},null,null,null,16.7999267578125,20.636062822820982,null,null,0,3797.6090412091953,{"$f":"AVERAGE(D$79:D386)","v":3772.9955119343549},{"$f":"AVERAGE(M$79:M386)","v":3782.4857150425646},3776.2778578541852,{"$f":"AVERAGE(P$79:P386)","v":3749.1220282444242},633,null,null,null,null,null,null,0,633,-1016.8652265833257,null,null,null,null,null,null,null,null,null,null,null,null,null,40098.109421295725,{"$f":"LOOKUP($AO386,Data!$A$6:$A$1806,Data!$B$6:$B$1806)","v":59.979000091552734},{"$f":"LOOKUP($AO386,Data!$A$6:$A$1806,Data!$C$6:$C$1806)","v":3760.157470703125},{"$f":"LOOKUP($AO386,Data!$A$6:$A$1806,Data!$D$6:$D$1806)","v":350},{"$f":"IF($AS$1=\"+\",LOOKUP($AO386,Data!$A$6:$A$1806,Data!$E$6:$E$1806)*-1,LOOKUP($AO386,Data!$A$6:$A$1806,Data!$E$6:$E$1806))","v":-258.37261962890625},{"$f":"LOOKUP($AO386,Data!$A$6:$A$1806,Data!$F$6:$F$1806)","v":0},{"$f":"LOOKUP($AO386,Data!$A$6:$A$1806,Data!$G$6:$G$1806)","v":153},{"$f":"LOOKUP($AO386,Data!$A$6:$A$1806,Data!$H$6:$H$1806)","v":10},{"$f":"LOOKUP($AO386,Data!$A$6:$A$1806,Data!$I$6:$I$1806)","v":15},{"$f":"LOOKUP($AO386,Data!$A$6:$A$1806,Data!$J$6:$J$1806)","v":-103},{"$f":"LOOKUP($AO386,Data!$A$6:$A$1806,Data!$K$6:$K$1806)","v":7600.98},16.7999267578125]
[null,40098.109444443871,{"$f":"LOOKUP(B387,Data!$A$6:$A$1806,Data!B$6:B$1806)","v":59.983001708984375},{"$f":"LOOKUP(B387,Data!$A$6:$A$1806,Data!C$6:C$1806)","v":3757.77294921875},null,null,null,13.5986328125,18.172962319208636,null,null,0,3795.1459407055831,{"$f":"AVERAGE(D$79:D387)","v":3772.9462479773465},{"$f":"AVERAGE(M$79:M387)","v":3782.5266866466523},3776.2778578541852,{"$f":"AVERAGE(P$79:P387)","v":3749.2101965223783},633,null,null,null,null,null,null,0,633,-1086.7228920396869,null,null,null,null,null,null,null,null,null,null,null,null,null,40098.109444443871,{"$f":"LOOKUP($AO387,Data!$A$6:$A$1806,Data!$B$6:$B$1806)","v":59.983001708984375},{"$f":"LOOKUP($AO387,Data!$A$6:$A$1806,Data!$C$6:$C$1806)","v":3757.77294921875},{"$f":"LOOKUP($AO387,Data!$A$6:$A$1806,Data!$D$6:$D$1806)","v":350},{"$f":"IF($AS$1=\"+\",LOOKUP($AO387,Data!$A$6:$A$1806,Data!$E$6:$E$1806)*-1,LOOKUP($AO387,Data!$A$6:$A$1806,Data!$E$6:$E$1806))","v":-258.37261962890625},{"$f":"LOOKUP($AO387,Data!$A$6:$A$1806,Data!$F$6:$F$1806)","v":0},{"$f":"LOOKUP($AO387,Data!$A$6:$A$1806,Data!$G$6:$G$1806)","v":153.5},{"$f":"LOOKUP($AO387,Data!$A$6:$A$1806,Data!$H$6:$H$1806)","v":10},{"$f":"LOOKUP($AO387,Data!$A$6:$A$1806,Data!$I$6:$I$1806)","v":15},{"$f":"LOOKUP($AO387,Data!$A$6:$A$1806,Data!$J$6:$J$1806)","v":-103},{"$f":"LOOKUP($AO387,Data!$A$6:$A$1806,Data!$K$6:$K$1806)","v":7601.31},13.5986328125]
[null,40098.109467592018,{"$f":"LOOKUP(B388,Data!$A$6:$A$1806,Data!B$6:B$1806)","v":59.983001708984375},{"$f":"LOOKUP(B388,Data!$A$6:$A$1806,Data!C$6:C$1806)","v":3757.77294921875},null,null,null,13.5986328125,16.571946991860614,null,null,0,3793.5449253782353,{"$f":"AVERAGE(D$79:D388)","v":3772.8973018523184},{"$f":"AVERAGE(M$79:M388)","v":3782.5622293522379},3776.2778578541852,{"$f":"AVERAGE(P$79:P388)","v":3749.2977941318663},633,null,null,null,null,null,null,0,633,-1086.7228920396869,null,null,null,null,null,null,null,null,null,null,null,null,null,40098.109467592018,{"$f":"LOOKUP($AO388,Data!$A$6:$A$1806,Data!$B$6:$B$1806)","v":59.983001708984375},{"$f":"LOOKUP($AO388,Data!$A$6:$A$1806,Data!$C$6:$C$1806)","v":3757.77294921875},{"$f":"LOOKUP($AO388,Data!$A$6:$A$1806,Data!$D$6:$D$1806)","v":350},{"$f":"IF($AS$1=\"+\",LOOKUP($AO388,Data!$A$6:$A$1806,Data!$E$6:$E$1806)*-1,LOOKUP($AO388,Data!$A$6:$A$1806,Data!$E$6:$E$1806))","v":-258.37261962890625},{"$f":"LOOKUP($AO388,Data!$A$6:$A$1806,Data!$F$6:$F$1806)","v":0},{"$f":"LOOKUP($AO388,Data!$A$6:$A$1806,Data!$G$6:$G$1806)","v":153.5},{"$f":"LOOKUP($AO388,Data!$A$6:$A$1806,Data!$H$6:$H$1806)","v":10},{"$f":"LOOKUP($AO388,Data!$A$6:$A$1806,Data!$I$6:$I$1806)","v":15},{"$f":"LOOKUP($AO388,Data!$A$6:$A$1806,Data!$J$6:$J$1806)","v":-103},{"$f":"LOOKUP($AO388,Data!$A$6:$A$1806,Data!$K$6:$K$1806)","v":7601.31},13.5986328125]
[null,40098.109490740164,{"$f":"LOOKUP(B389,Data!$A$6:$A$1806,Data!B$6:B$1806)","v":59.983001708984375},{"$f":"LOOKUP(B389,Data!$A$6:$A$1806,Data!C$6:C$1806)","v":3757.77294921875},null,null,null,13.5986328125,15.5312870290844,null,null,0,3792.504265415459,{"$f":"AVERAGE(D$79:D389)","v":3772.848670493368},{"$f":"AVERAGE(M$79:M389)","v":3782.5941973138561},3776.2778578541852,{"$f":"AVERAGE(P$79:P389)","v":3749.3848265954871},633,null,null,null,null,null,null,0,633,-1086.7228920396869,null,null,null,null,null,null,null,null,null,null,null,null,null,40098.109490740164,{"$f":"LOOKUP($AO389,Data!$A$6:$A$1806,Data!$B$6:$B$1806)","v":59.983001708984375},{"$f":"LOOKUP($AO389,Data!$A$6:$A$1806,Data!$C$6:$C$1806)","v":3757.77294921875},{"$f":"LOOKUP($AO389,Data!$A$6:$A$1806,Data!$D$6:$D$1806)","v":350},{"$f":"IF($AS$1=\"+\",LOOKUP($AO389,Data!$A$6:$A$1806,Data!$E$6:$E$1806)*-1,LOOKUP($AO389,Data!$A$6:$A$1806,Data!$E$6:$E$1806))","v":-258.37261962890625},{"$f":"LOOKUP($AO389,Data!$A$6:$A$1806,Data!$F$6:$F$1806)","v":0},{"$f":"LOOKUP($AO389,Data!$A$6:$A$1806,Data!$G$6:$G$1806)","v":153.5},{"$f":"LOOKUP($AO389,Data!$A$6:$A$1806,Data!$H$6:$H$1806)","v":10},{"$f":"LOOKUP($AO389,Data!$A$6:$A$1806,Data!$I$6:$I$1806)","v":15},{"$f":"LOOKUP($AO389,Data!$A$6:$A$1806,Data!$J$6:$J$1806)","v":-103},{"$f":"LOOKUP($AO389,Data!$A$6:$A$1806,Data!$K$6:$K$1806)","v":7601.31},13.5986328125]
[null,40098.10951388831,{"$f":"LOOKUP(B390,Data!$A$6:$A$1806,Data!B$6:B$1806)","v":59.965000152587891},{"$f":"LOOKUP(B390,Data!$A$6:$A$1806,Data!C$6:C$1806)","v":3753.08740234375},null,null,null,27.9998779296875,19.895293844295487,null,null,0,3796.8682722306703,{"$f":"AVERAGE(D$79:D390)","v":3772.7853330954526},{"$f":"AVERAGE(M$79:M390)","v":3782.6399475539743},3776.2778578541852,{"$f":"AVERAGE(P$79:P390)","v":3749.4712993648081},633,null,null,null,null,null,null,0,633,-830.1631037846762,null,null,null,null,null,null,null,null,null,null,null,null,null,40098.10951388831,{"$f":"LOOKUP($AO390,Data!$A$6:$A$1806,Data!$B$6:$B$1806)","v":59.965000152587891},{"$f":"LOOKUP($AO390,Data!$A$6:$A$1806,Data!$C$6:$C$1806)","v":3753.08740234375},{"$f":"LOOKUP($AO390,Data!$A$6:$A$1806,Data!$D$6:$D$1806)","v":350},{"$f":"IF($AS$1=\"+\",LOOKUP($AO390,Data!$A$6:$A$1806,Data!$E$6:$E$1806)*-1,LOOKUP($AO390,Data!$A$6:$A$1806,Data!$E$6:$E$1806))","v":-263.04736328125},{"$f":"LOOKUP($AO390,Data!$A$6:$A$1806,Data!$F$6:$F$1806)","v":0},{"$f":"LOOKUP($AO390,Data!$A$6:$A$1806,Data!$G$6:$G$1806)","v":154},{"$f":"LOOKUP($AO390,Data!$A$6:$A$1806,Data!$H$6:$H$1806)","v":10},{"$f":"LOOKUP($AO390,Data!$A$6:$A$1806,Data!$I$6:$I$1806)","v":15},{"$f":"LOOKUP($AO390,Data!$A$6:$A$1806,Data!$J$6:$J$1806)","v":-103},{"$f":"LOOKUP($AO390,Data!$A$6:$A$1806,Data!$K$6:$K$1806)","v":7601.64},27.9998779296875]
[null,40098.109537036456,{"$f":"LOOKUP(B391,Data!$A$6:$A$1806,Data!B$6:B$1806)","v":59.965000152587891},{"$f":"LOOKUP(B391,Data!$A$6:$A$1806,Data!C$6:C$1806)","v":3753.08740234375},null,null,null,27.9998779296875,22.73189827418269,null,null,0,3799.7048766605576,{"$f":"AVERAGE(D$79:D391)","v":3772.722400409345},{"$f":"AVERAGE(M$79:M391)","v":3782.6944680942511},3776.2778578541852,{"$f":"AVERAGE(P$79:P391)","v":3749.5572178215048},633,null,null,null,null,null,null,0,633,-830.1631037846762,null,null,null,null,null,null,null,null,null,null,null,null,null,40098.109537036456,{"$f":"LOOKUP($AO391,Data!$A$6:$A$1806,Data!$B$6:$B$1806)","v":59.965000152587891},{"$f":"LOOKUP($AO391,Data!$A$6:$A$1806,Data!$C$6:$C$1806)","v":3753.08740234375},{"$f":"LOOKUP($AO391,Data!$A$6:$A$1806,Data!$D$6:$D$1806)","v":350},{"$f":"IF($AS$1=\"+\",LOOKUP($AO391,Data!$A$6:$A$1806,Data!$E$6:$E$1806)*-1,LOOKUP($AO391,Data!$A$6:$A$1806,Data!$E$6:$E$1806))","v":-263.04736328125},{"$f":"LOOKUP($AO391,Data!$A$6:$A$1806,Data!$F$6:$F$1806)","v":0},{"$f":"LOOKUP($AO391,Data!$A$6:$A$1806,Data!$G$6:$G$1806)","v":154},{"$f":"LOOKUP($AO391,Data!$A$6:$A$1806,Data!$H$6:$H$1806)","v":10},{"$f":"LOOKUP($AO391,Data!$A$6:$A$1806,Data!$I$6:$I$1806)","v":15},{"$f":"LOOKUP($AO391,Data!$A$6:$A$1806,Data!$J$6:$J$1806)","v":-103},{"$f":"LOOKUP($AO391,Data!$A$6:$A$1806,Data!$K$6:$K$1806)","v":7601.64},27.9998779296875]
[null,40098.109560184603,{"$f":"LOOKUP(B392,Data!$A$6:$A$1806,Data!B$6:B$1806)","v":59.962001800537109},{"$f":"LOOKUP(B392,Data!$A$6:$A$1806,Data!C$6:C$1806)","v":3758.224609375},null,null,null,30.3985595703125,25.415229727828123,null,null,0,3802.3882081142028,{"$f":"AVERAGE(D$79:D392)","v":3772.6762291003183},{"$f":"AVERAGE(M$79:M392)","v":3782.7571870115121},3776.2778578541852,{"$f":"AVERAGE(P$79:P392)","v":3749.6425872784785},633,null,null,null,null,null,null,0,633,-798.7540109268574,null,null,null,null,null,null,null,null,null,null,null,null,null,40098.109560184603,{"$f":"LOOKUP($AO392,Data!$A$6:$A$1806,Data!$B$6:$B$1806)","v":59.962001800537109},{"$f":"LOOKUP($AO392,Data!$A$6:$A$1806,Data!$C$6:$C$1806)","v":3758.224609375},{"$f":"LOOKUP($AO392,Data!$A$6:$A$1806,Data!$D$6:$D$1806)","v":350},{"$f":"IF($AS$1=\"+\",LOOKUP($AO392,Data!$A$6:$A$1806,Data!$E$6:$E$1806)*-1,LOOKUP($AO392,Data!$A$6:$A$1806,Data!$E$6:$E$1806))","v":-263.04736328125},{"$f":"LOOKUP($AO392,Data!$A$6:$A$1806,Data!$F$6:$F$1806)","v":0},{"$f":"LOOKUP($AO392,Data!$A$6:$A$1806,Data!$G$6:$G$1806)","v":154.5},{"$f":"LOOKUP($AO392,Data!$A$6:$A$1806,Data!$H$6:$H$1806)","v":10},{"$f":"LOOKUP($AO392,Data!$A$6:$A$1806,Data!$I$6:$I$1806)","v":15},{"$f":"LOOKUP($AO392,Data!$A$6:$A$1806,Data!$J$6:$J$1806)","v":-103},{"$f":"LOOKUP($AO392,Data!$A$6:$A$1806,Data!$K$6:$K$1806)","v":7601.97},30.3985595703125]
[null,40098.109583332749,{"$f":"LOOKUP(B393,Data!$A$6:$A$1806,Data!B$6:B$1806)","v":59.962001800537109},{"$f":"LOOKUP(B393,Data!$A$6:$A$1806,Data!C$6:C$1806)","v":3758.224609375},null,null,null,30.3985595703125,27.159395172697657,null,null,0,3804.1323735590722,{"$f":"AVERAGE(D$79:D393)","v":3772.6303509424602},{"$f":"AVERAGE(M$79:M393)","v":3782.8250447465839},3776.2778578541852,{"$f":"AVERAGE(P$79:P393)","v":3749.7274129809493},633,null,null,null,null,null,null,0,633,-798.7540109268574,null,null,null,null,null,null,null,null,null,null,null,null,null,40098.109583332749,{"$f":"LOOKUP($AO393,Data!$A$6:$A$1806,Data!$B$6:$B$1806)","v":59.962001800537109},{"$f":"LOOKUP($AO393,Data!$A$6:$A$1806,Data!$C$6:$C$1806)","v":3758.224609375},{"$f":"LOOKUP($AO393,Data!$A$6:$A$1806,Data!$D$6:$D$1806)","v":350},{"$f":"IF($AS$1=\"+\",LOOKUP($AO393,Data!$A$6:$A$1806,Data!$E$6:$E$1806)*-1,LOOKUP($AO393,Data!$A$6:$A$1806,Data!$E$6:$E$1806))","v":-263.04736328125},{"$f":"LOOKUP($AO393,Data!$A$6:$A$1806,Data!$F$6:$F$1806)","v":0},{"$f":"LOOKUP($AO393,Data!$A$6:$A$1806,Data!$G$6:$G$1806)","v":154.5},{"$f":"LOOKUP($AO393,Data!$A$6:$A$1806,Data!$H$6:$H$1806)","v":10},{"$f":"LOOKUP($AO393,Data!$A$6:$A$1806,Data!$I$6:$I$1806)","v":15},{"$f":"LOOKUP($AO393,Data!$A$6:$A$1806,Data!$J$6:$J$1806)","v":-103},{"$f":"LOOKUP($AO393,Data!$A$6:$A$1806,Data!$K$6:$K$1806)","v":7601.97},30.3985595703125]
[null,40098.109606480895,{"$f":"LOOKUP(B394,Data!$A$6:$A$1806,Data!B$6:B$1806)","v":59.962001800537109},{"$f":"LOOKUP(B394,Data!$A$6:$A$1806,Data!C$6:C$1806)","v":3758.224609375},null,null,null,30.3985595703125,28.293102711862854,null,null,0,3805.2660810982375,{"$f":"AVERAGE(D$79:D394)","v":3772.5847631526899},{"$f":"AVERAGE(M$79:M394)","v":3782.8960606844057},3776.2778578541852,{"$f":"AVERAGE(P$79:P394)","v":3749.8117001075311},633,null,null,null,null,null,null,0,633,-798.7540109268574,null,null,null,null,null,null,null,null,null,null,null,null,null,40098.109606480895,{"$f":"LOOKUP($AO394,Data!$A$6:$A$1806,Data!$B$6:$B$1806)","v":59.962001800537109},{"$f":"LOOKUP($AO394,Data!$A$6:$A$1806,Data!$C$6:$C$1806)","v":3758.224609375},{"$f":"LOOKUP($AO394,Data!$A$6:$A$1806,Data!$D$6:$D$1806)","v":350},{"$f":"IF($AS$1=\"+\",LOOKUP($AO394,Data!$A$6:$A$1806,Data!$E$6:$E$1806)*-1,LOOKUP($AO394,Data!$A$6:$A$1806,Data!$E$6:$E$1806))","v":-263.04736328125},{"$f":"LOOKUP($AO394,Data!$A$6:$A$1806,Data!$F$6:$F$1806)","v":0},{"$f":"LOOKUP($AO394,Data!$A$6:$A$1806,Data!$G$6:$G$1806)","v":154.5},{"$f":"LOOKUP($AO394,Data!$A$6:$A$1806,Data!$H$6:$H$1806)","v":10},{"$f":"LOOKUP($AO394,Data!$A$6:$A$1806,Data!$I$6:$I$1806)","v":15},{"$f":"LOOKUP($AO394,Data!$A$6:$A$1806,Data!$J$6:$J$1806)","v":-103},{"$f":"LOOKUP($AO394,Data!$A$6:$A$1806,Data!$K$6:$K$1806)","v":7601.97},30.3985595703125]
[null,40098.109629629042,{"$f":"LOOKUP(B395,Data!$A$6:$A$1806,Data!B$6:B$1806)","v":59.959999084472656},{"$f":"LOOKUP(B395,Data!$A$6:$A$1806,Data!C$6:C$1806)","v":3758.041015625},null,null,null,32.000732421875,29.590773110367106,null,null,0,3806.5637514967416,{"$f":"AVERAGE(D$79:D395)","v":3772.5388838229496},{"$f":"AVERAGE(M$79:M395)","v":3782.9707221696181},3776.2778578541852,{"$f":"AVERAGE(P$79:P395)","v":3749.8954537712866},633,null,null,null,null,null,null,0,633,-779.06594990492738,null,null,null,null,null,null,null,null,null,null,null,null,null,40098.109629629042,{"$f":"LOOKUP($AO395,Data!$A$6:$A$1806,Data!$B$6:$B$1806)","v":59.959999084472656},{"$f":"LOOKUP($AO395,Data!$A$6:$A$1806,Data!$C$6:$C$1806)","v":3758.041015625},{"$f":"LOOKUP($AO395,Data!$A$6:$A$1806,Data!$D$6:$D$1806)","v":350},{"$f":"IF($AS$1=\"+\",LOOKUP($AO395,Data!$A$6:$A$1806,Data!$E$6:$E$1806)*-1,LOOKUP($AO395,Data!$A$6:$A$1806,Data!$E$6:$E$1806))","v":-263.04736328125},{"$f":"LOOKUP($AO395,Data!$A$6:$A$1806,Data!$F$6:$F$1806)","v":0},{"$f":"LOOKUP($AO395,Data!$A$6:$A$1806,Data!$G$6:$G$1806)","v":155},{"$f":"LOOKUP($AO395,Data!$A$6:$A$1806,Data!$H$6:$H$1806)","v":10},{"$f":"LOOKUP($AO395,Data!$A$6:$A$1806,Data!$I$6:$I$1806)","v":15},{"$f":"LOOKUP($AO395,Data!$A$6:$A$1806,Data!$J$6:$J$1806)","v":-103},{"$f":"LOOKUP($AO395,Data!$A$6:$A$1806,Data!$K$6:$K$1806)","v":7602.3},32.000732421875]
[null,40098.109652777188,{"$f":"LOOKUP(B396,Data!$A$6:$A$1806,Data!B$6:B$1806)","v":59.959999084472656},{"$f":"LOOKUP(B396,Data!$A$6:$A$1806,Data!C$6:C$1806)","v":3758.041015625},null,null,null,32.000732421875,30.434258869394871,null,null,0,3807.4072372557694,{"$f":"AVERAGE(D$79:D396)","v":3772.4932930424529},{"$f":"AVERAGE(M$79:M396)","v":3783.0475665566814},3776.2778578541852,{"$f":"AVERAGE(P$79:P396)","v":3749.97867902076},633,null,null,null,null,null,null,0,633,-779.06594990492738,null,null,null,null,null,null,null,null,null,null,null,null,null,40098.109652777188,{"$f":"LOOKUP($AO396,Data!$A$6:$A$1806,Data!$B$6:$B$1806)","v":59.959999084472656},{"$f":"LOOKUP($AO396,Data!$A$6:$A$1806,Data!$C$6:$C$1806)","v":3758.041015625},{"$f":"LOOKUP($AO396,Data!$A$6:$A$1806,Data!$D$6:$D$1806)","v":350},{"$f":"IF($AS$1=\"+\",LOOKUP($AO396,Data!$A$6:$A$1806,Data!$E$6:$E$1806)*-1,LOOKUP($AO396,Data!$A$6:$A$1806,Data!$E$6:$E$1806))","v":-263.04736328125},{"$f":"LOOKUP($AO396,Data!$A$6:$A$1806,Data!$F$6:$F$1806)","v":0},{"$f":"LOOKUP($AO396,Data!$A$6:$A$1806,Data!$G$6:$G$1806)","v":155},{"$f":"LOOKUP($AO396,Data!$A$6:$A$1806,Data!$H$6:$H$1806)","v":10},{"$f":"LOOKUP($AO396,Data!$A$6:$A$1806,Data!$I$6:$I$1806)","v":15},{"$f":"LOOKUP($AO396,Data!$A$6:$A$1806,Data!$J$6:$J$1806)","v":-103},{"$f":"LOOKUP($AO396,Data!$A$6:$A$1806,Data!$K$6:$K$1806)","v":7602.3},32.000732421875]
[null,40098.109675925334,{"$f":"LOOKUP(B397,Data!$A$6:$A$1806,Data!B$6:B$1806)","v":59.958999633789063},{"$f":"LOOKUP(B397,Data!$A$6:$A$1806,Data!C$6:C$1806)","v":3763.822265625},null,null,null,32.80029296875,31.262370804169166,null,null,0,3808.2353491905437,{"$f":"AVERAGE(D$79:D397)","v":3772.466111138323},{"$f":"AVERAGE(M$79:M397)","v":3783.126525122932},3776.2778578541852,{"$f":"AVERAGE(P$79:P397)","v":3750.0613808409912},633,null,null,null,null,null,null,0,633,-769.59929503976991,null,null,null,null,null,null,null,null,null,null,null,null,null,40098.109675925334,{"$f":"LOOKUP($AO397,Data!$A$6:$A$1806,Data!$B$6:$B$1806)","v":59.958999633789063},{"$f":"LOOKUP($AO397,Data!$A$6:$A$1806,Data!$C$6:$C$1806)","v":3763.822265625},{"$f":"LOOKUP($AO397,Data!$A$6:$A$1806,Data!$D$6:$D$1806)","v":350},{"$f":"IF($AS$1=\"+\",LOOKUP($AO397,Data!$A$6:$A$1806,Data!$E$6:$E$1806)*-1,LOOKUP($AO397,Data!$A$6:$A$1806,Data!$E$6:$E$1806))","v":-263.04736328125},{"$f":"LOOKUP($AO397,Data!$A$6:$A$1806,Data!$F$6:$F$1806)","v":0},{"$f":"LOOKUP($AO397,Data!$A$6:$A$1806,Data!$G$6:$G$1806)","v":155.5},{"$f":"LOOKUP($AO397,Data!$A$6:$A$1806,Data!$H$6:$H$1806)","v":10},{"$f":"LOOKUP($AO397,Data!$A$6:$A$1806,Data!$I$6:$I$1806)","v":15},{"$f":"LOOKUP($AO397,Data!$A$6:$A$1806,Data!$J$6:$J$1806)","v":-103},{"$f":"LOOKUP($AO397,Data!$A$6:$A$1806,Data!$K$6:$K$1806)","v":7602.63},32.80029296875]
[null,40098.10969907348,{"$f":"LOOKUP(B398,Data!$A$6:$A$1806,Data!B$6:B$1806)","v":59.958999633789063},{"$f":"LOOKUP(B398,Data!$A$6:$A$1806,Data!C$6:C$1806)","v":3763.822265625},null,null,null,32.80029296875,31.800643561772457,null,null,0,3808.7736219481471,{"$f":"AVERAGE(D$79:D398)","v":3772.4390991210939},{"$f":"AVERAGE(M$79:M398)","v":3783.2066723005109},3776.2778578541852,{"$f":"AVERAGE(P$79:P398)","v":3750.1435641545122},633,null,null,null,null,null,null,0,633,-769.59929503976991,null,null,null,null,null,null,null,null,null,null,null,null,null,40098.10969907348,{"$f":"LOOKUP($AO398,Data!$A$6:$A$1806,Data!$B$6:$B$1806)","v":59.958999633789063},{"$f":"LOOKUP($AO398,Data!$A$6:$A$1806,Data!$C$6:$C$1806)","v":3763.822265625},{"$f":"LOOKUP($AO398,Data!$A$6:$A$1806,Data!$D$6:$D$1806)","v":350},{"$f":"IF($AS$1=\"+\",LOOKUP($AO398,Data!$A$6:$A$1806,Data!$E$6:$E$1806)*-1,LOOKUP($AO398,Data!$A$6:$A$1806,Data!$E$6:$E$1806))","v":-263.04736328125},{"$f":"LOOKUP($AO398,Data!$A$6:$A$1806,Data!$F$6:$F$1806)","v":0},{"$f":"LOOKUP($AO398,Data!$A$6:$A$1806,Data!$G$6:$G$1806)","v":155.5},{"$f":"LOOKUP($AO398,Data!$A$6:$A$1806,Data!$H$6:$H$1806)","v":10},{"$f":"LOOKUP($AO398,Data!$A$6:$A$1806,Data!$I$6:$I$1806)","v":15},{"$f":"LOOKUP($AO398,Data!$A$6:$A$1806,Data!$J$6:$J$1806)","v":-103},{"$f":"LOOKUP($AO398,Data!$A$6:$A$1806,Data!$K$6:$K$1806)","v":7602.63},32.80029296875]
[null,40098.109722221627,{"$f":"LOOKUP(B399,Data!$A$6:$A$1806,Data!B$6:B$1806)","v":59.958999633789063},{"$f":"LOOKUP(B399,Data!$A$6:$A$1806,Data!C$6:C$1806)","v":3763.822265625},null,null,null,32.80029296875,32.150520854214598,null,null,0,3809.1234992405894,{"$f":"AVERAGE(D$79:D399)","v":3772.4122554030373},{"$f":"AVERAGE(M$79:M399)","v":3783.2874100791405},3776.2778578541852,{"$f":"AVERAGE(P$79:P399)","v":3750.2252338223238},633,null,null,null,null,null,null,0,633,-769.59929503976991,null,null,null,null,null,null,null,null,null,null,null,null,null,40098.109722221627,{"$f":"LOOKUP($AO399,Data!$A$6:$A$1806,Data!$B$6:$B$1806)","v":59.958999633789063},{"$f":"LOOKUP($AO399,Data!$A$6:$A$1806,Data!$C$6:$C$1806)","v":3763.822265625},{"$f":"LOOKUP($AO399,Data!$A$6:$A$1806,Data!$D$6:$D$1806)","v":350},{"$f":"IF($AS$1=\"+\",LOOKUP($AO399,Data!$A$6:$A$1806,Data!$E$6:$E$1806)*-1,LOOKUP($AO399,Data!$A$6:$A$1806,Data!$E$6:$E$1806))","v":-263.04736328125},{"$f":"LOOKUP($AO399,Data!$A$6:$A$1806,Data!$F$6:$F$1806)","v":0},{"$f":"LOOKUP($AO399,Data!$A$6:$A$1806,Data!$G$6:$G$1806)","v":155.5},{"$f":"LOOKUP($AO399,Data!$A$6:$A$1806,Data!$H$6:$H$1806)","v":10},{"$f":"LOOKUP($AO399,Data!$A$6:$A$1806,Data!$I$6:$I$1806)","v":15},{"$f":"LOOKUP($AO399,Data!$A$6:$A$1806,Data!$J$6:$J$1806)","v":-103},{"$f":"LOOKUP($AO399,Data!$A$6:$A$1806,Data!$K$6:$K$1806)","v":7602.63},32.80029296875]
[null,40098.109745369773,{"$f":"LOOKUP(B400,Data!$A$6:$A$1806,Data!B$6:B$1806)","v":59.952999114990234},{"$f":"LOOKUP(B400,Data!$A$6:$A$1806,Data!C$6:C$1806)","v":3763.858154296875},null,null,null,37.6007080078125,34.058086357973863,null,null,{"$f":"IF(B400>G$3,0,(K$21*0.000023148/K$22))","v":0},{"$f":"M399+L400+(I400-I399)","v":3811.0310647443484},{"$f":"AVERAGE(D$79:D400)","v":3772.3856898716517},{"$f":"AVERAGE(M$79:M400)","v":3783.3735704973551},3776.2778578541852,{"$f":"AVERAGE(P$79:P400)","v":3750.3063946448533},633,null,null,null,null,null,null,0,633,{"$f":"Z400/((C400-G$4)*10)","v":-717.27139985735585},null,null,null,null,null,null,null,null,null,null,null,null,null,40098.109745369773,{"$f":"LOOKUP($AO400,Data!$A$6:$A$1806,Data!$B$6:$B$1806)","v":59.952999114990234},{"$f":"LOOKUP($AO400,Data!$A$6:$A$1806,Data!$C$6:$C$1806)","v":3763.858154296875},{"$f":"LOOKUP($AO400,Data!$A$6:$A$1806,Data!$D$6:$D$1806)","v":350},{"$f":"IF($AS$1=\"+\",LOOKUP($AO400,Data!$A$6:$A$1806,Data!$E$6:$E$1806)*-1,LOOKUP($AO400,Data!$A$6:$A$1806,Data!$E$6:$E$1806))","v":-263.04736328125},{"$f":"LOOKUP($AO400,Data!$A$6:$A$1806,Data!$F$6:$F$1806)","v":0},{"$f":"LOOKUP($AO400,Data!$A$6:$A$1806,Data!$G$6:$G$1806)","v":156},{"$f":"LOOKUP($AO400,Data!$A$6:$A$1806,Data!$H$6:$H$1806)","v":10},{"$f":"LOOKUP($AO400,Data!$A$6:$A$1806,Data!$I$6:$I$1806)","v":15},{"$f":"LOOKUP($AO400,Data!$A$6:$A$1806,Data!$J$6:$J$1806)","v":-103},{"$f":"LOOKUP($AO400,Data!$A$6:$A$1806,Data!$K$6:$K$1806)","v":7602.96},37.6007080078125]
[null,40098.109768517919,{"$f":"LOOKUP(B401,Data!$A$6:$A$1806,Data!B$6:B$1806)","v":59.952999114990234},{"$f":"LOOKUP(B401,Data!$A$6:$A$1806,Data!C$6:C$1806)","v":3763.858154296875},null,null,null,37.6007080078125,35.298003935417384,null,null,0,3812.270982321792,{"$f":"AVERAGE(D$79:D401)","v":3772.3592888327207},{"$f":"AVERAGE(M$79:M401)","v":3783.4630361686386},3776.2778578541852,{"$f":"AVERAGE(P$79:P401)","v":3750.3870513628949},{"$f":"R$41","v":633},null,null,null,null,null,null,0,633,-717.27139985735585,null,null,null,null,null,null,null,null,null,null,null,null,null,{"$f":"AO400+TIME(0,0,$B$1)","v":40098.109768517919},{"$f":"LOOKUP($AO401,Data!$A$6:$A$1806,Data!$B$6:$B$1806)","v":59.952999114990234},{"$f":"LOOKUP($AO401,Data!$A$6:$A$1806,Data!$C$6:$C$1806)","v":3763.858154296875},{"$f":"LOOKUP($AO401,Data!$A$6:$A$1806,Data!$D$6:$D$1806)","v":350},{"$f":"IF($AS$1=\"+\",LOOKUP($AO401,Data!$A$6:$A$1806,Data!$E$6:$E$1806)*-1,LOOKUP($AO401,Data!$A$6:$A$1806,Data!$E$6:$E$1806))","v":-263.04736328125},{"$f":"LOOKUP($AO401,Data!$A$6:$A$1806,Data!$F$6:$F$1806)","v":0},{"$f":"LOOKUP($AO401,Data!$A$6:$A$1806,Data!$G$6:$G$1806)","v":156},{"$f":"LOOKUP($AO401,Data!$A$6:$A$1806,Data!$H$6:$H$1806)","v":10},{"$f":"LOOKUP($AO401,Data!$A$6:$A$1806,Data!$I$6:$I$1806)","v":15},{"$f":"LOOKUP($AO401,Data!$A$6:$A$1806,Data!$J$6:$J$1806)","v":-103},{"$f":"LOOKUP($AO401,Data!$A$6:$A$1806,Data!$K$6:$K$1806)","v":7602.96},37.6007080078125]
[null,40098.109791666066,{"$f":"LOOKUP(B402,Data!$A$6:$A$1806,Data!B$6:B$1806)","v":59.957000732421875},{"$f":"LOOKUP(B402,Data!$A$6:$A$1806,Data!C$6:C$1806)","v":3768.3388671875},null,null,null,34.3994140625,34.9834974798963,null,null,0,3811.9564758662709,{"$f":"AVERAGE(D$79:D402)","v":3772.3468801239392},{"$f":"AVERAGE(M$79:M402)","v":3783.5509788837544},{"$f":"P401+L402","v":3776.2778578541852},{"$f":"AVERAGE(P$79:P402)","v":3750.4672086585338},633,null,null,null,null,null,null,0,633,-751.339802132621,null,null,null,null,null,null,null,null,null,null,null,null,null,40098.109791666066,{"$f":"LOOKUP($AO402,Data!$A$6:$A$1806,Data!$B$6:$B$1806)","v":59.957000732421875},{"$f":"LOOKUP($AO402,Data!$A$6:$A$1806,Data!$C$6:$C$1806)","v":3768.3388671875},{"$f":"LOOKUP($AO402,Data!$A$6:$A$1806,Data!$D$6:$D$1806)","v":350},{"$f":"IF($AS$1=\"+\",LOOKUP($AO402,Data!$A$6:$A$1806,Data!$E$6:$E$1806)*-1,LOOKUP($AO402,Data!$A$6:$A$1806,Data!$E$6:$E$1806))","v":-260.984375},{"$f":"LOOKUP($AO402,Data!$A$6:$A$1806,Data!$F$6:$F$1806)","v":0},{"$f":"LOOKUP($AO402,Data!$A$6:$A$1806,Data!$G$6:$G$1806)","v":156.5},{"$f":"LOOKUP($AO402,Data!$A$6:$A$1806,Data!$H$6:$H$1806)","v":10},{"$f":"LOOKUP($AO402,Data!$A$6:$A$1806,Data!$I$6:$I$1806)","v":15},{"$f":"LOOKUP($AO402,Data!$A$6:$A$1806,Data!$J$6:$J$1806)","v":-103},{"$f":"LOOKUP($AO402,Data!$A$6:$A$1806,Data!$K$6:$K$1806)","v":7603.29},34.3994140625]
[null,40098.109814814212,{"$f":"LOOKUP(B403,Data!$A$6:$A$1806,Data!B$6:B$1806)","v":59.957000732421875},{"$f":"LOOKUP(B403,Data!$A$6:$A$1806,Data!C$6:C$1806)","v":3768.3388671875},null,null,null,34.3994140625,34.779068283807597,null,null,0,3811.7520466701822,{"$f":"AVERAGE(D$79:D403)","v":3772.3345477764424},{"$f":"AVERAGE(M$79:M403)","v":3783.6377514000201},3776.2778578541852,{"$f":"AVERAGE(P$79:P403)","v":3750.5468711560516},633,null,null,null,null,null,null,0,633,-751.339802132621,null,null,null,null,null,null,null,null,null,null,null,null,null,40098.109814814212,{"$f":"LOOKUP($AO403,Data!$A$6:$A$1806,Data!$B$6:$B$1806)","v":59.957000732421875},{"$f":"LOOKUP($AO403,Data!$A$6:$A$1806,Data!$C$6:$C$1806)","v":3768.3388671875},{"$f":"LOOKUP($AO403,Data!$A$6:$A$1806,Data!$D$6:$D$1806)","v":350},{"$f":"IF($AS$1=\"+\",LOOKUP($AO403,Data!$A$6:$A$1806,Data!$E$6:$E$1806)*-1,LOOKUP($AO403,Data!$A$6:$A$1806,Data!$E$6:$E$1806))","v":-260.984375},{"$f":"LOOKUP($AO403,Data!$A$6:$A$1806,Data!$F$6:$F$1806)","v":0},{"$f":"LOOKUP($AO403,Data!$A$6:$A$1806,Data!$G$6:$G$1806)","v":156.5},{"$f":"LOOKUP($AO403,Data!$A$6:$A$1806,Data!$H$6:$H$1806)","v":10},{"$f":"LOOKUP($AO403,Data!$A$6:$A$1806,Data!$I$6:$I$1806)","v":15},{"$f":"LOOKUP($AO403,Data!$A$6:$A$1806,Data!$J$6:$J$1806)","v":-103},{"$f":"LOOKUP($AO403,Data!$A$6:$A$1806,Data!$K$6:$K$1806)","v":7603.29},34.3994140625]
[null,40098.109837962358,{"$f":"LOOKUP(B404,Data!$A$6:$A$1806,Data!B$6:B$1806)","v":59.957000732421875},{"$f":"LOOKUP(B404,Data!$A$6:$A$1806,Data!C$6:C$1806)","v":3768.3388671875},null,null,null,34.3994140625,34.646189306349939,null,null,0,3811.6191676927247,{"$f":"AVERAGE(D$79:D404)","v":3772.3222910875193},{"$f":"AVERAGE(M$79:M404)","v":3783.7235839653354},3776.2778578541852,{"$f":"AVERAGE(P$79:P404)","v":3750.6260434228152},633,null,null,null,null,null,null,0,633,-751.339802132621,null,null,null,null,null,null,null,null,null,null,null,null,null,40098.109837962358,{"$f":"LOOKUP($AO404,Data!$A$6:$A$1806,Data!$B$6:$B$1806)","v":59.957000732421875},{"$f":"LOOKUP($AO404,Data!$A$6:$A$1806,Data!$C$6:$C$1806)","v":3768.3388671875},{"$f":"LOOKUP($AO404,Data!$A$6:$A$1806,Data!$D$6:$D$1806)","v":350},{"$f":"IF($AS$1=\"+\",LOOKUP($AO404,Data!$A$6:$A$1806,Data!$E$6:$E$1806)*-1,LOOKUP($AO404,Data!$A$6:$A$1806,Data!$E$6:$E$1806))","v":-260.984375},{"$f":"LOOKUP($AO404,Data!$A$6:$A$1806,Data!$F$6:$F$1806)","v":0},{"$f":"LOOKUP($AO404,Data!$A$6:$A$1806,Data!$G$6:$G$1806)","v":156.5},{"$f":"LOOKUP($AO404,Data!$A$6:$A$1806,Data!$H$6:$H$1806)","v":10},{"$f":"LOOKUP($AO404,Data!$A$6:$A$1806,Data!$I$6:$I$1806)","v":15},{"$f":"LOOKUP($AO404,Data!$A$6:$A$1806,Data!$J$6:$J$1806)","v":-103},{"$f":"LOOKUP($AO404,Data!$A$6:$A$1806,Data!$K$6:$K$1806)","v":7603.29},34.3994140625]
[null,40098.109861110504,{"$f":"LOOKUP(B405,Data!$A$6:$A$1806,Data!B$6:B$1806)","v":59.963001251220703},{"$f":"LOOKUP(B405,Data!$A$6:$A$1806,Data!C$6:C$1806)","v":3767.4375},null,null,null,29.5989990234375,32.879672707330585,null,null,0,3809.8526510937054,{"$f":"AVERAGE(D$79:D405)","v":3772.3073528884747},{"$f":"AVERAGE(M$79:M405)","v":3783.8034893693971},3776.2778578541852,{"$f":"AVERAGE(P$79:P405)","v":3750.7047299701512},633,null,null,null,null,null,null,0,633,-808.95625594149908,null,null,null,null,null,null,null,null,null,null,null,null,null,40098.109861110504,{"$f":"LOOKUP($AO405,Data!$A$6:$A$1806,Data!$B$6:$B$1806)","v":59.963001251220703},{"$f":"LOOKUP($AO405,Data!$A$6:$A$1806,Data!$C$6:$C$1806)","v":3767.4375},{"$f":"LOOKUP($AO405,Data!$A$6:$A$1806,Data!$D$6:$D$1806)","v":350},{"$f":"IF($AS$1=\"+\",LOOKUP($AO405,Data!$A$6:$A$1806,Data!$E$6:$E$1806)*-1,LOOKUP($AO405,Data!$A$6:$A$1806,Data!$E$6:$E$1806))","v":-260.984375},{"$f":"LOOKUP($AO405,Data!$A$6:$A$1806,Data!$F$6:$F$1806)","v":0},{"$f":"LOOKUP($AO405,Data!$A$6:$A$1806,Data!$G$6:$G$1806)","v":157},{"$f":"LOOKUP($AO405,Data!$A$6:$A$1806,Data!$H$6:$H$1806)","v":10},{"$f":"LOOKUP($AO405,Data!$A$6:$A$1806,Data!$I$6:$I$1806)","v":15},{"$f":"LOOKUP($AO405,Data!$A$6:$A$1806,Data!$J$6:$J$1806)","v":-103},{"$f":"LOOKUP($AO405,Data!$A$6:$A$1806,Data!$K$6:$K$1806)","v":7603.62},29.5989990234375]
[null,40098.109884258651,{"$f":"LOOKUP(B406,Data!$A$6:$A$1806,Data!B$6:B$1806)","v":59.963001251220703},{"$f":"LOOKUP(B406,Data!$A$6:$A$1806,Data!C$6:C$1806)","v":3767.4375},null,null,null,29.5989990234375,31.731436917968004,null,null,0,3808.704415304343,{"$f":"AVERAGE(D$79:D406)","v":3772.2925057760099},{"$f":"AVERAGE(M$79:M406)","v":3783.8794068265161},3776.2778578541852,{"$f":"AVERAGE(P$79:P406)","v":3750.7829352542003},633,null,null,null,null,null,null,0,633,-808.95625594149908,null,null,null,null,null,null,null,null,null,null,null,null,null,40098.109884258651,{"$f":"LOOKUP($AO406,Data!$A$6:$A$1806,Data!$B$6:$B$1806)","v":59.963001251220703},{"$f":"LOOKUP($AO406,Data!$A$6:$A$1806,Data!$C$6:$C$1806)","v":3767.4375},{"$f":"LOOKUP($AO406,Data!$A$6:$A$1806,Data!$D$6:$D$1806)","v":350},{"$f":"IF($AS$1=\"+\",LOOKUP($AO406,Data!$A$6:$A$1806,Data!$E$6:$E$1806)*-1,LOOKUP($AO406,Data!$A$6:$A$1806,Data!$E$6:$E$1806))","v":-260.984375},{"$f":"LOOKUP($AO406,Data!$A$6:$A$1806,Data!$F$6:$F$1806)","v":0},{"$f":"LOOKUP($AO406,Data!$A$6:$A$1806,Data!$G$6:$G$1806)","v":157},{"$f":"LOOKUP($AO406,Data!$A$6:$A$1806,Data!$H$6:$H$1806)","v":10},{"$f":"LOOKUP($AO406,Data!$A$6:$A$1806,Data!$I$6:$I$1806)","v":15},{"$f":"LOOKUP($AO406,Data!$A$6:$A$1806,Data!$J$6:$J$1806)","v":-103},{"$f":"LOOKUP($AO406,Data!$A$6:$A$1806,Data!$K$6:$K$1806)","v":7603.62},29.5989990234375]
[null,40098.109907406797,{"$f":"LOOKUP(B407,Data!$A$6:$A$1806,Data!B$6:B$1806)","v":59.958999633789063},{"$f":"LOOKUP(B407,Data!$A$6:$A$1806,Data!C$6:C$1806)","v":3761.5703125},null,null,null,32.80029296875,32.105536535741706,null,null,0,3809.0785149221165,{"$f":"AVERAGE(D$79:D407)","v":3772.2599155228913},{"$f":"AVERAGE(M$79:M407)","v":3783.9559998602413},3776.2778578541852,{"$f":"AVERAGE(P$79:P407)","v":3750.8606636767613},633,null,null,null,null,null,null,0,633,-769.59929503976991,null,null,null,null,null,null,null,null,null,null,null,null,null,40098.109907406797,{"$f":"LOOKUP($AO407,Data!$A$6:$A$1806,Data!$B$6:$B$1806)","v":59.958999633789063},{"$f":"LOOKUP($AO407,Data!$A$6:$A$1806,Data!$C$6:$C$1806)","v":3761.5703125},{"$f":"LOOKUP($AO407,Data!$A$6:$A$1806,Data!$D$6:$D$1806)","v":350},{"$f":"IF($AS$1=\"+\",LOOKUP($AO407,Data!$A$6:$A$1806,Data!$E$6:$E$1806)*-1,LOOKUP($AO407,Data!$A$6:$A$1806,Data!$E$6:$E$1806))","v":-260.984375},{"$f":"LOOKUP($AO407,Data!$A$6:$A$1806,Data!$F$6:$F$1806)","v":0},{"$f":"LOOKUP($AO407,Data!$A$6:$A$1806,Data!$G$6:$G$1806)","v":157.5},{"$f":"LOOKUP($AO407,Data!$A$6:$A$1806,Data!$H$6:$H$1806)","v":10},{"$f":"LOOKUP($AO407,Data!$A$6:$A$1806,Data!$I$6:$I$1806)","v":15},{"$f":"LOOKUP($AO407,Data!$A$6:$A$1806,Data!$J$6:$J$1806)","v":-103},{"$f":"LOOKUP($AO407,Data!$A$6:$A$1806,Data!$K$6:$K$1806)","v":7603.95},32.80029296875]
[null,40098.109930554943,{"$f":"LOOKUP(B408,Data!$A$6:$A$1806,Data!B$6:B$1806)","v":59.958999633789063},{"$f":"LOOKUP(B408,Data!$A$6:$A$1806,Data!C$6:C$1806)","v":3761.5703125},null,null,null,32.80029296875,32.34870128729461,null,null,0,3809.3216796736692,{"$f":"AVERAGE(D$79:D408)","v":3772.2275227864584},{"$f":"AVERAGE(M$79:M408)","v":3784.0328655566454},3776.2778578541852,{"$f":"AVERAGE(P$79:P408)","v":3750.9379195861156},633,null,null,null,null,null,null,0,633,-769.59929503976991,null,null,null,null,null,null,null,null,null,null,null,null,null,40098.109930554943,{"$f":"LOOKUP($AO408,Data!$A$6:$A$1806,Data!$B$6:$B$1806)","v":59.958999633789063},{"$f":"LOOKUP($AO408,Data!$A$6:$A$1806,Data!$C$6:$C$1806)","v":3761.5703125},{"$f":"LOOKUP($AO408,Data!$A$6:$A$1806,Data!$D$6:$D$1806)","v":350},{"$f":"IF($AS$1=\"+\",LOOKUP($AO408,Data!$A$6:$A$1806,Data!$E$6:$E$1806)*-1,LOOKUP($AO408,Data!$A$6:$A$1806,Data!$E$6:$E$1806))","v":-260.984375},{"$f":"LOOKUP($AO408,Data!$A$6:$A$1806,Data!$F$6:$F$1806)","v":0},{"$f":"LOOKUP($AO408,Data!$A$6:$A$1806,Data!$G$6:$G$1806)","v":157.5},{"$f":"LOOKUP($AO408,Data!$A$6:$A$1806,Data!$H$6:$H$1806)","v":10},{"$f":"LOOKUP($AO408,Data!$A$6:$A$1806,Data!$I$6:$I$1806)","v":15},{"$f":"LOOKUP($AO408,Data!$A$6:$A$1806,Data!$J$6:$J$1806)","v":-103},{"$f":"LOOKUP($AO408,Data!$A$6:$A$1806,Data!$K$6:$K$1806)","v":7603.95},32.80029296875]
[null,40098.10995370309,{"$f":"LOOKUP(B409,Data!$A$6:$A$1806,Data!B$6:B$1806)","v":59.958999633789063},{"$f":"LOOKUP(B409,Data!$A$6:$A$1806,Data!C$6:C$1806)","v":3761.5703125},null,null,null,32.80029296875,32.506758375803997,null,null,0,3809.4797367621786,{"$f":"AVERAGE(D$79:D409)","v":3772.1953257765294},{"$f":"AVERAGE(M$79:M409)","v":3784.1097443216167},3776.2778578541852,{"$f":"AVERAGE(P$79:P409)","v":3751.0147072778373},633,null,null,null,null,null,null,0,633,-769.59929503976991,null,null,null,null,null,null,null,null,null,null,null,null,null,40098.10995370309,{"$f":"LOOKUP($AO409,Data!$A$6:$A$1806,Data!$B$6:$B$1806)","v":59.958999633789063},{"$f":"LOOKUP($AO409,Data!$A$6:$A$1806,Data!$C$6:$C$1806)","v":3761.5703125},{"$f":"LOOKUP($AO409,Data!$A$6:$A$1806,Data!$D$6:$D$1806)","v":350},{"$f":"IF($AS$1=\"+\",LOOKUP($AO409,Data!$A$6:$A$1806,Data!$E$6:$E$1806)*-1,LOOKUP($AO409,Data!$A$6:$A$1806,Data!$E$6:$E$1806))","v":-260.984375},{"$f":"LOOKUP($AO409,Data!$A$6:$A$1806,Data!$F$6:$F$1806)","v":0},{"$f":"LOOKUP($AO409,Data!$A$6:$A$1806,Data!$G$6:$G$1806)","v":157.5},{"$f":"LOOKUP($AO409,Data!$A$6:$A$1806,Data!$H$6:$H$1806)","v":10},{"$f":"LOOKUP($AO409,Data!$A$6:$A$1806,Data!$I$6:$I$1806)","v":15},{"$f":"LOOKUP($AO409,Data!$A$6:$A$1806,Data!$J$6:$J$1806)","v":-103},{"$f":"LOOKUP($AO409,Data!$A$6:$A$1806,Data!$K$6:$K$1806)","v":7603.95},32.80029296875]
[null,40098.109976851236,{"$f":"LOOKUP(B410,Data!$A$6:$A$1806,Data!B$6:B$1806)","v":59.965000152587891},{"$f":"LOOKUP(B410,Data!$A$6:$A$1806,Data!C$6:C$1806)","v":3759.626953125},null,null,null,27.9998779296875,30.929350219663224,null,null,0,3807.9023286060378,{"$f":"AVERAGE(D$79:D410)","v":3772.1574692323984},{"$f":"AVERAGE(M$79:M410)","v":3784.1814087321118},3776.2778578541852,{"$f":"AVERAGE(P$79:P410)","v":3751.0910309955907},633,null,null,null,null,null,null,0,633,-830.1631037846762,null,null,null,null,null,null,null,null,null,null,null,null,null,40098.109976851236,{"$f":"LOOKUP($AO410,Data!$A$6:$A$1806,Data!$B$6:$B$1806)","v":59.965000152587891},{"$f":"LOOKUP($AO410,Data!$A$6:$A$1806,Data!$C$6:$C$1806)","v":3759.626953125},{"$f":"LOOKUP($AO410,Data!$A$6:$A$1806,Data!$D$6:$D$1806)","v":350},{"$f":"IF($AS$1=\"+\",LOOKUP($AO410,Data!$A$6:$A$1806,Data!$E$6:$E$1806)*-1,LOOKUP($AO410,Data!$A$6:$A$1806,Data!$E$6:$E$1806))","v":-260.984375},{"$f":"LOOKUP($AO410,Data!$A$6:$A$1806,Data!$F$6:$F$1806)","v":0},{"$f":"LOOKUP($AO410,Data!$A$6:$A$1806,Data!$G$6:$G$1806)","v":158},{"$f":"LOOKUP($AO410,Data!$A$6:$A$1806,Data!$H$6:$H$1806)","v":10},{"$f":"LOOKUP($AO410,Data!$A$6:$A$1806,Data!$I$6:$I$1806)","v":15},{"$f":"LOOKUP($AO410,Data!$A$6:$A$1806,Data!$J$6:$J$1806)","v":-103},{"$f":"LOOKUP($AO410,Data!$A$6:$A$1806,Data!$K$6:$K$1806)","v":7604.28},27.9998779296875]
[null,40098.109999999382,{"$f":"LOOKUP(B411,Data!$A$6:$A$1806,Data!B$6:B$1806)","v":59.965000152587891},{"$f":"LOOKUP(B411,Data!$A$6:$A$1806,Data!C$6:C$1806)","v":3759.626953125},null,null,null,27.9998779296875,29.904034918171721,null,null,0,3806.8770133045464,{"$f":"AVERAGE(D$79:D411)","v":3772.1198400548988},{"$f":"AVERAGE(M$79:M411)","v":3784.2495637007978},3776.2778578541852,{"$f":"AVERAGE(P$79:P411)","v":3751.1668949319123},633,null,null,null,null,null,null,0,633,-830.1631037846762,null,null,null,null,null,null,null,null,null,null,null,null,null,40098.109999999382,{"$f":"LOOKUP($AO411,Data!$A$6:$A$1806,Data!$B$6:$B$1806)","v":59.965000152587891},{"$f":"LOOKUP($AO411,Data!$A$6:$A$1806,Data!$C$6:$C$1806)","v":3759.626953125},{"$f":"LOOKUP($AO411,Data!$A$6:$A$1806,Data!$D$6:$D$1806)","v":350},{"$f":"IF($AS$1=\"+\",LOOKUP($AO411,Data!$A$6:$A$1806,Data!$E$6:$E$1806)*-1,LOOKUP($AO411,Data!$A$6:$A$1806,Data!$E$6:$E$1806))","v":-260.984375},{"$f":"LOOKUP($AO411,Data!$A$6:$A$1806,Data!$F$6:$F$1806)","v":0},{"$f":"LOOKUP($AO411,Data!$A$6:$A$1806,Data!$G$6:$G$1806)","v":158},{"$f":"LOOKUP($AO411,Data!$A$6:$A$1806,Data!$H$6:$H$1806)","v":10},{"$f":"LOOKUP($AO411,Data!$A$6:$A$1806,Data!$I$6:$I$1806)","v":15},{"$f":"LOOKUP($AO411,Data!$A$6:$A$1806,Data!$J$6:$J$1806)","v":-103},{"$f":"LOOKUP($AO411,Data!$A$6:$A$1806,Data!$K$6:$K$1806)","v":7604.28},27.9998779296875]
[null,40098.110023147528,{"$f":"LOOKUP(B412,Data!$A$6:$A$1806,Data!B$6:B$1806)","v":59.967998504638672},{"$f":"LOOKUP(B412,Data!$A$6:$A$1806,Data!C$6:C$1806)","v":3750.1015625},null,null,null,25.6011962890625,28.398041397983494,null,null,0,3805.3710197843579,{"$f":"AVERAGE(D$79:D412)","v":3772.0539170682073},{"$f":"AVERAGE(M$79:M412)","v":3784.3128015932634},3776.2778578541852,{"$f":"AVERAGE(P$79:P412)","v":3751.2423032289762},633,null,null,null,null,null,null,0,633,-864.14348131753673,null,null,null,null,null,null,null,null,null,null,null,null,null,40098.110023147528,{"$f":"LOOKUP($AO412,Data!$A$6:$A$1806,Data!$B$6:$B$1806)","v":59.967998504638672},{"$f":"LOOKUP($AO412,Data!$A$6:$A$1806,Data!$C$6:$C$1806)","v":3750.1015625},{"$f":"LOOKUP($AO412,Data!$A$6:$A$1806,Data!$D$6:$D$1806)","v":350},{"$f":"IF($AS$1=\"+\",LOOKUP($AO412,Data!$A$6:$A$1806,Data!$E$6:$E$1806)*-1,LOOKUP($AO412,Data!$A$6:$A$1806,Data!$E$6:$E$1806))","v":-260.984375},{"$f":"LOOKUP($AO412,Data!$A$6:$A$1806,Data!$F$6:$F$1806)","v":0},{"$f":"LOOKUP($AO412,Data!$A$6:$A$1806,Data!$G$6:$G$1806)","v":158.5},{"$f":"LOOKUP($AO412,Data!$A$6:$A$1806,Data!$H$6:$H$1806)","v":10},{"$f":"LOOKUP($AO412,Data!$A$6:$A$1806,Data!$I$6:$I$1806)","v":15},{"$f":"LOOKUP($AO412,Data!$A$6:$A$1806,Data!$J$6:$J$1806)","v":-103},{"$f":"LOOKUP($AO412,Data!$A$6:$A$1806,Data!$K$6:$K$1806)","v":7604.61},25.6011962890625]
[null,40098.110046295675,{"$f":"LOOKUP(B413,Data!$A$6:$A$1806,Data!B$6:B$1806)","v":59.967998504638672},{"$f":"LOOKUP(B413,Data!$A$6:$A$1806,Data!C$6:C$1806)","v":3750.1015625},null,null,null,25.6011962890625,27.419145609861147,null,null,0,3804.3921239962356,{"$f":"AVERAGE(D$79:D413)","v":3771.988387651586},{"$f":"AVERAGE(M$79:M413)","v":3784.3727398690935},3776.2778578541852,{"$f":"AVERAGE(P$79:P413)","v":3751.3172599793515},633,null,null,null,null,null,null,0,633,-864.14348131753673,null,null,null,null,null,null,null,null,null,null,null,null,null,40098.110046295675,{"$f":"LOOKUP($AO413,Data!$A$6:$A$1806,Data!$B$6:$B$1806)","v":59.967998504638672},{"$f":"LOOKUP($AO413,Data!$A$6:$A$1806,Data!$C$6:$C$1806)","v":3750.1015625},{"$f":"LOOKUP($AO413,Data!$A$6:$A$1806,Data!$D$6:$D$1806)","v":350},{"$f":"IF($AS$1=\"+\",LOOKUP($AO413,Data!$A$6:$A$1806,Data!$E$6:$E$1806)*-1,LOOKUP($AO413,Data!$A$6:$A$1806,Data!$E$6:$E$1806))","v":-260.984375},{"$f":"LOOKUP($AO413,Data!$A$6:$A$1806,Data!$F$6:$F$1806)","v":0},{"$f":"LOOKUP($AO413,Data!$A$6:$A$1806,Data!$G$6:$G$1806)","v":158.5},{"$f":"LOOKUP($AO413,Data!$A$6:$A$1806,Data!$H$6:$H$1806)","v":10},{"$f":"LOOKUP($AO413,Data!$A$6:$A$1806,Data!$I$6:$I$1806)","v":15},{"$f":"LOOKUP($AO413,Data!$A$6:$A$1806,Data!$J$6:$J$1806)","v":-103},{"$f":"LOOKUP($AO413,Data!$A$6:$A$1806,Data!$K$6:$K$1806)","v":7604.61},25.6011962890625]
[null,40098.110069443821,{"$f":"LOOKUP(B414,Data!$A$6:$A$1806,Data!B$6:B$1806)","v":59.967998504638672},{"$f":"LOOKUP(B414,Data!$A$6:$A$1806,Data!C$6:C$1806)","v":3750.1015625},null,null,null,25.6011962890625,26.782863347581621,null,null,0,3803.755841733956,{"$f":"AVERAGE(D$79:D414)","v":3771.9232482910156},{"$f":"AVERAGE(M$79:M414)","v":3784.4304276722623},3776.2778578541852,{"$f":"AVERAGE(P$79:P414)","v":3751.3917692267391},633,null,null,null,null,null,null,0,633,-864.14348131753673,null,null,null,null,null,null,null,null,null,null,null,null,null,40098.110069443821,{"$f":"LOOKUP($AO414,Data!$A$6:$A$1806,Data!$B$6:$B$1806)","v":59.967998504638672},{"$f":"LOOKUP($AO414,Data!$A$6:$A$1806,Data!$C$6:$C$1806)","v":3750.1015625},{"$f":"LOOKUP($AO414,Data!$A$6:$A$1806,Data!$D$6:$D$1806)","v":350},{"$f":"IF($AS$1=\"+\",LOOKUP($AO414,Data!$A$6:$A$1806,Data!$E$6:$E$1806)*-1,LOOKUP($AO414,Data!$A$6:$A$1806,Data!$E$6:$E$1806))","v":-260.984375},{"$f":"LOOKUP($AO414,Data!$A$6:$A$1806,Data!$F$6:$F$1806)","v":0},{"$f":"LOOKUP($AO414,Data!$A$6:$A$1806,Data!$G$6:$G$1806)","v":158.5},{"$f":"LOOKUP($AO414,Data!$A$6:$A$1806,Data!$H$6:$H$1806)","v":10},{"$f":"LOOKUP($AO414,Data!$A$6:$A$1806,Data!$I$6:$I$1806)","v":15},{"$f":"LOOKUP($AO414,Data!$A$6:$A$1806,Data!$J$6:$J$1806)","v":-103},{"$f":"LOOKUP($AO414,Data!$A$6:$A$1806,Data!$K$6:$K$1806)","v":7604.61},25.6011962890625]
[null,40098.110092591967,{"$f":"LOOKUP(B415,Data!$A$6:$A$1806,Data!B$6:B$1806)","v":59.972999572753906},{"$f":"LOOKUP(B415,Data!$A$6:$A$1806,Data!C$6:C$1806)","v":3753.51025390625},null,null,null,21.600341796875,24.968980804834306,null,null,0,3801.9419591912088,{"$f":"AVERAGE(D$79:D415)","v":3771.8686103254822},{"$f":"AVERAGE(M$79:M415)","v":3784.482390673802},3776.2778578541852,{"$f":"AVERAGE(P$79:P415)","v":3751.465834966702},633,null,null,null,null,null,null,0,633,-927.46361121202801,null,null,null,null,null,null,null,null,null,null,null,null,null,40098.110092591967,{"$f":"LOOKUP($AO415,Data!$A$6:$A$1806,Data!$B$6:$B$1806)","v":59.972999572753906},{"$f":"LOOKUP($AO415,Data!$A$6:$A$1806,Data!$C$6:$C$1806)","v":3753.51025390625},{"$f":"LOOKUP($AO415,Data!$A$6:$A$1806,Data!$D$6:$D$1806)","v":350},{"$f":"IF($AS$1=\"+\",LOOKUP($AO415,Data!$A$6:$A$1806,Data!$E$6:$E$1806)*-1,LOOKUP($AO415,Data!$A$6:$A$1806,Data!$E$6:$E$1806))","v":-261.31832885742187},{"$f":"LOOKUP($AO415,Data!$A$6:$A$1806,Data!$F$6:$F$1806)","v":0},{"$f":"LOOKUP($AO415,Data!$A$6:$A$1806,Data!$G$6:$G$1806)","v":159},{"$f":"LOOKUP($AO415,Data!$A$6:$A$1806,Data!$H$6:$H$1806)","v":10},{"$f":"LOOKUP($AO415,Data!$A$6:$A$1806,Data!$I$6:$I$1806)","v":15},{"$f":"LOOKUP($AO415,Data!$A$6:$A$1806,Data!$J$6:$J$1806)","v":-103},{"$f":"LOOKUP($AO415,Data!$A$6:$A$1806,Data!$K$6:$K$1806)","v":7604.94},21.600341796875]
[null,40098.110115740114,{"$f":"LOOKUP(B416,Data!$A$6:$A$1806,Data!B$6:B$1806)","v":59.972999572753906},{"$f":"LOOKUP(B416,Data!$A$6:$A$1806,Data!C$6:C$1806)","v":3753.51025390625},null,null,null,21.600341796875,23.789957152048551,null,null,0,3800.7629355384229,{"$f":"AVERAGE(D$79:D416)","v":3771.8142956615202},{"$f":"AVERAGE(M$79:M416)","v":3784.5305579663004},3776.2778578541852,{"$f":"AVERAGE(P$79:P416)","v":3751.5394611473771},633,null,null,null,null,null,null,0,633,-927.46361121202801,null,null,null,null,null,null,null,null,null,null,null,null,null,40098.110115740114,{"$f":"LOOKUP($AO416,Data!$A$6:$A$1806,Data!$B$6:$B$1806)","v":59.972999572753906},{"$f":"LOOKUP($AO416,Data!$A$6:$A$1806,Data!$C$6:$C$1806)","v":3753.51025390625},{"$f":"LOOKUP($AO416,Data!$A$6:$A$1806,Data!$D$6:$D$1806)","v":350},{"$f":"IF($AS$1=\"+\",LOOKUP($AO416,Data!$A$6:$A$1806,Data!$E$6:$E$1806)*-1,LOOKUP($AO416,Data!$A$6:$A$1806,Data!$E$6:$E$1806))","v":-261.31832885742187},{"$f":"LOOKUP($AO416,Data!$A$6:$A$1806,Data!$F$6:$F$1806)","v":0},{"$f":"LOOKUP($AO416,Data!$A$6:$A$1806,Data!$G$6:$G$1806)","v":159},{"$f":"LOOKUP($AO416,Data!$A$6:$A$1806,Data!$H$6:$H$1806)","v":10},{"$f":"LOOKUP($AO416,Data!$A$6:$A$1806,Data!$I$6:$I$1806)","v":15},{"$f":"LOOKUP($AO416,Data!$A$6:$A$1806,Data!$J$6:$J$1806)","v":-103},{"$f":"LOOKUP($AO416,Data!$A$6:$A$1806,Data!$K$6:$K$1806)","v":7604.94},21.600341796875]
[null,40098.11013888826,{"$f":"LOOKUP(B417,Data!$A$6:$A$1806,Data!B$6:B$1806)","v":59.965000152587891},{"$f":"LOOKUP(B417,Data!$A$6:$A$1806,Data!C$6:C$1806)","v":3753.17822265625},null,null,null,27.9998779296875,25.263429424222181,null,null,0,3802.2364078105966,{"$f":"AVERAGE(D$79:D417)","v":3771.7593219948376},{"$f":"AVERAGE(M$79:M417)","v":3784.5827876118592},3776.2778578541852,{"$f":"AVERAGE(P$79:P417)","v":3751.6126516701788},633,null,null,null,null,null,null,0,633,-830.1631037846762,null,null,null,null,null,null,null,null,null,null,null,null,null,40098.11013888826,{"$f":"LOOKUP($AO417,Data!$A$6:$A$1806,Data!$B$6:$B$1806)","v":59.965000152587891},{"$f":"LOOKUP($AO417,Data!$A$6:$A$1806,Data!$C$6:$C$1806)","v":3753.17822265625},{"$f":"LOOKUP($AO417,Data!$A$6:$A$1806,Data!$D$6:$D$1806)","v":350},{"$f":"IF($AS$1=\"+\",LOOKUP($AO417,Data!$A$6:$A$1806,Data!$E$6:$E$1806)*-1,LOOKUP($AO417,Data!$A$6:$A$1806,Data!$E$6:$E$1806))","v":-261.31832885742187},{"$f":"LOOKUP($AO417,Data!$A$6:$A$1806,Data!$F$6:$F$1806)","v":0},{"$f":"LOOKUP($AO417,Data!$A$6:$A$1806,Data!$G$6:$G$1806)","v":159.5},{"$f":"LOOKUP($AO417,Data!$A$6:$A$1806,Data!$H$6:$H$1806)","v":10},{"$f":"LOOKUP($AO417,Data!$A$6:$A$1806,Data!$I$6:$I$1806)","v":15},{"$f":"LOOKUP($AO417,Data!$A$6:$A$1806,Data!$J$6:$J$1806)","v":-103},{"$f":"LOOKUP($AO417,Data!$A$6:$A$1806,Data!$K$6:$K$1806)","v":7605.27},27.9998779296875]
[null,40098.110162036406,{"$f":"LOOKUP(B418,Data!$A$6:$A$1806,Data!B$6:B$1806)","v":59.965000152587891},{"$f":"LOOKUP(B418,Data!$A$6:$A$1806,Data!C$6:C$1806)","v":3753.17822265625},null,null,null,27.9998779296875,26.221186401135043,null,null,0,3803.1941647875096,{"$f":"AVERAGE(D$79:D418)","v":3771.7046717026656},{"$f":"AVERAGE(M$79:M418)","v":3784.6375269564928},3776.2778578541852,{"$f":"AVERAGE(P$79:P418)","v":3751.6854103904857},633,null,null,null,null,null,null,0,633,-830.1631037846762,null,null,null,null,null,null,null,null,null,null,null,null,null,40098.110162036406,{"$f":"LOOKUP($AO418,Data!$A$6:$A$1806,Data!$B$6:$B$1806)","v":59.965000152587891},{"$f":"LOOKUP($AO418,Data!$A$6:$A$1806,Data!$C$6:$C$1806)","v":3753.17822265625},{"$f":"LOOKUP($AO418,Data!$A$6:$A$1806,Data!$D$6:$D$1806)","v":350},{"$f":"IF($AS$1=\"+\",LOOKUP($AO418,Data!$A$6:$A$1806,Data!$E$6:$E$1806)*-1,LOOKUP($AO418,Data!$A$6:$A$1806,Data!$E$6:$E$1806))","v":-261.31832885742187},{"$f":"LOOKUP($AO418,Data!$A$6:$A$1806,Data!$F$6:$F$1806)","v":0},{"$f":"LOOKUP($AO418,Data!$A$6:$A$1806,Data!$G$6:$G$1806)","v":159.5},{"$f":"LOOKUP($AO418,Data!$A$6:$A$1806,Data!$H$6:$H$1806)","v":10},{"$f":"LOOKUP($AO418,Data!$A$6:$A$1806,Data!$I$6:$I$1806)","v":15},{"$f":"LOOKUP($AO418,Data!$A$6:$A$1806,Data!$J$6:$J$1806)","v":-103},{"$f":"LOOKUP($AO418,Data!$A$6:$A$1806,Data!$K$6:$K$1806)","v":7605.27},27.9998779296875]
[null,40098.110185184552,{"$f":"LOOKUP(B419,Data!$A$6:$A$1806,Data!B$6:B$1806)","v":59.965000152587891},{"$f":"LOOKUP(B419,Data!$A$6:$A$1806,Data!C$6:C$1806)","v":3753.17822265625},null,null,null,27.9998779296875,26.843728436128405,null,null,0,3803.816706822503,{"$f":"AVERAGE(D$79:D419)","v":3771.650341940066},{"$f":"AVERAGE(M$79:M419)","v":3784.693770885719},3776.2778578541852,{"$f":"AVERAGE(P$79:P419)","v":3751.7577411183206},633,null,null,null,null,null,null,0,633,-830.1631037846762,null,null,null,null,null,null,null,null,null,null,null,null,null,40098.110185184552,{"$f":"LOOKUP($AO419,Data!$A$6:$A$1806,Data!$B$6:$B$1806)","v":59.965000152587891},{"$f":"LOOKUP($AO419,Data!$A$6:$A$1806,Data!$C$6:$C$1806)","v":3753.17822265625},{"$f":"LOOKUP($AO419,Data!$A$6:$A$1806,Data!$D$6:$D$1806)","v":350},{"$f":"IF($AS$1=\"+\",LOOKUP($AO419,Data!$A$6:$A$1806,Data!$E$6:$E$1806)*-1,LOOKUP($AO419,Data!$A$6:$A$1806,Data!$E$6:$E$1806))","v":-261.31832885742187},{"$f":"LOOKUP($AO419,Data!$A$6:$A$1806,Data!$F$6:$F$1806)","v":0},{"$f":"LOOKUP($AO419,Data!$A$6:$A$1806,Data!$G$6:$G$1806)","v":159.5},{"$f":"LOOKUP($AO419,Data!$A$6:$A$1806,Data!$H$6:$H$1806)","v":10},{"$f":"LOOKUP($AO419,Data!$A$6:$A$1806,Data!$I$6:$I$1806)","v":15},{"$f":"LOOKUP($AO419,Data!$A$6:$A$1806,Data!$J$6:$J$1806)","v":-103},{"$f":"LOOKUP($AO419,Data!$A$6:$A$1806,Data!$K$6:$K$1806)","v":7605.27},27.9998779296875]
[null,40098.110208332699,{"$f":"LOOKUP(B420,Data!$A$6:$A$1806,Data!B$6:B$1806)","v":59.972000122070313},{"$f":"LOOKUP(B420,Data!$A$6:$A$1806,Data!C$6:C$1806)","v":3753.29052734375},null,null,null,22.39990234375,25.288389303795963,null,null,0,3802.2613676901706,{"$f":"AVERAGE(D$79:D420)","v":3771.5966582716555},{"$f":"AVERAGE(M$79:M420)","v":3784.7451381278374},3776.2778578541852,{"$f":"AVERAGE(P$79:P420)","v":3751.8296476190121},633,null,null,null,null,null,null,0,633,-914.07801250447574,null,null,null,null,null,null,null,null,null,null,null,null,null,40098.110208332699,{"$f":"LOOKUP($AO420,Data!$A$6:$A$1806,Data!$B$6:$B$1806)","v":59.972000122070313},{"$f":"LOOKUP($AO420,Data!$A$6:$A$1806,Data!$C$6:$C$1806)","v":3753.29052734375},{"$f":"LOOKUP($AO420,Data!$A$6:$A$1806,Data!$D$6:$D$1806)","v":350},{"$f":"IF($AS$1=\"+\",LOOKUP($AO420,Data!$A$6:$A$1806,Data!$E$6:$E$1806)*-1,LOOKUP($AO420,Data!$A$6:$A$1806,Data!$E$6:$E$1806))","v":-261.31832885742187},{"$f":"LOOKUP($AO420,Data!$A$6:$A$1806,Data!$F$6:$F$1806)","v":0},{"$f":"LOOKUP($AO420,Data!$A$6:$A$1806,Data!$G$6:$G$1806)","v":160},{"$f":"LOOKUP($AO420,Data!$A$6:$A$1806,Data!$H$6:$H$1806)","v":10},{"$f":"LOOKUP($AO420,Data!$A$6:$A$1806,Data!$I$6:$I$1806)","v":15},{"$f":"LOOKUP($AO420,Data!$A$6:$A$1806,Data!$J$6:$J$1806)","v":-103},{"$f":"LOOKUP($AO420,Data!$A$6:$A$1806,Data!$K$6:$K$1806)","v":7605.6},22.39990234375]
[null,40098.110231480845,{"$f":"LOOKUP(B421,Data!$A$6:$A$1806,Data!B$6:B$1806)","v":59.972000122070313},{"$f":"LOOKUP(B421,Data!$A$6:$A$1806,Data!C$6:C$1806)","v":3753.29052734375},null,null,null,22.39990234375,24.277418867779875,null,null,0,3801.2503972541544,{"$f":"AVERAGE(D$79:D421)","v":3771.5432876275509},{"$f":"AVERAGE(M$79:M421)","v":3784.7932584168357},3776.2778578541852,{"$f":"AVERAGE(P$79:P421)","v":3751.9011336138524},633,null,null,null,null,null,null,0,633,-914.07801250447574,null,null,null,null,null,null,null,null,null,null,null,null,null,40098.110231480845,{"$f":"LOOKUP($AO421,Data!$A$6:$A$1806,Data!$B$6:$B$1806)","v":59.972000122070313},{"$f":"LOOKUP($AO421,Data!$A$6:$A$1806,Data!$C$6:$C$1806)","v":3753.29052734375},{"$f":"LOOKUP($AO421,Data!$A$6:$A$1806,Data!$D$6:$D$1806)","v":350},{"$f":"IF($AS$1=\"+\",LOOKUP($AO421,Data!$A$6:$A$1806,Data!$E$6:$E$1806)*-1,LOOKUP($AO421,Data!$A$6:$A$1806,Data!$E$6:$E$1806))","v":-261.31832885742187},{"$f":"LOOKUP($AO421,Data!$A$6:$A$1806,Data!$F$6:$F$1806)","v":0},{"$f":"LOOKUP($AO421,Data!$A$6:$A$1806,Data!$G$6:$G$1806)","v":160},{"$f":"LOOKUP($AO421,Data!$A$6:$A$1806,Data!$H$6:$H$1806)","v":10},{"$f":"LOOKUP($AO421,Data!$A$6:$A$1806,Data!$I$6:$I$1806)","v":15},{"$f":"LOOKUP($AO421,Data!$A$6:$A$1806,Data!$J$6:$J$1806)","v":-103},{"$f":"LOOKUP($AO421,Data!$A$6:$A$1806,Data!$K$6:$K$1806)","v":7605.6},22.39990234375]
[null,40098.110254628991,{"$f":"LOOKUP(B422,Data!$A$6:$A$1806,Data!B$6:B$1806)","v":59.974998474121094},{"$f":"LOOKUP(B422,Data!$A$6:$A$1806,Data!C$6:C$1806)","v":3749.39794921875},null,null,null,20.001220703125,22.78074951015067,null,null,0,3799.7537278965251,{"$f":"AVERAGE(D$79:D422)","v":3771.4789116438046},{"$f":"AVERAGE(M$79:M422)","v":3784.8367481536957},3776.2778578541852,{"$f":"AVERAGE(P$79:P422)","v":3751.9722027807338},633,null,null,null,null,null,null,0,633,-955.44639124802075,null,null,null,null,null,null,null,null,null,null,null,null,null,40098.110254628991,{"$f":"LOOKUP($AO422,Data!$A$6:$A$1806,Data!$B$6:$B$1806)","v":59.974998474121094},{"$f":"LOOKUP($AO422,Data!$A$6:$A$1806,Data!$C$6:$C$1806)","v":3749.39794921875},{"$f":"LOOKUP($AO422,Data!$A$6:$A$1806,Data!$D$6:$D$1806)","v":350},{"$f":"IF($AS$1=\"+\",LOOKUP($AO422,Data!$A$6:$A$1806,Data!$E$6:$E$1806)*-1,LOOKUP($AO422,Data!$A$6:$A$1806,Data!$E$6:$E$1806))","v":-261.31832885742187},{"$f":"LOOKUP($AO422,Data!$A$6:$A$1806,Data!$F$6:$F$1806)","v":0},{"$f":"LOOKUP($AO422,Data!$A$6:$A$1806,Data!$G$6:$G$1806)","v":160.5},{"$f":"LOOKUP($AO422,Data!$A$6:$A$1806,Data!$H$6:$H$1806)","v":10},{"$f":"LOOKUP($AO422,Data!$A$6:$A$1806,Data!$I$6:$I$1806)","v":15},{"$f":"LOOKUP($AO422,Data!$A$6:$A$1806,Data!$J$6:$J$1806)","v":-103},{"$f":"LOOKUP($AO422,Data!$A$6:$A$1806,Data!$K$6:$K$1806)","v":7605.93},20.001220703125]
[null,40098.110277777138,{"$f":"LOOKUP(B423,Data!$A$6:$A$1806,Data!B$6:B$1806)","v":59.974998474121094},{"$f":"LOOKUP(B423,Data!$A$6:$A$1806,Data!C$6:C$1806)","v":3749.39794921875},null,null,null,20.001220703125,21.807914427691685,null,null,0,3798.7808928140662,{"$f":"AVERAGE(D$79:D423)","v":3771.4149088541667},{"$f":"AVERAGE(M$79:M423)","v":3784.8771659643053},3776.2778578541852,{"$f":"AVERAGE(P$79:P423)","v":3752.0428587547849},633,null,null,null,null,null,null,0,633,-955.44639124802075,null,null,null,null,null,null,null,null,null,null,null,null,null,40098.110277777138,{"$f":"LOOKUP($AO423,Data!$A$6:$A$1806,Data!$B$6:$B$1806)","v":59.974998474121094},{"$f":"LOOKUP($AO423,Data!$A$6:$A$1806,Data!$C$6:$C$1806)","v":3749.39794921875},{"$f":"LOOKUP($AO423,Data!$A$6:$A$1806,Data!$D$6:$D$1806)","v":350},{"$f":"IF($AS$1=\"+\",LOOKUP($AO423,Data!$A$6:$A$1806,Data!$E$6:$E$1806)*-1,LOOKUP($AO423,Data!$A$6:$A$1806,Data!$E$6:$E$1806))","v":-261.31832885742187},{"$f":"LOOKUP($AO423,Data!$A$6:$A$1806,Data!$F$6:$F$1806)","v":0},{"$f":"LOOKUP($AO423,Data!$A$6:$A$1806,Data!$G$6:$G$1806)","v":160.5},{"$f":"LOOKUP($AO423,Data!$A$6:$A$1806,Data!$H$6:$H$1806)","v":10},{"$f":"LOOKUP($AO423,Data!$A$6:$A$1806,Data!$I$6:$I$1806)","v":15},{"$f":"LOOKUP($AO423,Data!$A$6:$A$1806,Data!$J$6:$J$1806)","v":-103},{"$f":"LOOKUP($AO423,Data!$A$6:$A$1806,Data!$K$6:$K$1806)","v":7605.93},20.001220703125]
[null,40098.110300925284,{"$f":"LOOKUP(B424,Data!$A$6:$A$1806,Data!B$6:B$1806)","v":59.974998474121094},{"$f":"LOOKUP(B424,Data!$A$6:$A$1806,Data!C$6:C$1806)","v":3749.39794921875},null,null,null,20.001220703125,21.175571624093344,null,null,0,3798.1485500104677,{"$f":"AVERAGE(D$79:D424)","v":3771.3512760228505},{"$f":"AVERAGE(M$79:M424)","v":3784.915522565595},3776.2778578541852,{"$f":"AVERAGE(P$79:P424)","v":3752.1131051289863},633,null,null,null,null,null,null,0,633,-955.44639124802075,null,null,null,null,null,null,null,null,null,null,null,null,null,40098.110300925284,{"$f":"LOOKUP($AO424,Data!$A$6:$A$1806,Data!$B$6:$B$1806)","v":59.974998474121094},{"$f":"LOOKUP($AO424,Data!$A$6:$A$1806,Data!$C$6:$C$1806)","v":3749.39794921875},{"$f":"LOOKUP($AO424,Data!$A$6:$A$1806,Data!$D$6:$D$1806)","v":350},{"$f":"IF($AS$1=\"+\",LOOKUP($AO424,Data!$A$6:$A$1806,Data!$E$6:$E$1806)*-1,LOOKUP($AO424,Data!$A$6:$A$1806,Data!$E$6:$E$1806))","v":-261.31832885742187},{"$f":"LOOKUP($AO424,Data!$A$6:$A$1806,Data!$F$6:$F$1806)","v":0},{"$f":"LOOKUP($AO424,Data!$A$6:$A$1806,Data!$G$6:$G$1806)","v":160.5},{"$f":"LOOKUP($AO424,Data!$A$6:$A$1806,Data!$H$6:$H$1806)","v":10},{"$f":"LOOKUP($AO424,Data!$A$6:$A$1806,Data!$I$6:$I$1806)","v":15},{"$f":"LOOKUP($AO424,Data!$A$6:$A$1806,Data!$J$6:$J$1806)","v":-103},{"$f":"LOOKUP($AO424,Data!$A$6:$A$1806,Data!$K$6:$K$1806)","v":7605.93},20.001220703125]
[null,40098.11032407343,{"$f":"LOOKUP(B425,Data!$A$6:$A$1806,Data!B$6:B$1806)","v":59.9739990234375},{"$f":"LOOKUP(B425,Data!$A$6:$A$1806,Data!C$6:C$1806)","v":3740.370361328125},null,null,null,20.80078125,21.044394993160672,null,null,0,3798.017373379535,{"$f":"AVERAGE(D$79:D425)","v":3771.2619938479379},{"$f":"AVERAGE(M$79:M425)","v":3784.9532800607358},3776.2778578541852,{"$f":"AVERAGE(P$79:P425)","v":3752.1829454547819},633,null,null,null,null,null,null,0,633,-941.24706883348927,null,null,null,null,null,null,null,null,null,null,null,null,null,40098.11032407343,{"$f":"LOOKUP($AO425,Data!$A$6:$A$1806,Data!$B$6:$B$1806)","v":59.9739990234375},{"$f":"LOOKUP($AO425,Data!$A$6:$A$1806,Data!$C$6:$C$1806)","v":3740.370361328125},{"$f":"LOOKUP($AO425,Data!$A$6:$A$1806,Data!$D$6:$D$1806)","v":350},{"$f":"IF($AS$1=\"+\",LOOKUP($AO425,Data!$A$6:$A$1806,Data!$E$6:$E$1806)*-1,LOOKUP($AO425,Data!$A$6:$A$1806,Data!$E$6:$E$1806))","v":-261.31832885742187},{"$f":"LOOKUP($AO425,Data!$A$6:$A$1806,Data!$F$6:$F$1806)","v":0},{"$f":"LOOKUP($AO425,Data!$A$6:$A$1806,Data!$G$6:$G$1806)","v":161},{"$f":"LOOKUP($AO425,Data!$A$6:$A$1806,Data!$H$6:$H$1806)","v":10},{"$f":"LOOKUP($AO425,Data!$A$6:$A$1806,Data!$I$6:$I$1806)","v":15},{"$f":"LOOKUP($AO425,Data!$A$6:$A$1806,Data!$J$6:$J$1806)","v":-103},{"$f":"LOOKUP($AO425,Data!$A$6:$A$1806,Data!$K$6:$K$1806)","v":7606.26},20.80078125]
[null,40098.110347221576,{"$f":"LOOKUP(B426,Data!$A$6:$A$1806,Data!B$6:B$1806)","v":59.9739990234375},{"$f":"LOOKUP(B426,Data!$A$6:$A$1806,Data!C$6:C$1806)","v":3740.370361328125},null,null,null,20.80078125,20.959130183054437,null,null,0,3797.9321085694287,{"$f":"AVERAGE(D$79:D426)","v":3771.1732247889727},{"$f":"AVERAGE(M$79:M426)","v":3784.9905755449563},3776.2778578541852,{"$f":"AVERAGE(P$79:P426)","v":3752.2523832426764},633,null,null,null,null,null,null,0,633,-941.24706883348927,null,null,null,null,null,null,null,null,null,null,null,null,null,40098.110347221576,{"$f":"LOOKUP($AO426,Data!$A$6:$A$1806,Data!$B$6:$B$1806)","v":59.9739990234375},{"$f":"LOOKUP($AO426,Data!$A$6:$A$1806,Data!$C$6:$C$1806)","v":3740.370361328125},{"$f":"LOOKUP($AO426,Data!$A$6:$A$1806,Data!$D$6:$D$1806)","v":350},{"$f":"IF($AS$1=\"+\",LOOKUP($AO426,Data!$A$6:$A$1806,Data!$E$6:$E$1806)*-1,LOOKUP($AO426,Data!$A$6:$A$1806,Data!$E$6:$E$1806))","v":-261.31832885742187},{"$f":"LOOKUP($AO426,Data!$A$6:$A$1806,Data!$F$6:$F$1806)","v":0},{"$f":"LOOKUP($AO426,Data!$A$6:$A$1806,Data!$G$6:$G$1806)","v":161},{"$f":"LOOKUP($AO426,Data!$A$6:$A$1806,Data!$H$6:$H$1806)","v":10},{"$f":"LOOKUP($AO426,Data!$A$6:$A$1806,Data!$I$6:$I$1806)","v":15},{"$f":"LOOKUP($AO426,Data!$A$6:$A$1806,Data!$J$6:$J$1806)","v":-103},{"$f":"LOOKUP($AO426,Data!$A$6:$A$1806,Data!$K$6:$K$1806)","v":7606.26},20.80078125]
[null,40098.110370369723,{"$f":"LOOKUP(B427,Data!$A$6:$A$1806,Data!B$6:B$1806)","v":59.980998992919922},{"$f":"LOOKUP(B427,Data!$A$6:$A$1806,Data!C$6:C$1806)","v":3745.73828125},null,null,null,15.2008056640625,{"$f":"L$13*H427+(1-L$13)*I426","v":18.94371660140726},null,null,0,3795.9166949877817,{"$f":"AVERAGE(D$79:D427)","v":3771.1003452945915},{"$f":"AVERAGE(M$79:M427)","v":3785.0218824774574},3776.2778578541852,{"$f":"AVERAGE(P$79:P427)","v":3752.3214219628248},633,null,null,null,null,null,null,0,{"$f":"SUM(R427:Y427)","v":633},-1050.6008547279116,null,null,null,null,null,null,null,null,null,null,null,null,null,40098.110370369723,{"$f":"LOOKUP($AO427,Data!$A$6:$A$1806,Data!$B$6:$B$1806)","v":59.980998992919922},{"$f":"LOOKUP($AO427,Data!$A$6:$A$1806,Data!$C$6:$C$1806)","v":3745.73828125},{"$f":"LOOKUP($AO427,Data!$A$6:$A$1806,Data!$D$6:$D$1806)","v":350},{"$f":"IF($AS$1=\"+\",LOOKUP($AO427,Data!$A$6:$A$1806,Data!$E$6:$E$1806)*-1,LOOKUP($AO427,Data!$A$6:$A$1806,Data!$E$6:$E$1806))","v":-262.10260009765625},{"$f":"LOOKUP($AO427,Data!$A$6:$A$1806,Data!$F$6:$F$1806)","v":0},{"$f":"LOOKUP($AO427,Data!$A$6:$A$1806,Data!$G$6:$G$1806)","v":161.5},{"$f":"LOOKUP($AO427,Data!$A$6:$A$1806,Data!$H$6:$H$1806)","v":10},{"$f":"LOOKUP($AO427,Data!$A$6:$A$1806,Data!$I$6:$I$1806)","v":15},{"$f":"LOOKUP($AO427,Data!$A$6:$A$1806,Data!$J$6:$J$1806)","v":-103},{"$f":"LOOKUP($AO427,Data!$A$6:$A$1806,Data!$K$6:$K$1806)","v":7606.59},15.2008056640625]
[null,40098.110393517869,{"$f":"LOOKUP(B428,Data!$A$6:$A$1806,Data!B$6:B$1806)","v":59.980998992919922},{"$f":"LOOKUP(B428,Data!$A$6:$A$1806,Data!C$6:C$1806)","v":3745.73828125},null,null,null,{"$f":"(IF((C428-L$2)>0,((C428-L$2-L$5)/((L$4*L$2)-L$5)*L$3*-1),((C428-L$2+L$5)/((L$4*L$2)-L$5)*L$3*-1)))","v":15.2008056640625},17.633697773336593,null,null,0,3794.6066761597112,{"$f":"AVERAGE(D$79:D428)","v":3771.0278822544642},{"$f":"AVERAGE(M$79:M428)","v":3785.0492676022636},3776.2778578541852,{"$f":"AVERAGE(P$79:P428)","v":3752.3900650456085},633,null,null,null,null,null,null,0,633,-1050.6008547279116,null,null,null,null,null,null,null,null,null,null,null,null,null,40098.110393517869,{"$f":"LOOKUP($AO428,Data!$A$6:$A$1806,Data!$B$6:$B$1806)","v":59.980998992919922},{"$f":"LOOKUP($AO428,Data!$A$6:$A$1806,Data!$C$6:$C$1806)","v":3745.73828125},{"$f":"LOOKUP($AO428,Data!$A$6:$A$1806,Data!$D$6:$D$1806)","v":350},{"$f":"IF($AS$1=\"+\",LOOKUP($AO428,Data!$A$6:$A$1806,Data!$E$6:$E$1806)*-1,LOOKUP($AO428,Data!$A$6:$A$1806,Data!$E$6:$E$1806))","v":-262.10260009765625},{"$f":"LOOKUP($AO428,Data!$A$6:$A$1806,Data!$F$6:$F$1806)","v":0},{"$f":"LOOKUP($AO428,Data!$A$6:$A$1806,Data!$G$6:$G$1806)","v":161.5},{"$f":"LOOKUP($AO428,Data!$A$6:$A$1806,Data!$H$6:$H$1806)","v":10},{"$f":"LOOKUP($AO428,Data!$A$6:$A$1806,Data!$I$6:$I$1806)","v":15},{"$f":"LOOKUP($AO428,Data!$A$6:$A$1806,Data!$J$6:$J$1806)","v":-103},{"$f":"LOOKUP($AO428,Data!$A$6:$A$1806,Data!$K$6:$K$1806)","v":7606.59},{"$f":"(IF((AP428-$L$2)>0,((AP428-$L$2-$L$5)/(($L$4*$L$2)-$L$5)*$L$3*-1),((AP428-$L$2+$L$5)/(($L$4*$L$2)-$L$5)*$L$3*-1)))","v":15.2008056640625}]
[null,40098.110416666015,{"$f":"LOOKUP(B429,Data!$A$6:$A$1806,Data!B$6:B$1806)","v":59.980998992919922},{"$f":"LOOKUP(B429,Data!$A$6:$A$1806,Data!C$6:C$1806)","v":3745.73828125},null,null,null,15.2008056640625,16.782185535090662,null,null,0,3793.7551639214653,{"$f":"AVERAGE(D$79:D429)","v":3770.9558321091522},{"$f":"AVERAGE(M$79:M429)","v":3785.07407072568},3776.2778578541852,{"$f":"AVERAGE(P$79:P429)","v":3752.4583158822047},633,null,null,null,null,null,null,0,633,-1050.6008547279116,null,null,null,null,null,null,null,null,null,null,null,null,null,40098.110416666015,{"$f":"LOOKUP($AO429,Data!$A$6:$A$1806,Data!$B$6:$B$1806)","v":59.980998992919922},{"$f":"LOOKUP($AO429,Data!$A$6:$A$1806,Data!$C$6:$C$1806)","v":3745.73828125},{"$f":"LOOKUP($AO429,Data!$A$6:$A$1806,Data!$D$6:$D$1806)","v":350},{"$f":"IF($AS$1=\"+\",LOOKUP($AO429,Data!$A$6:$A$1806,Data!$E$6:$E$1806)*-1,LOOKUP($AO429,Data!$A$6:$A$1806,Data!$E$6:$E$1806))","v":-262.10260009765625},{"$f":"LOOKUP($AO429,Data!$A$6:$A$1806,Data!$F$6:$F$1806)","v":0},{"$f":"LOOKUP($AO429,Data!$A$6:$A$1806,Data!$G$6:$G$1806)","v":161.5},{"$f":"LOOKUP($AO429,Data!$A$6:$A$1806,Data!$H$6:$H$1806)","v":10},{"$f":"LOOKUP($AO429,Data!$A$6:$A$1806,Data!$I$6:$I$1806)","v":15},{"$f":"LOOKUP($AO429,Data!$A$6:$A$1806,Data!$J$6:$J$1806)","v":-103},{"$f":"LOOKUP($AO429,Data!$A$6:$A$1806,Data!$K$6:$K$1806)","v":7606.59},15.2008056640625]
[null,{"$f":"B429+TIME(0,0,$B$1)","v":40098.110439814162},{"$f":"LOOKUP(B430,Data!$A$6:$A$1806,Data!B$6:B$1806)","v":59.981998443603516},{"$f":"LOOKUP(B430,Data!$A$6:$A$1806,Data!C$6:C$1806)","v":3741.6181640625},null,null,null,14.4012451171875,15.948856388824556,null,null,0,3792.9218347751994,{"$f":"AVERAGE(D$79:D430)","v":3770.8724864612927},{"$f":"AVERAGE(M$79:M430)","v":3785.0963655099117},3776.2778578541852,{"$f":"AVERAGE(P$79:P430)","v":3752.5261778251447},633,null,null,null,null,null,null,0,633,-1068.3222404635442,null,null,null,null,null,null,null,null,null,null,null,null,null,40098.110439814162,{"$f":"LOOKUP($AO430,Data!$A$6:$A$1806,Data!$B$6:$B$1806)","v":59.981998443603516},{"$f":"LOOKUP($AO430,Data!$A$6:$A$1806,Data!$C$6:$C$1806)","v":3741.6181640625},{"$f":"LOOKUP($AO430,Data!$A$6:$A$1806,Data!$D$6:$D$1806)","v":350},{"$f":"IF($AS$1=\"+\",LOOKUP($AO430,Data!$A$6:$A$1806,Data!$E$6:$E$1806)*-1,LOOKUP($AO430,Data!$A$6:$A$1806,Data!$E$6:$E$1806))","v":-262.10260009765625},{"$f":"LOOKUP($AO430,Data!$A$6:$A$1806,Data!$F$6:$F$1806)","v":0},{"$f":"LOOKUP($AO430,Data!$A$6:$A$1806,Data!$G$6:$G$1806)","v":162},{"$f":"LOOKUP($AO430,Data!$A$6:$A$1806,Data!$H$6:$H$1806)","v":10},{"$f":"LOOKUP($AO430,Data!$A$6:$A$1806,Data!$I$6:$I$1806)","v":15},{"$f":"LOOKUP($AO430,Data!$A$6:$A$1806,Data!$J$6:$J$1806)","v":-103},{"$f":"LOOKUP($AO430,Data!$A$6:$A$1806,Data!$K$6:$K$1806)","v":7606.92},14.4012451171875]
[null,40098.110462962308,{"$f":"LOOKUP(B431,Data!$A$6:$A$1806,Data!B$6:B$1806)","v":59.981998443603516},{"$f":"LOOKUP(B431,Data!$A$6:$A$1806,Data!C$6:C$1806)","v":3741.6181640625},null,null,null,14.4012451171875,15.407192443751587,null,null,0,3792.3801708301262,{"$f":"AVERAGE(D$79:D431)","v":3770.789613026735},{"$f":"AVERAGE(M$79:M431)","v":3785.1169995193172},3776.2778578541852,{"$f":"AVERAGE(P$79:P431)","v":3752.5936541888641},633,null,null,null,null,null,null,0,633,-1068.3222404635442,null,null,null,null,null,null,null,null,null,null,null,null,null,40098.110462962308,{"$f":"LOOKUP($AO431,Data!$A$6:$A$1806,Data!$B$6:$B$1806)","v":59.981998443603516},{"$f":"LOOKUP($AO431,Data!$A$6:$A$1806,Data!$C$6:$C$1806)","v":3741.6181640625},{"$f":"LOOKUP($AO431,Data!$A$6:$A$1806,Data!$D$6:$D$1806)","v":350},{"$f":"IF($AS$1=\"+\",LOOKUP($AO431,Data!$A$6:$A$1806,Data!$E$6:$E$1806)*-1,LOOKUP($AO431,Data!$A$6:$A$1806,Data!$E$6:$E$1806))","v":-262.10260009765625},{"$f":"LOOKUP($AO431,Data!$A$6:$A$1806,Data!$F$6:$F$1806)","v":0},{"$f":"LOOKUP($AO431,Data!$A$6:$A$1806,Data!$G$6:$G$1806)","v":162},{"$f":"LOOKUP($AO431,Data!$A$6:$A$1806,Data!$H$6:$H$1806)","v":10},{"$f":"LOOKUP($AO431,Data!$A$6:$A$1806,Data!$I$6:$I$1806)","v":15},{"$f":"LOOKUP($AO431,Data!$A$6:$A$1806,Data!$J$6:$J$1806)","v":-103},{"$f":"LOOKUP($AO431,Data!$A$6:$A$1806,Data!$K$6:$K$1806)","v":7606.92},14.4012451171875]
[null,40098.110486110454,{"$f":"LOOKUP(B432,Data!$A$6:$A$1806,Data!B$6:B$1806)","v":59.984001159667969},{"$f":"LOOKUP(B432,Data!$A$6:$A$1806,Data!C$6:C$1806)","v":3738.9013671875},null,null,null,12.799072265625,14.494350381407282,null,null,0,3791.467328767782,{"$f":"AVERAGE(D$79:D432)","v":3770.6995332362289},{"$f":"AVERAGE(M$79:M432)","v":3785.1349383025049},3776.2778578541852,{"$f":"AVERAGE(P$79:P432)","v":3752.6607482502391},633,null,null,null,null,null,null,0,633,-1105.6948325837081,null,null,null,null,null,null,null,null,null,null,null,null,null,40098.110486110454,{"$f":"LOOKUP($AO432,Data!$A$6:$A$1806,Data!$B$6:$B$1806)","v":59.984001159667969},{"$f":"LOOKUP($AO432,Data!$A$6:$A$1806,Data!$C$6:$C$1806)","v":3738.9013671875},{"$f":"LOOKUP($AO432,Data!$A$6:$A$1806,Data!$D$6:$D$1806)","v":350},{"$f":"IF($AS$1=\"+\",LOOKUP($AO432,Data!$A$6:$A$1806,Data!$E$6:$E$1806)*-1,LOOKUP($AO432,Data!$A$6:$A$1806,Data!$E$6:$E$1806))","v":-262.10260009765625},{"$f":"LOOKUP($AO432,Data!$A$6:$A$1806,Data!$F$6:$F$1806)","v":0},{"$f":"LOOKUP($AO432,Data!$A$6:$A$1806,Data!$G$6:$G$1806)","v":162.5},{"$f":"LOOKUP($AO432,Data!$A$6:$A$1806,Data!$H$6:$H$1806)","v":10},{"$f":"LOOKUP($AO432,Data!$A$6:$A$1806,Data!$I$6:$I$1806)","v":15},{"$f":"LOOKUP($AO432,Data!$A$6:$A$1806,Data!$J$6:$J$1806)","v":-103},{"$f":"LOOKUP($AO432,Data!$A$6:$A$1806,Data!$K$6:$K$1806)","v":7607.25},12.799072265625]
[null,40098.1105092586,{"$f":"LOOKUP(B433,Data!$A$6:$A$1806,Data!B$6:B$1806)","v":59.984001159667969},{"$f":"LOOKUP(B433,Data!$A$6:$A$1806,Data!C$6:C$1806)","v":3738.9013671875},null,null,null,12.799072265625,13.901003040883483,null,null,0,3790.8739814272581,{"$f":"AVERAGE(D$79:D433)","v":3770.6099609375001},{"$f":"AVERAGE(M$79:M433)","v":3785.1511046211663},3776.2778578541852,{"$f":"AVERAGE(P$79:P433)","v":3752.7274632491203},633,null,null,null,null,null,null,0,633,-1105.6948325837081,null,null,null,null,null,null,null,null,null,null,null,null,null,40098.1105092586,{"$f":"LOOKUP($AO433,Data!$A$6:$A$1806,Data!$B$6:$B$1806)","v":59.984001159667969},{"$f":"LOOKUP($AO433,Data!$A$6:$A$1806,Data!$C$6:$C$1806)","v":3738.9013671875},{"$f":"LOOKUP($AO433,Data!$A$6:$A$1806,Data!$D$6:$D$1806)","v":350},{"$f":"IF($AS$1=\"+\",LOOKUP($AO433,Data!$A$6:$A$1806,Data!$E$6:$E$1806)*-1,LOOKUP($AO433,Data!$A$6:$A$1806,Data!$E$6:$E$1806))","v":-262.10260009765625},{"$f":"LOOKUP($AO433,Data!$A$6:$A$1806,Data!$F$6:$F$1806)","v":0},{"$f":"LOOKUP($AO433,Data!$A$6:$A$1806,Data!$G$6:$G$1806)","v":162.5},{"$f":"LOOKUP($AO433,Data!$A$6:$A$1806,Data!$H$6:$H$1806)","v":10},{"$f":"LOOKUP($AO433,Data!$A$6:$A$1806,Data!$I$6:$I$1806)","v":15},{"$f":"LOOKUP($AO433,Data!$A$6:$A$1806,Data!$J$6:$J$1806)","v":-103},{"$f":"LOOKUP($AO433,Data!$A$6:$A$1806,Data!$K$6:$K$1806)","v":7607.25},12.799072265625]
[null,40098.110532406747,{"$f":"LOOKUP(B434,Data!$A$6:$A$1806,Data!B$6:B$1806)","v":59.984001159667969},{"$f":"LOOKUP(B434,Data!$A$6:$A$1806,Data!C$6:C$1806)","v":3738.9013671875},null,null,null,12.799072265625,13.515327269543015,null,null,0,3790.4883056559174,{"$f":"AVERAGE(D$79:D434)","v":3770.5208918539324},{"$f":"AVERAGE(M$79:M434)","v":3785.1660967589046},3776.2778578541852,{"$f":"AVERAGE(P$79:P434)","v":3752.7938023888532},633,null,null,null,null,null,null,0,633,-1105.6948325837081,null,null,null,null,null,null,null,null,null,null,null,null,null,40098.110532406747,{"$f":"LOOKUP($AO434,Data!$A$6:$A$1806,Data!$B$6:$B$1806)","v":59.984001159667969},{"$f":"LOOKUP($AO434,Data!$A$6:$A$1806,Data!$C$6:$C$1806)","v":3738.9013671875},{"$f":"LOOKUP($AO434,Data!$A$6:$A$1806,Data!$D$6:$D$1806)","v":350},{"$f":"IF($AS$1=\"+\",LOOKUP($AO434,Data!$A$6:$A$1806,Data!$E$6:$E$1806)*-1,LOOKUP($AO434,Data!$A$6:$A$1806,Data!$E$6:$E$1806))","v":-262.10260009765625},{"$f":"LOOKUP($AO434,Data!$A$6:$A$1806,Data!$F$6:$F$1806)","v":0},{"$f":"LOOKUP($AO434,Data!$A$6:$A$1806,Data!$G$6:$G$1806)","v":162.5},{"$f":"LOOKUP($AO434,Data!$A$6:$A$1806,Data!$H$6:$H$1806)","v":10},{"$f":"LOOKUP($AO434,Data!$A$6:$A$1806,Data!$I$6:$I$1806)","v":15},{"$f":"LOOKUP($AO434,Data!$A$6:$A$1806,Data!$J$6:$J$1806)","v":-103},{"$f":"LOOKUP($AO434,Data!$A$6:$A$1806,Data!$K$6:$K$1806)","v":7607.25},12.799072265625]
[null,40098.110555554893,{"$f":"LOOKUP(B435,Data!$A$6:$A$1806,Data!B$6:B$1806)","v":59.979000091552734},{"$f":"LOOKUP(B435,Data!$A$6:$A$1806,Data!C$6:C$1806)","v":3737.273193359375},null,null,null,16.7999267578125,14.664937090437334,null,null,0,3791.6379154768119,{"$f":"AVERAGE(D$79:D435)","v":3770.4277610458244},{"$f":"AVERAGE(M$79:M435)","v":3785.1842251026524},3776.2778578541852,{"$f":"AVERAGE(P$79:P435)","v":3752.85976883679},633,null,null,null,null,null,null,0,633,-1016.8652265833257,null,null,null,null,null,null,null,null,null,null,null,null,null,40098.110555554893,{"$f":"LOOKUP($AO435,Data!$A$6:$A$1806,Data!$B$6:$B$1806)","v":59.979000091552734},{"$f":"LOOKUP($AO435,Data!$A$6:$A$1806,Data!$C$6:$C$1806)","v":3737.273193359375},{"$f":"LOOKUP($AO435,Data!$A$6:$A$1806,Data!$D$6:$D$1806)","v":350},{"$f":"IF($AS$1=\"+\",LOOKUP($AO435,Data!$A$6:$A$1806,Data!$E$6:$E$1806)*-1,LOOKUP($AO435,Data!$A$6:$A$1806,Data!$E$6:$E$1806))","v":-262.10260009765625},{"$f":"LOOKUP($AO435,Data!$A$6:$A$1806,Data!$F$6:$F$1806)","v":0},{"$f":"LOOKUP($AO435,Data!$A$6:$A$1806,Data!$G$6:$G$1806)","v":163},{"$f":"LOOKUP($AO435,Data!$A$6:$A$1806,Data!$H$6:$H$1806)","v":10},{"$f":"LOOKUP($AO435,Data!$A$6:$A$1806,Data!$I$6:$I$1806)","v":15},{"$f":"LOOKUP($AO435,Data!$A$6:$A$1806,Data!$J$6:$J$1806)","v":-103},{"$f":"LOOKUP($AO435,Data!$A$6:$A$1806,Data!$K$6:$K$1806)","v":7607.58},16.7999267578125]
[null,40098.110578703039,{"$f":"LOOKUP(B436,Data!$A$6:$A$1806,Data!B$6:B$1806)","v":59.979000091552734},{"$f":"LOOKUP(B436,Data!$A$6:$A$1806,Data!C$6:C$1806)","v":3737.273193359375},null,null,null,16.7999267578125,15.412183474018642,null,null,0,3792.3851618603931,{"$f":"AVERAGE(D$79:D436)","v":3770.3351505215605},{"$f":"AVERAGE(M$79:M436)","v":3785.2043394511379},3776.2778578541852,{"$f":"AVERAGE(P$79:P436)","v":3752.9253657247941},633,null,null,null,null,null,null,0,633,-1016.8652265833257,null,null,null,null,null,null,null,null,null,null,null,null,null,40098.110578703039,{"$f":"LOOKUP($AO436,Data!$A$6:$A$1806,Data!$B$6:$B$1806)","v":59.979000091552734},{"$f":"LOOKUP($AO436,Data!$A$6:$A$1806,Data!$C$6:$C$1806)","v":3737.273193359375},{"$f":"LOOKUP($AO436,Data!$A$6:$A$1806,Data!$D$6:$D$1806)","v":350},{"$f":"IF($AS$1=\"+\",LOOKUP($AO436,Data!$A$6:$A$1806,Data!$E$6:$E$1806)*-1,LOOKUP($AO436,Data!$A$6:$A$1806,Data!$E$6:$E$1806))","v":-262.10260009765625},{"$f":"LOOKUP($AO436,Data!$A$6:$A$1806,Data!$F$6:$F$1806)","v":0},{"$f":"LOOKUP($AO436,Data!$A$6:$A$1806,Data!$G$6:$G$1806)","v":163},{"$f":"LOOKUP($AO436,Data!$A$6:$A$1806,Data!$H$6:$H$1806)","v":10},{"$f":"LOOKUP($AO436,Data!$A$6:$A$1806,Data!$I$6:$I$1806)","v":15},{"$f":"LOOKUP($AO436,Data!$A$6:$A$1806,Data!$J$6:$J$1806)","v":-103},{"$f":"LOOKUP($AO436,Data!$A$6:$A$1806,Data!$K$6:$K$1806)","v":7607.58},16.7999267578125]
[null,40098.110601851185,{"$f":"LOOKUP(B437,Data!$A$6:$A$1806,Data!B$6:B$1806)","v":59.978000640869141},{"$f":"LOOKUP(B437,Data!$A$6:$A$1806,Data!C$6:C$1806)","v":3735.4482421875},null,null,null,17.5994873046875,16.177739814752741,null,null,0,3793.1507182011273,{"$f":"AVERAGE(D$79:D437)","v":3770.2379725039173},{"$f":"AVERAGE(M$79:M437)","v":3785.2264742108873},3776.2778578541852,{"$f":"AVERAGE(P$79:P437)","v":3752.9905961497366},633,null,null,null,null,null,null,0,633,-1000.7970326588462,null,null,null,null,null,null,null,null,null,null,null,null,null,40098.110601851185,{"$f":"LOOKUP($AO437,Data!$A$6:$A$1806,Data!$B$6:$B$1806)","v":59.978000640869141},{"$f":"LOOKUP($AO437,Data!$A$6:$A$1806,Data!$C$6:$C$1806)","v":3735.4482421875},{"$f":"LOOKUP($AO437,Data!$A$6:$A$1806,Data!$D$6:$D$1806)","v":350},{"$f":"IF($AS$1=\"+\",LOOKUP($AO437,Data!$A$6:$A$1806,Data!$E$6:$E$1806)*-1,LOOKUP($AO437,Data!$A$6:$A$1806,Data!$E$6:$E$1806))","v":-262.10260009765625},{"$f":"LOOKUP($AO437,Data!$A$6:$A$1806,Data!$F$6:$F$1806)","v":0},{"$f":"LOOKUP($AO437,Data!$A$6:$A$1806,Data!$G$6:$G$1806)","v":163.5},{"$f":"LOOKUP($AO437,Data!$A$6:$A$1806,Data!$H$6:$H$1806)","v":10},{"$f":"LOOKUP($AO437,Data!$A$6:$A$1806,Data!$I$6:$I$1806)","v":15},{"$f":"LOOKUP($AO437,Data!$A$6:$A$1806,Data!$J$6:$J$1806)","v":-103},{"$f":"LOOKUP($AO437,Data!$A$6:$A$1806,Data!$K$6:$K$1806)","v":7607.91},17.5994873046875]
[null,40098.110624999332,{"$f":"LOOKUP(B438,Data!$A$6:$A$1806,Data!B$6:B$1806)","v":59.978000640869141},{"$f":"LOOKUP(B438,Data!$A$6:$A$1806,Data!C$6:C$1806)","v":3735.4482421875},null,null,null,17.5994873046875,16.675351436229906,null,null,0,3793.6483298226044,{"$f":"AVERAGE(D$79:D438)","v":3770.1413343641493},{"$f":"AVERAGE(M$79:M438)","v":3785.2498682542528},3776.2778578541852,{"$f":"AVERAGE(P$79:P438)","v":3753.0554631739833},633,null,null,null,null,null,null,0,633,-1000.7970326588462,null,null,null,null,null,null,null,null,null,null,null,null,null,40098.110624999332,{"$f":"LOOKUP($AO438,Data!$A$6:$A$1806,Data!$B$6:$B$1806)","v":59.978000640869141},{"$f":"LOOKUP($AO438,Data!$A$6:$A$1806,Data!$C$6:$C$1806)","v":3735.4482421875},{"$f":"LOOKUP($AO438,Data!$A$6:$A$1806,Data!$D$6:$D$1806)","v":350},{"$f":"IF($AS$1=\"+\",LOOKUP($AO438,Data!$A$6:$A$1806,Data!$E$6:$E$1806)*-1,LOOKUP($AO438,Data!$A$6:$A$1806,Data!$E$6:$E$1806))","v":-262.10260009765625},{"$f":"LOOKUP($AO438,Data!$A$6:$A$1806,Data!$F$6:$F$1806)","v":0},{"$f":"LOOKUP($AO438,Data!$A$6:$A$1806,Data!$G$6:$G$1806)","v":163.5},{"$f":"LOOKUP($AO438,Data!$A$6:$A$1806,Data!$H$6:$H$1806)","v":10},{"$f":"LOOKUP($AO438,Data!$A$6:$A$1806,Data!$I$6:$I$1806)","v":15},{"$f":"LOOKUP($AO438,Data!$A$6:$A$1806,Data!$J$6:$J$1806)","v":-103},{"$f":"LOOKUP($AO438,Data!$A$6:$A$1806,Data!$K$6:$K$1806)","v":7607.91},17.5994873046875]
[null,40098.110648147478,{"$f":"LOOKUP(B439,Data!$A$6:$A$1806,Data!B$6:B$1806)","v":59.978000640869141},{"$f":"LOOKUP(B439,Data!$A$6:$A$1806,Data!C$6:C$1806)","v":3735.4482421875},null,null,null,17.5994873046875,16.998798990190064,null,null,0,3793.9717773765647,{"$f":"AVERAGE(D$79:D439)","v":3770.0452316157375},{"$f":"AVERAGE(M$79:M439)","v":3785.2740286673338},3776.2778578541852,{"$f":"AVERAGE(P$79:P439)","v":3753.1199698258729},633,null,null,null,null,null,null,0,633,-1000.7970326588462,null,null,null,null,null,null,null,null,null,null,null,null,null,40098.110648147478,{"$f":"LOOKUP($AO439,Data!$A$6:$A$1806,Data!$B$6:$B$1806)","v":59.978000640869141},{"$f":"LOOKUP($AO439,Data!$A$6:$A$1806,Data!$C$6:$C$1806)","v":3735.4482421875},{"$f":"LOOKUP($AO439,Data!$A$6:$A$1806,Data!$D$6:$D$1806)","v":350},{"$f":"IF($AS$1=\"+\",LOOKUP($AO439,Data!$A$6:$A$1806,Data!$E$6:$E$1806)*-1,LOOKUP($AO439,Data!$A$6:$A$1806,Data!$E$6:$E$1806))","v":-262.10260009765625},{"$f":"LOOKUP($AO439,Data!$A$6:$A$1806,Data!$F$6:$F$1806)","v":0},{"$f":"LOOKUP($AO439,Data!$A$6:$A$1806,Data!$G$6:$G$1806)","v":163.5},{"$f":"LOOKUP($AO439,Data!$A$6:$A$1806,Data!$H$6:$H$1806)","v":10},{"$f":"LOOKUP($AO439,Data!$A$6:$A$1806,Data!$I$6:$I$1806)","v":15},{"$f":"LOOKUP($AO439,Data!$A$6:$A$1806,Data!$J$6:$J$1806)","v":-103},{"$f":"LOOKUP($AO439,Data!$A$6:$A$1806,Data!$K$6:$K$1806)","v":7607.91},17.5994873046875]
[null,40098.110671295624,{"$f":"LOOKUP(B440,Data!$A$6:$A$1806,Data!B$6:B$1806)","v":59.980998992919922},{"$f":"LOOKUP(B440,Data!$A$6:$A$1806,Data!C$6:C$1806)","v":3737.54052734375},null,null,null,15.2008056640625,16.369501326045416,null,null,0,3793.3424797124198,{"$f":"AVERAGE(D$79:D440)","v":3769.9554396149861},{"$f":"AVERAGE(M$79:M440)","v":3785.2963172061322},3776.2778578541852,{"$f":"AVERAGE(P$79:P440)","v":3753.1841191001895},633,null,null,null,null,null,null,0,633,-1050.6008547279116,null,null,null,null,null,null,null,null,null,null,null,null,null,40098.110671295624,{"$f":"LOOKUP($AO440,Data!$A$6:$A$1806,Data!$B$6:$B$1806)","v":59.980998992919922},{"$f":"LOOKUP($AO440,Data!$A$6:$A$1806,Data!$C$6:$C$1806)","v":3737.54052734375},{"$f":"LOOKUP($AO440,Data!$A$6:$A$1806,Data!$D$6:$D$1806)","v":350},{"$f":"IF($AS$1=\"+\",LOOKUP($AO440,Data!$A$6:$A$1806,Data!$E$6:$E$1806)*-1,LOOKUP($AO440,Data!$A$6:$A$1806,Data!$E$6:$E$1806))","v":-262.71701049804687},{"$f":"LOOKUP($AO440,Data!$A$6:$A$1806,Data!$F$6:$F$1806)","v":0},{"$f":"LOOKUP($AO440,Data!$A$6:$A$1806,Data!$G$6:$G$1806)","v":164},{"$f":"LOOKUP($AO440,Data!$A$6:$A$1806,Data!$H$6:$H$1806)","v":10},{"$f":"LOOKUP($AO440,Data!$A$6:$A$1806,Data!$I$6:$I$1806)","v":15},{"$f":"LOOKUP($AO440,Data!$A$6:$A$1806,Data!$J$6:$J$1806)","v":-103},{"$f":"LOOKUP($AO440,Data!$A$6:$A$1806,Data!$K$6:$K$1806)","v":7608.24},15.2008056640625]
[null,40098.110694443771,{"$f":"LOOKUP(B441,Data!$A$6:$A$1806,Data!B$6:B$1806)","v":59.980998992919922},{"$f":"LOOKUP(B441,Data!$A$6:$A$1806,Data!C$6:C$1806)","v":3737.54052734375},null,null,null,15.2008056640625,15.960457844351396,null,null,0,3792.9334362307259,{"$f":"AVERAGE(D$79:D441)","v":3769.8661423360022},{"$f":"AVERAGE(M$79:M441)","v":3785.3173561015169},3776.2778578541852,{"$f":"AVERAGE(P$79:P441)","v":3753.2479139586262},633,null,null,null,null,null,null,0,633,-1050.6008547279116,null,null,null,null,null,null,null,null,null,null,null,null,null,40098.110694443771,{"$f":"LOOKUP($AO441,Data!$A$6:$A$1806,Data!$B$6:$B$1806)","v":59.980998992919922},{"$f":"LOOKUP($AO441,Data!$A$6:$A$1806,Data!$C$6:$C$1806)","v":3737.54052734375},{"$f":"LOOKUP($AO441,Data!$A$6:$A$1806,Data!$D$6:$D$1806)","v":350},{"$f":"IF($AS$1=\"+\",LOOKUP($AO441,Data!$A$6:$A$1806,Data!$E$6:$E$1806)*-1,LOOKUP($AO441,Data!$A$6:$A$1806,Data!$E$6:$E$1806))","v":-262.71701049804687},{"$f":"LOOKUP($AO441,Data!$A$6:$A$1806,Data!$F$6:$F$1806)","v":0},{"$f":"LOOKUP($AO441,Data!$A$6:$A$1806,Data!$G$6:$G$1806)","v":164},{"$f":"LOOKUP($AO441,Data!$A$6:$A$1806,Data!$H$6:$H$1806)","v":10},{"$f":"LOOKUP($AO441,Data!$A$6:$A$1806,Data!$I$6:$I$1806)","v":15},{"$f":"LOOKUP($AO441,Data!$A$6:$A$1806,Data!$J$6:$J$1806)","v":-103},{"$f":"LOOKUP($AO441,Data!$A$6:$A$1806,Data!$K$6:$K$1806)","v":7608.24},15.2008056640625]
[null,40098.110717591917,{"$f":"LOOKUP(B442,Data!$A$6:$A$1806,Data!B$6:B$1806)","v":59.978000640869141},{"$f":"LOOKUP(B442,Data!$A$6:$A$1806,Data!C$6:C$1806)","v":3736.693115234375},null,null,null,17.5994873046875,16.534118155469031,null,null,0,3793.5070965418436,{"$f":"AVERAGE(D$79:D442)","v":3769.7750076461625},{"$f":"AVERAGE(M$79:M442)","v":3785.3398553884408},3776.2778578541852,{"$f":"AVERAGE(P$79:P442)","v":3753.3113573302398},633,null,null,null,null,null,null,0,633,-1000.7970326588462,null,null,null,null,null,null,null,null,null,null,null,null,null,40098.110717591917,{"$f":"LOOKUP($AO442,Data!$A$6:$A$1806,Data!$B$6:$B$1806)","v":59.978000640869141},{"$f":"LOOKUP($AO442,Data!$A$6:$A$1806,Data!$C$6:$C$1806)","v":3736.693115234375},{"$f":"LOOKUP($AO442,Data!$A$6:$A$1806,Data!$D$6:$D$1806)","v":350},{"$f":"IF($AS$1=\"+\",LOOKUP($AO442,Data!$A$6:$A$1806,Data!$E$6:$E$1806)*-1,LOOKUP($AO442,Data!$A$6:$A$1806,Data!$E$6:$E$1806))","v":-262.71701049804687},{"$f":"LOOKUP($AO442,Data!$A$6:$A$1806,Data!$F$6:$F$1806)","v":0},{"$f":"LOOKUP($AO442,Data!$A$6:$A$1806,Data!$G$6:$G$1806)","v":164.5},{"$f":"LOOKUP($AO442,Data!$A$6:$A$1806,Data!$H$6:$H$1806)","v":10},{"$f":"LOOKUP($AO442,Data!$A$6:$A$1806,Data!$I$6:$I$1806)","v":15},{"$f":"LOOKUP($AO442,Data!$A$6:$A$1806,Data!$J$6:$J$1806)","v":-103},{"$f":"LOOKUP($AO442,Data!$A$6:$A$1806,Data!$K$6:$K$1806)","v":7608.57},17.5994873046875]
[null,40098.110740740063,{"$f":"LOOKUP(B443,Data!$A$6:$A$1806,Data!B$6:B$1806)","v":59.978000640869141},{"$f":"LOOKUP(B443,Data!$A$6:$A$1806,Data!C$6:C$1806)","v":3736.693115234375},null,null,null,17.5994873046875,16.906997357695495,null,null,0,3793.8799757440702,{"$f":"AVERAGE(D$79:D443)","v":3769.6843723244865},{"$f":"AVERAGE(M$79:M443)","v":3785.3632529784563},3776.2778578541852,{"$f":"AVERAGE(P$79:P443)","v":3753.3744521118992},633,null,null,null,null,null,null,0,633,-1000.7970326588462,null,null,null,null,null,null,null,null,null,null,null,null,null,40098.110740740063,{"$f":"LOOKUP($AO443,Data!$A$6:$A$1806,Data!$B$6:$B$1806)","v":59.978000640869141},{"$f":"LOOKUP($AO443,Data!$A$6:$A$1806,Data!$C$6:$C$1806)","v":3736.693115234375},{"$f":"LOOKUP($AO443,Data!$A$6:$A$1806,Data!$D$6:$D$1806)","v":350},{"$f":"IF($AS$1=\"+\",LOOKUP($AO443,Data!$A$6:$A$1806,Data!$E$6:$E$1806)*-1,LOOKUP($AO443,Data!$A$6:$A$1806,Data!$E$6:$E$1806))","v":-262.71701049804687},{"$f":"LOOKUP($AO443,Data!$A$6:$A$1806,Data!$F$6:$F$1806)","v":0},{"$f":"LOOKUP($AO443,Data!$A$6:$A$1806,Data!$G$6:$G$1806)","v":164.5},{"$f":"LOOKUP($AO443,Data!$A$6:$A$1806,Data!$H$6:$H$1806)","v":10},{"$f":"LOOKUP($AO443,Data!$A$6:$A$1806,Data!$I$6:$I$1806)","v":15},{"$f":"LOOKUP($AO443,Data!$A$6:$A$1806,Data!$J$6:$J$1806)","v":-103},{"$f":"LOOKUP($AO443,Data!$A$6:$A$1806,Data!$K$6:$K$1806)","v":7608.57},17.5994873046875]
[null,40098.110763888209,{"$f":"LOOKUP(B444,Data!$A$6:$A$1806,Data!B$6:B$1806)","v":59.978000640869141},{"$f":"LOOKUP(B444,Data!$A$6:$A$1806,Data!C$6:C$1806)","v":3736.693115234375},null,null,null,17.5994873046875,17.149368839142696,null,null,0,3794.1223472255174,{"$f":"AVERAGE(D$79:D444)","v":3769.5942322777919},{"$f":"AVERAGE(M$79:M444)","v":3785.3871849299508},3776.2778578541852,{"$f":"AVERAGE(P$79:P444)","v":3753.4372011687274},633,null,null,null,null,null,null,0,633,-1000.7970326588462,null,null,null,null,null,null,null,null,null,null,null,null,null,40098.110763888209,{"$f":"LOOKUP($AO444,Data!$A$6:$A$1806,Data!$B$6:$B$1806)","v":59.978000640869141},{"$f":"LOOKUP($AO444,Data!$A$6:$A$1806,Data!$C$6:$C$1806)","v":3736.693115234375},{"$f":"LOOKUP($AO444,Data!$A$6:$A$1806,Data!$D$6:$D$1806)","v":350},{"$f":"IF($AS$1=\"+\",LOOKUP($AO444,Data!$A$6:$A$1806,Data!$E$6:$E$1806)*-1,LOOKUP($AO444,Data!$A$6:$A$1806,Data!$E$6:$E$1806))","v":-262.71701049804687},{"$f":"LOOKUP($AO444,Data!$A$6:$A$1806,Data!$F$6:$F$1806)","v":0},{"$f":"LOOKUP($AO444,Data!$A$6:$A$1806,Data!$G$6:$G$1806)","v":164.5},{"$f":"LOOKUP($AO444,Data!$A$6:$A$1806,Data!$H$6:$H$1806)","v":10},{"$f":"LOOKUP($AO444,Data!$A$6:$A$1806,Data!$I$6:$I$1806)","v":15},{"$f":"LOOKUP($AO444,Data!$A$6:$A$1806,Data!$J$6:$J$1806)","v":-103},{"$f":"LOOKUP($AO444,Data!$A$6:$A$1806,Data!$K$6:$K$1806)","v":7608.57},17.5994873046875]
[null,40098.110787036356,{"$f":"LOOKUP(B445,Data!$A$6:$A$1806,Data!B$6:B$1806)","v":59.971000671386719},{"$f":"LOOKUP(B445,Data!$A$6:$A$1806,Data!C$6:C$1806)","v":3736.09423828125},null,null,null,23.199462890625,19.266901757161502,null,null,0,3796.2398801435361,{"$f":"AVERAGE(D$79:D445)","v":3769.5029516401992},{"$f":"AVERAGE(M$79:M445)","v":3785.4167563065544},3776.2778578541852,{"$f":"AVERAGE(P$79:P445)","v":3753.4996073345351},633,null,null,null,null,null,null,0,633,-901.07329152072987,null,null,null,null,null,null,null,null,null,null,null,null,null,40098.110787036356,{"$f":"LOOKUP($AO445,Data!$A$6:$A$1806,Data!$B$6:$B$1806)","v":59.971000671386719},{"$f":"LOOKUP($AO445,Data!$A$6:$A$1806,Data!$C$6:$C$1806)","v":3736.09423828125},{"$f":"LOOKUP($AO445,Data!$A$6:$A$1806,Data!$D$6:$D$1806)","v":350},{"$f":"IF($AS$1=\"+\",LOOKUP($AO445,Data!$A$6:$A$1806,Data!$E$6:$E$1806)*-1,LOOKUP($AO445,Data!$A$6:$A$1806,Data!$E$6:$E$1806))","v":-262.71701049804687},{"$f":"LOOKUP($AO445,Data!$A$6:$A$1806,Data!$F$6:$F$1806)","v":0},{"$f":"LOOKUP($AO445,Data!$A$6:$A$1806,Data!$G$6:$G$1806)","v":165},{"$f":"LOOKUP($AO445,Data!$A$6:$A$1806,Data!$H$6:$H$1806)","v":10},{"$f":"LOOKUP($AO445,Data!$A$6:$A$1806,Data!$I$6:$I$1806)","v":15},{"$f":"LOOKUP($AO445,Data!$A$6:$A$1806,Data!$J$6:$J$1806)","v":-103},{"$f":"LOOKUP($AO445,Data!$A$6:$A$1806,Data!$K$6:$K$1806)","v":7608.9},23.199462890625]
[null,40098.110810184502,{"$f":"LOOKUP(B446,Data!$A$6:$A$1806,Data!B$6:B$1806)","v":59.971000671386719},{"$f":"LOOKUP(B446,Data!$A$6:$A$1806,Data!C$6:C$1806)","v":3736.09423828125},null,null,null,23.199462890625,20.643298153873729,null,null,0,3797.6162765402482,{"$f":"AVERAGE(D$79:D446)","v":3769.4121670930281},{"$f":"AVERAGE(M$79:M446)","v":3785.4499071767546},3776.2778578541852,{"$f":"AVERAGE(P$79:P446)","v":3753.5616734122455},633,null,null,null,null,null,null,0,633,-901.07329152072987,null,null,null,null,null,null,null,null,null,null,null,null,null,40098.110810184502,{"$f":"LOOKUP($AO446,Data!$A$6:$A$1806,Data!$B$6:$B$1806)","v":59.971000671386719},{"$f":"LOOKUP($AO446,Data!$A$6:$A$1806,Data!$C$6:$C$1806)","v":3736.09423828125},{"$f":"LOOKUP($AO446,Data!$A$6:$A$1806,Data!$D$6:$D$1806)","v":350},{"$f":"IF($AS$1=\"+\",LOOKUP($AO446,Data!$A$6:$A$1806,Data!$E$6:$E$1806)*-1,LOOKUP($AO446,Data!$A$6:$A$1806,Data!$E$6:$E$1806))","v":-262.71701049804687},{"$f":"LOOKUP($AO446,Data!$A$6:$A$1806,Data!$F$6:$F$1806)","v":0},{"$f":"LOOKUP($AO446,Data!$A$6:$A$1806,Data!$G$6:$G$1806)","v":165},{"$f":"LOOKUP($AO446,Data!$A$6:$A$1806,Data!$H$6:$H$1806)","v":10},{"$f":"LOOKUP($AO446,Data!$A$6:$A$1806,Data!$I$6:$I$1806)","v":15},{"$f":"LOOKUP($AO446,Data!$A$6:$A$1806,Data!$J$6:$J$1806)","v":-103},{"$f":"LOOKUP($AO446,Data!$A$6:$A$1806,Data!$K$6:$K$1806)","v":7608.9},23.199462890625]
[null,40098.110833332648,{"$f":"LOOKUP(B447,Data!$A$6:$A$1806,Data!B$6:B$1806)","v":59.9739990234375},{"$f":"LOOKUP(B447,Data!$A$6:$A$1806,Data!C$6:C$1806)","v":3738.874755859375},null,null,null,20.80078125,20.698417237517923,null,null,0,3797.6713956238923,{"$f":"AVERAGE(D$79:D447)","v":3769.3294098810129},{"$f":"AVERAGE(M$79:M447)","v":3785.4830277416518},3776.2778578541852,{"$f":"AVERAGE(P$79:P447)","v":3753.6234021743162},633,null,null,null,null,null,null,0,633,-941.24706883348927,null,null,null,null,null,null,null,null,null,null,null,null,null,40098.110833332648,{"$f":"LOOKUP($AO447,Data!$A$6:$A$1806,Data!$B$6:$B$1806)","v":59.9739990234375},{"$f":"LOOKUP($AO447,Data!$A$6:$A$1806,Data!$C$6:$C$1806)","v":3738.874755859375},{"$f":"LOOKUP($AO447,Data!$A$6:$A$1806,Data!$D$6:$D$1806)","v":350},{"$f":"IF($AS$1=\"+\",LOOKUP($AO447,Data!$A$6:$A$1806,Data!$E$6:$E$1806)*-1,LOOKUP($AO447,Data!$A$6:$A$1806,Data!$E$6:$E$1806))","v":-262.71701049804687},{"$f":"LOOKUP($AO447,Data!$A$6:$A$1806,Data!$F$6:$F$1806)","v":0},{"$f":"LOOKUP($AO447,Data!$A$6:$A$1806,Data!$G$6:$G$1806)","v":165.5},{"$f":"LOOKUP($AO447,Data!$A$6:$A$1806,Data!$H$6:$H$1806)","v":10},{"$f":"LOOKUP($AO447,Data!$A$6:$A$1806,Data!$I$6:$I$1806)","v":15},{"$f":"LOOKUP($AO447,Data!$A$6:$A$1806,Data!$J$6:$J$1806)","v":-103},{"$f":"LOOKUP($AO447,Data!$A$6:$A$1806,Data!$K$6:$K$1806)","v":7609.23},20.80078125]
[null,40098.110856480795,{"$f":"LOOKUP(B448,Data!$A$6:$A$1806,Data!B$6:B$1806)","v":59.9739990234375},{"$f":"LOOKUP(B448,Data!$A$6:$A$1806,Data!C$6:C$1806)","v":3738.874755859375},null,null,null,20.80078125,20.734244641886651,null,null,0,3797.7072230282611,{"$f":"AVERAGE(D$79:D448)","v":3769.2471000052788},{"$f":"AVERAGE(M$79:M448)","v":3785.516066107291},3776.2778578541852,{"$f":"AVERAGE(P$79:P448)","v":3753.6847963631508},633,null,null,null,null,null,null,0,633,-941.24706883348927,null,null,null,null,null,null,null,null,null,null,null,null,null,40098.110856480795,{"$f":"LOOKUP($AO448,Data!$A$6:$A$1806,Data!$B$6:$B$1806)","v":59.9739990234375},{"$f":"LOOKUP($AO448,Data!$A$6:$A$1806,Data!$C$6:$C$1806)","v":3738.874755859375},{"$f":"LOOKUP($AO448,Data!$A$6:$A$1806,Data!$D$6:$D$1806)","v":350},{"$f":"IF($AS$1=\"+\",LOOKUP($AO448,Data!$A$6:$A$1806,Data!$E$6:$E$1806)*-1,LOOKUP($AO448,Data!$A$6:$A$1806,Data!$E$6:$E$1806))","v":-262.71701049804687},{"$f":"LOOKUP($AO448,Data!$A$6:$A$1806,Data!$F$6:$F$1806)","v":0},{"$f":"LOOKUP($AO448,Data!$A$6:$A$1806,Data!$G$6:$G$1806)","v":165.5},{"$f":"LOOKUP($AO448,Data!$A$6:$A$1806,Data!$H$6:$H$1806)","v":10},{"$f":"LOOKUP($AO448,Data!$A$6:$A$1806,Data!$I$6:$I$1806)","v":15},{"$f":"LOOKUP($AO448,Data!$A$6:$A$1806,Data!$J$6:$J$1806)","v":-103},{"$f":"LOOKUP($AO448,Data!$A$6:$A$1806,Data!$K$6:$K$1806)","v":7609.23},20.80078125]
[null,40098.110879628941,{"$f":"LOOKUP(B449,Data!$A$6:$A$1806,Data!B$6:B$1806)","v":59.9739990234375},{"$f":"LOOKUP(B449,Data!$A$6:$A$1806,Data!C$6:C$1806)","v":3738.874755859375},null,null,null,20.80078125,20.757532454726324,null,null,0,3797.7305108411006,{"$f":"AVERAGE(D$79:D449)","v":3769.165233848551},{"$f":"AVERAGE(M$79:M449)","v":3785.5489891389188},3776.2778578541852,{"$f":"AVERAGE(P$79:P449)","v":3753.745858691505},633,null,null,null,null,null,null,0,633,-941.24706883348927,null,null,null,null,null,null,null,null,null,null,null,null,null,40098.110879628941,{"$f":"LOOKUP($AO449,Data!$A$6:$A$1806,Data!$B$6:$B$1806)","v":59.9739990234375},{"$f":"LOOKUP($AO449,Data!$A$6:$A$1806,Data!$C$6:$C$1806)","v":3738.874755859375},{"$f":"LOOKUP($AO449,Data!$A$6:$A$1806,Data!$D$6:$D$1806)","v":350},{"$f":"IF($AS$1=\"+\",LOOKUP($AO449,Data!$A$6:$A$1806,Data!$E$6:$E$1806)*-1,LOOKUP($AO449,Data!$A$6:$A$1806,Data!$E$6:$E$1806))","v":-262.71701049804687},{"$f":"LOOKUP($AO449,Data!$A$6:$A$1806,Data!$F$6:$F$1806)","v":0},{"$f":"LOOKUP($AO449,Data!$A$6:$A$1806,Data!$G$6:$G$1806)","v":165.5},{"$f":"LOOKUP($AO449,Data!$A$6:$A$1806,Data!$H$6:$H$1806)","v":10},{"$f":"LOOKUP($AO449,Data!$A$6:$A$1806,Data!$I$6:$I$1806)","v":15},{"$f":"LOOKUP($AO449,Data!$A$6:$A$1806,Data!$J$6:$J$1806)","v":-103},{"$f":"LOOKUP($AO449,Data!$A$6:$A$1806,Data!$K$6:$K$1806)","v":7609.23},20.80078125]
[null,40098.110902777087,{"$f":"LOOKUP(B450,Data!$A$6:$A$1806,Data!B$6:B$1806)","v":59.972000122070313},{"$f":"LOOKUP(B450,Data!$A$6:$A$1806,Data!C$6:C$1806)","v":3738.64697265625},null,null,null,22.39990234375,21.332361915884611,null,null,0,3798.3053403022586,{"$f":"AVERAGE(D$79:D450)","v":3769.0831955120129},{"$f":"AVERAGE(M$79:M450)","v":3785.5832804054867},3776.2778578541852,{"$f":"AVERAGE(P$79:P450)","v":3753.806591842887},633,null,null,null,null,null,null,0,633,-914.07801250447574,null,null,null,null,null,null,null,null,null,null,null,null,null,40098.110902777087,{"$f":"LOOKUP($AO450,Data!$A$6:$A$1806,Data!$B$6:$B$1806)","v":59.972000122070313},{"$f":"LOOKUP($AO450,Data!$A$6:$A$1806,Data!$C$6:$C$1806)","v":3738.64697265625},{"$f":"LOOKUP($AO450,Data!$A$6:$A$1806,Data!$D$6:$D$1806)","v":350},{"$f":"IF($AS$1=\"+\",LOOKUP($AO450,Data!$A$6:$A$1806,Data!$E$6:$E$1806)*-1,LOOKUP($AO450,Data!$A$6:$A$1806,Data!$E$6:$E$1806))","v":-262.71701049804687},{"$f":"LOOKUP($AO450,Data!$A$6:$A$1806,Data!$F$6:$F$1806)","v":0},{"$f":"LOOKUP($AO450,Data!$A$6:$A$1806,Data!$G$6:$G$1806)","v":166},{"$f":"LOOKUP($AO450,Data!$A$6:$A$1806,Data!$H$6:$H$1806)","v":10},{"$f":"LOOKUP($AO450,Data!$A$6:$A$1806,Data!$I$6:$I$1806)","v":15},{"$f":"LOOKUP($AO450,Data!$A$6:$A$1806,Data!$J$6:$J$1806)","v":-103},{"$f":"LOOKUP($AO450,Data!$A$6:$A$1806,Data!$K$6:$K$1806)","v":7609.56},22.39990234375]
[null,40098.110925925233,{"$f":"LOOKUP(B451,Data!$A$6:$A$1806,Data!B$6:B$1806)","v":59.972000122070313},{"$f":"LOOKUP(B451,Data!$A$6:$A$1806,Data!C$6:C$1806)","v":3738.64697265625},null,null,null,22.39990234375,21.706001065637498,null,null,0,3798.6789794520114,{"$f":"AVERAGE(D$79:D451)","v":3769.0015970593163},{"$f":"AVERAGE(M$79:M451)","v":3785.6183895182116},3776.2778578541852,{"$f":"AVERAGE(P$79:P451)","v":3753.86699847195},633,null,null,null,null,null,null,0,633,-914.07801250447574,null,null,null,null,null,null,null,null,null,null,null,null,null,40098.110925925233,{"$f":"LOOKUP($AO451,Data!$A$6:$A$1806,Data!$B$6:$B$1806)","v":59.972000122070313},{"$f":"LOOKUP($AO451,Data!$A$6:$A$1806,Data!$C$6:$C$1806)","v":3738.64697265625},{"$f":"LOOKUP($AO451,Data!$A$6:$A$1806,Data!$D$6:$D$1806)","v":350},{"$f":"IF($AS$1=\"+\",LOOKUP($AO451,Data!$A$6:$A$1806,Data!$E$6:$E$1806)*-1,LOOKUP($AO451,Data!$A$6:$A$1806,Data!$E$6:$E$1806))","v":-262.71701049804687},{"$f":"LOOKUP($AO451,Data!$A$6:$A$1806,Data!$F$6:$F$1806)","v":0},{"$f":"LOOKUP($AO451,Data!$A$6:$A$1806,Data!$G$6:$G$1806)","v":166},{"$f":"LOOKUP($AO451,Data!$A$6:$A$1806,Data!$H$6:$H$1806)","v":10},{"$f":"LOOKUP($AO451,Data!$A$6:$A$1806,Data!$I$6:$I$1806)","v":15},{"$f":"LOOKUP($AO451,Data!$A$6:$A$1806,Data!$J$6:$J$1806)","v":-103},{"$f":"LOOKUP($AO451,Data!$A$6:$A$1806,Data!$K$6:$K$1806)","v":7609.56},22.39990234375]
[null,40098.11094907338,{"$f":"LOOKUP(B452,Data!$A$6:$A$1806,Data!B$6:B$1806)","v":59.971000671386719},{"$f":"LOOKUP(B452,Data!$A$6:$A$1806,Data!C$6:C$1806)","v":3737.89208984375},null,null,null,23.199462890625,22.228712704383124,null,null,0,3799.2016910907569,{"$f":"AVERAGE(D$79:D452)","v":3768.9184165587399},{"$f":"AVERAGE(M$79:M452)","v":3785.6547085063739},3776.2778578541852,{"$f":"AVERAGE(P$79:P452)","v":3753.9270812048785},633,null,null,null,null,null,null,0,633,-901.07329152072987,null,null,null,null,null,null,null,null,null,null,null,null,null,40098.11094907338,{"$f":"LOOKUP($AO452,Data!$A$6:$A$1806,Data!$B$6:$B$1806)","v":59.971000671386719},{"$f":"LOOKUP($AO452,Data!$A$6:$A$1806,Data!$C$6:$C$1806)","v":3737.89208984375},{"$f":"LOOKUP($AO452,Data!$A$6:$A$1806,Data!$D$6:$D$1806)","v":350},{"$f":"IF($AS$1=\"+\",LOOKUP($AO452,Data!$A$6:$A$1806,Data!$E$6:$E$1806)*-1,LOOKUP($AO452,Data!$A$6:$A$1806,Data!$E$6:$E$1806))","v":-260.0164794921875},{"$f":"LOOKUP($AO452,Data!$A$6:$A$1806,Data!$F$6:$F$1806)","v":0},{"$f":"LOOKUP($AO452,Data!$A$6:$A$1806,Data!$G$6:$G$1806)","v":166.5},{"$f":"LOOKUP($AO452,Data!$A$6:$A$1806,Data!$H$6:$H$1806)","v":10},{"$f":"LOOKUP($AO452,Data!$A$6:$A$1806,Data!$I$6:$I$1806)","v":15},{"$f":"LOOKUP($AO452,Data!$A$6:$A$1806,Data!$J$6:$J$1806)","v":-103},{"$f":"LOOKUP($AO452,Data!$A$6:$A$1806,Data!$K$6:$K$1806)","v":7609.89},23.199462890625]
[null,40098.110972221526,{"$f":"LOOKUP(B453,Data!$A$6:$A$1806,Data!B$6:B$1806)","v":59.971000671386719},{"$f":"LOOKUP(B453,Data!$A$6:$A$1806,Data!C$6:C$1806)","v":3737.89208984375},null,null,null,23.199462890625,22.568475269567781,null,null,0,3799.5414536559415,{"$f":"AVERAGE(D$79:D453)","v":3768.8356796875},{"$f":"AVERAGE(M$79:M453)","v":3785.6917398267728},3776.2778578541852,{"$f":"AVERAGE(P$79:P453)","v":3753.9868426397697},633,null,null,null,null,null,null,0,633,-901.07329152072987,null,null,null,null,null,null,null,null,null,null,null,null,null,40098.110972221526,{"$f":"LOOKUP($AO453,Data!$A$6:$A$1806,Data!$B$6:$B$1806)","v":59.971000671386719},{"$f":"LOOKUP($AO453,Data!$A$6:$A$1806,Data!$C$6:$C$1806)","v":3737.89208984375},{"$f":"LOOKUP($AO453,Data!$A$6:$A$1806,Data!$D$6:$D$1806)","v":350},{"$f":"IF($AS$1=\"+\",LOOKUP($AO453,Data!$A$6:$A$1806,Data!$E$6:$E$1806)*-1,LOOKUP($AO453,Data!$A$6:$A$1806,Data!$E$6:$E$1806))","v":-260.0164794921875},{"$f":"LOOKUP($AO453,Data!$A$6:$A$1806,Data!$F$6:$F$1806)","v":0},{"$f":"LOOKUP($AO453,Data!$A$6:$A$1806,Data!$G$6:$G$1806)","v":166.5},{"$f":"LOOKUP($AO453,Data!$A$6:$A$1806,Data!$H$6:$H$1806)","v":10},{"$f":"LOOKUP($AO453,Data!$A$6:$A$1806,Data!$I$6:$I$1806)","v":15},{"$f":"LOOKUP($AO453,Data!$A$6:$A$1806,Data!$J$6:$J$1806)","v":-103},{"$f":"LOOKUP($AO453,Data!$A$6:$A$1806,Data!$K$6:$K$1806)","v":7609.89},23.199462890625]
[null,40098.110995369672,{"$f":"LOOKUP(B454,Data!$A$6:$A$1806,Data!B$6:B$1806)","v":59.971000671386719},{"$f":"LOOKUP(B454,Data!$A$6:$A$1806,Data!C$6:C$1806)","v":3737.89208984375},null,null,null,23.199462890625,22.789320936937806,null,null,0,3799.7622993233117,{"$f":"AVERAGE(D$79:D454)","v":3768.7533829060008},{"$f":"AVERAGE(M$79:M454)","v":3785.7291615275612},3776.2778578541852,{"$f":"AVERAGE(P$79:P454)","v":3754.0462853470085},633,null,null,null,null,null,null,0,633,-901.07329152072987,null,null,null,null,null,null,null,null,null,null,null,null,null,40098.110995369672,{"$f":"LOOKUP($AO454,Data!$A$6:$A$1806,Data!$B$6:$B$1806)","v":59.971000671386719},{"$f":"LOOKUP($AO454,Data!$A$6:$A$1806,Data!$C$6:$C$1806)","v":3737.89208984375},{"$f":"LOOKUP($AO454,Data!$A$6:$A$1806,Data!$D$6:$D$1806)","v":350},{"$f":"IF($AS$1=\"+\",LOOKUP($AO454,Data!$A$6:$A$1806,Data!$E$6:$E$1806)*-1,LOOKUP($AO454,Data!$A$6:$A$1806,Data!$E$6:$E$1806))","v":-260.0164794921875},{"$f":"LOOKUP($AO454,Data!$A$6:$A$1806,Data!$F$6:$F$1806)","v":0},{"$f":"LOOKUP($AO454,Data!$A$6:$A$1806,Data!$G$6:$G$1806)","v":166.5},{"$f":"LOOKUP($AO454,Data!$A$6:$A$1806,Data!$H$6:$H$1806)","v":10},{"$f":"LOOKUP($AO454,Data!$A$6:$A$1806,Data!$I$6:$I$1806)","v":15},{"$f":"LOOKUP($AO454,Data!$A$6:$A$1806,Data!$J$6:$J$1806)","v":-103},{"$f":"LOOKUP($AO454,Data!$A$6:$A$1806,Data!$K$6:$K$1806)","v":7609.89},23.199462890625]
[null,40098.111018517819,{"$f":"LOOKUP(B455,Data!$A$6:$A$1806,Data!B$6:B$1806)","v":59.972000122070313},{"$f":"LOOKUP(B455,Data!$A$6:$A$1806,Data!C$6:C$1806)","v":3740.328857421875},null,null,null,22.39990234375,22.653024429322073,null,null,0,3799.6260028156958,{"$f":"AVERAGE(D$79:D455)","v":3768.6779862866792},{"$f":"AVERAGE(M$79:M455)","v":3785.7660231755408},3776.2778578541852,{"$f":"AVERAGE(P$79:P455)","v":3754.1054118696343},633,null,null,null,null,null,null,0,633,-914.07801250447574,null,null,null,null,null,null,null,null,null,null,null,null,null,40098.111018517819,{"$f":"LOOKUP($AO455,Data!$A$6:$A$1806,Data!$B$6:$B$1806)","v":59.972000122070313},{"$f":"LOOKUP($AO455,Data!$A$6:$A$1806,Data!$C$6:$C$1806)","v":3740.328857421875},{"$f":"LOOKUP($AO455,Data!$A$6:$A$1806,Data!$D$6:$D$1806)","v":350},{"$f":"IF($AS$1=\"+\",LOOKUP($AO455,Data!$A$6:$A$1806,Data!$E$6:$E$1806)*-1,LOOKUP($AO455,Data!$A$6:$A$1806,Data!$E$6:$E$1806))","v":-260.0164794921875},{"$f":"LOOKUP($AO455,Data!$A$6:$A$1806,Data!$F$6:$F$1806)","v":0},{"$f":"LOOKUP($AO455,Data!$A$6:$A$1806,Data!$G$6:$G$1806)","v":167},{"$f":"LOOKUP($AO455,Data!$A$6:$A$1806,Data!$H$6:$H$1806)","v":10},{"$f":"LOOKUP($AO455,Data!$A$6:$A$1806,Data!$I$6:$I$1806)","v":15},{"$f":"LOOKUP($AO455,Data!$A$6:$A$1806,Data!$J$6:$J$1806)","v":-103},{"$f":"LOOKUP($AO455,Data!$A$6:$A$1806,Data!$K$6:$K$1806)","v":7610.22},22.39990234375]
[null,40098.111041665965,{"$f":"LOOKUP(B456,Data!$A$6:$A$1806,Data!B$6:B$1806)","v":59.972000122070313},{"$f":"LOOKUP(B456,Data!$A$6:$A$1806,Data!C$6:C$1806)","v":3740.328857421875},null,null,null,22.39990234375,22.564431699371848,null,null,0,3799.5374100857457,{"$f":"AVERAGE(D$79:D456)","v":3768.6029885912699},{"$f":"AVERAGE(M$79:M456)","v":3785.8024554160443},3776.2778578541852,{"$f":"AVERAGE(P$79:P456)","v":3754.1642247237046},633,null,null,null,null,null,null,0,633,-914.07801250447574,null,null,null,null,null,null,null,null,null,null,null,null,null,40098.111041665965,{"$f":"LOOKUP($AO456,Data!$A$6:$A$1806,Data!$B$6:$B$1806)","v":59.972000122070313},{"$f":"LOOKUP($AO456,Data!$A$6:$A$1806,Data!$C$6:$C$1806)","v":3740.328857421875},{"$f":"LOOKUP($AO456,Data!$A$6:$A$1806,Data!$D$6:$D$1806)","v":350},{"$f":"IF($AS$1=\"+\",LOOKUP($AO456,Data!$A$6:$A$1806,Data!$E$6:$E$1806)*-1,LOOKUP($AO456,Data!$A$6:$A$1806,Data!$E$6:$E$1806))","v":-260.0164794921875},{"$f":"LOOKUP($AO456,Data!$A$6:$A$1806,Data!$F$6:$F$1806)","v":0},{"$f":"LOOKUP($AO456,Data!$A$6:$A$1806,Data!$G$6:$G$1806)","v":167},{"$f":"LOOKUP($AO456,Data!$A$6:$A$1806,Data!$H$6:$H$1806)","v":10},{"$f":"LOOKUP($AO456,Data!$A$6:$A$1806,Data!$I$6:$I$1806)","v":15},{"$f":"LOOKUP($AO456,Data!$A$6:$A$1806,Data!$J$6:$J$1806)","v":-103},{"$f":"LOOKUP($AO456,Data!$A$6:$A$1806,Data!$K$6:$K$1806)","v":7610.22},22.39990234375]
[null,40098.111064814111,{"$f":"LOOKUP(B457,Data!$A$6:$A$1806,Data!B$6:B$1806)","v":59.977001190185547},{"$f":"LOOKUP(B457,Data!$A$6:$A$1806,Data!C$6:C$1806)","v":3742.5244140625},null,null,null,18.3990478515625,21.106547352638579,null,null,0,3798.0795257390123,{"$f":"AVERAGE(D$79:D457)","v":3768.5341796875},{"$f":"AVERAGE(M$79:M457)","v":3785.8348487414341},3776.2778578541852,{"$f":"AVERAGE(P$79:P457)","v":3754.2227263986533},633,null,null,null,null,null,null,0,633,-985.22874870120233,null,null,null,null,null,null,null,null,null,null,null,null,null,40098.111064814111,{"$f":"LOOKUP($AO457,Data!$A$6:$A$1806,Data!$B$6:$B$1806)","v":59.977001190185547},{"$f":"LOOKUP($AO457,Data!$A$6:$A$1806,Data!$C$6:$C$1806)","v":3742.5244140625},{"$f":"LOOKUP($AO457,Data!$A$6:$A$1806,Data!$D$6:$D$1806)","v":350},{"$f":"IF($AS$1=\"+\",LOOKUP($AO457,Data!$A$6:$A$1806,Data!$E$6:$E$1806)*-1,LOOKUP($AO457,Data!$A$6:$A$1806,Data!$E$6:$E$1806))","v":-260.0164794921875},{"$f":"LOOKUP($AO457,Data!$A$6:$A$1806,Data!$F$6:$F$1806)","v":0},{"$f":"LOOKUP($AO457,Data!$A$6:$A$1806,Data!$G$6:$G$1806)","v":167.5},{"$f":"LOOKUP($AO457,Data!$A$6:$A$1806,Data!$H$6:$H$1806)","v":10},{"$f":"LOOKUP($AO457,Data!$A$6:$A$1806,Data!$I$6:$I$1806)","v":15},{"$f":"LOOKUP($AO457,Data!$A$6:$A$1806,Data!$J$6:$J$1806)","v":-103},{"$f":"LOOKUP($AO457,Data!$A$6:$A$1806,Data!$K$6:$K$1806)","v":7610.55},18.3990478515625]
[null,40098.111087962257,{"$f":"LOOKUP(B458,Data!$A$6:$A$1806,Data!B$6:B$1806)","v":59.977001190185547},{"$f":"LOOKUP(B458,Data!$A$6:$A$1806,Data!C$6:C$1806)","v":3742.5244140625},null,null,null,18.3990478515625,20.15892252726195,null,null,0,3797.1319009136355,{"$f":"AVERAGE(D$79:D458)","v":3768.4657329358552},{"$f":"AVERAGE(M$79:M458)","v":3785.864577826098},3776.2778578541852,{"$f":"AVERAGE(P$79:P458)","v":3754.280919357639},633,null,null,null,null,null,null,0,633,-985.22874870120233,null,null,null,null,null,null,null,null,null,null,null,null,null,40098.111087962257,{"$f":"LOOKUP($AO458,Data!$A$6:$A$1806,Data!$B$6:$B$1806)","v":59.977001190185547},{"$f":"LOOKUP($AO458,Data!$A$6:$A$1806,Data!$C$6:$C$1806)","v":3742.5244140625},{"$f":"LOOKUP($AO458,Data!$A$6:$A$1806,Data!$D$6:$D$1806)","v":350},{"$f":"IF($AS$1=\"+\",LOOKUP($AO458,Data!$A$6:$A$1806,Data!$E$6:$E$1806)*-1,LOOKUP($AO458,Data!$A$6:$A$1806,Data!$E$6:$E$1806))","v":-260.0164794921875},{"$f":"LOOKUP($AO458,Data!$A$6:$A$1806,Data!$F$6:$F$1806)","v":0},{"$f":"LOOKUP($AO458,Data!$A$6:$A$1806,Data!$G$6:$G$1806)","v":167.5},{"$f":"LOOKUP($AO458,Data!$A$6:$A$1806,Data!$H$6:$H$1806)","v":10},{"$f":"LOOKUP($AO458,Data!$A$6:$A$1806,Data!$I$6:$I$1806)","v":15},{"$f":"LOOKUP($AO458,Data!$A$6:$A$1806,Data!$J$6:$J$1806)","v":-103},{"$f":"LOOKUP($AO458,Data!$A$6:$A$1806,Data!$K$6:$K$1806)","v":7610.55},18.3990478515625]
[null,40098.111111110404,{"$f":"LOOKUP(B459,Data!$A$6:$A$1806,Data!B$6:B$1806)","v":59.977001190185547},{"$f":"LOOKUP(B459,Data!$A$6:$A$1806,Data!C$6:C$1806)","v":3742.5244140625},null,null,null,18.3990478515625,19.542966390767141,null,null,0,3796.5159447771407,{"$f":"AVERAGE(D$79:D459)","v":3768.3976454847443},{"$f":"AVERAGE(M$79:M459)","v":3785.8925341698009},3776.2778578541852,{"$f":"AVERAGE(P$79:P459)","v":3754.3388060378934},633,null,null,null,null,null,null,0,633,-985.22874870120233,null,null,null,null,null,null,null,null,null,null,null,null,null,40098.111111110404,{"$f":"LOOKUP($AO459,Data!$A$6:$A$1806,Data!$B$6:$B$1806)","v":59.977001190185547},{"$f":"LOOKUP($AO459,Data!$A$6:$A$1806,Data!$C$6:$C$1806)","v":3742.5244140625},{"$f":"LOOKUP($AO459,Data!$A$6:$A$1806,Data!$D$6:$D$1806)","v":350},{"$f":"IF($AS$1=\"+\",LOOKUP($AO459,Data!$A$6:$A$1806,Data!$E$6:$E$1806)*-1,LOOKUP($AO459,Data!$A$6:$A$1806,Data!$E$6:$E$1806))","v":-260.0164794921875},{"$f":"LOOKUP($AO459,Data!$A$6:$A$1806,Data!$F$6:$F$1806)","v":0},{"$f":"LOOKUP($AO459,Data!$A$6:$A$1806,Data!$G$6:$G$1806)","v":167.5},{"$f":"LOOKUP($AO459,Data!$A$6:$A$1806,Data!$H$6:$H$1806)","v":10},{"$f":"LOOKUP($AO459,Data!$A$6:$A$1806,Data!$I$6:$I$1806)","v":15},{"$f":"LOOKUP($AO459,Data!$A$6:$A$1806,Data!$J$6:$J$1806)","v":-103},{"$f":"LOOKUP($AO459,Data!$A$6:$A$1806,Data!$K$6:$K$1806)","v":7610.55},18.3990478515625]
[null,40098.11113425855,{"$f":"LOOKUP(B460,Data!$A$6:$A$1806,Data!B$6:B$1806)","v":59.976001739501953},{"$f":"LOOKUP(B460,Data!$A$6:$A$1806,Data!C$6:C$1806)","v":3741.72314453125},null,null,null,19.1986083984375,19.422441093451766,null,null,0,3796.3954194798253,{"$f":"AVERAGE(D$79:D460)","v":3768.3278169482164},{"$f":"AVERAGE(M$79:M460)","v":3785.9200286339633},3776.2778578541852,{"$f":"AVERAGE(P$79:P460)","v":3754.3963888510598},633,null,null,null,null,null,null,0,633,-970.13740243795496,null,null,null,null,null,null,null,null,null,null,null,null,null,40098.11113425855,{"$f":"LOOKUP($AO460,Data!$A$6:$A$1806,Data!$B$6:$B$1806)","v":59.976001739501953},{"$f":"LOOKUP($AO460,Data!$A$6:$A$1806,Data!$C$6:$C$1806)","v":3741.72314453125},{"$f":"LOOKUP($AO460,Data!$A$6:$A$1806,Data!$D$6:$D$1806)","v":350},{"$f":"IF($AS$1=\"+\",LOOKUP($AO460,Data!$A$6:$A$1806,Data!$E$6:$E$1806)*-1,LOOKUP($AO460,Data!$A$6:$A$1806,Data!$E$6:$E$1806))","v":-260.0164794921875},{"$f":"LOOKUP($AO460,Data!$A$6:$A$1806,Data!$F$6:$F$1806)","v":0},{"$f":"LOOKUP($AO460,Data!$A$6:$A$1806,Data!$G$6:$G$1806)","v":168},{"$f":"LOOKUP($AO460,Data!$A$6:$A$1806,Data!$H$6:$H$1806)","v":10},{"$f":"LOOKUP($AO460,Data!$A$6:$A$1806,Data!$I$6:$I$1806)","v":15},{"$f":"LOOKUP($AO460,Data!$A$6:$A$1806,Data!$J$6:$J$1806)","v":-103},{"$f":"LOOKUP($AO460,Data!$A$6:$A$1806,Data!$K$6:$K$1806)","v":7610.88},19.1986083984375]
[null,40098.111157406696,{"$f":"LOOKUP(B461,Data!$A$6:$A$1806,Data!B$6:B$1806)","v":59.976001739501953},{"$f":"LOOKUP(B461,Data!$A$6:$A$1806,Data!C$6:C$1806)","v":3741.72314453125},null,null,null,19.1986083984375,19.344099650196775,null,null,0,3796.3170780365704,{"$f":"AVERAGE(D$79:D461)","v":3768.2583530515667},{"$f":"AVERAGE(M$79:M461)","v":3785.947174977051},3776.2778578541852,{"$f":"AVERAGE(P$79:P461)","v":3754.4536701835286},633,null,null,null,null,null,null,0,633,-970.13740243795496,null,null,null,null,null,null,null,null,null,null,null,null,null,40098.111157406696,{"$f":"LOOKUP($AO461,Data!$A$6:$A$1806,Data!$B$6:$B$1806)","v":59.976001739501953},{"$f":"LOOKUP($AO461,Data!$A$6:$A$1806,Data!$C$6:$C$1806)","v":3741.72314453125},{"$f":"LOOKUP($AO461,Data!$A$6:$A$1806,Data!$D$6:$D$1806)","v":350},{"$f":"IF($AS$1=\"+\",LOOKUP($AO461,Data!$A$6:$A$1806,Data!$E$6:$E$1806)*-1,LOOKUP($AO461,Data!$A$6:$A$1806,Data!$E$6:$E$1806))","v":-260.0164794921875},{"$f":"LOOKUP($AO461,Data!$A$6:$A$1806,Data!$F$6:$F$1806)","v":0},{"$f":"LOOKUP($AO461,Data!$A$6:$A$1806,Data!$G$6:$G$1806)","v":168},{"$f":"LOOKUP($AO461,Data!$A$6:$A$1806,Data!$H$6:$H$1806)","v":10},{"$f":"LOOKUP($AO461,Data!$A$6:$A$1806,Data!$I$6:$I$1806)","v":15},{"$f":"LOOKUP($AO461,Data!$A$6:$A$1806,Data!$J$6:$J$1806)","v":-103},{"$f":"LOOKUP($AO461,Data!$A$6:$A$1806,Data!$K$6:$K$1806)","v":7610.88},19.1986083984375]
[null,40098.111180554843,{"$f":"LOOKUP(B462,Data!$A$6:$A$1806,Data!B$6:B$1806)","v":59.9739990234375},{"$f":"LOOKUP(B462,Data!$A$6:$A$1806,Data!C$6:C$1806)","v":3739.96435546875},null,null,null,20.80078125,19.853938210127904,null,null,0,3796.8269165965016,{"$f":"AVERAGE(D$79:D462)","v":3768.1846707661948},{"$f":"AVERAGE(M$79:M462)","v":3785.9755076375181},3776.2778578541852,{"$f":"AVERAGE(P$79:P462)","v":3754.5106523967684},633,null,null,null,null,null,null,0,633,-941.24706883348927,null,null,null,null,null,null,null,null,null,null,null,null,null,40098.111180554843,{"$f":"LOOKUP($AO462,Data!$A$6:$A$1806,Data!$B$6:$B$1806)","v":59.9739990234375},{"$f":"LOOKUP($AO462,Data!$A$6:$A$1806,Data!$C$6:$C$1806)","v":3739.96435546875},{"$f":"LOOKUP($AO462,Data!$A$6:$A$1806,Data!$D$6:$D$1806)","v":350},{"$f":"IF($AS$1=\"+\",LOOKUP($AO462,Data!$A$6:$A$1806,Data!$E$6:$E$1806)*-1,LOOKUP($AO462,Data!$A$6:$A$1806,Data!$E$6:$E$1806))","v":-260.0164794921875},{"$f":"LOOKUP($AO462,Data!$A$6:$A$1806,Data!$F$6:$F$1806)","v":0},{"$f":"LOOKUP($AO462,Data!$A$6:$A$1806,Data!$G$6:$G$1806)","v":168.5},{"$f":"LOOKUP($AO462,Data!$A$6:$A$1806,Data!$H$6:$H$1806)","v":10},{"$f":"LOOKUP($AO462,Data!$A$6:$A$1806,Data!$I$6:$I$1806)","v":15},{"$f":"LOOKUP($AO462,Data!$A$6:$A$1806,Data!$J$6:$J$1806)","v":-103},{"$f":"LOOKUP($AO462,Data!$A$6:$A$1806,Data!$K$6:$K$1806)","v":7611.21},20.80078125]
[null,40098.111203702989,{"$f":"LOOKUP(B463,Data!$A$6:$A$1806,Data!B$6:B$1806)","v":59.9739990234375},{"$f":"LOOKUP(B463,Data!$A$6:$A$1806,Data!C$6:C$1806)","v":3739.96435546875},null,null,null,20.80078125,20.185333274083138,null,null,0,3797.158311660457,{"$f":"AVERAGE(D$79:D463)","v":3768.1113712459414},{"$f":"AVERAGE(M$79:M463)","v":3786.0045538817335},3776.2778578541852,{"$f":"AVERAGE(P$79:P463)","v":3754.5673378276474},633,null,null,null,null,null,null,0,633,-941.24706883348927,null,null,null,null,null,null,null,null,null,null,null,null,null,40098.111203702989,{"$f":"LOOKUP($AO463,Data!$A$6:$A$1806,Data!$B$6:$B$1806)","v":59.9739990234375},{"$f":"LOOKUP($AO463,Data!$A$6:$A$1806,Data!$C$6:$C$1806)","v":3739.96435546875},{"$f":"LOOKUP($AO463,Data!$A$6:$A$1806,Data!$D$6:$D$1806)","v":350},{"$f":"IF($AS$1=\"+\",LOOKUP($AO463,Data!$A$6:$A$1806,Data!$E$6:$E$1806)*-1,LOOKUP($AO463,Data!$A$6:$A$1806,Data!$E$6:$E$1806))","v":-260.0164794921875},{"$f":"LOOKUP($AO463,Data!$A$6:$A$1806,Data!$F$6:$F$1806)","v":0},{"$f":"LOOKUP($AO463,Data!$A$6:$A$1806,Data!$G$6:$G$1806)","v":168.5},{"$f":"LOOKUP($AO463,Data!$A$6:$A$1806,Data!$H$6:$H$1806)","v":10},{"$f":"LOOKUP($AO463,Data!$A$6:$A$1806,Data!$I$6:$I$1806)","v":15},{"$f":"LOOKUP($AO463,Data!$A$6:$A$1806,Data!$J$6:$J$1806)","v":-103},{"$f":"LOOKUP($AO463,Data!$A$6:$A$1806,Data!$K$6:$K$1806)","v":7611.21},20.80078125]
[null,40098.111226851135,{"$f":"LOOKUP(B464,Data!$A$6:$A$1806,Data!B$6:B$1806)","v":59.9739990234375},{"$f":"LOOKUP(B464,Data!$A$6:$A$1806,Data!C$6:C$1806)","v":3739.96435546875},null,null,null,20.80078125,20.400740065654041,null,null,{"$f":"IF(B464>G$3,0,(K$21*0.000023148/K$22))","v":0},{"$f":"M463+L464+(I464-I463)","v":3797.3737184520278},{"$f":"AVERAGE(D$79:D464)","v":3768.038451515949},{"$f":"AVERAGE(M$79:M464)","v":3786.0340076759567},3776.2778578541852,{"$f":"AVERAGE(P$79:P464)","v":3754.6237287887552},633,null,null,null,null,null,null,0,633,{"$f":"Z464/((C464-G$4)*10)","v":-941.24706883348927},null,null,null,null,null,null,null,null,null,null,null,null,null,40098.111226851135,{"$f":"LOOKUP($AO464,Data!$A$6:$A$1806,Data!$B$6:$B$1806)","v":59.9739990234375},{"$f":"LOOKUP($AO464,Data!$A$6:$A$1806,Data!$C$6:$C$1806)","v":3739.96435546875},{"$f":"LOOKUP($AO464,Data!$A$6:$A$1806,Data!$D$6:$D$1806)","v":350},{"$f":"IF($AS$1=\"+\",LOOKUP($AO464,Data!$A$6:$A$1806,Data!$E$6:$E$1806)*-1,LOOKUP($AO464,Data!$A$6:$A$1806,Data!$E$6:$E$1806))","v":-260.0164794921875},{"$f":"LOOKUP($AO464,Data!$A$6:$A$1806,Data!$F$6:$F$1806)","v":0},{"$f":"LOOKUP($AO464,Data!$A$6:$A$1806,Data!$G$6:$G$1806)","v":168.5},{"$f":"LOOKUP($AO464,Data!$A$6:$A$1806,Data!$H$6:$H$1806)","v":10},{"$f":"LOOKUP($AO464,Data!$A$6:$A$1806,Data!$I$6:$I$1806)","v":15},{"$f":"LOOKUP($AO464,Data!$A$6:$A$1806,Data!$J$6:$J$1806)","v":-103},{"$f":"LOOKUP($AO464,Data!$A$6:$A$1806,Data!$K$6:$K$1806)","v":7611.21},20.80078125]
[null,40098.111249999281,{"$f":"LOOKUP(B465,Data!$A$6:$A$1806,Data!B$6:B$1806)","v":59.978000640869141},{"$f":"LOOKUP(B465,Data!$A$6:$A$1806,Data!C$6:C$1806)","v":3742.83251953125},null,null,null,17.5994873046875,19.420301599315753,null,null,0,3796.3932799856893,{"$f":"AVERAGE(D$79:D465)","v":3767.9733199087532},{"$f":"AVERAGE(M$79:M465)","v":3786.0607758214601},3776.2778578541852,{"$f":"AVERAGE(P$79:P465)","v":3754.6798275687179},{"$f":"R$41","v":633},null,null,null,null,null,null,0,633,-1000.7970326588462,null,null,null,null,null,null,null,null,null,null,null,null,null,{"$f":"AO464+TIME(0,0,$B$1)","v":40098.111249999281},{"$f":"LOOKUP($AO465,Data!$A$6:$A$1806,Data!$B$6:$B$1806)","v":59.978000640869141},{"$f":"LOOKUP($AO465,Data!$A$6:$A$1806,Data!$C$6:$C$1806)","v":3742.83251953125},{"$f":"LOOKUP($AO465,Data!$A$6:$A$1806,Data!$D$6:$D$1806)","v":350},{"$f":"IF($AS$1=\"+\",LOOKUP($AO465,Data!$A$6:$A$1806,Data!$E$6:$E$1806)*-1,LOOKUP($AO465,Data!$A$6:$A$1806,Data!$E$6:$E$1806))","v":-263.87322998046875},{"$f":"LOOKUP($AO465,Data!$A$6:$A$1806,Data!$F$6:$F$1806)","v":0},{"$f":"LOOKUP($AO465,Data!$A$6:$A$1806,Data!$G$6:$G$1806)","v":169},{"$f":"LOOKUP($AO465,Data!$A$6:$A$1806,Data!$H$6:$H$1806)","v":10},{"$f":"LOOKUP($AO465,Data!$A$6:$A$1806,Data!$I$6:$I$1806)","v":15},{"$f":"LOOKUP($AO465,Data!$A$6:$A$1806,Data!$J$6:$J$1806)","v":-103},{"$f":"LOOKUP($AO465,Data!$A$6:$A$1806,Data!$K$6:$K$1806)","v":7611.54},17.5994873046875]
[null,40098.111273147428,{"$f":"LOOKUP(B466,Data!$A$6:$A$1806,Data!B$6:B$1806)","v":59.978000640869141},{"$f":"LOOKUP(B466,Data!$A$6:$A$1806,Data!C$6:C$1806)","v":3742.83251953125},null,null,null,17.5994873046875,18.783016596195864,null,null,0,3795.7559949825695,{"$f":"AVERAGE(D$79:D466)","v":3767.9085240314917},{"$f":"AVERAGE(M$79:M466)","v":3786.0857634997101},{"$f":"P465+L466","v":3776.2778578541852},{"$f":"AVERAGE(P$79:P466)","v":3754.7356364325046},633,null,null,null,null,null,null,0,633,-1000.7970326588462,null,null,null,null,null,null,null,null,null,null,null,null,null,40098.111273147428,{"$f":"LOOKUP($AO466,Data!$A$6:$A$1806,Data!$B$6:$B$1806)","v":59.978000640869141},{"$f":"LOOKUP($AO466,Data!$A$6:$A$1806,Data!$C$6:$C$1806)","v":3742.83251953125},{"$f":"LOOKUP($AO466,Data!$A$6:$A$1806,Data!$D$6:$D$1806)","v":350},{"$f":"IF($AS$1=\"+\",LOOKUP($AO466,Data!$A$6:$A$1806,Data!$E$6:$E$1806)*-1,LOOKUP($AO466,Data!$A$6:$A$1806,Data!$E$6:$E$1806))","v":-263.87322998046875},{"$f":"LOOKUP($AO466,Data!$A$6:$A$1806,Data!$F$6:$F$1806)","v":0},{"$f":"LOOKUP($AO466,Data!$A$6:$A$1806,Data!$G$6:$G$1806)","v":169},{"$f":"LOOKUP($AO466,Data!$A$6:$A$1806,Data!$H$6:$H$1806)","v":10},{"$f":"LOOKUP($AO466,Data!$A$6:$A$1806,Data!$I$6:$I$1806)","v":15},{"$f":"LOOKUP($AO466,Data!$A$6:$A$1806,Data!$J$6:$J$1806)","v":-103},{"$f":"LOOKUP($AO466,Data!$A$6:$A$1806,Data!$K$6:$K$1806)","v":7611.54},17.5994873046875]
[null,40098.111296295574,{"$f":"LOOKUP(B467,Data!$A$6:$A$1806,Data!B$6:B$1806)","v":59.980998992919922},{"$f":"LOOKUP(B467,Data!$A$6:$A$1806,Data!C$6:C$1806)","v":3738.9658203125},null,null,null,15.2008056640625,17.529242769949185,null,null,0,3794.5022211563228,{"$f":"AVERAGE(D$79:D467)","v":3767.8341211941679},{"$f":"AVERAGE(M$79:M467)","v":3786.1073996376449},3776.2778578541852,{"$f":"AVERAGE(P$79:P467)","v":3754.7911576217361},633,null,null,null,null,null,null,0,633,-1050.6008547279116,null,null,null,null,null,null,null,null,null,null,null,null,null,40098.111296295574,{"$f":"LOOKUP($AO467,Data!$A$6:$A$1806,Data!$B$6:$B$1806)","v":59.980998992919922},{"$f":"LOOKUP($AO467,Data!$A$6:$A$1806,Data!$C$6:$C$1806)","v":3738.9658203125},{"$f":"LOOKUP($AO467,Data!$A$6:$A$1806,Data!$D$6:$D$1806)","v":350},{"$f":"IF($AS$1=\"+\",LOOKUP($AO467,Data!$A$6:$A$1806,Data!$E$6:$E$1806)*-1,LOOKUP($AO467,Data!$A$6:$A$1806,Data!$E$6:$E$1806))","v":-263.87322998046875},{"$f":"LOOKUP($AO467,Data!$A$6:$A$1806,Data!$F$6:$F$1806)","v":0},{"$f":"LOOKUP($AO467,Data!$A$6:$A$1806,Data!$G$6:$G$1806)","v":169.5},{"$f":"LOOKUP($AO467,Data!$A$6:$A$1806,Data!$H$6:$H$1806)","v":10},{"$f":"LOOKUP($AO467,Data!$A$6:$A$1806,Data!$I$6:$I$1806)","v":15},{"$f":"LOOKUP($AO467,Data!$A$6:$A$1806,Data!$J$6:$J$1806)","v":-103},{"$f":"LOOKUP($AO467,Data!$A$6:$A$1806,Data!$K$6:$K$1806)","v":7611.87},15.2008056640625]
[null,40098.11131944372,{"$f":"LOOKUP(B468,Data!$A$6:$A$1806,Data!B$6:B$1806)","v":59.980998992919922},{"$f":"LOOKUP(B468,Data!$A$6:$A$1806,Data!C$6:C$1806)","v":3738.9658203125},null,null,null,15.2008056640625,16.714289782888848,null,null,0,3793.6872681692626,{"$f":"AVERAGE(D$79:D468)","v":3767.7600999098559},{"$f":"AVERAGE(M$79:M468)","v":3786.1268351979829},3776.2778578541852,{"$f":"AVERAGE(P$79:P468)","v":3754.8463933549815},633,null,null,null,null,null,null,0,633,-1050.6008547279116,null,null,null,null,null,null,null,null,null,null,null,null,null,40098.11131944372,{"$f":"LOOKUP($AO468,Data!$A$6:$A$1806,Data!$B$6:$B$1806)","v":59.980998992919922},{"$f":"LOOKUP($AO468,Data!$A$6:$A$1806,Data!$C$6:$C$1806)","v":3738.9658203125},{"$f":"LOOKUP($AO468,Data!$A$6:$A$1806,Data!$D$6:$D$1806)","v":350},{"$f":"IF($AS$1=\"+\",LOOKUP($AO468,Data!$A$6:$A$1806,Data!$E$6:$E$1806)*-1,LOOKUP($AO468,Data!$A$6:$A$1806,Data!$E$6:$E$1806))","v":-263.87322998046875},{"$f":"LOOKUP($AO468,Data!$A$6:$A$1806,Data!$F$6:$F$1806)","v":0},{"$f":"LOOKUP($AO468,Data!$A$6:$A$1806,Data!$G$6:$G$1806)","v":169.5},{"$f":"LOOKUP($AO468,Data!$A$6:$A$1806,Data!$H$6:$H$1806)","v":10},{"$f":"LOOKUP($AO468,Data!$A$6:$A$1806,Data!$I$6:$I$1806)","v":15},{"$f":"LOOKUP($AO468,Data!$A$6:$A$1806,Data!$J$6:$J$1806)","v":-103},{"$f":"LOOKUP($AO468,Data!$A$6:$A$1806,Data!$K$6:$K$1806)","v":7611.87},15.2008056640625]
[null,40098.111342591867,{"$f":"LOOKUP(B469,Data!$A$6:$A$1806,Data!B$6:B$1806)","v":59.980998992919922},{"$f":"LOOKUP(B469,Data!$A$6:$A$1806,Data!C$6:C$1806)","v":3738.9658203125},null,null,null,15.2008056640625,16.184570341299626,null,null,0,3793.1575487276732,{"$f":"AVERAGE(D$79:D469)","v":3767.686457251039},{"$f":"AVERAGE(M$79:M469)","v":3786.1448165625088},3776.2778578541852,{"$f":"AVERAGE(P$79:P469)","v":3754.9013458280569},633,null,null,null,null,null,null,0,633,-1050.6008547279116,null,null,null,null,null,null,null,null,null,null,null,null,null,40098.111342591867,{"$f":"LOOKUP($AO469,Data!$A$6:$A$1806,Data!$B$6:$B$1806)","v":59.980998992919922},{"$f":"LOOKUP($AO469,Data!$A$6:$A$1806,Data!$C$6:$C$1806)","v":3738.9658203125},{"$f":"LOOKUP($AO469,Data!$A$6:$A$1806,Data!$D$6:$D$1806)","v":350},{"$f":"IF($AS$1=\"+\",LOOKUP($AO469,Data!$A$6:$A$1806,Data!$E$6:$E$1806)*-1,LOOKUP($AO469,Data!$A$6:$A$1806,Data!$E$6:$E$1806))","v":-263.87322998046875},{"$f":"LOOKUP($AO469,Data!$A$6:$A$1806,Data!$F$6:$F$1806)","v":0},{"$f":"LOOKUP($AO469,Data!$A$6:$A$1806,Data!$G$6:$G$1806)","v":169.5},{"$f":"LOOKUP($AO469,Data!$A$6:$A$1806,Data!$H$6:$H$1806)","v":10},{"$f":"LOOKUP($AO469,Data!$A$6:$A$1806,Data!$I$6:$I$1806)","v":15},{"$f":"LOOKUP($AO469,Data!$A$6:$A$1806,Data!$J$6:$J$1806)","v":-103},{"$f":"LOOKUP($AO469,Data!$A$6:$A$1806,Data!$K$6:$K$1806)","v":7611.87},15.2008056640625]
[null,40098.111365740013,{"$f":"LOOKUP(B470,Data!$A$6:$A$1806,Data!B$6:B$1806)","v":59.971000671386719},{"$f":"LOOKUP(B470,Data!$A$6:$A$1806,Data!C$6:C$1806)","v":3738.878662109375},null,null,null,23.199462890625,18.639782733563507,null,null,0,3795.6127611199372,{"$f":"AVERAGE(D$79:D470)","v":3767.6129679777187},{"$f":"AVERAGE(M$79:M470)","v":3786.1689694822981},3776.2778578541852,{"$f":"AVERAGE(P$79:P470)","v":3754.9560172143129},633,null,null,null,null,null,null,0,633,-901.07329152072987,null,null,null,null,null,null,null,null,null,null,null,null,null,40098.111365740013,{"$f":"LOOKUP($AO470,Data!$A$6:$A$1806,Data!$B$6:$B$1806)","v":59.971000671386719},{"$f":"LOOKUP($AO470,Data!$A$6:$A$1806,Data!$C$6:$C$1806)","v":3738.878662109375},{"$f":"LOOKUP($AO470,Data!$A$6:$A$1806,Data!$D$6:$D$1806)","v":350},{"$f":"IF($AS$1=\"+\",LOOKUP($AO470,Data!$A$6:$A$1806,Data!$E$6:$E$1806)*-1,LOOKUP($AO470,Data!$A$6:$A$1806,Data!$E$6:$E$1806))","v":-263.87322998046875},{"$f":"LOOKUP($AO470,Data!$A$6:$A$1806,Data!$F$6:$F$1806)","v":0},{"$f":"LOOKUP($AO470,Data!$A$6:$A$1806,Data!$G$6:$G$1806)","v":170},{"$f":"LOOKUP($AO470,Data!$A$6:$A$1806,Data!$H$6:$H$1806)","v":10},{"$f":"LOOKUP($AO470,Data!$A$6:$A$1806,Data!$I$6:$I$1806)","v":15},{"$f":"LOOKUP($AO470,Data!$A$6:$A$1806,Data!$J$6:$J$1806)","v":-103},{"$f":"LOOKUP($AO470,Data!$A$6:$A$1806,Data!$K$6:$K$1806)","v":7612.2},23.199462890625]
[null,40098.111388888159,{"$f":"LOOKUP(B471,Data!$A$6:$A$1806,Data!B$6:B$1806)","v":59.971000671386719},{"$f":"LOOKUP(B471,Data!$A$6:$A$1806,Data!C$6:C$1806)","v":3738.878662109375},null,null,null,23.199462890625,20.235670788535032,null,null,0,3797.2086491749087,{"$f":"AVERAGE(D$79:D471)","v":3767.5398526956105},{"$f":"AVERAGE(M$79:M471)","v":3786.1970602703204},3776.2778578541852,{"$f":"AVERAGE(P$79:P471)","v":3755.0104096649252},633,null,null,null,null,null,null,0,633,-901.07329152072987,null,null,null,null,null,null,null,null,null,null,null,null,null,40098.111388888159,{"$f":"LOOKUP($AO471,Data!$A$6:$A$1806,Data!$B$6:$B$1806)","v":59.971000671386719},{"$f":"LOOKUP($AO471,Data!$A$6:$A$1806,Data!$C$6:$C$1806)","v":3738.878662109375},{"$f":"LOOKUP($AO471,Data!$A$6:$A$1806,Data!$D$6:$D$1806)","v":350},{"$f":"IF($AS$1=\"+\",LOOKUP($AO471,Data!$A$6:$A$1806,Data!$E$6:$E$1806)*-1,LOOKUP($AO471,Data!$A$6:$A$1806,Data!$E$6:$E$1806))","v":-263.87322998046875},{"$f":"LOOKUP($AO471,Data!$A$6:$A$1806,Data!$F$6:$F$1806)","v":0},{"$f":"LOOKUP($AO471,Data!$A$6:$A$1806,Data!$G$6:$G$1806)","v":170},{"$f":"LOOKUP($AO471,Data!$A$6:$A$1806,Data!$H$6:$H$1806)","v":10},{"$f":"LOOKUP($AO471,Data!$A$6:$A$1806,Data!$I$6:$I$1806)","v":15},{"$f":"LOOKUP($AO471,Data!$A$6:$A$1806,Data!$J$6:$J$1806)","v":-103},{"$f":"LOOKUP($AO471,Data!$A$6:$A$1806,Data!$K$6:$K$1806)","v":7612.2},23.199462890625]
[null,40098.111412036305,{"$f":"LOOKUP(B472,Data!$A$6:$A$1806,Data!B$6:B$1806)","v":59.971000671386719},{"$f":"LOOKUP(B472,Data!$A$6:$A$1806,Data!C$6:C$1806)","v":3738.557861328125},null,null,null,23.199462890625,21.272998024266521,null,null,0,3798.2459764106402,{"$f":"AVERAGE(D$79:D472)","v":3767.4662943418862},{"$f":"AVERAGE(M$79:M472)","v":3786.2276412757524},3776.2778578541852,{"$f":"AVERAGE(P$79:P472)","v":3755.064525309173},633,null,null,null,null,null,null,0,633,-901.07329152072987,null,null,null,null,null,null,null,null,null,null,null,null,null,40098.111412036305,{"$f":"LOOKUP($AO472,Data!$A$6:$A$1806,Data!$B$6:$B$1806)","v":59.971000671386719},{"$f":"LOOKUP($AO472,Data!$A$6:$A$1806,Data!$C$6:$C$1806)","v":3738.557861328125},{"$f":"LOOKUP($AO472,Data!$A$6:$A$1806,Data!$D$6:$D$1806)","v":350},{"$f":"IF($AS$1=\"+\",LOOKUP($AO472,Data!$A$6:$A$1806,Data!$E$6:$E$1806)*-1,LOOKUP($AO472,Data!$A$6:$A$1806,Data!$E$6:$E$1806))","v":-263.87322998046875},{"$f":"LOOKUP($AO472,Data!$A$6:$A$1806,Data!$F$6:$F$1806)","v":0},{"$f":"LOOKUP($AO472,Data!$A$6:$A$1806,Data!$G$6:$G$1806)","v":170.5},{"$f":"LOOKUP($AO472,Data!$A$6:$A$1806,Data!$H$6:$H$1806)","v":10},{"$f":"LOOKUP($AO472,Data!$A$6:$A$1806,Data!$I$6:$I$1806)","v":15},{"$f":"LOOKUP($AO472,Data!$A$6:$A$1806,Data!$J$6:$J$1806)","v":-103},{"$f":"LOOKUP($AO472,Data!$A$6:$A$1806,Data!$K$6:$K$1806)","v":7612.53},23.199462890625]
[null,40098.111435184452,{"$f":"LOOKUP(B473,Data!$A$6:$A$1806,Data!B$6:B$1806)","v":59.971000671386719},{"$f":"LOOKUP(B473,Data!$A$6:$A$1806,Data!C$6:C$1806)","v":3738.557861328125},null,null,null,23.199462890625,21.947260727491987,null,null,0,3798.9202391138656,{"$f":"AVERAGE(D$79:D473)","v":3767.3931084355222},{"$f":"AVERAGE(M$79:M473)","v":3786.2597744348363},3776.2778578541852,{"$f":"AVERAGE(P$79:P473)","v":3755.1183662547187},633,null,null,null,null,null,null,0,633,-901.07329152072987,null,null,null,null,null,null,null,null,null,null,null,null,null,40098.111435184452,{"$f":"LOOKUP($AO473,Data!$A$6:$A$1806,Data!$B$6:$B$1806)","v":59.971000671386719},{"$f":"LOOKUP($AO473,Data!$A$6:$A$1806,Data!$C$6:$C$1806)","v":3738.557861328125},{"$f":"LOOKUP($AO473,Data!$A$6:$A$1806,Data!$D$6:$D$1806)","v":350},{"$f":"IF($AS$1=\"+\",LOOKUP($AO473,Data!$A$6:$A$1806,Data!$E$6:$E$1806)*-1,LOOKUP($AO473,Data!$A$6:$A$1806,Data!$E$6:$E$1806))","v":-263.87322998046875},{"$f":"LOOKUP($AO473,Data!$A$6:$A$1806,Data!$F$6:$F$1806)","v":0},{"$f":"LOOKUP($AO473,Data!$A$6:$A$1806,Data!$G$6:$G$1806)","v":170.5},{"$f":"LOOKUP($AO473,Data!$A$6:$A$1806,Data!$H$6:$H$1806)","v":10},{"$f":"LOOKUP($AO473,Data!$A$6:$A$1806,Data!$I$6:$I$1806)","v":15},{"$f":"LOOKUP($AO473,Data!$A$6:$A$1806,Data!$J$6:$J$1806)","v":-103},{"$f":"LOOKUP($AO473,Data!$A$6:$A$1806,Data!$K$6:$K$1806)","v":7612.53},23.199462890625]
[null,40098.111458332598,{"$f":"LOOKUP(B474,Data!$A$6:$A$1806,Data!B$6:B$1806)","v":59.971000671386719},{"$f":"LOOKUP(B474,Data!$A$6:$A$1806,Data!C$6:C$1806)","v":3738.557861328125},null,null,null,23.199462890625,22.38553148458854,null,null,0,3799.3585098709623,{"$f":"AVERAGE(D$79:D474)","v":3767.3202921549478},{"$f":"AVERAGE(M$79:M474)","v":3786.2928520495743},3776.2778578541852,{"$f":"AVERAGE(P$79:P474)","v":3755.1719345878823},633,null,null,null,null,null,null,0,633,-901.07329152072987,null,null,null,null,null,null,null,null,null,null,null,null,null,40098.111458332598,{"$f":"LOOKUP($AO474,Data!$A$6:$A$1806,Data!$B$6:$B$1806)","v":59.971000671386719},{"$f":"LOOKUP($AO474,Data!$A$6:$A$1806,Data!$C$6:$C$1806)","v":3738.557861328125},{"$f":"LOOKUP($AO474,Data!$A$6:$A$1806,Data!$D$6:$D$1806)","v":350},{"$f":"IF($AS$1=\"+\",LOOKUP($AO474,Data!$A$6:$A$1806,Data!$E$6:$E$1806)*-1,LOOKUP($AO474,Data!$A$6:$A$1806,Data!$E$6:$E$1806))","v":-263.87322998046875},{"$f":"LOOKUP($AO474,Data!$A$6:$A$1806,Data!$F$6:$F$1806)","v":0},{"$f":"LOOKUP($AO474,Data!$A$6:$A$1806,Data!$G$6:$G$1806)","v":170.5},{"$f":"LOOKUP($AO474,Data!$A$6:$A$1806,Data!$H$6:$H$1806)","v":10},{"$f":"LOOKUP($AO474,Data!$A$6:$A$1806,Data!$I$6:$I$1806)","v":15},{"$f":"LOOKUP($AO474,Data!$A$6:$A$1806,Data!$J$6:$J$1806)","v":-103},{"$f":"LOOKUP($AO474,Data!$A$6:$A$1806,Data!$K$6:$K$1806)","v":7612.53},23.199462890625]
[null,40098.111481480744,{"$f":"LOOKUP(B475,Data!$A$6:$A$1806,Data!B$6:B$1806)","v":59.965999603271484},{"$f":"LOOKUP(B475,Data!$A$6:$A$1806,Data!C$6:C$1806)","v":3743.418701171875},null,null,null,27.2003173828125,24.070706548966925,null,null,0,3801.0436849353405,{"$f":"AVERAGE(D$79:D475)","v":3767.260086636099},{"$f":"AVERAGE(M$79:M475)","v":3786.3300077999165},3776.2778578541852,{"$f":"AVERAGE(P$79:P475)","v":3755.2252323739085},633,null,null,null,null,null,null,0,633,-841.18901984639956,null,null,null,null,null,null,null,null,null,null,null,null,null,40098.111481480744,{"$f":"LOOKUP($AO475,Data!$A$6:$A$1806,Data!$B$6:$B$1806)","v":59.965999603271484},{"$f":"LOOKUP($AO475,Data!$A$6:$A$1806,Data!$C$6:$C$1806)","v":3743.418701171875},{"$f":"LOOKUP($AO475,Data!$A$6:$A$1806,Data!$D$6:$D$1806)","v":350},{"$f":"IF($AS$1=\"+\",LOOKUP($AO475,Data!$A$6:$A$1806,Data!$E$6:$E$1806)*-1,LOOKUP($AO475,Data!$A$6:$A$1806,Data!$E$6:$E$1806))","v":-263.87322998046875},{"$f":"LOOKUP($AO475,Data!$A$6:$A$1806,Data!$F$6:$F$1806)","v":0},{"$f":"LOOKUP($AO475,Data!$A$6:$A$1806,Data!$G$6:$G$1806)","v":171},{"$f":"LOOKUP($AO475,Data!$A$6:$A$1806,Data!$H$6:$H$1806)","v":10},{"$f":"LOOKUP($AO475,Data!$A$6:$A$1806,Data!$I$6:$I$1806)","v":15},{"$f":"LOOKUP($AO475,Data!$A$6:$A$1806,Data!$J$6:$J$1806)","v":-103},{"$f":"LOOKUP($AO475,Data!$A$6:$A$1806,Data!$K$6:$K$1806)","v":7612.86},27.2003173828125]
[null,40098.111504628891,{"$f":"LOOKUP(B476,Data!$A$6:$A$1806,Data!B$6:B$1806)","v":59.965999603271484},{"$f":"LOOKUP(B476,Data!$A$6:$A$1806,Data!C$6:C$1806)","v":3743.418701171875},null,null,null,27.2003173828125,25.166070340812876,null,null,0,3802.1390487271865,{"$f":"AVERAGE(D$79:D476)","v":3767.2001836575455},{"$f":"AVERAGE(M$79:M476)","v":3786.3697290082764},3776.2778578541852,{"$f":"AVERAGE(P$79:P476)","v":3755.278261657234},633,null,null,null,null,null,null,0,633,-841.18901984639956,null,null,null,null,null,null,null,null,null,null,null,null,null,40098.111504628891,{"$f":"LOOKUP($AO476,Data!$A$6:$A$1806,Data!$B$6:$B$1806)","v":59.965999603271484},{"$f":"LOOKUP($AO476,Data!$A$6:$A$1806,Data!$C$6:$C$1806)","v":3743.418701171875},{"$f":"LOOKUP($AO476,Data!$A$6:$A$1806,Data!$D$6:$D$1806)","v":350},{"$f":"IF($AS$1=\"+\",LOOKUP($AO476,Data!$A$6:$A$1806,Data!$E$6:$E$1806)*-1,LOOKUP($AO476,Data!$A$6:$A$1806,Data!$E$6:$E$1806))","v":-263.87322998046875},{"$f":"LOOKUP($AO476,Data!$A$6:$A$1806,Data!$F$6:$F$1806)","v":0},{"$f":"LOOKUP($AO476,Data!$A$6:$A$1806,Data!$G$6:$G$1806)","v":171},{"$f":"LOOKUP($AO476,Data!$A$6:$A$1806,Data!$H$6:$H$1806)","v":10},{"$f":"LOOKUP($AO476,Data!$A$6:$A$1806,Data!$I$6:$I$1806)","v":15},{"$f":"LOOKUP($AO476,Data!$A$6:$A$1806,Data!$J$6:$J$1806)","v":-103},{"$f":"LOOKUP($AO476,Data!$A$6:$A$1806,Data!$K$6:$K$1806)","v":7612.86},27.2003173828125]
[null,40098.111527777037,{"$f":"LOOKUP(B477,Data!$A$6:$A$1806,Data!B$6:B$1806)","v":59.971000671386719},{"$f":"LOOKUP(B477,Data!$A$6:$A$1806,Data!C$6:C$1806)","v":3747.339599609375},null,null,null,23.199462890625,24.47775773324712,null,null,0,3801.4507361196206,{"$f":"AVERAGE(D$79:D477)","v":3767.1504077576756},{"$f":"AVERAGE(M$79:M477)","v":3786.4075260185805},3776.2778578541852,{"$f":"AVERAGE(P$79:P477)","v":3755.3310244617492},633,null,null,null,null,null,null,0,633,-901.07329152072987,null,null,null,null,null,null,null,null,null,null,null,null,null,40098.111527777037,{"$f":"LOOKUP($AO477,Data!$A$6:$A$1806,Data!$B$6:$B$1806)","v":59.971000671386719},{"$f":"LOOKUP($AO477,Data!$A$6:$A$1806,Data!$C$6:$C$1806)","v":3747.339599609375},{"$f":"LOOKUP($AO477,Data!$A$6:$A$1806,Data!$D$6:$D$1806)","v":350},{"$f":"IF($AS$1=\"+\",LOOKUP($AO477,Data!$A$6:$A$1806,Data!$E$6:$E$1806)*-1,LOOKUP($AO477,Data!$A$6:$A$1806,Data!$E$6:$E$1806))","v":-264.597900390625},{"$f":"LOOKUP($AO477,Data!$A$6:$A$1806,Data!$F$6:$F$1806)","v":0},{"$f":"LOOKUP($AO477,Data!$A$6:$A$1806,Data!$G$6:$G$1806)","v":171.5},{"$f":"LOOKUP($AO477,Data!$A$6:$A$1806,Data!$H$6:$H$1806)","v":10},{"$f":"LOOKUP($AO477,Data!$A$6:$A$1806,Data!$I$6:$I$1806)","v":15},{"$f":"LOOKUP($AO477,Data!$A$6:$A$1806,Data!$J$6:$J$1806)","v":-103},{"$f":"LOOKUP($AO477,Data!$A$6:$A$1806,Data!$K$6:$K$1806)","v":7613.19},23.199462890625]
[null,40098.111550925183,{"$f":"LOOKUP(B478,Data!$A$6:$A$1806,Data!B$6:B$1806)","v":59.971000671386719},{"$f":"LOOKUP(B478,Data!$A$6:$A$1806,Data!C$6:C$1806)","v":3747.339599609375},null,null,null,23.199462890625,24.030354538329377,null,null,0,3801.003332924703,{"$f":"AVERAGE(D$79:D478)","v":3767.1008807373046},{"$f":"AVERAGE(M$79:M478)","v":3786.4440155358461},3776.2778578541852,{"$f":"AVERAGE(P$79:P478)","v":3755.383522791054},633,null,null,null,null,null,null,0,633,-901.07329152072987,null,null,null,null,null,null,null,null,null,null,null,null,null,40098.111550925183,{"$f":"LOOKUP($AO478,Data!$A$6:$A$1806,Data!$B$6:$B$1806)","v":59.971000671386719},{"$f":"LOOKUP($AO478,Data!$A$6:$A$1806,Data!$C$6:$C$1806)","v":3747.339599609375},{"$f":"LOOKUP($AO478,Data!$A$6:$A$1806,Data!$D$6:$D$1806)","v":350},{"$f":"IF($AS$1=\"+\",LOOKUP($AO478,Data!$A$6:$A$1806,Data!$E$6:$E$1806)*-1,LOOKUP($AO478,Data!$A$6:$A$1806,Data!$E$6:$E$1806))","v":-264.597900390625},{"$f":"LOOKUP($AO478,Data!$A$6:$A$1806,Data!$F$6:$F$1806)","v":0},{"$f":"LOOKUP($AO478,Data!$A$6:$A$1806,Data!$G$6:$G$1806)","v":171.5},{"$f":"LOOKUP($AO478,Data!$A$6:$A$1806,Data!$H$6:$H$1806)","v":10},{"$f":"LOOKUP($AO478,Data!$A$6:$A$1806,Data!$I$6:$I$1806)","v":15},{"$f":"LOOKUP($AO478,Data!$A$6:$A$1806,Data!$J$6:$J$1806)","v":-103},{"$f":"LOOKUP($AO478,Data!$A$6:$A$1806,Data!$K$6:$K$1806)","v":7613.19},23.199462890625]
[null,40098.111574073329,{"$f":"LOOKUP(B479,Data!$A$6:$A$1806,Data!B$6:B$1806)","v":59.971000671386719},{"$f":"LOOKUP(B479,Data!$A$6:$A$1806,Data!C$6:C$1806)","v":3747.339599609375},null,null,null,23.199462890625,23.739542461632844,null,null,0,3800.7125208480065,{"$f":"AVERAGE(D$79:D479)","v":3767.0516007344918},{"$f":"AVERAGE(M$79:M479)","v":3786.4795978433576},3776.2778578541852,{"$f":"AVERAGE(P$79:P479)","v":3755.4357586287119},633,null,null,null,null,null,null,0,633,-901.07329152072987,null,null,null,null,null,null,null,null,null,null,null,null,null,40098.111574073329,{"$f":"LOOKUP($AO479,Data!$A$6:$A$1806,Data!$B$6:$B$1806)","v":59.971000671386719},{"$f":"LOOKUP($AO479,Data!$A$6:$A$1806,Data!$C$6:$C$1806)","v":3747.339599609375},{"$f":"LOOKUP($AO479,Data!$A$6:$A$1806,Data!$D$6:$D$1806)","v":350},{"$f":"IF($AS$1=\"+\",LOOKUP($AO479,Data!$A$6:$A$1806,Data!$E$6:$E$1806)*-1,LOOKUP($AO479,Data!$A$6:$A$1806,Data!$E$6:$E$1806))","v":-264.597900390625},{"$f":"LOOKUP($AO479,Data!$A$6:$A$1806,Data!$F$6:$F$1806)","v":0},{"$f":"LOOKUP($AO479,Data!$A$6:$A$1806,Data!$G$6:$G$1806)","v":171.5},{"$f":"LOOKUP($AO479,Data!$A$6:$A$1806,Data!$H$6:$H$1806)","v":10},{"$f":"LOOKUP($AO479,Data!$A$6:$A$1806,Data!$I$6:$I$1806)","v":15},{"$f":"LOOKUP($AO479,Data!$A$6:$A$1806,Data!$J$6:$J$1806)","v":-103},{"$f":"LOOKUP($AO479,Data!$A$6:$A$1806,Data!$K$6:$K$1806)","v":7613.19},23.199462890625]
[null,40098.111597221476,{"$f":"LOOKUP(B480,Data!$A$6:$A$1806,Data!B$6:B$1806)","v":59.969001770019531},{"$f":"LOOKUP(B480,Data!$A$6:$A$1806,Data!C$6:C$1806)","v":3749.75},null,null,null,24.798583984375,24.110206994592598,null,null,0,3801.0831853809664,{"$f":"AVERAGE(D$79:D480)","v":3767.0085619266947},{"$f":"AVERAGE(M$79:M480)","v":3786.5159251755413},3776.2778578541852,{"$f":"AVERAGE(P$79:P480)","v":3755.4877339385012},633,null,null,null,null,null,null,0,633,-876.14325615776556,null,null,null,null,null,null,null,null,null,null,null,null,null,40098.111597221476,{"$f":"LOOKUP($AO480,Data!$A$6:$A$1806,Data!$B$6:$B$1806)","v":59.969001770019531},{"$f":"LOOKUP($AO480,Data!$A$6:$A$1806,Data!$C$6:$C$1806)","v":3749.75},{"$f":"LOOKUP($AO480,Data!$A$6:$A$1806,Data!$D$6:$D$1806)","v":350},{"$f":"IF($AS$1=\"+\",LOOKUP($AO480,Data!$A$6:$A$1806,Data!$E$6:$E$1806)*-1,LOOKUP($AO480,Data!$A$6:$A$1806,Data!$E$6:$E$1806))","v":-264.597900390625},{"$f":"LOOKUP($AO480,Data!$A$6:$A$1806,Data!$F$6:$F$1806)","v":0},{"$f":"LOOKUP($AO480,Data!$A$6:$A$1806,Data!$G$6:$G$1806)","v":172},{"$f":"LOOKUP($AO480,Data!$A$6:$A$1806,Data!$H$6:$H$1806)","v":10},{"$f":"LOOKUP($AO480,Data!$A$6:$A$1806,Data!$I$6:$I$1806)","v":15},{"$f":"LOOKUP($AO480,Data!$A$6:$A$1806,Data!$J$6:$J$1806)","v":-103},{"$f":"LOOKUP($AO480,Data!$A$6:$A$1806,Data!$K$6:$K$1806)","v":7613.52},24.798583984375]
[null,40098.111620369622,{"$f":"LOOKUP(B481,Data!$A$6:$A$1806,Data!B$6:B$1806)","v":59.969001770019531},{"$f":"LOOKUP(B481,Data!$A$6:$A$1806,Data!C$6:C$1806)","v":3749.75},null,null,null,24.798583984375,24.351138941016437,null,null,0,3801.32411732739,{"$f":"AVERAGE(D$79:D481)","v":3766.9657367109958},{"$f":"AVERAGE(M$79:M481)","v":3786.552670069218},3776.2778578541852,{"$f":"AVERAGE(P$79:P481)","v":3755.5394506646599},633,null,null,null,null,null,null,0,633,-876.14325615776556,null,null,null,null,null,null,null,null,null,null,null,null,null,40098.111620369622,{"$f":"LOOKUP($AO481,Data!$A$6:$A$1806,Data!$B$6:$B$1806)","v":59.969001770019531},{"$f":"LOOKUP($AO481,Data!$A$6:$A$1806,Data!$C$6:$C$1806)","v":3749.75},{"$f":"LOOKUP($AO481,Data!$A$6:$A$1806,Data!$D$6:$D$1806)","v":350},{"$f":"IF($AS$1=\"+\",LOOKUP($AO481,Data!$A$6:$A$1806,Data!$E$6:$E$1806)*-1,LOOKUP($AO481,Data!$A$6:$A$1806,Data!$E$6:$E$1806))","v":-264.597900390625},{"$f":"LOOKUP($AO481,Data!$A$6:$A$1806,Data!$F$6:$F$1806)","v":0},{"$f":"LOOKUP($AO481,Data!$A$6:$A$1806,Data!$G$6:$G$1806)","v":172},{"$f":"LOOKUP($AO481,Data!$A$6:$A$1806,Data!$H$6:$H$1806)","v":10},{"$f":"LOOKUP($AO481,Data!$A$6:$A$1806,Data!$I$6:$I$1806)","v":15},{"$f":"LOOKUP($AO481,Data!$A$6:$A$1806,Data!$J$6:$J$1806)","v":-103},{"$f":"LOOKUP($AO481,Data!$A$6:$A$1806,Data!$K$6:$K$1806)","v":7613.52},24.798583984375]
[null,40098.111643517768,{"$f":"LOOKUP(B482,Data!$A$6:$A$1806,Data!B$6:B$1806)","v":59.9739990234375},{"$f":"LOOKUP(B482,Data!$A$6:$A$1806,Data!C$6:C$1806)","v":3743.7451171875},null,null,null,20.80078125,23.108513749160682,null,null,0,3800.0814921355341,{"$f":"AVERAGE(D$79:D482)","v":3766.9082599299968},{"$f":"AVERAGE(M$79:M482)","v":3786.5861572525505},3776.2778578541852,{"$f":"AVERAGE(P$79:P482)","v":3755.5909107321281},633,null,null,null,null,null,null,0,633,-941.24706883348927,null,null,null,null,null,null,null,null,null,null,null,null,null,40098.111643517768,{"$f":"LOOKUP($AO482,Data!$A$6:$A$1806,Data!$B$6:$B$1806)","v":59.9739990234375},{"$f":"LOOKUP($AO482,Data!$A$6:$A$1806,Data!$C$6:$C$1806)","v":3743.7451171875},{"$f":"LOOKUP($AO482,Data!$A$6:$A$1806,Data!$D$6:$D$1806)","v":350},{"$f":"IF($AS$1=\"+\",LOOKUP($AO482,Data!$A$6:$A$1806,Data!$E$6:$E$1806)*-1,LOOKUP($AO482,Data!$A$6:$A$1806,Data!$E$6:$E$1806))","v":-264.597900390625},{"$f":"LOOKUP($AO482,Data!$A$6:$A$1806,Data!$F$6:$F$1806)","v":0},{"$f":"LOOKUP($AO482,Data!$A$6:$A$1806,Data!$G$6:$G$1806)","v":172.5},{"$f":"LOOKUP($AO482,Data!$A$6:$A$1806,Data!$H$6:$H$1806)","v":10},{"$f":"LOOKUP($AO482,Data!$A$6:$A$1806,Data!$I$6:$I$1806)","v":15},{"$f":"LOOKUP($AO482,Data!$A$6:$A$1806,Data!$J$6:$J$1806)","v":-103},{"$f":"LOOKUP($AO482,Data!$A$6:$A$1806,Data!$K$6:$K$1806)","v":7613.85},20.80078125]
[null,40098.111666665915,{"$f":"LOOKUP(B483,Data!$A$6:$A$1806,Data!B$6:B$1806)","v":59.9739990234375},{"$f":"LOOKUP(B483,Data!$A$6:$A$1806,Data!C$6:C$1806)","v":3743.7451171875},null,null,null,20.80078125,22.300807374454443,null,null,0,3799.2737857608276,{"$f":"AVERAGE(D$79:D483)","v":3766.8510669849538},{"$f":"AVERAGE(M$79:M483)","v":3786.6174847303487},3776.2778578541852,{"$f":"AVERAGE(P$79:P483)","v":3755.6421160467867},633,null,null,null,null,null,null,0,633,-941.24706883348927,null,null,null,null,null,null,null,null,null,null,null,null,null,40098.111666665915,{"$f":"LOOKUP($AO483,Data!$A$6:$A$1806,Data!$B$6:$B$1806)","v":59.9739990234375},{"$f":"LOOKUP($AO483,Data!$A$6:$A$1806,Data!$C$6:$C$1806)","v":3743.7451171875},{"$f":"LOOKUP($AO483,Data!$A$6:$A$1806,Data!$D$6:$D$1806)","v":350},{"$f":"IF($AS$1=\"+\",LOOKUP($AO483,Data!$A$6:$A$1806,Data!$E$6:$E$1806)*-1,LOOKUP($AO483,Data!$A$6:$A$1806,Data!$E$6:$E$1806))","v":-264.597900390625},{"$f":"LOOKUP($AO483,Data!$A$6:$A$1806,Data!$F$6:$F$1806)","v":0},{"$f":"LOOKUP($AO483,Data!$A$6:$A$1806,Data!$G$6:$G$1806)","v":172.5},{"$f":"LOOKUP($AO483,Data!$A$6:$A$1806,Data!$H$6:$H$1806)","v":10},{"$f":"LOOKUP($AO483,Data!$A$6:$A$1806,Data!$I$6:$I$1806)","v":15},{"$f":"LOOKUP($AO483,Data!$A$6:$A$1806,Data!$J$6:$J$1806)","v":-103},{"$f":"LOOKUP($AO483,Data!$A$6:$A$1806,Data!$K$6:$K$1806)","v":7613.85},20.80078125]
[null,40098.111689814061,{"$f":"LOOKUP(B484,Data!$A$6:$A$1806,Data!B$6:B$1806)","v":59.9739990234375},{"$f":"LOOKUP(B484,Data!$A$6:$A$1806,Data!C$6:C$1806)","v":3743.7451171875},null,null,null,20.80078125,21.775798230895386,null,null,0,3798.7487766172685,{"$f":"AVERAGE(D$79:D484)","v":3766.7941557785562},{"$f":"AVERAGE(M$79:M484)","v":3786.6473647596267},3776.2778578541852,{"$f":"AVERAGE(P$79:P484)","v":3755.6930684956942},633,null,null,null,null,null,null,0,633,-941.24706883348927,null,null,null,null,null,null,null,null,null,null,null,null,null,40098.111689814061,{"$f":"LOOKUP($AO484,Data!$A$6:$A$1806,Data!$B$6:$B$1806)","v":59.9739990234375},{"$f":"LOOKUP($AO484,Data!$A$6:$A$1806,Data!$C$6:$C$1806)","v":3743.7451171875},{"$f":"LOOKUP($AO484,Data!$A$6:$A$1806,Data!$D$6:$D$1806)","v":350},{"$f":"IF($AS$1=\"+\",LOOKUP($AO484,Data!$A$6:$A$1806,Data!$E$6:$E$1806)*-1,LOOKUP($AO484,Data!$A$6:$A$1806,Data!$E$6:$E$1806))","v":-264.597900390625},{"$f":"LOOKUP($AO484,Data!$A$6:$A$1806,Data!$F$6:$F$1806)","v":0},{"$f":"LOOKUP($AO484,Data!$A$6:$A$1806,Data!$G$6:$G$1806)","v":172.5},{"$f":"LOOKUP($AO484,Data!$A$6:$A$1806,Data!$H$6:$H$1806)","v":10},{"$f":"LOOKUP($AO484,Data!$A$6:$A$1806,Data!$I$6:$I$1806)","v":15},{"$f":"LOOKUP($AO484,Data!$A$6:$A$1806,Data!$J$6:$J$1806)","v":-103},{"$f":"LOOKUP($AO484,Data!$A$6:$A$1806,Data!$K$6:$K$1806)","v":7613.85},20.80078125]
[null,40098.111712962207,{"$f":"LOOKUP(B485,Data!$A$6:$A$1806,Data!B$6:B$1806)","v":59.971000671386719},{"$f":"LOOKUP(B485,Data!$A$6:$A$1806,Data!C$6:C$1806)","v":3740.298583984375},null,null,null,23.199462890625,22.274080861800751,null,null,0,3799.2470592481741,{"$f":"AVERAGE(D$79:D485)","v":3766.729056093558},{"$f":"AVERAGE(M$79:M485)","v":3786.6783222399426},3776.2778578541852,{"$f":"AVERAGE(P$79:P485)","v":3755.7437699473162},633,null,null,null,null,null,null,0,633,-901.07329152072987,null,null,null,null,null,null,null,null,null,null,null,null,null,40098.111712962207,{"$f":"LOOKUP($AO485,Data!$A$6:$A$1806,Data!$B$6:$B$1806)","v":59.971000671386719},{"$f":"LOOKUP($AO485,Data!$A$6:$A$1806,Data!$C$6:$C$1806)","v":3740.298583984375},{"$f":"LOOKUP($AO485,Data!$A$6:$A$1806,Data!$D$6:$D$1806)","v":350},{"$f":"IF($AS$1=\"+\",LOOKUP($AO485,Data!$A$6:$A$1806,Data!$E$6:$E$1806)*-1,LOOKUP($AO485,Data!$A$6:$A$1806,Data!$E$6:$E$1806))","v":-264.597900390625},{"$f":"LOOKUP($AO485,Data!$A$6:$A$1806,Data!$F$6:$F$1806)","v":0},{"$f":"LOOKUP($AO485,Data!$A$6:$A$1806,Data!$G$6:$G$1806)","v":173},{"$f":"LOOKUP($AO485,Data!$A$6:$A$1806,Data!$H$6:$H$1806)","v":10},{"$f":"LOOKUP($AO485,Data!$A$6:$A$1806,Data!$I$6:$I$1806)","v":15},{"$f":"LOOKUP($AO485,Data!$A$6:$A$1806,Data!$J$6:$J$1806)","v":-103},{"$f":"LOOKUP($AO485,Data!$A$6:$A$1806,Data!$K$6:$K$1806)","v":7614.18},23.199462890625]
[null,40098.111736110353,{"$f":"LOOKUP(B486,Data!$A$6:$A$1806,Data!B$6:B$1806)","v":59.971000671386719},{"$f":"LOOKUP(B486,Data!$A$6:$A$1806,Data!C$6:C$1806)","v":3740.298583984375},null,null,null,23.199462890625,22.597964571889239,null,null,0,3799.5709429582625,{"$f":"AVERAGE(D$79:D486)","v":3766.664275524663},{"$f":"AVERAGE(M$79:M486)","v":3786.7099218005269},3776.2778578541852,{"$f":"AVERAGE(P$79:P486)","v":3755.7942222517559},633,null,null,null,null,null,null,0,633,-901.07329152072987,null,null,null,null,null,null,null,null,null,null,null,null,null,40098.111736110353,{"$f":"LOOKUP($AO486,Data!$A$6:$A$1806,Data!$B$6:$B$1806)","v":59.971000671386719},{"$f":"LOOKUP($AO486,Data!$A$6:$A$1806,Data!$C$6:$C$1806)","v":3740.298583984375},{"$f":"LOOKUP($AO486,Data!$A$6:$A$1806,Data!$D$6:$D$1806)","v":350},{"$f":"IF($AS$1=\"+\",LOOKUP($AO486,Data!$A$6:$A$1806,Data!$E$6:$E$1806)*-1,LOOKUP($AO486,Data!$A$6:$A$1806,Data!$E$6:$E$1806))","v":-264.597900390625},{"$f":"LOOKUP($AO486,Data!$A$6:$A$1806,Data!$F$6:$F$1806)","v":0},{"$f":"LOOKUP($AO486,Data!$A$6:$A$1806,Data!$G$6:$G$1806)","v":173},{"$f":"LOOKUP($AO486,Data!$A$6:$A$1806,Data!$H$6:$H$1806)","v":10},{"$f":"LOOKUP($AO486,Data!$A$6:$A$1806,Data!$I$6:$I$1806)","v":15},{"$f":"LOOKUP($AO486,Data!$A$6:$A$1806,Data!$J$6:$J$1806)","v":-103},{"$f":"LOOKUP($AO486,Data!$A$6:$A$1806,Data!$K$6:$K$1806)","v":7614.18},23.199462890625]
[null,40098.1117592585,{"$f":"LOOKUP(B487,Data!$A$6:$A$1806,Data!B$6:B$1806)","v":59.981998443603516},{"$f":"LOOKUP(B487,Data!$A$6:$A$1806,Data!C$6:C$1806)","v":3731.82958984375},null,null,null,14.4012451171875,19.729112762743632,null,null,0,3796.7020911491168,{"$f":"AVERAGE(D$79:D487)","v":3766.5791051440251},{"$f":"AVERAGE(M$79:M487)","v":3786.7343525324304},3776.2778578541852,{"$f":"AVERAGE(P$79:P487)","v":3755.8444272409774},633,null,null,null,null,null,null,0,633,-1068.3222404635442,null,null,null,null,null,null,null,null,null,null,null,null,null,40098.1117592585,{"$f":"LOOKUP($AO487,Data!$A$6:$A$1806,Data!$B$6:$B$1806)","v":59.981998443603516},{"$f":"LOOKUP($AO487,Data!$A$6:$A$1806,Data!$C$6:$C$1806)","v":3731.82958984375},{"$f":"LOOKUP($AO487,Data!$A$6:$A$1806,Data!$D$6:$D$1806)","v":350},{"$f":"IF($AS$1=\"+\",LOOKUP($AO487,Data!$A$6:$A$1806,Data!$E$6:$E$1806)*-1,LOOKUP($AO487,Data!$A$6:$A$1806,Data!$E$6:$E$1806))","v":-264.597900390625},{"$f":"LOOKUP($AO487,Data!$A$6:$A$1806,Data!$F$6:$F$1806)","v":0},{"$f":"LOOKUP($AO487,Data!$A$6:$A$1806,Data!$G$6:$G$1806)","v":173.5},{"$f":"LOOKUP($AO487,Data!$A$6:$A$1806,Data!$H$6:$H$1806)","v":10},{"$f":"LOOKUP($AO487,Data!$A$6:$A$1806,Data!$I$6:$I$1806)","v":15},{"$f":"LOOKUP($AO487,Data!$A$6:$A$1806,Data!$J$6:$J$1806)","v":-103},{"$f":"LOOKUP($AO487,Data!$A$6:$A$1806,Data!$K$6:$K$1806)","v":7614.51},14.4012451171875]
[null,40098.111782406646,{"$f":"LOOKUP(B488,Data!$A$6:$A$1806,Data!B$6:B$1806)","v":59.981998443603516},{"$f":"LOOKUP(B488,Data!$A$6:$A$1806,Data!C$6:C$1806)","v":3731.82958984375},null,null,null,14.4012451171875,17.864359086798984,null,null,0,3794.8373374731723,{"$f":"AVERAGE(D$79:D488)","v":3766.4943502286587},{"$f":"AVERAGE(M$79:M488)","v":3786.7541159103348},3776.2778578541852,{"$f":"AVERAGE(P$79:P488)","v":3755.8943867290295},633,null,null,null,null,null,null,0,633,-1068.3222404635442,null,null,null,null,null,null,null,null,null,null,null,null,null,40098.111782406646,{"$f":"LOOKUP($AO488,Data!$A$6:$A$1806,Data!$B$6:$B$1806)","v":59.981998443603516},{"$f":"LOOKUP($AO488,Data!$A$6:$A$1806,Data!$C$6:$C$1806)","v":3731.82958984375},{"$f":"LOOKUP($AO488,Data!$A$6:$A$1806,Data!$D$6:$D$1806)","v":350},{"$f":"IF($AS$1=\"+\",LOOKUP($AO488,Data!$A$6:$A$1806,Data!$E$6:$E$1806)*-1,LOOKUP($AO488,Data!$A$6:$A$1806,Data!$E$6:$E$1806))","v":-264.597900390625},{"$f":"LOOKUP($AO488,Data!$A$6:$A$1806,Data!$F$6:$F$1806)","v":0},{"$f":"LOOKUP($AO488,Data!$A$6:$A$1806,Data!$G$6:$G$1806)","v":173.5},{"$f":"LOOKUP($AO488,Data!$A$6:$A$1806,Data!$H$6:$H$1806)","v":10},{"$f":"LOOKUP($AO488,Data!$A$6:$A$1806,Data!$I$6:$I$1806)","v":15},{"$f":"LOOKUP($AO488,Data!$A$6:$A$1806,Data!$J$6:$J$1806)","v":-103},{"$f":"LOOKUP($AO488,Data!$A$6:$A$1806,Data!$K$6:$K$1806)","v":7614.51},14.4012451171875]
[null,40098.111805554792,{"$f":"LOOKUP(B489,Data!$A$6:$A$1806,Data!B$6:B$1806)","v":59.981998443603516},{"$f":"LOOKUP(B489,Data!$A$6:$A$1806,Data!C$6:C$1806)","v":3731.82958984375},null,null,null,14.4012451171875,16.652269197434965,null,null,0,3793.6252475838082,{"$f":"AVERAGE(D$79:D489)","v":3766.4100077459702},{"$f":"AVERAGE(M$79:M489)","v":3786.7708339922651},3776.2778578541852,{"$f":"AVERAGE(P$79:P489)","v":3755.9441025122619},633,null,null,null,null,null,null,0,633,-1068.3222404635442,null,null,null,null,null,null,null,null,null,null,null,null,null,40098.111805554792,{"$f":"LOOKUP($AO489,Data!$A$6:$A$1806,Data!$B$6:$B$1806)","v":59.981998443603516},{"$f":"LOOKUP($AO489,Data!$A$6:$A$1806,Data!$C$6:$C$1806)","v":3731.82958984375},{"$f":"LOOKUP($AO489,Data!$A$6:$A$1806,Data!$D$6:$D$1806)","v":350},{"$f":"IF($AS$1=\"+\",LOOKUP($AO489,Data!$A$6:$A$1806,Data!$E$6:$E$1806)*-1,LOOKUP($AO489,Data!$A$6:$A$1806,Data!$E$6:$E$1806))","v":-264.597900390625},{"$f":"LOOKUP($AO489,Data!$A$6:$A$1806,Data!$F$6:$F$1806)","v":0},{"$f":"LOOKUP($AO489,Data!$A$6:$A$1806,Data!$G$6:$G$1806)","v":173.5},{"$f":"LOOKUP($AO489,Data!$A$6:$A$1806,Data!$H$6:$H$1806)","v":10},{"$f":"LOOKUP($AO489,Data!$A$6:$A$1806,Data!$I$6:$I$1806)","v":15},{"$f":"LOOKUP($AO489,Data!$A$6:$A$1806,Data!$J$6:$J$1806)","v":-103},{"$f":"LOOKUP($AO489,Data!$A$6:$A$1806,Data!$K$6:$K$1806)","v":7614.51},14.4012451171875]
[null,40098.111828702939,{"$f":"LOOKUP(B490,Data!$A$6:$A$1806,Data!B$6:B$1806)","v":59.985000610351563},{"$f":"LOOKUP(B490,Data!$A$6:$A$1806,Data!C$6:C$1806)","v":3736.2294921875},null,null,null,11.99951171875,15.023804079895228,null,null,0,3791.9967824662685,{"$f":"AVERAGE(D$79:D490)","v":3766.3367540674303},{"$f":"AVERAGE(M$79:M490)","v":3786.7835183332213},3776.2778578541852,{"$f":"AVERAGE(P$79:P490)","v":3755.9935763695416},633,null,null,null,null,null,null,0,633,-1125.3409650401818,null,null,null,null,null,null,null,null,null,null,null,null,null,40098.111828702939,{"$f":"LOOKUP($AO490,Data!$A$6:$A$1806,Data!$B$6:$B$1806)","v":59.985000610351563},{"$f":"LOOKUP($AO490,Data!$A$6:$A$1806,Data!$C$6:$C$1806)","v":3736.2294921875},{"$f":"LOOKUP($AO490,Data!$A$6:$A$1806,Data!$D$6:$D$1806)","v":350},{"$f":"IF($AS$1=\"+\",LOOKUP($AO490,Data!$A$6:$A$1806,Data!$E$6:$E$1806)*-1,LOOKUP($AO490,Data!$A$6:$A$1806,Data!$E$6:$E$1806))","v":-262.41592407226562},{"$f":"LOOKUP($AO490,Data!$A$6:$A$1806,Data!$F$6:$F$1806)","v":0},{"$f":"LOOKUP($AO490,Data!$A$6:$A$1806,Data!$G$6:$G$1806)","v":174},{"$f":"LOOKUP($AO490,Data!$A$6:$A$1806,Data!$H$6:$H$1806)","v":10},{"$f":"LOOKUP($AO490,Data!$A$6:$A$1806,Data!$I$6:$I$1806)","v":15},{"$f":"LOOKUP($AO490,Data!$A$6:$A$1806,Data!$J$6:$J$1806)","v":-103},{"$f":"LOOKUP($AO490,Data!$A$6:$A$1806,Data!$K$6:$K$1806)","v":7614.84},11.99951171875]
[null,40098.111851851085,{"$f":"LOOKUP(B491,Data!$A$6:$A$1806,Data!B$6:B$1806)","v":59.985000610351563},{"$f":"LOOKUP(B491,Data!$A$6:$A$1806,Data!C$6:C$1806)","v":3736.2294921875},null,null,null,11.99951171875,{"$f":"L$13*H491+(1-L$13)*I490","v":13.9653017534944},null,null,0,3790.9382801398679,{"$f":"AVERAGE(D$79:D491)","v":3766.2638551282535},{"$f":"AVERAGE(M$79:M491)","v":3786.7935782891695},3776.2778578541852,{"$f":"AVERAGE(P$79:P491)","v":3756.0428100624658},633,null,null,null,null,null,null,0,{"$f":"SUM(R491:Y491)","v":633},-1125.3409650401818,null,null,null,null,null,null,null,null,null,null,null,null,null,40098.111851851085,{"$f":"LOOKUP($AO491,Data!$A$6:$A$1806,Data!$B$6:$B$1806)","v":59.985000610351563},{"$f":"LOOKUP($AO491,Data!$A$6:$A$1806,Data!$C$6:$C$1806)","v":3736.2294921875},{"$f":"LOOKUP($AO491,Data!$A$6:$A$1806,Data!$D$6:$D$1806)","v":350},{"$f":"IF($AS$1=\"+\",LOOKUP($AO491,Data!$A$6:$A$1806,Data!$E$6:$E$1806)*-1,LOOKUP($AO491,Data!$A$6:$A$1806,Data!$E$6:$E$1806))","v":-262.41592407226562},{"$f":"LOOKUP($AO491,Data!$A$6:$A$1806,Data!$F$6:$F$1806)","v":0},{"$f":"LOOKUP($AO491,Data!$A$6:$A$1806,Data!$G$6:$G$1806)","v":174},{"$f":"LOOKUP($AO491,Data!$A$6:$A$1806,Data!$H$6:$H$1806)","v":10},{"$f":"LOOKUP($AO491,Data!$A$6:$A$1806,Data!$I$6:$I$1806)","v":15},{"$f":"LOOKUP($AO491,Data!$A$6:$A$1806,Data!$J$6:$J$1806)","v":-103},{"$f":"LOOKUP($AO491,Data!$A$6:$A$1806,Data!$K$6:$K$1806)","v":7614.84},11.99951171875]
[null,40098.111874999231,{"$f":"LOOKUP(B492,Data!$A$6:$A$1806,Data!B$6:B$1806)","v":59.988998413085937},{"$f":"LOOKUP(B492,Data!$A$6:$A$1806,Data!C$6:C$1806)","v":3733.115234375},null,null,null,{"$f":"(IF((C492-L$2)>0,((C492-L$2-L$5)/((L$4*L$2)-L$5)*L$3*-1),((C492-L$2+L$5)/((L$4*L$2)-L$5)*L$3*-1)))","v":8.80126953125},12.157890475708861,null,null,0,3789.1308688620825,{"$f":"AVERAGE(D$79:D492)","v":3766.1837859959992},{"$f":"AVERAGE(M$79:M492)","v":3786.7992239185728},3776.2778578541852,{"$f":"AVERAGE(P$79:P492)","v":3756.0918053355695},633,null,null,null,null,null,null,0,633,-1211.4411534951635,null,null,null,null,null,null,null,null,null,null,null,null,null,40098.111874999231,{"$f":"LOOKUP($AO492,Data!$A$6:$A$1806,Data!$B$6:$B$1806)","v":59.988998413085937},{"$f":"LOOKUP($AO492,Data!$A$6:$A$1806,Data!$C$6:$C$1806)","v":3733.115234375},{"$f":"LOOKUP($AO492,Data!$A$6:$A$1806,Data!$D$6:$D$1806)","v":350},{"$f":"IF($AS$1=\"+\",LOOKUP($AO492,Data!$A$6:$A$1806,Data!$E$6:$E$1806)*-1,LOOKUP($AO492,Data!$A$6:$A$1806,Data!$E$6:$E$1806))","v":-262.41592407226562},{"$f":"LOOKUP($AO492,Data!$A$6:$A$1806,Data!$F$6:$F$1806)","v":0},{"$f":"LOOKUP($AO492,Data!$A$6:$A$1806,Data!$G$6:$G$1806)","v":174.5},{"$f":"LOOKUP($AO492,Data!$A$6:$A$1806,Data!$H$6:$H$1806)","v":10},{"$f":"LOOKUP($AO492,Data!$A$6:$A$1806,Data!$I$6:$I$1806)","v":15},{"$f":"LOOKUP($AO492,Data!$A$6:$A$1806,Data!$J$6:$J$1806)","v":-103},{"$f":"LOOKUP($AO492,Data!$A$6:$A$1806,Data!$K$6:$K$1806)","v":7615.17},{"$f":"(IF((AP492-$L$2)>0,((AP492-$L$2-$L$5)/(($L$4*$L$2)-$L$5)*$L$3*-1),((AP492-$L$2+$L$5)/(($L$4*$L$2)-$L$5)*$L$3*-1)))","v":8.80126953125}]
[null,40098.111898147377,{"$f":"LOOKUP(B493,Data!$A$6:$A$1806,Data!B$6:B$1806)","v":59.988998413085937},{"$f":"LOOKUP(B493,Data!$A$6:$A$1806,Data!C$6:C$1806)","v":3733.115234375},null,null,null,8.80126953125,10.983073145148261,null,null,0,3787.956051531522,{"$f":"AVERAGE(D$79:D493)","v":3766.1041027390811},{"$f":"AVERAGE(M$79:M493)","v":3786.8020114549895},3776.2778578541852,{"$f":"AVERAGE(P$79:P493)","v":3756.1405639165323},633,null,null,null,null,null,null,0,633,-1211.4411534951635,null,null,null,null,null,null,null,null,null,null,null,null,null,40098.111898147377,{"$f":"LOOKUP($AO493,Data!$A$6:$A$1806,Data!$B$6:$B$1806)","v":59.988998413085937},{"$f":"LOOKUP($AO493,Data!$A$6:$A$1806,Data!$C$6:$C$1806)","v":3733.115234375},{"$f":"LOOKUP($AO493,Data!$A$6:$A$1806,Data!$D$6:$D$1806)","v":350},{"$f":"IF($AS$1=\"+\",LOOKUP($AO493,Data!$A$6:$A$1806,Data!$E$6:$E$1806)*-1,LOOKUP($AO493,Data!$A$6:$A$1806,Data!$E$6:$E$1806))","v":-262.41592407226562},{"$f":"LOOKUP($AO493,Data!$A$6:$A$1806,Data!$F$6:$F$1806)","v":0},{"$f":"LOOKUP($AO493,Data!$A$6:$A$1806,Data!$G$6:$G$1806)","v":174.5},{"$f":"LOOKUP($AO493,Data!$A$6:$A$1806,Data!$H$6:$H$1806)","v":10},{"$f":"LOOKUP($AO493,Data!$A$6:$A$1806,Data!$I$6:$I$1806)","v":15},{"$f":"LOOKUP($AO493,Data!$A$6:$A$1806,Data!$J$6:$J$1806)","v":-103},{"$f":"LOOKUP($AO493,Data!$A$6:$A$1806,Data!$K$6:$K$1806)","v":7615.17},8.80126953125]
[null,{"$f":"B493+TIME(0,0,$B$1)","v":40098.111921295524},{"$f":"LOOKUP(B494,Data!$A$6:$A$1806,Data!B$6:B$1806)","v":59.988998413085937},{"$f":"LOOKUP(B494,Data!$A$6:$A$1806,Data!C$6:C$1806)","v":3733.115234375},null,null,null,8.80126953125,10.21944188028387,null,null,0,3787.1924202666578,{"$f":"AVERAGE(D$79:D494)","v":3766.0248025747446},{"$f":"AVERAGE(M$79:M494)","v":3786.8029499377099},3776.2778578541852,{"$f":"AVERAGE(P$79:P494)","v":3756.1890875163826},633,null,null,null,null,null,null,0,633,-1211.4411534951635,null,null,null,null,null,null,null,null,null,null,null,null,null,40098.111921295524,{"$f":"LOOKUP($AO494,Data!$A$6:$A$1806,Data!$B$6:$B$1806)","v":59.988998413085937},{"$f":"LOOKUP($AO494,Data!$A$6:$A$1806,Data!$C$6:$C$1806)","v":3733.115234375},{"$f":"LOOKUP($AO494,Data!$A$6:$A$1806,Data!$D$6:$D$1806)","v":350},{"$f":"IF($AS$1=\"+\",LOOKUP($AO494,Data!$A$6:$A$1806,Data!$E$6:$E$1806)*-1,LOOKUP($AO494,Data!$A$6:$A$1806,Data!$E$6:$E$1806))","v":-262.41592407226562},{"$f":"LOOKUP($AO494,Data!$A$6:$A$1806,Data!$F$6:$F$1806)","v":0},{"$f":"LOOKUP($AO494,Data!$A$6:$A$1806,Data!$G$6:$G$1806)","v":174.5},{"$f":"LOOKUP($AO494,Data!$A$6:$A$1806,Data!$H$6:$H$1806)","v":10},{"$f":"LOOKUP($AO494,Data!$A$6:$A$1806,Data!$I$6:$I$1806)","v":15},{"$f":"LOOKUP($AO494,Data!$A$6:$A$1806,Data!$J$6:$J$1806)","v":-103},{"$f":"LOOKUP($AO494,Data!$A$6:$A$1806,Data!$K$6:$K$1806)","v":7615.17},8.80126953125]
[null,40098.11194444367,{"$f":"LOOKUP(B495,Data!$A$6:$A$1806,Data!B$6:B$1806)","v":59.98699951171875},{"$f":"LOOKUP(B495,Data!$A$6:$A$1806,Data!C$6:C$1806)","v":3729.18017578125},null,null,null,10.400390625,10.282773940934515,null,null,0,3787.2557523273085,{"$f":"AVERAGE(D$79:D495)","v":3765.9364461555756},{"$f":"AVERAGE(M$79:M495)","v":3786.8040357947593},3776.2778578541852,{"$f":"AVERAGE(P$79:P495)","v":3756.2373778296947},633,null,null,null,null,null,null,0,633,-1166.8048518088808,null,null,null,null,null,null,null,null,null,null,null,null,null,40098.11194444367,{"$f":"LOOKUP($AO495,Data!$A$6:$A$1806,Data!$B$6:$B$1806)","v":59.98699951171875},{"$f":"LOOKUP($AO495,Data!$A$6:$A$1806,Data!$C$6:$C$1806)","v":3729.18017578125},{"$f":"LOOKUP($AO495,Data!$A$6:$A$1806,Data!$D$6:$D$1806)","v":350},{"$f":"IF($AS$1=\"+\",LOOKUP($AO495,Data!$A$6:$A$1806,Data!$E$6:$E$1806)*-1,LOOKUP($AO495,Data!$A$6:$A$1806,Data!$E$6:$E$1806))","v":-262.41592407226562},{"$f":"LOOKUP($AO495,Data!$A$6:$A$1806,Data!$F$6:$F$1806)","v":0},{"$f":"LOOKUP($AO495,Data!$A$6:$A$1806,Data!$G$6:$G$1806)","v":175},{"$f":"LOOKUP($AO495,Data!$A$6:$A$1806,Data!$H$6:$H$1806)","v":10},{"$f":"LOOKUP($AO495,Data!$A$6:$A$1806,Data!$I$6:$I$1806)","v":15},{"$f":"LOOKUP($AO495,Data!$A$6:$A$1806,Data!$J$6:$J$1806)","v":-103},{"$f":"LOOKUP($AO495,Data!$A$6:$A$1806,Data!$K$6:$K$1806)","v":7615.5},10.400390625]
[null,40098.111967591816,{"$f":"LOOKUP(B496,Data!$A$6:$A$1806,Data!B$6:B$1806)","v":59.98699951171875},{"$f":"LOOKUP(B496,Data!$A$6:$A$1806,Data!C$6:C$1806)","v":3729.18017578125},null,null,null,10.400390625,10.323939780357435,null,null,0,3787.2969181667313,{"$f":"AVERAGE(D$79:D496)","v":3765.8485124943932},{"$f":"AVERAGE(M$79:M496)","v":3786.8052149391901},3776.2778578541852,{"$f":"AVERAGE(P$79:P496)","v":3756.2854365347894},633,null,null,null,null,null,null,0,633,-1166.8048518088808,null,null,null,null,null,null,null,null,null,null,null,null,null,40098.111967591816,{"$f":"LOOKUP($AO496,Data!$A$6:$A$1806,Data!$B$6:$B$1806)","v":59.98699951171875},{"$f":"LOOKUP($AO496,Data!$A$6:$A$1806,Data!$C$6:$C$1806)","v":3729.18017578125},{"$f":"LOOKUP($AO496,Data!$A$6:$A$1806,Data!$D$6:$D$1806)","v":350},{"$f":"IF($AS$1=\"+\",LOOKUP($AO496,Data!$A$6:$A$1806,Data!$E$6:$E$1806)*-1,LOOKUP($AO496,Data!$A$6:$A$1806,Data!$E$6:$E$1806))","v":-262.41592407226562},{"$f":"LOOKUP($AO496,Data!$A$6:$A$1806,Data!$F$6:$F$1806)","v":0},{"$f":"LOOKUP($AO496,Data!$A$6:$A$1806,Data!$G$6:$G$1806)","v":175},{"$f":"LOOKUP($AO496,Data!$A$6:$A$1806,Data!$H$6:$H$1806)","v":10},{"$f":"LOOKUP($AO496,Data!$A$6:$A$1806,Data!$I$6:$I$1806)","v":15},{"$f":"LOOKUP($AO496,Data!$A$6:$A$1806,Data!$J$6:$J$1806)","v":-103},{"$f":"LOOKUP($AO496,Data!$A$6:$A$1806,Data!$K$6:$K$1806)","v":7615.5},10.400390625]
[null,40098.111990739962,{"$f":"LOOKUP(B497,Data!$A$6:$A$1806,Data!B$6:B$1806)","v":59.993999481201172},{"$f":"LOOKUP(B497,Data!$A$6:$A$1806,Data!C$6:C$1806)","v":3720.10791015625},null,null,null,4.8004150390625,8.3907061209042091,null,null,0,3785.3636845072779,{"$f":"AVERAGE(D$79:D497)","v":3765.7393463790277},{"$f":"AVERAGE(M$79:M497)","v":3786.8017745324314},3776.2778578541852,{"$f":"AVERAGE(P$79:P497)","v":3756.3332652939271},633,null,null,null,null,null,null,0,633,-1339.6613409760625,null,null,null,null,null,null,null,null,null,null,null,null,null,40098.111990739962,{"$f":"LOOKUP($AO497,Data!$A$6:$A$1806,Data!$B$6:$B$1806)","v":59.993999481201172},{"$f":"LOOKUP($AO497,Data!$A$6:$A$1806,Data!$C$6:$C$1806)","v":3720.10791015625},{"$f":"LOOKUP($AO497,Data!$A$6:$A$1806,Data!$D$6:$D$1806)","v":350},{"$f":"IF($AS$1=\"+\",LOOKUP($AO497,Data!$A$6:$A$1806,Data!$E$6:$E$1806)*-1,LOOKUP($AO497,Data!$A$6:$A$1806,Data!$E$6:$E$1806))","v":-262.41592407226562},{"$f":"LOOKUP($AO497,Data!$A$6:$A$1806,Data!$F$6:$F$1806)","v":0},{"$f":"LOOKUP($AO497,Data!$A$6:$A$1806,Data!$G$6:$G$1806)","v":175.5},{"$f":"LOOKUP($AO497,Data!$A$6:$A$1806,Data!$H$6:$H$1806)","v":10},{"$f":"LOOKUP($AO497,Data!$A$6:$A$1806,Data!$I$6:$I$1806)","v":15},{"$f":"LOOKUP($AO497,Data!$A$6:$A$1806,Data!$J$6:$J$1806)","v":-103},{"$f":"LOOKUP($AO497,Data!$A$6:$A$1806,Data!$K$6:$K$1806)","v":7615.83},4.8004150390625]
[null,40098.112013888109,{"$f":"LOOKUP(B498,Data!$A$6:$A$1806,Data!B$6:B$1806)","v":59.993999481201172},{"$f":"LOOKUP(B498,Data!$A$6:$A$1806,Data!C$6:C$1806)","v":3720.10791015625},null,null,null,4.8004150390625,7.1341042422596113,null,null,0,3784.1070826286332,{"$f":"AVERAGE(D$79:D498)","v":3765.6307001023065},{"$f":"AVERAGE(M$79:M498)","v":3786.7953585993273},3776.2778578541852,{"$f":"AVERAGE(P$79:P498)","v":3756.3808657534983},633,null,null,null,null,null,null,0,633,-1339.6613409760625,null,null,null,null,null,null,null,null,null,null,null,null,null,40098.112013888109,{"$f":"LOOKUP($AO498,Data!$A$6:$A$1806,Data!$B$6:$B$1806)","v":59.993999481201172},{"$f":"LOOKUP($AO498,Data!$A$6:$A$1806,Data!$C$6:$C$1806)","v":3720.10791015625},{"$f":"LOOKUP($AO498,Data!$A$6:$A$1806,Data!$D$6:$D$1806)","v":350},{"$f":"IF($AS$1=\"+\",LOOKUP($AO498,Data!$A$6:$A$1806,Data!$E$6:$E$1806)*-1,LOOKUP($AO498,Data!$A$6:$A$1806,Data!$E$6:$E$1806))","v":-262.41592407226562},{"$f":"LOOKUP($AO498,Data!$A$6:$A$1806,Data!$F$6:$F$1806)","v":0},{"$f":"LOOKUP($AO498,Data!$A$6:$A$1806,Data!$G$6:$G$1806)","v":175.5},{"$f":"LOOKUP($AO498,Data!$A$6:$A$1806,Data!$H$6:$H$1806)","v":10},{"$f":"LOOKUP($AO498,Data!$A$6:$A$1806,Data!$I$6:$I$1806)","v":15},{"$f":"LOOKUP($AO498,Data!$A$6:$A$1806,Data!$J$6:$J$1806)","v":-103},{"$f":"LOOKUP($AO498,Data!$A$6:$A$1806,Data!$K$6:$K$1806)","v":7615.83},4.8004150390625]
[null,40098.112037036255,{"$f":"LOOKUP(B499,Data!$A$6:$A$1806,Data!B$6:B$1806)","v":59.993999481201172},{"$f":"LOOKUP(B499,Data!$A$6:$A$1806,Data!C$6:C$1806)","v":3720.10791015625},null,null,null,4.8004150390625,6.3173130211406221,null,null,0,3783.2902914075144,{"$f":"AVERAGE(D$79:D499)","v":3765.5225699599168},{"$f":"AVERAGE(M$79:M499)","v":3786.7870330240498},3776.2778578541852,{"$f":"AVERAGE(P$79:P499)","v":3756.4282395442142},633,null,null,null,null,null,null,0,633,-1339.6613409760625,null,null,null,null,null,null,null,null,null,null,null,null,null,40098.112037036255,{"$f":"LOOKUP($AO499,Data!$A$6:$A$1806,Data!$B$6:$B$1806)","v":59.993999481201172},{"$f":"LOOKUP($AO499,Data!$A$6:$A$1806,Data!$C$6:$C$1806)","v":3720.10791015625},{"$f":"LOOKUP($AO499,Data!$A$6:$A$1806,Data!$D$6:$D$1806)","v":350},{"$f":"IF($AS$1=\"+\",LOOKUP($AO499,Data!$A$6:$A$1806,Data!$E$6:$E$1806)*-1,LOOKUP($AO499,Data!$A$6:$A$1806,Data!$E$6:$E$1806))","v":-262.41592407226562},{"$f":"LOOKUP($AO499,Data!$A$6:$A$1806,Data!$F$6:$F$1806)","v":0},{"$f":"LOOKUP($AO499,Data!$A$6:$A$1806,Data!$G$6:$G$1806)","v":175.5},{"$f":"LOOKUP($AO499,Data!$A$6:$A$1806,Data!$H$6:$H$1806)","v":10},{"$f":"LOOKUP($AO499,Data!$A$6:$A$1806,Data!$I$6:$I$1806)","v":15},{"$f":"LOOKUP($AO499,Data!$A$6:$A$1806,Data!$J$6:$J$1806)","v":-103},{"$f":"LOOKUP($AO499,Data!$A$6:$A$1806,Data!$K$6:$K$1806)","v":7615.83},4.8004150390625]
[null,40098.112060184401,{"$f":"LOOKUP(B500,Data!$A$6:$A$1806,Data!B$6:B$1806)","v":60.002998352050781},{"$f":"LOOKUP(B500,Data!$A$6:$A$1806,Data!C$6:C$1806)","v":3725.661376953125},null,null,null,-2.398681640625,3.2667148895226541,null,null,0,3780.2396932758966,{"$f":"AVERAGE(D$79:D500)","v":3765.4281121565832},{"$f":"AVERAGE(M$79:M500)","v":3786.77151800095},3776.2778578541852,{"$f":"AVERAGE(P$79:P500)","v":3756.4753882812929},633,null,null,null,null,null,null,0,633,-1654.8207629020194,null,null,null,null,null,null,null,null,null,null,null,null,null,40098.112060184401,{"$f":"LOOKUP($AO500,Data!$A$6:$A$1806,Data!$B$6:$B$1806)","v":60.002998352050781},{"$f":"LOOKUP($AO500,Data!$A$6:$A$1806,Data!$C$6:$C$1806)","v":3725.661376953125},{"$f":"LOOKUP($AO500,Data!$A$6:$A$1806,Data!$D$6:$D$1806)","v":350},{"$f":"IF($AS$1=\"+\",LOOKUP($AO500,Data!$A$6:$A$1806,Data!$E$6:$E$1806)*-1,LOOKUP($AO500,Data!$A$6:$A$1806,Data!$E$6:$E$1806))","v":-262.41592407226562},{"$f":"LOOKUP($AO500,Data!$A$6:$A$1806,Data!$F$6:$F$1806)","v":0},{"$f":"LOOKUP($AO500,Data!$A$6:$A$1806,Data!$G$6:$G$1806)","v":176},{"$f":"LOOKUP($AO500,Data!$A$6:$A$1806,Data!$H$6:$H$1806)","v":10},{"$f":"LOOKUP($AO500,Data!$A$6:$A$1806,Data!$I$6:$I$1806)","v":15},{"$f":"LOOKUP($AO500,Data!$A$6:$A$1806,Data!$J$6:$J$1806)","v":-103},{"$f":"LOOKUP($AO500,Data!$A$6:$A$1806,Data!$K$6:$K$1806)","v":7616.16},-2.398681640625]
[null,40098.112083332548,{"$f":"LOOKUP(B501,Data!$A$6:$A$1806,Data!B$6:B$1806)","v":60.002998352050781},{"$f":"LOOKUP(B501,Data!$A$6:$A$1806,Data!C$6:C$1806)","v":3725.661376953125},null,null,null,-2.398681640625,1.2838261039709753,null,null,0,3778.2568044903451,{"$f":"AVERAGE(D$79:D501)","v":3765.3341009622486},{"$f":"AVERAGE(M$79:M501)","v":3786.7513886545889},3776.2778578541852,{"$f":"AVERAGE(P$79:P501)","v":3756.5223135646411},633,null,null,null,null,null,null,0,633,-1654.8207629020194,null,null,null,null,null,null,null,null,null,null,null,null,null,40098.112083332548,{"$f":"LOOKUP($AO501,Data!$A$6:$A$1806,Data!$B$6:$B$1806)","v":60.002998352050781},{"$f":"LOOKUP($AO501,Data!$A$6:$A$1806,Data!$C$6:$C$1806)","v":3725.661376953125},{"$f":"LOOKUP($AO501,Data!$A$6:$A$1806,Data!$D$6:$D$1806)","v":350},{"$f":"IF($AS$1=\"+\",LOOKUP($AO501,Data!$A$6:$A$1806,Data!$E$6:$E$1806)*-1,LOOKUP($AO501,Data!$A$6:$A$1806,Data!$E$6:$E$1806))","v":-262.41592407226562},{"$f":"LOOKUP($AO501,Data!$A$6:$A$1806,Data!$F$6:$F$1806)","v":0},{"$f":"LOOKUP($AO501,Data!$A$6:$A$1806,Data!$G$6:$G$1806)","v":176},{"$f":"LOOKUP($AO501,Data!$A$6:$A$1806,Data!$H$6:$H$1806)","v":10},{"$f":"LOOKUP($AO501,Data!$A$6:$A$1806,Data!$I$6:$I$1806)","v":15},{"$f":"LOOKUP($AO501,Data!$A$6:$A$1806,Data!$J$6:$J$1806)","v":-103},{"$f":"LOOKUP($AO501,Data!$A$6:$A$1806,Data!$K$6:$K$1806)","v":7616.16},-2.398681640625]
[null,40098.112106480694,{"$f":"LOOKUP(B502,Data!$A$6:$A$1806,Data!B$6:B$1806)","v":60.006000518798828},{"$f":"LOOKUP(B502,Data!$A$6:$A$1806,Data!C$6:C$1806)","v":3727.82470703125},null,null,null,-4.8004150390625,-0.84565829609074106,null,null,0,3776.1273200902833,{"$f":"AVERAGE(D$79:D502)","v":3765.2456354105248},{"$f":"AVERAGE(M$79:M502)","v":3786.7263318891073},3776.2778578541852,{"$f":"AVERAGE(P$79:P502)","v":3756.5690169790373},633,null,null,null,null,null,null,0,633,-1795.7594502461989,null,null,null,null,null,null,null,null,null,null,null,null,null,40098.112106480694,{"$f":"LOOKUP($AO502,Data!$A$6:$A$1806,Data!$B$6:$B$1806)","v":60.006000518798828},{"$f":"LOOKUP($AO502,Data!$A$6:$A$1806,Data!$C$6:$C$1806)","v":3727.82470703125},{"$f":"LOOKUP($AO502,Data!$A$6:$A$1806,Data!$D$6:$D$1806)","v":350},{"$f":"IF($AS$1=\"+\",LOOKUP($AO502,Data!$A$6:$A$1806,Data!$E$6:$E$1806)*-1,LOOKUP($AO502,Data!$A$6:$A$1806,Data!$E$6:$E$1806))","v":-259.68524169921875},{"$f":"LOOKUP($AO502,Data!$A$6:$A$1806,Data!$F$6:$F$1806)","v":0},{"$f":"LOOKUP($AO502,Data!$A$6:$A$1806,Data!$G$6:$G$1806)","v":176.5},{"$f":"LOOKUP($AO502,Data!$A$6:$A$1806,Data!$H$6:$H$1806)","v":10},{"$f":"LOOKUP($AO502,Data!$A$6:$A$1806,Data!$I$6:$I$1806)","v":15},{"$f":"LOOKUP($AO502,Data!$A$6:$A$1806,Data!$J$6:$J$1806)","v":-103},{"$f":"LOOKUP($AO502,Data!$A$6:$A$1806,Data!$K$6:$K$1806)","v":7616.49},-4.8004150390625]
[null,40098.11212962884,{"$f":"LOOKUP(B503,Data!$A$6:$A$1806,Data!B$6:B$1806)","v":60.006000518798828},{"$f":"LOOKUP(B503,Data!$A$6:$A$1806,Data!C$6:C$1806)","v":3727.82470703125},null,null,null,-4.8004150390625,-2.2298231561308568,null,null,0,3774.7431552302432,{"$f":"AVERAGE(D$79:D503)","v":3765.1575861672795},{"$f":"AVERAGE(M$79:M503)","v":3786.6981361793219},3776.2778578541852,{"$f":"AVERAGE(P$79:P503)","v":3756.615500094309},633,null,null,null,null,null,null,0,633,-1795.7594502461989,null,null,null,null,null,null,null,null,null,null,null,null,null,40098.11212962884,{"$f":"LOOKUP($AO503,Data!$A$6:$A$1806,Data!$B$6:$B$1806)","v":60.006000518798828},{"$f":"LOOKUP($AO503,Data!$A$6:$A$1806,Data!$C$6:$C$1806)","v":3727.82470703125},{"$f":"LOOKUP($AO503,Data!$A$6:$A$1806,Data!$D$6:$D$1806)","v":350},{"$f":"IF($AS$1=\"+\",LOOKUP($AO503,Data!$A$6:$A$1806,Data!$E$6:$E$1806)*-1,LOOKUP($AO503,Data!$A$6:$A$1806,Data!$E$6:$E$1806))","v":-259.68524169921875},{"$f":"LOOKUP($AO503,Data!$A$6:$A$1806,Data!$F$6:$F$1806)","v":0},{"$f":"LOOKUP($AO503,Data!$A$6:$A$1806,Data!$G$6:$G$1806)","v":176.5},{"$f":"LOOKUP($AO503,Data!$A$6:$A$1806,Data!$H$6:$H$1806)","v":10},{"$f":"LOOKUP($AO503,Data!$A$6:$A$1806,Data!$I$6:$I$1806)","v":15},{"$f":"LOOKUP($AO503,Data!$A$6:$A$1806,Data!$J$6:$J$1806)","v":-103},{"$f":"LOOKUP($AO503,Data!$A$6:$A$1806,Data!$K$6:$K$1806)","v":7616.49},-4.8004150390625]
[null,40098.112152776986,{"$f":"LOOKUP(B504,Data!$A$6:$A$1806,Data!B$6:B$1806)","v":60.006000518798828},{"$f":"LOOKUP(B504,Data!$A$6:$A$1806,Data!C$6:C$1806)","v":3727.82470703125},null,null,null,-4.8004150390625,-3.129530315156932,null,null,0,3773.8434480712172,{"$f":"AVERAGE(D$79:D504)","v":3765.0699503007627},{"$f":"AVERAGE(M$79:M504)","v":3786.6679608551244},3776.2778578541852,{"$f":"AVERAGE(P$79:P504)","v":3756.6617644655089},633,null,null,null,null,null,null,0,633,-1795.7594502461989,null,null,null,null,null,null,null,null,null,null,null,null,null,40098.112152776986,{"$f":"LOOKUP($AO504,Data!$A$6:$A$1806,Data!$B$6:$B$1806)","v":60.006000518798828},{"$f":"LOOKUP($AO504,Data!$A$6:$A$1806,Data!$C$6:$C$1806)","v":3727.82470703125},{"$f":"LOOKUP($AO504,Data!$A$6:$A$1806,Data!$D$6:$D$1806)","v":350},{"$f":"IF($AS$1=\"+\",LOOKUP($AO504,Data!$A$6:$A$1806,Data!$E$6:$E$1806)*-1,LOOKUP($AO504,Data!$A$6:$A$1806,Data!$E$6:$E$1806))","v":-259.68524169921875},{"$f":"LOOKUP($AO504,Data!$A$6:$A$1806,Data!$F$6:$F$1806)","v":0},{"$f":"LOOKUP($AO504,Data!$A$6:$A$1806,Data!$G$6:$G$1806)","v":176.5},{"$f":"LOOKUP($AO504,Data!$A$6:$A$1806,Data!$H$6:$H$1806)","v":10},{"$f":"LOOKUP($AO504,Data!$A$6:$A$1806,Data!$I$6:$I$1806)","v":15},{"$f":"LOOKUP($AO504,Data!$A$6:$A$1806,Data!$J$6:$J$1806)","v":-103},{"$f":"LOOKUP($AO504,Data!$A$6:$A$1806,Data!$K$6:$K$1806)","v":7616.49},-4.8004150390625]
[null,40098.112175925133,{"$f":"LOOKUP(B505,Data!$A$6:$A$1806,Data!B$6:B$1806)","v":60.019001007080078},{"$f":"LOOKUP(B505,Data!$A$6:$A$1806,Data!C$6:C$1806)","v":3727.2314453125},null,null,null,-15.2008056640625,-7.3544766872738805,null,null,0,3769.6185016991003,{"$f":"AVERAGE(D$79:D505)","v":3764.9813355349825},{"$f":"AVERAGE(M$79:M505)","v":3786.628032379349},3776.2778578541852,{"$f":"AVERAGE(P$79:P505)","v":3756.7078116330881},633,null,null,null,null,null,null,0,633,-2845.0433261894555,null,null,null,null,null,null,null,null,null,null,null,null,null,40098.112175925133,{"$f":"LOOKUP($AO505,Data!$A$6:$A$1806,Data!$B$6:$B$1806)","v":60.019001007080078},{"$f":"LOOKUP($AO505,Data!$A$6:$A$1806,Data!$C$6:$C$1806)","v":3727.2314453125},{"$f":"LOOKUP($AO505,Data!$A$6:$A$1806,Data!$D$6:$D$1806)","v":350},{"$f":"IF($AS$1=\"+\",LOOKUP($AO505,Data!$A$6:$A$1806,Data!$E$6:$E$1806)*-1,LOOKUP($AO505,Data!$A$6:$A$1806,Data!$E$6:$E$1806))","v":-259.68524169921875},{"$f":"LOOKUP($AO505,Data!$A$6:$A$1806,Data!$F$6:$F$1806)","v":0},{"$f":"LOOKUP($AO505,Data!$A$6:$A$1806,Data!$G$6:$G$1806)","v":177},{"$f":"LOOKUP($AO505,Data!$A$6:$A$1806,Data!$H$6:$H$1806)","v":10},{"$f":"LOOKUP($AO505,Data!$A$6:$A$1806,Data!$I$6:$I$1806)","v":15},{"$f":"LOOKUP($AO505,Data!$A$6:$A$1806,Data!$J$6:$J$1806)","v":-103},{"$f":"LOOKUP($AO505,Data!$A$6:$A$1806,Data!$K$6:$K$1806)","v":7616.82},-15.2008056640625]
[null,40098.112199073279,{"$f":"LOOKUP(B506,Data!$A$6:$A$1806,Data!B$6:B$1806)","v":60.019001007080078},{"$f":"LOOKUP(B506,Data!$A$6:$A$1806,Data!C$6:C$1806)","v":3727.2314453125},null,null,null,-15.2008056640625,-10.100691829149898,null,null,0,3766.8722865572245,{"$f":"AVERAGE(D$79:D506)","v":3764.8931348568926},{"$f":"AVERAGE(M$79:M506)","v":3786.5818740947179},3776.2778578541852,{"$f":"AVERAGE(P$79:P506)","v":3756.7536431230678},633,null,null,null,null,null,null,0,633,-2845.0433261894555,null,null,null,null,null,null,null,null,null,null,null,null,null,40098.112199073279,{"$f":"LOOKUP($AO506,Data!$A$6:$A$1806,Data!$B$6:$B$1806)","v":60.019001007080078},{"$f":"LOOKUP($AO506,Data!$A$6:$A$1806,Data!$C$6:$C$1806)","v":3727.2314453125},{"$f":"LOOKUP($AO506,Data!$A$6:$A$1806,Data!$D$6:$D$1806)","v":350},{"$f":"IF($AS$1=\"+\",LOOKUP($AO506,Data!$A$6:$A$1806,Data!$E$6:$E$1806)*-1,LOOKUP($AO506,Data!$A$6:$A$1806,Data!$E$6:$E$1806))","v":-259.68524169921875},{"$f":"LOOKUP($AO506,Data!$A$6:$A$1806,Data!$F$6:$F$1806)","v":0},{"$f":"LOOKUP($AO506,Data!$A$6:$A$1806,Data!$G$6:$G$1806)","v":177},{"$f":"LOOKUP($AO506,Data!$A$6:$A$1806,Data!$H$6:$H$1806)","v":10},{"$f":"LOOKUP($AO506,Data!$A$6:$A$1806,Data!$I$6:$I$1806)","v":15},{"$f":"LOOKUP($AO506,Data!$A$6:$A$1806,Data!$J$6:$J$1806)","v":-103},{"$f":"LOOKUP($AO506,Data!$A$6:$A$1806,Data!$K$6:$K$1806)","v":7616.82},-15.2008056640625]
[null,40098.112222221425,{"$f":"LOOKUP(B507,Data!$A$6:$A$1806,Data!B$6:B$1806)","v":60.025001525878906},{"$f":"LOOKUP(B507,Data!$A$6:$A$1806,Data!C$6:C$1806)","v":3726.015625},null,null,null,-20.001220703125,-13.565876935041185,null,null,0,3763.4071014513333,{"$f":"AVERAGE(D$79:D507)","v":3764.8025112907926},{"$f":"AVERAGE(M$79:M507)","v":3786.5278536456658},3776.2778578541852,{"$f":"AVERAGE(P$79:P507)","v":3756.7992604472061},633,null,null,null,null,null,null,0,633,-3895.6955511210235,null,null,null,null,null,null,null,null,null,null,null,null,null,40098.112222221425,{"$f":"LOOKUP($AO507,Data!$A$6:$A$1806,Data!$B$6:$B$1806)","v":60.025001525878906},{"$f":"LOOKUP($AO507,Data!$A$6:$A$1806,Data!$C$6:$C$1806)","v":3726.015625},{"$f":"LOOKUP($AO507,Data!$A$6:$A$1806,Data!$D$6:$D$1806)","v":350},{"$f":"IF($AS$1=\"+\",LOOKUP($AO507,Data!$A$6:$A$1806,Data!$E$6:$E$1806)*-1,LOOKUP($AO507,Data!$A$6:$A$1806,Data!$E$6:$E$1806))","v":-259.68524169921875},{"$f":"LOOKUP($AO507,Data!$A$6:$A$1806,Data!$F$6:$F$1806)","v":0},{"$f":"LOOKUP($AO507,Data!$A$6:$A$1806,Data!$G$6:$G$1806)","v":177.5},{"$f":"LOOKUP($AO507,Data!$A$6:$A$1806,Data!$H$6:$H$1806)","v":10},{"$f":"LOOKUP($AO507,Data!$A$6:$A$1806,Data!$I$6:$I$1806)","v":15},{"$f":"LOOKUP($AO507,Data!$A$6:$A$1806,Data!$J$6:$J$1806)","v":-103},{"$f":"LOOKUP($AO507,Data!$A$6:$A$1806,Data!$K$6:$K$1806)","v":7617.15},-20.001220703125]
[null,40098.112245369572,{"$f":"LOOKUP(B508,Data!$A$6:$A$1806,Data!B$6:B$1806)","v":60.025001525878906},{"$f":"LOOKUP(B508,Data!$A$6:$A$1806,Data!C$6:C$1806)","v":3726.015625},null,null,null,-20.001220703125,-15.818247253870521,null,null,0,3761.1547311325039,{"$f":"AVERAGE(D$79:D508)","v":3764.7123092296511},{"$f":"AVERAGE(M$79:M508)","v":3786.4688463840075},3776.2778578541852,{"$f":"AVERAGE(P$79:P508)","v":3756.8446651031663},633,null,null,null,null,null,null,0,633,-3895.6955511210235,null,null,null,null,null,null,null,null,null,null,null,null,null,40098.112245369572,{"$f":"LOOKUP($AO508,Data!$A$6:$A$1806,Data!$B$6:$B$1806)","v":60.025001525878906},{"$f":"LOOKUP($AO508,Data!$A$6:$A$1806,Data!$C$6:$C$1806)","v":3726.015625},{"$f":"LOOKUP($AO508,Data!$A$6:$A$1806,Data!$D$6:$D$1806)","v":350},{"$f":"IF($AS$1=\"+\",LOOKUP($AO508,Data!$A$6:$A$1806,Data!$E$6:$E$1806)*-1,LOOKUP($AO508,Data!$A$6:$A$1806,Data!$E$6:$E$1806))","v":-259.68524169921875},{"$f":"LOOKUP($AO508,Data!$A$6:$A$1806,Data!$F$6:$F$1806)","v":0},{"$f":"LOOKUP($AO508,Data!$A$6:$A$1806,Data!$G$6:$G$1806)","v":177.5},{"$f":"LOOKUP($AO508,Data!$A$6:$A$1806,Data!$H$6:$H$1806)","v":10},{"$f":"LOOKUP($AO508,Data!$A$6:$A$1806,Data!$I$6:$I$1806)","v":15},{"$f":"LOOKUP($AO508,Data!$A$6:$A$1806,Data!$J$6:$J$1806)","v":-103},{"$f":"LOOKUP($AO508,Data!$A$6:$A$1806,Data!$K$6:$K$1806)","v":7617.15},-20.001220703125]
[null,40098.112268517718,{"$f":"LOOKUP(B509,Data!$A$6:$A$1806,Data!B$6:B$1806)","v":60.025001525878906},{"$f":"LOOKUP(B509,Data!$A$6:$A$1806,Data!C$6:C$1806)","v":3726.015625},null,null,null,-20.001220703125,-17.282287961109589,null,null,0,3759.6906904252646,{"$f":"AVERAGE(D$79:D509)","v":3764.622525739559},{"$f":"AVERAGE(M$79:M509)","v":3786.4067160917598},3776.2778578541852,{"$f":"AVERAGE(P$79:P509)","v":3756.8898585746806},633,null,null,null,null,null,null,0,633,-3895.6955511210235,null,null,null,null,null,null,null,null,null,null,null,null,null,40098.112268517718,{"$f":"LOOKUP($AO509,Data!$A$6:$A$1806,Data!$B$6:$B$1806)","v":60.025001525878906},{"$f":"LOOKUP($AO509,Data!$A$6:$A$1806,Data!$C$6:$C$1806)","v":3726.015625},{"$f":"LOOKUP($AO509,Data!$A$6:$A$1806,Data!$D$6:$D$1806)","v":350},{"$f":"IF($AS$1=\"+\",LOOKUP($AO509,Data!$A$6:$A$1806,Data!$E$6:$E$1806)*-1,LOOKUP($AO509,Data!$A$6:$A$1806,Data!$E$6:$E$1806))","v":-259.68524169921875},{"$f":"LOOKUP($AO509,Data!$A$6:$A$1806,Data!$F$6:$F$1806)","v":0},{"$f":"LOOKUP($AO509,Data!$A$6:$A$1806,Data!$G$6:$G$1806)","v":177.5},{"$f":"LOOKUP($AO509,Data!$A$6:$A$1806,Data!$H$6:$H$1806)","v":10},{"$f":"LOOKUP($AO509,Data!$A$6:$A$1806,Data!$I$6:$I$1806)","v":15},{"$f":"LOOKUP($AO509,Data!$A$6:$A$1806,Data!$J$6:$J$1806)","v":-103},{"$f":"LOOKUP($AO509,Data!$A$6:$A$1806,Data!$K$6:$K$1806)","v":7617.15},-20.001220703125]
[null,40098.112291665864,{"$f":"LOOKUP(B510,Data!$A$6:$A$1806,Data!B$6:B$1806)","v":60.028999328613281},{"$f":"LOOKUP(B510,Data!$A$6:$A$1806,Data!C$6:C$1806)","v":3716.37451171875},null,null,null,-23.199462890625,-19.353299186439983,null,null,0,3757.6196791999341,{"$f":"AVERAGE(D$79:D510)","v":3764.5108405219185},{"$f":"AVERAGE(M$79:M510)","v":3786.3400794322883},3776.2778578541852,{"$f":"AVERAGE(P$79:P510)","v":3756.9348423317097},633,null,null,null,null,null,null,0,633,-5166.9672115833719,null,null,null,null,null,null,null,null,null,null,null,null,null,40098.112291665864,{"$f":"LOOKUP($AO510,Data!$A$6:$A$1806,Data!$B$6:$B$1806)","v":60.028999328613281},{"$f":"LOOKUP($AO510,Data!$A$6:$A$1806,Data!$C$6:$C$1806)","v":3716.37451171875},{"$f":"LOOKUP($AO510,Data!$A$6:$A$1806,Data!$D$6:$D$1806)","v":350},{"$f":"IF($AS$1=\"+\",LOOKUP($AO510,Data!$A$6:$A$1806,Data!$E$6:$E$1806)*-1,LOOKUP($AO510,Data!$A$6:$A$1806,Data!$E$6:$E$1806))","v":-259.68524169921875},{"$f":"LOOKUP($AO510,Data!$A$6:$A$1806,Data!$F$6:$F$1806)","v":0},{"$f":"LOOKUP($AO510,Data!$A$6:$A$1806,Data!$G$6:$G$1806)","v":178},{"$f":"LOOKUP($AO510,Data!$A$6:$A$1806,Data!$H$6:$H$1806)","v":10},{"$f":"LOOKUP($AO510,Data!$A$6:$A$1806,Data!$I$6:$I$1806)","v":15},{"$f":"LOOKUP($AO510,Data!$A$6:$A$1806,Data!$J$6:$J$1806)","v":-103},{"$f":"LOOKUP($AO510,Data!$A$6:$A$1806,Data!$K$6:$K$1806)","v":7617.48},-23.199462890625]
[null,40098.11231481401,{"$f":"LOOKUP(B511,Data!$A$6:$A$1806,Data!B$6:B$1806)","v":60.028999328613281},{"$f":"LOOKUP(B511,Data!$A$6:$A$1806,Data!C$6:C$1806)","v":3716.37451171875},null,null,null,-23.199462890625,-20.69945648290474,null,null,0,3756.2735219034694,{"$f":"AVERAGE(D$79:D511)","v":3764.3996711713339},{"$f":"AVERAGE(M$79:M511)","v":3786.2706416550855},3776.2778578541852,{"$f":"AVERAGE(P$79:P511)","v":3756.9796178306046},633,null,null,null,null,null,null,0,633,-5166.9672115833719,null,null,null,null,null,null,null,null,null,null,null,null,null,40098.11231481401,{"$f":"LOOKUP($AO511,Data!$A$6:$A$1806,Data!$B$6:$B$1806)","v":60.028999328613281},{"$f":"LOOKUP($AO511,Data!$A$6:$A$1806,Data!$C$6:$C$1806)","v":3716.37451171875},{"$f":"LOOKUP($AO511,Data!$A$6:$A$1806,Data!$D$6:$D$1806)","v":350},{"$f":"IF($AS$1=\"+\",LOOKUP($AO511,Data!$A$6:$A$1806,Data!$E$6:$E$1806)*-1,LOOKUP($AO511,Data!$A$6:$A$1806,Data!$E$6:$E$1806))","v":-259.68524169921875},{"$f":"LOOKUP($AO511,Data!$A$6:$A$1806,Data!$F$6:$F$1806)","v":0},{"$f":"LOOKUP($AO511,Data!$A$6:$A$1806,Data!$G$6:$G$1806)","v":178},{"$f":"LOOKUP($AO511,Data!$A$6:$A$1806,Data!$H$6:$H$1806)","v":10},{"$f":"LOOKUP($AO511,Data!$A$6:$A$1806,Data!$I$6:$I$1806)","v":15},{"$f":"LOOKUP($AO511,Data!$A$6:$A$1806,Data!$J$6:$J$1806)","v":-103},{"$f":"LOOKUP($AO511,Data!$A$6:$A$1806,Data!$K$6:$K$1806)","v":7617.48},-23.199462890625]
[null,40098.112337962157,{"$f":"LOOKUP(B512,Data!$A$6:$A$1806,Data!B$6:B$1806)","v":60.036998748779297},{"$f":"LOOKUP(B512,Data!$A$6:$A$1806,Data!C$6:C$1806)","v":3717.14208984375},null,null,null,-29.5989990234375,-23.814296372091206,null,null,0,3753.1586820142829,{"$f":"AVERAGE(D$79:D512)","v":3764.290782735095},{"$f":"AVERAGE(M$79:M512)","v":3786.1943468172035},3776.2778578541852,{"$f":"AVERAGE(P$79:P512)","v":3757.0241865142621},633,null,null,null,null,null,null,0,633,-14888.932436069987,null,null,null,null,null,null,null,null,null,null,null,null,null,40098.112337962157,{"$f":"LOOKUP($AO512,Data!$A$6:$A$1806,Data!$B$6:$B$1806)","v":60.036998748779297},{"$f":"LOOKUP($AO512,Data!$A$6:$A$1806,Data!$C$6:$C$1806)","v":3717.14208984375},{"$f":"LOOKUP($AO512,Data!$A$6:$A$1806,Data!$D$6:$D$1806)","v":350},{"$f":"IF($AS$1=\"+\",LOOKUP($AO512,Data!$A$6:$A$1806,Data!$E$6:$E$1806)*-1,LOOKUP($AO512,Data!$A$6:$A$1806,Data!$E$6:$E$1806))","v":-259.68524169921875},{"$f":"LOOKUP($AO512,Data!$A$6:$A$1806,Data!$F$6:$F$1806)","v":0},{"$f":"LOOKUP($AO512,Data!$A$6:$A$1806,Data!$G$6:$G$1806)","v":178.5},{"$f":"LOOKUP($AO512,Data!$A$6:$A$1806,Data!$H$6:$H$1806)","v":10},{"$f":"LOOKUP($AO512,Data!$A$6:$A$1806,Data!$I$6:$I$1806)","v":15},{"$f":"LOOKUP($AO512,Data!$A$6:$A$1806,Data!$J$6:$J$1806)","v":-103},{"$f":"LOOKUP($AO512,Data!$A$6:$A$1806,Data!$K$6:$K$1806)","v":7617.81},-29.5989990234375]
[null,40098.112361110303,{"$f":"LOOKUP(B513,Data!$A$6:$A$1806,Data!B$6:B$1806)","v":60.036998748779297},{"$f":"LOOKUP(B513,Data!$A$6:$A$1806,Data!C$6:C$1806)","v":3717.14208984375},null,null,null,-29.5989990234375,-25.83894230006241,null,null,0,3751.1340360863119,{"$f":"AVERAGE(D$79:D513)","v":3764.1823949353447},{"$f":"AVERAGE(M$79:M513)","v":3786.1137484017299},3776.2778578541852,{"$f":"AVERAGE(P$79:P513)","v":3757.0685498122807},633,null,null,null,null,null,null,0,633,-14888.932436069987,null,null,null,null,null,null,null,null,null,null,null,null,null,40098.112361110303,{"$f":"LOOKUP($AO513,Data!$A$6:$A$1806,Data!$B$6:$B$1806)","v":60.036998748779297},{"$f":"LOOKUP($AO513,Data!$A$6:$A$1806,Data!$C$6:$C$1806)","v":3717.14208984375},{"$f":"LOOKUP($AO513,Data!$A$6:$A$1806,Data!$D$6:$D$1806)","v":350},{"$f":"IF($AS$1=\"+\",LOOKUP($AO513,Data!$A$6:$A$1806,Data!$E$6:$E$1806)*-1,LOOKUP($AO513,Data!$A$6:$A$1806,Data!$E$6:$E$1806))","v":-259.68524169921875},{"$f":"LOOKUP($AO513,Data!$A$6:$A$1806,Data!$F$6:$F$1806)","v":0},{"$f":"LOOKUP($AO513,Data!$A$6:$A$1806,Data!$G$6:$G$1806)","v":178.5},{"$f":"LOOKUP($AO513,Data!$A$6:$A$1806,Data!$H$6:$H$1806)","v":10},{"$f":"LOOKUP($AO513,Data!$A$6:$A$1806,Data!$I$6:$I$1806)","v":15},{"$f":"LOOKUP($AO513,Data!$A$6:$A$1806,Data!$J$6:$J$1806)","v":-103},{"$f":"LOOKUP($AO513,Data!$A$6:$A$1806,Data!$K$6:$K$1806)","v":7617.81},-29.5989990234375]
[null,40098.112384258449,{"$f":"LOOKUP(B514,Data!$A$6:$A$1806,Data!B$6:B$1806)","v":60.036998748779297},{"$f":"LOOKUP(B514,Data!$A$6:$A$1806,Data!C$6:C$1806)","v":3717.14208984375},null,null,null,-29.5989990234375,-27.154962153243691,null,null,0,3749.8180162331305,{"$f":"AVERAGE(D$79:D514)","v":3764.0745043273364},{"$f":"AVERAGE(M$79:M514)","v":3786.0305013096004},3776.2778578541852,{"$f":"AVERAGE(P$79:P514)","v":3757.1127091411126},633,null,null,null,null,null,null,0,633,-14888.932436069987,null,null,null,null,null,null,null,null,null,null,null,null,null,40098.112384258449,{"$f":"LOOKUP($AO514,Data!$A$6:$A$1806,Data!$B$6:$B$1806)","v":60.036998748779297},{"$f":"LOOKUP($AO514,Data!$A$6:$A$1806,Data!$C$6:$C$1806)","v":3717.14208984375},{"$f":"LOOKUP($AO514,Data!$A$6:$A$1806,Data!$D$6:$D$1806)","v":350},{"$f":"IF($AS$1=\"+\",LOOKUP($AO514,Data!$A$6:$A$1806,Data!$E$6:$E$1806)*-1,LOOKUP($AO514,Data!$A$6:$A$1806,Data!$E$6:$E$1806))","v":-259.68524169921875},{"$f":"LOOKUP($AO514,Data!$A$6:$A$1806,Data!$F$6:$F$1806)","v":0},{"$f":"LOOKUP($AO514,Data!$A$6:$A$1806,Data!$G$6:$G$1806)","v":178.5},{"$f":"LOOKUP($AO514,Data!$A$6:$A$1806,Data!$H$6:$H$1806)","v":10},{"$f":"LOOKUP($AO514,Data!$A$6:$A$1806,Data!$I$6:$I$1806)","v":15},{"$f":"LOOKUP($AO514,Data!$A$6:$A$1806,Data!$J$6:$J$1806)","v":-103},{"$f":"LOOKUP($AO514,Data!$A$6:$A$1806,Data!$K$6:$K$1806)","v":7617.81},-29.5989990234375]
[null,40098.112407406596,{"$f":"LOOKUP(B515,Data!$A$6:$A$1806,Data!B$6:B$1806)","v":60.036998748779297},{"$f":"LOOKUP(B515,Data!$A$6:$A$1806,Data!C$6:C$1806)","v":3713.6318359375},null,null,null,-29.5989990234375,-28.010375057811526,null,null,0,3748.9626033285626,{"$f":"AVERAGE(D$79:D515)","v":3763.9590748802202},{"$f":"AVERAGE(M$79:M515)","v":3785.9456777444261},3776.2778578541852,{"$f":"AVERAGE(P$79:P515)","v":3757.1566659042164},633,null,null,null,null,null,null,0,633,-14888.932436069987,null,null,null,null,null,null,null,null,null,null,null,null,null,40098.112407406596,{"$f":"LOOKUP($AO515,Data!$A$6:$A$1806,Data!$B$6:$B$1806)","v":60.036998748779297},{"$f":"LOOKUP($AO515,Data!$A$6:$A$1806,Data!$C$6:$C$1806)","v":3713.6318359375},{"$f":"LOOKUP($AO515,Data!$A$6:$A$1806,Data!$D$6:$D$1806)","v":350},{"$f":"IF($AS$1=\"+\",LOOKUP($AO515,Data!$A$6:$A$1806,Data!$E$6:$E$1806)*-1,LOOKUP($AO515,Data!$A$6:$A$1806,Data!$E$6:$E$1806))","v":-255.9110107421875},{"$f":"LOOKUP($AO515,Data!$A$6:$A$1806,Data!$F$6:$F$1806)","v":0},{"$f":"LOOKUP($AO515,Data!$A$6:$A$1806,Data!$G$6:$G$1806)","v":179},{"$f":"LOOKUP($AO515,Data!$A$6:$A$1806,Data!$H$6:$H$1806)","v":10},{"$f":"LOOKUP($AO515,Data!$A$6:$A$1806,Data!$I$6:$I$1806)","v":15},{"$f":"LOOKUP($AO515,Data!$A$6:$A$1806,Data!$J$6:$J$1806)","v":-103},{"$f":"LOOKUP($AO515,Data!$A$6:$A$1806,Data!$K$6:$K$1806)","v":7618.14},-29.5989990234375]
[null,40098.112430554742,{"$f":"LOOKUP(B516,Data!$A$6:$A$1806,Data!B$6:B$1806)","v":60.036998748779297},{"$f":"LOOKUP(B516,Data!$A$6:$A$1806,Data!C$6:C$1806)","v":3713.6318359375},null,null,null,-29.5989990234375,-28.566393445780619,null,null,0,3748.4065849405933,{"$f":"AVERAGE(D$79:D516)","v":3763.8441725082048},{"$f":"AVERAGE(M$79:M516)","v":3785.8599720530933},3776.2778578541852,{"$f":"AVERAGE(P$79:P516)","v":3757.2004214922026},633,null,null,null,null,null,null,0,633,-14888.932436069987,null,null,null,null,null,null,null,null,null,null,null,null,null,40098.112430554742,{"$f":"LOOKUP($AO516,Data!$A$6:$A$1806,Data!$B$6:$B$1806)","v":60.036998748779297},{"$f":"LOOKUP($AO516,Data!$A$6:$A$1806,Data!$C$6:$C$1806)","v":3713.6318359375},{"$f":"LOOKUP($AO516,Data!$A$6:$A$1806,Data!$D$6:$D$1806)","v":350},{"$f":"IF($AS$1=\"+\",LOOKUP($AO516,Data!$A$6:$A$1806,Data!$E$6:$E$1806)*-1,LOOKUP($AO516,Data!$A$6:$A$1806,Data!$E$6:$E$1806))","v":-255.9110107421875},{"$f":"LOOKUP($AO516,Data!$A$6:$A$1806,Data!$F$6:$F$1806)","v":0},{"$f":"LOOKUP($AO516,Data!$A$6:$A$1806,Data!$G$6:$G$1806)","v":179},{"$f":"LOOKUP($AO516,Data!$A$6:$A$1806,Data!$H$6:$H$1806)","v":10},{"$f":"LOOKUP($AO516,Data!$A$6:$A$1806,Data!$I$6:$I$1806)","v":15},{"$f":"LOOKUP($AO516,Data!$A$6:$A$1806,Data!$J$6:$J$1806)","v":-103},{"$f":"LOOKUP($AO516,Data!$A$6:$A$1806,Data!$K$6:$K$1806)","v":7618.14},-29.5989990234375]
[null,40098.112453702888,{"$f":"LOOKUP(B517,Data!$A$6:$A$1806,Data!B$6:B$1806)","v":60.041000366210938},{"$f":"LOOKUP(B517,Data!$A$6:$A$1806,Data!C$6:C$1806)","v":3699.355712890625},null,null,null,-32.80029296875,-30.048258278819905,null,null,0,3746.9247201075541,{"$f":"AVERAGE(D$79:D517)","v":3763.697273966935},{"$f":"AVERAGE(M$79:M517)","v":3785.7712812741738},3776.2778578541852,{"$f":"AVERAGE(P$79:P517)","v":3757.2439772829835},633,null,null,null,null,null,null,0,633,-253339.16335877863,null,null,null,null,null,null,null,null,null,null,null,null,null,40098.112453702888,{"$f":"LOOKUP($AO517,Data!$A$6:$A$1806,Data!$B$6:$B$1806)","v":60.041000366210938},{"$f":"LOOKUP($AO517,Data!$A$6:$A$1806,Data!$C$6:$C$1806)","v":3699.355712890625},{"$f":"LOOKUP($AO517,Data!$A$6:$A$1806,Data!$D$6:$D$1806)","v":350},{"$f":"IF($AS$1=\"+\",LOOKUP($AO517,Data!$A$6:$A$1806,Data!$E$6:$E$1806)*-1,LOOKUP($AO517,Data!$A$6:$A$1806,Data!$E$6:$E$1806))","v":-255.9110107421875},{"$f":"LOOKUP($AO517,Data!$A$6:$A$1806,Data!$F$6:$F$1806)","v":0},{"$f":"LOOKUP($AO517,Data!$A$6:$A$1806,Data!$G$6:$G$1806)","v":179.5},{"$f":"LOOKUP($AO517,Data!$A$6:$A$1806,Data!$H$6:$H$1806)","v":10},{"$f":"LOOKUP($AO517,Data!$A$6:$A$1806,Data!$I$6:$I$1806)","v":15},{"$f":"LOOKUP($AO517,Data!$A$6:$A$1806,Data!$J$6:$J$1806)","v":-103},{"$f":"LOOKUP($AO517,Data!$A$6:$A$1806,Data!$K$6:$K$1806)","v":7618.47},-32.80029296875]
[null,40098.112476851034,{"$f":"LOOKUP(B518,Data!$A$6:$A$1806,Data!B$6:B$1806)","v":60.041000366210938},{"$f":"LOOKUP(B518,Data!$A$6:$A$1806,Data!C$6:C$1806)","v":3699.355712890625},null,null,null,-32.80029296875,-31.011470420295439,null,null,0,3745.9615079660784,{"$f":"AVERAGE(D$79:D518)","v":3763.5510431463067},{"$f":"AVERAGE(M$79:M518)","v":3785.6808045166554},3776.2778578541852,{"$f":"AVERAGE(P$79:P518)","v":3757.287334641916},633,null,null,null,null,null,null,0,633,-253339.16335877863,null,null,null,null,null,null,null,null,null,null,null,null,null,40098.112476851034,{"$f":"LOOKUP($AO518,Data!$A$6:$A$1806,Data!$B$6:$B$1806)","v":60.041000366210938},{"$f":"LOOKUP($AO518,Data!$A$6:$A$1806,Data!$C$6:$C$1806)","v":3699.355712890625},{"$f":"LOOKUP($AO518,Data!$A$6:$A$1806,Data!$D$6:$D$1806)","v":350},{"$f":"IF($AS$1=\"+\",LOOKUP($AO518,Data!$A$6:$A$1806,Data!$E$6:$E$1806)*-1,LOOKUP($AO518,Data!$A$6:$A$1806,Data!$E$6:$E$1806))","v":-255.9110107421875},{"$f":"LOOKUP($AO518,Data!$A$6:$A$1806,Data!$F$6:$F$1806)","v":0},{"$f":"LOOKUP($AO518,Data!$A$6:$A$1806,Data!$G$6:$G$1806)","v":179.5},{"$f":"LOOKUP($AO518,Data!$A$6:$A$1806,Data!$H$6:$H$1806)","v":10},{"$f":"LOOKUP($AO518,Data!$A$6:$A$1806,Data!$I$6:$I$1806)","v":15},{"$f":"LOOKUP($AO518,Data!$A$6:$A$1806,Data!$J$6:$J$1806)","v":-103},{"$f":"LOOKUP($AO518,Data!$A$6:$A$1806,Data!$K$6:$K$1806)","v":7618.47},-32.80029296875]
[null,40098.112499999181,{"$f":"LOOKUP(B519,Data!$A$6:$A$1806,Data!B$6:B$1806)","v":60.041000366210938},{"$f":"LOOKUP(B519,Data!$A$6:$A$1806,Data!C$6:C$1806)","v":3699.355712890625},null,null,null,-32.80029296875,-31.637558312254537,null,null,0,3745.3354200741192,{"$f":"AVERAGE(D$79:D519)","v":3763.4054755040038},{"$f":"AVERAGE(M$79:M519)","v":3785.5893183841331},3776.2778578541852,{"$f":"AVERAGE(P$79:P519)","v":3757.3304949219441},633,null,null,null,null,null,null,0,633,-253339.16335877863,null,null,null,null,null,null,null,null,null,null,null,null,null,40098.112499999181,{"$f":"LOOKUP($AO519,Data!$A$6:$A$1806,Data!$B$6:$B$1806)","v":60.041000366210938},{"$f":"LOOKUP($AO519,Data!$A$6:$A$1806,Data!$C$6:$C$1806)","v":3699.355712890625},{"$f":"LOOKUP($AO519,Data!$A$6:$A$1806,Data!$D$6:$D$1806)","v":350},{"$f":"IF($AS$1=\"+\",LOOKUP($AO519,Data!$A$6:$A$1806,Data!$E$6:$E$1806)*-1,LOOKUP($AO519,Data!$A$6:$A$1806,Data!$E$6:$E$1806))","v":-255.9110107421875},{"$f":"LOOKUP($AO519,Data!$A$6:$A$1806,Data!$F$6:$F$1806)","v":0},{"$f":"LOOKUP($AO519,Data!$A$6:$A$1806,Data!$G$6:$G$1806)","v":179.5},{"$f":"LOOKUP($AO519,Data!$A$6:$A$1806,Data!$H$6:$H$1806)","v":10},{"$f":"LOOKUP($AO519,Data!$A$6:$A$1806,Data!$I$6:$I$1806)","v":15},{"$f":"LOOKUP($AO519,Data!$A$6:$A$1806,Data!$J$6:$J$1806)","v":-103},{"$f":"LOOKUP($AO519,Data!$A$6:$A$1806,Data!$K$6:$K$1806)","v":7618.47},-32.80029296875]
[null,40098.112523147327,{"$f":"LOOKUP(B520,Data!$A$6:$A$1806,Data!B$6:B$1806)","v":60.042999267578125},{"$f":"LOOKUP(B520,Data!$A$6:$A$1806,Data!C$6:C$1806)","v":3704.59130859375},null,null,null,-34.3994140625,-32.604207824840451,null,null,0,3744.3687705615334,{"$f":"AVERAGE(D$79:D520)","v":3763.2724117779626},{"$f":"AVERAGE(M$79:M520)","v":3785.4960592261637},3776.2778578541852,{"$f":"AVERAGE(P$79:P520)","v":3757.3734594637403},633,null,null,null,null,null,null,0,633,36191.309051254088,null,null,null,null,null,null,null,null,null,null,null,null,null,40098.112523147327,{"$f":"LOOKUP($AO520,Data!$A$6:$A$1806,Data!$B$6:$B$1806)","v":60.042999267578125},{"$f":"LOOKUP($AO520,Data!$A$6:$A$1806,Data!$C$6:$C$1806)","v":3704.59130859375},{"$f":"LOOKUP($AO520,Data!$A$6:$A$1806,Data!$D$6:$D$1806)","v":350},{"$f":"IF($AS$1=\"+\",LOOKUP($AO520,Data!$A$6:$A$1806,Data!$E$6:$E$1806)*-1,LOOKUP($AO520,Data!$A$6:$A$1806,Data!$E$6:$E$1806))","v":-255.9110107421875},{"$f":"LOOKUP($AO520,Data!$A$6:$A$1806,Data!$F$6:$F$1806)","v":0},{"$f":"LOOKUP($AO520,Data!$A$6:$A$1806,Data!$G$6:$G$1806)","v":180},{"$f":"LOOKUP($AO520,Data!$A$6:$A$1806,Data!$H$6:$H$1806)","v":10},{"$f":"LOOKUP($AO520,Data!$A$6:$A$1806,Data!$I$6:$I$1806)","v":15},{"$f":"LOOKUP($AO520,Data!$A$6:$A$1806,Data!$J$6:$J$1806)","v":-103},{"$f":"LOOKUP($AO520,Data!$A$6:$A$1806,Data!$K$6:$K$1806)","v":7618.8},-34.3994140625]
[null,40098.112546295473,{"$f":"LOOKUP(B521,Data!$A$6:$A$1806,Data!B$6:B$1806)","v":60.042999267578125},{"$f":"LOOKUP(B521,Data!$A$6:$A$1806,Data!C$6:C$1806)","v":3704.59130859375},null,null,null,-34.3994140625,-33.232530008021293,null,null,0,3743.7404483783525,{"$f":"AVERAGE(D$79:D521)","v":3763.1399487910908},{"$f":"AVERAGE(M$79:M521)","v":3785.4018027682673},3776.2778578541852,{"$f":"AVERAGE(P$79:P521)","v":3757.4162295958458},633,null,null,null,null,null,null,0,633,36191.309051254088,null,null,null,null,null,null,null,null,null,null,null,null,null,40098.112546295473,{"$f":"LOOKUP($AO521,Data!$A$6:$A$1806,Data!$B$6:$B$1806)","v":60.042999267578125},{"$f":"LOOKUP($AO521,Data!$A$6:$A$1806,Data!$C$6:$C$1806)","v":3704.59130859375},{"$f":"LOOKUP($AO521,Data!$A$6:$A$1806,Data!$D$6:$D$1806)","v":350},{"$f":"IF($AS$1=\"+\",LOOKUP($AO521,Data!$A$6:$A$1806,Data!$E$6:$E$1806)*-1,LOOKUP($AO521,Data!$A$6:$A$1806,Data!$E$6:$E$1806))","v":-255.9110107421875},{"$f":"LOOKUP($AO521,Data!$A$6:$A$1806,Data!$F$6:$F$1806)","v":0},{"$f":"LOOKUP($AO521,Data!$A$6:$A$1806,Data!$G$6:$G$1806)","v":180},{"$f":"LOOKUP($AO521,Data!$A$6:$A$1806,Data!$H$6:$H$1806)","v":10},{"$f":"LOOKUP($AO521,Data!$A$6:$A$1806,Data!$I$6:$I$1806)","v":15},{"$f":"LOOKUP($AO521,Data!$A$6:$A$1806,Data!$J$6:$J$1806)","v":-103},{"$f":"LOOKUP($AO521,Data!$A$6:$A$1806,Data!$K$6:$K$1806)","v":7618.8},-34.3994140625]
[null,40098.11256944362,{"$f":"LOOKUP(B522,Data!$A$6:$A$1806,Data!B$6:B$1806)","v":60.048000335693359},{"$f":"LOOKUP(B522,Data!$A$6:$A$1806,Data!C$6:C$1806)","v":3701.31640625},null,null,null,-38.4002685546875,-35.041238499354463,null,null,0,3741.9317398870194,{"$f":"AVERAGE(D$79:D522)","v":3763.0007065781601},{"$f":"AVERAGE(M$79:M522)","v":3785.3038972212375},3776.2778578541852,{"$f":"AVERAGE(P$79:P522)","v":3757.4588066348038},633,null,null,null,null,null,null,0,633,9377.6293868324392,null,null,null,null,null,null,null,null,null,null,null,null,null,40098.11256944362,{"$f":"LOOKUP($AO522,Data!$A$6:$A$1806,Data!$B$6:$B$1806)","v":60.048000335693359},{"$f":"LOOKUP($AO522,Data!$A$6:$A$1806,Data!$C$6:$C$1806)","v":3701.31640625},{"$f":"LOOKUP($AO522,Data!$A$6:$A$1806,Data!$D$6:$D$1806)","v":350},{"$f":"IF($AS$1=\"+\",LOOKUP($AO522,Data!$A$6:$A$1806,Data!$E$6:$E$1806)*-1,LOOKUP($AO522,Data!$A$6:$A$1806,Data!$E$6:$E$1806))","v":-255.9110107421875},{"$f":"LOOKUP($AO522,Data!$A$6:$A$1806,Data!$F$6:$F$1806)","v":0},{"$f":"LOOKUP($AO522,Data!$A$6:$A$1806,Data!$G$6:$G$1806)","v":180.5},{"$f":"LOOKUP($AO522,Data!$A$6:$A$1806,Data!$H$6:$H$1806)","v":10},{"$f":"LOOKUP($AO522,Data!$A$6:$A$1806,Data!$I$6:$I$1806)","v":15},{"$f":"LOOKUP($AO522,Data!$A$6:$A$1806,Data!$J$6:$J$1806)","v":-103},{"$f":"LOOKUP($AO522,Data!$A$6:$A$1806,Data!$K$6:$K$1806)","v":7619.13},-38.4002685546875]
[null,40098.112592591766,{"$f":"LOOKUP(B523,Data!$A$6:$A$1806,Data!B$6:B$1806)","v":60.048000335693359},{"$f":"LOOKUP(B523,Data!$A$6:$A$1806,Data!C$6:C$1806)","v":3701.31640625},null,null,null,-38.4002685546875,-36.216899018721023,null,null,0,3740.756079367653,{"$f":"AVERAGE(D$79:D523)","v":3762.8620901729282},{"$f":"AVERAGE(M$79:M523)","v":3785.2037897653868},3776.2778578541852,{"$f":"AVERAGE(P$79:P523)","v":3757.5011918852983},633,null,null,null,null,null,null,0,633,9377.6293868324392,null,null,null,null,null,null,null,null,null,null,null,null,null,40098.112592591766,{"$f":"LOOKUP($AO523,Data!$A$6:$A$1806,Data!$B$6:$B$1806)","v":60.048000335693359},{"$f":"LOOKUP($AO523,Data!$A$6:$A$1806,Data!$C$6:$C$1806)","v":3701.31640625},{"$f":"LOOKUP($AO523,Data!$A$6:$A$1806,Data!$D$6:$D$1806)","v":350},{"$f":"IF($AS$1=\"+\",LOOKUP($AO523,Data!$A$6:$A$1806,Data!$E$6:$E$1806)*-1,LOOKUP($AO523,Data!$A$6:$A$1806,Data!$E$6:$E$1806))","v":-255.9110107421875},{"$f":"LOOKUP($AO523,Data!$A$6:$A$1806,Data!$F$6:$F$1806)","v":0},{"$f":"LOOKUP($AO523,Data!$A$6:$A$1806,Data!$G$6:$G$1806)","v":180.5},{"$f":"LOOKUP($AO523,Data!$A$6:$A$1806,Data!$H$6:$H$1806)","v":10},{"$f":"LOOKUP($AO523,Data!$A$6:$A$1806,Data!$I$6:$I$1806)","v":15},{"$f":"LOOKUP($AO523,Data!$A$6:$A$1806,Data!$J$6:$J$1806)","v":-103},{"$f":"LOOKUP($AO523,Data!$A$6:$A$1806,Data!$K$6:$K$1806)","v":7619.13},-38.4002685546875]
[null,40098.112615739912,{"$f":"LOOKUP(B524,Data!$A$6:$A$1806,Data!B$6:B$1806)","v":60.048000335693359},{"$f":"LOOKUP(B524,Data!$A$6:$A$1806,Data!C$6:C$1806)","v":3701.31640625},null,null,null,-38.4002685546875,-36.98107835630929,null,null,0,3739.9919000300647,{"$f":"AVERAGE(D$79:D524)","v":3762.7240953659261},{"$f":"AVERAGE(M$79:M524)","v":3785.1024178153075},3776.2778578541852,{"$f":"AVERAGE(P$79:P524)","v":3757.5433866402846},633,null,null,null,null,null,null,0,633,9377.6293868324392,null,null,null,null,null,null,null,null,null,null,null,null,null,40098.112615739912,{"$f":"LOOKUP($AO524,Data!$A$6:$A$1806,Data!$B$6:$B$1806)","v":60.048000335693359},{"$f":"LOOKUP($AO524,Data!$A$6:$A$1806,Data!$C$6:$C$1806)","v":3701.31640625},{"$f":"LOOKUP($AO524,Data!$A$6:$A$1806,Data!$D$6:$D$1806)","v":350},{"$f":"IF($AS$1=\"+\",LOOKUP($AO524,Data!$A$6:$A$1806,Data!$E$6:$E$1806)*-1,LOOKUP($AO524,Data!$A$6:$A$1806,Data!$E$6:$E$1806))","v":-255.9110107421875},{"$f":"LOOKUP($AO524,Data!$A$6:$A$1806,Data!$F$6:$F$1806)","v":0},{"$f":"LOOKUP($AO524,Data!$A$6:$A$1806,Data!$G$6:$G$1806)","v":180.5},{"$f":"LOOKUP($AO524,Data!$A$6:$A$1806,Data!$H$6:$H$1806)","v":10},{"$f":"LOOKUP($AO524,Data!$A$6:$A$1806,Data!$I$6:$I$1806)","v":15},{"$f":"LOOKUP($AO524,Data!$A$6:$A$1806,Data!$J$6:$J$1806)","v":-103},{"$f":"LOOKUP($AO524,Data!$A$6:$A$1806,Data!$K$6:$K$1806)","v":7619.13},-38.4002685546875]
[null,40098.112638888058,{"$f":"LOOKUP(B525,Data!$A$6:$A$1806,Data!B$6:B$1806)","v":60.042999267578125},{"$f":"LOOKUP(B525,Data!$A$6:$A$1806,Data!C$6:C$1806)","v":3699.528564453125},null,null,null,-34.3994140625,-36.077495853476037,null,null,0,3740.8954825328979,{"$f":"AVERAGE(D$79:D525)","v":3762.5827183392757},{"$f":"AVERAGE(M$79:M525)","v":3785.0035208683671},3776.2778578541852,{"$f":"AVERAGE(P$79:P525)","v":3757.5853921811231},633,null,null,null,null,null,null,0,633,36191.309051254088,null,null,null,null,null,null,null,null,null,null,null,null,null,40098.112638888058,{"$f":"LOOKUP($AO525,Data!$A$6:$A$1806,Data!$B$6:$B$1806)","v":60.042999267578125},{"$f":"LOOKUP($AO525,Data!$A$6:$A$1806,Data!$C$6:$C$1806)","v":3699.528564453125},{"$f":"LOOKUP($AO525,Data!$A$6:$A$1806,Data!$D$6:$D$1806)","v":350},{"$f":"IF($AS$1=\"+\",LOOKUP($AO525,Data!$A$6:$A$1806,Data!$E$6:$E$1806)*-1,LOOKUP($AO525,Data!$A$6:$A$1806,Data!$E$6:$E$1806))","v":-255.9110107421875},{"$f":"LOOKUP($AO525,Data!$A$6:$A$1806,Data!$F$6:$F$1806)","v":0},{"$f":"LOOKUP($AO525,Data!$A$6:$A$1806,Data!$G$6:$G$1806)","v":181},{"$f":"LOOKUP($AO525,Data!$A$6:$A$1806,Data!$H$6:$H$1806)","v":10},{"$f":"LOOKUP($AO525,Data!$A$6:$A$1806,Data!$I$6:$I$1806)","v":15},{"$f":"LOOKUP($AO525,Data!$A$6:$A$1806,Data!$J$6:$J$1806)","v":-103},{"$f":"LOOKUP($AO525,Data!$A$6:$A$1806,Data!$K$6:$K$1806)","v":7619.46},-34.3994140625]
[null,40098.112662036205,{"$f":"LOOKUP(B526,Data!$A$6:$A$1806,Data!B$6:B$1806)","v":60.042999267578125},{"$f":"LOOKUP(B526,Data!$A$6:$A$1806,Data!C$6:C$1806)","v":3699.528564453125},null,null,null,-34.3994140625,-35.490167226634426,null,null,0,3741.4828111597394,{"$f":"AVERAGE(D$79:D526)","v":3762.4419724600657},{"$f":"AVERAGE(M$79:M526)","v":3784.9063764270531},3776.2778578541852,{"$f":"AVERAGE(P$79:P526)","v":3757.6272097777073},633,null,null,null,null,null,null,0,633,36191.309051254088,null,null,null,null,null,null,null,null,null,null,null,null,null,40098.112662036205,{"$f":"LOOKUP($AO526,Data!$A$6:$A$1806,Data!$B$6:$B$1806)","v":60.042999267578125},{"$f":"LOOKUP($AO526,Data!$A$6:$A$1806,Data!$C$6:$C$1806)","v":3699.528564453125},{"$f":"LOOKUP($AO526,Data!$A$6:$A$1806,Data!$D$6:$D$1806)","v":350},{"$f":"IF($AS$1=\"+\",LOOKUP($AO526,Data!$A$6:$A$1806,Data!$E$6:$E$1806)*-1,LOOKUP($AO526,Data!$A$6:$A$1806,Data!$E$6:$E$1806))","v":-255.9110107421875},{"$f":"LOOKUP($AO526,Data!$A$6:$A$1806,Data!$F$6:$F$1806)","v":0},{"$f":"LOOKUP($AO526,Data!$A$6:$A$1806,Data!$G$6:$G$1806)","v":181},{"$f":"LOOKUP($AO526,Data!$A$6:$A$1806,Data!$H$6:$H$1806)","v":10},{"$f":"LOOKUP($AO526,Data!$A$6:$A$1806,Data!$I$6:$I$1806)","v":15},{"$f":"LOOKUP($AO526,Data!$A$6:$A$1806,Data!$J$6:$J$1806)","v":-103},{"$f":"LOOKUP($AO526,Data!$A$6:$A$1806,Data!$K$6:$K$1806)","v":7619.46},-34.3994140625]
[null,40098.112685184351,{"$f":"LOOKUP(B527,Data!$A$6:$A$1806,Data!B$6:B$1806)","v":60.043998718261719},{"$f":"LOOKUP(B527,Data!$A$6:$A$1806,Data!C$6:C$1806)","v":3690.477294921875},null,null,null,-35.198974609375,-35.388249810593628,null,null,0,3741.58472857578,{"$f":"AVERAGE(D$79:D527)","v":3762.2816947818069},{"$f":"AVERAGE(M$79:M527)","v":3784.8098916879635},3776.2778578541852,{"$f":"AVERAGE(P$79:P527)","v":3757.6688406885924},633,null,null,null,null,null,null,0,633,23030.83303261624,null,null,null,null,null,null,null,null,null,null,null,null,null,40098.112685184351,{"$f":"LOOKUP($AO527,Data!$A$6:$A$1806,Data!$B$6:$B$1806)","v":60.043998718261719},{"$f":"LOOKUP($AO527,Data!$A$6:$A$1806,Data!$C$6:$C$1806)","v":3690.477294921875},{"$f":"LOOKUP($AO527,Data!$A$6:$A$1806,Data!$D$6:$D$1806)","v":350},{"$f":"IF($AS$1=\"+\",LOOKUP($AO527,Data!$A$6:$A$1806,Data!$E$6:$E$1806)*-1,LOOKUP($AO527,Data!$A$6:$A$1806,Data!$E$6:$E$1806))","v":-258.148193359375},{"$f":"LOOKUP($AO527,Data!$A$6:$A$1806,Data!$F$6:$F$1806)","v":0},{"$f":"LOOKUP($AO527,Data!$A$6:$A$1806,Data!$G$6:$G$1806)","v":181.5},{"$f":"LOOKUP($AO527,Data!$A$6:$A$1806,Data!$H$6:$H$1806)","v":10},{"$f":"LOOKUP($AO527,Data!$A$6:$A$1806,Data!$I$6:$I$1806)","v":15},{"$f":"LOOKUP($AO527,Data!$A$6:$A$1806,Data!$J$6:$J$1806)","v":-103},{"$f":"LOOKUP($AO527,Data!$A$6:$A$1806,Data!$K$6:$K$1806)","v":7619.79},-35.198974609375]
[null,40098.112708332497,{"$f":"LOOKUP(B528,Data!$A$6:$A$1806,Data!B$6:B$1806)","v":60.043998718261719},{"$f":"LOOKUP(B528,Data!$A$6:$A$1806,Data!C$6:C$1806)","v":3690.477294921875},null,null,null,-35.198974609375,-35.322003490167106,null,null,{"$f":"IF(B528>G$3,0,(K$21*0.000023148/K$22))","v":0},{"$f":"M527+L528+(I528-I527)","v":3741.6509748962067},{"$f":"AVERAGE(D$79:D528)","v":3762.1221294487846},{"$f":"AVERAGE(M$79:M528)","v":3784.7139829839816},3776.2778578541852,{"$f":"AVERAGE(P$79:P528)","v":3757.710286161122},633,null,null,null,null,null,null,0,633,{"$f":"Z528/((C528-G$4)*10)","v":23030.83303261624},null,null,null,null,null,null,null,null,null,null,null,null,null,40098.112708332497,{"$f":"LOOKUP($AO528,Data!$A$6:$A$1806,Data!$B$6:$B$1806)","v":60.043998718261719},{"$f":"LOOKUP($AO528,Data!$A$6:$A$1806,Data!$C$6:$C$1806)","v":3690.477294921875},{"$f":"LOOKUP($AO528,Data!$A$6:$A$1806,Data!$D$6:$D$1806)","v":350},{"$f":"IF($AS$1=\"+\",LOOKUP($AO528,Data!$A$6:$A$1806,Data!$E$6:$E$1806)*-1,LOOKUP($AO528,Data!$A$6:$A$1806,Data!$E$6:$E$1806))","v":-258.148193359375},{"$f":"LOOKUP($AO528,Data!$A$6:$A$1806,Data!$F$6:$F$1806)","v":0},{"$f":"LOOKUP($AO528,Data!$A$6:$A$1806,Data!$G$6:$G$1806)","v":181.5},{"$f":"LOOKUP($AO528,Data!$A$6:$A$1806,Data!$H$6:$H$1806)","v":10},{"$f":"LOOKUP($AO528,Data!$A$6:$A$1806,Data!$I$6:$I$1806)","v":15},{"$f":"LOOKUP($AO528,Data!$A$6:$A$1806,Data!$J$6:$J$1806)","v":-103},{"$f":"LOOKUP($AO528,Data!$A$6:$A$1806,Data!$K$6:$K$1806)","v":7619.79},-35.198974609375]
[null,40098.112731480644,{"$f":"LOOKUP(B529,Data!$A$6:$A$1806,Data!B$6:B$1806)","v":60.043998718261719},{"$f":"LOOKUP(B529,Data!$A$6:$A$1806,Data!C$6:C$1806)","v":3690.477294921875},null,null,null,-35.198974609375,-35.278943381889874,null,null,0,3741.6940350044838,{"$f":"AVERAGE(D$79:D529)","v":3761.9632717225609},{"$f":"AVERAGE(M$79:M529)","v":3784.6185950727195},3776.2778578541852,{"$f":"AVERAGE(P$79:P529)","v":3757.751547431551},{"$f":"R$41","v":633},null,null,null,null,null,null,0,633,23030.83303261624,null,null,null,null,null,null,null,null,null,null,null,null,null,{"$f":"AO528+TIME(0,0,$B$1)","v":40098.112731480644},{"$f":"LOOKUP($AO529,Data!$A$6:$A$1806,Data!$B$6:$B$1806)","v":60.043998718261719},{"$f":"LOOKUP($AO529,Data!$A$6:$A$1806,Data!$C$6:$C$1806)","v":3690.477294921875},{"$f":"LOOKUP($AO529,Data!$A$6:$A$1806,Data!$D$6:$D$1806)","v":350},{"$f":"IF($AS$1=\"+\",LOOKUP($AO529,Data!$A$6:$A$1806,Data!$E$6:$E$1806)*-1,LOOKUP($AO529,Data!$A$6:$A$1806,Data!$E$6:$E$1806))","v":-258.148193359375},{"$f":"LOOKUP($AO529,Data!$A$6:$A$1806,Data!$F$6:$F$1806)","v":0},{"$f":"LOOKUP($AO529,Data!$A$6:$A$1806,Data!$G$6:$G$1806)","v":181.5},{"$f":"LOOKUP($AO529,Data!$A$6:$A$1806,Data!$H$6:$H$1806)","v":10},{"$f":"LOOKUP($AO529,Data!$A$6:$A$1806,Data!$I$6:$I$1806)","v":15},{"$f":"LOOKUP($AO529,Data!$A$6:$A$1806,Data!$J$6:$J$1806)","v":-103},{"$f":"LOOKUP($AO529,Data!$A$6:$A$1806,Data!$K$6:$K$1806)","v":7619.79},-35.198974609375]

{"sheet":"Graph 12 to 24s","index":4,"n_rows":0,"n_cols":0,"rows_kept":0,"cut":false,"hidden":true,"merged":[]}

{"sheet":"Graph 18 to 30s","index":5,"n_rows":0,"n_cols":0,"rows_kept":0,"cut":false,"hidden":true,"merged":[]}

{"sheet":"Graph 20 to 40s","index":6,"n_rows":0,"n_cols":0,"rows_kept":0,"cut":false,"hidden":true,"merged":[]}

{"sheet":"Graph 18 to 52s","index":7,"n_rows":0,"n_cols":0,"rows_kept":0,"cut":false,"hidden":true,"merged":[]}

{"sheet":"Graph 20 to 52s","index":8,"n_rows":0,"n_cols":0,"rows_kept":0,"cut":false,"hidden":true,"merged":[]}

{"sheet":"Sustained Graph","index":9,"n_rows":0,"n_cols":0,"rows_kept":0,"cut":false,"hidden":true,"merged":[]}

{"sheet":"Form 1 Summary Data","index":10,"n_rows":7,"n_cols":100,"rows_kept":7,"cut":false,"hidden":false,"merged":[]}
[null,null,null,null,null,null,null,null,null,"Interconnection Performance",null,null,null,null,null,null,null,null,null,"Value A Data",null,"BA Performance",null,null,null,null,null,null,null,null,"Value B",null,"12 to 24 second Average Period Evaluation",null,null,null,null,null,null,null,null,null,null,null,"Value B","18 to 30 second Average Period Evaluation",null,null,null,null,null,null,null,null,null,null,null,null,"Value B","20 to 40 second Average Period Evaluation",null,null,null,null,null,null,null,null,null,null,null,null,"Value B","18 to 52 second Average Period Evaluation",null,null,null,null,null,null,null,null,null,null,null,null,"Value B","20 to 52 second Average Period Evaluation"]
[null,null,null,null,null,null,null,null,null,null,null,null,null,null,null,null,null,null,null,null,null,"JOU","Non-",null,null,"Transferred","Contingent",null,null,null,null,null,"JOU","Non-",null,null,"Transferred","Contingent",null,null,null,null,null,null,null,null,"JOU","Non-",null,null,"Transferred","Contingent",null,null,null,null,null,null,null,null,"JOU","Non-",null,null,"Transferred","Contingent",null,null,null,null,null,null,null,null,"JOU","Non-",null,null,"Transferred","Contingent",null,null,null,null,null,null,null,null,"JOU","Non-",null,null,"Transferred","Contingent"]
["Date","A Point","FPointA","A Value","t(0) Time","C Value",null,null,null,"Value B","FR B","Value B","FR B","Value B","FR B","Value B","FR B","Value B","FR B",null,"Net","Dynamic","Conforming","Pumped","Ramping","Frequency","BA","BA","BA","Bias",null,"Net","Dynamic","Conforming","Pumped","Ramping","Frequency","BA","Initial","Initial","Sustained","BA","BA","Bias",null,"Net","Dynamic","Conforming","Pumped","Ramping","Frequency","BA","Initial","Initial","Sustained","BA","BA","Bias",null,"Net","Dynamic","Conforming","Pumped","Ramping","Frequency","BA","Initial","Initial","Sustained","BA","BA","Bias",null,"Net","Dynamic","Conforming","Pumped","Ramping","Frequency","BA","Initial","Initial","Sustained","BA","BA","Bias",null,"Net","Dynamic","Conforming","Pumped","Ramping","Frequency","BA","Initial","Initial","Sustained","BA","BA","Bias"]
[null,"Time","Hz","Hz",null,"Hz",null,null,null,"12 to 24 sec","12 to 24 sec","18 to 30 sec","18 to 30 sec","20 to 40 sec","20 to 40 sec","18 to 52 sec","18 to 52 sec","20 to 52 sec","20 to 52 sec",null,"Actual","Schedules","Load","Hydro","Units","Response","Lost Generation","Bias","Load","Setting",null,"Actual","Schedules","Load","Hydro","Units","Response","Lost Generation","Performance","Performance","Performance","Bias","Load","Setting",null,"Actual","Schedules","Load","Hydro","Units","Response","Lost Generation","Performance","Performance","Performance","Bias","Load","Setting",null,"Actual","Schedules","Load","Hydro","Units","Response","Lost Generation","Performance","Performance","Performance","Bias","Load","Setting",null,"Actual","Schedules","Load","Hydro","Units","Response","Lost Generation","Performance","Performance","Performance","Bias","Load","Setting",null,"Actual","Schedules","Load","Hydro","Units","Response","Lost Generation","Performance","Performance","Performance","Bias","Load","Setting"]
[null,null,null,null,null,null,null,null,null,"Average","Average","Average","Average","Average","Average","Average","Average","Average","Average","Frequency","Interchange","Imp(-) Exp (+)","Load (-)","Load (-) Gen (+)","Gen (+)","Rec (-) Del (+)","Load (-) Gen (+)","Setting",null,"EPFR","Frequency","Interchange","Imp(-) Exp (+)","Load (-)","Load (-) Gen (+)","Gen (+)","Rec (-) Del (+)","Load (-) Gen (+)","Adjusted","Unadjusted",null,"Setting",null,"EPFR","Frequency","Interchange","Imp(-) Exp (+)","Load (-)","Load (-) Gen (+)","Gen (+)","Rec (-) Del (+)","Load (-) Gen (+)","Adjusted","Unadjusted",null,"Setting",null,"EPFR","Frequency","Interchange","Imp(-) Exp (+)","Load (-)","Load (-) Gen (+)","Gen (+)","Rec (-) Del (+)","Load (-) Gen (+)","Adjusted","Unadjusted",null,"Setting",null,"EPFR","Frequency","Interchange","Imp(-) Exp (+)","Load (-)","Load (-) Gen (+)","Gen (+)","Rec (-) Del (+)","Load (-) Gen (+)","Adjusted","Unadjusted",null,"Setting",null,"EPFR","Frequency","Interchange","Imp(-) Exp (+)","Load (-)","Load (-) Gen (+)","Gen (+)","Rec (-) Del (+)","Load (-) Gen (+)","Adjusted","Unadjusted",null,"Setting",null,"EPFR"]
[null,null,null,null,null,null,null,null,null,"Frequency","MW","Frequency","MW","Frequency","MW","Frequency","MW","Frequency","MW","Hz","MW","MW","MW","MW","MW","MW","MW","MW/0.1 Hz","MW","MW","Hz","MW","MW","MW","MW","MW","MW","MW","P.U.","P.U.","P.U.","MW/0.1 Hz","MW","MW","Hz","MW","MW","MW","MW","MW","MW/0.1 Hz","MW","P.U.","P.U.","P.U.","MW","MW","MW","Hz","MW","MW","MW","MW","MW","MW/0.1 Hz","MW","P.U.","P.U.","P.U.","MW","MW","MW","Hz","MW","MW","MW","MW","MW","MW","MW","P.U.","P.U.","P.U.","MW/0.1 Hz","MW","MW","Hz","MW","MW","MW","MW","MW","MW","MW","P.U.","P.U.","P.U.","MW/0.1 Hz","MW","MW"]
[{"$f":"Evaluation!BG2","v":"2009-10-12T02:27:20"},{"$f":"Evaluation!AD1","v":40098.10229166667},{"$f":"Evaluation!AD2","v":60.041000366210938},{"$f":"Evaluation!AD3","v":60.041250228881836},{"$f":"Evaluation!G2","v":40098.102314814816},{"$f":"Evaluation!AD4","v":59.852001190185547},null,null,null,{"$f":"Evaluation!AD9","v":59.879572187151226},{"$f":"Evaluation!AE10","v":-391.83435745472173},{"$f":"Evaluation!AF9","v":59.883286612374441},{"$f":"Evaluation!AG10","v":-401.15622149811759},{"$f":"Evaluation!AH9","v":59.888294444364654},{"$f":"Evaluation!AI10","v":-415.8127633199685},{"$f":"Evaluation!AJ9","v":59.887555864122177},{"$f":"Evaluation!AK10","v":-412.38887368417539},{"$f":"Evaluation!AL9","v":59.888294444364661},{"$f":"Evaluation!AM10","v":-414.24990416522388},{"$f":"Evaluation!BG4","v":60.041250228881836},{"$f":"Evaluation!BG7","v":3649.001708984375},{"$f":"Evaluation!BG15","v":350},{"$f":"Evaluation!BG16","v":-165.47639465332031},{"$f":"Evaluation!BG17","v":0},{"$f":"Evaluation!BG18","v":90.875},{"$f":"Evaluation!BG19","v":-4.1250228881835938},{"$f":"Evaluation!BG20","v":15},{"$f":"Evaluation!BL15","v":-103},{"$f":"Evaluation!BL23","v":7559.9775},{"$f":"Evaluation!BL17","v":-42.487735748291016},{"$f":"Evaluation!BG5","v":59.879572187151226},{"$f":"Evaluation!BG8","v":3758.9635881696427},{"$f":"Evaluation!BG23","v":335},{"$f":"Evaluation!BG24","v":-206.4591064453125},{"$f":"Evaluation!BG25","v":1},{"$f":"Evaluation!BG26","v":93.5},{"$f":"Evaluation!BG27","v":12.042781284877435},{"$f":"Evaluation!BG28","v":0},{"$f":"Evaluation!BG34","v":1.4070163197941288},{"$f":"Evaluation!BG33","v":0.85016089699188035},{"$f":"Evaluation!$K$33","v":0.86762174997993036},{"$f":"Evaluation!BL16","v":-103},{"$f":"Evaluation!BL24","v":7561.71},{"$f":"Evaluation!BL18","v":124.04064723423758},{"$f":"Evaluation!BU5","v":59.883286612374441},{"$f":"Evaluation!BU8","v":3774.248046875},{"$f":"Evaluation!BU23","v":335},{"$f":"Evaluation!BU24","v":-208.51493617466517},{"$f":"Evaluation!BU25","v":1},{"$f":"Evaluation!BU26","v":94.071428571428569},{"$f":"Evaluation!BU27","v":11.671338762555905},{"$f":"Evaluation!BU28","v":0},{"$f":"Evaluation!BU34","v":1.7080954040283303},{"$f":"Evaluation!BU33","v":0.99110115243501706},{"$f":"Evaluation!$K$33","v":0.86762174997993036},{"$f":"Evaluation!BZ16","v":-103},{"$f":"Evaluation!BZ24","v":7562.0871428571436},{"$f":"Evaluation!BZ18","v":120.21478925432582},{"$f":"Evaluation!CI5","v":59.888819261030719},{"$f":"Evaluation!CI8","v":3780.725896661932},{"$f":"Evaluation!CI23","v":335},{"$f":"Evaluation!CI24","v":-209.94778719815341},{"$f":"Evaluation!CI25","v":1.2727272727272727},{"$f":"Evaluation!CI26","v":94.681818181818187},{"$f":"Evaluation!CI27","v":11.118073896928138},{"$f":"Evaluation!CI28","v":0},{"$f":"Evaluation!CI34","v":1.9429485676731386},{"$f":"Evaluation!CI33","v":1.0801954282529205},{"$f":"Evaluation!$K$33","v":0.86762174997993036},{"$f":"Evaluation!CN16","v":-103},{"$f":"Evaluation!CN24","v":7562.49},{"$f":"Evaluation!CN18","v":114.51616113835982},{"$f":"Evaluation!CW5","v":59.887555864122177},{"$f":"Evaluation!CW8","v":3784.1484917534722},{"$f":"Evaluation!CW23","v":335},{"$f":"Evaluation!CW24","v":-210.36175960964627},{"$f":"Evaluation!CW25","v":2.1111111111111112},{"$f":"Evaluation!CW26","v":95.194444444444443},{"$f":"Evaluation!CW27","v":11.244413587782276},{"$f":"Evaluation!CW28","v":0},{"$f":"Evaluation!CW34","v":1.9342572322734664},{"$f":"Evaluation!CW33","v":1.0991520653704177},{"$f":"Evaluation!$K$33","v":0.86762174997993036},{"$f":"Evaluation!DB16","v":-103},{"$f":"Evaluation!DB24","v":7562.8283333333338},{"$f":"Evaluation!DB18","v":115.81745995415744},{"$f":"Evaluation!DK5","v":59.888294444364661},{"$f":"Evaluation!DK8","v":3785.2046472886032},{"$f":"Evaluation!DK23","v":335},{"$f":"Evaluation!DK16","v":-165.47639465332031},{"$f":"Evaluation!DK25","v":2.1764705882352939},{"$f":"Evaluation!DK26","v":95.294117647058826},{"$f":"Evaluation!DK27","v":11.170555563533924},{"$f":"Evaluation!DK28","v":0},{"$f":"Evaluation!DK34","v":1.9699340639847982},{"$f":"Evaluation!DK33","v":1.1130907759893627},{"$f":"Evaluation!$K$33","v":0.86762174997993036},{"$f":"Evaluation!DP16","v":-103},{"$f":"Evaluation!DP24","v":7562.8941176470598},{"$f":"Evaluation!DP18","v":115.05672230439941}]

{"sheet":"Instructions","index":11,"n_rows":44,"n_cols":2,"rows_kept":44,"cut":false,"hidden":false,"merged":[]}
["Steps","To be completed for each event evaluated."]
[1,"Set-up Data collection in exact same order as the \"Data\" sheet of this work book.  Data should be in this order:"]
[null,"Column A: Date and Time in this format, mm/dd/yy HH:MM:SS"]
[null,"Column B: Frequency Hz"]
[null,"Column C: Net Actual Interchange"]
[null,"Column D: Joint Owned Unit dynamic schedule"]
[null,"Column E: Non Conforming Load"]
[null,"Column F: Pumped Hydro"]
[null,"Column G: Ramping units"]
[null,"Column H: Transferred Frequency Response"]
[null,"Column I: Contingent BA Lost load or generation"]
[null,"Column J: BA Bias Setting"]
[null,"Column K: BA Load"]
[]
[2,"Note: Columns D, E, F, G and H are optional data.  If you choose not to use these, leave the columns blank.  Do not delete the columns.  Use the sign (+/-) convention defined in FRS Form 1."]
[3,"Data compression must be turned off for each data point.  Quality data will give you quality results in the evaluation."]
[4,"Data must be at 5 second sample rate for the full 25 minute minimum collection period that starts a minimum of two (2) minutes before the event begins and includes a minimum of 15 minutes after the beginning of the event."]
[null,"The spreadsheet will work with larger sample size data."]
[null,"If using PI historian as your data source, use \"PasteSpecial/Values\" to enter data into the spreadsheet.  Do not include historian data collection formulas in the data."]
[5,"Once data is in place in the \"Data\" worksheet, determine when the beginning of the event occurred.  This is accomplished by knowing the UTC event time from the master event list."]
[null,"Convert the UTC event time to your PI data time and then scroll through the Data worksheet column B data of frequency and observe when frequency moves from the normal, pre-event frequency."]
[null,"This will usually be a single change in frequency of 0.008 to 0.010 Hz more or less.  Note the row number in the worksheet that this change occurs.  In this sample data spreadsheet this occurs in row 190 of the data."]
[6,"Edit cell \"C8\" of the \"Entry Data\" worksheet, change the formula in the cell \"C8\" to reference the row number identified in step 5 above.  In the sample data of this workbook this formula is: \"=Data!A190\""]
[7,"Determine the end of the event to be evaluated.  Use the same rules that are used for DCS only look at frequency instead of ACE.  Scroll down the frequency data in column B of the \"Data\" worksheet until frequency reaches 60 Hz or the"]
[null,"pre-disturbance value.  Note the row number in the worksheet that this occurs.  In this sample data spreadsheet this occurs in row 258."]
[8,"Edit cell \"C11\" of the \"Entry Data\" worksheet, change the formula in the cell \"C11\" to reference the row number identified in step 7 above.  In the sample data of this workbook this formula is: \"=Data!A258\""]
[9,"In cell \"R41\" of the \"Evaluation\" spreadsheet, enter the MW value of the unit(s) that tripped (from the Master Event List).  This is only necessary for the \"Interconnection\" evaluation if you're interested."]
[null,"It is not necessary to do this for the BA evaluation but it will provide a comparison of the BA frequency response as compared to the Interconnection frequency response."]
[10,"Use the \"copy\" button provided to copy the evaluation and event specific data for the \"FRS Form 1\" of this field trial.  This data is summarized in the correct order on worksheet \"Form 1 Summary Data\" of this workbook."]
[null,"Use PasteSpecial/Values when pasting the data into FRS Form 1 on the appropriate event row."]
[]
[]
["Steps","To be completed once at the initial setup of the evaluation spreadsheet for your BA."]
["A","Enter the Balancing Authority name as you want it to appear on the graphs in cell \"B1\" of the \"Entry Data\" worksheet.  For example: \"NYISO\"."]
["B","Enter your Balancing Authorities Frequency Response Obligation in cell \"B2\" of the \"Entry Data\" worksheet.  For example: -80 MW/0.1 Hz (This value could change annually)"]
["C","For informational and educational purposes, a \"Sustained\" performance evaluation is provided in the \"Evaluation\" worksheet and in the \"Sustained\" Graph.  This evaluation uses a Time Constant (TC) to model the frequency response of your BA."]
[null,"The time constant is located in cell \"L13\" of the \"Evaluation\" spreadsheet and should be edited for the types of generators in your BA.  Presently this time constant is set at 0.35.  "]
[null,"The higher the value of the time constant, the faster the delivery of frequency response is expected.  Setting the TC to 1.0 effectively turns off the delay and instantaneous frequency response will be modeled.  Do not set higher than 1.0."]
[null,"This time constant is only used in the \"Sustained\" evaluation and is not used for the Field Trial evaluation of performance to the FRO."]
[null,"A typical setting for this time constant is 0.08 to 0.15 for hydro units, 0.10 to 0.20 for large steam turbines and 0.20 to 0.40 for combustion turbines.  "]
[null,"By observing the slope of your \"Interchange Actual\" on the \"Sustained\" Graph, adjust the time constant until the initial slope of the \"Target\" is similar."]
[null,"When set appropriately, the \"Target\" trend on the \"Sustained\" graph will model what Interchange Actual should have done during the event recovery period based on your minimum FRO."]
[]
[null,"Note:  For ease of use, only the necessary worksheets are displayed.  If you are interested in viewing graphs and other hidden worksheets, select the \"tab\" at the bottom, right click, select unhide and select the worksheet you wish to unhide. "]

{"sheet":"Adj Graph JOU","index":12,"n_rows":0,"n_cols":0,"rows_kept":0,"cut":false,"hidden":true,"merged":[]}

{"sheet":"Adj Graph NCL","index":13,"n_rows":0,"n_cols":0,"rows_kept":0,"cut":false,"hidden":true,"merged":[]}

{"sheet":"Adj Graph PmpHyd","index":14,"n_rows":0,"n_cols":0,"rows_kept":0,"cut":false,"hidden":true,"merged":[]}

{"sheet":"Adj Graph RampGen","index":15,"n_rows":0,"n_cols":0,"rows_kept":0,"cut":false,"hidden":true,"merged":[]}

{"sheet":"Adj Graph MWper0.1Hz","index":16,"n_rows":0,"n_cols":0,"rows_kept":0,"cut":false,"hidden":true,"merged":[]}

{"sheet":"Adj Graph ContingentBA","index":17,"n_rows":0,"n_cols":0,"rows_kept":0,"cut":false,"hidden":true,"merged":[]}

{"sheet":"BA LoadDampening","index":18,"n_rows":0,"n_cols":0,"rows_kept":0,"cut":false,"hidden":true,"merged":[]}

{"sheet":"BA BiasSetting","index":19,"n_rows":0,"n_cols":0,"rows_kept":0,"cut":false,"hidden":true,"merged":[]}