{"text_format":"1","workbook":"xlsx","n_sheets":15,"sheets":["Data","Entry Data","Evaluation","Graph 20 to 52s","Sustained Graph","Form 1 Summary Data","Instructions","Adj Graph JOU","Adj Graph NCL","Adj Graph PmpHyd","Adj Graph RampGen","Adj Graph MWper0.1Hz","Adj Graph ContingentBA","BA LoadDampening","BA BiasSetting"],"not_rendered":{"charts":11,"images":0,"macros":1,"external_links":0,"defined_names":0,"comments":2,"pivot_tables":0},"unopened":[],"bounds":{"document_bytes":16777216,"sheet_cells":100000,"rows_first":2000,"rows_last":500,"rows_between":2000,"halvings":0,"cell_chars":16384,"cell_head_chars":4096},"cells_cut":0,"cells_raw":0,"read":"whole","date_system":"1900"}

{"sheet":"Data","index":0,"n_rows":1099,"n_cols":11,"rows_kept":1099,"cut":false,"hidden":false,"merged":[]}
[null,null,null,"JOU","Non-",null,null,"Transferred","Contingent"]
[null,null,"Net","Dynamic","Conforming","Pumped","Ramping","Frequency","BA","BA","BA"]
[null,null,"Actual","Schedules","Load","Hydro","Units","Response","Lost Generation","Bias","Load"]
[null,null,"Interchange","Imp(-) Exp (+)","Load (-)","Load (-) Gen (+)","Gen (+)","Rec (-) Del (+)","Load (-) Gen (+)","Setting"]
["Time (T)","Hz","MW","MW","MW","MW","MW","MW/0.1 Hz","MW","MW/0.1 Hz","MW"]
["2009-10-12T02:17:21",60.006999969482422,3679.946044921875,350,339.71240234375,0,53.5,10,15,-103,7535.31]
["2009-10-12T02:17:24",60.008998870849609,3679.43994140625,350,332.024658203125,0,54,10,15,-103,7535.64]
["2009-10-12T02:17:27",60.006000518798828,3679.5166015625,350,332.024658203125,0,54.5,10,15,-103,7535.97]
["2009-10-12T02:17:30",60.008998870849609,3679.887939453125,350,332.024658203125,0,55,10,15,-103,7536.3]
["2009-10-12T02:17:33",60.008998870849609,3679.0595703125,350,332.024658203125,0,55.5,10,15,-103,7536.63]
["2009-10-12T02:17:36",60.008998870849609,3679.2607421875,350,332.024658203125,0,56,10,15,-103,7536.96]
["2009-10-12T02:17:39",60.008998870849609,3679.024658203125,350,330.759033203125,0,56.5,10,15,-103,7537.29]
["2009-10-12T02:17:42",60.004001617431641,3679.152099609375,350,330.759033203125,0,57,10,15,-103,7537.62]
["2009-10-12T02:17:45",60.000999450683594,3678.295166015625,350,330.759033203125,0,57.5,10,15,-103,7537.95]
["2009-10-12T02:17:48",59.993000030517578,3678.248779296875,350,330.759033203125,0,58,10,15,-103,7538.28]
["2009-10-12T02:17:51",59.991001129150391,3677.82958984375,350,330.759033203125,0,58.5,10,15,-103,7538.61]
["2009-10-12T02:17:54",59.992000579833984,3677.954833984375,350,323.41995239257812,0,59,10,15,-103,7538.94]
["2009-10-12T02:17:57",59.993999481201172,3676.665771484375,350,323.41995239257812,0,59.5,10,15,-103,7539.27]
["2009-10-12T02:18:00",59.993999481201172,3677.09326171875,350,323.41995239257812,0,60,10,15,-103,7539.6]
["2009-10-12T02:18:03",59.994998931884766,3676.400634765625,350,323.41995239257812,0,60.5,10,15,-103,7539.93]
["2009-10-12T02:18:06",59.990001678466797,3678.515625,350,323.41995239257812,0,61,10,15,-103,7540.26]
["2009-10-12T02:18:09",59.990001678466797,3680.196533203125,350,342.35092163085937,0,61.5,10,15,-103,7540.59]
["2009-10-12T02:18:12",59.983001708984375,3678.7431640625,350,342.35092163085937,0,62,10,15,-103,7540.92]
["2009-10-12T02:18:15",59.977001190185547,3677.921142578125,350,342.35092163085937,0,62.5,10,15,-103,7541.25]
["2009-10-12T02:18:18",59.988998413085937,3680.253662109375,350,342.35092163085937,0,63,10,15,-103,7541.58]
["2009-10-12T02:18:21",59.994998931884766,3681.329345703125,350,342.35092163085937,0,63.5,10,15,-103,7541.91]
["2009-10-12T02:18:24",59.993999481201172,3678.655517578125,350,345.08181762695312,0,64,10,15,-103,7542.24]
["2009-10-12T02:18:27",59.988998413085937,3677.780029296875,350,345.08181762695312,0,64.5,10,15,-103,7542.57]
["2009-10-12T02:18:30",59.986000061035156,3678.4267578125,350,345.08181762695312,0,65,10,15,-103,7542.9]
["2009-10-12T02:18:33",59.984001159667969,3678.27783203125,350,345.08181762695312,0,65.5,10,15,-103,7543.23]
["2009-10-12T02:18:36",59.985000610351563,3677.822265625,350,345.08181762695312,0,66,10,15,-103,7543.56]
["2009-10-12T02:18:39",59.986000061035156,3677.3974609375,350,346.53738403320312,0,66.5,10,15,-103,7543.89]
["2009-10-12T02:18:42",59.986000061035156,3677.9169921875,350,346.53738403320312,0,67,10,15,-103,7544.22]
["2009-10-12T02:18:45",59.979999542236328,3678.61669921875,350,346.53738403320312,0,67.5,10,15,-103,7544.55]
["2009-10-12T02:18:48",59.980998992919922,3678.962646484375,350,346.53738403320312,0,68,10,15,-103,7544.88]
["2009-10-12T02:18:51",59.988998413085937,3680.7373046875,350,346.53738403320312,0,68.5,10,15,-103,7545.21]
["2009-10-12T02:18:54",60.006999969482422,3680.044921875,350,342.90576171875,0,69,10,15,-103,7545.54]
["2009-10-12T02:18:57",60.006999969482422,3674.076171875,350,342.90576171875,0,69.5,10,15,-103,7545.87]
["2009-10-12T02:19:00",59.986000061035156,3676.22216796875,350,342.90576171875,0,70,10,15,-103,7546.2]
["2009-10-12T02:19:03",59.980998992919922,3677.4970703125,350,342.90576171875,0,70.5,10,15,-103,7546.53]
["2009-10-12T02:19:06",59.9739990234375,3677.489990234375,350,342.90576171875,0,71,10,15,-103,7546.86]
["2009-10-12T02:19:09",59.976001739501953,3675.43701171875,350,340.09439086914063,0,71.5,10,15,-103,7547.19]
["2009-10-12T02:19:12",59.9739990234375,3680.450927734375,350,340.09439086914063,0,72,10,15,-103,7547.52]
["2009-10-12T02:19:15",59.977001190185547,3683.82861328125,350,340.09439086914063,0,72.5,10,15,-103,7547.85]
["2009-10-12T02:19:18",59.979000091552734,3682.84326171875,350,340.09439086914063,0,73,10,15,-103,7548.18]
["2009-10-12T02:19:21",59.981998443603516,3680.565673828125,350,340.09439086914063,0,73.5,10,15,-103,7548.51]
["2009-10-12T02:19:24",59.98699951171875,3678.22900390625,350,342.77117919921875,0,74,10,15,-103,7548.84]
["2009-10-12T02:19:27",59.987998962402344,3675.75927734375,350,342.77117919921875,0,74.5,10,15,-103,7549.17]
["2009-10-12T02:19:30",59.98699951171875,3671.9423828125,350,342.77117919921875,0,75,10,15,-103,7549.5]
["2009-10-12T02:19:33",59.98699951171875,3670.475830078125,350,342.77117919921875,0,75.5,10,15,-103,7549.83]
["2009-10-12T02:19:36",59.985000610351563,3670.128662109375,350,342.77117919921875,0,76,10,15,-103,7550.16]
["2009-10-12T02:19:39",59.984001159667969,3672.0478515625,350,342.909912109375,0,76.5,10,15,-103,7550.49]
["2009-10-12T02:19:42",59.983001708984375,3671.57568359375,350,342.909912109375,0,77,10,15,-103,7550.82]
["2009-10-12T02:19:45",59.988998413085937,3672.41357421875,350,342.909912109375,0,77.5,10,15,-103,7551.15]
["2009-10-12T02:19:48",59.987998962402344,3671.88232421875,350,342.909912109375,0,78,10,15,-103,7551.48]
["2009-10-12T02:19:51",59.984001159667969,3671.3359375,350,342.909912109375,0,78.5,10,15,-103,7551.81]
["2009-10-12T02:19:54",59.983001708984375,3670.725830078125,350,343.2860107421875,0,79,10,15,-103,7552.14]
["2009-10-12T02:19:57",59.980998992919922,3671.364013671875,350,343.2860107421875,0,79.5,10,15,-103,7552.47]
["2009-10-12T02:20:00",59.983001708984375,3671.40087890625,350,343.2860107421875,0,80,10,15,-103,7552.8]
["2009-10-12T02:20:03",59.986000061035156,3672.181396484375,350,343.2860107421875,0,80.5,10,15,-103,7553.13]
["2009-10-12T02:20:06",59.98699951171875,3670.29638671875,350,343.2860107421875,0,81,10,15,-103,7553.46]
["2009-10-12T02:20:09",59.985000610351563,3668.589599609375,350,331.85296630859375,0,81.5,10,15,-103,7553.79]
["2009-10-12T02:20:12",59.979999542236328,3669.908203125,350,331.85296630859375,0,82,10,15,-103,7554.12]
["2009-10-12T02:20:15",59.983001708984375,3670.2626953125,350,331.85296630859375,0,82.5,10,15,-103,7554.45]
["2009-10-12T02:20:18",59.979000091552734,3669.38232421875,350,331.85296630859375,0,83,10,15,-103,7554.78]
["2009-10-12T02:20:21",59.979000091552734,3670.4375,350,331.85296630859375,0,83.5,10,15,-103,7555.11]
["2009-10-12T02:20:24",59.980998992919922,3671.402587890625,350,329.98822021484375,0,84,10,15,-103,7555.44]
["2009-10-12T02:20:27",59.979999542236328,3672.371826171875,350,329.98822021484375,0,84.5,10,15,-103,7555.77]
["2009-10-12T02:20:30",59.980998992919922,3671.947021484375,350,329.98822021484375,0,85,10,15,-103,7556.1]
["2009-10-12T02:20:33",59.979999542236328,3670.70458984375,350,329.98822021484375,0,85.5,10,15,-103,7556.43]
["2009-10-12T02:20:36",59.977001190185547,3670.13720703125,350,329.98822021484375,0,86,10,15,-103,7556.76]
["2009-10-12T02:20:39",59.979000091552734,3672.390869140625,350,255.44416809082031,0,86.5,10,15,-103,7557.09]
["2009-10-12T02:20:42",59.979000091552734,3672.557861328125,350,255.44416809082031,0,87,10,15,-103,7557.42]
["2009-10-12T02:20:45",59.976001739501953,3672.62646484375,350,255.44416809082031,0,87.5,10,15,-103,7557.75]
["2009-10-12T02:20:48",59.972000122070313,3671.80029296875,350,255.44416809082031,0,88,10,15,-103,7558.08]
["2009-10-12T02:20:51",59.971000671386719,3673.87353515625,350,255.44416809082031,0,88.5,10,15,-103,7558.41]
["2009-10-12T02:20:54",59.972999572753906,3676.2626953125,350,254.83830261230469,0,89,10,15,-103,7558.74]
["2009-10-12T02:20:57",59.972999572753906,3676.869873046875,350,254.83830261230469,0,89.5,10,15,-103,7559.07]
["2009-10-12T02:21:00",59.971000671386719,3676.54296875,350,254.83830261230469,0,90,10,15,-103,7559.4]
["2009-10-12T02:21:03",59.974998474121094,3675.75244140625,350,254.83830261230469,0,90.5,10,15,-103,7559.73]
["2009-10-12T02:21:06",59.977001190185547,3675.255859375,350,254.83830261230469,0,91,10,15,-103,7560.06]
["2009-10-12T02:21:09",59.974998474121094,3671.27685546875,350,257.14697265625,0,91.5,10,15,-103,7560.39]
["2009-10-12T02:21:12",59.979999542236328,3671.59326171875,350,257.14697265625,0,92,10,15,-103,7560.72]
["2009-10-12T02:21:15",59.979000091552734,3669.962890625,350,257.14697265625,0,92.5,10,15,-103,7561.05]
["2009-10-12T02:21:18",59.981998443603516,3669.5400390625,350,257.14697265625,0,93,10,15,-103,7561.38]
["2009-10-12T02:21:21",59.981998443603516,3668.70556640625,350,257.14697265625,0,93.5,10,15,-103,7561.71]
["2009-10-12T02:21:24",59.981998443603516,3667.676513671875,350,262.28936767578125,0,94,10,15,-103,7562.04]
["2009-10-12T02:21:27",59.980998992919922,3666.599365234375,350,262.28936767578125,0,94.5,10,15,-103,7562.37]
["2009-10-12T02:21:30",59.984001159667969,3666.91064453125,350,262.28936767578125,0,95,10,15,-103,7562.7]
["2009-10-12T02:21:33",59.985000610351563,3666.40478515625,350,262.28936767578125,0,95.5,10,15,-103,7563.03]
["2009-10-12T02:21:36",59.988998413085937,3667.456298828125,350,262.28936767578125,0,96,10,15,-103,7563.36]
["2009-10-12T02:21:39",59.993000030517578,3665.26171875,350,256.64794921875,0,96.5,10,15,-103,7563.69]
["2009-10-12T02:21:42",59.998001098632813,3664.031005859375,350,256.64794921875,0,97,10,15,-103,7564.02]
["2009-10-12T02:21:45",59.998001098632813,3663.228759765625,350,256.64794921875,0,97.5,10,15,-103,7564.35]
["2009-10-12T02:21:48",60.006999969482422,3662.054931640625,350,256.64794921875,0,98,10,15,-103,7564.68]
["2009-10-12T02:21:51",60.009998321533203,3662.076171875,350,256.64794921875,0,98.5,10,15,-103,7565.01]
["2009-10-12T02:21:54",60.013999938964844,3662.223876953125,350,256.3072509765625,0,99,10,15,-103,7565.34]
["2009-10-12T02:21:57",60.01300048828125,3663.79443359375,350,256.3072509765625,0,99.5,10,15,-103,7565.67]
["2009-10-12T02:22:00",60.007999420166016,3664.13916015625,350,256.3072509765625,0,100,10,15,-103,7566]
["2009-10-12T02:22:03",60.009998321533203,3664.15869140625,350,256.3072509765625,0,100.5,10,15,-103,7566.33]
["2009-10-12T02:22:06",60.019001007080078,3663.2646484375,350,256.3072509765625,0,101,10,15,-103,7566.66]
["2009-10-12T02:22:09",60.022998809814453,3661.92919921875,350,249.08639526367187,0,101.5,10,15,-103,7566.99]
["2009-10-12T02:22:12",60.020000457763672,3661.51220703125,350,249.08639526367187,0,102,10,15,-103,7567.32]
["2009-10-12T02:22:15",60.020999908447266,3658.661376953125,350,249.08639526367187,0,102.5,10,15,-103,7567.65]
["2009-10-12T02:22:18",60.020000457763672,3656.785400390625,350,249.08639526367187,0,103,10,15,-103,7567.98]
["2009-10-12T02:22:21",60.019001007080078,3658.1259765625,350,249.08639526367187,0,103.5,10,15,-103,7568.31]
["2009-10-12T02:22:24",60.021999359130859,3657.71044921875,350,253.74247741699219,0,104,10,15,-103,7568.64]
["2009-10-12T02:22:27",60.025001525878906,3660.2275390625,350,253.74247741699219,0,104.5,10,15,-103,7568.97]
["2009-10-12T02:22:30",60.0260009765625,3659.2236328125,350,253.74247741699219,0,105,10,15,-103,7569.3]
["2009-10-12T02:22:33",60.020000457763672,3658.668701171875,350,253.74247741699219,0,105.5,10,15,-103,7569.63]
["2009-10-12T02:22:36",60.018001556396484,3658.154541015625,350,253.74247741699219,0,106,10,15,-103,7569.96]
["2009-10-12T02:22:39",60.018001556396484,3659.777587890625,350,257.42120361328125,0,106.5,10,15,-103,7570.29]
["2009-10-12T02:22:42",60.019001007080078,3660.819580078125,350,257.42120361328125,0,107,10,15,-103,7570.62]
["2009-10-12T02:22:45",60.019001007080078,3662.38720703125,350,257.42120361328125,0,107.5,10,15,-103,7570.95]
["2009-10-12T02:22:48",60.021999359130859,3662.078857421875,350,257.42120361328125,0,108,10,15,-103,7571.28]
["2009-10-12T02:22:51",60.021999359130859,3662.67822265625,350,257.42120361328125,0,108.5,10,15,-103,7571.61]
["2009-10-12T02:22:54",60.020000457763672,3663.57666015625,350,261.73822021484375,0,109,10,15,-103,7571.94]
["2009-10-12T02:22:57",60.020000457763672,3662.959228515625,350,261.73822021484375,0,109.5,10,15,-103,7572.27]
["2009-10-12T02:23:00",60.020000457763672,3662.552490234375,350,261.73822021484375,0,110,10,15,-103,7572.6]
["2009-10-12T02:23:03",60.020000457763672,3663.6005859375,350,261.73822021484375,0,110.5,10,15,-103,7572.93]
["2009-10-12T02:23:06",60.020999908447266,3663.90966796875,350,261.73822021484375,0,111,10,15,-103,7573.26]
["2009-10-12T02:23:09",60.018001556396484,3662.791259765625,350,271.8759765625,0,111.5,10,15,-103,7573.59]
["2009-10-12T02:23:12",60.013999938964844,3663.395751953125,350,271.8759765625,0,112,10,15,-103,7573.92]
["2009-10-12T02:23:15",60.013999938964844,3664.3154296875,350,271.8759765625,0,112.5,10,15,-103,7574.25]
["2009-10-12T02:23:18",60.01300048828125,3665.31298828125,350,271.8759765625,0,113,10,15,-103,7574.58]
["2009-10-12T02:23:21",60.009998321533203,3666.14111328125,350,271.8759765625,0,113.5,10,15,-103,7574.91]
["2009-10-12T02:23:24",60.011001586914063,3666.725830078125,350,262.073486328125,0,114,10,15,-103,7575.24]
["2009-10-12T02:23:27",60.011001586914063,3667.54541015625,350,262.073486328125,0,114.5,10,15,-103,7575.57]
["2009-10-12T02:23:30",60.012001037597656,3666.688232421875,350,262.073486328125,0,115,10,15,-103,7575.9]
["2009-10-12T02:23:33",60.008998870849609,3666.71044921875,350,262.073486328125,0,115.5,10,15,-103,7576.23]
["2009-10-12T02:23:36",60.008998870849609,3667.696044921875,350,262.073486328125,0,116,10,15,-103,7576.56]
["2009-10-12T02:23:39",60.008998870849609,3667.04296875,350,260.36441040039062,0,116.5,10,15,-103,7576.89]
["2009-10-12T02:23:42",60.001998901367188,3666.62353515625,350,260.36441040039062,0,117,10,15,-103,7577.22]
["2009-10-12T02:23:45",59.999000549316406,3665.879638671875,350,260.36441040039062,0,117.5,10,15,-103,7577.55]
["2009-10-12T02:23:48",59.994998931884766,3665.4033203125,350,260.36441040039062,0,118,10,15,-103,7577.88]
["2009-10-12T02:23:51",59.997001647949219,3665.6796875,350,260.36441040039062,0,118.5,10,15,-103,7578.21]
["2009-10-12T02:23:54",59.998001098632813,3665.35205078125,350,352.64437866210937,0,119,10,15,-103,7578.54]
["2009-10-12T02:23:57",59.998001098632813,3665.06494140625,350,352.64437866210937,0,119.5,10,15,-103,7578.87]
["2009-10-12T02:24:00",59.994998931884766,3666.13330078125,350,352.64437866210937,0,120,10,15,-103,7579.2]
["2009-10-12T02:24:03",59.994998931884766,3666.734619140625,350,352.64437866210937,0,120.5,10,15,-103,7579.53]
["2009-10-12T02:24:06",59.993000030517578,3667.083984375,350,352.64437866210937,0,121,10,15,-103,7579.86]
["2009-10-12T02:24:09",59.987998962402344,3667.336669921875,350,354.89566040039062,0,121.5,10,15,-103,7580.19]
["2009-10-12T02:24:12",59.981998443603516,3667.853271484375,350,354.89566040039062,0,122,10,15,-103,7580.52]
["2009-10-12T02:24:15",59.981998443603516,3668.69091796875,350,354.89566040039062,0,122.5,10,15,-103,7580.85]
["2009-10-12T02:24:18",59.981998443603516,3669.399169921875,350,354.89566040039062,0,123,10,15,-103,7581.18]
["2009-10-12T02:24:21",59.984001159667969,3671.22802734375,350,354.89566040039062,0,123.5,10,15,-103,7581.51]
["2009-10-12T02:24:24",59.978000640869141,3670.25,350,340.4693603515625,0,124,10,15,-103,7581.84]
["2009-10-12T02:24:27",59.978000640869141,3671.548828125,350,340.4693603515625,0,124.5,10,15,-103,7582.17]
["2009-10-12T02:24:30",59.974998474121094,3673.2431640625,350,340.4693603515625,0,125,10,15,-103,7582.5]
["2009-10-12T02:24:33",59.9739990234375,3675.824462890625,350,340.4693603515625,0,125.5,10,15,-103,7582.83]
["2009-10-12T02:24:36",59.979000091552734,3676.418212890625,350,340.4693603515625,0,126,10,15,-103,7583.16]
["2009-10-12T02:24:39",59.979999542236328,3674.637451171875,350,337.64291381835937,0,126.5,10,15,-103,7583.49]
["2009-10-12T02:24:42",59.979999542236328,3675.328857421875,350,337.64291381835937,0,127,10,15,-103,7583.82]
["2009-10-12T02:24:45",59.984001159667969,3674.76806640625,350,337.64291381835937,0,127.5,10,15,-103,7584.15]
["2009-10-12T02:24:48",59.987998962402344,3674.3994140625,350,337.64291381835937,0,128,10,15,-103,7584.48]
["2009-10-12T02:24:51",59.987998962402344,3673.03955078125,350,337.64291381835937,0,128.5,10,15,-103,7584.81]
["2009-10-12T02:24:54",59.992000579833984,3672.441650390625,350,284.36083984375,0,129,10,15,-103,7585.14]
["2009-10-12T02:24:57",59.991001129150391,3671.68017578125,350,284.36083984375,0,129.5,10,15,-103,7585.47]
["2009-10-12T02:25:00",59.991001129150391,3671.4931640625,350,284.36083984375,0,130,10,15,-103,7585.8]
["2009-10-12T02:25:03",59.993000030517578,3669.530029296875,350,284.36083984375,0,130.5,10,15,-103,7586.13]
["2009-10-12T02:25:06",59.995998382568359,3670.02783203125,350,284.36083984375,0,131,10,15,-103,7586.46]
["2009-10-12T02:25:09",60.001998901367188,3671.578125,350,260.46798706054687,0,131.5,10,15,-103,7586.79]
["2009-10-12T02:25:12",60.002998352050781,3672.62548828125,350,260.46798706054687,0,132,10,15,-103,7587.12]
["2009-10-12T02:25:15",60.004001617431641,3673.818603515625,350,260.46798706054687,0,132.5,10,15,-103,7587.45]
["2009-10-12T02:25:18",60.004001617431641,3673.24951171875,350,260.46798706054687,0,133,10,15,-103,7587.78]
["2009-10-12T02:25:21",60.001998901367188,3673.496337890625,350,260.46798706054687,0,133.5,10,15,-103,7588.11]
["2009-10-12T02:25:24",60.007999420166016,3672.41796875,350,253.14154052734375,0,134,10,15,-103,7588.44]
["2009-10-12T02:25:27",60.009998321533203,3672.216796875,350,253.14154052734375,0,134.5,10,15,-103,7588.77]
["2009-10-12T02:25:30",60.009998321533203,3672.2607421875,350,253.14154052734375,0,135,10,15,-103,7589.1]
["2009-10-12T02:25:33",60.011001586914063,3673.603271484375,350,253.14154052734375,0,135.5,10,15,-103,7589.43]
["2009-10-12T02:25:36",60.013999938964844,3673.553466796875,350,253.14154052734375,0,136,10,15,-103,7589.76]
["2009-10-12T02:25:39",60.01300048828125,3674.537109375,350,251.92987060546875,0,136.5,10,15,-103,7590.09]
["2009-10-12T02:25:42",60.011001586914063,3673.8125,350,251.92987060546875,0,137,10,15,-103,7590.42]
["2009-10-12T02:25:45",60.011001586914063,3672.563232421875,350,251.92987060546875,0,137.5,10,15,-103,7590.75]
["2009-10-12T02:25:48",60.021999359130859,3673.067626953125,350,251.92987060546875,0,138,10,15,-103,7591.08]
["2009-10-12T02:25:51",60.016998291015625,3672.51953125,350,251.92987060546875,0,138.5,10,15,-103,7591.41]
["2009-10-12T02:25:54",60.01300048828125,3671.25,350,250.6741943359375,0,139,10,15,-103,7591.74]
["2009-10-12T02:25:57",60.013999938964844,3672.989013671875,350,250.6741943359375,0,139.5,10,15,-103,7592.07]
["2009-10-12T02:26:00",60.016998291015625,3672.981689453125,350,250.6741943359375,0,140,10,15,-103,7592.4]
["2009-10-12T02:26:03",60.019001007080078,3671.95166015625,350,250.6741943359375,0,140.5,10,15,-103,7592.73]
["2009-10-12T02:26:06",60.019001007080078,3671.193115234375,350,250.6741943359375,0,141,10,15,-103,7593.06]
["2009-10-12T02:26:09",60.027000427246094,3671.18896484375,350,253.63186645507812,0,141.5,10,15,-103,7593.39]
["2009-10-12T02:26:12",60.0260009765625,3668.610595703125,350,253.63186645507812,0,142,10,15,-103,7593.72]
["2009-10-12T02:26:15",60.021999359130859,3664.4951171875,350,253.63186645507812,0,142.5,10,15,-103,7594.05]
["2009-10-12T02:26:18",60.016998291015625,3666.061767578125,350,253.63186645507812,0,143,10,15,-103,7594.38]
["2009-10-12T02:26:21",60.019001007080078,3666.787353515625,350,253.63186645507812,0,143.5,10,15,-103,7594.71]
["2009-10-12T02:26:24",60.019001007080078,3670.45361328125,350,246.95730590820312,0,144,10,15,-103,7595.04]
["2009-10-12T02:26:27",60.020999908447266,3671.66796875,350,246.95730590820312,0,144.5,10,15,-103,7595.37]
["2009-10-12T02:26:30",60.020999908447266,3672.4931640625,350,246.95730590820312,0,145,10,15,-103,7595.7]
["2009-10-12T02:26:33",60.019001007080078,3672.857421875,350,246.95730590820312,0,145.5,10,15,-103,7596.03]
["2009-10-12T02:26:36",60.021999359130859,3672.1640625,350,246.95730590820312,0,146,10,15,-103,7596.36]
["2009-10-12T02:26:39",60.030998229980469,3669.98291015625,350,254.54177856445312,0,146.5,10,15,-103,7596.69]
["2009-10-12T02:26:42",60.036998748779297,3666.46728515625,350,254.54177856445312,0,147,10,15,-103,7597.02]
["2009-10-12T02:26:45",60.035999298095703,3661.59912109375,350,254.54177856445312,0,147.5,10,15,-103,7597.35]
["2009-10-12T02:26:48",60.046001434326172,3660.67236328125,350,254.54177856445312,0,148,10,15,-103,7597.68]
["2009-10-12T02:26:51",60.048000335693359,3649.1904296875,350,165.1016845703125,0,148.5,10,15,-103,7598.01]
["2009-10-12T02:26:54",60.042999267578125,3650.025146484375,350,165.1016845703125,0,149,10,15,-103,7598.34]
["2009-10-12T02:26:57",60.041000366210938,3649.511962890625,350,165.1016845703125,0,149.5,10,15,-103,7598.67]
["2009-10-12T02:27:00",60.041000366210938,3654.29443359375,350,165.1016845703125,0,150,10,15,-103,7599]
["2009-10-12T02:27:03",60.03900146484375,3651.874267578125,350,165.1016845703125,0,150.5,10,15,-103,7599.33]
["2009-10-12T02:27:06",60.042999267578125,3651.059326171875,350,165.47639465332031,0,151,10,15,-103,7599.66]
["2009-10-12T02:27:09",60.044998168945313,3648.236328125,350,165.47639465332031,0,151.5,10,15,-103,7599.99]
["2009-10-12T02:27:12",60.041000366210938,3645.386962890625,350,165.47639465332031,0,152,10,15,-103,7600.32]
["2009-10-12T02:27:15",60.041000366210938,3645.44580078125,350,165.47639465332031,0,152.5,10,15,-103,7600.65]
["2009-10-12T02:27:18",60.03900146484375,3640.68212890625,350,165.47639465332031,0,153,10,15,-103,7600.98]
["2009-10-12T02:27:21",59.978000640869141,3659.46484375,350,206.4591064453125,0,153.5,10,0,-103,7601.31]
["2009-10-12T02:27:24",59.83599853515625,3696.3623046875,350,206.4591064453125,0,154,10,0,-103,7570]
["2009-10-12T02:27:27",59.868999481201172,3734.672607421875,335,206.4591064453125,0,154.5,10,0,-103,7569]
["2009-10-12T02:27:30",59.890998840332031,3737.15673828125,335,206.4591064453125,0,155,10,0,-103,7570]
["2009-10-12T02:27:33",59.880001068115234,3766.113037109375,335,206.4591064453125,0,155.5,10,0,-103,7570]
["2009-10-12T02:27:36",59.875,3766.19384765625,335,211.25604248046875,0,156,10,0,-103,7570]
["2009-10-12T02:27:39",59.882999420166016,3769.925048828125,335,211.25604248046875,1,156.5,10,0,-103,7570]
["2009-10-12T02:27:42",59.886001586914063,3780.62060546875,335,211.25604248046875,1,157,10,0,-103,7570]
["2009-10-12T02:27:45",59.884998321533203,3782.49951171875,335,211.25604248046875,1,157.5,10,0,-103,7570]
["2009-10-12T02:27:48",59.88800048828125,3784.9619140625,335,211.25604248046875,1,158,10,0,-103,7570]
["2009-10-12T02:27:51",59.889999389648437,3784.4189453125,335,214.34669494628906,1,158.5,10,0,-103,7570]
["2009-10-12T02:27:54",59.894001007080078,3788.072265625,335,214.34669494628906,1,159,10,0,-103,7570]
["2009-10-12T02:27:57",59.893001556396484,3788.868408203125,335,214.34669494628906,1,159.5,10,0,-103,7570]
["2009-10-12T02:28:00",59.894001007080078,3788.471923828125,335,214.34669494628906,2,160,10,0,-103,7570]
["2009-10-12T02:28:03",59.890998840332031,3793.074462890625,335,214.34669494628906,3,160.5,10,0,-103,7570]
["2009-10-12T02:28:06",59.884998321533203,3794.374267578125,335,212.17269897460937,4,161,10,0,-103,7570]
["2009-10-12T02:28:09",59.884998321533203,3800.427490234375,335,212.17269897460937,5,161.5,10,0,-103,7570]
["2009-10-12T02:28:12",59.887001037597656,3799.959228515625,335,212.17269897460937,6,162,10,0,-103,7570]
["2009-10-12T02:28:15",59.88800048828125,3802.925048828125,335,212.17269897460937,7,162.5,10,0,-103,7570]
["2009-10-12T02:28:18",59.889999389648437,3802.950927734375,335,212.17269897460937,8,163,10,0,-103,7570]
["2009-10-12T02:28:21",59.888999938964844,3805.49609375,335,215.59817504882812,9,163.5,10,0,-103,7570]
["2009-10-12T02:28:24",59.873001098632813,3805.61669921875,335,215.59817504882812,10,164,10,0,-103,7568]
["2009-10-12T02:28:27",59.856998443603516,3811.5029296875,335,215.59817504882812,11,164.5,10,0,-103,7565]
["2009-10-12T02:28:30",59.852001190185547,3814.8623046875,335,215.59817504882812,12,165,10,0,-103,7560]
["2009-10-12T02:28:33",59.858001708984375,3825.642578125,335,215.59817504882812,13,165.5,10,0,-103,7563]
["2009-10-12T02:28:36",59.866001129150391,3826.05322265625,335,218.32725524902344,14,166,10,0,-103,7564]
["2009-10-12T02:28:39",59.865001678466797,3827.52392578125,335,218.32725524902344,15,166.5,10,0,-103,7566]
["2009-10-12T02:28:42",59.866001129150391,3826.753173828125,335,218.32725524902344,16,167,10,0,-103,7570]
["2009-10-12T02:28:45",59.870998382568359,3826.45361328125,335,218.32725524902344,16,167.5,10,0,-103,7570]
["2009-10-12T02:28:48",59.879001617431641,3825.71337890625,335,218.32725524902344,16,168,10,0,-103,7570]
["2009-10-12T02:28:51",59.880001068115234,3822.50537109375,335,217.37942504882812,16,168.5,10,0,-103,7570]
["2009-10-12T02:28:54",59.886001586914063,3819.0810546875,335,217.37942504882812,16,169,10,0,-103,7570]
["2009-10-12T02:28:57",59.889999389648437,3816.814697265625,335,217.37942504882812,16,169.5,10,0,-103,7569]
["2009-10-12T02:29:00",59.888999938964844,3815.009765625,335,217.37942504882812,16,170,10,0,-103,7575]
["2009-10-12T02:29:03",59.893001556396484,3811.83837890625,335,217.37942504882812,16,170.5,10,0,-103,7573]
["2009-10-12T02:29:06",59.902999877929688,3809.65185546875,335,214.83035278320312,16,171,10,0,-103,7571]
["2009-10-12T02:29:09",59.902000427246094,3805.59326171875,335,214.83035278320312,16,171.5,10,0,-103,7573]
["2009-10-12T02:29:12",59.903999328613281,3804.1884765625,335,214.83035278320312,16,172,10,0,-103,7575]
["2009-10-12T02:29:15",59.907001495361328,3793.97509765625,335,214.83035278320312,16,172.5,10,0,-103,7577]
["2009-10-12T02:29:18",59.916000366210938,3792.16943359375,335,214.83035278320312,16,173,10,0,-103,7577]
["2009-10-12T02:29:21",59.916000366210938,3789.53369140625,335,227.65591430664062,16,173.5,10,0,-103,7578]
["2009-10-12T02:29:24",59.917999267578125,3788.132080078125,335,227.65591430664062,16,174,10,0,-103,7579]
["2009-10-12T02:29:27",59.919998168945313,3783.0283203125,335,227.65591430664062,16,174.5,10,0,-103,7580]
["2009-10-12T02:29:30",59.919998168945313,3781.701171875,335,227.65591430664062,16,175,10,0,-103,7581]
["2009-10-12T02:29:33",59.916999816894531,3775.635498046875,335,227.65591430664062,16,175.5,10,0,-103,7585]
["2009-10-12T02:29:36",59.921001434326172,3774.604248046875,335,225.01808166503906,16,176,10,0,-103,7588]
["2009-10-12T02:29:39",59.923000335693359,3773.957763671875,335,225.01808166503906,16,176.5,10,0,-103,7589]
["2009-10-12T02:29:42",59.924999237060547,3772.722412109375,335,225.01808166503906,0,177,10,0,-103,7589]
["2009-10-12T02:29:45",59.928001403808594,3769.629638671875,335,225.01808166503906,0,177.5,10,0,-103,7590]
["2009-10-12T02:29:48",59.931999206542969,3768.70703125,335,225.01808166503906,0,178,10,0,-103,7590]
["2009-10-12T02:29:51",59.926998138427734,3767.02099609375,335,228.36515808105469,0,178.5,10,0,-103,7590]
["2009-10-12T02:29:54",59.930999755859375,3767.407958984375,335,228.36515808105469,0,179,10,0,-103,7591]
["2009-10-12T02:29:57",59.929000854492187,3766.259033203125,335,228.36515808105469,0,179.5,10,0,-103,7591]
["2009-10-12T02:30:00",59.930999755859375,3765.671630859375,335,228.36515808105469,0,180,10,0,-103,7591]
["2009-10-12T02:30:03",59.937000274658203,3766.12255859375,335,228.36515808105469,0,180.5,10,0,-103,7592]
["2009-10-12T02:30:06",59.944999694824219,3765.10498046875,335,234.07533264160156,0,181,10,0,-103,7592]
["2009-10-12T02:30:09",59.949001312255859,3758.38720703125,335,234.07533264160156,0,181.5,10,0,-103,7593]
["2009-10-12T02:30:12",59.942001342773438,3753.92236328125,335,234.07533264160156,0,182,10,0,-103,7594]
["2009-10-12T02:30:15",59.941001892089844,3746.888671875,335,234.07533264160156,0,182.5,10,0,-103,7595]
["2009-10-12T02:30:18",59.944999694824219,3747.87548828125,335,234.07533264160156,0,183,10,0,-103,7655]
["2009-10-12T02:30:21",59.948001861572266,3748.6611328125,335,228.79815673828125,0,183.5,10,0,-103,7656]
["2009-10-12T02:30:24",59.949001312255859,3746.7060546875,335,228.79815673828125,0,184,10,0,-103,7656]
["2009-10-12T02:30:27",59.951000213623047,3742.741455078125,335,228.79815673828125,0,184.5,10,0,-103,7657]
["2009-10-12T02:30:30",59.952999114990234,3740.259033203125,335,228.79815673828125,0,185,10,0,-103,7657]
["2009-10-12T02:30:33",59.951000213623047,3731.382080078125,335,228.79815673828125,0,185.5,10,0,-103,7658]
["2009-10-12T02:30:36",59.951999664306641,3727.83837890625,335,229.46696472167969,0,186,10,0,-103,7658]
["2009-10-12T02:30:39",59.951999664306641,3722.64892578125,335,249.33757019042969,0,186.5,10,0,-103,7659]
["2009-10-12T02:30:42",59.951999664306641,3720.578125,335,249.33757019042969,0,187,10,0,-103,7659]
["2009-10-12T02:30:45",59.953998565673828,3718.141845703125,335,249.33757019042969,0,187.5,10,0,-103,7659]
["2009-10-12T02:30:48",59.952999114990234,3715.752685546875,335,249.33757019042969,0,188,10,0,-103,7660]
["2009-10-12T02:30:51",59.952999114990234,3713.483642578125,335,249.33757019042969,0,188.5,10,0,-103,7660]
["2009-10-12T02:30:54",59.953998565673828,3710.84814453125,335,258.27816772460937,0,189,10,0,-103,7661]
["2009-10-12T02:30:57",59.953998565673828,3712.091796875,335,258.27816772460937,0,189.5,10,0,-103,7661]
["2009-10-12T02:31:00",59.957000732421875,3714.62255859375,335,258.27816772460937,0,190,10,0,-103,7625.4]
["2009-10-12T02:31:03",59.956001281738281,3716.168212890625,335,258.27816772460937,0,190.5,10,0,-103,7625.73]
["2009-10-12T02:31:06",59.956001281738281,3716.46142578125,335,258.27816772460937,0,191,10,0,-103,7626.06]
["2009-10-12T02:31:09",59.955001831054688,3717.759033203125,335,258.4063720703125,0,191.5,10,0,-103,7626.39]
["2009-10-12T02:31:12",59.96099853515625,3722.361328125,335,258.4063720703125,0,192,10,0,-103,7626.72]
["2009-10-12T02:31:15",59.962001800537109,3722.657958984375,335,258.4063720703125,0,192.5,10,0,-103,7627.05]
["2009-10-12T02:31:18",59.967998504638672,3722.2666015625,335,258.4063720703125,0,193,10,0,-103,7627.38]
["2009-10-12T02:31:21",59.965999603271484,3721.78662109375,335,258.4063720703125,0,193.5,10,0,-103,7627.71]
["2009-10-12T02:31:24",59.967998504638672,3723.0908203125,335,260.53887939453125,0,194,10,0,-103,7628.04]
["2009-10-12T02:31:27",59.970001220703125,3723.4345703125,335,260.53887939453125,0,194.5,10,0,-103,7628.37]
["2009-10-12T02:31:30",59.970001220703125,3723.89306640625,335,260.53887939453125,0,195,10,0,-103,7628.7]
["2009-10-12T02:31:33",59.969001770019531,3727.12109375,335,260.53887939453125,0,195.5,10,0,-103,7629.03]
["2009-10-12T02:31:36",59.970001220703125,3728.052978515625,335,260.53887939453125,0,196,10,0,-103,7629.36]
["2009-10-12T02:31:39",59.971000671386719,3732.530029296875,335,257.882080078125,0,196.5,10,0,-103,7629.69]
["2009-10-12T02:31:42",59.972999572753906,3733.3271484375,335,257.882080078125,0,197,10,0,-103,7630.02]
["2009-10-12T02:31:45",59.976001739501953,3736.907470703125,335,257.882080078125,0,197.5,10,0,-103,7630.35]
["2009-10-12T02:31:48",59.978000640869141,3736.82177734375,335,257.882080078125,0,198,10,0,-103,7630.68]
["2009-10-12T02:31:51",59.976001739501953,3739.94384765625,335,257.882080078125,0,198.5,10,0,-103,7631.01]
["2009-10-12T02:31:54",59.976001739501953,3740.876953125,335,258.58865356445313,0,199,10,0,-103,7631.34]
["2009-10-12T02:31:57",59.978000640869141,3745.233642578125,335,258.58865356445313,0,199.5,10,0,-103,7631.67]
["2009-10-12T02:32:00",59.979999542236328,3746.60791015625,335,258.58865356445313,0,200,10,0,-103,7632]
["2009-10-12T02:32:03",59.981998443603516,3750.71630859375,335,258.58865356445313,0,200.5,10,0,-103,7632.33]
["2009-10-12T02:32:06",59.979999542236328,3751.5576171875,335,258.58865356445313,0,201,10,0,-103,7632.66]
["2009-10-12T02:32:09",59.979000091552734,3755.5986328125,335,261.90615844726562,0,201.5,10,0,-103,7632.99]
["2009-10-12T02:32:12",59.979000091552734,3756.4072265625,335,261.90615844726562,0,202,10,0,-103,7633.32]
["2009-10-12T02:32:15",59.983001708984375,3760.4052734375,335,261.90615844726562,0,202.5,10,0,-103,7633.65]
["2009-10-12T02:32:18",59.984001159667969,3760.982177734375,335,261.90615844726562,0,203,10,0,-103,7633.98]
["2009-10-12T02:32:21",59.987998962402344,3762.7373046875,335,261.90615844726562,0,203.5,10,0,-103,7634.31]
["2009-10-12T02:32:24",59.98699951171875,3763.212158203125,335,256.747802734375,0,204,10,0,-103,7634.64]
["2009-10-12T02:32:27",59.98699951171875,3766.085205078125,335,256.747802734375,0,204.5,10,0,-103,7634.97]
["2009-10-12T02:32:30",59.993000030517578,3766.43310546875,335,256.747802734375,0,205,10,0,-103,7635.3]
["2009-10-12T02:32:33",59.992000579833984,3767.79248046875,335,256.747802734375,0,205.5,10,0,-103,7635.63]
["2009-10-12T02:32:36",59.988998413085937,3768.633544921875,335,256.747802734375,0,206,10,0,-103,7635.96]
["2009-10-12T02:32:39",59.986000061035156,3772.444580078125,335,167.43197631835937,0,206.5,10,0,-103,7636.29]
["2009-10-12T02:32:42",59.983001708984375,3773.69482421875,335,167.43197631835937,0,207,10,0,-103,7636.62]
["2009-10-12T02:32:45",59.987998962402344,3775.8408203125,335,167.43197631835937,0,207.5,10,0,-103,7636.95]
["2009-10-12T02:32:48",59.995998382568359,3775.36328125,335,167.43197631835937,0,208,10,0,-103,7637.28]
["2009-10-12T02:32:51",59.998001098632813,3775.49169921875,335,167.43197631835937,0,208.5,10,0,-103,7637.61]
["2009-10-12T02:32:54",60.000999450683594,3776.420166015625,335,164.97340393066406,0,209,10,0,-103,7637.94]
["2009-10-12T02:32:57",59.999000549316406,3779.69189453125,335,164.97340393066406,0,209.5,10,0,-103,7638.27]
["2009-10-12T02:33:00",59.999000549316406,3781.255859375,335,164.97340393066406,0,210,10,0,-103,7638.6]
["2009-10-12T02:33:03",60.001998901367188,3783.092041015625,335,164.97340393066406,0,210.5,10,0,-103,7638.93]
["2009-10-12T02:33:06",60.006999969482422,3783.8955078125,335,164.97340393066406,0,211,10,0,-103,7639.26]
["2009-10-12T02:33:09",60.007999420166016,3785.76806640625,335,157.62808227539062,0,211.5,10,0,-103,7639.59]
["2009-10-12T02:33:12",60.013999938964844,3785.462646484375,335,157.62808227539062,0,212,10,0,-103,7639.92]
["2009-10-12T02:33:15",60.016998291015625,3786.30419921875,335,157.62808227539062,0,212.5,10,0,-103,7640.25]
["2009-10-12T02:33:18",60.020999908447266,3787.25927734375,335,157.62808227539062,0,213,10,0,-103,7640.58]
["2009-10-12T02:33:21",60.016998291015625,3787.955078125,335,157.62808227539062,0,213.5,10,0,-103,7640.91]
["2009-10-12T02:33:24",60.019001007080078,3788.0302734375,335,155.53170776367187,0,214,10,0,-103,7641.24]
["2009-10-12T02:33:27",60.022998809814453,3789.2158203125,335,155.53170776367187,0,214.5,10,0,-103,7641.57]
["2009-10-12T02:33:30",60.025001525878906,3787.53662109375,335,155.53170776367187,0,215,10,0,-103,7641.9]
["2009-10-12T02:33:33",60.020999908447266,3786.07666015625,335,155.53170776367187,0,215.5,10,0,-103,7642.23]
["2009-10-12T02:33:36",60.023998260498047,3787.930419921875,335,155.53170776367187,0,216,10,0,-103,7642.56]
["2009-10-12T02:33:39",60.023998260498047,3786.874755859375,335,160.44723510742187,0,216.5,10,0,-103,7642.89]
["2009-10-12T02:33:42",60.020000457763672,3786.5498046875,335,160.44723510742187,0,217,10,0,-103,7643.22]
["2009-10-12T02:33:45",60.025001525878906,3785.01806640625,335,160.44723510742187,0,217.5,10,0,-103,7643.55]
["2009-10-12T02:33:48",60.020000457763672,3785.614013671875,335,160.44723510742187,0,218,10,0,-103,7643.88]
["2009-10-12T02:33:51",60.020000457763672,3785.8037109375,335,160.44723510742187,0,218.5,10,0,-103,7644.21]
["2009-10-12T02:33:54",60.021999359130859,3786.8642578125,335,163.95860290527344,0,219,10,0,-103,7644.54]
["2009-10-12T02:33:57",60.021999359130859,3785.25390625,335,163.95860290527344,0,219.5,10,0,-103,7644.87]
["2009-10-12T02:34:00",60.020999908447266,3785.72607421875,335,163.95860290527344,0,220,10,0,-103,7645.2]
["2009-10-12T02:34:03",60.022998809814453,3785.821044921875,335,163.95860290527344,0,220.5,10,0,-103,7645.53]
["2009-10-12T02:34:06",60.021999359130859,3785.79833984375,335,163.95860290527344,0,221,10,0,-103,7645.86]
["2009-10-12T02:34:09",60.019001007080078,3786.939208984375,335,166.07244873046875,0,221.5,10,0,-103,7646.19]
["2009-10-12T02:34:12",60.018001556396484,3787.62744140625,335,166.07244873046875,0,222,10,0,-103,7646.52]
["2009-10-12T02:34:15",60.018001556396484,3789.67333984375,335,166.07244873046875,0,222.5,10,0,-103,7646.85]
["2009-10-12T02:34:18",60.019001007080078,3789.404296875,335,166.07244873046875,0,223,10,0,-103,7647.18]
["2009-10-12T02:34:21",60.019001007080078,3789.183349609375,335,166.07244873046875,0,223.5,10,0,-103,7647.51]
["2009-10-12T02:34:24",60.014999389648438,3789.368896484375,335,163.76658630371094,0,224,10,0,-103,7647.84]
["2009-10-12T02:34:27",60.015998840332031,3788.66455078125,335,163.76658630371094,0,224.5,10,0,-103,7648.17]
["2009-10-12T02:34:30",60.01300048828125,3788.932861328125,335,163.76658630371094,0,225,10,0,-103,7648.5]
["2009-10-12T02:34:33",60.012001037597656,3790.80517578125,335,163.76658630371094,0,225.5,10,0,-103,7648.83]
["2009-10-12T02:34:36",60.009998321533203,3790.4111328125,335,163.76658630371094,0,226,10,0,-103,7649.16]
["2009-10-12T02:34:39",60.006999969482422,3791.539794921875,335,165.1016845703125,0,226.5,10,0,-103,7649.49]
["2009-10-12T02:34:42",60.008998870849609,3792.9453125,335,165.1016845703125,0,227,10,0,-103,7649.82]
["2009-10-12T02:34:45",60.008998870849609,3791.443115234375,335,165.1016845703125,0,227.5,10,0,-103,7650.15]
["2009-10-12T02:34:48",60.002998352050781,3791.426025390625,335,165.1016845703125,0,228,10,0,-103,7650.48]
["2009-10-12T02:34:51",59.999000549316406,3790.457275390625,335,165.1016845703125,0,228.5,10,0,-103,7650.81]
["2009-10-12T02:34:54",59.992000579833984,3790.21630859375,335,165.47639465332031,0,229,10,0,-103,7651.14]
["2009-10-12T02:34:57",59.991001129150391,3788.45703125,335,165.47639465332031,0,229.5,10,0,-103,7651.47]
["2009-10-12T02:35:00",59.992000579833984,3788.10498046875,335,165.47639465332031,0,230,10,0,-103,7651.8]
["2009-10-12T02:35:03",59.987998962402344,3788.189453125,335,165.47639465332031,0,230.5,10,0,-103,7652.13]
["2009-10-12T02:35:06",59.985000610351563,3788.497314453125,335,165.47639465332031,0,231,10,0,-103,7652.46]
["2009-10-12T02:35:09",59.984001159667969,3788.57080078125,335,206.4591064453125,0,231.5,10,0,-103,7652.79]
["2009-10-12T02:35:12",59.984001159667969,3788.10107421875,335,206.4591064453125,0,232,10,0,-103,7616]
["2009-10-12T02:35:15",59.981998443603516,3786.452880859375,335,206.4591064453125,0,232.5,10,0,-103,7626]
["2009-10-12T02:35:18",59.981998443603516,3787.732421875,335,206.4591064453125,0,233,10,0,-103,7632]
["2009-10-12T02:35:21",59.979000091552734,3789.28515625,335,206.4591064453125,0,233.5,10,0,-103,7632]
["2009-10-12T02:35:24",59.976001739501953,3788.25634765625,335,211.25604248046875,0,234,10,0,-103,7632]
["2009-10-12T02:35:27",59.976001739501953,3790.46728515625,335,211.25604248046875,1,234.5,10,0,-103,7632]
["2009-10-12T02:35:30",59.981998443603516,3790.66455078125,335,211.25604248046875,1,235,10,0,-103,7632]
["2009-10-12T02:35:33",59.978000640869141,3789.673828125,335,211.25604248046875,1,235.5,10,0,-103,7632]
["2009-10-12T02:35:36",59.9739990234375,3789.26708984375,335,211.25604248046875,1,236,10,0,-103,7632]
["2009-10-12T02:35:39",59.976001739501953,3790.430419921875,335,214.34669494628906,1,236.5,10,0,-103,7632]
["2009-10-12T02:35:42",59.977001190185547,3789.914306640625,335,214.34669494628906,1,237,10,0,-103,7632]
["2009-10-12T02:35:45",59.974998474121094,3787.442138671875,335,214.34669494628906,1,237.5,10,0,-103,7632]
["2009-10-12T02:35:48",59.969001770019531,3788.962890625,335,214.34669494628906,2,238,10,0,-103,7632]
["2009-10-12T02:35:51",59.970001220703125,3791.876953125,335,214.34669494628906,3,238.5,10,0,-103,7632]
["2009-10-12T02:35:54",59.972999572753906,3792.91064453125,335,212.17269897460937,4,239,10,0,-103,7632]
["2009-10-12T02:35:57",59.978000640869141,3789.125,335,212.17269897460937,5,239.5,10,0,-103,7632]
["2009-10-12T02:36:00",59.978000640869141,3788.07958984375,335,212.17269897460937,6,240,10,0,-103,7632]
["2009-10-12T02:36:03",59.974998474121094,3787.135009765625,335,212.17269897460937,7,240.5,10,0,-103,7632]
["2009-10-12T02:36:06",59.976001739501953,3787.164306640625,335,212.17269897460937,8,241,10,0,-103,7632]
["2009-10-12T02:36:09",59.974998474121094,3787.40478515625,335,215.59817504882812,9,241.5,10,0,-103,7632]
["2009-10-12T02:36:12",59.969001770019531,3786.48681640625,335,215.59817504882812,10,242,10,0,-103,7632]
["2009-10-12T02:36:15",59.965999603271484,3789.2138671875,335,215.59817504882812,11,242.5,10,0,-103,7632]
["2009-10-12T02:36:18",59.965999603271484,3790.51171875,335,215.59817504882812,12,243,10,0,-103,7632]
["2009-10-12T02:36:21",59.969001770019531,3792.21826171875,335,215.59817504882812,13,243.5,10,0,-103,7632]
["2009-10-12T02:36:24",59.967998504638672,3790.95947265625,335,218.32725524902344,14,244,10,0,-103,7632]
["2009-10-12T02:36:27",59.965000152587891,3789.0263671875,335,218.32725524902344,15,244.5,10,0,-103,7632]
["2009-10-12T02:36:30",59.970001220703125,3789.16748046875,335,218.32725524902344,16,245,10,0,-103,7632]
["2009-10-12T02:36:33",59.972000122070313,3785.68994140625,335,218.32725524902344,16,245.5,10,0,-103,7632]
["2009-10-12T02:36:36",59.966999053955078,3784.83056640625,335,218.32725524902344,16,246,10,0,-103,7632]
["2009-10-12T02:36:39",59.969001770019531,3784.3203125,335,217.37942504882812,16,246.5,10,0,-103,7632]
["2009-10-12T02:36:42",59.969001770019531,3782.80859375,335,217.37942504882812,16,247,10,0,-103,7632]
["2009-10-12T02:36:45",59.966999053955078,3779.3515625,335,217.37942504882812,16,247.5,10,0,-103,7631]
["2009-10-12T02:36:48",59.965999603271484,3779.05615234375,335,217.37942504882812,16,248,10,0,-103,7625]
["2009-10-12T02:36:51",59.965000152587891,3779.211669921875,335,217.37942504882812,16,248.5,10,0,-103,7623]
["2009-10-12T02:36:54",59.966999053955078,3779.334716796875,335,214.83035278320312,16,249,10,0,-103,7621]
["2009-10-12T02:36:57",59.965000152587891,3775.646728515625,335,214.83035278320312,16,249.5,10,0,-103,7623]
["2009-10-12T02:37:00",59.964000701904297,3776.5966796875,335,214.83035278320312,16,250,10,0,-103,7625]
["2009-10-12T02:37:03",59.970001220703125,3776.02294921875,335,214.83035278320312,16,250.5,10,0,-103,7627]
["2009-10-12T02:37:06",59.969001770019531,3773.169921875,335,214.83035278320312,16,251,10,0,-103,7628]
["2009-10-12T02:37:09",59.967998504638672,3768.79296875,335,227.65591430664062,16,251.5,10,0,-103,7628]
["2009-10-12T02:37:12",59.965000152587891,3768.5029296875,335,227.65591430664062,16,252,10,0,-103,7629]
["2009-10-12T02:37:15",59.970001220703125,3767.3662109375,335,227.65591430664062,16,252.5,10,0,-103,7630]
["2009-10-12T02:37:18",59.967998504638672,3764.7861328125,335,227.65591430664062,16,253,10,0,-103,7631]
["2009-10-12T02:37:21",59.965000152587891,3759.591796875,335,227.65591430664062,16,253.5,10,0,-103,7635]
["2009-10-12T02:37:24",59.969001770019531,3761.893798828125,335,225.01808166503906,16,254,10,0,-103,7638]
["2009-10-12T02:37:27",59.966999053955078,3760.58251953125,335,225.01808166503906,16,254.5,10,0,-103,7639]
["2009-10-12T02:37:30",59.965999603271484,3760.157470703125,335,225.01808166503906,16,255,10,0,-103,7642]
["2009-10-12T02:37:33",59.979000091552734,3759.494873046875,335,225.01808166503906,16,255.5,10,0,-103,7644]
["2009-10-12T02:37:36",59.983001708984375,3757.77294921875,335,225.01808166503906,16,256,10,0,-103,7645]
["2009-10-12T02:37:39",59.9739990234375,3753.08740234375,335,228.36515808105469,16,256.5,10,0,-103,7647]
["2009-10-12T02:37:42",59.965000152587891,3751.63671875,335,228.36515808105469,16,257,10,0,-103,7648]
["2009-10-12T02:37:45",59.962001800537109,3758.224609375,335,228.36515808105469,16,257.5,10,0,-103,7649]
["2009-10-12T02:37:48",59.96099853515625,3759.249755859375,335,228.36515808105469,16,258,10,0,-103,7650]
["2009-10-12T02:37:51",59.96099853515625,3760.96484375,335,228.36515808105469,16,258.5,10,0,-103,7651]
["2009-10-12T02:37:54",59.963001251220703,3762.022216796875,335,234.07533264160156,16,259,10,0,-103,7652]
["2009-10-12T02:37:57",59.958999633789063,3763.10009765625,335,234.07533264160156,16,259.5,10,0,-103,7653]
["2009-10-12T02:38:00",59.951000213623047,3763.858154296875,335,234.07533264160156,16,260,10,0,-103,7654]
["2009-10-12T02:38:03",59.952999114990234,3766.126708984375,335,234.07533264160156,16,260.5,10,0,-103,7655]
["2009-10-12T02:38:06",59.957000732421875,3768.3388671875,335,234.07533264160156,16,261,10,0,-103,7655]
["2009-10-12T02:38:09",59.956001281738281,3767.4375,335,228.79815673828125,16,261.5,10,0,-103,7656]
["2009-10-12T02:38:12",59.963001251220703,3765.6064453125,335,228.79815673828125,16,262,10,0,-103,7656]
["2009-10-12T02:38:15",59.96099853515625,3761.5703125,335,228.79815673828125,16,262.5,10,0,-103,7657]
["2009-10-12T02:38:18",59.963001251220703,3761.919921875,335,228.79815673828125,16,263,10,0,-103,7657]
["2009-10-12T02:38:21",59.963001251220703,3758.52197265625,335,228.79815673828125,16,263.5,10,0,-103,7658]
["2009-10-12T02:38:24",59.967998504638672,3752.4287109375,335,229.46696472167969,16,264,10,0,-103,7658]
["2009-10-12T02:38:27",59.967998504638672,3753.82958984375,335,229.46696472167969,16,264.5,10,0,-103,7659]
["2009-10-12T02:38:30",59.970001220703125,3753.51025390625,335,229.46696472167969,16,265,10,0,-103,7659]
["2009-10-12T02:38:33",59.972999572753906,3752.74072265625,335,229.46696472167969,16,265.5,10,0,-103,7659]
["2009-10-12T02:38:36",59.965000152587891,3753.17822265625,335,229.46696472167969,16,266,10,0,-103,7660]
["2009-10-12T02:38:39",59.966999053955078,3753.29052734375,335,228.98016357421875,16,266.5,10,0,-103,7660]
["2009-10-12T02:38:42",59.972000122070313,3752.87158203125,335,228.98016357421875,16,267,10,0,-103,7661]
["2009-10-12T02:38:45",59.976001739501953,3749.39794921875,335,228.98016357421875,16,267.5,10,0,-103,7661]
["2009-10-12T02:38:48",59.969001770019531,3747.475830078125,335,228.98016357421875,16,268,10,0,-103,7662]
["2009-10-12T02:38:51",59.972999572753906,3741.28515625,335,228.98016357421875,16,268.5,10,0,-103,7662]
["2009-10-12T02:38:54",59.978000640869141,3746.65087890625,335,219.97555541992187,16,269,10,0,-103,7663]
["2009-10-12T02:38:57",59.980998992919922,3743.3505859375,335,219.97555541992187,16,269.5,10,0,-103,7663]
["2009-10-12T02:39:00",59.980998992919922,3741.6181640625,335,219.97555541992187,16,270,10,0,-103,7664]
["2009-10-12T02:39:03",59.981998443603516,3738.484375,335,219.97555541992187,16,270.5,10,0,-103,7664]
["2009-10-12T02:39:06",59.984001159667969,3738.9013671875,335,219.97555541992187,16,271,10,0,-103,7665]
["2009-10-12T02:39:09",59.981998443603516,3737.273193359375,335,229.08924865722656,16,271.5,10,0,-103,7666]
["2009-10-12T02:39:12",59.979000091552734,3736.308349609375,335,229.08924865722656,16,272,10,0,-103,7666]
["2009-10-12T02:39:15",59.979999542236328,3735.4482421875,335,229.08924865722656,16,272.5,10,0,-103,7667]
["2009-10-12T02:39:18",59.978000640869141,3735.649658203125,335,229.08924865722656,16,273,10,0,-103,7668]
["2009-10-12T02:39:21",59.979999542236328,3738.011962890625,335,229.08924865722656,16,273.5,10,0,-103,7668]
["2009-10-12T02:39:24",59.979999542236328,3736.74755859375,335,229.66326904296875,16,274,10,0,-103,7669]
["2009-10-12T02:39:27",59.978000640869141,3736.0673828125,335,229.66326904296875,16,274.5,10,0,-103,7669]
["2009-10-12T02:39:30",59.972000122070313,3736.09423828125,335,229.66326904296875,16,275,10,0,-103,7670]
["2009-10-12T02:39:33",59.971000671386719,3738.571044921875,335,229.66326904296875,16,275.5,10,0,-103,7670]
["2009-10-12T02:39:36",59.9739990234375,3738.874755859375,335,229.66326904296875,16,276,10,0,-103,7671]
["2009-10-12T02:39:39",59.974998474121094,3738.64697265625,335,229.23385620117187,16,276.5,10,0,-103,7671]
["2009-10-12T02:39:42",59.972000122070313,3737.68408203125,335,229.23385620117187,16,277,10,0,-103,7672]
["2009-10-12T02:39:45",59.969001770019531,3737.89208984375,335,229.23385620117187,16,277.5,10,0,-103,7673]
["2009-10-12T02:39:48",59.9739990234375,3740.016845703125,335,229.23385620117187,16,278,10,0,-103,7673]
["2009-10-12T02:39:51",59.972000122070313,3742.052734375,350,229.23385620117187,16,278.5,10,0,-103,7673]
["2009-10-12T02:39:54",59.972000122070313,3742.423828125,350,231.40988159179687,16,279,10,0,-103,7673]
["2009-10-12T02:39:57",59.977001190185547,3742.2451171875,350,231.40988159179687,16,279.5,10,0,-103,7673]
["2009-10-12T02:40:00",59.978000640869141,3741.72314453125,350,231.40988159179687,16,280,10,0,-103,7673]
["2009-10-12T02:40:03",59.976001739501953,3740.629150390625,350,231.40988159179687,16,280.5,10,0,-103,7673]
["2009-10-12T02:40:06",59.9739990234375,3739.96435546875,350,231.40988159179687,16,281,10,0,-103,7673]
["2009-10-12T02:40:09",59.977001190185547,3742.83251953125,350,218.62228393554687,16,281.5,10,0,-103,7673]
["2009-10-12T02:40:12",59.978000640869141,3741.267822265625,350,218.62228393554687,16,282,10,0,-103,7673]
["2009-10-12T02:40:15",59.979000091552734,3738.9658203125,350,218.62228393554687,16,282.5,10,0,-103,7673]
["2009-10-12T02:40:18",59.977001190185547,3738.7060546875,350,218.62228393554687,16,283,10,0,-103,7673]
["2009-10-12T02:40:21",59.9739990234375,3739.859619140625,350,218.62228393554687,16,283.5,10,0,-103,7673]
["2009-10-12T02:40:24",59.971000671386719,3738.1015625,350,213.53585815429687,16,284,10,0,-103,7673]
["2009-10-12T02:40:27",59.971000671386719,3743.5068359375,350,213.53585815429687,16,284.5,10,0,-103,7673]
["2009-10-12T02:40:30",59.967998504638672,3743.418701171875,350,213.53585815429687,16,285,10,0,-103,7673]
["2009-10-12T02:40:33",59.965999603271484,3745.744140625,350,213.53585815429687,16,285.5,10,0,-103,7674]
["2009-10-12T02:40:36",59.971000671386719,3747.339599609375,350,213.53585815429687,16,286,10,0,-103,7675]
["2009-10-12T02:40:39",59.972999572753906,3749.75,350,225.65185546875,16,286.5,10,0,-103,7676]
["2009-10-12T02:40:42",59.969001770019531,3746.216552734375,350,225.65185546875,16,287,10,0,-103,7677]
["2009-10-12T02:40:45",59.972000122070313,3743.7451171875,350,225.65185546875,16,287.5,10,0,-103,7678]
["2009-10-12T02:40:48",59.972999572753906,3743.14892578125,350,225.65185546875,16,288,10,0,-103,7679]
["2009-10-12T02:40:51",59.970001220703125,3739.45263671875,350,225.65185546875,16,288.5,10,0,-103,7680]
["2009-10-12T02:40:54",59.9739990234375,3733.3759765625,350,212.57363891601562,16,289,10,0,-103,7681]
["2009-10-12T02:40:57",59.981998443603516,3737.58251953125,350,212.57363891601562,16,289.5,10,0,-103,7682]
["2009-10-12T02:41:00",59.985000610351563,3736.2294921875,350,212.57363891601562,16,290,10,0,-103,7684]
["2009-10-12T02:41:03",59.985000610351563,3733.433837890625,350,212.57363891601562,16,290.5,10,0,-103,7685]
["2009-10-12T02:41:06",59.988998413085937,3733.115234375,350,212.57363891601562,16,291,10,0,-103,7687]
["2009-10-12T02:41:09",59.988998413085937,3729.18017578125,350,219.89729309082031,16,291.5,10,0,-103,7689]
["2009-10-12T02:41:12",59.98699951171875,3725.458740234375,350,219.89729309082031,16,292,10,0,-103,7690]
["2009-10-12T02:41:15",59.990001678466797,3720.10791015625,350,219.89729309082031,16,292.5,10,0,-103,7692]
["2009-10-12T02:41:18",59.995998382568359,3720.938232421875,350,219.89729309082031,16,293,10,0,-103,7692]
["2009-10-12T02:41:21",60.000999450683594,3725.6767578125,350,219.89729309082031,16,293.5,10,0,-103,7693]
["2009-10-12T02:41:24",60.004001617431641,3727.754150390625,350,231.17539978027344,16,294,10,0,-103,7693]
["2009-10-12T02:41:27",60.006000518798828,3727.683349609375,350,231.17539978027344,16,294.5,10,0,-103,7694]
["2009-10-12T02:41:30",60.013999938964844,3727.2314453125,350,231.17539978027344,16,295,10,0,-103,7694]
["2009-10-12T02:41:33",60.019001007080078,3726.4462890625,350,231.17539978027344,16,295.5,10,0,-103,7695]
["2009-10-12T02:41:36",60.025001525878906,3726.015625,350,231.17539978027344,16,296,10,0,-103,7695]
["2009-10-12T02:41:39",60.0260009765625,3716.37451171875,350,226.63412475585937,16,296.5,10,0,-103,7695]
["2009-10-12T02:41:42",60.028999328613281,3717.33251953125,350,226.63412475585937,16,297,10,0,-103,7696]
["2009-10-12T02:41:45",60.028999328613281,3717.14208984375,350,226.63412475585937,16,297.5,10,0,-103,7696]
["2009-10-12T02:41:48",60.035999298095703,3715.166015625,350,226.63412475585937,16,298,10,0,-103,7697]
["2009-10-12T02:41:51",60.036998748779297,3710.283447265625,350,226.63412475585937,16,298.5,10,0,-103,7697]
["2009-10-12T02:41:54",60.035999298095703,3710.15771484375,350,227.25506591796875,16,299,10,0,-103,7697]
["2009-10-12T02:41:57",60.041000366210938,3698.591064453125,350,227.25506591796875,16,299.5,10,0,-103,7698]
["2009-10-12T02:42:00",60.043998718261719,3704.59130859375,350,227.25506591796875,16,300,10,0,-103,7698]
["2009-10-12T02:42:03",60.042999267578125,3702.482421875,350,227.25506591796875,16,300.5,10,0,-103,7698.33]
["2009-10-12T02:42:06",60.048000335693359,3701.31640625,350,227.25506591796875,16,301,10,0,-103,7698.66]
["2009-10-12T02:42:09",60.046001434326172,3699.528564453125,350,229.29022216796875,16,301.5,10,0,-103,7698.99]
["2009-10-12T02:42:12",60.042999267578125,3699.72607421875,350,229.29022216796875,16,302,10,0,-103,7699.32]
["2009-10-12T02:42:15",60.042999267578125,3690.477294921875,350,229.29022216796875,16,302.5,10,0,-103,7699.65]
["2009-10-12T02:42:18",60.042999267578125,3696.864501953125,350,229.29022216796875,16,303,10,0,-103,7699.98]
["2009-10-12T02:42:21",60.042999267578125,3696.181884765625,350,229.29022216796875,16,303.5,10,0,-103,7700.31]
["2009-10-12T02:42:24",60.040000915527344,3696.541259765625,350,221.46136474609375,16,304,10,0,-103,7700.64]
["2009-10-12T02:42:27",60.041000366210938,3698.68603515625,350,221.46136474609375,16,304.5,10,0,-103,7700.97]
["2009-10-12T02:42:30",60.03900146484375,3699.630615234375,350,221.46136474609375,16,305,10,0,-103,7701.3]
["2009-10-12T02:42:33",60.035999298095703,3699.712158203125,350,221.46136474609375,16,305.5,10,0,-103,7701.63]
["2009-10-12T02:42:36",60.033000946044922,3700.105712890625,350,221.46136474609375,16,306,10,0,-103,7701.96]
["2009-10-12T02:42:39",60.034000396728516,3701.121826171875,350,241.27436828613281,16,306.5,10,0,-103,7702.29]
["2009-10-12T02:42:42",60.036998748779297,3701.865234375,350,241.27436828613281,16,307,10,0,-103,7702.62]
["2009-10-12T02:42:45",60.034999847412109,3701.997802734375,350,241.27436828613281,16,307.5,10,0,-103,7702.95]
["2009-10-12T02:42:48",60.033000946044922,3702.91259765625,350,241.27436828613281,16,308,10,0,-103,7703.28]
["2009-10-12T02:42:51",60.035999298095703,3705.5224609375,350,241.27436828613281,16,308.5,10,0,-103,7703.61]
["2009-10-12T02:42:54",60.034000396728516,3704.966796875,350,243.07185363769531,16,309,10,0,-103,7703.94]
["2009-10-12T02:42:57",60.032001495361328,3702.770751953125,350,243.07185363769531,16,309.5,10,0,-103,7704.27]
["2009-10-12T02:43:00",60.034000396728516,3703.706298828125,350,243.07185363769531,16,310,10,0,-103,7704.6]
["2009-10-12T02:43:03",60.033000946044922,3705.435302734375,350,243.07185363769531,16,310.5,10,0,-103,7704.93]
["2009-10-12T02:43:06",60.034999847412109,3704.360107421875,350,243.07185363769531,16,311,10,0,-103,7705.26]
["2009-10-12T02:43:09",60.034999847412109,3702.204345703125,350,241.67021179199219,16,311.5,10,0,-103,7705.59]
["2009-10-12T02:43:12",60.03900146484375,3701.94189453125,350,241.67021179199219,16,312,10,0,-103,7705.92]
["2009-10-12T02:43:15",60.036998748779297,3703.31787109375,350,241.67021179199219,16,312.5,10,0,-103,7706.25]
["2009-10-12T02:43:18",60.035999298095703,3702.45703125,350,241.67021179199219,16,313,10,0,-103,7706.58]
["2009-10-12T02:43:21",60.034000396728516,3703.2685546875,350,241.67021179199219,16,313.5,10,0,-103,7706.91]
["2009-10-12T02:43:24",60.036998748779297,3703.843505859375,350,228.14930725097656,16,314,10,0,-103,7707.24]
["2009-10-12T02:43:27",60.036998748779297,3702.517578125,350,228.14930725097656,16,314.5,10,0,-103,7707.57]
["2009-10-12T02:43:30",60.037998199462891,3702.279541015625,350,228.14930725097656,16,315,10,0,-103,7707.9]
["2009-10-12T02:43:33",60.040000915527344,3692.177978515625,350,228.14930725097656,16,315.5,10,0,-103,7708.23]
["2009-10-12T02:43:36",60.044998168945313,3700.27587890625,350,228.14930725097656,16,316,10,0,-103,7708.56]
["2009-10-12T02:43:39",60.044998168945313,3697.728515625,350,235.12898254394531,16,316.5,10,0,-103,7708.89]
["2009-10-12T02:43:42",60.042999267578125,3696.916015625,350,235.12898254394531,16,317,10,0,-103,7709.22]
["2009-10-12T02:43:45",60.040000915527344,3697.345947265625,350,235.12898254394531,16,317.5,10,0,-103,7709.55]
["2009-10-12T02:43:48",60.046001434326172,3698.42919921875,350,235.12898254394531,16,318,10,0,-103,7709.88]
["2009-10-12T02:43:51",60.041999816894531,3693.583740234375,350,235.12898254394531,16,318.5,10,0,-103,7710.21]
["2009-10-12T02:43:54",60.03900146484375,3693.24072265625,350,246.43313598632812,16,319,10,0,-103,7710.54]
["2009-10-12T02:43:57",60.03900146484375,3699.3642578125,350,246.43313598632812,16,319.5,10,0,-103,7710.87]
["2009-10-12T02:44:00",60.036998748779297,3701.791015625,350,246.43313598632812,16,320,10,0,-103,7711.2]
["2009-10-12T02:44:03",60.034000396728516,3700.75341796875,350,246.43313598632812,16,320.5,10,0,-103,7711.53]
["2009-10-12T02:44:06",60.032001495361328,3702.14794921875,350,246.43313598632812,16,321,10,0,-103,7711.86]
["2009-10-12T02:44:09",60.030998229980469,3707.52099609375,350,236.55354309082031,16,321.5,10,0,-103,7712.19]
["2009-10-12T02:44:12",60.027000427246094,3707.28662109375,350,236.55354309082031,16,322,10,0,-103,7712.52]
["2009-10-12T02:44:15",60.030998229980469,3707.34033203125,350,236.55354309082031,16,322.5,10,0,-103,7712.85]
["2009-10-12T02:44:18",60.030998229980469,3707.91650390625,350,236.55354309082031,16,323,10,0,-103,7713.18]
["2009-10-12T02:44:21",60.030998229980469,3706.857421875,350,236.55354309082031,16,323.5,10,0,-103,7713.51]
["2009-10-12T02:44:24",60.03900146484375,3707.615234375,350,230.29756164550781,16,324,10,0,-103,7713.84]
["2009-10-12T02:44:27",60.03900146484375,3703.74609375,350,230.29756164550781,16,324.5,10,0,-103,7714.17]
["2009-10-12T02:44:30",60.036998748779297,3701.58203125,350,230.29756164550781,16,325,10,0,-103,7714.5]
["2009-10-12T02:44:33",60.034999847412109,3701.20751953125,350,230.29756164550781,16,325.5,10,0,-103,7714.83]
["2009-10-12T02:44:36",60.040000915527344,3702.212158203125,350,230.29756164550781,16,326,10,0,-103,7715.16]
["2009-10-12T02:44:39",60.041999816894531,3700.3974609375,350,231.175537109375,16,326.5,10,0,-103,7715.49]
["2009-10-12T02:44:42",60.035999298095703,3699.689697265625,350,231.175537109375,16,327,10,0,-103,7715.82]
["2009-10-12T02:44:45",60.040000915527344,3700.8271484375,350,231.175537109375,16,327.5,10,0,-103,7716.15]
["2009-10-12T02:44:48",60.044998168945313,3700.66162109375,350,231.175537109375,16,328,10,0,-103,7716.48]
["2009-10-12T02:44:51",60.048000335693359,3695.688232421875,350,231.175537109375,16,328.5,10,0,-103,7716.81]
["2009-10-12T02:44:54",60.043998718261719,3695.818603515625,350,225.61763000488281,16,329,10,0,-103,7717.14]
["2009-10-12T02:44:57",60.043998718261719,3694.799072265625,350,225.61763000488281,16,329.5,10,0,-103,7717.47]
["2009-10-12T02:45:00",60.043998718261719,3696.89697265625,350,225.61763000488281,16,330,10,0,-103,7717.8]
["2009-10-12T02:45:03",60.040000915527344,3696.022705078125,350,225.61763000488281,16,330.5,10,0,-103,7718.13]
["2009-10-12T02:45:06",60.044998168945313,3698.42431640625,350,225.61763000488281,16,331,10,0,-103,7718.46]
["2009-10-12T02:45:09",60.043998718261719,3700.1767578125,350,230.73442077636719,16,331.5,10,0,-103,7718.79]
["2009-10-12T02:45:12",60.03900146484375,3699.806396484375,350,230.73442077636719,16,332,10,0,-103,7719.12]
["2009-10-12T02:45:15",60.041999816894531,3697.6806640625,350,230.73442077636719,16,332.5,10,0,-103,7719.45]
["2009-10-12T02:45:18",60.041000366210938,3698.50732421875,350,230.73442077636719,16,333,10,0,-103,7719.78]
["2009-10-12T02:45:21",60.037998199462891,3698.4658203125,350,230.73442077636719,16,333.5,10,0,-103,7720.11]
["2009-10-12T02:45:24",60.036998748779297,3699.0771484375,350,234.84710693359375,16,334,10,0,-103,7720.44]
["2009-10-12T02:45:27",60.03900146484375,3701.591796875,350,234.84710693359375,16,334.5,10,0,-103,7720.77]
["2009-10-12T02:45:30",60.040000915527344,3700.90234375,350,234.84710693359375,16,335,10,0,-103,7721.1]
["2009-10-12T02:45:33",60.03900146484375,3700.27001953125,350,234.84710693359375,16,335.5,10,0,-103,7721.43]
["2009-10-12T02:45:36",60.037998199462891,3701.139404296875,350,234.84710693359375,16,336,10,0,-103,7721.76]
["2009-10-12T02:45:39",60.03900146484375,3700.264404296875,350,228.96092224121094,16,336.5,10,0,-103,7722.09]
["2009-10-12T02:45:42",60.036998748779297,3699.45849609375,350,228.96092224121094,16,337,10,0,-103,7722.42]
["2009-10-12T02:45:45",60.036998748779297,3700.45751953125,350,228.96092224121094,16,337.5,10,0,-103,7722.75]
["2009-10-12T02:45:48",60.03900146484375,3699.505126953125,350,228.96092224121094,16,338,10,0,-103,7723.08]
["2009-10-12T02:45:51",60.037998199462891,3699.216064453125,350,228.96092224121094,16,338.5,10,0,-103,7723.41]
["2009-10-12T02:45:54",60.034999847412109,3699.400390625,350,231.17791748046875,16,339,10,0,-103,7723.74]
["2009-10-12T02:45:57",60.033000946044922,3702.173095703125,350,231.17791748046875,16,339.5,10,0,-103,7724.07]
["2009-10-12T02:46:00",60.029998779296875,3702.967529296875,350,231.17791748046875,16,340,10,0,-103,7724.4]
["2009-10-12T02:46:03",60.032001495361328,3704.95166015625,350,231.17791748046875,16,340.5,10,0,-103,7724.73]
["2009-10-12T02:46:06",60.036998748779297,3705.775146484375,350,231.17791748046875,16,341,10,0,-103,7725.06]
["2009-10-12T02:46:09",60.041999816894531,3703.744140625,350,236.48928833007812,16,341.5,10,0,-103,7725.39]
["2009-10-12T02:46:12",60.035999298095703,3701.981201171875,350,236.48928833007812,16,342,10,0,-103,7725.72]
["2009-10-12T02:46:15",60.030998229980469,3700.7470703125,350,236.48928833007812,16,342.5,10,0,-103,7726.05]
["2009-10-12T02:46:18",60.030998229980469,3702.212646484375,350,236.48928833007812,16,343,10,0,-103,7726.38]
["2009-10-12T02:46:21",60.034000396728516,3705.513671875,350,236.48928833007812,16,343.5,10,0,-103,7726.71]
["2009-10-12T02:46:24",60.032001495361328,3704.44873046875,350,245.03892517089844,16,344,10,0,-103,7727.04]
["2009-10-12T02:46:27",60.037998199462891,3703.61962890625,350,245.03892517089844,16,344.5,10,0,-103,7727.37]
["2009-10-12T02:46:30",60.043998718261719,3702.79541015625,350,245.03892517089844,16,345,10,0,-103,7727.7]
["2009-10-12T02:46:33",60.041999816894531,3697.38037109375,350,245.03892517089844,16,345.5,10,0,-103,7728.03]
["2009-10-12T02:46:36",60.040000915527344,3696.24951171875,350,245.03892517089844,16,346,10,0,-103,7728.36]
["2009-10-12T02:46:39",60.040000915527344,3693.51806640625,350,223.60568237304687,16,346.5,10,0,-103,7728.69]
["2009-10-12T02:46:42",60.042999267578125,3693.5771484375,350,223.60568237304687,16,347,10,0,-103,7729.02]
["2009-10-12T02:46:45",60.041000366210938,3695.185546875,350,223.60568237304687,16,347.5,10,0,-103,7729.35]
["2009-10-12T02:46:48",60.037998199462891,3693.7861328125,350,223.60568237304687,16,348,10,0,-103,7729.68]
["2009-10-12T02:46:51",60.042999267578125,3694.92626953125,350,223.60568237304687,16,348.5,10,0,-103,7730.01]
["2009-10-12T02:46:54",60.041999816894531,3694.937744140625,350,231.11935424804687,16,349,10,0,-103,7730.34]
["2009-10-12T02:46:57",60.035999298095703,3691.330078125,350,231.11935424804687,16,349.5,10,0,-103,7730.67]
["2009-10-12T02:47:00",60.041000366210938,3692.686279296875,350,231.11935424804687,16,350,10,0,-103,7731]
["2009-10-12T02:47:03",60.041999816894531,3693.39013671875,350,231.11935424804687,16,350.5,10,0,-103,7731.33]
["2009-10-12T02:47:06",60.042999267578125,3692.35693359375,350,231.11935424804687,16,351,10,0,-103,7731.66]
["2009-10-12T02:47:09",60.035999298095703,3690.836181640625,350,237.20664978027344,16,351.5,10,0,-103,7731.99]
["2009-10-12T02:47:12",60.03900146484375,3692.042236328125,350,237.20664978027344,16,352,10,0,-103,7732.32]
["2009-10-12T02:47:15",60.036998748779297,3694.1171875,350,237.20664978027344,16,352.5,10,0,-103,7732.65]
["2009-10-12T02:47:18",60.034999847412109,3695.25830078125,350,237.20664978027344,16,353,10,0,-103,7732.98]
["2009-10-12T02:47:21",60.034999847412109,3695.94921875,350,237.20664978027344,16,353.5,10,0,-103,7733.31]
["2009-10-12T02:47:24",60.035999298095703,3695.4912109375,350,240.51637268066406,16,354,10,0,-103,7733.64]
["2009-10-12T02:47:27",60.029998779296875,3696.486328125,350,240.51637268066406,16,354.5,10,0,-103,7733.97]
["2009-10-12T02:47:30",60.029998779296875,3697.335693359375,350,240.51637268066406,16,355,10,0,-103,7734.3]
["2009-10-12T02:47:33",60.030998229980469,3699.35693359375,350,240.51637268066406,16,355.5,10,0,-103,7734.63]
["2009-10-12T02:47:36",60.032001495361328,3699.251220703125,350,240.51637268066406,16,356,10,0,-103,7734.96]
["2009-10-12T02:47:39",60.030998229980469,3699.105224609375,350,237.56605529785156,16,356.5,10,0,-103,7735.29]
["2009-10-12T02:47:42",60.032001495361328,3699.12646484375,350,237.56605529785156,16,357,10,0,-103,7735.62]
["2009-10-12T02:47:45",60.032001495361328,3698.135986328125,350,237.56605529785156,16,357.5,10,0,-103,7735.95]
["2009-10-12T02:47:48",60.036998748779297,3698.27734375,350,237.56605529785156,16,358,10,0,-103,7736.28]
["2009-10-12T02:47:51",60.040000915527344,3695.9404296875,350,237.56605529785156,16,358.5,10,0,-103,7736.61]
["2009-10-12T02:47:54",60.041999816894531,3693.73583984375,350,231.5814208984375,16,359,10,0,-103,7736.94]
["2009-10-12T02:47:57",60.035999298095703,3691.758544921875,350,231.5814208984375,16,359.5,10,0,-103,7737.27]
["2009-10-12T02:48:00",60.041000366210938,3691.9189453125,350,231.5814208984375,16,360,10,0,-103,7737.6]
["2009-10-12T02:48:03",60.040000915527344,3691.58154296875,350,231.5814208984375,16,360.5,10,0,-103,7737.93]
["2009-10-12T02:48:06",60.035999298095703,3692.37353515625,350,231.5814208984375,16,361,10,0,-103,7738.26]
["2009-10-12T02:48:09",60.037998199462891,3694.710205078125,350,235.85084533691406,16,361.5,10,0,-103,7738.59]
["2009-10-12T02:48:12",60.041000366210938,3694.331298828125,350,235.85084533691406,16,362,10,0,-103,7738.92]
["2009-10-12T02:48:15",60.040000915527344,3693.6171875,350,235.85084533691406,16,362.5,10,0,-103,7739.25]
["2009-10-12T02:48:18",60.033000946044922,3694.323974609375,350,235.85084533691406,16,363,10,0,-103,7739.58]
["2009-10-12T02:48:21",60.034000396728516,3694.660400390625,350,235.85084533691406,16,363.5,10,0,-103,7739.91]
["2009-10-12T02:48:24",60.040000915527344,3693.74755859375,350,233.55998229980469,16,364,10,0,-103,7740.24]
["2009-10-12T02:48:27",60.041000366210938,3691.4453125,350,233.55998229980469,16,364.5,10,0,-103,7740.57]
["2009-10-12T02:48:30",60.036998748779297,3691.01171875,350,233.55998229980469,16,365,10,0,-103,7740.9]
["2009-10-12T02:48:33",60.035999298095703,3693.07666015625,350,233.55998229980469,16,365.5,10,0,-103,7741.23]
["2009-10-12T02:48:36",60.037998199462891,3693.72705078125,350,233.55998229980469,16,366,10,0,-103,7741.56]
["2009-10-12T02:48:39",60.03900146484375,3692.640625,350,219.00999450683594,16,366.5,10,0,-103,7741.89]
["2009-10-12T02:48:42",60.034000396728516,3688.159423828125,350,219.00999450683594,16,367,10,0,-103,7742.22]
["2009-10-12T02:48:45",60.033000946044922,3688.20849609375,350,219.00999450683594,16,367.5,10,0,-103,7742.55]
["2009-10-12T02:48:48",60.034000396728516,3690.091796875,350,219.00999450683594,16,368,10,0,-103,7742.88]
["2009-10-12T02:48:51",60.028999328613281,3693.32080078125,350,219.00999450683594,16,368.5,10,0,-103,7743.21]
["2009-10-12T02:48:54",60.030998229980469,3694.59326171875,350,205.33891296386719,16,369,10,0,-103,7743.54]
["2009-10-12T02:48:57",60.029998779296875,3694.60888671875,350,205.33891296386719,16,369.5,10,0,-103,7743.87]
["2009-10-12T02:49:00",60.0260009765625,3693.41162109375,350,205.33891296386719,16,370,10,0,-103,7744.2]
["2009-10-12T02:49:03",60.021999359130859,3696.02587890625,350,205.33891296386719,16,370.5,10,0,-103,7744.53]
["2009-10-12T02:49:06",60.023998260498047,3698.01220703125,350,205.33891296386719,16,371,10,0,-103,7744.86]
["2009-10-12T02:49:09",60.022998809814453,3699.414306640625,350,236.28535461425781,16,371.5,10,0,-103,7745.19]
["2009-10-12T02:49:12",60.020999908447266,3698.93505859375,350,236.28535461425781,16,372,10,0,-103,7745.52]
["2009-10-12T02:49:15",60.022998809814453,3700.544189453125,350,236.28535461425781,16,372.5,10,0,-103,7745.85]
["2009-10-12T02:49:18",60.0260009765625,3700.48583984375,350,236.28535461425781,16,373,10,0,-103,7746.18]
["2009-10-12T02:49:21",60.0260009765625,3697.960693359375,350,236.28535461425781,16,373.5,10,0,-103,7746.51]
["2009-10-12T02:49:24",60.023998260498047,3699.913818359375,350,223.01573181152344,16,374,10,0,-103,7746.84]
["2009-10-12T02:49:27",60.023998260498047,3701.30126953125,350,223.01573181152344,16,374.5,10,0,-103,7747.17]
["2009-10-12T02:49:30",60.022998809814453,3701.4501953125,350,223.01573181152344,16,375,10,0,-103,7747.5]
["2009-10-12T02:49:33",60.022998809814453,3701.09375,350,223.01573181152344,16,375.5,10,0,-103,7747.83]
["2009-10-12T02:49:36",60.0260009765625,3701.70166015625,350,223.01573181152344,16,376,10,0,-103,7748.16]
["2009-10-12T02:49:39",60.028999328613281,3701.96484375,350,223.01573181152344,16,376.5,10,0,-103,7748.49]
["2009-10-12T02:49:42",60.023998260498047,3700.268798828125,350,223.01573181152344,16,377,10,0,-103,7748.82]
["2009-10-12T02:49:45",60.020999908447266,3701.08984375,350,223.01573181152344,16,377.5,10,0,-103,7749.15]
["2009-10-12T02:49:48",60.025001525878906,3701.26806640625,350,223.01573181152344,16,378,10,0,-103,7749.48]
["2009-10-12T02:49:51",60.025001525878906,3700.58740234375,350,223.01573181152344,16,378.5,10,0,-103,7749.81]
["2009-10-12T02:49:54",60.0260009765625,3700.53173828125,350,223.01573181152344,16,379,10,0,-103,7750.14]
["2009-10-12T02:49:57",60.023998260498047,3700.29541015625,350,223.01573181152344,16,379.5,10,0,-103,7750.47]
["2009-10-12T02:50:00",60.022998809814453,3700.27734375,350,223.01573181152344,16,380,10,0,-103,7750.8]
["2009-10-12T02:50:03",60.0260009765625,3700.86279296875,350,223.01573181152344,16,380.5,10,0,-103,7751.13]
["2009-10-12T02:50:06",60.020000457763672,3700.26025390625,350,223.01573181152344,16,381,10,0,-103,7751.46]
["2009-10-12T02:50:09",60.020000457763672,3699.925537109375,350,223.01573181152344,16,381.5,10,0,-103,7751.79]
["2009-10-12T02:50:12",60.014999389648438,3700.96484375,350,223.01573181152344,16,382,10,0,-103,7752.12]
["2009-10-12T02:50:15",60.015998840332031,3703.51611328125,350,223.01573181152344,16,382.5,10,0,-103,7752.45]
["2009-10-12T02:50:18",60.014999389648438,3703.82373046875,350,223.01573181152344,16,383,10,0,-103,7752.78]
["2009-10-12T02:50:21",60.014999389648438,3703.689453125,350,223.01573181152344,16,383.5,10,0,-103,7753.11]
["2009-10-12T02:50:24",60.016998291015625,3703.00341796875,350,223.01573181152344,16,384,10,0,-103,7753.44]
["2009-10-12T02:50:27",60.012001037597656,3702.99951171875,350,223.01573181152344,16,384.5,10,0,-103,7753.77]
["2009-10-12T02:50:30",60.007999420166016,3703.166748046875,350,223.01573181152344,16,385,10,0,-103,7754.1]
["2009-10-12T02:50:33",60.001998901367188,3703.61572265625,350,223.01573181152344,16,385.5,10,0,-103,7754.43]
["2009-10-12T02:50:36",59.999000549316406,3703.775390625,350,223.01573181152344,16,386,10,0,-103,7754.76]
["2009-10-12T02:50:39",60.001998901367188,3701.53369140625,350,223.01573181152344,16,386.5,10,0,-103,7755.09]
["2009-10-12T02:50:42",60.004001617431641,3700.61669921875,350,223.01573181152344,16,387,10,0,-103,7755.42]
["2009-10-12T02:50:45",60.000999450683594,3700.625244140625,350,223.01573181152344,16,387.5,10,0,-103,7755.75]
["2009-10-12T02:50:48",59.993000030517578,3701.388916015625,350,223.01573181152344,16,388,10,0,-103,7756.08]
["2009-10-12T02:50:51",59.992000579833984,3700.67138671875,350,223.01573181152344,16,388.5,10,0,-103,7756.41]
["2009-10-12T02:50:54",59.98699951171875,3700.826416015625,350,223.01573181152344,16,389,10,0,-103,7756.74]
["2009-10-12T02:50:57",59.985000610351563,3700.699951171875,350,223.01573181152344,16,389.5,10,0,-103,7757.07]
["2009-10-12T02:51:00",59.986000061035156,3699.853759765625,350,223.01573181152344,16,390,10,0,-103,7757.4]
["2009-10-12T02:51:03",59.984001159667969,3700.34228515625,350,223.01573181152344,16,390.5,10,0,-103,7757.73]
["2009-10-12T02:51:06",59.979999542236328,3700.769775390625,350,223.01573181152344,16,391,10,0,-103,7758.06]
["2009-10-12T02:51:09",59.977001190185547,3701.625244140625,350,223.01573181152344,16,391.5,10,0,-103,7758.39]
["2009-10-12T02:51:12",59.976001739501953,3703.165771484375,350,223.01573181152344,16,392,10,0,-103,7758.72]
["2009-10-12T02:51:15",59.972000122070313,3704.78466796875,350,223.01573181152344,16,392.5,10,0,-103,7759.05]
["2009-10-12T02:51:18",59.977001190185547,3705.810546875,350,223.01573181152344,16,393,10,0,-103,7759.38]
["2009-10-12T02:51:21",59.974998474121094,3706.68798828125,350,223.01573181152344,16,393.5,10,0,-103,7759.71]
["2009-10-12T02:51:24",59.971000671386719,3706.54296875,350,223.01573181152344,16,394,10,0,-103,7760.04]
["2009-10-12T02:51:27",59.971000671386719,3707.026611328125,350,223.01573181152344,16,394.5,10,0,-103,7760.37]
["2009-10-12T02:51:30",59.979000091552734,3710.1181640625,350,223.01573181152344,16,395,10,0,-103,7760.7]
["2009-10-12T02:51:33",59.979999542236328,3708.70068359375,350,223.01573181152344,16,395.5,10,0,-103,7761.03]
["2009-10-12T02:51:36",59.981998443603516,3708.01806640625,350,223.01573181152344,16,396,10,0,-103,7761.36]
["2009-10-12T02:51:39",59.981998443603516,3706.342529296875,350,223.01573181152344,16,396.5,10,0,-103,7761.69]
["2009-10-12T02:51:42",59.980998992919922,3706.12548828125,350,223.01573181152344,16,397,10,0,-103,7762.02]
["2009-10-12T02:51:45",59.979000091552734,3706.11865234375,350,223.01573181152344,16,397.5,10,0,-103,7762.35]
["2009-10-12T02:51:48",59.976001739501953,3706.1904296875,350,223.01573181152344,16,398,10,0,-103,7762.68]
["2009-10-12T02:51:51",59.978000640869141,3709.408935546875,350,223.01573181152344,16,398.5,10,0,-103,7763.01]
["2009-10-12T02:51:54",59.976001739501953,3708.971435546875,350,223.01573181152344,16,399,10,0,-103,7763.34]
["2009-10-12T02:51:57",59.978000640869141,3708.07080078125,350,223.01573181152344,16,399.5,10,0,-103,7763.67]
["2009-10-12T02:52:00",59.971000671386719,3707.239990234375,350,223.01573181152344,16,400,10,0,-103,7764]
["2009-10-12T02:52:03",59.970001220703125,3709.961181640625,350,223.01573181152344,16,400.5,10,0,-103,7764.33]
["2009-10-12T02:52:06",59.971000671386719,3711.75,350,223.01573181152344,16,401,10,0,-103,7764.66]
["2009-10-12T02:52:09",59.990001678466797,3710.6953125,350,223.01573181152344,16,401.5,10,0,-103,7764.99]
["2009-10-12T02:52:12",59.999000549316406,3707.86669921875,350,223.01573181152344,16,402,10,0,-103,7765.32]
["2009-10-12T02:52:15",59.999000549316406,3705.63916015625,350,223.01573181152344,16,402.5,10,0,-103,7765.65]
["2009-10-12T02:52:18",59.999000549316406,3703.786865234375,350,223.01573181152344,16,403,10,0,-103,7765.98]
["2009-10-12T02:52:21",60.002998352050781,3702.070556640625,350,223.01573181152344,16,403.5,10,0,-103,7766.31]
["2009-10-12T02:52:24",60.005001068115234,3699.510009765625,350,223.01573181152344,16,404,10,0,-103,7766.64]
["2009-10-12T02:52:27",60.009998321533203,3698.13671875,350,223.01573181152344,16,404.5,10,0,-103,7766.97]
["2009-10-12T02:52:30",60.020000457763672,3697.882080078125,350,223.01573181152344,16,405,10,0,-103,7767.3]
["2009-10-12T02:52:33",60.021999359130859,3698.6044921875,350,223.01573181152344,16,405.5,10,0,-103,7767.63]
["2009-10-12T02:52:36",60.025001525878906,3697.868408203125,350,223.01573181152344,16,406,10,0,-103,7767.96]
["2009-10-12T02:52:39",60.025001525878906,3693.912109375,350,223.01573181152344,16,406.5,10,0,-103,7768.29]
["2009-10-12T02:52:42",60.022998809814453,3693.417724609375,350,223.01573181152344,16,407,10,0,-103,7768.62]
["2009-10-12T02:52:45",60.028999328613281,3688.02099609375,350,223.01573181152344,16,407.5,10,0,-103,7768.95]
["2009-10-12T02:52:48",60.028999328613281,3689.14306640625,350,223.01573181152344,16,408,10,0,-103,7769.28]
["2009-10-12T02:52:51",60.027999877929687,3687.8779296875,350,223.01573181152344,16,408.5,10,0,-103,7769.61]
["2009-10-12T02:52:54",60.030998229980469,3687.0263671875,350,223.01573181152344,16,409,10,0,-103,7769.94]
["2009-10-12T02:52:57",60.032001495361328,3685.275634765625,350,223.01573181152344,16,409.5,10,0,-103,7770.27]
["2009-10-12T02:53:00",60.033000946044922,3685.576171875,350,223.01573181152344,16,410,10,0,-103,7770.6]
["2009-10-12T02:53:03",60.029998779296875,3685.98486328125,350,223.01573181152344,16,410.5,10,0,-103,7770.93]
["2009-10-12T02:53:06",60.020999908447266,3687.158935546875,350,223.01573181152344,16,411,10,0,-103,7771.26]
["2009-10-12T02:53:09",60.019001007080078,3688.9970703125,350,223.01573181152344,16,411.5,10,0,-103,7771.59]
["2009-10-12T02:53:12",60.016998291015625,3690.42578125,350,223.01573181152344,16,412,10,0,-103,7771.92]
["2009-10-12T02:53:15",60.016998291015625,3692.71533203125,350,223.01573181152344,16,412.5,10,0,-103,7772.25]
["2009-10-12T02:53:18",60.014999389648438,3692.57763671875,350,223.01573181152344,16,413,10,0,-103,7772.58]
["2009-10-12T02:53:21",60.014999389648438,3693.173095703125,350,223.01573181152344,16,413.5,10,0,-103,7772.91]
["2009-10-12T02:53:24",60.008998870849609,3693.248779296875,350,223.01573181152344,16,414,10,0,-103,7773.24]
["2009-10-12T02:53:27",60.007999420166016,3695.124267578125,350,223.01573181152344,16,414.5,10,0,-103,7773.57]
["2009-10-12T02:53:30",60.005001068115234,3694.6806640625,350,223.01573181152344,16,415,10,0,-103,7773.9]
["2009-10-12T02:53:33",60.005001068115234,3694.19873046875,350,223.01573181152344,16,415.5,10,0,-103,7774.23]
["2009-10-12T02:53:36",59.999000549316406,3693.74951171875,350,223.01573181152344,16,416,10,0,-103,7774.56]
["2009-10-12T02:53:39",59.997001647949219,3692.80615234375,350,223.01573181152344,16,416.5,10,0,-103,7774.89]
["2009-10-12T02:53:42",60,3691.14990234375,350,223.01573181152344,16,417,10,0,-103,7775.22]
["2009-10-12T02:53:45",59.998001098632813,3691.076904296875,350,223.01573181152344,16,417.5,10,0,-103,7775.55]
["2009-10-12T02:53:48",59.993999481201172,3690.587646484375,350,223.01573181152344,16,418,10,0,-103,7775.88]
["2009-10-12T02:53:51",59.992000579833984,3688.482666015625,350,223.01573181152344,16,418.5,10,0,-103,7776.21]
["2009-10-12T02:53:54",59.987998962402344,3689.4453125,350,223.01573181152344,16,419,10,0,-103,7776.54]
["2009-10-12T02:53:57",59.985000610351563,3689.52490234375,350,223.01573181152344,16,419.5,10,0,-103,7776.87]
["2009-10-12T02:54:00",59.987998962402344,3689.735595703125,350,223.01573181152344,16,420,10,0,-103,7777.2]
["2009-10-12T02:54:03",59.987998962402344,3688.240234375,350,223.01573181152344,16,420.5,10,0,-103,7777.53]
["2009-10-12T02:54:06",59.983001708984375,3687.49365234375,350,223.01573181152344,16,421,10,0,-103,7777.86]
["2009-10-12T02:54:09",59.983001708984375,3686.707275390625,350,223.01573181152344,16,421.5,10,0,-103,7778.19]
["2009-10-12T02:54:12",59.986000061035156,3685.65966796875,350,223.01573181152344,16,422,10,0,-103,7778.52]
["2009-10-12T02:54:15",59.98699951171875,3684.33349609375,350,223.01573181152344,16,422.5,10,0,-103,7778.85]
["2009-10-12T02:54:18",59.986000061035156,3683.910888671875,350,223.01573181152344,16,423,10,0,-103,7779.18]
["2009-10-12T02:54:21",59.985000610351563,3684.208251953125,350,223.01573181152344,16,423.5,10,0,-103,7779.51]
["2009-10-12T02:54:24",59.983001708984375,3683.81103515625,350,223.01573181152344,16,424,10,0,-103,7779.84]
["2009-10-12T02:54:27",59.981998443603516,3684.2578125,350,223.01573181152344,16,424.5,10,0,-103,7780.17]
["2009-10-12T02:54:30",59.979999542236328,3684.88427734375,350,223.01573181152344,16,425,10,0,-103,7780.5]
["2009-10-12T02:54:33",59.978000640869141,3685.654296875,350,223.01573181152344,16,425.5,10,0,-103,7780.83]
["2009-10-12T02:54:36",59.974998474121094,3685.0869140625,350,223.01573181152344,16,426,10,0,-103,7781.16]
["2009-10-12T02:54:39",59.972999572753906,3685.196044921875,350,223.01573181152344,16,426.5,10,0,-103,7781.49]
["2009-10-12T02:54:42",59.976001739501953,3687.412353515625,350,223.01573181152344,16,427,10,0,-103,7781.82]
["2009-10-12T02:54:45",59.976001739501953,3688.5986328125,350,223.01573181152344,16,427.5,10,0,-103,7782.15]
["2009-10-12T02:54:48",59.981998443603516,3687.84765625,350,223.01573181152344,16,428,10,0,-103,7782.48]
["2009-10-12T02:54:51",59.979000091552734,3685.7822265625,350,223.01573181152344,16,428.5,10,0,-103,7782.81]
["2009-10-12T02:54:54",59.977001190185547,3684.89013671875,350,223.01573181152344,16,429,10,0,-103,7783.14]
["2009-10-12T02:54:57",59.977001190185547,3684.54931640625,350,223.01573181152344,16,429.5,10,0,-103,7783.47]
["2009-10-12T02:55:00",59.978000640869141,3684.09326171875,350,223.01573181152344,16,430,10,0,-103,7783.8]
["2009-10-12T02:55:03",59.978000640869141,3682.814208984375,350,223.01573181152344,16,430.5,10,0,-103,7784.13]
["2009-10-12T02:55:06",59.983001708984375,3682.317626953125,350,223.01573181152344,16,431,10,0,-103,7784.46]
["2009-10-12T02:55:09",59.980998992919922,3682.6474609375,350,223.01573181152344,16,431.5,10,0,-103,7784.79]
["2009-10-12T02:55:12",59.978000640869141,3682.85546875,350,223.01573181152344,16,432,10,0,-103,7785.12]
["2009-10-12T02:55:15",59.979000091552734,3684.0517578125,350,223.01573181152344,16,432.5,10,0,-103,7785.45]
["2009-10-12T02:55:18",59.979000091552734,3684.318359375,350,223.01573181152344,16,433,10,0,-103,7785.78]
["2009-10-12T02:55:21",59.983001708984375,3686.62939453125,350,223.01573181152344,16,433.5,10,0,-103,7786.11]
["2009-10-12T02:55:24",59.990001678466797,3685.286376953125,350,223.01573181152344,16,434,10,0,-103,7786.44]
["2009-10-12T02:55:27",59.992000579833984,3682.416015625,350,223.01573181152344,16,434.5,10,0,-103,7786.77]
["2009-10-12T02:55:30",59.990001678466797,3681.402587890625,350,223.01573181152344,16,435,10,0,-103,7787.1]
["2009-10-12T02:55:33",59.987998962402344,3679.435791015625,350,223.01573181152344,16,435.5,10,0,-103,7787.43]
["2009-10-12T02:55:36",59.990001678466797,3671.76123046875,350,223.01573181152344,16,436,10,0,-103,7787.76]
["2009-10-12T02:55:39",59.993000030517578,3670.159423828125,350,223.01573181152344,16,436.5,10,0,-103,7788.09]
["2009-10-12T02:55:42",59.993000030517578,3679.00048828125,350,223.01573181152344,16,437,10,0,-103,7788.42]
["2009-10-12T02:55:45",59.993999481201172,3681.798828125,350,223.01573181152344,16,437.5,10,0,-103,7788.75]
["2009-10-12T02:55:48",59.993000030517578,3682.700439453125,350,223.01573181152344,16,438,10,0,-103,7789.08]
["2009-10-12T02:55:51",59.988998413085937,3685.0302734375,350,223.01573181152344,16,438.5,10,0,-103,7789.41]
["2009-10-12T02:55:54",59.986000061035156,3684.87841796875,350,223.01573181152344,16,439,10,0,-103,7789.74]
["2009-10-12T02:55:57",59.985000610351563,3684.47802734375,350,223.01573181152344,16,439.5,10,0,-103,7790.07]
["2009-10-12T02:56:00",59.98699951171875,3685.583740234375,350,223.01573181152344,16,440,10,0,-103,7790.4]
["2009-10-12T02:56:03",59.986000061035156,3684.586669921875,350,223.01573181152344,16,440.5,10,0,-103,7790.73]
["2009-10-12T02:56:06",59.985000610351563,3684.97607421875,350,223.01573181152344,16,441,10,0,-103,7791.06]
["2009-10-12T02:56:09",59.981998443603516,3684.8720703125,350,223.01573181152344,16,441.5,10,0,-103,7791.39]
["2009-10-12T02:56:12",59.981998443603516,3684.24462890625,350,223.01573181152344,16,442,10,0,-103,7791.72]
["2009-10-12T02:56:15",59.98699951171875,3685.589111328125,350,223.01573181152344,16,442.5,10,0,-103,7792.05]
["2009-10-12T02:56:18",59.997001647949219,3683.73583984375,350,223.01573181152344,16,443,10,0,-103,7792.38]
["2009-10-12T02:56:21",60,3682.234130859375,350,223.01573181152344,16,443.5,10,0,-103,7792.71]
["2009-10-12T02:56:24",60.002998352050781,3682.1376953125,350,223.01573181152344,16,444,10,0,-103,7793.04]
["2009-10-12T02:56:27",60.002998352050781,3681.68896484375,350,223.01573181152344,16,444.5,10,0,-103,7793.37]
["2009-10-12T02:56:30",60.002998352050781,3681.45849609375,350,223.01573181152344,16,445,10,0,-103,7793.7]
["2009-10-12T02:56:33",60.001998901367188,3681.012939453125,350,223.01573181152344,16,445.5,10,0,-103,7794.03]
["2009-10-12T02:56:36",60.004001617431641,3680.1669921875,350,223.01573181152344,16,446,10,0,-103,7794.36]
["2009-10-12T02:56:39",60.005001068115234,3679.42919921875,350,223.01573181152344,16,446.5,10,0,-103,7794.69]
["2009-10-12T02:56:42",60.008998870849609,3679.669189453125,350,223.01573181152344,16,447,10,0,-103,7795.02]
["2009-10-12T02:56:45",60.012001037597656,3678.267333984375,350,223.01573181152344,16,447.5,10,0,-103,7795.35]
["2009-10-12T02:56:48",60.020999908447266,3676.796142578125,350,223.01573181152344,16,448,10,0,-103,7795.68]
["2009-10-12T02:56:51",60.021999359130859,3674.797607421875,350,223.01573181152344,16,448.5,10,0,-103,7796.01]
["2009-10-12T02:56:54",60.020000457763672,3673.906005859375,350,223.01573181152344,16,449,10,0,-103,7796.34]
["2009-10-12T02:56:57",60.018001556396484,3670.509765625,350,223.01573181152344,16,449.5,10,0,-103,7796.67]
["2009-10-12T02:57:00",60.020000457763672,3673.64794921875,350,223.01573181152344,16,450,10,0,-103,7797]
["2009-10-12T02:57:03",60.020000457763672,3675.86474609375]
["2009-10-12T02:57:06",60.018001556396484,3676.67578125]
["2009-10-12T02:57:09",60.019001007080078,3676.43701171875]
["2009-10-12T02:57:12",60.018001556396484,3677.184814453125]
["2009-10-12T02:57:15",60.016998291015625,3678.828369140625]
["2009-10-12T02:57:18",60.015998840332031,3679.288818359375]
["2009-10-12T02:57:21",60.015998840332031,3679.275634765625]
["2009-10-12T02:57:24",60.013999938964844,3678.5986328125]
["2009-10-12T02:57:27",60.013999938964844,3678.25048828125]
["2009-10-12T02:57:30",60.01300048828125,3678.58935546875]
["2009-10-12T02:57:33",60.014999389648438,3675.69775390625]
["2009-10-12T02:57:36",60.015998840332031,3674.66943359375]
["2009-10-12T02:57:39",60.019001007080078,3674.40185546875]
["2009-10-12T02:57:42",60.020999908447266,3674.546142578125]
["2009-10-12T02:57:45",60.020000457763672,3671.91357421875]
["2009-10-12T02:57:48",60.023998260498047,3671.98193359375]
["2009-10-12T02:57:51",60.0260009765625,3670.821044921875]
["2009-10-12T02:57:54",60.0260009765625,3671.0595703125]
["2009-10-12T02:57:57",60.021999359130859,3673.793701171875]
["2009-10-12T02:58:00",60.021999359130859,3674.009521484375]
["2009-10-12T02:58:03",60.023998260498047,3675.2841796875]
["2009-10-12T02:58:06",60.028999328613281,3676.05126953125]
["2009-10-12T02:58:09",60.027999877929687,3672.58349609375]
["2009-10-12T02:58:12",60.032001495361328,3671.3427734375]
["2009-10-12T02:58:15",60.034999847412109,3668.65380859375]
["2009-10-12T02:58:18",60.027999877929687,3668.76708984375]
["2009-10-12T02:58:21",60.020999908447266,3667.32177734375]
["2009-10-12T02:58:24",60.023998260498047,3657.1640625]
["2009-10-12T02:58:27",60.025001525878906,3668.637451171875]
["2009-10-12T02:58:30",60.021999359130859,3669.308837890625]
["2009-10-12T02:58:33",60.022998809814453,3670.7353515625]
["2009-10-12T02:58:36",60.020000457763672,3671.33203125]
["2009-10-12T02:58:39",60.020000457763672,3672.68310546875]
["2009-10-12T02:58:42",60.020000457763672,3673.83251953125]
["2009-10-12T02:58:45",60.016998291015625,3675.640625]
["2009-10-12T02:58:48",60.012001037597656,3675.970703125]
["2009-10-12T02:58:51",60.009998321533203,3678.313720703125]
["2009-10-12T02:58:54",60.009998321533203,3679.392822265625]
["2009-10-12T02:58:57",60.009998321533203,3679.79150390625]
["2009-10-12T02:59:00",60.012001037597656,3679.5966796875]
["2009-10-12T02:59:03",60.012001037597656,3680.1103515625]
["2009-10-12T02:59:06",60.013999938964844,3679.0615234375]
["2009-10-12T02:59:09",60.01300048828125,3679.5869140625]
["2009-10-12T02:59:12",60.011001586914063,3679.63671875]
["2009-10-12T02:59:15",60.009998321533203,3678.417724609375]
["2009-10-12T02:59:18",60.009998321533203,3679.383056640625]
["2009-10-12T02:59:21",60.011001586914063,3679.932373046875]
["2009-10-12T02:59:24",60.015998840332031,3679.13818359375]
["2009-10-12T02:59:27",60.018001556396484,3678.49853515625]
["2009-10-12T02:59:30",60.019001007080078,3678.45556640625]
["2009-10-12T02:59:33",60.019001007080078,3677.4462890625]
["2009-10-12T02:59:36",60.020000457763672,3677.431396484375]
["2009-10-12T02:59:39",60.018001556396484,3677.3154296875]
["2009-10-12T02:59:42",60.015998840332031,3678.151123046875]
["2009-10-12T02:59:45",60.015998840332031,3678.87353515625]
["2009-10-12T02:59:48",60.022998809814453,3680.770751953125]
["2009-10-12T02:59:51",60.021999359130859,3680.35302734375]
["2009-10-12T02:59:54",60.014999389648438,3679.16650390625]
["2009-10-12T02:59:57",60.015998840332031,3680.67236328125]
["2009-10-12T03:00:00",60.016998291015625,3682.729736328125]
["2009-10-12T03:00:03",60.009998321533203,3682.713623046875]
["2009-10-12T03:00:06",60.004001617431641,3682.01025390625]
["2009-10-12T03:00:09",59.994998931884766,3682.4833984375]
["2009-10-12T03:00:12",59.981998443603516,3685.306396484375]
["2009-10-12T03:00:15",59.9739990234375,3684.642578125]
["2009-10-12T03:00:18",59.970001220703125,3687.527099609375]
["2009-10-12T03:00:21",59.967998504638672,3692.287353515625]
["2009-10-12T03:00:24",59.967998504638672,3692.96630859375]
["2009-10-12T03:00:27",59.972000122070313,3693.793212890625]
["2009-10-12T03:00:30",59.965999603271484,3694.9736328125]
["2009-10-12T03:00:33",59.964000701904297,3698.501953125]
["2009-10-12T03:00:36",59.965999603271484,3698.616943359375]
["2009-10-12T03:00:39",59.963001251220703,3699.85009765625]
["2009-10-12T03:00:42",59.965000152587891,3702.644775390625]
["2009-10-12T03:00:45",59.967998504638672,3702.218017578125]
["2009-10-12T03:00:48",59.970001220703125,3704.0234375]
["2009-10-12T03:00:51",59.970001220703125,3702.98828125]
["2009-10-12T03:00:54",59.972000122070313,3703.813720703125]
["2009-10-12T03:00:57",59.976001739501953,3705.625]
["2009-10-12T03:01:00",59.974998474121094,3704.29345703125]
["2009-10-12T03:01:03",59.977001190185547,3701.94384765625]
["2009-10-12T03:01:06",59.976001739501953,3703.14208984375]
["2009-10-12T03:01:09",59.9739990234375,3705.375732421875]
["2009-10-12T03:01:12",59.9739990234375,3705.662353515625]
["2009-10-12T03:01:15",59.9739990234375,3706.7763671875]
["2009-10-12T03:01:18",59.977001190185547,3707.513916015625]
["2009-10-12T03:01:21",59.979000091552734,3706.446044921875]
["2009-10-12T03:01:24",59.983001708984375,3706.3349609375]
["2009-10-12T03:01:27",59.985000610351563,3705.943115234375]
["2009-10-12T03:01:30",59.979999542236328,3704.127197265625]
["2009-10-12T03:01:33",59.979000091552734,3705.974365234375]
["2009-10-12T03:01:36",59.98699951171875,3705.967529296875]
["2009-10-12T03:01:39",59.986000061035156,3704.68310546875]
["2009-10-12T03:01:42",59.979999542236328,3703.913330078125]
["2009-10-12T03:01:45",59.981998443603516,3704.98828125]
["2009-10-12T03:01:48",59.985000610351563,3705.0498046875]
["2009-10-12T03:01:51",59.98699951171875,3703.74072265625]
["2009-10-12T03:01:54",59.992000579833984,3701.8310546875]
["2009-10-12T03:01:57",59.995998382568359,3700.06982421875]
["2009-10-12T03:02:00",59.997001647949219,3701.30810546875]
["2009-10-12T03:02:03",59.997001647949219,3700.912841796875]
["2009-10-12T03:02:06",59.997001647949219,3700.541015625]
["2009-10-12T03:02:09",59.995998382568359,3700.858154296875]
["2009-10-12T03:02:12",59.995998382568359,3700.548583984375]
["2009-10-12T03:02:15",59.998001098632813,3700.223876953125]
["2009-10-12T03:02:18",60.008998870849609,3699.5]
["2009-10-12T03:02:21",60.009998321533203,3697.9599609375]
["2009-10-12T03:02:24",60.005001068115234,3699.40869140625]
["2009-10-12T03:02:27",60.004001617431641,3700.73828125]
["2009-10-12T03:02:30",60.002998352050781,3701.10986328125]
["2009-10-12T03:02:33",60.000999450683594,3699.99755859375]
["2009-10-12T03:02:36",60.004001617431641,3700.22021484375]
["2009-10-12T03:02:39",60.006999969482422,3702.55419921875]
["2009-10-12T03:02:42",60.007999420166016,3702.27587890625]
["2009-10-12T03:02:45",60.007999420166016,3701.9228515625]
["2009-10-12T03:02:48",60.006000518798828,3702.943115234375]
["2009-10-12T03:02:51",60.006000518798828,3703.96044921875]
["2009-10-12T03:02:54",60,3703.8193359375]
["2009-10-12T03:02:57",59.999000549316406,3704.345703125]
["2009-10-12T03:03:00",60,3705.3291015625]
["2009-10-12T03:03:03",60.004001617431641,3704.40478515625]
["2009-10-12T03:03:06",60.01300048828125,3703.67529296875]
["2009-10-12T03:03:09",60.014999389648438,3702.669189453125]
["2009-10-12T03:03:12",60.012001037597656,3703.0166015625]
["2009-10-12T03:03:15",60.008998870849609,3703.29736328125]
["2009-10-12T03:03:18",60.007999420166016,3705.188720703125]
["2009-10-12T03:03:21",60.011001586914063,3704.64599609375]
["2009-10-12T03:03:24",60.01300048828125,3704.05126953125]
["2009-10-12T03:03:27",60.015998840332031,3704.255126953125]
["2009-10-12T03:03:30",60.018001556396484,3703.70751953125]
["2009-10-12T03:03:33",60.019001007080078,3704.52392578125]
["2009-10-12T03:03:36",60.01300048828125,3704.13916015625]
["2009-10-12T03:03:39",60.011001586914063,3705.429443359375]
["2009-10-12T03:03:42",60.008998870849609,3705.94189453125]
["2009-10-12T03:03:45",60.007999420166016,3705.634033203125]
["2009-10-12T03:03:48",60.011001586914063,3705.74853515625]
["2009-10-12T03:03:51",60.014999389648438,3706.9453125]
["2009-10-12T03:03:54",60.020999908447266,3706.6298828125]
["2009-10-12T03:03:57",60.018001556396484,3703.894775390625]
["2009-10-12T03:04:00",60.019001007080078,3704.223876953125]
["2009-10-12T03:04:03",60.019001007080078,3704.6484375]
["2009-10-12T03:04:06",60.021999359130859,3704.79541015625]
["2009-10-12T03:04:09",60.025001525878906,3702.76416015625]
["2009-10-12T03:04:12",60.029998779296875,3702.00830078125]
["2009-10-12T03:04:15",60.027000427246094,3701.06298828125]
["2009-10-12T03:04:18",60.020999908447266,3700.340087890625]
["2009-10-12T03:04:21",60.022998809814453,3701.567626953125]
["2009-10-12T03:04:24",60.020000457763672,3702.958740234375]
["2009-10-12T03:04:27",60.023998260498047,3703.62109375]
["2009-10-12T03:04:30",60.021999359130859,3703.3740234375]
["2009-10-12T03:04:33",60.021999359130859,3703.9306640625]
["2009-10-12T03:04:36",60.025001525878906,3704.947265625]
["2009-10-12T03:04:39",60.022998809814453,3703.541259765625]
["2009-10-12T03:04:42",60.020000457763672,3703.16015625]
["2009-10-12T03:04:45",60.018001556396484,3704.37646484375]
["2009-10-12T03:04:48",60.007999420166016,3705.441162109375]
["2009-10-12T03:04:51",60.012001037597656,3710.072021484375]
["2009-10-12T03:04:54",60.019001007080078,3707.970703125]
["2009-10-12T03:04:57",60.019001007080078,3707.609375]
["2009-10-12T03:05:00",60.015998840332031,3708.8310546875]
["2009-10-12T03:05:03",60.014999389648438,3709.8134765625]
["2009-10-12T03:05:06",60.013999938964844,3709.81689453125]
["2009-10-12T03:05:09",60.015998840332031,3709.09375]
["2009-10-12T03:05:12",60.019001007080078,3709.6416015625]
["2009-10-12T03:05:15",60.015998840332031,3709.93310546875]
["2009-10-12T03:05:18",60.013999938964844,3710.6767578125]
["2009-10-12T03:05:21",60.018001556396484,3709.3544921875]
["2009-10-12T03:05:24",60.022998809814453,3707.696044921875]
["2009-10-12T03:05:27",60.023998260498047,3707.1201171875]
["2009-10-12T03:05:30",60.0260009765625,3706.989990234375]
["2009-10-12T03:05:33",60.023998260498047,3704.18505859375]
["2009-10-12T03:05:36",60.020000457763672,3704.40576171875]
["2009-10-12T03:05:39",60.019001007080078,3706.5673828125]
["2009-10-12T03:05:42",60.025001525878906,3705.515869140625]
["2009-10-12T03:05:45",60.027999877929687,3704.428466796875]
["2009-10-12T03:05:48",60.030998229980469,3704.7734375]
["2009-10-12T03:05:51",60.028999328613281,3702.685546875]
["2009-10-12T03:05:54",60.0260009765625,3702.093017578125]
["2009-10-12T03:05:57",60.028999328613281,3703.675537109375]
["2009-10-12T03:06:00",60.033000946044922,3701.51953125]
["2009-10-12T03:06:03",60.029998779296875,3698.2216796875]
["2009-10-12T03:06:06",60.015998840332031,3698.0087890625]
["2009-10-12T03:06:09",60.019001007080078,3703.1923828125]
["2009-10-12T03:06:12",60.027999877929687,3703.814697265625]
["2009-10-12T03:06:15",60.020999908447266,3699.9560546875]
["2009-10-12T03:06:18",60.014999389648438,3700.815673828125]
["2009-10-12T03:06:21",60.012001037597656,3706.943359375]
["2009-10-12T03:06:24",60.013999938964844,3708.52734375]
["2009-10-12T03:06:27",60.01300048828125,3707.6474609375]
["2009-10-12T03:06:30",60.015998840332031,3706.9912109375]
["2009-10-12T03:06:33",60.015998840332031,3705.58447265625]
["2009-10-12T03:06:36",60.01300048828125,3705.39794921875]
["2009-10-12T03:06:39",60.006999969482422,3709.14404296875]
["2009-10-12T03:06:42",59.993999481201172,3708.989501953125]
["2009-10-12T03:06:45",59.993000030517578,3706.192626953125]
["2009-10-12T03:06:48",59.993000030517578,3707.3037109375]
["2009-10-12T03:06:51",59.993999481201172,3706.76025390625]
["2009-10-12T03:06:54",59.993999481201172,3706.921142578125]
["2009-10-12T03:06:57",59.993000030517578,3706.887939453125]
["2009-10-12T03:07:00",59.987998962402344,3704.93359375]
["2009-10-12T03:07:03",59.985000610351563,3706.48095703125]
["2009-10-12T03:07:06",59.981998443603516,3707.0712890625]
["2009-10-12T03:07:09",59.979999542236328,3707.478515625]
["2009-10-12T03:07:12",59.980998992919922,3708.245849609375]
["2009-10-12T03:07:15",59.981998443603516,3710.41943359375]
["2009-10-12T03:07:18",59.979999542236328,3710.1337890625]
["2009-10-12T03:07:21",59.979999542236328,3710.02392578125]
["2009-10-12T03:07:24",59.979999542236328,3709.19189453125]
["2009-10-12T03:07:27",59.983001708984375,3709.3994140625]
["2009-10-12T03:07:30",59.980998992919922,3707.911376953125]
["2009-10-12T03:07:33",59.980998992919922,3707.63818359375]
["2009-10-12T03:07:36",59.980998992919922,3709.68896484375]
["2009-10-12T03:07:39",59.980998992919922,3706.541015625]
["2009-10-12T03:07:42",59.979999542236328,3711.25634765625]
["2009-10-12T03:07:45",59.978000640869141,3712.30322265625]
["2009-10-12T03:07:48",59.979000091552734,3712.01220703125]
["2009-10-12T03:07:51",59.978000640869141,3712.0927734375]
["2009-10-12T03:07:54",59.976001739501953,3713.99169921875]
["2009-10-12T03:07:57",59.974998474121094,3715.08349609375]
["2009-10-12T03:08:00",59.974998474121094,3715.32275390625]
["2009-10-12T03:08:03",59.979000091552734,3714.71728515625]
["2009-10-12T03:08:06",59.974998474121094,3715.161376953125]
["2009-10-12T03:08:09",59.976001739501953,3713.996337890625]
["2009-10-12T03:08:12",59.977001190185547,3714.062744140625]
["2009-10-12T03:08:15",59.974998474121094,3715.631103515625]
["2009-10-12T03:08:18",59.979000091552734,3715.6884765625]
["2009-10-12T03:08:21",59.979999542236328,3715.724609375]
["2009-10-12T03:08:24",59.978000640869141,3714.84814453125]
["2009-10-12T03:08:27",59.979000091552734,3713.3583984375]
["2009-10-12T03:08:30",59.983001708984375,3712.274658203125]
["2009-10-12T03:08:33",59.98699951171875,3712.152587890625]
["2009-10-12T03:08:36",59.984001159667969,3710.05029296875]
["2009-10-12T03:08:39",59.979999542236328,3710.471923828125]
["2009-10-12T03:08:42",59.979999542236328,3710.62353515625]
["2009-10-12T03:08:45",59.979000091552734,3710.19970703125]
["2009-10-12T03:08:48",59.974998474121094,3710.474609375]
["2009-10-12T03:08:51",59.979000091552734,3710.802978515625]
["2009-10-12T03:08:54",59.983001708984375,3709.285888671875]
["2009-10-12T03:08:57",59.983001708984375,3709.525146484375]
["2009-10-12T03:09:00",59.990001678466797,3708.37109375]
["2009-10-12T03:09:03",59.98699951171875,3706.511962890625]
["2009-10-12T03:09:06",59.976001739501953,3707.490478515625]
["2009-10-12T03:09:09",59.979000091552734,3709.89404296875]
["2009-10-12T03:09:12",59.983001708984375,3712.303466796875]
["2009-10-12T03:09:15",59.979000091552734,3711.627197265625]
["2009-10-12T03:09:18",59.978000640869141,3712.076171875]
["2009-10-12T03:09:21",59.974998474121094,3712.99853515625]
["2009-10-12T03:09:24",59.988998413085937,3713.51025390625]
["2009-10-12T03:09:27",59.999000549316406,3715.44287109375]
["2009-10-12T03:09:30",59.988998413085937,3712.091796875]
["2009-10-12T03:09:33",59.986000061035156,3714.8935546875]
["2009-10-12T03:09:36",59.983001708984375,3714.953125]
["2009-10-12T03:09:39",59.981998443603516,3716.308349609375]
["2009-10-12T03:09:42",59.990001678466797,3715.4384765625]
["2009-10-12T03:09:45",59.994998931884766,3714.714111328125]
["2009-10-12T03:09:48",59.990001678466797,3715.067626953125]
["2009-10-12T03:09:51",59.988998413085937,3715.791259765625]
["2009-10-12T03:09:54",59.995998382568359,3716.28466796875]
["2009-10-12T03:09:57",60,3714.46044921875]
["2009-10-12T03:10:00",60.004001617431641,3711.70849609375]
["2009-10-12T03:10:03",60.004001617431641,3712.8505859375]
["2009-10-12T03:10:06",59.999000549316406,3713.361572265625]
["2009-10-12T03:10:09",59.998001098632813,3718.29248046875]
["2009-10-12T03:10:12",59.995998382568359,3719.0791015625]
["2009-10-12T03:10:15",60.000999450683594,3717.815185546875]
["2009-10-12T03:10:18",60.000999450683594,3717.888671875]
["2009-10-12T03:10:21",60.002998352050781,3718.1953125]
["2009-10-12T03:10:24",60.004001617431641,3719.021240234375]
["2009-10-12T03:10:27",60.004001617431641,3719.8974609375]
["2009-10-12T03:10:30",60.006000518798828,3719.29931640625]
["2009-10-12T03:10:33",60.002998352050781,3719.52734375]
["2009-10-12T03:10:36",60.006000518798828,3719.73095703125]
["2009-10-12T03:10:39",60.008998870849609,3718.57958984375]
["2009-10-12T03:10:42",60.009998321533203,3718.97607421875]
["2009-10-12T03:10:45",60.008998870849609,3720.03369140625]
["2009-10-12T03:10:48",60.014999389648438,3720.60888671875]
["2009-10-12T03:10:51",60.013999938964844,3721.23876953125]
["2009-10-12T03:10:54",60.008998870849609,3720.38037109375]
["2009-10-12T03:10:57",60.007999420166016,3720.80712890625]
["2009-10-12T03:11:00",60.009998321533203,3721.272216796875]
["2009-10-12T03:11:03",60.008998870849609,3721.24462890625]
["2009-10-12T03:11:06",60.01300048828125,3721.59375]
["2009-10-12T03:11:09",60.013999938964844,3721.9990234375]
["2009-10-12T03:11:12",60.012001037597656,3721.64599609375]
["2009-10-12T03:11:15",60.009998321533203,3720.859619140625]
["2009-10-12T03:11:18",60.006999969482422,3721.645263671875]
["2009-10-12T03:11:21",60.002998352050781,3725.0703125]
["2009-10-12T03:11:24",60,3724.656005859375]
["2009-10-12T03:11:27",59.998001098632813,3724.66064453125]
["2009-10-12T03:11:30",59.999000549316406,3723.696044921875]
["2009-10-12T03:11:33",60.001998901367188,3723.4052734375]
["2009-10-12T03:11:36",60.002998352050781,3721.87890625]
["2009-10-12T03:11:39",59.999000549316406,3722.906494140625]
["2009-10-12T03:11:42",60.000999450683594,3724.14208984375]
["2009-10-12T03:11:45",59.994998931884766,3723.201171875]
["2009-10-12T03:11:48",59.98699951171875,3723.638916015625]
["2009-10-12T03:11:51",59.987998962402344,3724.654296875]
["2009-10-12T03:11:54",59.990001678466797,3725.36083984375]
["2009-10-12T03:11:57",59.992000579833984,3725.04638671875]
["2009-10-12T03:12:00",59.992000579833984,3723.692626953125]

{"sheet":"Entry Data","index":1,"n_rows":36,"n_cols":3,"rows_kept":36,"cut":false,"hidden":false,"merged":[]}
["Balancing Authority Name:","My BA"]
["Balancing Authority Frequency Response Obligation (FRO from FRS Form 1)",-80,"(must be a negative value)"]
[]
["Note: See \"Instruction\" tab for more detailed instructions."]
[]
["Step 1.","Copy and Paste Event Data into the appropriate cells of the  \"Data\" worksheet."]
[null,"Maintain date and time format of mm/dd/yy hh:mm:ss."]
["Step 2.","Determine Time of T(0) and edit formula in cell \"C8\" to reference the correct row of the \"Data\" worksheet.",{"$f":"Data!A206","v":40098.102326388886}]
[null,"T(0) is the first change in frequency of about 0.010 Hz (10 mHz) which should be the first scan of frequency data of the event."]
[]
["Step 3.","Time of Frequency Recovery to 60 Hz or Pre-Perturbation Hz",{"$f":"Data!A317","v":40098.106180555558}]
[]
[]
[]
[]
[]
[]
["Step 4.","Hit the big blue button to copy your data for pasting into FRS Form 1 \"BA Event Data\" worksheet."]
[]
[]
[]
[]
[]
[]
[]
[]
[]
[]
[]
[]
["Step 6.","Paste data into \"FRS Form 1\" in the appropriate row on the \"BA Event Data\" worksheet."]
[]
["Step 7.","Save this workbook using the following file name format:MyBA_yymmdd_hhmm_FRS_Form2.xlsm"]
[null,{"$f":"Evaluation!G2","v":"2009-10-12T02:27:21"},"Date yymmdd"]
[null,{"$f":"Evaluation!G2","v":40098.102326388886},"Time hh:ss of T(0)"]
[null,"Where \"MyBA\" = your BA mnemonic"]

{"sheet":"Evaluation","index":2,"n_rows":529,"n_cols":47,"rows_kept":529,"cut":false,"hidden":false,"merged":[]}
[null,2,"seconds",null,null,"Date:",{"$f":"G2","v":"2009-10-12T02:27:21"},null,null,null,"Balancing Authority",{"$f":"'Entry Data'!B1","v":"My BA"},null,null,null,null,null,"A Point",{"$f":"$B$78","v":40098.102303240739},null,null,null,null,null,"Non-Conforming Load sign convention","+","(Data is positive for Load then enter \"+\" else \"-\"",null,null,null,null,null,null,null,null,null,null,null,"Date:",{"$f":"AN2","v":"2009-10-12T02:27:21"}]
[null,null,null,null,null,"Time of T(0)",{"$f":"'Entry Data'!C8","v":40098.102326388886},null,null,null,"Grid Nominal Frequency",60,"Hz",null,null,null,null,"FPointA",{"$f":"$C$78","v":60.03900146484375},{"$f":"$B$78","v":40098.102303240739},null,null,null,null,null,null,null,null,null,null,null,null,null,null,null,null,null,null,"Time of T(0)",{"$f":"$G2","v":40098.102326388886}]
[null,null,null,null,null,"Time of Frequency Recovery to 60 Hz or Pre-Perturbation Hz",{"$f":"'Entry Data'!C11","v":40098.106180555558},null,null,null,"Capacity @ Droop for Minimum Performance",{"$f":"L7*-M4*10","v":2400},"MW",null,null,null,null,"A Value",{"$f":"AVERAGE($C$71:$C$78)","v":60.041749954223633},null,null,null,null,null,null,null,null,null,null,null,null,null,null,null,null,null,null,null,"Time of Frequency Recovery to 60 Hz or Pre-Perturbation Hz",{"$f":"$G3","v":40098.106180555558}]
[null,null,null,null,null,"Value A Pre-Perturbation Average Frequency [T(-2 ) to T(-16)]",{"$f":"AVERAGE($C$71:$C$78)","v":60.041749954223633},"Hz",null,null,"Droop Setting",0.05,{"$f":"L4*L2","v":3},"Hz",null,null,null,"C Value",{"$f":"IF($K$16=\"Low Hz\",MIN($C$79:$C$88),MAX($C$79:$C$88))","v":59.83599853515625},null,null,null,null,null,null,null,null,null,null,null,null,null,null,null,null,null,null,null,"Value A Pre-Perturbation Average Frequency [T(-2 ) to T(-16)]",{"$f":"AVERAGE($W$71:$W$78)","v":60.041749954223633},"Hz"]
[null,null,null,null,null,"Value B Post-Perturbation Average Frequency [T(+20 to T(+52)]",{"$f":"AVERAGE($C$89:$C$105)","v":59.888705982881433},"Hz",null,null,"Deadband Setting",0,"Hz",null,null,null,null,"Delta FC",null,null,null,null,null,null,null,null,null,null,null,null,null,null,null,null,null,null,null,null,"Value B Post-Perturbation Average Frequency [T(+20 to T(+52)]",{"$f":"AVERAGE($W$89:$W$105)","v":59.888705982881433},"Hz"]
[null,null,null,null,null,"Pre to Post Perturbation Delta Frequency Actual",{"$f":"G5-G4","v":-0.15304397134219982},"Hz",null,null,"Hz Span",{"$f":"M4-L5","v":3},"Hz",null,null,null,null,null,null,null,null,null,null,null,null,null,null,null,null,null,null,null,null,null,null,null,null,null,"Pre to Post Perturbation Delta Frequency Actual",{"$f":"AN5-AN4","v":-0.15304397134219982},"Hz"]
[null,null,null,null,null,"Value A Pre-Perturbation Average Interchange MW [T(-2 ) to T(-16)]",{"$f":"AVERAGE($D$71:$D$78)","v":3647.0458679199219},"MW",null,null,"Frequency Response Obligation (FRO)",{"$f":"'Entry Data'!B2","v":-80},"MW/0.1 Hz",null,null,null,null,null,null,null,null,null,null,null,null,null,null,null,null,null,null,null,null,null,null,null,null,null,"Value A Pre-Perturbation Average Interchange MW [T(-2 ) to T(-16)]",{"$f":"AVERAGE($D$71:$D$78)","v":3647.0458679199219},"MW"]
[null,null,null,null,null,"Value B Post-Perturbation Average Interchange MW [T(+20 to T(+52)]",{"$f":"AVERAGE($D$89:$D$105)","v":3787.7750028722426},"MW",null,null,null,null,null,null,null,null,null,null,null,null,null,null,null,null,null,null,null,null,null,null,null,null,null,null,null,null,null,null,"Value B Post-Perturbation Average Interchange MW [T(+20 to T(+52)]",{"$f":"AVERAGE($D$89:$D$105)","v":3787.7750028722426},"MW"]
[null,null,null,null,null,"Pre to Post Perturbation Interchange Delta MW Actual",{"$f":"G8-G7","v":140.72913495232069},"MW",null,null,null,null,null,null,null,null,null,null,null,null,null,null,null,null,null,null,null,null,null,null,null,null,null,null,null,null,null,null,"Pre to Post Perturbation Interchange Delta MW Actual",{"$f":"AN8-AN7","v":140.72913495232069},"MW"]
[null,null,null,null,null,"Initial Performance Ramp Magnitude Adjustment",{"$f":"(D77-D49)*0.59","v":-12.59151611328125},"MW",null,null,null,null,null,null,null,null,null,null,null,null,null,null,null,null,null,null,null,null,null,null,null,null,null,null,null,null,null,null,"Net Total Adjustments",{"$f":"AN30","v":-52.528777290792902},"MW"]
[null,null,null,null,null,"EPFR Pre-Perturbation Average",{"$f":"AVERAGE(H71:H78)","v":-33.39996337890625},"MW",null,null,null,null,null,null,null,null,null,null,null,null,null,null,null,null,null,null,null,null,null,null,null,null,null,null,null,null,null,null,"EPFR for FRO Pre-Perturbation Average",{"$f":"AVERAGE(AT71:AT78)","v":-33.39996337890625},"MW"]
[null,null,null,null,null,"EPFR Post-Perturbation Average",{"$f":"AVERAGE(H89:H105)","v":89.035213694852942},"MW",null,null,null,null,null,null,null,null,null,null,null,null,null,null,null,null,null,null,null,null,null,null,null,null,null,null,null,null,null,null,"EPFR for FRO Post-Perturbation Average",{"$f":"AVERAGE($AG89:$AG105)","v":89.035213694852942},"MW"]
[null,null,null,null,null,"EPFR Delta",{"$f":"G12-G11","v":122.43517707375919},"MW",null,null,"TC (frequency response filter constant)",0.35,"Time Constant for delayed delivery of PFR during Sustained Measure",null,null,null,null,null,null,null,null,null,null,null,null,null,null,null,null,null,null,null,null,null,null,null,null,null,"EPFR for FRO Delta",{"$f":"AN12-AN11","v":122.43517707375919},"MW"]
[null,null,null,null,null,null,null,null,null,null,null,null,null,null,null,null,null,null,null,null,null,null,null,null,null,null,null,null,null,null,null,null,null,null,null,null,null,null,"EPFR for FRO Adjusted",{"$f":"AN13+AN10","v":69.90639978296629},"MW"]
[null,null,null,null,null,null,null,null,null,null,null,null,null,null,null,null,null,null,null,null,null,null,null,null,null,null,null,null,null,null,null,null,null,null,null,null,null,null,"Pre JOU Dynamic Schedules MW",{"$f":"AVERAGE($Y$71:$Y$78)","v":350},"MW",null,null,"Pre-Perturbation Bias Setting",{"$f":"AVERAGE($AE$71:$AE$78)","v":-103},"MW/0.1 Hz"]
[null,null,null,null,null,null,null,null,null,null,{"$f":"IF(G6<0,\"Low Hz\",\"High Hz\")","v":"Low Hz"},"Delta Hz Event",null,null,null,null,null,null,null,null,null,null,null,null,null,null,null,null,null,null,null,null,null,null,null,null,null,null,"Pre Non-Conforming Load MW",{"$f":"AVERAGE($Z$71:$Z$78)","v":-165.42955589294434},"MW",null,null,"Post-Perturbation Bias Setting",{"$f":"AVERAGE($AE$89:$AE$105)","v":-103},"MW/0.1 Hz"]
[null,null,null,null,null,null,null,null,null,null,{"$f":"LOOKUP(G3,B43:B529,N43:N529)","v":3763.7539676506362},"Actual Interchange MW Average during frequency recovery period",null,null,null,null,null,null,null,null,null,null,null,null,null,null,null,null,null,null,null,null,null,null,null,null,null,null,"Pre Pumped Hydro MW",{"$f":"AVERAGE($AA$71:$AA$78)","v":0},"MW",null,null,"EPFR for Bias Setting Pre-Perturbation Average",{"$f":"(AN4-$L$2)*10*AS15","v":-43.002452850341797},"MW"]
[null,null,null,null,null,null,null,null,null,null,{"$f":"LOOKUP(G3,B43:B529,O43:O529)","v":3772.7810201279867},"Target Interchange MW Average during frequency recovery period",null,null,null,null,null,null,null,null,null,null,null,null,null,null,null,null,null,null,null,null,null,null,null,null,null,null,"Pre Ramping Units MW",{"$f":"AVERAGE($AB$71:$AB$78)","v":151.8125},"MW",null,null,"EPFR for Bias Setting Post-Perturbation Average",{"$f":"(AN5-$L$2)*10*AS16","v":114.63283763212402},"MW"]
[null,null,null,"EPFR = Expected Primary Frequency Response",null,"EPFR(Final)",{"$f":"G13+G10","v":109.84366096047795},"MW",null,null,{"$f":"LOOKUP(G3,B49:B529,Q49:Q529)","v":3724.0131071684505},"Interchange Average Ramp MW during frequency recovery period",null,null,null,null,null,null,null,null,null,null,null,null,null,null,null,null,null,null,null,null,null,null,null,null,null,null,"Pre Transferred Frequency Response MW",{"$f":"AVERAGE($AC$71:$AC$78)*-10*(AN4-$L$2)","v":-4.1749954223632812},"MW",null,null,"EPFR for Bias Setting Delta",{"$f":"AS18-AS17","v":157.63529048246582},"MW"]
[null,null,null,null,null,"MW Response in right direction for frequency delta",{"$f":"IF((G6*G9)<0,\"Yes\",\"No\")","v":"Yes"},null,null,null,{"$f":"D77","v":3645.44580078125},"Actual MW @ T(-4)",null,null,null,null,null,null,null,null,null,null,null,null,null,null,null,null,null,null,null,null,null,null,null,null,null,null,"Pre Contingent BA Lost Generation MW",{"$f":"AVERAGE($AD$71:$AD$78)","v":15},"MW",null,null,"Primary Frequency Response Delivery of Bias",{"$f":"AN9/AS19","v":0.89275145509358111}]
[null,null,null,null,null,null,null,null,null,null,{"$f":"LOOKUP(G3,B43:B524,D43:D524)-D77+I77-LOOKUP(G3,B43:B524,I43:I524)","v":91.942618757820583},"Starting and Ending Difference in Interchange MW during frequency recovery period (indicates ramp direction during recovery period)",null,null,null,null,null,null,null,null,null,null,null,null,null,null,null,null,null,null,null,null,null,null,null,null,null,null,"Sum of Pre Perturbation Adjustments",{"$f":"SUM(AN15:AN20)","v":347.20794868469238},"MW"]
[null,null,null,null,null,null,null,null,null,null,{"$f":"G3-G2","v":"00:05:33"},"Event Duration (h:mm:ss)"]
[null,null,null,null,null,null,null,null,null,null,{"$f":"IF(K18-K20<0,\"Yes\",\"No\")","v":"No"},"Target MW Average minus MW @ T(-4) less than zero",null,null,null,null,null,null,null,null,null,null,null,null,null,null,null,null,null,null,null,null,null,null,null,null,null,null,"Post JOU Dynamic Schedules MW",{"$f":"AVERAGE($Y$89:$Y$105)","v":335},"MW",null,null,"Pre-Perturbation BA Load",{"$f":"AVERAGE($AF$71:$AF$78)","v":7600.1962500000009},"MW"]
[null,null,null,null,null,null,null,null,null,null,{"$f":"IF(K21>0,K18-K20,K18-(K20+K21))","v":127.33521934673672},"Interchange Target Relative Average Change - MW (Low Frequency Event)",null,null,null,null,null,null,null,null,null,null,null,null,null,null,null,null,null,null,null,null,null,null,null,null,null,null,"Post Non-Conforming Load MW",{"$f":"AVERAGE($Z$89:$Z$105)","v":-212.74434796501609},"MW",null,null,"Post-Perturbation BA Load",{"$f":"AVERAGE($AF$89:$AF$105)","v":7570},"MW"]
[null,null,null,null,null,null,null,null,null,null,{"$f":"IF(K21>0,K17-K20,K17-(K20+K21))","v":118.30816686938624},"Interchange Actual Relative Average Change - MW (Low Frequency Event)",null,null,null,null,null,null,null,null,null,null,null,null,null,null,null,null,null,null,null,null,null,null,null,null,null,null,"Post Pumped Hydro MW",{"$f":"AVERAGE($AA$89:$AA$105)","v":2.1176470588235294},"MW",null,null,"Pre to Post Perturbation BA Load Change",{"$f":"AS24-AS23","v":-30.196250000000873},"MW"]
[null,null,null,null,null,null,null,null,null,null,{"$f":"IF(K17-K20<0,\"Yes\",\"No\")","v":"No"},"Interchange Actual Average minus MW @ T(-4) less than zero",null,null,null,null,null,null,null,null,null,null,null,null,null,null,null,null,null,null,null,null,null,null,null,null,null,null,"Post Ramping Units MW",{"$f":"AVERAGE($AB$89:$AB$105)","v":159.1764705882353},"MW",null,null,"Load Dampening Frequency Response",{"$f":"AS25/(AN6*-10)","v":-19.730440693075938},"MW/0.1 Hz"]
[null,null,null,null,null,null,null,null,null,null,{"$f":"IF(K17-K20>0,\"Yes\",\"No\")","v":"Yes"},"Interchange Average MW minus MW @ T(-4) greater than zero",null,null,null,null,null,null,null,null,null,null,null,null,null,null,null,null,null,null,null,null,null,null,null,null,null,null,"Post Transferred Frequency Response MW",{"$f":"AVERAGE($AC$89:$AC$105)*-10*(AN5-$L$2)","v":11.129401711856701},"MW",null,null,"Load Dampening % of Total BA Frequency Response",{"$f":"AS25/AN9*-1","v":0.21456999654145123}]
[null,null,null,null,null,null,null,null,null,null,{"$f":"IF(K18-K20>0,\"Yes\",\"No\")","v":"Yes"},"Interchange Target MW Average minus MW @ T(-4) greater than zero",null,null,null,null,null,null,null,null,null,null,null,null,null,null,null,null,null,null,null,null,null,null,null,null,null,null,"Post Contingent BA Lost Generation MW",{"$f":"AVERAGE($AD$89:$AD$105)","v":0},"MW"]
[null,null,null,null,null,null,null,null,null,null,{"$f":"IF(K21>0,K18-(K20+K21),K18-K20)","v":35.392600588916139},"Interchange Target Relative Average Change - MW (High Frequency Event)",null,null,null,null,null,null,null,null,null,null,null,null,null,null,null,null,null,null,null,null,null,null,null,null,null,null,"Sum of Post Perturbation Adjustments",{"$f":"SUM(AN23:AN28)","v":294.67917139389948},"MW"]
[null,null,null,null,null,null,null,null,null,null,{"$f":"IF(K21>0,K17-(K20+K21),K17-K20)","v":26.365548111565658},"Interchange Actual Relative Average Change - MW (High Frequency Event)",null,null,null,null,null,null,null,null,null,null,null,null,null,null,null,null,null,null,null,null,null,null,null,null,null,null,"Net Total Adjustments MW",{"$f":"AN29-AN21","v":-52.528777290792902},"MW"]
[null,null,null,null,null,null,null,null,null,null,{"$f":"IF(K21>=0,\"Up\",\"Down\")","v":"Up"},"Ramp Direction during frequency recovery period"]
[null,null,null,null,null,null,null,null,null,null,null,null,null,null,null,null,null,null,null,null,null,"Frequency, Actual Interchange, Adjustment Data, Bias and Load used in the evaluation",null,null,null,null,null,null,null,null,null,null,null,null,"20 to 52 second Average Period Evaluation"]
[null,null,null,null,null,"Initial Response P.U. Performance ",{"$f":"IF(G20=\"Yes\",G9/G19,\" \")","v":1.2811766625563894},"P.U.",null,null,{"$f":"IF(G33=\" \",\" \",IF(K16=\"Low Hz\",IF(K23=\"Yes\",IF(K17>K18,1,IF(K17>K19,0.75,0)),IF(K27=\"Yes\",IF((K25/K24)>2,2,K25/K24),IF(K17>K19,0.75,0))),IF(K23=\"Yes\",IF(K27=\"Yes\",IF(K17<K19,0.75,0),IF((K17/K18)>2,2,K17/K18)),IF(K17<K18,1,IF(K17<K19,0.75,0)))))","v":0.92910796774323989},"P.U.   Sustianed Response P.U. Performance",null,null,null,null,null,null,null,null,null,null,null,null,null,null,null,null,null,null,null,null,null,null,null,null,null,null,"Initial P.U. Performance for FRO",{"$f":"AN9/AN13","v":1.1494174984329919},"P.U."]
[null,null,null,null,null,null,null,null,null,null,null,null,null,null,null,null,null,null,null,null,null,null,null,null,null,null,null,null,null,null,null,null,null,null,null,null,null,null,"Initial P.U. Performance Adjusted for FRO",{"$f":"(AN8-AN7-AN10)/AN13","v":1.5784508738586487},"P.U."]
[null,null,null,null,null,null,null,null,null,null,"Initial",null,null,null,null,null,null,null,null,null,null,null,null,null,"JOU","Non-",null,null,"Transferred","Contingent",null,null,null,null,null,null,null,"JOU","Non-",null,null,"Transferred","Contingent",null,null,null,"Expected"]
[null,null,null,null,null,null,null,"FRO",null,null,"Measure",null,null,"Average","Average",null,"Average",null,null,null,null,null,null,"Net","Dynamic","Conforming","Pumped","Ramping","Frequency","BA","BA","BA","Expected Primary",null,null,null,"Net","Dynamic","Conforming","Pumped","Ramping","Frequency","BA","BA","BA",null,"Net"]
[null,null,null,null,null,null,null,"(EPFR)","(TC)",null,"Final",null,null,"Output","Target",null,"Ramp",null,null,null,null,null,null,"Actual","Schedules","Load","Hydro","Units","Response","Lost Generation","Bias","Load","Freq Response",null,null,null,"Actual","Schedules","Load","Hydro","Units","Response","Lost Generation","Bias","Load",null,"Actual"]
[null,null,null,null,"Value B",null,null,"Expected","Delayed",null,"Expected",null,"Recovery","During","During","Recovery","During",null,null,null,null,null,"Frequency","Interchange","Imp(-) Exp (+)","Load (-)","Load (-) Gen (+)","Gen (+)","Rec (-) Del (+)","Load (-) Gen (+)","Setting",null,"Based on Bias Setting",null,null,"Frequency","Interchange","Imp(-) Exp (+)","Load (-)","Load (-) Gen (+)","Gen (+)","Rec (-) Del (+)","Load (-) Gen (+)","Setting",null,"EPFR","Interchange"]
[null,null,null,null,"20 to 52 sec",null,null,"Primary","Delivery",null,"Primary","Average","Period","Recovery","Recovery","Period","Recovery",null,null,null,null,"T","Hz","MW","MW","MW","MW","MW","MW/0.1 Hz","MW","MW/0.1 Hz","MW","MW",null,"T","Hz","MW","MW","MW","MW","MW","MW/0.1 Hz","MW","MW/0.1 Hz","MW","MW","MW"]
[null,null,"Frequency","Interchange","Average","Average",null,"Frequency","Frequency",null,"Frequency","Ramp","Target","Period","Period","Ramp","Period"]
[null,"T","Hz","MW","Frequency","MW",null,"Response","Response",null,"Response","MW/scan","MW","MW","MW","MW","MW"]
[]
["T-72 sec",{"$f":"B44-TIME(0,0,$B$1)","v":40098.101493055619},{"$f":"LOOKUP($B43,Data!$A$6:$A$1806,Data!$B$6:$B$1806)","v":60.027000427246094},{"$f":"LOOKUP(B43,Data!$A$6:$A$1806,Data!C$6:C$1806)","v":3671.18896484375},null,null,null,{"$f":"(IF((C43-L$2)>0,((C43-L$2-L$5)/((L$4*L$2)-L$5)*L$3*-1),((C43-L$2+L$5)/((L$4*L$2)-L$5)*L$3*-1)))","v":-21.600341796875},{"$f":"L$13*H43+(1-L$13)*I42","v":-7.5601196289062491},null,null,null,null,null,null,null,null,null,null,null,"T-72 sec",{"$f":"V44-TIME(0,0,$B$1)","v":40098.101493055619},{"$f":"LOOKUP($V43,Data!$A$6:$A$1806,Data!$B$6:$B$1806)","v":60.027000427246094},{"$f":"LOOKUP($V43,Data!$A$6:$A$1806,Data!$C$6:$C$1806)","v":3671.18896484375},{"$f":"LOOKUP($V43,Data!$A$6:$A$1806,Data!$D$6:$D$1806)","v":350},{"$f":"IF($Z$1=\"+\",LOOKUP($V43,Data!$A$6:$A$1806,Data!$E$6:$E$1806)*-1,LOOKUP($V43,Data!$A$6:$A$1806,Data!$E$6:$E$1806))","v":-253.63186645507812},{"$f":"LOOKUP($V43,Data!$A$6:$A$1806,Data!$F$6:$F$1806)","v":0},{"$f":"LOOKUP($V43,Data!$A$6:$A$1806,Data!$G$6:$G$1806)","v":141.5},{"$f":"LOOKUP($V43,Data!$A$6:$A$1806,Data!$H$6:$H$1806)","v":10},{"$f":"LOOKUP($V43,Data!$A$6:$A$1806,Data!$I$6:$I$1806)","v":15},{"$f":"LOOKUP($V43,Data!$A$6:$A$1806,Data!$J$6:$J$1806)","v":-103},{"$f":"LOOKUP($V43,Data!$A$6:$A$1806,Data!$K$6:$K$1806)","v":7593.39},{"$f":"(IF((W43-$L$2)>0,((W43-$L$2-$L$5)/(($L$4*$L$2)-$L$5)*$L$3*-1),((W43-$L$2+$L$5)/(($L$4*$L$2)-$L$5)*$L$3*-1)))","v":-21.600341796875},"T-72 sec",{"$f":"AI44-TIME(0,0,$B$1)","v":40098.101493055619}]
["T-70 sec",40098.101516203766,{"$f":"LOOKUP(B44,Data!$A$6:$A$1806,Data!B$6:B$1806)","v":60.027000427246094},{"$f":"LOOKUP(B44,Data!$A$6:$A$1806,Data!C$6:C$1806)","v":3671.18896484375},null,null,null,{"$f":"(IF((C44-L$2)>0,((C44-L$2-L$5)/((L$4*L$2)-L$5)*L$3*-1),((C44-L$2+L$5)/((L$4*L$2)-L$5)*L$3*-1)))","v":-21.600341796875},-12.474197387695313,null,null,null,null,null,null,null,null,null,null,null,"T-70 sec",40098.101516203766,{"$f":"LOOKUP($V44,Data!$A$6:$A$1806,Data!$B$6:$B$1806)","v":60.027000427246094},{"$f":"LOOKUP($V44,Data!$A$6:$A$1806,Data!$C$6:$C$1806)","v":3671.18896484375},{"$f":"LOOKUP($V44,Data!$A$6:$A$1806,Data!$D$6:$D$1806)","v":350},{"$f":"IF($Z$1=\"+\",LOOKUP($V44,Data!$A$6:$A$1806,Data!$E$6:$E$1806)*-1,LOOKUP($V44,Data!$A$6:$A$1806,Data!$E$6:$E$1806))","v":-253.63186645507812},{"$f":"LOOKUP($V44,Data!$A$6:$A$1806,Data!$F$6:$F$1806)","v":0},{"$f":"LOOKUP($V44,Data!$A$6:$A$1806,Data!$G$6:$G$1806)","v":141.5},{"$f":"LOOKUP($V44,Data!$A$6:$A$1806,Data!$H$6:$H$1806)","v":10},{"$f":"LOOKUP($V44,Data!$A$6:$A$1806,Data!$I$6:$I$1806)","v":15},{"$f":"LOOKUP($V44,Data!$A$6:$A$1806,Data!$J$6:$J$1806)","v":-103},{"$f":"LOOKUP($V44,Data!$A$6:$A$1806,Data!$K$6:$K$1806)","v":7593.39},{"$f":"(IF((W44-$L$2)>0,((W44-$L$2-$L$5)/(($L$4*$L$2)-$L$5)*$L$3*-1),((W44-$L$2+$L$5)/(($L$4*$L$2)-$L$5)*$L$3*-1)))","v":-21.600341796875},"T-70 sec",40098.101516203766]
["T-68 sec",40098.101539351912,{"$f":"LOOKUP(B45,Data!$A$6:$A$1806,Data!B$6:B$1806)","v":60.0260009765625},{"$f":"LOOKUP(B45,Data!$A$6:$A$1806,Data!C$6:C$1806)","v":3668.610595703125},null,null,null,-20.80078125,-15.388501739501951,null,null,null,null,null,null,null,null,null,null,null,"T-68 sec",40098.101539351912,{"$f":"LOOKUP($V45,Data!$A$6:$A$1806,Data!$B$6:$B$1806)","v":60.0260009765625},{"$f":"LOOKUP($V45,Data!$A$6:$A$1806,Data!$C$6:$C$1806)","v":3668.610595703125},{"$f":"LOOKUP($V45,Data!$A$6:$A$1806,Data!$D$6:$D$1806)","v":350},{"$f":"IF($Z$1=\"+\",LOOKUP($V45,Data!$A$6:$A$1806,Data!$E$6:$E$1806)*-1,LOOKUP($V45,Data!$A$6:$A$1806,Data!$E$6:$E$1806))","v":-253.63186645507812},{"$f":"LOOKUP($V45,Data!$A$6:$A$1806,Data!$F$6:$F$1806)","v":0},{"$f":"LOOKUP($V45,Data!$A$6:$A$1806,Data!$G$6:$G$1806)","v":142},{"$f":"LOOKUP($V45,Data!$A$6:$A$1806,Data!$H$6:$H$1806)","v":10},{"$f":"LOOKUP($V45,Data!$A$6:$A$1806,Data!$I$6:$I$1806)","v":15},{"$f":"LOOKUP($V45,Data!$A$6:$A$1806,Data!$J$6:$J$1806)","v":-103},{"$f":"LOOKUP($V45,Data!$A$6:$A$1806,Data!$K$6:$K$1806)","v":7593.72},-20.80078125,"T-68 sec",40098.101539351912]
["T-66 sec",{"$f":"B47-TIME(0,0,$B$1)","v":40098.101562500058},{"$f":"LOOKUP(B46,Data!$A$6:$A$1806,Data!B$6:B$1806)","v":60.021999359130859},{"$f":"LOOKUP(B46,Data!$A$6:$A$1806,Data!C$6:C$1806)","v":3664.4951171875},null,null,null,-17.5994873046875,-16.162346687316891,null,null,null,null,null,null,null,null,null,null,null,"T-66 sec",40098.101562500058,{"$f":"LOOKUP($V46,Data!$A$6:$A$1806,Data!$B$6:$B$1806)","v":60.021999359130859},{"$f":"LOOKUP($V46,Data!$A$6:$A$1806,Data!$C$6:$C$1806)","v":3664.4951171875},{"$f":"LOOKUP($V46,Data!$A$6:$A$1806,Data!$D$6:$D$1806)","v":350},{"$f":"IF($Z$1=\"+\",LOOKUP($V46,Data!$A$6:$A$1806,Data!$E$6:$E$1806)*-1,LOOKUP($V46,Data!$A$6:$A$1806,Data!$E$6:$E$1806))","v":-253.63186645507812},{"$f":"LOOKUP($V46,Data!$A$6:$A$1806,Data!$F$6:$F$1806)","v":0},{"$f":"LOOKUP($V46,Data!$A$6:$A$1806,Data!$G$6:$G$1806)","v":142.5},{"$f":"LOOKUP($V46,Data!$A$6:$A$1806,Data!$H$6:$H$1806)","v":10},{"$f":"LOOKUP($V46,Data!$A$6:$A$1806,Data!$I$6:$I$1806)","v":15},{"$f":"LOOKUP($V46,Data!$A$6:$A$1806,Data!$J$6:$J$1806)","v":-103},{"$f":"LOOKUP($V46,Data!$A$6:$A$1806,Data!$K$6:$K$1806)","v":7594.05},-17.5994873046875,"T-66 sec",40098.101562500058]
["T-64 sec",40098.101585648204,{"$f":"LOOKUP(B47,Data!$A$6:$A$1806,Data!B$6:B$1806)","v":60.021999359130859},{"$f":"LOOKUP(B47,Data!$A$6:$A$1806,Data!C$6:C$1806)","v":3664.4951171875},null,null,null,-17.5994873046875,-16.665345903396606,null,null,null,null,null,null,null,null,null,null,null,"T-64 sec",40098.101585648204,{"$f":"LOOKUP($V47,Data!$A$6:$A$1806,Data!$B$6:$B$1806)","v":60.021999359130859},{"$f":"LOOKUP($V47,Data!$A$6:$A$1806,Data!$C$6:$C$1806)","v":3664.4951171875},{"$f":"LOOKUP($V47,Data!$A$6:$A$1806,Data!$D$6:$D$1806)","v":350},{"$f":"IF($Z$1=\"+\",LOOKUP($V47,Data!$A$6:$A$1806,Data!$E$6:$E$1806)*-1,LOOKUP($V47,Data!$A$6:$A$1806,Data!$E$6:$E$1806))","v":-253.63186645507812},{"$f":"LOOKUP($V47,Data!$A$6:$A$1806,Data!$F$6:$F$1806)","v":0},{"$f":"LOOKUP($V47,Data!$A$6:$A$1806,Data!$G$6:$G$1806)","v":142.5},{"$f":"LOOKUP($V47,Data!$A$6:$A$1806,Data!$H$6:$H$1806)","v":10},{"$f":"LOOKUP($V47,Data!$A$6:$A$1806,Data!$I$6:$I$1806)","v":15},{"$f":"LOOKUP($V47,Data!$A$6:$A$1806,Data!$J$6:$J$1806)","v":-103},{"$f":"LOOKUP($V47,Data!$A$6:$A$1806,Data!$K$6:$K$1806)","v":7594.05},-17.5994873046875,"T-64 sec",40098.101585648204]
["T-62 sec",40098.101608796351,{"$f":"LOOKUP(B48,Data!$A$6:$A$1806,Data!B$6:B$1806)","v":60.016998291015625},{"$f":"LOOKUP(B48,Data!$A$6:$A$1806,Data!C$6:C$1806)","v":3666.061767578125},null,null,null,-13.5986328125,-15.591996321582794,null,null,null,null,null,null,null,null,null,null,null,"T-62 sec",40098.101608796351,{"$f":"LOOKUP($V48,Data!$A$6:$A$1806,Data!$B$6:$B$1806)","v":60.016998291015625},{"$f":"LOOKUP($V48,Data!$A$6:$A$1806,Data!$C$6:$C$1806)","v":3666.061767578125},{"$f":"LOOKUP($V48,Data!$A$6:$A$1806,Data!$D$6:$D$1806)","v":350},{"$f":"IF($Z$1=\"+\",LOOKUP($V48,Data!$A$6:$A$1806,Data!$E$6:$E$1806)*-1,LOOKUP($V48,Data!$A$6:$A$1806,Data!$E$6:$E$1806))","v":-253.63186645507812},{"$f":"LOOKUP($V48,Data!$A$6:$A$1806,Data!$F$6:$F$1806)","v":0},{"$f":"LOOKUP($V48,Data!$A$6:$A$1806,Data!$G$6:$G$1806)","v":143},{"$f":"LOOKUP($V48,Data!$A$6:$A$1806,Data!$H$6:$H$1806)","v":10},{"$f":"LOOKUP($V48,Data!$A$6:$A$1806,Data!$I$6:$I$1806)","v":15},{"$f":"LOOKUP($V48,Data!$A$6:$A$1806,Data!$J$6:$J$1806)","v":-103},{"$f":"LOOKUP($V48,Data!$A$6:$A$1806,Data!$K$6:$K$1806)","v":7594.38},-13.5986328125,"T-62 sec",40098.101608796351]
["T-60 sec",40098.101631944497,{"$f":"LOOKUP(B49,Data!$A$6:$A$1806,Data!B$6:B$1806)","v":60.019001007080078},{"$f":"LOOKUP(B49,Data!$A$6:$A$1806,Data!C$6:C$1806)","v":3666.787353515625},null,null,null,-15.2008056640625,-15.455079591450691,null,null,{"$f":"(D$78-D$49-I$78+I$49)/29","v":-0.30971686556440797},{"$f":"M50-L49-(I50-I49)","v":3666.7873535156268},null,null,null,null,null,null,null,"T-60 sec",40098.101631944497,{"$f":"LOOKUP($V49,Data!$A$6:$A$1806,Data!$B$6:$B$1806)","v":60.019001007080078},{"$f":"LOOKUP($V49,Data!$A$6:$A$1806,Data!$C$6:$C$1806)","v":3666.787353515625},{"$f":"LOOKUP($V49,Data!$A$6:$A$1806,Data!$D$6:$D$1806)","v":350},{"$f":"IF($Z$1=\"+\",LOOKUP($V49,Data!$A$6:$A$1806,Data!$E$6:$E$1806)*-1,LOOKUP($V49,Data!$A$6:$A$1806,Data!$E$6:$E$1806))","v":-253.63186645507812},{"$f":"LOOKUP($V49,Data!$A$6:$A$1806,Data!$F$6:$F$1806)","v":0},{"$f":"LOOKUP($V49,Data!$A$6:$A$1806,Data!$G$6:$G$1806)","v":143.5},{"$f":"LOOKUP($V49,Data!$A$6:$A$1806,Data!$H$6:$H$1806)","v":10},{"$f":"LOOKUP($V49,Data!$A$6:$A$1806,Data!$I$6:$I$1806)","v":15},{"$f":"LOOKUP($V49,Data!$A$6:$A$1806,Data!$J$6:$J$1806)","v":-103},{"$f":"LOOKUP($V49,Data!$A$6:$A$1806,Data!$K$6:$K$1806)","v":7594.71},-15.2008056640625,"T-60 sec",40098.101631944497]
["T-58 sec",40098.101655092643,{"$f":"LOOKUP(B50,Data!$A$6:$A$1806,Data!B$6:B$1806)","v":60.019001007080078},{"$f":"LOOKUP(B50,Data!$A$6:$A$1806,Data!C$6:C$1806)","v":3666.787353515625},null,null,null,-15.2008056640625,-15.366083716864825,null,null,-0.30971686556440797,{"$f":"M51-L50-(I51-I50)","v":3666.5666325246484},null,null,null,null,null,null,null,"T-58 sec",40098.101655092643,{"$f":"LOOKUP($V50,Data!$A$6:$A$1806,Data!$B$6:$B$1806)","v":60.019001007080078},{"$f":"LOOKUP($V50,Data!$A$6:$A$1806,Data!$C$6:$C$1806)","v":3666.787353515625},{"$f":"LOOKUP($V50,Data!$A$6:$A$1806,Data!$D$6:$D$1806)","v":350},{"$f":"IF($Z$1=\"+\",LOOKUP($V50,Data!$A$6:$A$1806,Data!$E$6:$E$1806)*-1,LOOKUP($V50,Data!$A$6:$A$1806,Data!$E$6:$E$1806))","v":-253.63186645507812},{"$f":"LOOKUP($V50,Data!$A$6:$A$1806,Data!$F$6:$F$1806)","v":0},{"$f":"LOOKUP($V50,Data!$A$6:$A$1806,Data!$G$6:$G$1806)","v":143.5},{"$f":"LOOKUP($V50,Data!$A$6:$A$1806,Data!$H$6:$H$1806)","v":10},{"$f":"LOOKUP($V50,Data!$A$6:$A$1806,Data!$I$6:$I$1806)","v":15},{"$f":"LOOKUP($V50,Data!$A$6:$A$1806,Data!$J$6:$J$1806)","v":-103},{"$f":"LOOKUP($V50,Data!$A$6:$A$1806,Data!$K$6:$K$1806)","v":7594.71},-15.2008056640625,"T-58 sec",40098.101655092643]
["T-56 sec",40098.10167824079,{"$f":"LOOKUP(B51,Data!$A$6:$A$1806,Data!B$6:B$1806)","v":60.019001007080078},{"$f":"LOOKUP(B51,Data!$A$6:$A$1806,Data!C$6:C$1806)","v":3670.45361328125},null,null,null,-15.2008056640625,-15.308236398384011,null,null,-0.30971686556440797,3666.3147629775649,null,null,null,null,null,null,null,"T-56 sec",40098.10167824079,{"$f":"LOOKUP($V51,Data!$A$6:$A$1806,Data!$B$6:$B$1806)","v":60.019001007080078},{"$f":"LOOKUP($V51,Data!$A$6:$A$1806,Data!$C$6:$C$1806)","v":3670.45361328125},{"$f":"LOOKUP($V51,Data!$A$6:$A$1806,Data!$D$6:$D$1806)","v":350},{"$f":"IF($Z$1=\"+\",LOOKUP($V51,Data!$A$6:$A$1806,Data!$E$6:$E$1806)*-1,LOOKUP($V51,Data!$A$6:$A$1806,Data!$E$6:$E$1806))","v":-246.95730590820312},{"$f":"LOOKUP($V51,Data!$A$6:$A$1806,Data!$F$6:$F$1806)","v":0},{"$f":"LOOKUP($V51,Data!$A$6:$A$1806,Data!$G$6:$G$1806)","v":144},{"$f":"LOOKUP($V51,Data!$A$6:$A$1806,Data!$H$6:$H$1806)","v":10},{"$f":"LOOKUP($V51,Data!$A$6:$A$1806,Data!$I$6:$I$1806)","v":15},{"$f":"LOOKUP($V51,Data!$A$6:$A$1806,Data!$J$6:$J$1806)","v":-103},{"$f":"LOOKUP($V51,Data!$A$6:$A$1806,Data!$K$6:$K$1806)","v":7595.04},-15.2008056640625,"T-56 sec",40098.10167824079]
["T-54 sec",40098.101701388936,{"$f":"LOOKUP(B52,Data!$A$6:$A$1806,Data!B$6:B$1806)","v":60.020999908447266},{"$f":"LOOKUP(B52,Data!$A$6:$A$1806,Data!C$6:C$1806)","v":3671.66796875},null,null,null,-16.7999267578125,-15.830328024183983,null,null,-0.30971686556440797,3665.4829544862005,null,null,null,null,null,null,null,"T-54 sec",40098.101701388936,{"$f":"LOOKUP($V52,Data!$A$6:$A$1806,Data!$B$6:$B$1806)","v":60.020999908447266},{"$f":"LOOKUP($V52,Data!$A$6:$A$1806,Data!$C$6:$C$1806)","v":3671.66796875},{"$f":"LOOKUP($V52,Data!$A$6:$A$1806,Data!$D$6:$D$1806)","v":350},{"$f":"IF($Z$1=\"+\",LOOKUP($V52,Data!$A$6:$A$1806,Data!$E$6:$E$1806)*-1,LOOKUP($V52,Data!$A$6:$A$1806,Data!$E$6:$E$1806))","v":-246.95730590820312},{"$f":"LOOKUP($V52,Data!$A$6:$A$1806,Data!$F$6:$F$1806)","v":0},{"$f":"LOOKUP($V52,Data!$A$6:$A$1806,Data!$G$6:$G$1806)","v":144.5},{"$f":"LOOKUP($V52,Data!$A$6:$A$1806,Data!$H$6:$H$1806)","v":10},{"$f":"LOOKUP($V52,Data!$A$6:$A$1806,Data!$I$6:$I$1806)","v":15},{"$f":"LOOKUP($V52,Data!$A$6:$A$1806,Data!$J$6:$J$1806)","v":-103},{"$f":"LOOKUP($V52,Data!$A$6:$A$1806,Data!$K$6:$K$1806)","v":7595.37},-16.7999267578125,"T-54 sec",40098.101701388936]
["T-52 sec",40098.101724537082,{"$f":"LOOKUP(B53,Data!$A$6:$A$1806,Data!B$6:B$1806)","v":60.020999908447266},{"$f":"LOOKUP(B53,Data!$A$6:$A$1806,Data!C$6:C$1806)","v":3671.66796875},null,null,null,-16.7999267578125,-16.169687580953962,null,null,-0.30971686556440797,3664.833878063866,null,null,null,null,null,null,null,"T-52 sec",40098.101724537082,{"$f":"LOOKUP($V53,Data!$A$6:$A$1806,Data!$B$6:$B$1806)","v":60.020999908447266},{"$f":"LOOKUP($V53,Data!$A$6:$A$1806,Data!$C$6:$C$1806)","v":3671.66796875},{"$f":"LOOKUP($V53,Data!$A$6:$A$1806,Data!$D$6:$D$1806)","v":350},{"$f":"IF($Z$1=\"+\",LOOKUP($V53,Data!$A$6:$A$1806,Data!$E$6:$E$1806)*-1,LOOKUP($V53,Data!$A$6:$A$1806,Data!$E$6:$E$1806))","v":-246.95730590820312},{"$f":"LOOKUP($V53,Data!$A$6:$A$1806,Data!$F$6:$F$1806)","v":0},{"$f":"LOOKUP($V53,Data!$A$6:$A$1806,Data!$G$6:$G$1806)","v":144.5},{"$f":"LOOKUP($V53,Data!$A$6:$A$1806,Data!$H$6:$H$1806)","v":10},{"$f":"LOOKUP($V53,Data!$A$6:$A$1806,Data!$I$6:$I$1806)","v":15},{"$f":"LOOKUP($V53,Data!$A$6:$A$1806,Data!$J$6:$J$1806)","v":-103},{"$f":"LOOKUP($V53,Data!$A$6:$A$1806,Data!$K$6:$K$1806)","v":7595.37},-16.7999267578125,"T-52 sec",40098.101724537082]
["T-50 sec",40098.101747685228,{"$f":"LOOKUP(B54,Data!$A$6:$A$1806,Data!B$6:B$1806)","v":60.020999908447266},{"$f":"LOOKUP(B54,Data!$A$6:$A$1806,Data!C$6:C$1806)","v":3672.4931640625},null,null,null,-16.7999267578125,-16.39027129285445,null,null,-0.30971686556440797,3664.3035774864011,null,null,null,null,null,null,null,"T-50 sec",40098.101747685228,{"$f":"LOOKUP($V54,Data!$A$6:$A$1806,Data!$B$6:$B$1806)","v":60.020999908447266},{"$f":"LOOKUP($V54,Data!$A$6:$A$1806,Data!$C$6:$C$1806)","v":3672.4931640625},{"$f":"LOOKUP($V54,Data!$A$6:$A$1806,Data!$D$6:$D$1806)","v":350},{"$f":"IF($Z$1=\"+\",LOOKUP($V54,Data!$A$6:$A$1806,Data!$E$6:$E$1806)*-1,LOOKUP($V54,Data!$A$6:$A$1806,Data!$E$6:$E$1806))","v":-246.95730590820312},{"$f":"LOOKUP($V54,Data!$A$6:$A$1806,Data!$F$6:$F$1806)","v":0},{"$f":"LOOKUP($V54,Data!$A$6:$A$1806,Data!$G$6:$G$1806)","v":145},{"$f":"LOOKUP($V54,Data!$A$6:$A$1806,Data!$H$6:$H$1806)","v":10},{"$f":"LOOKUP($V54,Data!$A$6:$A$1806,Data!$I$6:$I$1806)","v":15},{"$f":"LOOKUP($V54,Data!$A$6:$A$1806,Data!$J$6:$J$1806)","v":-103},{"$f":"LOOKUP($V54,Data!$A$6:$A$1806,Data!$K$6:$K$1806)","v":7595.7},-16.7999267578125,"T-50 sec",40098.101747685228]
["T-48 sec",40098.101770833375,{"$f":"LOOKUP(B55,Data!$A$6:$A$1806,Data!B$6:B$1806)","v":60.019001007080078},{"$f":"LOOKUP(B55,Data!$A$6:$A$1806,Data!C$6:C$1806)","v":3672.857421875},null,null,null,-15.2008056640625,-15.973958322777268,null,null,-0.30971686556440797,3664.4101735909139,null,null,null,null,null,null,null,"T-48 sec",40098.101770833375,{"$f":"LOOKUP($V55,Data!$A$6:$A$1806,Data!$B$6:$B$1806)","v":60.019001007080078},{"$f":"LOOKUP($V55,Data!$A$6:$A$1806,Data!$C$6:$C$1806)","v":3672.857421875},{"$f":"LOOKUP($V55,Data!$A$6:$A$1806,Data!$D$6:$D$1806)","v":350},{"$f":"IF($Z$1=\"+\",LOOKUP($V55,Data!$A$6:$A$1806,Data!$E$6:$E$1806)*-1,LOOKUP($V55,Data!$A$6:$A$1806,Data!$E$6:$E$1806))","v":-246.95730590820312},{"$f":"LOOKUP($V55,Data!$A$6:$A$1806,Data!$F$6:$F$1806)","v":0},{"$f":"LOOKUP($V55,Data!$A$6:$A$1806,Data!$G$6:$G$1806)","v":145.5},{"$f":"LOOKUP($V55,Data!$A$6:$A$1806,Data!$H$6:$H$1806)","v":10},{"$f":"LOOKUP($V55,Data!$A$6:$A$1806,Data!$I$6:$I$1806)","v":15},{"$f":"LOOKUP($V55,Data!$A$6:$A$1806,Data!$J$6:$J$1806)","v":-103},{"$f":"LOOKUP($V55,Data!$A$6:$A$1806,Data!$K$6:$K$1806)","v":7596.03},-15.2008056640625,"T-48 sec",40098.101770833375]
["T-46 sec",40098.101793981521,{"$f":"LOOKUP(B56,Data!$A$6:$A$1806,Data!B$6:B$1806)","v":60.019001007080078},{"$f":"LOOKUP(B56,Data!$A$6:$A$1806,Data!C$6:C$1806)","v":3672.857421875},null,null,null,-15.2008056640625,-15.703354892227098,null,null,-0.30971686556440797,3664.3710601558996,null,null,null,null,null,null,null,"T-46 sec",40098.101793981521,{"$f":"LOOKUP($V56,Data!$A$6:$A$1806,Data!$B$6:$B$1806)","v":60.019001007080078},{"$f":"LOOKUP($V56,Data!$A$6:$A$1806,Data!$C$6:$C$1806)","v":3672.857421875},{"$f":"LOOKUP($V56,Data!$A$6:$A$1806,Data!$D$6:$D$1806)","v":350},{"$f":"IF($Z$1=\"+\",LOOKUP($V56,Data!$A$6:$A$1806,Data!$E$6:$E$1806)*-1,LOOKUP($V56,Data!$A$6:$A$1806,Data!$E$6:$E$1806))","v":-246.95730590820312},{"$f":"LOOKUP($V56,Data!$A$6:$A$1806,Data!$F$6:$F$1806)","v":0},{"$f":"LOOKUP($V56,Data!$A$6:$A$1806,Data!$G$6:$G$1806)","v":145.5},{"$f":"LOOKUP($V56,Data!$A$6:$A$1806,Data!$H$6:$H$1806)","v":10},{"$f":"LOOKUP($V56,Data!$A$6:$A$1806,Data!$I$6:$I$1806)","v":15},{"$f":"LOOKUP($V56,Data!$A$6:$A$1806,Data!$J$6:$J$1806)","v":-103},{"$f":"LOOKUP($V56,Data!$A$6:$A$1806,Data!$K$6:$K$1806)","v":7596.03},-15.2008056640625,"T-46 sec",40098.101793981521]
["T-44 sec",40098.101817129667,{"$f":"LOOKUP(B57,Data!$A$6:$A$1806,Data!B$6:B$1806)","v":60.021999359130859},{"$f":"LOOKUP(B57,Data!$A$6:$A$1806,Data!C$6:C$1806)","v":3672.1640625},null,null,null,-17.5994873046875,-16.367001236588237,null,null,-0.30971686556440797,3663.3976969459741,null,null,null,null,null,null,null,"T-44 sec",40098.101817129667,{"$f":"LOOKUP($V57,Data!$A$6:$A$1806,Data!$B$6:$B$1806)","v":60.021999359130859},{"$f":"LOOKUP($V57,Data!$A$6:$A$1806,Data!$C$6:$C$1806)","v":3672.1640625},{"$f":"LOOKUP($V57,Data!$A$6:$A$1806,Data!$D$6:$D$1806)","v":350},{"$f":"IF($Z$1=\"+\",LOOKUP($V57,Data!$A$6:$A$1806,Data!$E$6:$E$1806)*-1,LOOKUP($V57,Data!$A$6:$A$1806,Data!$E$6:$E$1806))","v":-246.95730590820312},{"$f":"LOOKUP($V57,Data!$A$6:$A$1806,Data!$F$6:$F$1806)","v":0},{"$f":"LOOKUP($V57,Data!$A$6:$A$1806,Data!$G$6:$G$1806)","v":146},{"$f":"LOOKUP($V57,Data!$A$6:$A$1806,Data!$H$6:$H$1806)","v":10},{"$f":"LOOKUP($V57,Data!$A$6:$A$1806,Data!$I$6:$I$1806)","v":15},{"$f":"LOOKUP($V57,Data!$A$6:$A$1806,Data!$J$6:$J$1806)","v":-103},{"$f":"LOOKUP($V57,Data!$A$6:$A$1806,Data!$K$6:$K$1806)","v":7596.36},-17.5994873046875,"T-44 sec",40098.101817129667]
["T-42 sec",40098.101840277814,{"$f":"LOOKUP(B58,Data!$A$6:$A$1806,Data!B$6:B$1806)","v":60.030998229980469},{"$f":"LOOKUP(B58,Data!$A$6:$A$1806,Data!C$6:C$1806)","v":3669.98291015625},null,null,null,-24.798583984375,-19.318055198313605,null,null,-0.30971686556440797,3660.1369261186842,null,null,null,null,null,null,null,"T-42 sec",40098.101840277814,{"$f":"LOOKUP($V58,Data!$A$6:$A$1806,Data!$B$6:$B$1806)","v":60.030998229980469},{"$f":"LOOKUP($V58,Data!$A$6:$A$1806,Data!$C$6:$C$1806)","v":3669.98291015625},{"$f":"LOOKUP($V58,Data!$A$6:$A$1806,Data!$D$6:$D$1806)","v":350},{"$f":"IF($Z$1=\"+\",LOOKUP($V58,Data!$A$6:$A$1806,Data!$E$6:$E$1806)*-1,LOOKUP($V58,Data!$A$6:$A$1806,Data!$E$6:$E$1806))","v":-254.54177856445312},{"$f":"LOOKUP($V58,Data!$A$6:$A$1806,Data!$F$6:$F$1806)","v":0},{"$f":"LOOKUP($V58,Data!$A$6:$A$1806,Data!$G$6:$G$1806)","v":146.5},{"$f":"LOOKUP($V58,Data!$A$6:$A$1806,Data!$H$6:$H$1806)","v":10},{"$f":"LOOKUP($V58,Data!$A$6:$A$1806,Data!$I$6:$I$1806)","v":15},{"$f":"LOOKUP($V58,Data!$A$6:$A$1806,Data!$J$6:$J$1806)","v":-103},{"$f":"LOOKUP($V58,Data!$A$6:$A$1806,Data!$K$6:$K$1806)","v":7596.69},-24.798583984375,"T-42 sec",40098.101840277814]
["T-40 sec",40098.10186342596,{"$f":"LOOKUP(B59,Data!$A$6:$A$1806,Data!B$6:B$1806)","v":60.030998229980469},{"$f":"LOOKUP(B59,Data!$A$6:$A$1806,Data!C$6:C$1806)","v":3669.98291015625},null,null,null,-24.798583984375,-21.236240273435094,null,null,-0.30971686556440797,3657.9090241779982,null,null,null,null,null,null,null,"T-40 sec",40098.10186342596,{"$f":"LOOKUP($V59,Data!$A$6:$A$1806,Data!$B$6:$B$1806)","v":60.030998229980469},{"$f":"LOOKUP($V59,Data!$A$6:$A$1806,Data!$C$6:$C$1806)","v":3669.98291015625},{"$f":"LOOKUP($V59,Data!$A$6:$A$1806,Data!$D$6:$D$1806)","v":350},{"$f":"IF($Z$1=\"+\",LOOKUP($V59,Data!$A$6:$A$1806,Data!$E$6:$E$1806)*-1,LOOKUP($V59,Data!$A$6:$A$1806,Data!$E$6:$E$1806))","v":-254.54177856445312},{"$f":"LOOKUP($V59,Data!$A$6:$A$1806,Data!$F$6:$F$1806)","v":0},{"$f":"LOOKUP($V59,Data!$A$6:$A$1806,Data!$G$6:$G$1806)","v":146.5},{"$f":"LOOKUP($V59,Data!$A$6:$A$1806,Data!$H$6:$H$1806)","v":10},{"$f":"LOOKUP($V59,Data!$A$6:$A$1806,Data!$I$6:$I$1806)","v":15},{"$f":"LOOKUP($V59,Data!$A$6:$A$1806,Data!$J$6:$J$1806)","v":-103},{"$f":"LOOKUP($V59,Data!$A$6:$A$1806,Data!$K$6:$K$1806)","v":7596.69},-24.798583984375,"T-40 sec",40098.10186342596]
["T-38 sec",40098.101886574106,{"$f":"LOOKUP(B60,Data!$A$6:$A$1806,Data!B$6:B$1806)","v":60.036998748779297},{"$f":"LOOKUP(B60,Data!$A$6:$A$1806,Data!C$6:C$1806)","v":3666.46728515625},null,null,null,-29.5989990234375,-24.163205835935937,null,null,-0.30971686556440797,3654.6723417499329,null,null,null,null,null,null,null,"T-38 sec",40098.101886574106,{"$f":"LOOKUP($V60,Data!$A$6:$A$1806,Data!$B$6:$B$1806)","v":60.036998748779297},{"$f":"LOOKUP($V60,Data!$A$6:$A$1806,Data!$C$6:$C$1806)","v":3666.46728515625},{"$f":"LOOKUP($V60,Data!$A$6:$A$1806,Data!$D$6:$D$1806)","v":350},{"$f":"IF($Z$1=\"+\",LOOKUP($V60,Data!$A$6:$A$1806,Data!$E$6:$E$1806)*-1,LOOKUP($V60,Data!$A$6:$A$1806,Data!$E$6:$E$1806))","v":-254.54177856445312},{"$f":"LOOKUP($V60,Data!$A$6:$A$1806,Data!$F$6:$F$1806)","v":0},{"$f":"LOOKUP($V60,Data!$A$6:$A$1806,Data!$G$6:$G$1806)","v":147},{"$f":"LOOKUP($V60,Data!$A$6:$A$1806,Data!$H$6:$H$1806)","v":10},{"$f":"LOOKUP($V60,Data!$A$6:$A$1806,Data!$I$6:$I$1806)","v":15},{"$f":"LOOKUP($V60,Data!$A$6:$A$1806,Data!$J$6:$J$1806)","v":-103},{"$f":"LOOKUP($V60,Data!$A$6:$A$1806,Data!$K$6:$K$1806)","v":7597.02},-29.5989990234375,"T-38 sec",40098.101886574106]
["T-36 sec",40098.101909722252,{"$f":"LOOKUP(B61,Data!$A$6:$A$1806,Data!B$6:B$1806)","v":60.035999298095703},{"$f":"LOOKUP(B61,Data!$A$6:$A$1806,Data!C$6:C$1806)","v":3661.59912109375},null,null,null,-28.7994384765625,-25.785887260155235,null,null,-0.30971686556440797,3652.7399434601493,null,null,null,null,null,null,null,"T-36 sec",40098.101909722252,{"$f":"LOOKUP($V61,Data!$A$6:$A$1806,Data!$B$6:$B$1806)","v":60.035999298095703},{"$f":"LOOKUP($V61,Data!$A$6:$A$1806,Data!$C$6:$C$1806)","v":3661.59912109375},{"$f":"LOOKUP($V61,Data!$A$6:$A$1806,Data!$D$6:$D$1806)","v":350},{"$f":"IF($Z$1=\"+\",LOOKUP($V61,Data!$A$6:$A$1806,Data!$E$6:$E$1806)*-1,LOOKUP($V61,Data!$A$6:$A$1806,Data!$E$6:$E$1806))","v":-254.54177856445312},{"$f":"LOOKUP($V61,Data!$A$6:$A$1806,Data!$F$6:$F$1806)","v":0},{"$f":"LOOKUP($V61,Data!$A$6:$A$1806,Data!$G$6:$G$1806)","v":147.5},{"$f":"LOOKUP($V61,Data!$A$6:$A$1806,Data!$H$6:$H$1806)","v":10},{"$f":"LOOKUP($V61,Data!$A$6:$A$1806,Data!$I$6:$I$1806)","v":15},{"$f":"LOOKUP($V61,Data!$A$6:$A$1806,Data!$J$6:$J$1806)","v":-103},{"$f":"LOOKUP($V61,Data!$A$6:$A$1806,Data!$K$6:$K$1806)","v":7597.35},-28.7994384765625,"T-36 sec",40098.101909722252]
["T-34 sec",40098.101932870399,{"$f":"LOOKUP(B62,Data!$A$6:$A$1806,Data!B$6:B$1806)","v":60.035999298095703},{"$f":"LOOKUP(B62,Data!$A$6:$A$1806,Data!C$6:C$1806)","v":3661.59912109375},null,null,null,-28.7994384765625,-26.84063018589778,null,null,-0.30971686556440797,3651.3754836688422,null,null,null,null,null,null,null,"T-34 sec",40098.101932870399,{"$f":"LOOKUP($V62,Data!$A$6:$A$1806,Data!$B$6:$B$1806)","v":60.035999298095703},{"$f":"LOOKUP($V62,Data!$A$6:$A$1806,Data!$C$6:$C$1806)","v":3661.59912109375},{"$f":"LOOKUP($V62,Data!$A$6:$A$1806,Data!$D$6:$D$1806)","v":350},{"$f":"IF($Z$1=\"+\",LOOKUP($V62,Data!$A$6:$A$1806,Data!$E$6:$E$1806)*-1,LOOKUP($V62,Data!$A$6:$A$1806,Data!$E$6:$E$1806))","v":-254.54177856445312},{"$f":"LOOKUP($V62,Data!$A$6:$A$1806,Data!$F$6:$F$1806)","v":0},{"$f":"LOOKUP($V62,Data!$A$6:$A$1806,Data!$G$6:$G$1806)","v":147.5},{"$f":"LOOKUP($V62,Data!$A$6:$A$1806,Data!$H$6:$H$1806)","v":10},{"$f":"LOOKUP($V62,Data!$A$6:$A$1806,Data!$I$6:$I$1806)","v":15},{"$f":"LOOKUP($V62,Data!$A$6:$A$1806,Data!$J$6:$J$1806)","v":-103},{"$f":"LOOKUP($V62,Data!$A$6:$A$1806,Data!$K$6:$K$1806)","v":7597.35},-28.7994384765625,"T-34 sec",40098.101932870399]
["T-32 sec",40098.101956018545,{"$f":"LOOKUP(B63,Data!$A$6:$A$1806,Data!B$6:B$1806)","v":60.046001434326172},{"$f":"LOOKUP(B63,Data!$A$6:$A$1806,Data!C$6:C$1806)","v":3660.67236328125},null,null,null,-36.8011474609375,-30.326811232161681,null,null,-0.30971686556440797,3647.5795857570138,null,null,null,null,null,null,null,"T-32 sec",40098.101956018545,{"$f":"LOOKUP($V63,Data!$A$6:$A$1806,Data!$B$6:$B$1806)","v":60.046001434326172},{"$f":"LOOKUP($V63,Data!$A$6:$A$1806,Data!$C$6:$C$1806)","v":3660.67236328125},{"$f":"LOOKUP($V63,Data!$A$6:$A$1806,Data!$D$6:$D$1806)","v":350},{"$f":"IF($Z$1=\"+\",LOOKUP($V63,Data!$A$6:$A$1806,Data!$E$6:$E$1806)*-1,LOOKUP($V63,Data!$A$6:$A$1806,Data!$E$6:$E$1806))","v":-254.54177856445312},{"$f":"LOOKUP($V63,Data!$A$6:$A$1806,Data!$F$6:$F$1806)","v":0},{"$f":"LOOKUP($V63,Data!$A$6:$A$1806,Data!$G$6:$G$1806)","v":148},{"$f":"LOOKUP($V63,Data!$A$6:$A$1806,Data!$H$6:$H$1806)","v":10},{"$f":"LOOKUP($V63,Data!$A$6:$A$1806,Data!$I$6:$I$1806)","v":15},{"$f":"LOOKUP($V63,Data!$A$6:$A$1806,Data!$J$6:$J$1806)","v":-103},{"$f":"LOOKUP($V63,Data!$A$6:$A$1806,Data!$K$6:$K$1806)","v":7597.68},-36.8011474609375,"T-32 sec",40098.101956018545]
["T-30 sec",40098.101979166691,{"$f":"LOOKUP(B64,Data!$A$6:$A$1806,Data!B$6:B$1806)","v":60.048000335693359},{"$f":"LOOKUP(B64,Data!$A$6:$A$1806,Data!C$6:C$1806)","v":3649.1904296875},null,null,null,-38.4002685546875,-33.152521295045716,null,null,-0.30971686556440797,3644.4441588285654,null,null,null,null,null,null,null,"T-30 sec",40098.101979166691,{"$f":"LOOKUP($V64,Data!$A$6:$A$1806,Data!$B$6:$B$1806)","v":60.048000335693359},{"$f":"LOOKUP($V64,Data!$A$6:$A$1806,Data!$C$6:$C$1806)","v":3649.1904296875},{"$f":"LOOKUP($V64,Data!$A$6:$A$1806,Data!$D$6:$D$1806)","v":350},{"$f":"IF($Z$1=\"+\",LOOKUP($V64,Data!$A$6:$A$1806,Data!$E$6:$E$1806)*-1,LOOKUP($V64,Data!$A$6:$A$1806,Data!$E$6:$E$1806))","v":-165.1016845703125},{"$f":"LOOKUP($V64,Data!$A$6:$A$1806,Data!$F$6:$F$1806)","v":0},{"$f":"LOOKUP($V64,Data!$A$6:$A$1806,Data!$G$6:$G$1806)","v":148.5},{"$f":"LOOKUP($V64,Data!$A$6:$A$1806,Data!$H$6:$H$1806)","v":10},{"$f":"LOOKUP($V64,Data!$A$6:$A$1806,Data!$I$6:$I$1806)","v":15},{"$f":"LOOKUP($V64,Data!$A$6:$A$1806,Data!$J$6:$J$1806)","v":-103},{"$f":"LOOKUP($V64,Data!$A$6:$A$1806,Data!$K$6:$K$1806)","v":7598.01},-38.4002685546875,"T-30 sec",40098.101979166691]
["T-28 sec",40098.102002314838,{"$f":"LOOKUP(B65,Data!$A$6:$A$1806,Data!B$6:B$1806)","v":60.048000335693359},{"$f":"LOOKUP(B65,Data!$A$6:$A$1806,Data!C$6:C$1806)","v":3649.1904296875},null,null,null,-38.4002685546875,-34.98923283592034,null,null,-0.30971686556440797,3642.2977304221263,null,null,null,null,null,null,null,"T-28 sec",40098.102002314838,{"$f":"LOOKUP($V65,Data!$A$6:$A$1806,Data!$B$6:$B$1806)","v":60.048000335693359},{"$f":"LOOKUP($V65,Data!$A$6:$A$1806,Data!$C$6:$C$1806)","v":3649.1904296875},{"$f":"LOOKUP($V65,Data!$A$6:$A$1806,Data!$D$6:$D$1806)","v":350},{"$f":"IF($Z$1=\"+\",LOOKUP($V65,Data!$A$6:$A$1806,Data!$E$6:$E$1806)*-1,LOOKUP($V65,Data!$A$6:$A$1806,Data!$E$6:$E$1806))","v":-165.1016845703125},{"$f":"LOOKUP($V65,Data!$A$6:$A$1806,Data!$F$6:$F$1806)","v":0},{"$f":"LOOKUP($V65,Data!$A$6:$A$1806,Data!$G$6:$G$1806)","v":148.5},{"$f":"LOOKUP($V65,Data!$A$6:$A$1806,Data!$H$6:$H$1806)","v":10},{"$f":"LOOKUP($V65,Data!$A$6:$A$1806,Data!$I$6:$I$1806)","v":15},{"$f":"LOOKUP($V65,Data!$A$6:$A$1806,Data!$J$6:$J$1806)","v":-103},{"$f":"LOOKUP($V65,Data!$A$6:$A$1806,Data!$K$6:$K$1806)","v":7598.01},-38.4002685546875,"T-28 sec",40098.102002314838]
["T-26 sec",40098.102025462984,{"$f":"LOOKUP(B66,Data!$A$6:$A$1806,Data!B$6:B$1806)","v":60.042999267578125},{"$f":"LOOKUP(B66,Data!$A$6:$A$1806,Data!C$6:C$1806)","v":3650.025146484375},null,null,null,-34.3994140625,-34.782796265223226,null,null,-0.30971686556440797,3642.1944501272587,null,null,null,null,null,null,null,"T-26 sec",40098.102025462984,{"$f":"LOOKUP($V66,Data!$A$6:$A$1806,Data!$B$6:$B$1806)","v":60.042999267578125},{"$f":"LOOKUP($V66,Data!$A$6:$A$1806,Data!$C$6:$C$1806)","v":3650.025146484375},{"$f":"LOOKUP($V66,Data!$A$6:$A$1806,Data!$D$6:$D$1806)","v":350},{"$f":"IF($Z$1=\"+\",LOOKUP($V66,Data!$A$6:$A$1806,Data!$E$6:$E$1806)*-1,LOOKUP($V66,Data!$A$6:$A$1806,Data!$E$6:$E$1806))","v":-165.1016845703125},{"$f":"LOOKUP($V66,Data!$A$6:$A$1806,Data!$F$6:$F$1806)","v":0},{"$f":"LOOKUP($V66,Data!$A$6:$A$1806,Data!$G$6:$G$1806)","v":149},{"$f":"LOOKUP($V66,Data!$A$6:$A$1806,Data!$H$6:$H$1806)","v":10},{"$f":"LOOKUP($V66,Data!$A$6:$A$1806,Data!$I$6:$I$1806)","v":15},{"$f":"LOOKUP($V66,Data!$A$6:$A$1806,Data!$J$6:$J$1806)","v":-103},{"$f":"LOOKUP($V66,Data!$A$6:$A$1806,Data!$K$6:$K$1806)","v":7598.34},-34.3994140625,"T-26 sec",40098.102025462984]
["T-24 sec",40098.10204861113,{"$f":"LOOKUP(B67,Data!$A$6:$A$1806,Data!B$6:B$1806)","v":60.041000366210938},{"$f":"LOOKUP(B67,Data!$A$6:$A$1806,Data!C$6:C$1806)","v":3649.511962890625},null,null,null,-32.80029296875,-34.088920111457597,null,null,-0.30971686556440797,3642.5786094154601,null,null,null,null,null,null,null,"T-24 sec",40098.10204861113,{"$f":"LOOKUP($V67,Data!$A$6:$A$1806,Data!$B$6:$B$1806)","v":60.041000366210938},{"$f":"LOOKUP($V67,Data!$A$6:$A$1806,Data!$C$6:$C$1806)","v":3649.511962890625},{"$f":"LOOKUP($V67,Data!$A$6:$A$1806,Data!$D$6:$D$1806)","v":350},{"$f":"IF($Z$1=\"+\",LOOKUP($V67,Data!$A$6:$A$1806,Data!$E$6:$E$1806)*-1,LOOKUP($V67,Data!$A$6:$A$1806,Data!$E$6:$E$1806))","v":-165.1016845703125},{"$f":"LOOKUP($V67,Data!$A$6:$A$1806,Data!$F$6:$F$1806)","v":0},{"$f":"LOOKUP($V67,Data!$A$6:$A$1806,Data!$G$6:$G$1806)","v":149.5},{"$f":"LOOKUP($V67,Data!$A$6:$A$1806,Data!$H$6:$H$1806)","v":10},{"$f":"LOOKUP($V67,Data!$A$6:$A$1806,Data!$I$6:$I$1806)","v":15},{"$f":"LOOKUP($V67,Data!$A$6:$A$1806,Data!$J$6:$J$1806)","v":-103},{"$f":"LOOKUP($V67,Data!$A$6:$A$1806,Data!$K$6:$K$1806)","v":7598.67},-32.80029296875,"T-24 sec",40098.10204861113]
["T-22 sec",40098.102071759276,{"$f":"LOOKUP(B68,Data!$A$6:$A$1806,Data!B$6:B$1806)","v":60.041000366210938},{"$f":"LOOKUP(B68,Data!$A$6:$A$1806,Data!C$6:C$1806)","v":3649.511962890625},null,null,null,-32.80029296875,-33.637900611509934,null,null,-0.30971686556440797,3642.7199120498431,null,null,null,null,null,null,null,"T-22 sec",40098.102071759276,{"$f":"LOOKUP($V68,Data!$A$6:$A$1806,Data!$B$6:$B$1806)","v":60.041000366210938},{"$f":"LOOKUP($V68,Data!$A$6:$A$1806,Data!$C$6:$C$1806)","v":3649.511962890625},{"$f":"LOOKUP($V68,Data!$A$6:$A$1806,Data!$D$6:$D$1806)","v":350},{"$f":"IF($Z$1=\"+\",LOOKUP($V68,Data!$A$6:$A$1806,Data!$E$6:$E$1806)*-1,LOOKUP($V68,Data!$A$6:$A$1806,Data!$E$6:$E$1806))","v":-165.1016845703125},{"$f":"LOOKUP($V68,Data!$A$6:$A$1806,Data!$F$6:$F$1806)","v":0},{"$f":"LOOKUP($V68,Data!$A$6:$A$1806,Data!$G$6:$G$1806)","v":149.5},{"$f":"LOOKUP($V68,Data!$A$6:$A$1806,Data!$H$6:$H$1806)","v":10},{"$f":"LOOKUP($V68,Data!$A$6:$A$1806,Data!$I$6:$I$1806)","v":15},{"$f":"LOOKUP($V68,Data!$A$6:$A$1806,Data!$J$6:$J$1806)","v":-103},{"$f":"LOOKUP($V68,Data!$A$6:$A$1806,Data!$K$6:$K$1806)","v":7598.67},-32.80029296875,"T-22 sec",40098.102071759276]
["T-20 sec",40098.102094907423,{"$f":"LOOKUP(B69,Data!$A$6:$A$1806,Data!B$6:B$1806)","v":60.041000366210938},{"$f":"LOOKUP(B69,Data!$A$6:$A$1806,Data!C$6:C$1806)","v":3654.29443359375},null,null,null,-32.80029296875,-33.344737936543957,null,null,-0.30971686556440797,3642.7033578592445,null,null,null,null,null,null,null,"T-20 sec",40098.102094907423,{"$f":"LOOKUP($V69,Data!$A$6:$A$1806,Data!$B$6:$B$1806)","v":60.041000366210938},{"$f":"LOOKUP($V69,Data!$A$6:$A$1806,Data!$C$6:$C$1806)","v":3654.29443359375},{"$f":"LOOKUP($V69,Data!$A$6:$A$1806,Data!$D$6:$D$1806)","v":350},{"$f":"IF($Z$1=\"+\",LOOKUP($V69,Data!$A$6:$A$1806,Data!$E$6:$E$1806)*-1,LOOKUP($V69,Data!$A$6:$A$1806,Data!$E$6:$E$1806))","v":-165.1016845703125},{"$f":"LOOKUP($V69,Data!$A$6:$A$1806,Data!$F$6:$F$1806)","v":0},{"$f":"LOOKUP($V69,Data!$A$6:$A$1806,Data!$G$6:$G$1806)","v":150},{"$f":"LOOKUP($V69,Data!$A$6:$A$1806,Data!$H$6:$H$1806)","v":10},{"$f":"LOOKUP($V69,Data!$A$6:$A$1806,Data!$I$6:$I$1806)","v":15},{"$f":"LOOKUP($V69,Data!$A$6:$A$1806,Data!$J$6:$J$1806)","v":-103},{"$f":"LOOKUP($V69,Data!$A$6:$A$1806,Data!$K$6:$K$1806)","v":7599},-32.80029296875,"T-20 sec",40098.102094907423]
["T-18 sec",40098.102118055569,{"$f":"LOOKUP(B70,Data!$A$6:$A$1806,Data!B$6:B$1806)","v":60.03900146484375},{"$f":"LOOKUP(B70,Data!$A$6:$A$1806,Data!C$6:C$1806)","v":3651.874267578125},null,null,null,-31.201171875,-32.59448981500357,null,null,-0.30971686556440797,3643.1438891152206,null,null,null,null,null,null,null,"T-18 sec",40098.102118055569,{"$f":"LOOKUP($V70,Data!$A$6:$A$1806,Data!$B$6:$B$1806)","v":60.03900146484375},{"$f":"LOOKUP($V70,Data!$A$6:$A$1806,Data!$C$6:$C$1806)","v":3651.874267578125},{"$f":"LOOKUP($V70,Data!$A$6:$A$1806,Data!$D$6:$D$1806)","v":350},{"$f":"IF($Z$1=\"+\",LOOKUP($V70,Data!$A$6:$A$1806,Data!$E$6:$E$1806)*-1,LOOKUP($V70,Data!$A$6:$A$1806,Data!$E$6:$E$1806))","v":-165.1016845703125},{"$f":"LOOKUP($V70,Data!$A$6:$A$1806,Data!$F$6:$F$1806)","v":0},{"$f":"LOOKUP($V70,Data!$A$6:$A$1806,Data!$G$6:$G$1806)","v":150.5},{"$f":"LOOKUP($V70,Data!$A$6:$A$1806,Data!$H$6:$H$1806)","v":10},{"$f":"LOOKUP($V70,Data!$A$6:$A$1806,Data!$I$6:$I$1806)","v":15},{"$f":"LOOKUP($V70,Data!$A$6:$A$1806,Data!$J$6:$J$1806)","v":-103},{"$f":"LOOKUP($V70,Data!$A$6:$A$1806,Data!$K$6:$K$1806)","v":7599.33},-31.201171875,"T-18 sec",40098.102118055569]
["T-16 sec",40098.102141203715,{"$f":"LOOKUP(B71,Data!$A$6:$A$1806,Data!B$6:B$1806)","v":60.03900146484375},{"$f":"LOOKUP(B71,Data!$A$6:$A$1806,Data!C$6:C$1806)","v":3651.874267578125},{"$f":"AVERAGE($C$71:$C$78)","v":60.041749954223633},{"$f":"AVERAGE($D$71:$D$78)","v":3647.0458679199219},null,{"$f":"(IF((C71-$L$2)>0,((C71-$L$2-$L$5)/(($L$4*$L$2)-$L$5)*$L$3*-1),((C71-$L$2+$L$5)/(($L$4*$L$2)-$L$5)*$L$3*-1)))","v":-31.201171875},-32.106828536002325,null,null,-0.30971686556440797,3643.3218335286574,null,null,null,null,null,null,null,"T-16 sec",40098.102141203715,{"$f":"LOOKUP($V71,Data!$A$6:$A$1806,Data!$B$6:$B$1806)","v":60.03900146484375},{"$f":"LOOKUP($V71,Data!$A$6:$A$1806,Data!$C$6:$C$1806)","v":3651.874267578125},{"$f":"LOOKUP($V71,Data!$A$6:$A$1806,Data!$D$6:$D$1806)","v":350},{"$f":"IF($Z$1=\"+\",LOOKUP($V71,Data!$A$6:$A$1806,Data!$E$6:$E$1806)*-1,LOOKUP($V71,Data!$A$6:$A$1806,Data!$E$6:$E$1806))","v":-165.1016845703125},{"$f":"LOOKUP($V71,Data!$A$6:$A$1806,Data!$F$6:$F$1806)","v":0},{"$f":"LOOKUP($V71,Data!$A$6:$A$1806,Data!$G$6:$G$1806)","v":150.5},{"$f":"LOOKUP($V71,Data!$A$6:$A$1806,Data!$H$6:$H$1806)","v":10},{"$f":"LOOKUP($V71,Data!$A$6:$A$1806,Data!$I$6:$I$1806)","v":15},{"$f":"LOOKUP($V71,Data!$A$6:$A$1806,Data!$J$6:$J$1806)","v":-103},{"$f":"LOOKUP($V71,Data!$A$6:$A$1806,Data!$K$6:$K$1806)","v":7599.33},-31.201171875,"T-16 sec",40098.102141203715,{"$f":"AVERAGE($W$71:$W$78)","v":60.041749954223633},{"$f":"AVERAGE($X$71:$X$78)","v":3647.0458679199219},{"$f":"AVERAGE($Y$71:$Y$78)","v":350},{"$f":"AVERAGE($Z$71:$Z$78)","v":-165.42955589294434},{"$f":"AVERAGE($AA$71:$AA$78)","v":0},{"$f":"AVERAGE($AB$71:$AB$78)","v":151.8125},{"$f":"AVERAGE($AC$71:$AC$78)","v":10},{"$f":"AVERAGE($AD$71:$AD$78)","v":15},{"$f":"AVERAGE($AE$71:$AE$78)","v":-103},{"$f":"AVERAGE($AF$71:$AF$78)","v":7600.1962500000009},{"$f":"AVERAGE($AG$71:$AG$78)","v":-33.39996337890625}]
["T-14 sec",40098.102164351862,{"$f":"LOOKUP(B72,Data!$A$6:$A$1806,Data!B$6:B$1806)","v":60.042999267578125},{"$f":"LOOKUP(B72,Data!$A$6:$A$1806,Data!C$6:C$1806)","v":3651.059326171875},{"$f":"AVERAGE($C$71:$C$78)","v":60.041749954223633},{"$f":"AVERAGE($D$71:$D$78)","v":3647.0458679199219},null,-34.3994140625,-32.909233470276511,null,null,-0.30971686556440797,3642.2097117288185,null,null,null,null,null,null,null,"T-14 sec",40098.102164351862,{"$f":"LOOKUP($V72,Data!$A$6:$A$1806,Data!$B$6:$B$1806)","v":60.042999267578125},{"$f":"LOOKUP($V72,Data!$A$6:$A$1806,Data!$C$6:$C$1806)","v":3651.059326171875},{"$f":"LOOKUP($V72,Data!$A$6:$A$1806,Data!$D$6:$D$1806)","v":350},{"$f":"IF($Z$1=\"+\",LOOKUP($V72,Data!$A$6:$A$1806,Data!$E$6:$E$1806)*-1,LOOKUP($V72,Data!$A$6:$A$1806,Data!$E$6:$E$1806))","v":-165.47639465332031},{"$f":"LOOKUP($V72,Data!$A$6:$A$1806,Data!$F$6:$F$1806)","v":0},{"$f":"LOOKUP($V72,Data!$A$6:$A$1806,Data!$G$6:$G$1806)","v":151},{"$f":"LOOKUP($V72,Data!$A$6:$A$1806,Data!$H$6:$H$1806)","v":10},{"$f":"LOOKUP($V72,Data!$A$6:$A$1806,Data!$I$6:$I$1806)","v":15},{"$f":"LOOKUP($V72,Data!$A$6:$A$1806,Data!$J$6:$J$1806)","v":-103},{"$f":"LOOKUP($V72,Data!$A$6:$A$1806,Data!$K$6:$K$1806)","v":7599.66},-34.3994140625,"T-14 sec",40098.102164351862,{"$f":"AVERAGE($W$71:$W$78)","v":60.041749954223633},{"$f":"AVERAGE($X$71:$X$78)","v":3647.0458679199219},{"$f":"AVERAGE($Y$71:$Y$78)","v":350},{"$f":"AVERAGE($Z$71:$Z$78)","v":-165.42955589294434},{"$f":"AVERAGE($AA$71:$AA$78)","v":0},{"$f":"AVERAGE($AB$71:$AB$78)","v":151.8125},{"$f":"AVERAGE($AC$71:$AC$78)","v":10},{"$f":"AVERAGE($AD$71:$AD$78)","v":15},{"$f":"AVERAGE($AE$71:$AE$78)","v":-103},{"$f":"AVERAGE($AF$71:$AF$78)","v":7600.1962500000009},{"$f":"AVERAGE($AG$71:$AG$78)","v":-33.39996337890625}]
["T-12 sec",40098.102187500008,{"$f":"LOOKUP(B73,Data!$A$6:$A$1806,Data!B$6:B$1806)","v":60.044998168945313},{"$f":"LOOKUP(B73,Data!$A$6:$A$1806,Data!C$6:C$1806)","v":3648.236328125},60.041749954223633,3647.0458679199219,null,-35.99853515625,-33.990489060367238,null,null,-0.30971686556440797,3640.8187392731634,null,null,null,null,null,null,null,"T-12 sec",40098.102187500008,{"$f":"LOOKUP($V73,Data!$A$6:$A$1806,Data!$B$6:$B$1806)","v":60.044998168945313},{"$f":"LOOKUP($V73,Data!$A$6:$A$1806,Data!$C$6:$C$1806)","v":3648.236328125},{"$f":"LOOKUP($V73,Data!$A$6:$A$1806,Data!$D$6:$D$1806)","v":350},{"$f":"IF($Z$1=\"+\",LOOKUP($V73,Data!$A$6:$A$1806,Data!$E$6:$E$1806)*-1,LOOKUP($V73,Data!$A$6:$A$1806,Data!$E$6:$E$1806))","v":-165.47639465332031},{"$f":"LOOKUP($V73,Data!$A$6:$A$1806,Data!$F$6:$F$1806)","v":0},{"$f":"LOOKUP($V73,Data!$A$6:$A$1806,Data!$G$6:$G$1806)","v":151.5},{"$f":"LOOKUP($V73,Data!$A$6:$A$1806,Data!$H$6:$H$1806)","v":10},{"$f":"LOOKUP($V73,Data!$A$6:$A$1806,Data!$I$6:$I$1806)","v":15},{"$f":"LOOKUP($V73,Data!$A$6:$A$1806,Data!$J$6:$J$1806)","v":-103},{"$f":"LOOKUP($V73,Data!$A$6:$A$1806,Data!$K$6:$K$1806)","v":7599.99},-35.99853515625,"T-12 sec",40098.102187500008,60.041749954223633,3647.0458679199219,350,-165.42955589294434,0,151.8125,10,15,-103,7600.1962500000009,-33.39996337890625]
["T-10 sec",40098.102210648154,{"$f":"LOOKUP(B74,Data!$A$6:$A$1806,Data!B$6:B$1806)","v":60.044998168945313},{"$f":"LOOKUP(B74,Data!$A$6:$A$1806,Data!C$6:C$1806)","v":3648.236328125},60.041749954223633,3647.0458679199219,null,-35.99853515625,-34.693305193926207,null,null,-0.30971686556440797,3639.8062062740401,null,null,null,null,null,null,null,"T-10 sec",40098.102210648154,{"$f":"LOOKUP($V74,Data!$A$6:$A$1806,Data!$B$6:$B$1806)","v":60.044998168945313},{"$f":"LOOKUP($V74,Data!$A$6:$A$1806,Data!$C$6:$C$1806)","v":3648.236328125},{"$f":"LOOKUP($V74,Data!$A$6:$A$1806,Data!$D$6:$D$1806)","v":350},{"$f":"IF($Z$1=\"+\",LOOKUP($V74,Data!$A$6:$A$1806,Data!$E$6:$E$1806)*-1,LOOKUP($V74,Data!$A$6:$A$1806,Data!$E$6:$E$1806))","v":-165.47639465332031},{"$f":"LOOKUP($V74,Data!$A$6:$A$1806,Data!$F$6:$F$1806)","v":0},{"$f":"LOOKUP($V74,Data!$A$6:$A$1806,Data!$G$6:$G$1806)","v":151.5},{"$f":"LOOKUP($V74,Data!$A$6:$A$1806,Data!$H$6:$H$1806)","v":10},{"$f":"LOOKUP($V74,Data!$A$6:$A$1806,Data!$I$6:$I$1806)","v":15},{"$f":"LOOKUP($V74,Data!$A$6:$A$1806,Data!$J$6:$J$1806)","v":-103},{"$f":"LOOKUP($V74,Data!$A$6:$A$1806,Data!$K$6:$K$1806)","v":7599.99},-35.99853515625,"T-10 sec",40098.102210648154,60.041749954223633,3647.0458679199219,350,-165.42955589294434,0,151.8125,10,15,-103,7600.1962500000009,-33.39996337890625]
["T-08 sec",40098.1022337963,{"$f":"LOOKUP(B75,Data!$A$6:$A$1806,Data!B$6:B$1806)","v":60.041000366210938},{"$f":"LOOKUP(B75,Data!$A$6:$A$1806,Data!C$6:C$1806)","v":3645.386962890625},60.041749954223633,3647.0458679199219,null,-32.80029296875,-34.030750915114538,null,null,-0.30971686556440797,3640.1590436872871,null,null,null,null,null,null,null,"T-08 sec",40098.1022337963,{"$f":"LOOKUP($V75,Data!$A$6:$A$1806,Data!$B$6:$B$1806)","v":60.041000366210938},{"$f":"LOOKUP($V75,Data!$A$6:$A$1806,Data!$C$6:$C$1806)","v":3645.386962890625},{"$f":"LOOKUP($V75,Data!$A$6:$A$1806,Data!$D$6:$D$1806)","v":350},{"$f":"IF($Z$1=\"+\",LOOKUP($V75,Data!$A$6:$A$1806,Data!$E$6:$E$1806)*-1,LOOKUP($V75,Data!$A$6:$A$1806,Data!$E$6:$E$1806))","v":-165.47639465332031},{"$f":"LOOKUP($V75,Data!$A$6:$A$1806,Data!$F$6:$F$1806)","v":0},{"$f":"LOOKUP($V75,Data!$A$6:$A$1806,Data!$G$6:$G$1806)","v":152},{"$f":"LOOKUP($V75,Data!$A$6:$A$1806,Data!$H$6:$H$1806)","v":10},{"$f":"LOOKUP($V75,Data!$A$6:$A$1806,Data!$I$6:$I$1806)","v":15},{"$f":"LOOKUP($V75,Data!$A$6:$A$1806,Data!$J$6:$J$1806)","v":-103},{"$f":"LOOKUP($V75,Data!$A$6:$A$1806,Data!$K$6:$K$1806)","v":7600.32},-32.80029296875,"T-08 sec",40098.1022337963,60.041749954223633,3647.0458679199219,350,-165.42955589294434,0,151.8125,10,15,-103,7600.1962500000009,-33.39996337890625]
["T-06 sec",40098.102256944447,{"$f":"LOOKUP(B76,Data!$A$6:$A$1806,Data!B$6:B$1806)","v":60.041000366210938},{"$f":"LOOKUP(B76,Data!$A$6:$A$1806,Data!C$6:C$1806)","v":3645.44580078125},60.041749954223633,3647.0458679199219,null,-32.80029296875,-33.60009063388695,null,null,-0.30971686556440797,3640.2799871029501,null,null,null,null,null,null,null,"T-06 sec",40098.102256944447,{"$f":"LOOKUP($V76,Data!$A$6:$A$1806,Data!$B$6:$B$1806)","v":60.041000366210938},{"$f":"LOOKUP($V76,Data!$A$6:$A$1806,Data!$C$6:$C$1806)","v":3645.44580078125},{"$f":"LOOKUP($V76,Data!$A$6:$A$1806,Data!$D$6:$D$1806)","v":350},{"$f":"IF($Z$1=\"+\",LOOKUP($V76,Data!$A$6:$A$1806,Data!$E$6:$E$1806)*-1,LOOKUP($V76,Data!$A$6:$A$1806,Data!$E$6:$E$1806))","v":-165.47639465332031},{"$f":"LOOKUP($V76,Data!$A$6:$A$1806,Data!$F$6:$F$1806)","v":0},{"$f":"LOOKUP($V76,Data!$A$6:$A$1806,Data!$G$6:$G$1806)","v":152.5},{"$f":"LOOKUP($V76,Data!$A$6:$A$1806,Data!$H$6:$H$1806)","v":10},{"$f":"LOOKUP($V76,Data!$A$6:$A$1806,Data!$I$6:$I$1806)","v":15},{"$f":"LOOKUP($V76,Data!$A$6:$A$1806,Data!$J$6:$J$1806)","v":-103},{"$f":"LOOKUP($V76,Data!$A$6:$A$1806,Data!$K$6:$K$1806)","v":7600.65},-32.80029296875,"T-06 sec",40098.102256944447,60.041749954223633,3647.0458679199219,350,-165.42955589294434,0,151.8125,10,15,-103,7600.1962500000009,-33.39996337890625]
["T-04 sec",40098.102280092593,{"$f":"LOOKUP(B77,Data!$A$6:$A$1806,Data!B$6:B$1806)","v":60.041000366210938},{"$f":"LOOKUP(B77,Data!$A$6:$A$1806,Data!C$6:C$1806)","v":3645.44580078125},60.041749954223633,3647.0458679199219,null,-32.80029296875,-33.320161451089021,null,null,-0.30971686556440797,3640.2501994201834,null,null,null,null,null,null,null,"T-04 sec",40098.102280092593,{"$f":"LOOKUP($V77,Data!$A$6:$A$1806,Data!$B$6:$B$1806)","v":60.041000366210938},{"$f":"LOOKUP($V77,Data!$A$6:$A$1806,Data!$C$6:$C$1806)","v":3645.44580078125},{"$f":"LOOKUP($V77,Data!$A$6:$A$1806,Data!$D$6:$D$1806)","v":350},{"$f":"IF($Z$1=\"+\",LOOKUP($V77,Data!$A$6:$A$1806,Data!$E$6:$E$1806)*-1,LOOKUP($V77,Data!$A$6:$A$1806,Data!$E$6:$E$1806))","v":-165.47639465332031},{"$f":"LOOKUP($V77,Data!$A$6:$A$1806,Data!$F$6:$F$1806)","v":0},{"$f":"LOOKUP($V77,Data!$A$6:$A$1806,Data!$G$6:$G$1806)","v":152.5},{"$f":"LOOKUP($V77,Data!$A$6:$A$1806,Data!$H$6:$H$1806)","v":10},{"$f":"LOOKUP($V77,Data!$A$6:$A$1806,Data!$I$6:$I$1806)","v":15},{"$f":"LOOKUP($V77,Data!$A$6:$A$1806,Data!$J$6:$J$1806)","v":-103},{"$f":"LOOKUP($V77,Data!$A$6:$A$1806,Data!$K$6:$K$1806)","v":7600.65},-32.80029296875,"T-04 sec",40098.102280092593,60.041749954223633,3647.0458679199219,350,-165.42955589294434,0,151.8125,10,15,-103,7600.1962500000009,-33.39996337890625]
["T-02 sec",{"$f":"B79-TIME(0,0,$B$1)","v":40098.102303240739},{"$f":"LOOKUP(B78,Data!$A$6:$A$1806,Data!B$6:B$1806)","v":60.03900146484375},{"$f":"LOOKUP(B78,Data!$A$6:$A$1806,Data!C$6:C$1806)","v":3640.68212890625},60.041749954223633,3647.0458679199219,null,-31.201171875,-32.57851509945786,null,null,-0.30971686556440797,{"$f":"D78","v":3640.68212890625},null,null,null,null,null,null,null,"T-02 sec",{"$f":"V79-TIME(0,0,$B$1)","v":40098.102303240739},{"$f":"LOOKUP($V78,Data!$A$6:$A$1806,Data!$B$6:$B$1806)","v":60.03900146484375},{"$f":"LOOKUP($V78,Data!$A$6:$A$1806,Data!$C$6:$C$1806)","v":3640.68212890625},{"$f":"LOOKUP($V78,Data!$A$6:$A$1806,Data!$D$6:$D$1806)","v":350},{"$f":"IF($Z$1=\"+\",LOOKUP($V78,Data!$A$6:$A$1806,Data!$E$6:$E$1806)*-1,LOOKUP($V78,Data!$A$6:$A$1806,Data!$E$6:$E$1806))","v":-165.47639465332031},{"$f":"LOOKUP($V78,Data!$A$6:$A$1806,Data!$F$6:$F$1806)","v":0},{"$f":"LOOKUP($V78,Data!$A$6:$A$1806,Data!$G$6:$G$1806)","v":153},{"$f":"LOOKUP($V78,Data!$A$6:$A$1806,Data!$H$6:$H$1806)","v":10},{"$f":"LOOKUP($V78,Data!$A$6:$A$1806,Data!$I$6:$I$1806)","v":15},{"$f":"LOOKUP($V78,Data!$A$6:$A$1806,Data!$J$6:$J$1806)","v":-103},{"$f":"LOOKUP($V78,Data!$A$6:$A$1806,Data!$K$6:$K$1806)","v":7600.98},-31.201171875,"T-02 sec",{"$f":"AI79-TIME(0,0,$B$1)","v":40098.102303240739},60.041749954223633,3647.0458679199219,350,-165.42955589294434,0,151.8125,10,15,-103,7600.1962500000009,-33.39996337890625]
["T+0 sec",{"$f":"G2","v":40098.102326388886},{"$f":"LOOKUP(B79,Data!$A$6:$A$1806,Data!B$6:B$1806)","v":59.978000640869141},{"$f":"LOOKUP(B79,Data!$A$6:$A$1806,Data!C$6:C$1806)","v":3659.46484375},null,null,null,17.5994873046875,-15.016214258006986,null,null,0,{"$f":"M78+L79+(I79-I78)","v":3658.2444297477009},null,null,null,null,null,null,null,"T+0 sec",{"$f":"$G2","v":40098.102326388886},{"$f":"LOOKUP($V79,Data!$A$6:$A$1806,Data!$B$6:$B$1806)","v":59.978000640869141},{"$f":"LOOKUP($V79,Data!$A$6:$A$1806,Data!$C$6:$C$1806)","v":3659.46484375},{"$f":"LOOKUP($V79,Data!$A$6:$A$1806,Data!$D$6:$D$1806)","v":350},{"$f":"IF($Z$1=\"+\",LOOKUP($V79,Data!$A$6:$A$1806,Data!$E$6:$E$1806)*-1,LOOKUP($V79,Data!$A$6:$A$1806,Data!$E$6:$E$1806))","v":-206.4591064453125},{"$f":"LOOKUP($V79,Data!$A$6:$A$1806,Data!$F$6:$F$1806)","v":0},{"$f":"LOOKUP($V79,Data!$A$6:$A$1806,Data!$G$6:$G$1806)","v":153.5},{"$f":"LOOKUP($V79,Data!$A$6:$A$1806,Data!$H$6:$H$1806)","v":10},{"$f":"LOOKUP($V79,Data!$A$6:$A$1806,Data!$I$6:$I$1806)","v":0},{"$f":"LOOKUP($V79,Data!$A$6:$A$1806,Data!$J$6:$J$1806)","v":-103},{"$f":"LOOKUP($V79,Data!$A$6:$A$1806,Data!$K$6:$K$1806)","v":7601.31},17.5994873046875,"T+0 sec",{"$f":"$G2","v":40098.102326388886}]
["T+02 sec",{"$f":"B79+TIME(0,0,$B$1)","v":40098.102349537032},{"$f":"LOOKUP(B80,Data!$A$6:$A$1806,Data!B$6:B$1806)","v":59.978000640869141},{"$f":"LOOKUP(B80,Data!$A$6:$A$1806,Data!C$6:C$1806)","v":3659.46484375},null,null,null,17.5994873046875,-3.6007187110639158,null,null,{"$f":"IF(B80>G$3,0,(K$21*0.000023148/K$22))","v":0.55220438547493267},{"$f":"M79+L80+(I80-I79)","v":3670.2121296801188},{"$f":"AVERAGE(D$79:D80)","v":3659.46484375},{"$f":"AVERAGE(M$79:M80)","v":3664.2282797139096},{"$f":"K20+L78-I77","v":3678.4562453667745},{"$f":"AVERAGE(P$79:P80)","v":3678.4562453667745},null,null,null,"T+02 sec",{"$f":"V79+TIME(0,0,$B$1)","v":40098.102349537032},{"$f":"LOOKUP($V80,Data!$A$6:$A$1806,Data!$B$6:$B$1806)","v":59.978000640869141},{"$f":"LOOKUP($V80,Data!$A$6:$A$1806,Data!$C$6:$C$1806)","v":3659.46484375},{"$f":"LOOKUP($V80,Data!$A$6:$A$1806,Data!$D$6:$D$1806)","v":350},{"$f":"IF($Z$1=\"+\",LOOKUP($V80,Data!$A$6:$A$1806,Data!$E$6:$E$1806)*-1,LOOKUP($V80,Data!$A$6:$A$1806,Data!$E$6:$E$1806))","v":-206.4591064453125},{"$f":"LOOKUP($V80,Data!$A$6:$A$1806,Data!$F$6:$F$1806)","v":0},{"$f":"LOOKUP($V80,Data!$A$6:$A$1806,Data!$G$6:$G$1806)","v":153.5},{"$f":"LOOKUP($V80,Data!$A$6:$A$1806,Data!$H$6:$H$1806)","v":10},{"$f":"LOOKUP($V80,Data!$A$6:$A$1806,Data!$I$6:$I$1806)","v":0},{"$f":"LOOKUP($V80,Data!$A$6:$A$1806,Data!$J$6:$J$1806)","v":-103},{"$f":"LOOKUP($V80,Data!$A$6:$A$1806,Data!$K$6:$K$1806)","v":7601.31},17.5994873046875,"T+02 sec",{"$f":"AI79+TIME(0,0,$B$1)","v":40098.102349537032}]
["T+04 sec",{"$f":"B80+TIME(0,0,$B$1)","v":40098.102372685178},{"$f":"LOOKUP(B81,Data!$A$6:$A$1806,Data!B$6:B$1806)","v":59.83599853515625},{"$f":"LOOKUP(B81,Data!$A$6:$A$1806,Data!C$6:C$1806)","v":3696.3623046875},null,null,null,131.201171875,43.579942994058456,null,null,0.55220438547493267,3717.9449957707161,{"$f":"AVERAGE(D$79:D81)","v":3671.7639973958335},{"$f":"AVERAGE(M$79:M81)","v":3682.1338517328454},{"$f":"P80+L81","v":3679.0084497522494},{"$f":"AVERAGE(P$79:P81)","v":3678.7323475595122},null,null,null,"T+04 sec",{"$f":"V80+TIME(0,0,$B$1)","v":40098.102372685178},{"$f":"LOOKUP($V81,Data!$A$6:$A$1806,Data!$B$6:$B$1806)","v":59.83599853515625},{"$f":"LOOKUP($V81,Data!$A$6:$A$1806,Data!$C$6:$C$1806)","v":3696.3623046875},{"$f":"LOOKUP($V81,Data!$A$6:$A$1806,Data!$D$6:$D$1806)","v":350},{"$f":"IF($Z$1=\"+\",LOOKUP($V81,Data!$A$6:$A$1806,Data!$E$6:$E$1806)*-1,LOOKUP($V81,Data!$A$6:$A$1806,Data!$E$6:$E$1806))","v":-206.4591064453125},{"$f":"LOOKUP($V81,Data!$A$6:$A$1806,Data!$F$6:$F$1806)","v":0},{"$f":"LOOKUP($V81,Data!$A$6:$A$1806,Data!$G$6:$G$1806)","v":154},{"$f":"LOOKUP($V81,Data!$A$6:$A$1806,Data!$H$6:$H$1806)","v":10},{"$f":"LOOKUP($V81,Data!$A$6:$A$1806,Data!$I$6:$I$1806)","v":0},{"$f":"LOOKUP($V81,Data!$A$6:$A$1806,Data!$J$6:$J$1806)","v":-103},{"$f":"LOOKUP($V81,Data!$A$6:$A$1806,Data!$K$6:$K$1806)","v":7570},131.201171875,"T+04 sec",{"$f":"AI80+TIME(0,0,$B$1)","v":40098.102372685178}]
["T+06 sec",40098.102395833324,{"$f":"LOOKUP(B82,Data!$A$6:$A$1806,Data!B$6:B$1806)","v":59.83599853515625},{"$f":"LOOKUP(B82,Data!$A$6:$A$1806,Data!C$6:C$1806)","v":3696.3623046875},null,null,null,131.201171875,74.247373102387996,null,null,0.55220438547493267,3749.1646302645204,{"$f":"AVERAGE(D$79:D82)","v":3677.91357421875},{"$f":"AVERAGE(M$79:M82)","v":3698.891546365764},{"$f":"P81+L82","v":3679.5606541377242},{"$f":"AVERAGE(P$79:P82)","v":3679.0084497522494},null,null,null,"T+06 sec",40098.102395833324,{"$f":"LOOKUP($V82,Data!$A$6:$A$1806,Data!$B$6:$B$1806)","v":59.83599853515625},{"$f":"LOOKUP($V82,Data!$A$6:$A$1806,Data!$C$6:$C$1806)","v":3696.3623046875},{"$f":"LOOKUP($V82,Data!$A$6:$A$1806,Data!$D$6:$D$1806)","v":350},{"$f":"IF($Z$1=\"+\",LOOKUP($V82,Data!$A$6:$A$1806,Data!$E$6:$E$1806)*-1,LOOKUP($V82,Data!$A$6:$A$1806,Data!$E$6:$E$1806))","v":-206.4591064453125},{"$f":"LOOKUP($V82,Data!$A$6:$A$1806,Data!$F$6:$F$1806)","v":0},{"$f":"LOOKUP($V82,Data!$A$6:$A$1806,Data!$G$6:$G$1806)","v":154},{"$f":"LOOKUP($V82,Data!$A$6:$A$1806,Data!$H$6:$H$1806)","v":10},{"$f":"LOOKUP($V82,Data!$A$6:$A$1806,Data!$I$6:$I$1806)","v":0},{"$f":"LOOKUP($V82,Data!$A$6:$A$1806,Data!$J$6:$J$1806)","v":-103},{"$f":"LOOKUP($V82,Data!$A$6:$A$1806,Data!$K$6:$K$1806)","v":7570},131.201171875,"T+06 sec",40098.102395833324]
["T+08 sec",40098.102418981471,{"$f":"LOOKUP(B83,Data!$A$6:$A$1806,Data!B$6:B$1806)","v":59.868999481201172},{"$f":"LOOKUP(B83,Data!$A$6:$A$1806,Data!C$6:C$1806)","v":3734.672607421875},null,null,null,104.8004150390625,84.940937780224075,null,null,0.55220438547493267,3760.4103993278313,{"$f":"AVERAGE(D$79:D83)","v":3689.265380859375},{"$f":"AVERAGE(M$79:M83)","v":3711.195316958177},3680.1128585231991,{"$f":"AVERAGE(P$79:P83)","v":3679.2845519449866},null,null,null,"T+08 sec",40098.102418981471,{"$f":"LOOKUP($V83,Data!$A$6:$A$1806,Data!$B$6:$B$1806)","v":59.868999481201172},{"$f":"LOOKUP($V83,Data!$A$6:$A$1806,Data!$C$6:$C$1806)","v":3734.672607421875},{"$f":"LOOKUP($V83,Data!$A$6:$A$1806,Data!$D$6:$D$1806)","v":335},{"$f":"IF($Z$1=\"+\",LOOKUP($V83,Data!$A$6:$A$1806,Data!$E$6:$E$1806)*-1,LOOKUP($V83,Data!$A$6:$A$1806,Data!$E$6:$E$1806))","v":-206.4591064453125},{"$f":"LOOKUP($V83,Data!$A$6:$A$1806,Data!$F$6:$F$1806)","v":0},{"$f":"LOOKUP($V83,Data!$A$6:$A$1806,Data!$G$6:$G$1806)","v":154.5},{"$f":"LOOKUP($V83,Data!$A$6:$A$1806,Data!$H$6:$H$1806)","v":10},{"$f":"LOOKUP($V83,Data!$A$6:$A$1806,Data!$I$6:$I$1806)","v":0},{"$f":"LOOKUP($V83,Data!$A$6:$A$1806,Data!$J$6:$J$1806)","v":-103},{"$f":"LOOKUP($V83,Data!$A$6:$A$1806,Data!$K$6:$K$1806)","v":7569},104.8004150390625,"T+08 sec",40098.102418981471]
["T+10 sec",40098.102442129617,{"$f":"LOOKUP(B84,Data!$A$6:$A$1806,Data!B$6:B$1806)","v":59.890998840332031},{"$f":"LOOKUP(B84,Data!$A$6:$A$1806,Data!C$6:C$1806)","v":3737.15673828125},null,null,null,87.200927734375,85.7319342641769,null,null,0.55220438547493267,3761.7536001972589,{"$f":"AVERAGE(D$79:D84)","v":3697.247273763021},{"$f":"AVERAGE(M$79:M84)","v":3719.6216974980239},3680.6650629086739,{"$f":"AVERAGE(P$79:P84)","v":3679.5606541377238},null,null,null,"T+10 sec",40098.102442129617,{"$f":"LOOKUP($V84,Data!$A$6:$A$1806,Data!$B$6:$B$1806)","v":59.890998840332031},{"$f":"LOOKUP($V84,Data!$A$6:$A$1806,Data!$C$6:$C$1806)","v":3737.15673828125},{"$f":"LOOKUP($V84,Data!$A$6:$A$1806,Data!$D$6:$D$1806)","v":335},{"$f":"IF($Z$1=\"+\",LOOKUP($V84,Data!$A$6:$A$1806,Data!$E$6:$E$1806)*-1,LOOKUP($V84,Data!$A$6:$A$1806,Data!$E$6:$E$1806))","v":-206.4591064453125},{"$f":"LOOKUP($V84,Data!$A$6:$A$1806,Data!$F$6:$F$1806)","v":0},{"$f":"LOOKUP($V84,Data!$A$6:$A$1806,Data!$G$6:$G$1806)","v":155},{"$f":"LOOKUP($V84,Data!$A$6:$A$1806,Data!$H$6:$H$1806)","v":10},{"$f":"LOOKUP($V84,Data!$A$6:$A$1806,Data!$I$6:$I$1806)","v":0},{"$f":"LOOKUP($V84,Data!$A$6:$A$1806,Data!$J$6:$J$1806)","v":-103},{"$f":"LOOKUP($V84,Data!$A$6:$A$1806,Data!$K$6:$K$1806)","v":7570},87.200927734375,"T+10 sec",40098.102442129617]
["T+12 sec",40098.102465277763,{"$f":"LOOKUP(B85,Data!$A$6:$A$1806,Data!B$6:B$1806)","v":59.890998840332031},{"$f":"LOOKUP(B85,Data!$A$6:$A$1806,Data!C$6:C$1806)","v":3737.15673828125},null,null,null,87.200927734375,86.246081978746233,null,null,0.55220438547493267,3762.8199522973032,{"$f":"AVERAGE(D$79:D85)","v":3702.9486258370534},{"$f":"AVERAGE(M$79:M85)","v":3725.7928767550643},3681.2172672941488,{"$f":"AVERAGE(P$79:P85)","v":3679.8367563304614},null,null,null,"T+12 sec",40098.102465277763,{"$f":"LOOKUP($V85,Data!$A$6:$A$1806,Data!$B$6:$B$1806)","v":59.890998840332031},{"$f":"LOOKUP($V85,Data!$A$6:$A$1806,Data!$C$6:$C$1806)","v":3737.15673828125},{"$f":"LOOKUP($V85,Data!$A$6:$A$1806,Data!$D$6:$D$1806)","v":335},{"$f":"IF($Z$1=\"+\",LOOKUP($V85,Data!$A$6:$A$1806,Data!$E$6:$E$1806)*-1,LOOKUP($V85,Data!$A$6:$A$1806,Data!$E$6:$E$1806))","v":-206.4591064453125},{"$f":"LOOKUP($V85,Data!$A$6:$A$1806,Data!$F$6:$F$1806)","v":0},{"$f":"LOOKUP($V85,Data!$A$6:$A$1806,Data!$G$6:$G$1806)","v":155},{"$f":"LOOKUP($V85,Data!$A$6:$A$1806,Data!$H$6:$H$1806)","v":10},{"$f":"LOOKUP($V85,Data!$A$6:$A$1806,Data!$I$6:$I$1806)","v":0},{"$f":"LOOKUP($V85,Data!$A$6:$A$1806,Data!$J$6:$J$1806)","v":-103},{"$f":"LOOKUP($V85,Data!$A$6:$A$1806,Data!$K$6:$K$1806)","v":7570},87.200927734375,"T+12 sec",40098.102465277763]
["T+14 sec",40098.10248842591,{"$f":"LOOKUP(B86,Data!$A$6:$A$1806,Data!B$6:B$1806)","v":59.880001068115234},{"$f":"LOOKUP(B86,Data!$A$6:$A$1806,Data!C$6:C$1806)","v":3766.113037109375},null,null,null,95.9991455078125,89.659654213919424,null,null,0.55220438547493267,3766.785728917951,{"$f":"AVERAGE(D$79:D86)","v":3710.8441772460937},{"$f":"AVERAGE(M$79:M86)","v":3730.9169832754251},3681.7694716796236,{"$f":"AVERAGE(P$79:P86)","v":3680.1128585231991},null,null,null,"T+14 sec",40098.10248842591,{"$f":"LOOKUP($V86,Data!$A$6:$A$1806,Data!$B$6:$B$1806)","v":59.880001068115234},{"$f":"LOOKUP($V86,Data!$A$6:$A$1806,Data!$C$6:$C$1806)","v":3766.113037109375},{"$f":"LOOKUP($V86,Data!$A$6:$A$1806,Data!$D$6:$D$1806)","v":335},{"$f":"IF($Z$1=\"+\",LOOKUP($V86,Data!$A$6:$A$1806,Data!$E$6:$E$1806)*-1,LOOKUP($V86,Data!$A$6:$A$1806,Data!$E$6:$E$1806))","v":-206.4591064453125},{"$f":"LOOKUP($V86,Data!$A$6:$A$1806,Data!$F$6:$F$1806)","v":0},{"$f":"LOOKUP($V86,Data!$A$6:$A$1806,Data!$G$6:$G$1806)","v":155.5},{"$f":"LOOKUP($V86,Data!$A$6:$A$1806,Data!$H$6:$H$1806)","v":10},{"$f":"LOOKUP($V86,Data!$A$6:$A$1806,Data!$I$6:$I$1806)","v":0},{"$f":"LOOKUP($V86,Data!$A$6:$A$1806,Data!$J$6:$J$1806)","v":-103},{"$f":"LOOKUP($V86,Data!$A$6:$A$1806,Data!$K$6:$K$1806)","v":7570},95.9991455078125,"T+14 sec",40098.10248842591]
["T+16 sec",40098.102511574056,{"$f":"LOOKUP(B87,Data!$A$6:$A$1806,Data!B$6:B$1806)","v":59.875},{"$f":"LOOKUP(B87,Data!$A$6:$A$1806,Data!C$6:C$1806)","v":3766.19384765625},null,null,null,100,93.278775239047633,null,null,0.55220438547493267,3770.957054328554,{"$f":"AVERAGE(D$79:D87)","v":3716.994140625},{"$f":"AVERAGE(M$79:M87)","v":3735.3658800591056},3682.3216760650985,{"$f":"AVERAGE(P$79:P87)","v":3680.3889607159363},null,null,null,"T+16 sec",40098.102511574056,{"$f":"LOOKUP($V87,Data!$A$6:$A$1806,Data!$B$6:$B$1806)","v":59.875},{"$f":"LOOKUP($V87,Data!$A$6:$A$1806,Data!$C$6:$C$1806)","v":3766.19384765625},{"$f":"LOOKUP($V87,Data!$A$6:$A$1806,Data!$D$6:$D$1806)","v":335},{"$f":"IF($Z$1=\"+\",LOOKUP($V87,Data!$A$6:$A$1806,Data!$E$6:$E$1806)*-1,LOOKUP($V87,Data!$A$6:$A$1806,Data!$E$6:$E$1806))","v":-211.25604248046875},{"$f":"LOOKUP($V87,Data!$A$6:$A$1806,Data!$F$6:$F$1806)","v":0},{"$f":"LOOKUP($V87,Data!$A$6:$A$1806,Data!$G$6:$G$1806)","v":156},{"$f":"LOOKUP($V87,Data!$A$6:$A$1806,Data!$H$6:$H$1806)","v":10},{"$f":"LOOKUP($V87,Data!$A$6:$A$1806,Data!$I$6:$I$1806)","v":0},{"$f":"LOOKUP($V87,Data!$A$6:$A$1806,Data!$J$6:$J$1806)","v":-103},{"$f":"LOOKUP($V87,Data!$A$6:$A$1806,Data!$K$6:$K$1806)","v":7570},100,"T+16 sec",40098.102511574056]
["T+18 sec",40098.102534722202,{"$f":"LOOKUP(B88,Data!$A$6:$A$1806,Data!B$6:B$1806)","v":59.875},{"$f":"LOOKUP(B88,Data!$A$6:$A$1806,Data!C$6:C$1806)","v":3766.19384765625},null,null,null,100,95.631203905380971,null,null,0.55220438547493267,3773.8616873803621,{"$f":"AVERAGE(D$79:D88)","v":3721.9141113281248},{"$f":"AVERAGE(M$79:M88)","v":3739.2154607912316},3682.8738804505733,{"$f":"AVERAGE(P$79:P88)","v":3680.6650629086735},null,null,null,"T+18 sec",40098.102534722202,{"$f":"LOOKUP($V88,Data!$A$6:$A$1806,Data!$B$6:$B$1806)","v":59.875},{"$f":"LOOKUP($V88,Data!$A$6:$A$1806,Data!$C$6:$C$1806)","v":3766.19384765625},{"$f":"LOOKUP($V88,Data!$A$6:$A$1806,Data!$D$6:$D$1806)","v":335},{"$f":"IF($Z$1=\"+\",LOOKUP($V88,Data!$A$6:$A$1806,Data!$E$6:$E$1806)*-1,LOOKUP($V88,Data!$A$6:$A$1806,Data!$E$6:$E$1806))","v":-211.25604248046875},{"$f":"LOOKUP($V88,Data!$A$6:$A$1806,Data!$F$6:$F$1806)","v":0},{"$f":"LOOKUP($V88,Data!$A$6:$A$1806,Data!$G$6:$G$1806)","v":156},{"$f":"LOOKUP($V88,Data!$A$6:$A$1806,Data!$H$6:$H$1806)","v":10},{"$f":"LOOKUP($V88,Data!$A$6:$A$1806,Data!$I$6:$I$1806)","v":0},{"$f":"LOOKUP($V88,Data!$A$6:$A$1806,Data!$J$6:$J$1806)","v":-103},{"$f":"LOOKUP($V88,Data!$A$6:$A$1806,Data!$K$6:$K$1806)","v":7570},100,"T+18 sec",40098.102534722202]
["T+20 sec",40098.102557870348,{"$f":"LOOKUP(B89,Data!$A$6:$A$1806,Data!B$6:B$1806)","v":59.882999420166016},{"$f":"LOOKUP(B89,Data!$A$6:$A$1806,Data!C$6:C$1806)","v":3769.925048828125},{"$f":"AVERAGE($C$89:$C$105)","v":59.888705982881433},{"$f":"AVERAGE($D$89:$D$105)","v":3787.7750028722426},null,93.6004638671875,94.920444892013251,null,{"$f":"G$19+G$7","v":3756.8895288803997},0.55220438547493267,3773.7031327524692,{"$f":"AVERAGE(D$79:D89)","v":3726.278742009943},{"$f":"AVERAGE(M$79:M89)","v":3742.3507036967985},3683.4260848360482,{"$f":"AVERAGE(P$79:P89)","v":3680.9411651014111},null,null,null,"T+20 sec",40098.102557870348,{"$f":"LOOKUP($V89,Data!$A$6:$A$1806,Data!$B$6:$B$1806)","v":59.882999420166016},{"$f":"LOOKUP($V89,Data!$A$6:$A$1806,Data!$C$6:$C$1806)","v":3769.925048828125},{"$f":"LOOKUP($V89,Data!$A$6:$A$1806,Data!$D$6:$D$1806)","v":335},{"$f":"IF($Z$1=\"+\",LOOKUP($V89,Data!$A$6:$A$1806,Data!$E$6:$E$1806)*-1,LOOKUP($V89,Data!$A$6:$A$1806,Data!$E$6:$E$1806))","v":-211.25604248046875},{"$f":"LOOKUP($V89,Data!$A$6:$A$1806,Data!$F$6:$F$1806)","v":1},{"$f":"LOOKUP($V89,Data!$A$6:$A$1806,Data!$G$6:$G$1806)","v":156.5},{"$f":"LOOKUP($V89,Data!$A$6:$A$1806,Data!$H$6:$H$1806)","v":10},{"$f":"LOOKUP($V89,Data!$A$6:$A$1806,Data!$I$6:$I$1806)","v":0},{"$f":"LOOKUP($V89,Data!$A$6:$A$1806,Data!$J$6:$J$1806)","v":-103},{"$f":"LOOKUP($V89,Data!$A$6:$A$1806,Data!$K$6:$K$1806)","v":7570},93.6004638671875,"T+20 sec",40098.102557870348,{"$f":"AVERAGE($W$89:$W$105)","v":59.888705982881433},{"$f":"AVERAGE($X$89:$X$105)","v":3787.7750028722426},{"$f":"AVERAGE($Y$89:$Y$105)","v":335},{"$f":"AVERAGE($Z$89:$Z$105)","v":-212.74434796501609},{"$f":"AVERAGE($AA$89:$AA$105)","v":2.1176470588235294},{"$f":"AVERAGE($AB$89:$AB$105)","v":159.1764705882353},{"$f":"AVERAGE($AC$89:$AC$105)","v":10},{"$f":"AVERAGE($AD$89:$AD$105)","v":0},{"$f":"AVERAGE($AE$89:$AE$105)","v":-103},{"$f":"AVERAGE($AF$89:$AF$105)","v":7570},{"$f":"AVERAGE($AG$89:$AG$105)","v":89.035213694852942},{"$f":"AN$7+AN$14","v":3716.9522677028881}]
["T+22 sec",40098.102581018495,{"$f":"LOOKUP(B90,Data!$A$6:$A$1806,Data!B$6:B$1806)","v":59.886001586914063},{"$f":"LOOKUP(B90,Data!$A$6:$A$1806,Data!C$6:C$1806)","v":3780.62060546875},{"$f":"AVERAGE($C$89:$C$105)","v":59.888705982881433},{"$f":"AVERAGE($D$89:$D$105)","v":3787.7750028722426},null,91.19873046875,93.617844843871111,null,{"$f":"G$19+G$7","v":3756.8895288803997},0.55220438547493267,3772.9527370898018,{"$f":"AVERAGE(D$79:D90)","v":3730.8072306315103},{"$f":"AVERAGE(M$79:M90)","v":3744.900873146215},3683.978289221523,{"$f":"AVERAGE(P$79:P90)","v":3681.2172672941483},null,null,null,"T+22 sec",40098.102581018495,{"$f":"LOOKUP($V90,Data!$A$6:$A$1806,Data!$B$6:$B$1806)","v":59.886001586914063},{"$f":"LOOKUP($V90,Data!$A$6:$A$1806,Data!$C$6:$C$1806)","v":3780.62060546875},{"$f":"LOOKUP($V90,Data!$A$6:$A$1806,Data!$D$6:$D$1806)","v":335},{"$f":"IF($Z$1=\"+\",LOOKUP($V90,Data!$A$6:$A$1806,Data!$E$6:$E$1806)*-1,LOOKUP($V90,Data!$A$6:$A$1806,Data!$E$6:$E$1806))","v":-211.25604248046875},{"$f":"LOOKUP($V90,Data!$A$6:$A$1806,Data!$F$6:$F$1806)","v":1},{"$f":"LOOKUP($V90,Data!$A$6:$A$1806,Data!$G$6:$G$1806)","v":157},{"$f":"LOOKUP($V90,Data!$A$6:$A$1806,Data!$H$6:$H$1806)","v":10},{"$f":"LOOKUP($V90,Data!$A$6:$A$1806,Data!$I$6:$I$1806)","v":0},{"$f":"LOOKUP($V90,Data!$A$6:$A$1806,Data!$J$6:$J$1806)","v":-103},{"$f":"LOOKUP($V90,Data!$A$6:$A$1806,Data!$K$6:$K$1806)","v":7570},91.19873046875,"T+22 sec",40098.102581018495,{"$f":"AVERAGE($W$89:$W$105)","v":59.888705982881433},{"$f":"AVERAGE($X$89:$X$105)","v":3787.7750028722426},{"$f":"AVERAGE($Y$89:$Y$105)","v":335},{"$f":"AVERAGE($Z$89:$Z$105)","v":-212.74434796501609},{"$f":"AVERAGE($AA$89:$AA$105)","v":2.1176470588235294},{"$f":"AVERAGE($AB$89:$AB$105)","v":159.1764705882353},{"$f":"AVERAGE($AC$89:$AC$105)","v":10},{"$f":"AVERAGE($AD$89:$AD$105)","v":0},{"$f":"AVERAGE($AE$89:$AE$105)","v":-103},{"$f":"AVERAGE($AF$89:$AF$105)","v":7570},{"$f":"AVERAGE($AG$89:$AG$105)","v":89.035213694852942},{"$f":"AN$7+AN$14","v":3716.9522677028881}]
["T+24 sec",40098.102604166641,{"$f":"LOOKUP(B91,Data!$A$6:$A$1806,Data!B$6:B$1806)","v":59.886001586914063},{"$f":"LOOKUP(B91,Data!$A$6:$A$1806,Data!C$6:C$1806)","v":3780.62060546875},59.888705982881433,3787.7750028722426,null,91.19873046875,92.771154812578715,null,3756.8895288803997,0.55220438547493267,3772.6582514439842,{"$f":"AVERAGE(D$79:D91)","v":3734.6390286959136},{"$f":"AVERAGE(M$79:M91)","v":3747.0360560921977},3684.5304936069979,{"$f":"AVERAGE(P$79:P91)","v":3681.4933694868855},null,null,null,"T+24 sec",40098.102604166641,{"$f":"LOOKUP($V91,Data!$A$6:$A$1806,Data!$B$6:$B$1806)","v":59.886001586914063},{"$f":"LOOKUP($V91,Data!$A$6:$A$1806,Data!$C$6:$C$1806)","v":3780.62060546875},{"$f":"LOOKUP($V91,Data!$A$6:$A$1806,Data!$D$6:$D$1806)","v":335},{"$f":"IF($Z$1=\"+\",LOOKUP($V91,Data!$A$6:$A$1806,Data!$E$6:$E$1806)*-1,LOOKUP($V91,Data!$A$6:$A$1806,Data!$E$6:$E$1806))","v":-211.25604248046875},{"$f":"LOOKUP($V91,Data!$A$6:$A$1806,Data!$F$6:$F$1806)","v":1},{"$f":"LOOKUP($V91,Data!$A$6:$A$1806,Data!$G$6:$G$1806)","v":157},{"$f":"LOOKUP($V91,Data!$A$6:$A$1806,Data!$H$6:$H$1806)","v":10},{"$f":"LOOKUP($V91,Data!$A$6:$A$1806,Data!$I$6:$I$1806)","v":0},{"$f":"LOOKUP($V91,Data!$A$6:$A$1806,Data!$J$6:$J$1806)","v":-103},{"$f":"LOOKUP($V91,Data!$A$6:$A$1806,Data!$K$6:$K$1806)","v":7570},91.19873046875,"T+24 sec",40098.102604166641,59.888705982881433,3787.7750028722426,335,-212.74434796501609,2.1176470588235294,159.1764705882353,10,0,-103,7570,89.035213694852942,3716.9522677028881]
["T+26 sec",40098.102627314787,{"$f":"LOOKUP(B92,Data!$A$6:$A$1806,Data!B$6:B$1806)","v":59.884998321533203},{"$f":"LOOKUP(B92,Data!$A$6:$A$1806,Data!C$6:C$1806)","v":3782.49951171875},59.888705982881433,3787.7750028722426,null,92.0013427734375,92.501720598879288,null,3756.8895288803997,0.55220438547493267,3772.9410216157598,{"$f":"AVERAGE(D$79:D92)","v":3738.0576346261159},{"$f":"AVERAGE(M$79:M92)","v":3748.8864107724521},3685.0826979924727,{"$f":"AVERAGE(P$79:P92)","v":3681.7694716796232},null,null,null,"T+26 sec",40098.102627314787,{"$f":"LOOKUP($V92,Data!$A$6:$A$1806,Data!$B$6:$B$1806)","v":59.884998321533203},{"$f":"LOOKUP($V92,Data!$A$6:$A$1806,Data!$C$6:$C$1806)","v":3782.49951171875},{"$f":"LOOKUP($V92,Data!$A$6:$A$1806,Data!$D$6:$D$1806)","v":335},{"$f":"IF($Z$1=\"+\",LOOKUP($V92,Data!$A$6:$A$1806,Data!$E$6:$E$1806)*-1,LOOKUP($V92,Data!$A$6:$A$1806,Data!$E$6:$E$1806))","v":-211.25604248046875},{"$f":"LOOKUP($V92,Data!$A$6:$A$1806,Data!$F$6:$F$1806)","v":1},{"$f":"LOOKUP($V92,Data!$A$6:$A$1806,Data!$G$6:$G$1806)","v":157.5},{"$f":"LOOKUP($V92,Data!$A$6:$A$1806,Data!$H$6:$H$1806)","v":10},{"$f":"LOOKUP($V92,Data!$A$6:$A$1806,Data!$I$6:$I$1806)","v":0},{"$f":"LOOKUP($V92,Data!$A$6:$A$1806,Data!$J$6:$J$1806)","v":-103},{"$f":"LOOKUP($V92,Data!$A$6:$A$1806,Data!$K$6:$K$1806)","v":7570},92.0013427734375,"T+26 sec",40098.102627314787,59.888705982881433,3787.7750028722426,335,-212.74434796501609,2.1176470588235294,159.1764705882353,10,0,-103,7570,89.035213694852942,3716.9522677028881]
["T+28 sec",40098.102650462934,{"$f":"LOOKUP(B93,Data!$A$6:$A$1806,Data!B$6:B$1806)","v":59.88800048828125},{"$f":"LOOKUP(B93,Data!$A$6:$A$1806,Data!C$6:C$1806)","v":3784.9619140625},59.888705982881433,3787.7750028722426,null,89.599609375,91.485981670521539,null,3756.8895288803997,0.55220438547493267,3772.477487072877,{"$f":"AVERAGE(D$79:D93)","v":3741.1845865885416},{"$f":"AVERAGE(M$79:M93)","v":3750.4591491924807},3685.6349023779476,{"$f":"AVERAGE(P$79:P93)","v":3682.0455738723608},null,null,null,"T+28 sec",40098.102650462934,{"$f":"LOOKUP($V93,Data!$A$6:$A$1806,Data!$B$6:$B$1806)","v":59.88800048828125},{"$f":"LOOKUP($V93,Data!$A$6:$A$1806,Data!$C$6:$C$1806)","v":3784.9619140625},{"$f":"LOOKUP($V93,Data!$A$6:$A$1806,Data!$D$6:$D$1806)","v":335},{"$f":"IF($Z$1=\"+\",LOOKUP($V93,Data!$A$6:$A$1806,Data!$E$6:$E$1806)*-1,LOOKUP($V93,Data!$A$6:$A$1806,Data!$E$6:$E$1806))","v":-211.25604248046875},{"$f":"LOOKUP($V93,Data!$A$6:$A$1806,Data!$F$6:$F$1806)","v":1},{"$f":"LOOKUP($V93,Data!$A$6:$A$1806,Data!$G$6:$G$1806)","v":158},{"$f":"LOOKUP($V93,Data!$A$6:$A$1806,Data!$H$6:$H$1806)","v":10},{"$f":"LOOKUP($V93,Data!$A$6:$A$1806,Data!$I$6:$I$1806)","v":0},{"$f":"LOOKUP($V93,Data!$A$6:$A$1806,Data!$J$6:$J$1806)","v":-103},{"$f":"LOOKUP($V93,Data!$A$6:$A$1806,Data!$K$6:$K$1806)","v":7570},89.599609375,"T+28 sec",40098.102650462934,59.888705982881433,3787.7750028722426,335,-212.74434796501609,2.1176470588235294,159.1764705882353,10,0,-103,7570,89.035213694852942,3716.9522677028881]
["T+30 sec",40098.10267361108,{"$f":"LOOKUP(B94,Data!$A$6:$A$1806,Data!B$6:B$1806)","v":59.88800048828125},{"$f":"LOOKUP(B94,Data!$A$6:$A$1806,Data!C$6:C$1806)","v":3784.9619140625},59.888705982881433,3787.7750028722426,null,89.599609375,90.825751367088998,null,3756.8895288803997,0.55220438547493267,3772.3694611549195,{"$f":"AVERAGE(D$79:D94)","v":3743.9206695556641},{"$f":"AVERAGE(M$79:M94)","v":3751.8285436901333},3686.1871067634224,{"$f":"AVERAGE(P$79:P94)","v":3682.321676065098},null,null,null,"T+30 sec",40098.10267361108,{"$f":"LOOKUP($V94,Data!$A$6:$A$1806,Data!$B$6:$B$1806)","v":59.88800048828125},{"$f":"LOOKUP($V94,Data!$A$6:$A$1806,Data!$C$6:$C$1806)","v":3784.9619140625},{"$f":"LOOKUP($V94,Data!$A$6:$A$1806,Data!$D$6:$D$1806)","v":335},{"$f":"IF($Z$1=\"+\",LOOKUP($V94,Data!$A$6:$A$1806,Data!$E$6:$E$1806)*-1,LOOKUP($V94,Data!$A$6:$A$1806,Data!$E$6:$E$1806))","v":-211.25604248046875},{"$f":"LOOKUP($V94,Data!$A$6:$A$1806,Data!$F$6:$F$1806)","v":1},{"$f":"LOOKUP($V94,Data!$A$6:$A$1806,Data!$G$6:$G$1806)","v":158},{"$f":"LOOKUP($V94,Data!$A$6:$A$1806,Data!$H$6:$H$1806)","v":10},{"$f":"LOOKUP($V94,Data!$A$6:$A$1806,Data!$I$6:$I$1806)","v":0},{"$f":"LOOKUP($V94,Data!$A$6:$A$1806,Data!$J$6:$J$1806)","v":-103},{"$f":"LOOKUP($V94,Data!$A$6:$A$1806,Data!$K$6:$K$1806)","v":7570},89.599609375,"T+30 sec",40098.10267361108,59.888705982881433,3787.7750028722426,335,-212.74434796501609,2.1176470588235294,159.1764705882353,10,0,-103,7570,89.035213694852942,3716.9522677028881]
["T+32 sec",40098.102696759226,{"$f":"LOOKUP(B95,Data!$A$6:$A$1806,Data!B$6:B$1806)","v":59.889999389648437},{"$f":"LOOKUP(B95,Data!$A$6:$A$1806,Data!C$6:C$1806)","v":3784.4189453125},59.888705982881433,3787.7750028722426,null,88.00048828125,89.836909287045344,null,3756.8895288803997,0.55220438547493267,3771.9328234603508,{"$f":"AVERAGE(D$79:D95)","v":3746.3029210707718},{"$f":"AVERAGE(M$79:M95)","v":3753.011148382499},3686.7393111488973,{"$f":"AVERAGE(P$79:P95)","v":3682.5977782578357},null,null,null,"T+32 sec",40098.102696759226,{"$f":"LOOKUP($V95,Data!$A$6:$A$1806,Data!$B$6:$B$1806)","v":59.889999389648437},{"$f":"LOOKUP($V95,Data!$A$6:$A$1806,Data!$C$6:$C$1806)","v":3784.4189453125},{"$f":"LOOKUP($V95,Data!$A$6:$A$1806,Data!$D$6:$D$1806)","v":335},{"$f":"IF($Z$1=\"+\",LOOKUP($V95,Data!$A$6:$A$1806,Data!$E$6:$E$1806)*-1,LOOKUP($V95,Data!$A$6:$A$1806,Data!$E$6:$E$1806))","v":-214.34669494628906},{"$f":"LOOKUP($V95,Data!$A$6:$A$1806,Data!$F$6:$F$1806)","v":1},{"$f":"LOOKUP($V95,Data!$A$6:$A$1806,Data!$G$6:$G$1806)","v":158.5},{"$f":"LOOKUP($V95,Data!$A$6:$A$1806,Data!$H$6:$H$1806)","v":10},{"$f":"LOOKUP($V95,Data!$A$6:$A$1806,Data!$I$6:$I$1806)","v":0},{"$f":"LOOKUP($V95,Data!$A$6:$A$1806,Data!$J$6:$J$1806)","v":-103},{"$f":"LOOKUP($V95,Data!$A$6:$A$1806,Data!$K$6:$K$1806)","v":7570},88.00048828125,"T+32 sec",40098.102696759226,59.888705982881433,3787.7750028722426,335,-212.74434796501609,2.1176470588235294,159.1764705882353,10,0,-103,7570,89.035213694852942,3716.9522677028881]
["T+34 sec",40098.102719907372,{"$f":"LOOKUP(B96,Data!$A$6:$A$1806,Data!B$6:B$1806)","v":59.894001007080078},{"$f":"LOOKUP(B96,Data!$A$6:$A$1806,Data!C$6:C$1806)","v":3788.072265625},59.888705982881433,3787.7750028722426,null,84.7991943359375,88.073709054157604,null,3756.8895288803997,0.55220438547493267,3770.7218276129379,{"$f":"AVERAGE(D$79:D96)","v":3748.6234402126738},{"$f":"AVERAGE(M$79:M96)","v":3753.9950750064122},3687.2915155343721,{"$f":"AVERAGE(P$79:P96)","v":3682.8738804505733},null,null,null,"T+34 sec",40098.102719907372,{"$f":"LOOKUP($V96,Data!$A$6:$A$1806,Data!$B$6:$B$1806)","v":59.894001007080078},{"$f":"LOOKUP($V96,Data!$A$6:$A$1806,Data!$C$6:$C$1806)","v":3788.072265625},{"$f":"LOOKUP($V96,Data!$A$6:$A$1806,Data!$D$6:$D$1806)","v":335},{"$f":"IF($Z$1=\"+\",LOOKUP($V96,Data!$A$6:$A$1806,Data!$E$6:$E$1806)*-1,LOOKUP($V96,Data!$A$6:$A$1806,Data!$E$6:$E$1806))","v":-214.34669494628906},{"$f":"LOOKUP($V96,Data!$A$6:$A$1806,Data!$F$6:$F$1806)","v":1},{"$f":"LOOKUP($V96,Data!$A$6:$A$1806,Data!$G$6:$G$1806)","v":159},{"$f":"LOOKUP($V96,Data!$A$6:$A$1806,Data!$H$6:$H$1806)","v":10},{"$f":"LOOKUP($V96,Data!$A$6:$A$1806,Data!$I$6:$I$1806)","v":0},{"$f":"LOOKUP($V96,Data!$A$6:$A$1806,Data!$J$6:$J$1806)","v":-103},{"$f":"LOOKUP($V96,Data!$A$6:$A$1806,Data!$K$6:$K$1806)","v":7570},84.7991943359375,"T+34 sec",40098.102719907372,59.888705982881433,3787.7750028722426,335,-212.74434796501609,2.1176470588235294,159.1764705882353,10,0,-103,7570,89.035213694852942,3716.9522677028881]
["T+36 sec",40098.102743055519,{"$f":"LOOKUP(B97,Data!$A$6:$A$1806,Data!B$6:B$1806)","v":59.894001007080078},{"$f":"LOOKUP(B97,Data!$A$6:$A$1806,Data!C$6:C$1806)","v":3788.072265625},59.888705982881433,3787.7750028722426,null,84.7991943359375,86.927628902780569,null,3756.8895288803997,0.55220438547493267,3770.1279518470355,{"$f":"AVERAGE(D$79:D97)","v":3750.6996941817433},{"$f":"AVERAGE(M$79:M97)","v":3754.8441737874978},3687.843719919847,{"$f":"AVERAGE(P$79:P97)","v":3683.1499826433105},null,null,null,"T+36 sec",40098.102743055519,{"$f":"LOOKUP($V97,Data!$A$6:$A$1806,Data!$B$6:$B$1806)","v":59.894001007080078},{"$f":"LOOKUP($V97,Data!$A$6:$A$1806,Data!$C$6:$C$1806)","v":3788.072265625},{"$f":"LOOKUP($V97,Data!$A$6:$A$1806,Data!$D$6:$D$1806)","v":335},{"$f":"IF($Z$1=\"+\",LOOKUP($V97,Data!$A$6:$A$1806,Data!$E$6:$E$1806)*-1,LOOKUP($V97,Data!$A$6:$A$1806,Data!$E$6:$E$1806))","v":-214.34669494628906},{"$f":"LOOKUP($V97,Data!$A$6:$A$1806,Data!$F$6:$F$1806)","v":1},{"$f":"LOOKUP($V97,Data!$A$6:$A$1806,Data!$G$6:$G$1806)","v":159},{"$f":"LOOKUP($V97,Data!$A$6:$A$1806,Data!$H$6:$H$1806)","v":10},{"$f":"LOOKUP($V97,Data!$A$6:$A$1806,Data!$I$6:$I$1806)","v":0},{"$f":"LOOKUP($V97,Data!$A$6:$A$1806,Data!$J$6:$J$1806)","v":-103},{"$f":"LOOKUP($V97,Data!$A$6:$A$1806,Data!$K$6:$K$1806)","v":7570},84.7991943359375,"T+36 sec",40098.102743055519,59.888705982881433,3787.7750028722426,335,-212.74434796501609,2.1176470588235294,159.1764705882353,10,0,-103,7570,89.035213694852942,3716.9522677028881]
["T+38 sec",40098.102766203665,{"$f":"LOOKUP(B98,Data!$A$6:$A$1806,Data!B$6:B$1806)","v":59.893001556396484},{"$f":"LOOKUP(B98,Data!$A$6:$A$1806,Data!C$6:C$1806)","v":3788.868408203125},59.888705982881433,3787.7750028722426,null,85.5987548828125,86.462522995791744,null,3756.8895288803997,0.55220438547493267,3770.2150503255216,{"$f":"AVERAGE(D$79:D98)","v":3752.6081298828126},{"$f":"AVERAGE(M$79:M98)","v":3755.6127176143991},3688.3959243053218,{"$f":"AVERAGE(P$79:P98)","v":3683.4260848360482},null,null,null,"T+38 sec",40098.102766203665,{"$f":"LOOKUP($V98,Data!$A$6:$A$1806,Data!$B$6:$B$1806)","v":59.893001556396484},{"$f":"LOOKUP($V98,Data!$A$6:$A$1806,Data!$C$6:$C$1806)","v":3788.868408203125},{"$f":"LOOKUP($V98,Data!$A$6:$A$1806,Data!$D$6:$D$1806)","v":335},{"$f":"IF($Z$1=\"+\",LOOKUP($V98,Data!$A$6:$A$1806,Data!$E$6:$E$1806)*-1,LOOKUP($V98,Data!$A$6:$A$1806,Data!$E$6:$E$1806))","v":-214.34669494628906},{"$f":"LOOKUP($V98,Data!$A$6:$A$1806,Data!$F$6:$F$1806)","v":1},{"$f":"LOOKUP($V98,Data!$A$6:$A$1806,Data!$G$6:$G$1806)","v":159.5},{"$f":"LOOKUP($V98,Data!$A$6:$A$1806,Data!$H$6:$H$1806)","v":10},{"$f":"LOOKUP($V98,Data!$A$6:$A$1806,Data!$I$6:$I$1806)","v":0},{"$f":"LOOKUP($V98,Data!$A$6:$A$1806,Data!$J$6:$J$1806)","v":-103},{"$f":"LOOKUP($V98,Data!$A$6:$A$1806,Data!$K$6:$K$1806)","v":7570},85.5987548828125,"T+38 sec",40098.102766203665,59.888705982881433,3787.7750028722426,335,-212.74434796501609,2.1176470588235294,159.1764705882353,10,0,-103,7570,89.035213694852942,3716.9522677028881]
["T+40 sec",40098.102789351811,{"$f":"LOOKUP(B99,Data!$A$6:$A$1806,Data!B$6:B$1806)","v":59.894001007080078},{"$f":"LOOKUP(B99,Data!$A$6:$A$1806,Data!C$6:C$1806)","v":3788.471923828125},59.888705982881433,3787.7750028722426,null,84.7991943359375,85.880357964842759,null,3756.8895288803997,0.55220438547493267,3770.1850896800474,{"$f":"AVERAGE(D$79:D99)","v":3754.3159295944943},{"$f":"AVERAGE(M$79:M99)","v":3756.3066400937159},3688.9481286907967,{"$f":"AVERAGE(P$79:P99)","v":3683.7021870287854},null,null,null,"T+40 sec",40098.102789351811,{"$f":"LOOKUP($V99,Data!$A$6:$A$1806,Data!$B$6:$B$1806)","v":59.894001007080078},{"$f":"LOOKUP($V99,Data!$A$6:$A$1806,Data!$C$6:$C$1806)","v":3788.471923828125},{"$f":"LOOKUP($V99,Data!$A$6:$A$1806,Data!$D$6:$D$1806)","v":335},{"$f":"IF($Z$1=\"+\",LOOKUP($V99,Data!$A$6:$A$1806,Data!$E$6:$E$1806)*-1,LOOKUP($V99,Data!$A$6:$A$1806,Data!$E$6:$E$1806))","v":-214.34669494628906},{"$f":"LOOKUP($V99,Data!$A$6:$A$1806,Data!$F$6:$F$1806)","v":2},{"$f":"LOOKUP($V99,Data!$A$6:$A$1806,Data!$G$6:$G$1806)","v":160},{"$f":"LOOKUP($V99,Data!$A$6:$A$1806,Data!$H$6:$H$1806)","v":10},{"$f":"LOOKUP($V99,Data!$A$6:$A$1806,Data!$I$6:$I$1806)","v":0},{"$f":"LOOKUP($V99,Data!$A$6:$A$1806,Data!$J$6:$J$1806)","v":-103},{"$f":"LOOKUP($V99,Data!$A$6:$A$1806,Data!$K$6:$K$1806)","v":7570},84.7991943359375,"T+40 sec",40098.102789351811,59.888705982881433,3787.7750028722426,335,-212.74434796501609,2.1176470588235294,159.1764705882353,10,0,-103,7570,89.035213694852942,3716.9522677028881]
["T+42 sec",40098.102812499958,{"$f":"LOOKUP(B100,Data!$A$6:$A$1806,Data!B$6:B$1806)","v":59.894001007080078},{"$f":"LOOKUP(B100,Data!$A$6:$A$1806,Data!C$6:C$1806)","v":3788.471923828125},59.888705982881433,3787.7750028722426,null,84.7991943359375,85.50195069472592,null,3756.8895288803997,0.55220438547493267,3770.3588867954054,{"$f":"AVERAGE(D$79:D100)","v":3755.868474786932},{"$f":"AVERAGE(M$79:M100)","v":3756.9453785801566},3689.5003330762715,{"$f":"AVERAGE(P$79:P100)","v":3683.978289221523},null,null,null,"T+42 sec",40098.102812499958,{"$f":"LOOKUP($V100,Data!$A$6:$A$1806,Data!$B$6:$B$1806)","v":59.894001007080078},{"$f":"LOOKUP($V100,Data!$A$6:$A$1806,Data!$C$6:$C$1806)","v":3788.471923828125},{"$f":"LOOKUP($V100,Data!$A$6:$A$1806,Data!$D$6:$D$1806)","v":335},{"$f":"IF($Z$1=\"+\",LOOKUP($V100,Data!$A$6:$A$1806,Data!$E$6:$E$1806)*-1,LOOKUP($V100,Data!$A$6:$A$1806,Data!$E$6:$E$1806))","v":-214.34669494628906},{"$f":"LOOKUP($V100,Data!$A$6:$A$1806,Data!$F$6:$F$1806)","v":2},{"$f":"LOOKUP($V100,Data!$A$6:$A$1806,Data!$G$6:$G$1806)","v":160},{"$f":"LOOKUP($V100,Data!$A$6:$A$1806,Data!$H$6:$H$1806)","v":10},{"$f":"LOOKUP($V100,Data!$A$6:$A$1806,Data!$I$6:$I$1806)","v":0},{"$f":"LOOKUP($V100,Data!$A$6:$A$1806,Data!$J$6:$J$1806)","v":-103},{"$f":"LOOKUP($V100,Data!$A$6:$A$1806,Data!$K$6:$K$1806)","v":7570},84.7991943359375,"T+42 sec",40098.102812499958,59.888705982881433,3787.7750028722426,335,-212.74434796501609,2.1176470588235294,159.1764705882353,10,0,-103,7570,89.035213694852942,3716.9522677028881]
["T+44 sec",40098.102835648104,{"$f":"LOOKUP(B101,Data!$A$6:$A$1806,Data!B$6:B$1806)","v":59.890998840332031},{"$f":"LOOKUP(B101,Data!$A$6:$A$1806,Data!C$6:C$1806)","v":3793.074462890625},59.888705982881433,3787.7750028722426,null,87.200927734375,86.0965926586031,null,3756.8895288803997,0.55220438547493267,3771.5057331447574,{"$f":"AVERAGE(D$79:D101)","v":3757.486126443614},{"$f":"AVERAGE(M$79:M101)","v":3757.5784374742698},3690.0525374617464,{"$f":"AVERAGE(P$79:P101)","v":3684.2543914142602},null,null,null,"T+44 sec",40098.102835648104,{"$f":"LOOKUP($V101,Data!$A$6:$A$1806,Data!$B$6:$B$1806)","v":59.890998840332031},{"$f":"LOOKUP($V101,Data!$A$6:$A$1806,Data!$C$6:$C$1806)","v":3793.074462890625},{"$f":"LOOKUP($V101,Data!$A$6:$A$1806,Data!$D$6:$D$1806)","v":335},{"$f":"IF($Z$1=\"+\",LOOKUP($V101,Data!$A$6:$A$1806,Data!$E$6:$E$1806)*-1,LOOKUP($V101,Data!$A$6:$A$1806,Data!$E$6:$E$1806))","v":-214.34669494628906},{"$f":"LOOKUP($V101,Data!$A$6:$A$1806,Data!$F$6:$F$1806)","v":3},{"$f":"LOOKUP($V101,Data!$A$6:$A$1806,Data!$G$6:$G$1806)","v":160.5},{"$f":"LOOKUP($V101,Data!$A$6:$A$1806,Data!$H$6:$H$1806)","v":10},{"$f":"LOOKUP($V101,Data!$A$6:$A$1806,Data!$I$6:$I$1806)","v":0},{"$f":"LOOKUP($V101,Data!$A$6:$A$1806,Data!$J$6:$J$1806)","v":-103},{"$f":"LOOKUP($V101,Data!$A$6:$A$1806,Data!$K$6:$K$1806)","v":7570},87.200927734375,"T+44 sec",40098.102835648104,59.888705982881433,3787.7750028722426,335,-212.74434796501609,2.1176470588235294,159.1764705882353,10,0,-103,7570,89.035213694852942,3716.9522677028881]
["T+46 sec",40098.10285879625,{"$f":"LOOKUP(B102,Data!$A$6:$A$1806,Data!B$6:B$1806)","v":59.884998321533203},{"$f":"LOOKUP(B102,Data!$A$6:$A$1806,Data!C$6:C$1806)","v":3794.374267578125},59.888705982881433,3787.7750028722426,null,92.0013427734375,88.163255198795142,null,3756.8895288803997,0.55220438547493267,3774.1246000704241,{"$f":"AVERAGE(D$79:D102)","v":3759.0231323242187},{"$f":"AVERAGE(M$79:M102)","v":3758.2678609157761},3690.6047418472212,{"$f":"AVERAGE(P$79:P102)","v":3684.5304936069974},null,null,null,"T+46 sec",40098.10285879625,{"$f":"LOOKUP($V102,Data!$A$6:$A$1806,Data!$B$6:$B$1806)","v":59.884998321533203},{"$f":"LOOKUP($V102,Data!$A$6:$A$1806,Data!$C$6:$C$1806)","v":3794.374267578125},{"$f":"LOOKUP($V102,Data!$A$6:$A$1806,Data!$D$6:$D$1806)","v":335},{"$f":"IF($Z$1=\"+\",LOOKUP($V102,Data!$A$6:$A$1806,Data!$E$6:$E$1806)*-1,LOOKUP($V102,Data!$A$6:$A$1806,Data!$E$6:$E$1806))","v":-212.17269897460937},{"$f":"LOOKUP($V102,Data!$A$6:$A$1806,Data!$F$6:$F$1806)","v":4},{"$f":"LOOKUP($V102,Data!$A$6:$A$1806,Data!$G$6:$G$1806)","v":161},{"$f":"LOOKUP($V102,Data!$A$6:$A$1806,Data!$H$6:$H$1806)","v":10},{"$f":"LOOKUP($V102,Data!$A$6:$A$1806,Data!$I$6:$I$1806)","v":0},{"$f":"LOOKUP($V102,Data!$A$6:$A$1806,Data!$J$6:$J$1806)","v":-103},{"$f":"LOOKUP($V102,Data!$A$6:$A$1806,Data!$K$6:$K$1806)","v":7570},92.0013427734375,"T+46 sec",40098.10285879625,59.888705982881433,3787.7750028722426,335,-212.74434796501609,2.1176470588235294,159.1764705882353,10,0,-103,7570,89.035213694852942,3716.9522677028881]
["T+48 sec",40098.102881944396,{"$f":"LOOKUP(B103,Data!$A$6:$A$1806,Data!B$6:B$1806)","v":59.884998321533203},{"$f":"LOOKUP(B103,Data!$A$6:$A$1806,Data!C$6:C$1806)","v":3794.374267578125},59.888705982881433,3787.7750028722426,null,92.0013427734375,89.506585849919972,null,3756.8895288803997,0.55220438547493267,3776.0201351070236,{"$f":"AVERAGE(D$79:D103)","v":3760.4371777343749},{"$f":"AVERAGE(M$79:M103)","v":3758.9779518834262},3691.1569462326961,{"$f":"AVERAGE(P$79:P103)","v":3684.8065957997351},null,null,null,"T+48 sec",40098.102881944396,{"$f":"LOOKUP($V103,Data!$A$6:$A$1806,Data!$B$6:$B$1806)","v":59.884998321533203},{"$f":"LOOKUP($V103,Data!$A$6:$A$1806,Data!$C$6:$C$1806)","v":3794.374267578125},{"$f":"LOOKUP($V103,Data!$A$6:$A$1806,Data!$D$6:$D$1806)","v":335},{"$f":"IF($Z$1=\"+\",LOOKUP($V103,Data!$A$6:$A$1806,Data!$E$6:$E$1806)*-1,LOOKUP($V103,Data!$A$6:$A$1806,Data!$E$6:$E$1806))","v":-212.17269897460937},{"$f":"LOOKUP($V103,Data!$A$6:$A$1806,Data!$F$6:$F$1806)","v":4},{"$f":"LOOKUP($V103,Data!$A$6:$A$1806,Data!$G$6:$G$1806)","v":161},{"$f":"LOOKUP($V103,Data!$A$6:$A$1806,Data!$H$6:$H$1806)","v":10},{"$f":"LOOKUP($V103,Data!$A$6:$A$1806,Data!$I$6:$I$1806)","v":0},{"$f":"LOOKUP($V103,Data!$A$6:$A$1806,Data!$J$6:$J$1806)","v":-103},{"$f":"LOOKUP($V103,Data!$A$6:$A$1806,Data!$K$6:$K$1806)","v":7570},92.0013427734375,"T+48 sec",40098.102881944396,59.888705982881433,3787.7750028722426,335,-212.74434796501609,2.1176470588235294,159.1764705882353,10,0,-103,7570,89.035213694852942,3716.9522677028881]
["T+50 sec",40098.102905092543,{"$f":"LOOKUP(B104,Data!$A$6:$A$1806,Data!B$6:B$1806)","v":59.884998321533203},{"$f":"LOOKUP(B104,Data!$A$6:$A$1806,Data!C$6:C$1806)","v":3800.427490234375},59.888705982881433,3787.7750028722426,null,92.0013427734375,90.379750773151102,null,3756.8895288803997,0.55220438547493267,3777.4455044157298,{"$f":"AVERAGE(D$79:D104)","v":3761.9752666766826},{"$f":"AVERAGE(M$79:M104)","v":3759.6882423654383},3691.709150618171,{"$f":"AVERAGE(P$79:P104)","v":3685.0826979924727},null,null,null,"T+50 sec",40098.102905092543,{"$f":"LOOKUP($V104,Data!$A$6:$A$1806,Data!$B$6:$B$1806)","v":59.884998321533203},{"$f":"LOOKUP($V104,Data!$A$6:$A$1806,Data!$C$6:$C$1806)","v":3800.427490234375},{"$f":"LOOKUP($V104,Data!$A$6:$A$1806,Data!$D$6:$D$1806)","v":335},{"$f":"IF($Z$1=\"+\",LOOKUP($V104,Data!$A$6:$A$1806,Data!$E$6:$E$1806)*-1,LOOKUP($V104,Data!$A$6:$A$1806,Data!$E$6:$E$1806))","v":-212.17269897460937},{"$f":"LOOKUP($V104,Data!$A$6:$A$1806,Data!$F$6:$F$1806)","v":5},{"$f":"LOOKUP($V104,Data!$A$6:$A$1806,Data!$G$6:$G$1806)","v":161.5},{"$f":"LOOKUP($V104,Data!$A$6:$A$1806,Data!$H$6:$H$1806)","v":10},{"$f":"LOOKUP($V104,Data!$A$6:$A$1806,Data!$I$6:$I$1806)","v":0},{"$f":"LOOKUP($V104,Data!$A$6:$A$1806,Data!$J$6:$J$1806)","v":-103},{"$f":"LOOKUP($V104,Data!$A$6:$A$1806,Data!$K$6:$K$1806)","v":7570},92.0013427734375,"T+50 sec",40098.102905092543,59.888705982881433,3787.7750028722426,335,-212.74434796501609,2.1176470588235294,159.1764705882353,10,0,-103,7570,89.035213694852942,3716.9522677028881]
["T+52 sec",40098.102928240689,{"$f":"LOOKUP(B105,Data!$A$6:$A$1806,Data!B$6:B$1806)","v":59.887001037597656},{"$f":"LOOKUP(B105,Data!$A$6:$A$1806,Data!C$6:C$1806)","v":3799.959228515625},59.888705982881433,3787.7750028722426,null,90.399169921875,90.386547475204466,null,3756.8895288803997,0.55220438547493267,3778.0045055032579,{"$f":"AVERAGE(D$79:D105)","v":3763.382080078125},{"$f":"AVERAGE(M$79:M105)","v":3760.3666224816534},3692.2613550036458,{"$f":"AVERAGE(P$79:P105)","v":3685.3588001852104},null,null,null,"T+52 sec",40098.102928240689,{"$f":"LOOKUP($V105,Data!$A$6:$A$1806,Data!$B$6:$B$1806)","v":59.887001037597656},{"$f":"LOOKUP($V105,Data!$A$6:$A$1806,Data!$C$6:$C$1806)","v":3799.959228515625},{"$f":"LOOKUP($V105,Data!$A$6:$A$1806,Data!$D$6:$D$1806)","v":335},{"$f":"IF($Z$1=\"+\",LOOKUP($V105,Data!$A$6:$A$1806,Data!$E$6:$E$1806)*-1,LOOKUP($V105,Data!$A$6:$A$1806,Data!$E$6:$E$1806))","v":-212.17269897460937},{"$f":"LOOKUP($V105,Data!$A$6:$A$1806,Data!$F$6:$F$1806)","v":6},{"$f":"LOOKUP($V105,Data!$A$6:$A$1806,Data!$G$6:$G$1806)","v":162},{"$f":"LOOKUP($V105,Data!$A$6:$A$1806,Data!$H$6:$H$1806)","v":10},{"$f":"LOOKUP($V105,Data!$A$6:$A$1806,Data!$I$6:$I$1806)","v":0},{"$f":"LOOKUP($V105,Data!$A$6:$A$1806,Data!$J$6:$J$1806)","v":-103},{"$f":"LOOKUP($V105,Data!$A$6:$A$1806,Data!$K$6:$K$1806)","v":7570},90.399169921875,"T+52 sec",40098.102928240689,59.888705982881433,3787.7750028722426,335,-212.74434796501609,2.1176470588235294,159.1764705882353,10,0,-103,7570,89.035213694852942,3716.9522677028881]
["T+54 sec",40098.102951388835,{"$f":"LOOKUP(B106,Data!$A$6:$A$1806,Data!B$6:B$1806)","v":59.887001037597656},{"$f":"LOOKUP(B106,Data!$A$6:$A$1806,Data!C$6:C$1806)","v":3799.959228515625},null,null,null,90.399169921875,90.390965331539149,null,null,0.55220438547493267,3778.5611277450676,{"$f":"AVERAGE(D$79:D106)","v":3764.6884068080358},{"$f":"AVERAGE(M$79:M106)","v":3761.0164262410613},3692.8135593891207,{"$f":"AVERAGE(P$79:P106)","v":3685.6349023779476},null,null,null,"T+54 sec",40098.102951388835,{"$f":"LOOKUP($V106,Data!$A$6:$A$1806,Data!$B$6:$B$1806)","v":59.887001037597656},{"$f":"LOOKUP($V106,Data!$A$6:$A$1806,Data!$C$6:$C$1806)","v":3799.959228515625},{"$f":"LOOKUP($V106,Data!$A$6:$A$1806,Data!$D$6:$D$1806)","v":335},{"$f":"IF($Z$1=\"+\",LOOKUP($V106,Data!$A$6:$A$1806,Data!$E$6:$E$1806)*-1,LOOKUP($V106,Data!$A$6:$A$1806,Data!$E$6:$E$1806))","v":-212.17269897460937},{"$f":"LOOKUP($V106,Data!$A$6:$A$1806,Data!$F$6:$F$1806)","v":6},{"$f":"LOOKUP($V106,Data!$A$6:$A$1806,Data!$G$6:$G$1806)","v":162},{"$f":"LOOKUP($V106,Data!$A$6:$A$1806,Data!$H$6:$H$1806)","v":10},{"$f":"LOOKUP($V106,Data!$A$6:$A$1806,Data!$I$6:$I$1806)","v":0},{"$f":"LOOKUP($V106,Data!$A$6:$A$1806,Data!$J$6:$J$1806)","v":-103},{"$f":"LOOKUP($V106,Data!$A$6:$A$1806,Data!$K$6:$K$1806)","v":7570},90.399169921875,"T+54 sec",40098.102951388835]
["T+56 sec",40098.102974536981,{"$f":"LOOKUP(B107,Data!$A$6:$A$1806,Data!B$6:B$1806)","v":59.88800048828125},{"$f":"LOOKUP(B107,Data!$A$6:$A$1806,Data!C$6:C$1806)","v":3802.925048828125},null,null,null,89.599609375,{"$f":"L$13*H107+(1-L$13)*I106","v":90.113990746750446},null,null,0.55220438547493267,3778.8363575457538,{"$f":"AVERAGE(D$79:D107)","v":3766.0069117052803},{"$f":"AVERAGE(M$79:M107)","v":3761.6309066308781},3693.3657637745955,{"$f":"AVERAGE(P$79:P107)","v":3685.9110045706848},null,null,null,"T+56 sec",40098.102974536981,{"$f":"LOOKUP($V107,Data!$A$6:$A$1806,Data!$B$6:$B$1806)","v":59.88800048828125},{"$f":"LOOKUP($V107,Data!$A$6:$A$1806,Data!$C$6:$C$1806)","v":3802.925048828125},{"$f":"LOOKUP($V107,Data!$A$6:$A$1806,Data!$D$6:$D$1806)","v":335},{"$f":"IF($Z$1=\"+\",LOOKUP($V107,Data!$A$6:$A$1806,Data!$E$6:$E$1806)*-1,LOOKUP($V107,Data!$A$6:$A$1806,Data!$E$6:$E$1806))","v":-212.17269897460937},{"$f":"LOOKUP($V107,Data!$A$6:$A$1806,Data!$F$6:$F$1806)","v":7},{"$f":"LOOKUP($V107,Data!$A$6:$A$1806,Data!$G$6:$G$1806)","v":162.5},{"$f":"LOOKUP($V107,Data!$A$6:$A$1806,Data!$H$6:$H$1806)","v":10},{"$f":"LOOKUP($V107,Data!$A$6:$A$1806,Data!$I$6:$I$1806)","v":0},{"$f":"LOOKUP($V107,Data!$A$6:$A$1806,Data!$J$6:$J$1806)","v":-103},{"$f":"LOOKUP($V107,Data!$A$6:$A$1806,Data!$K$6:$K$1806)","v":7570},89.599609375,"T+56 sec",40098.102974536981]
["T+58 sec",40098.102997685128,{"$f":"LOOKUP(B108,Data!$A$6:$A$1806,Data!B$6:B$1806)","v":59.889999389648437},{"$f":"LOOKUP(B108,Data!$A$6:$A$1806,Data!C$6:C$1806)","v":3802.950927734375},null,null,null,{"$f":"(IF((C108-L$2)>0,((C108-L$2-L$5)/((L$4*L$2)-L$5)*L$3*-1),((C108-L$2+L$5)/((L$4*L$2)-L$5)*L$3*-1)))","v":88.00048828125},89.37426488382529,null,null,0.55220438547493267,3778.6488360683034,{"$f":"AVERAGE(D$79:D108)","v":3767.2383789062501},{"$f":"AVERAGE(M$79:M108)","v":3762.1981709454585},3693.9179681600704,{"$f":"AVERAGE(P$79:P108)","v":3686.187106763422},null,null,null,"T+58 sec",40098.102997685128,{"$f":"LOOKUP($V108,Data!$A$6:$A$1806,Data!$B$6:$B$1806)","v":59.889999389648437},{"$f":"LOOKUP($V108,Data!$A$6:$A$1806,Data!$C$6:$C$1806)","v":3802.950927734375},{"$f":"LOOKUP($V108,Data!$A$6:$A$1806,Data!$D$6:$D$1806)","v":335},{"$f":"IF($Z$1=\"+\",LOOKUP($V108,Data!$A$6:$A$1806,Data!$E$6:$E$1806)*-1,LOOKUP($V108,Data!$A$6:$A$1806,Data!$E$6:$E$1806))","v":-212.17269897460937},{"$f":"LOOKUP($V108,Data!$A$6:$A$1806,Data!$F$6:$F$1806)","v":8},{"$f":"LOOKUP($V108,Data!$A$6:$A$1806,Data!$G$6:$G$1806)","v":163},{"$f":"LOOKUP($V108,Data!$A$6:$A$1806,Data!$H$6:$H$1806)","v":10},{"$f":"LOOKUP($V108,Data!$A$6:$A$1806,Data!$I$6:$I$1806)","v":0},{"$f":"LOOKUP($V108,Data!$A$6:$A$1806,Data!$J$6:$J$1806)","v":-103},{"$f":"LOOKUP($V108,Data!$A$6:$A$1806,Data!$K$6:$K$1806)","v":7570},{"$f":"(IF((W108-$L$2)>0,((W108-$L$2-$L$5)/(($L$4*$L$2)-$L$5)*$L$3*-1),((W108-$L$2+$L$5)/(($L$4*$L$2)-$L$5)*$L$3*-1)))","v":88.00048828125},"T+58 sec",40098.102997685128]
["T+60 sec",40098.103020833274,{"$f":"LOOKUP(B109,Data!$A$6:$A$1806,Data!B$6:B$1806)","v":59.889999389648437},{"$f":"LOOKUP(B109,Data!$A$6:$A$1806,Data!C$6:C$1806)","v":3802.950927734375},null,null,null,88.00048828125,88.893443072923944,null,null,0.55220438547493267,3778.7202186428767,{"$f":"AVERAGE(D$79:D109)","v":3768.390396610383},{"$f":"AVERAGE(M$79:M109)","v":3762.7311402260207},3694.4701725455452,{"$f":"AVERAGE(P$79:P109)","v":3686.4632089561596},null,null,null,"T+60 sec",40098.103020833274,{"$f":"LOOKUP($V109,Data!$A$6:$A$1806,Data!$B$6:$B$1806)","v":59.889999389648437},{"$f":"LOOKUP($V109,Data!$A$6:$A$1806,Data!$C$6:$C$1806)","v":3802.950927734375},{"$f":"LOOKUP($V109,Data!$A$6:$A$1806,Data!$D$6:$D$1806)","v":335},{"$f":"IF($Z$1=\"+\",LOOKUP($V109,Data!$A$6:$A$1806,Data!$E$6:$E$1806)*-1,LOOKUP($V109,Data!$A$6:$A$1806,Data!$E$6:$E$1806))","v":-212.17269897460937},{"$f":"LOOKUP($V109,Data!$A$6:$A$1806,Data!$F$6:$F$1806)","v":8},{"$f":"LOOKUP($V109,Data!$A$6:$A$1806,Data!$G$6:$G$1806)","v":163},{"$f":"LOOKUP($V109,Data!$A$6:$A$1806,Data!$H$6:$H$1806)","v":10},{"$f":"LOOKUP($V109,Data!$A$6:$A$1806,Data!$I$6:$I$1806)","v":0},{"$f":"LOOKUP($V109,Data!$A$6:$A$1806,Data!$J$6:$J$1806)","v":-103},{"$f":"LOOKUP($V109,Data!$A$6:$A$1806,Data!$K$6:$K$1806)","v":7570},88.00048828125,"T+60 sec",40098.103020833274]
["T+62 sec",{"$f":"B109+TIME(0,0,$B$1)","v":40098.10304398142},{"$f":"LOOKUP(B110,Data!$A$6:$A$1806,Data!B$6:B$1806)","v":59.888999938964844},{"$f":"LOOKUP(B110,Data!$A$6:$A$1806,Data!C$6:C$1806)","v":3805.49609375},null,null,null,88.800048828125,88.860755087244314,null,null,0.55220438547493267,3779.2397350426718,{"$f":"AVERAGE(D$79:D110)","v":3769.5499496459961},{"$f":"AVERAGE(M$79:M110)","v":3763.2470338140411},3695.0223769310201,{"$f":"AVERAGE(P$79:P110)","v":3686.7393111488973},null,null,null,"T+62 sec",40098.10304398142,{"$f":"LOOKUP($V110,Data!$A$6:$A$1806,Data!$B$6:$B$1806)","v":59.888999938964844},{"$f":"LOOKUP($V110,Data!$A$6:$A$1806,Data!$C$6:$C$1806)","v":3805.49609375},{"$f":"LOOKUP($V110,Data!$A$6:$A$1806,Data!$D$6:$D$1806)","v":335},{"$f":"IF($Z$1=\"+\",LOOKUP($V110,Data!$A$6:$A$1806,Data!$E$6:$E$1806)*-1,LOOKUP($V110,Data!$A$6:$A$1806,Data!$E$6:$E$1806))","v":-215.59817504882812},{"$f":"LOOKUP($V110,Data!$A$6:$A$1806,Data!$F$6:$F$1806)","v":9},{"$f":"LOOKUP($V110,Data!$A$6:$A$1806,Data!$G$6:$G$1806)","v":163.5},{"$f":"LOOKUP($V110,Data!$A$6:$A$1806,Data!$H$6:$H$1806)","v":10},{"$f":"LOOKUP($V110,Data!$A$6:$A$1806,Data!$I$6:$I$1806)","v":0},{"$f":"LOOKUP($V110,Data!$A$6:$A$1806,Data!$J$6:$J$1806)","v":-103},{"$f":"LOOKUP($V110,Data!$A$6:$A$1806,Data!$K$6:$K$1806)","v":7570},88.800048828125,"T+62 sec",40098.10304398142]
["T+64 sec",40098.103067129567,{"$f":"LOOKUP(B111,Data!$A$6:$A$1806,Data!B$6:B$1806)","v":59.873001098632813},{"$f":"LOOKUP(B111,Data!$A$6:$A$1806,Data!C$6:C$1806)","v":3805.61669921875},null,null,null,101.59912109375,93.319183189521311,null,null,0.55220438547493267,3784.2503675304238,{"$f":"AVERAGE(D$79:D111)","v":3770.642881451231},{"$f":"AVERAGE(M$79:M111)","v":3763.8834984721129},3695.5745813164949,{"$f":"AVERAGE(P$79:P111)","v":3687.0154133416349},null,null,null,"T+64 sec",40098.103067129567,{"$f":"LOOKUP($V111,Data!$A$6:$A$1806,Data!$B$6:$B$1806)","v":59.873001098632813},{"$f":"LOOKUP($V111,Data!$A$6:$A$1806,Data!$C$6:$C$1806)","v":3805.61669921875},{"$f":"LOOKUP($V111,Data!$A$6:$A$1806,Data!$D$6:$D$1806)","v":335},{"$f":"IF($Z$1=\"+\",LOOKUP($V111,Data!$A$6:$A$1806,Data!$E$6:$E$1806)*-1,LOOKUP($V111,Data!$A$6:$A$1806,Data!$E$6:$E$1806))","v":-215.59817504882812},{"$f":"LOOKUP($V111,Data!$A$6:$A$1806,Data!$F$6:$F$1806)","v":10},{"$f":"LOOKUP($V111,Data!$A$6:$A$1806,Data!$G$6:$G$1806)","v":164},{"$f":"LOOKUP($V111,Data!$A$6:$A$1806,Data!$H$6:$H$1806)","v":10},{"$f":"LOOKUP($V111,Data!$A$6:$A$1806,Data!$I$6:$I$1806)","v":0},{"$f":"LOOKUP($V111,Data!$A$6:$A$1806,Data!$J$6:$J$1806)","v":-103},{"$f":"LOOKUP($V111,Data!$A$6:$A$1806,Data!$K$6:$K$1806)","v":7568},101.59912109375,"T+64 sec",40098.103067129567]
["T+66 sec",40098.103090277713,{"$f":"LOOKUP(B112,Data!$A$6:$A$1806,Data!B$6:B$1806)","v":59.873001098632813},{"$f":"LOOKUP(B112,Data!$A$6:$A$1806,Data!C$6:C$1806)","v":3805.61669921875},null,null,null,101.59912109375,96.21716145600135,null,null,0.55220438547493267,3787.7005501823787,{"$f":"AVERAGE(D$79:D112)","v":3771.6715231502758},{"$f":"AVERAGE(M$79:M112)","v":3764.5839999930031},3696.1267857019698,{"$f":"AVERAGE(P$79:P112)","v":3687.2915155343726},null,null,null,"T+66 sec",40098.103090277713,{"$f":"LOOKUP($V112,Data!$A$6:$A$1806,Data!$B$6:$B$1806)","v":59.873001098632813},{"$f":"LOOKUP($V112,Data!$A$6:$A$1806,Data!$C$6:$C$1806)","v":3805.61669921875},{"$f":"LOOKUP($V112,Data!$A$6:$A$1806,Data!$D$6:$D$1806)","v":335},{"$f":"IF($Z$1=\"+\",LOOKUP($V112,Data!$A$6:$A$1806,Data!$E$6:$E$1806)*-1,LOOKUP($V112,Data!$A$6:$A$1806,Data!$E$6:$E$1806))","v":-215.59817504882812},{"$f":"LOOKUP($V112,Data!$A$6:$A$1806,Data!$F$6:$F$1806)","v":10},{"$f":"LOOKUP($V112,Data!$A$6:$A$1806,Data!$G$6:$G$1806)","v":164},{"$f":"LOOKUP($V112,Data!$A$6:$A$1806,Data!$H$6:$H$1806)","v":10},{"$f":"LOOKUP($V112,Data!$A$6:$A$1806,Data!$I$6:$I$1806)","v":0},{"$f":"LOOKUP($V112,Data!$A$6:$A$1806,Data!$J$6:$J$1806)","v":-103},{"$f":"LOOKUP($V112,Data!$A$6:$A$1806,Data!$K$6:$K$1806)","v":7568},101.59912109375,"T+66 sec",40098.103090277713]
["T+68 sec",40098.103113425859,{"$f":"LOOKUP(B113,Data!$A$6:$A$1806,Data!B$6:B$1806)","v":59.856998443603516},{"$f":"LOOKUP(B113,Data!$A$6:$A$1806,Data!C$6:C$1806)","v":3811.5029296875},null,null,null,114.4012451171875,102.58159073741651,null,null,0.55220438547493267,3794.6171838492687,{"$f":"AVERAGE(D$79:D113)","v":3772.8095633370535},{"$f":"AVERAGE(M$79:M113)","v":3765.442090960325},3696.6789900874446,{"$f":"AVERAGE(P$79:P113)","v":3687.5676177271098},null,null,null,"T+68 sec",40098.103113425859,{"$f":"LOOKUP($V113,Data!$A$6:$A$1806,Data!$B$6:$B$1806)","v":59.856998443603516},{"$f":"LOOKUP($V113,Data!$A$6:$A$1806,Data!$C$6:$C$1806)","v":3811.5029296875},{"$f":"LOOKUP($V113,Data!$A$6:$A$1806,Data!$D$6:$D$1806)","v":335},{"$f":"IF($Z$1=\"+\",LOOKUP($V113,Data!$A$6:$A$1806,Data!$E$6:$E$1806)*-1,LOOKUP($V113,Data!$A$6:$A$1806,Data!$E$6:$E$1806))","v":-215.59817504882812},{"$f":"LOOKUP($V113,Data!$A$6:$A$1806,Data!$F$6:$F$1806)","v":11},{"$f":"LOOKUP($V113,Data!$A$6:$A$1806,Data!$G$6:$G$1806)","v":164.5},{"$f":"LOOKUP($V113,Data!$A$6:$A$1806,Data!$H$6:$H$1806)","v":10},{"$f":"LOOKUP($V113,Data!$A$6:$A$1806,Data!$I$6:$I$1806)","v":0},{"$f":"LOOKUP($V113,Data!$A$6:$A$1806,Data!$J$6:$J$1806)","v":-103},{"$f":"LOOKUP($V113,Data!$A$6:$A$1806,Data!$K$6:$K$1806)","v":7565},114.4012451171875,"T+68 sec",40098.103113425859]
["T+70 sec",40098.103136574005,{"$f":"LOOKUP(B114,Data!$A$6:$A$1806,Data!B$6:B$1806)","v":59.852001190185547},{"$f":"LOOKUP(B114,Data!$A$6:$A$1806,Data!C$6:C$1806)","v":3814.8623046875},null,null,null,118.3990478515625,108.11770072736761,null,null,0.55220438547493267,3800.7054982246946,{"$f":"AVERAGE(D$79:D114)","v":3773.9776950412324},{"$f":"AVERAGE(M$79:M114)","v":3766.4216300510025},3697.2311944729195,{"$f":"AVERAGE(P$79:P114)","v":3687.843719919847},null,null,null,"T+70 sec",40098.103136574005,{"$f":"LOOKUP($V114,Data!$A$6:$A$1806,Data!$B$6:$B$1806)","v":59.852001190185547},{"$f":"LOOKUP($V114,Data!$A$6:$A$1806,Data!$C$6:$C$1806)","v":3814.8623046875},{"$f":"LOOKUP($V114,Data!$A$6:$A$1806,Data!$D$6:$D$1806)","v":335},{"$f":"IF($Z$1=\"+\",LOOKUP($V114,Data!$A$6:$A$1806,Data!$E$6:$E$1806)*-1,LOOKUP($V114,Data!$A$6:$A$1806,Data!$E$6:$E$1806))","v":-215.59817504882812},{"$f":"LOOKUP($V114,Data!$A$6:$A$1806,Data!$F$6:$F$1806)","v":12},{"$f":"LOOKUP($V114,Data!$A$6:$A$1806,Data!$G$6:$G$1806)","v":165},{"$f":"LOOKUP($V114,Data!$A$6:$A$1806,Data!$H$6:$H$1806)","v":10},{"$f":"LOOKUP($V114,Data!$A$6:$A$1806,Data!$I$6:$I$1806)","v":0},{"$f":"LOOKUP($V114,Data!$A$6:$A$1806,Data!$J$6:$J$1806)","v":-103},{"$f":"LOOKUP($V114,Data!$A$6:$A$1806,Data!$K$6:$K$1806)","v":7560},118.3990478515625,"T+70 sec",40098.103136574005]
["T+72 sec",40098.103159722152,{"$f":"LOOKUP(B115,Data!$A$6:$A$1806,Data!B$6:B$1806)","v":59.852001190185547},{"$f":"LOOKUP(B115,Data!$A$6:$A$1806,Data!C$6:C$1806)","v":3814.8623046875},null,null,null,118.3990478515625,111.71617222083582,null,null,0.55220438547493267,3804.8561741036378,{"$f":"AVERAGE(D$79:D115)","v":3775.0826844911317},{"$f":"AVERAGE(M$79:M115)","v":3767.4604015118839},3697.7833988583943,{"$f":"AVERAGE(P$79:P115)","v":3688.1198221125846},null,null,null,"T+72 sec",40098.103159722152,{"$f":"LOOKUP($V115,Data!$A$6:$A$1806,Data!$B$6:$B$1806)","v":59.852001190185547},{"$f":"LOOKUP($V115,Data!$A$6:$A$1806,Data!$C$6:$C$1806)","v":3814.8623046875},{"$f":"LOOKUP($V115,Data!$A$6:$A$1806,Data!$D$6:$D$1806)","v":335},{"$f":"IF($Z$1=\"+\",LOOKUP($V115,Data!$A$6:$A$1806,Data!$E$6:$E$1806)*-1,LOOKUP($V115,Data!$A$6:$A$1806,Data!$E$6:$E$1806))","v":-215.59817504882812},{"$f":"LOOKUP($V115,Data!$A$6:$A$1806,Data!$F$6:$F$1806)","v":12},{"$f":"LOOKUP($V115,Data!$A$6:$A$1806,Data!$G$6:$G$1806)","v":165},{"$f":"LOOKUP($V115,Data!$A$6:$A$1806,Data!$H$6:$H$1806)","v":10},{"$f":"LOOKUP($V115,Data!$A$6:$A$1806,Data!$I$6:$I$1806)","v":0},{"$f":"LOOKUP($V115,Data!$A$6:$A$1806,Data!$J$6:$J$1806)","v":-103},{"$f":"LOOKUP($V115,Data!$A$6:$A$1806,Data!$K$6:$K$1806)","v":7560},118.3990478515625,"T+72 sec",40098.103159722152]
["T+74 sec",40098.103182870298,{"$f":"LOOKUP(B116,Data!$A$6:$A$1806,Data!B$6:B$1806)","v":59.858001708984375},{"$f":"LOOKUP(B116,Data!$A$6:$A$1806,Data!C$6:C$1806)","v":3825.642578125},null,null,null,113.5986328125,112.37503342791828,null,null,0.55220438547493267,3806.067239696195,{"$f":"AVERAGE(D$79:D116)","v":3776.4132080078125},{"$f":"AVERAGE(M$79:M116)","v":3768.4763709377867},3698.3356032438692,{"$f":"AVERAGE(P$79:P116)","v":3688.3959243053223},null,null,null,"T+74 sec",40098.103182870298,{"$f":"LOOKUP($V116,Data!$A$6:$A$1806,Data!$B$6:$B$1806)","v":59.858001708984375},{"$f":"LOOKUP($V116,Data!$A$6:$A$1806,Data!$C$6:$C$1806)","v":3825.642578125},{"$f":"LOOKUP($V116,Data!$A$6:$A$1806,Data!$D$6:$D$1806)","v":335},{"$f":"IF($Z$1=\"+\",LOOKUP($V116,Data!$A$6:$A$1806,Data!$E$6:$E$1806)*-1,LOOKUP($V116,Data!$A$6:$A$1806,Data!$E$6:$E$1806))","v":-215.59817504882812},{"$f":"LOOKUP($V116,Data!$A$6:$A$1806,Data!$F$6:$F$1806)","v":13},{"$f":"LOOKUP($V116,Data!$A$6:$A$1806,Data!$G$6:$G$1806)","v":165.5},{"$f":"LOOKUP($V116,Data!$A$6:$A$1806,Data!$H$6:$H$1806)","v":10},{"$f":"LOOKUP($V116,Data!$A$6:$A$1806,Data!$I$6:$I$1806)","v":0},{"$f":"LOOKUP($V116,Data!$A$6:$A$1806,Data!$J$6:$J$1806)","v":-103},{"$f":"LOOKUP($V116,Data!$A$6:$A$1806,Data!$K$6:$K$1806)","v":7563},113.5986328125,"T+74 sec",40098.103182870298]
["T+76 sec",40098.103206018444,{"$f":"LOOKUP(B117,Data!$A$6:$A$1806,Data!B$6:B$1806)","v":59.866001129150391},{"$f":"LOOKUP(B117,Data!$A$6:$A$1806,Data!C$6:C$1806)","v":3826.05322265625},null,null,null,107.1990966796875,110.5634555660375,null,null,0.55220438547493267,3804.807866219789,{"$f":"AVERAGE(D$79:D117)","v":3777.6860288962339},{"$f":"AVERAGE(M$79:M117)","v":3769.4079477398891},3698.887807629344,{"$f":"AVERAGE(P$79:P117)","v":3688.6720264980595},null,null,null,"T+76 sec",40098.103206018444,{"$f":"LOOKUP($V117,Data!$A$6:$A$1806,Data!$B$6:$B$1806)","v":59.866001129150391},{"$f":"LOOKUP($V117,Data!$A$6:$A$1806,Data!$C$6:$C$1806)","v":3826.05322265625},{"$f":"LOOKUP($V117,Data!$A$6:$A$1806,Data!$D$6:$D$1806)","v":335},{"$f":"IF($Z$1=\"+\",LOOKUP($V117,Data!$A$6:$A$1806,Data!$E$6:$E$1806)*-1,LOOKUP($V117,Data!$A$6:$A$1806,Data!$E$6:$E$1806))","v":-218.32725524902344},{"$f":"LOOKUP($V117,Data!$A$6:$A$1806,Data!$F$6:$F$1806)","v":14},{"$f":"LOOKUP($V117,Data!$A$6:$A$1806,Data!$G$6:$G$1806)","v":166},{"$f":"LOOKUP($V117,Data!$A$6:$A$1806,Data!$H$6:$H$1806)","v":10},{"$f":"LOOKUP($V117,Data!$A$6:$A$1806,Data!$I$6:$I$1806)","v":0},{"$f":"LOOKUP($V117,Data!$A$6:$A$1806,Data!$J$6:$J$1806)","v":-103},{"$f":"LOOKUP($V117,Data!$A$6:$A$1806,Data!$K$6:$K$1806)","v":7564},107.1990966796875,"T+76 sec",40098.103206018444]
["T+78 sec",40098.103229166591,{"$f":"LOOKUP(B118,Data!$A$6:$A$1806,Data!B$6:B$1806)","v":59.866001129150391},{"$f":"LOOKUP(B118,Data!$A$6:$A$1806,Data!C$6:C$1806)","v":3826.05322265625},null,null,null,107.1990966796875,109.385929955815,null,null,0.55220438547493267,3804.1825449950416,{"$f":"AVERAGE(D$79:D118)","v":3778.8952087402345},{"$f":"AVERAGE(M$79:M118)","v":3770.2773126712682},3699.4400120148189,{"$f":"AVERAGE(P$79:P118)","v":3688.9481286907967},null,null,null,"T+78 sec",40098.103229166591,{"$f":"LOOKUP($V118,Data!$A$6:$A$1806,Data!$B$6:$B$1806)","v":59.866001129150391},{"$f":"LOOKUP($V118,Data!$A$6:$A$1806,Data!$C$6:$C$1806)","v":3826.05322265625},{"$f":"LOOKUP($V118,Data!$A$6:$A$1806,Data!$D$6:$D$1806)","v":335},{"$f":"IF($Z$1=\"+\",LOOKUP($V118,Data!$A$6:$A$1806,Data!$E$6:$E$1806)*-1,LOOKUP($V118,Data!$A$6:$A$1806,Data!$E$6:$E$1806))","v":-218.32725524902344},{"$f":"LOOKUP($V118,Data!$A$6:$A$1806,Data!$F$6:$F$1806)","v":14},{"$f":"LOOKUP($V118,Data!$A$6:$A$1806,Data!$G$6:$G$1806)","v":166},{"$f":"LOOKUP($V118,Data!$A$6:$A$1806,Data!$H$6:$H$1806)","v":10},{"$f":"LOOKUP($V118,Data!$A$6:$A$1806,Data!$I$6:$I$1806)","v":0},{"$f":"LOOKUP($V118,Data!$A$6:$A$1806,Data!$J$6:$J$1806)","v":-103},{"$f":"LOOKUP($V118,Data!$A$6:$A$1806,Data!$K$6:$K$1806)","v":7564},107.1990966796875,"T+78 sec",40098.103229166591]
["T+80 sec",40098.103252314737,{"$f":"LOOKUP(B119,Data!$A$6:$A$1806,Data!B$6:B$1806)","v":59.865001678466797},{"$f":"LOOKUP(B119,Data!$A$6:$A$1806,Data!C$6:C$1806)","v":3827.52392578125},null,null,null,107.9986572265625,108.90038450057664,null,null,0.55220438547493267,3804.2492039252779,{"$f":"AVERAGE(D$79:D119)","v":3780.0812750095274},{"$f":"AVERAGE(M$79:M119)","v":3771.1058953847805},3699.9922164002937,{"$f":"AVERAGE(P$79:P119)","v":3689.2242308835348},null,null,null,"T+80 sec",40098.103252314737,{"$f":"LOOKUP($V119,Data!$A$6:$A$1806,Data!$B$6:$B$1806)","v":59.865001678466797},{"$f":"LOOKUP($V119,Data!$A$6:$A$1806,Data!$C$6:$C$1806)","v":3827.52392578125},{"$f":"LOOKUP($V119,Data!$A$6:$A$1806,Data!$D$6:$D$1806)","v":335},{"$f":"IF($Z$1=\"+\",LOOKUP($V119,Data!$A$6:$A$1806,Data!$E$6:$E$1806)*-1,LOOKUP($V119,Data!$A$6:$A$1806,Data!$E$6:$E$1806))","v":-218.32725524902344},{"$f":"LOOKUP($V119,Data!$A$6:$A$1806,Data!$F$6:$F$1806)","v":15},{"$f":"LOOKUP($V119,Data!$A$6:$A$1806,Data!$G$6:$G$1806)","v":166.5},{"$f":"LOOKUP($V119,Data!$A$6:$A$1806,Data!$H$6:$H$1806)","v":10},{"$f":"LOOKUP($V119,Data!$A$6:$A$1806,Data!$I$6:$I$1806)","v":0},{"$f":"LOOKUP($V119,Data!$A$6:$A$1806,Data!$J$6:$J$1806)","v":-103},{"$f":"LOOKUP($V119,Data!$A$6:$A$1806,Data!$K$6:$K$1806)","v":7566},107.9986572265625,"T+80 sec",40098.103252314737]
[null,40098.103275462883,{"$f":"LOOKUP(B120,Data!$A$6:$A$1806,Data!B$6:B$1806)","v":59.866001129150391},{"$f":"LOOKUP(B120,Data!$A$6:$A$1806,Data!C$6:C$1806)","v":3826.753173828125},null,null,null,107.1990966796875,108.30493376326544,null,null,0.55220438547493267,3804.2059575734415,{"$f":"AVERAGE(D$79:D120)","v":3781.1925106956846},{"$f":"AVERAGE(M$79:M120)","v":3771.893992103558},3700.5444207857686,{"$f":"AVERAGE(P$79:P120)","v":3689.500333076272},null,null,null,null,40098.103275462883,{"$f":"LOOKUP($V120,Data!$A$6:$A$1806,Data!$B$6:$B$1806)","v":59.866001129150391},{"$f":"LOOKUP($V120,Data!$A$6:$A$1806,Data!$C$6:$C$1806)","v":3826.753173828125},{"$f":"LOOKUP($V120,Data!$A$6:$A$1806,Data!$D$6:$D$1806)","v":335},{"$f":"IF($Z$1=\"+\",LOOKUP($V120,Data!$A$6:$A$1806,Data!$E$6:$E$1806)*-1,LOOKUP($V120,Data!$A$6:$A$1806,Data!$E$6:$E$1806))","v":-218.32725524902344},{"$f":"LOOKUP($V120,Data!$A$6:$A$1806,Data!$F$6:$F$1806)","v":16},{"$f":"LOOKUP($V120,Data!$A$6:$A$1806,Data!$G$6:$G$1806)","v":167},{"$f":"LOOKUP($V120,Data!$A$6:$A$1806,Data!$H$6:$H$1806)","v":10},{"$f":"LOOKUP($V120,Data!$A$6:$A$1806,Data!$I$6:$I$1806)","v":0},{"$f":"LOOKUP($V120,Data!$A$6:$A$1806,Data!$J$6:$J$1806)","v":-103},{"$f":"LOOKUP($V120,Data!$A$6:$A$1806,Data!$K$6:$K$1806)","v":7570},107.1990966796875]
[null,40098.103298611029,{"$f":"LOOKUP(B121,Data!$A$6:$A$1806,Data!B$6:B$1806)","v":59.866001129150391},{"$f":"LOOKUP(B121,Data!$A$6:$A$1806,Data!C$6:C$1806)","v":3826.753173828125},null,null,null,107.1990966796875,107.91789078401317,null,null,0.55220438547493267,3804.3711189796641,{"$f":"AVERAGE(D$79:D121)","v":3782.2520610010902},{"$f":"AVERAGE(M$79:M121)","v":3772.6492741239326},3701.0966251712434,{"$f":"AVERAGE(P$79:P121)","v":3689.7764352690097},null,null,null,null,40098.103298611029,{"$f":"LOOKUP($V121,Data!$A$6:$A$1806,Data!$B$6:$B$1806)","v":59.866001129150391},{"$f":"LOOKUP($V121,Data!$A$6:$A$1806,Data!$C$6:$C$1806)","v":3826.753173828125},{"$f":"LOOKUP($V121,Data!$A$6:$A$1806,Data!$D$6:$D$1806)","v":335},{"$f":"IF($Z$1=\"+\",LOOKUP($V121,Data!$A$6:$A$1806,Data!$E$6:$E$1806)*-1,LOOKUP($V121,Data!$A$6:$A$1806,Data!$E$6:$E$1806))","v":-218.32725524902344},{"$f":"LOOKUP($V121,Data!$A$6:$A$1806,Data!$F$6:$F$1806)","v":16},{"$f":"LOOKUP($V121,Data!$A$6:$A$1806,Data!$G$6:$G$1806)","v":167},{"$f":"LOOKUP($V121,Data!$A$6:$A$1806,Data!$H$6:$H$1806)","v":10},{"$f":"LOOKUP($V121,Data!$A$6:$A$1806,Data!$I$6:$I$1806)","v":0},{"$f":"LOOKUP($V121,Data!$A$6:$A$1806,Data!$J$6:$J$1806)","v":-103},{"$f":"LOOKUP($V121,Data!$A$6:$A$1806,Data!$K$6:$K$1806)","v":7570},107.1990966796875]
[null,40098.103321759176,{"$f":"LOOKUP(B122,Data!$A$6:$A$1806,Data!B$6:B$1806)","v":59.870998382568359},{"$f":"LOOKUP(B122,Data!$A$6:$A$1806,Data!C$6:C$1806)","v":3826.45361328125},null,null,null,103.2012939453125,106.26708189046794,null,null,0.55220438547493267,3803.2725144715937,{"$f":"AVERAGE(D$79:D122)","v":3783.2566417347302},{"$f":"AVERAGE(M$79:M122)","v":3773.3452568591065},3701.6488295567183,{"$f":"AVERAGE(P$79:P122)","v":3690.0525374617469},null,null,null,null,40098.103321759176,{"$f":"LOOKUP($V122,Data!$A$6:$A$1806,Data!$B$6:$B$1806)","v":59.870998382568359},{"$f":"LOOKUP($V122,Data!$A$6:$A$1806,Data!$C$6:$C$1806)","v":3826.45361328125},{"$f":"LOOKUP($V122,Data!$A$6:$A$1806,Data!$D$6:$D$1806)","v":335},{"$f":"IF($Z$1=\"+\",LOOKUP($V122,Data!$A$6:$A$1806,Data!$E$6:$E$1806)*-1,LOOKUP($V122,Data!$A$6:$A$1806,Data!$E$6:$E$1806))","v":-218.32725524902344},{"$f":"LOOKUP($V122,Data!$A$6:$A$1806,Data!$F$6:$F$1806)","v":16},{"$f":"LOOKUP($V122,Data!$A$6:$A$1806,Data!$G$6:$G$1806)","v":167.5},{"$f":"LOOKUP($V122,Data!$A$6:$A$1806,Data!$H$6:$H$1806)","v":10},{"$f":"LOOKUP($V122,Data!$A$6:$A$1806,Data!$I$6:$I$1806)","v":0},{"$f":"LOOKUP($V122,Data!$A$6:$A$1806,Data!$J$6:$J$1806)","v":-103},{"$f":"LOOKUP($V122,Data!$A$6:$A$1806,Data!$K$6:$K$1806)","v":7570},103.2012939453125]
[null,40098.103344907322,{"$f":"LOOKUP(B123,Data!$A$6:$A$1806,Data!B$6:B$1806)","v":59.879001617431641},{"$f":"LOOKUP(B123,Data!$A$6:$A$1806,Data!C$6:C$1806)","v":3825.71337890625},null,null,null,96.7987060546875,102.95315034794478,null,null,0.55220438547493267,3800.5107873145453,{"$f":"AVERAGE(D$79:D123)","v":3784.2001247829862},{"$f":"AVERAGE(M$79:M123)","v":3773.9489353136714},3702.2010339421931,{"$f":"AVERAGE(P$79:P123)","v":3690.3286396544845},null,null,null,null,40098.103344907322,{"$f":"LOOKUP($V123,Data!$A$6:$A$1806,Data!$B$6:$B$1806)","v":59.879001617431641},{"$f":"LOOKUP($V123,Data!$A$6:$A$1806,Data!$C$6:$C$1806)","v":3825.71337890625},{"$f":"LOOKUP($V123,Data!$A$6:$A$1806,Data!$D$6:$D$1806)","v":335},{"$f":"IF($Z$1=\"+\",LOOKUP($V123,Data!$A$6:$A$1806,Data!$E$6:$E$1806)*-1,LOOKUP($V123,Data!$A$6:$A$1806,Data!$E$6:$E$1806))","v":-218.32725524902344},{"$f":"LOOKUP($V123,Data!$A$6:$A$1806,Data!$F$6:$F$1806)","v":16},{"$f":"LOOKUP($V123,Data!$A$6:$A$1806,Data!$G$6:$G$1806)","v":168},{"$f":"LOOKUP($V123,Data!$A$6:$A$1806,Data!$H$6:$H$1806)","v":10},{"$f":"LOOKUP($V123,Data!$A$6:$A$1806,Data!$I$6:$I$1806)","v":0},{"$f":"LOOKUP($V123,Data!$A$6:$A$1806,Data!$J$6:$J$1806)","v":-103},{"$f":"LOOKUP($V123,Data!$A$6:$A$1806,Data!$K$6:$K$1806)","v":7570},96.7987060546875]
[null,40098.103368055468,{"$f":"LOOKUP(B124,Data!$A$6:$A$1806,Data!B$6:B$1806)","v":59.879001617431641},{"$f":"LOOKUP(B124,Data!$A$6:$A$1806,Data!C$6:C$1806)","v":3825.71337890625},null,null,null,96.7987060546875,100.79909484530474,null,null,0.55220438547493267,3798.9089361973802,{"$f":"AVERAGE(D$79:D124)","v":3785.102586829144},{"$f":"AVERAGE(M$79:M124)","v":3774.4915440285345},3702.753238327668,{"$f":"AVERAGE(P$79:P124)","v":3690.6047418472217},null,null,null,null,40098.103368055468,{"$f":"LOOKUP($V124,Data!$A$6:$A$1806,Data!$B$6:$B$1806)","v":59.879001617431641},{"$f":"LOOKUP($V124,Data!$A$6:$A$1806,Data!$C$6:$C$1806)","v":3825.71337890625},{"$f":"LOOKUP($V124,Data!$A$6:$A$1806,Data!$D$6:$D$1806)","v":335},{"$f":"IF($Z$1=\"+\",LOOKUP($V124,Data!$A$6:$A$1806,Data!$E$6:$E$1806)*-1,LOOKUP($V124,Data!$A$6:$A$1806,Data!$E$6:$E$1806))","v":-218.32725524902344},{"$f":"LOOKUP($V124,Data!$A$6:$A$1806,Data!$F$6:$F$1806)","v":16},{"$f":"LOOKUP($V124,Data!$A$6:$A$1806,Data!$G$6:$G$1806)","v":168},{"$f":"LOOKUP($V124,Data!$A$6:$A$1806,Data!$H$6:$H$1806)","v":10},{"$f":"LOOKUP($V124,Data!$A$6:$A$1806,Data!$I$6:$I$1806)","v":0},{"$f":"LOOKUP($V124,Data!$A$6:$A$1806,Data!$J$6:$J$1806)","v":-103},{"$f":"LOOKUP($V124,Data!$A$6:$A$1806,Data!$K$6:$K$1806)","v":7570},96.7987060546875]
[null,40098.103391203615,{"$f":"LOOKUP(B125,Data!$A$6:$A$1806,Data!B$6:B$1806)","v":59.880001068115234},{"$f":"LOOKUP(B125,Data!$A$6:$A$1806,Data!C$6:C$1806)","v":3822.50537109375},null,null,null,95.9991455078125,99.119112577182463,null,null,0.55220438547493267,3797.7811583147327,{"$f":"AVERAGE(D$79:D125)","v":3785.8983907496677},{"$f":"AVERAGE(M$79:M125)","v":3774.9870677367517},3703.3054427131428,{"$f":"AVERAGE(P$79:P125)","v":3690.8808440399589},null,null,null,null,40098.103391203615,{"$f":"LOOKUP($V125,Data!$A$6:$A$1806,Data!$B$6:$B$1806)","v":59.880001068115234},{"$f":"LOOKUP($V125,Data!$A$6:$A$1806,Data!$C$6:$C$1806)","v":3822.50537109375},{"$f":"LOOKUP($V125,Data!$A$6:$A$1806,Data!$D$6:$D$1806)","v":335},{"$f":"IF($Z$1=\"+\",LOOKUP($V125,Data!$A$6:$A$1806,Data!$E$6:$E$1806)*-1,LOOKUP($V125,Data!$A$6:$A$1806,Data!$E$6:$E$1806))","v":-217.37942504882812},{"$f":"LOOKUP($V125,Data!$A$6:$A$1806,Data!$F$6:$F$1806)","v":16},{"$f":"LOOKUP($V125,Data!$A$6:$A$1806,Data!$G$6:$G$1806)","v":168.5},{"$f":"LOOKUP($V125,Data!$A$6:$A$1806,Data!$H$6:$H$1806)","v":10},{"$f":"LOOKUP($V125,Data!$A$6:$A$1806,Data!$I$6:$I$1806)","v":0},{"$f":"LOOKUP($V125,Data!$A$6:$A$1806,Data!$J$6:$J$1806)","v":-103},{"$f":"LOOKUP($V125,Data!$A$6:$A$1806,Data!$K$6:$K$1806)","v":7570},95.9991455078125]
[null,40098.103414351761,{"$f":"LOOKUP(B126,Data!$A$6:$A$1806,Data!B$6:B$1806)","v":59.886001586914063},{"$f":"LOOKUP(B126,Data!$A$6:$A$1806,Data!C$6:C$1806)","v":3819.0810546875},null,null,null,91.19873046875,96.346978839231099,null,null,0.55220438547493267,3795.5612289622563,{"$f":"AVERAGE(D$79:D126)","v":3786.5896962483725},{"$f":"AVERAGE(M$79:M126)","v":3775.4156960956166},3703.8576470986177,{"$f":"AVERAGE(P$79:P126)","v":3691.1569462326966},null,null,null,null,40098.103414351761,{"$f":"LOOKUP($V126,Data!$A$6:$A$1806,Data!$B$6:$B$1806)","v":59.886001586914063},{"$f":"LOOKUP($V126,Data!$A$6:$A$1806,Data!$C$6:$C$1806)","v":3819.0810546875},{"$f":"LOOKUP($V126,Data!$A$6:$A$1806,Data!$D$6:$D$1806)","v":335},{"$f":"IF($Z$1=\"+\",LOOKUP($V126,Data!$A$6:$A$1806,Data!$E$6:$E$1806)*-1,LOOKUP($V126,Data!$A$6:$A$1806,Data!$E$6:$E$1806))","v":-217.37942504882812},{"$f":"LOOKUP($V126,Data!$A$6:$A$1806,Data!$F$6:$F$1806)","v":16},{"$f":"LOOKUP($V126,Data!$A$6:$A$1806,Data!$G$6:$G$1806)","v":169},{"$f":"LOOKUP($V126,Data!$A$6:$A$1806,Data!$H$6:$H$1806)","v":10},{"$f":"LOOKUP($V126,Data!$A$6:$A$1806,Data!$I$6:$I$1806)","v":0},{"$f":"LOOKUP($V126,Data!$A$6:$A$1806,Data!$J$6:$J$1806)","v":-103},{"$f":"LOOKUP($V126,Data!$A$6:$A$1806,Data!$K$6:$K$1806)","v":7570},91.19873046875]
[null,40098.103437499907,{"$f":"LOOKUP(B127,Data!$A$6:$A$1806,Data!B$6:B$1806)","v":59.886001586914063},{"$f":"LOOKUP(B127,Data!$A$6:$A$1806,Data!C$6:C$1806)","v":3819.0810546875},null,null,null,91.19873046875,94.545091909562714,null,null,0.55220438547493267,3794.3115464180628,{"$f":"AVERAGE(D$79:D127)","v":3787.2527851961095},{"$f":"AVERAGE(M$79:M127)","v":3775.8013256940335},3704.4098514840925,{"$f":"AVERAGE(P$79:P127)","v":3691.4330484254338},null,null,null,null,40098.103437499907,{"$f":"LOOKUP($V127,Data!$A$6:$A$1806,Data!$B$6:$B$1806)","v":59.886001586914063},{"$f":"LOOKUP($V127,Data!$A$6:$A$1806,Data!$C$6:$C$1806)","v":3819.0810546875},{"$f":"LOOKUP($V127,Data!$A$6:$A$1806,Data!$D$6:$D$1806)","v":335},{"$f":"IF($Z$1=\"+\",LOOKUP($V127,Data!$A$6:$A$1806,Data!$E$6:$E$1806)*-1,LOOKUP($V127,Data!$A$6:$A$1806,Data!$E$6:$E$1806))","v":-217.37942504882812},{"$f":"LOOKUP($V127,Data!$A$6:$A$1806,Data!$F$6:$F$1806)","v":16},{"$f":"LOOKUP($V127,Data!$A$6:$A$1806,Data!$G$6:$G$1806)","v":169},{"$f":"LOOKUP($V127,Data!$A$6:$A$1806,Data!$H$6:$H$1806)","v":10},{"$f":"LOOKUP($V127,Data!$A$6:$A$1806,Data!$I$6:$I$1806)","v":0},{"$f":"LOOKUP($V127,Data!$A$6:$A$1806,Data!$J$6:$J$1806)","v":-103},{"$f":"LOOKUP($V127,Data!$A$6:$A$1806,Data!$K$6:$K$1806)","v":7570},91.19873046875]
[null,40098.103460648053,{"$f":"LOOKUP(B128,Data!$A$6:$A$1806,Data!B$6:B$1806)","v":59.889999389648437},{"$f":"LOOKUP(B128,Data!$A$6:$A$1806,Data!C$6:C$1806)","v":3816.814697265625},null,null,null,88.00048828125,92.254480639653266,null,null,0.55220438547493267,3792.5731395336284,{"$f":"AVERAGE(D$79:D128)","v":3787.8440234374998},{"$f":"AVERAGE(M$79:M128)","v":3776.1367619708258},3704.9620558695674,{"$f":"AVERAGE(P$79:P128)","v":3691.7091506181714},null,null,null,null,40098.103460648053,{"$f":"LOOKUP($V128,Data!$A$6:$A$1806,Data!$B$6:$B$1806)","v":59.889999389648437},{"$f":"LOOKUP($V128,Data!$A$6:$A$1806,Data!$C$6:$C$1806)","v":3816.814697265625},{"$f":"LOOKUP($V128,Data!$A$6:$A$1806,Data!$D$6:$D$1806)","v":335},{"$f":"IF($Z$1=\"+\",LOOKUP($V128,Data!$A$6:$A$1806,Data!$E$6:$E$1806)*-1,LOOKUP($V128,Data!$A$6:$A$1806,Data!$E$6:$E$1806))","v":-217.37942504882812},{"$f":"LOOKUP($V128,Data!$A$6:$A$1806,Data!$F$6:$F$1806)","v":16},{"$f":"LOOKUP($V128,Data!$A$6:$A$1806,Data!$G$6:$G$1806)","v":169.5},{"$f":"LOOKUP($V128,Data!$A$6:$A$1806,Data!$H$6:$H$1806)","v":10},{"$f":"LOOKUP($V128,Data!$A$6:$A$1806,Data!$I$6:$I$1806)","v":0},{"$f":"LOOKUP($V128,Data!$A$6:$A$1806,Data!$J$6:$J$1806)","v":-103},{"$f":"LOOKUP($V128,Data!$A$6:$A$1806,Data!$K$6:$K$1806)","v":7569},88.00048828125]
[null,40098.1034837962,{"$f":"LOOKUP(B129,Data!$A$6:$A$1806,Data!B$6:B$1806)","v":59.888999938964844},{"$f":"LOOKUP(B129,Data!$A$6:$A$1806,Data!C$6:C$1806)","v":3815.009765625},null,null,null,88.800048828125,91.045429505618372,null,null,0.55220438547493267,3791.9162927850684,{"$f":"AVERAGE(D$79:D129)","v":3788.3766850490197},{"$f":"AVERAGE(M$79:M129)","v":3776.4461645358106},3705.5142602550422,{"$f":"AVERAGE(P$79:P129)","v":3691.9852528109086},null,null,null,null,40098.1034837962,{"$f":"LOOKUP($V129,Data!$A$6:$A$1806,Data!$B$6:$B$1806)","v":59.888999938964844},{"$f":"LOOKUP($V129,Data!$A$6:$A$1806,Data!$C$6:$C$1806)","v":3815.009765625},{"$f":"LOOKUP($V129,Data!$A$6:$A$1806,Data!$D$6:$D$1806)","v":335},{"$f":"IF($Z$1=\"+\",LOOKUP($V129,Data!$A$6:$A$1806,Data!$E$6:$E$1806)*-1,LOOKUP($V129,Data!$A$6:$A$1806,Data!$E$6:$E$1806))","v":-217.37942504882812},{"$f":"LOOKUP($V129,Data!$A$6:$A$1806,Data!$F$6:$F$1806)","v":16},{"$f":"LOOKUP($V129,Data!$A$6:$A$1806,Data!$G$6:$G$1806)","v":170},{"$f":"LOOKUP($V129,Data!$A$6:$A$1806,Data!$H$6:$H$1806)","v":10},{"$f":"LOOKUP($V129,Data!$A$6:$A$1806,Data!$I$6:$I$1806)","v":0},{"$f":"LOOKUP($V129,Data!$A$6:$A$1806,Data!$J$6:$J$1806)","v":-103},{"$f":"LOOKUP($V129,Data!$A$6:$A$1806,Data!$K$6:$K$1806)","v":7575},88.800048828125]
[null,40098.103506944346,{"$f":"LOOKUP(B130,Data!$A$6:$A$1806,Data!B$6:B$1806)","v":59.888999938964844},{"$f":"LOOKUP(B130,Data!$A$6:$A$1806,Data!C$6:C$1806)","v":3815.009765625},null,null,null,88.800048828125,90.259546268495697,null,null,0.55220438547493267,3791.6826139334207,{"$f":"AVERAGE(D$79:D130)","v":3788.8888596754809},{"$f":"AVERAGE(M$79:M130)","v":3776.7391731780726},3706.0664646405171,{"$f":"AVERAGE(P$79:P130)","v":3692.2613550036463},null,null,null,null,40098.103506944346,{"$f":"LOOKUP($V130,Data!$A$6:$A$1806,Data!$B$6:$B$1806)","v":59.888999938964844},{"$f":"LOOKUP($V130,Data!$A$6:$A$1806,Data!$C$6:$C$1806)","v":3815.009765625},{"$f":"LOOKUP($V130,Data!$A$6:$A$1806,Data!$D$6:$D$1806)","v":335},{"$f":"IF($Z$1=\"+\",LOOKUP($V130,Data!$A$6:$A$1806,Data!$E$6:$E$1806)*-1,LOOKUP($V130,Data!$A$6:$A$1806,Data!$E$6:$E$1806))","v":-217.37942504882812},{"$f":"LOOKUP($V130,Data!$A$6:$A$1806,Data!$F$6:$F$1806)","v":16},{"$f":"LOOKUP($V130,Data!$A$6:$A$1806,Data!$G$6:$G$1806)","v":170},{"$f":"LOOKUP($V130,Data!$A$6:$A$1806,Data!$H$6:$H$1806)","v":10},{"$f":"LOOKUP($V130,Data!$A$6:$A$1806,Data!$I$6:$I$1806)","v":0},{"$f":"LOOKUP($V130,Data!$A$6:$A$1806,Data!$J$6:$J$1806)","v":-103},{"$f":"LOOKUP($V130,Data!$A$6:$A$1806,Data!$K$6:$K$1806)","v":7575},88.800048828125]
[null,40098.103530092492,{"$f":"LOOKUP(B131,Data!$A$6:$A$1806,Data!B$6:B$1806)","v":59.893001556396484},{"$f":"LOOKUP(B131,Data!$A$6:$A$1806,Data!C$6:C$1806)","v":3811.83837890625},null,null,null,85.5987548828125,88.628269283506583,null,null,0.55220438547493267,3790.6035413339064,{"$f":"AVERAGE(D$79:D131)","v":3789.3218694722877},{"$f":"AVERAGE(M$79:M131)","v":3777.000765030069},3706.6186690259919,{"$f":"AVERAGE(P$79:P131)","v":3692.5374571963835},null,null,null,null,40098.103530092492,{"$f":"LOOKUP($V131,Data!$A$6:$A$1806,Data!$B$6:$B$1806)","v":59.893001556396484},{"$f":"LOOKUP($V131,Data!$A$6:$A$1806,Data!$C$6:$C$1806)","v":3811.83837890625},{"$f":"LOOKUP($V131,Data!$A$6:$A$1806,Data!$D$6:$D$1806)","v":335},{"$f":"IF($Z$1=\"+\",LOOKUP($V131,Data!$A$6:$A$1806,Data!$E$6:$E$1806)*-1,LOOKUP($V131,Data!$A$6:$A$1806,Data!$E$6:$E$1806))","v":-217.37942504882812},{"$f":"LOOKUP($V131,Data!$A$6:$A$1806,Data!$F$6:$F$1806)","v":16},{"$f":"LOOKUP($V131,Data!$A$6:$A$1806,Data!$G$6:$G$1806)","v":170.5},{"$f":"LOOKUP($V131,Data!$A$6:$A$1806,Data!$H$6:$H$1806)","v":10},{"$f":"LOOKUP($V131,Data!$A$6:$A$1806,Data!$I$6:$I$1806)","v":0},{"$f":"LOOKUP($V131,Data!$A$6:$A$1806,Data!$J$6:$J$1806)","v":-103},{"$f":"LOOKUP($V131,Data!$A$6:$A$1806,Data!$K$6:$K$1806)","v":7573},85.5987548828125]
[null,40098.103553240639,{"$f":"LOOKUP(B132,Data!$A$6:$A$1806,Data!B$6:B$1806)","v":59.902999877929688},{"$f":"LOOKUP(B132,Data!$A$6:$A$1806,Data!C$6:C$1806)","v":3809.65185546875},null,null,null,77.60009765625,84.768409213966777,null,null,0.55220438547493267,3787.2958856498412,{"$f":"AVERAGE(D$79:D132)","v":3789.6983506944443},{"$f":"AVERAGE(M$79:M132)","v":3777.1914154119168},3707.1708734114668,{"$f":"AVERAGE(P$79:P132)","v":3692.8135593891207},null,null,null,null,40098.103553240639,{"$f":"LOOKUP($V132,Data!$A$6:$A$1806,Data!$B$6:$B$1806)","v":59.902999877929688},{"$f":"LOOKUP($V132,Data!$A$6:$A$1806,Data!$C$6:$C$1806)","v":3809.65185546875},{"$f":"LOOKUP($V132,Data!$A$6:$A$1806,Data!$D$6:$D$1806)","v":335},{"$f":"IF($Z$1=\"+\",LOOKUP($V132,Data!$A$6:$A$1806,Data!$E$6:$E$1806)*-1,LOOKUP($V132,Data!$A$6:$A$1806,Data!$E$6:$E$1806))","v":-214.83035278320312},{"$f":"LOOKUP($V132,Data!$A$6:$A$1806,Data!$F$6:$F$1806)","v":16},{"$f":"LOOKUP($V132,Data!$A$6:$A$1806,Data!$G$6:$G$1806)","v":171},{"$f":"LOOKUP($V132,Data!$A$6:$A$1806,Data!$H$6:$H$1806)","v":10},{"$f":"LOOKUP($V132,Data!$A$6:$A$1806,Data!$I$6:$I$1806)","v":0},{"$f":"LOOKUP($V132,Data!$A$6:$A$1806,Data!$J$6:$J$1806)","v":-103},{"$f":"LOOKUP($V132,Data!$A$6:$A$1806,Data!$K$6:$K$1806)","v":7571},77.60009765625]
[null,40098.103576388785,{"$f":"LOOKUP(B133,Data!$A$6:$A$1806,Data!B$6:B$1806)","v":59.902999877929688},{"$f":"LOOKUP(B133,Data!$A$6:$A$1806,Data!C$6:C$1806)","v":3809.65185546875},null,null,null,77.60009765625,82.259500168765896,null,null,0.55220438547493267,3785.339180990115,{"$f":"AVERAGE(D$79:D133)","v":3790.0611416903407},{"$f":"AVERAGE(M$79:M133)","v":3777.3395566042477},3707.7230777969417,{"$f":"AVERAGE(P$79:P133)","v":3693.0896615818583},null,null,null,null,40098.103576388785,{"$f":"LOOKUP($V133,Data!$A$6:$A$1806,Data!$B$6:$B$1806)","v":59.902999877929688},{"$f":"LOOKUP($V133,Data!$A$6:$A$1806,Data!$C$6:$C$1806)","v":3809.65185546875},{"$f":"LOOKUP($V133,Data!$A$6:$A$1806,Data!$D$6:$D$1806)","v":335},{"$f":"IF($Z$1=\"+\",LOOKUP($V133,Data!$A$6:$A$1806,Data!$E$6:$E$1806)*-1,LOOKUP($V133,Data!$A$6:$A$1806,Data!$E$6:$E$1806))","v":-214.83035278320312},{"$f":"LOOKUP($V133,Data!$A$6:$A$1806,Data!$F$6:$F$1806)","v":16},{"$f":"LOOKUP($V133,Data!$A$6:$A$1806,Data!$G$6:$G$1806)","v":171},{"$f":"LOOKUP($V133,Data!$A$6:$A$1806,Data!$H$6:$H$1806)","v":10},{"$f":"LOOKUP($V133,Data!$A$6:$A$1806,Data!$I$6:$I$1806)","v":0},{"$f":"LOOKUP($V133,Data!$A$6:$A$1806,Data!$J$6:$J$1806)","v":-103},{"$f":"LOOKUP($V133,Data!$A$6:$A$1806,Data!$K$6:$K$1806)","v":7571},77.60009765625]
[null,40098.103599536931,{"$f":"LOOKUP(B134,Data!$A$6:$A$1806,Data!B$6:B$1806)","v":59.902000427246094},{"$f":"LOOKUP(B134,Data!$A$6:$A$1806,Data!C$6:C$1806)","v":3805.59326171875},null,null,null,78.399658203125,80.908555480791591,null,null,0.55220438547493267,3784.5404406876155,{"$f":"AVERAGE(D$79:D134)","v":3790.3385009765625},{"$f":"AVERAGE(M$79:M134)","v":3777.4681438200219},3708.2752821824165,{"$f":"AVERAGE(P$79:P134)","v":3693.3657637745955},null,null,null,null,40098.103599536931,{"$f":"LOOKUP($V134,Data!$A$6:$A$1806,Data!$B$6:$B$1806)","v":59.902000427246094},{"$f":"LOOKUP($V134,Data!$A$6:$A$1806,Data!$C$6:$C$1806)","v":3805.59326171875},{"$f":"LOOKUP($V134,Data!$A$6:$A$1806,Data!$D$6:$D$1806)","v":335},{"$f":"IF($Z$1=\"+\",LOOKUP($V134,Data!$A$6:$A$1806,Data!$E$6:$E$1806)*-1,LOOKUP($V134,Data!$A$6:$A$1806,Data!$E$6:$E$1806))","v":-214.83035278320312},{"$f":"LOOKUP($V134,Data!$A$6:$A$1806,Data!$F$6:$F$1806)","v":16},{"$f":"LOOKUP($V134,Data!$A$6:$A$1806,Data!$G$6:$G$1806)","v":171.5},{"$f":"LOOKUP($V134,Data!$A$6:$A$1806,Data!$H$6:$H$1806)","v":10},{"$f":"LOOKUP($V134,Data!$A$6:$A$1806,Data!$I$6:$I$1806)","v":0},{"$f":"LOOKUP($V134,Data!$A$6:$A$1806,Data!$J$6:$J$1806)","v":-103},{"$f":"LOOKUP($V134,Data!$A$6:$A$1806,Data!$K$6:$K$1806)","v":7573},78.399658203125]
[null,40098.103622685077,{"$f":"LOOKUP(B135,Data!$A$6:$A$1806,Data!B$6:B$1806)","v":59.903999328613281},{"$f":"LOOKUP(B135,Data!$A$6:$A$1806,Data!C$6:C$1806)","v":3804.1884765625},null,null,null,76.800537109375,79.470749050795789,null,null,0.55220438547493267,3783.6548386430945,{"$f":"AVERAGE(D$79:D135)","v":3790.581483004386},{"$f":"AVERAGE(M$79:M135)","v":3777.5766823256899},3708.8274865678914,{"$f":"AVERAGE(P$79:P135)","v":3693.6418659673332},null,null,null,null,40098.103622685077,{"$f":"LOOKUP($V135,Data!$A$6:$A$1806,Data!$B$6:$B$1806)","v":59.903999328613281},{"$f":"LOOKUP($V135,Data!$A$6:$A$1806,Data!$C$6:$C$1806)","v":3804.1884765625},{"$f":"LOOKUP($V135,Data!$A$6:$A$1806,Data!$D$6:$D$1806)","v":335},{"$f":"IF($Z$1=\"+\",LOOKUP($V135,Data!$A$6:$A$1806,Data!$E$6:$E$1806)*-1,LOOKUP($V135,Data!$A$6:$A$1806,Data!$E$6:$E$1806))","v":-214.83035278320312},{"$f":"LOOKUP($V135,Data!$A$6:$A$1806,Data!$F$6:$F$1806)","v":16},{"$f":"LOOKUP($V135,Data!$A$6:$A$1806,Data!$G$6:$G$1806)","v":172},{"$f":"LOOKUP($V135,Data!$A$6:$A$1806,Data!$H$6:$H$1806)","v":10},{"$f":"LOOKUP($V135,Data!$A$6:$A$1806,Data!$I$6:$I$1806)","v":0},{"$f":"LOOKUP($V135,Data!$A$6:$A$1806,Data!$J$6:$J$1806)","v":-103},{"$f":"LOOKUP($V135,Data!$A$6:$A$1806,Data!$K$6:$K$1806)","v":7575},76.800537109375]
[null,40098.103645833224,{"$f":"LOOKUP(B136,Data!$A$6:$A$1806,Data!B$6:B$1806)","v":59.903999328613281},{"$f":"LOOKUP(B136,Data!$A$6:$A$1806,Data!C$6:C$1806)","v":3804.1884765625},null,null,null,76.800537109375,78.536174871298513,null,null,0.55220438547493267,3783.2724688490721,{"$f":"AVERAGE(D$79:D136)","v":3790.8160863415947},{"$f":"AVERAGE(M$79:M136)","v":3777.6748855416108},3709.3796909533662,{"$f":"AVERAGE(P$79:P136)","v":3693.9179681600704},null,null,null,null,40098.103645833224,{"$f":"LOOKUP($V136,Data!$A$6:$A$1806,Data!$B$6:$B$1806)","v":59.903999328613281},{"$f":"LOOKUP($V136,Data!$A$6:$A$1806,Data!$C$6:$C$1806)","v":3804.1884765625},{"$f":"LOOKUP($V136,Data!$A$6:$A$1806,Data!$D$6:$D$1806)","v":335},{"$f":"IF($Z$1=\"+\",LOOKUP($V136,Data!$A$6:$A$1806,Data!$E$6:$E$1806)*-1,LOOKUP($V136,Data!$A$6:$A$1806,Data!$E$6:$E$1806))","v":-214.83035278320312},{"$f":"LOOKUP($V136,Data!$A$6:$A$1806,Data!$F$6:$F$1806)","v":16},{"$f":"LOOKUP($V136,Data!$A$6:$A$1806,Data!$G$6:$G$1806)","v":172},{"$f":"LOOKUP($V136,Data!$A$6:$A$1806,Data!$H$6:$H$1806)","v":10},{"$f":"LOOKUP($V136,Data!$A$6:$A$1806,Data!$I$6:$I$1806)","v":0},{"$f":"LOOKUP($V136,Data!$A$6:$A$1806,Data!$J$6:$J$1806)","v":-103},{"$f":"LOOKUP($V136,Data!$A$6:$A$1806,Data!$K$6:$K$1806)","v":7575},76.800537109375]
[null,40098.10366898137,{"$f":"LOOKUP(B137,Data!$A$6:$A$1806,Data!B$6:B$1806)","v":59.907001495361328},{"$f":"LOOKUP(B137,Data!$A$6:$A$1806,Data!C$6:C$1806)","v":3793.97509765625},null,null,null,74.3988037109375,77.088094965172161,null,null,0.55220438547493267,3782.3765933284208,{"$f":"AVERAGE(D$79:D137)","v":3790.86962890625},{"$f":"AVERAGE(M$79:M137)","v":3777.7545755040992},3709.9318953388411,{"$f":"AVERAGE(P$79:P137)","v":3694.194070352808},null,null,null,null,40098.10366898137,{"$f":"LOOKUP($V137,Data!$A$6:$A$1806,Data!$B$6:$B$1806)","v":59.907001495361328},{"$f":"LOOKUP($V137,Data!$A$6:$A$1806,Data!$C$6:$C$1806)","v":3793.97509765625},{"$f":"LOOKUP($V137,Data!$A$6:$A$1806,Data!$D$6:$D$1806)","v":335},{"$f":"IF($Z$1=\"+\",LOOKUP($V137,Data!$A$6:$A$1806,Data!$E$6:$E$1806)*-1,LOOKUP($V137,Data!$A$6:$A$1806,Data!$E$6:$E$1806))","v":-214.83035278320312},{"$f":"LOOKUP($V137,Data!$A$6:$A$1806,Data!$F$6:$F$1806)","v":16},{"$f":"LOOKUP($V137,Data!$A$6:$A$1806,Data!$G$6:$G$1806)","v":172.5},{"$f":"LOOKUP($V137,Data!$A$6:$A$1806,Data!$H$6:$H$1806)","v":10},{"$f":"LOOKUP($V137,Data!$A$6:$A$1806,Data!$I$6:$I$1806)","v":0},{"$f":"LOOKUP($V137,Data!$A$6:$A$1806,Data!$J$6:$J$1806)","v":-103},{"$f":"LOOKUP($V137,Data!$A$6:$A$1806,Data!$K$6:$K$1806)","v":7577},74.3988037109375]
[null,40098.103692129516,{"$f":"LOOKUP(B138,Data!$A$6:$A$1806,Data!B$6:B$1806)","v":59.916000366210938},{"$f":"LOOKUP(B138,Data!$A$6:$A$1806,Data!C$6:C$1806)","v":3792.16943359375},null,null,null,67.19970703125,73.627159188299402,null,null,0.55220438547493267,3779.4678619370229,{"$f":"AVERAGE(D$79:D138)","v":3790.8912923177081},{"$f":"AVERAGE(M$79:M138)","v":3777.7831302779809},3710.4840997243159,{"$f":"AVERAGE(P$79:P138)","v":3694.4701725455457},null,null,null,null,40098.103692129516,{"$f":"LOOKUP($V138,Data!$A$6:$A$1806,Data!$B$6:$B$1806)","v":59.916000366210938},{"$f":"LOOKUP($V138,Data!$A$6:$A$1806,Data!$C$6:$C$1806)","v":3792.16943359375},{"$f":"LOOKUP($V138,Data!$A$6:$A$1806,Data!$D$6:$D$1806)","v":335},{"$f":"IF($Z$1=\"+\",LOOKUP($V138,Data!$A$6:$A$1806,Data!$E$6:$E$1806)*-1,LOOKUP($V138,Data!$A$6:$A$1806,Data!$E$6:$E$1806))","v":-214.83035278320312},{"$f":"LOOKUP($V138,Data!$A$6:$A$1806,Data!$F$6:$F$1806)","v":16},{"$f":"LOOKUP($V138,Data!$A$6:$A$1806,Data!$G$6:$G$1806)","v":173},{"$f":"LOOKUP($V138,Data!$A$6:$A$1806,Data!$H$6:$H$1806)","v":10},{"$f":"LOOKUP($V138,Data!$A$6:$A$1806,Data!$I$6:$I$1806)","v":0},{"$f":"LOOKUP($V138,Data!$A$6:$A$1806,Data!$J$6:$J$1806)","v":-103},{"$f":"LOOKUP($V138,Data!$A$6:$A$1806,Data!$K$6:$K$1806)","v":7577},67.19970703125]
[null,40098.103715277663,{"$f":"LOOKUP(B139,Data!$A$6:$A$1806,Data!B$6:B$1806)","v":59.916000366210938},{"$f":"LOOKUP(B139,Data!$A$6:$A$1806,Data!C$6:C$1806)","v":3792.16943359375},null,null,null,67.19970703125,71.377550933332117,null,null,0.55220438547493267,3777.7704580675304,{"$f":"AVERAGE(D$79:D139)","v":3790.9122454533813},{"$f":"AVERAGE(M$79:M139)","v":3777.7829225368259},3711.0363041097908,{"$f":"AVERAGE(P$79:P139)","v":3694.7462747382829},null,null,null,null,40098.103715277663,{"$f":"LOOKUP($V139,Data!$A$6:$A$1806,Data!$B$6:$B$1806)","v":59.916000366210938},{"$f":"LOOKUP($V139,Data!$A$6:$A$1806,Data!$C$6:$C$1806)","v":3792.16943359375},{"$f":"LOOKUP($V139,Data!$A$6:$A$1806,Data!$D$6:$D$1806)","v":335},{"$f":"IF($Z$1=\"+\",LOOKUP($V139,Data!$A$6:$A$1806,Data!$E$6:$E$1806)*-1,LOOKUP($V139,Data!$A$6:$A$1806,Data!$E$6:$E$1806))","v":-214.83035278320312},{"$f":"LOOKUP($V139,Data!$A$6:$A$1806,Data!$F$6:$F$1806)","v":16},{"$f":"LOOKUP($V139,Data!$A$6:$A$1806,Data!$G$6:$G$1806)","v":173},{"$f":"LOOKUP($V139,Data!$A$6:$A$1806,Data!$H$6:$H$1806)","v":10},{"$f":"LOOKUP($V139,Data!$A$6:$A$1806,Data!$I$6:$I$1806)","v":0},{"$f":"LOOKUP($V139,Data!$A$6:$A$1806,Data!$J$6:$J$1806)","v":-103},{"$f":"LOOKUP($V139,Data!$A$6:$A$1806,Data!$K$6:$K$1806)","v":7577},67.19970703125]
[null,40098.103738425809,{"$f":"LOOKUP(B140,Data!$A$6:$A$1806,Data!B$6:B$1806)","v":59.916000366210938},{"$f":"LOOKUP(B140,Data!$A$6:$A$1806,Data!C$6:C$1806)","v":3789.53369140625},null,null,null,67.19970703125,69.915305567603383,null,null,0.55220438547493267,3776.8604170872763,{"$f":"AVERAGE(D$79:D140)","v":3790.8900107106856},{"$f":"AVERAGE(M$79:M140)","v":3777.7680434166718},3711.5885084952656,{"$f":"AVERAGE(P$79:P140)","v":3695.0223769310205},null,null,null,null,40098.103738425809,{"$f":"LOOKUP($V140,Data!$A$6:$A$1806,Data!$B$6:$B$1806)","v":59.916000366210938},{"$f":"LOOKUP($V140,Data!$A$6:$A$1806,Data!$C$6:$C$1806)","v":3789.53369140625},{"$f":"LOOKUP($V140,Data!$A$6:$A$1806,Data!$D$6:$D$1806)","v":335},{"$f":"IF($Z$1=\"+\",LOOKUP($V140,Data!$A$6:$A$1806,Data!$E$6:$E$1806)*-1,LOOKUP($V140,Data!$A$6:$A$1806,Data!$E$6:$E$1806))","v":-227.65591430664062},{"$f":"LOOKUP($V140,Data!$A$6:$A$1806,Data!$F$6:$F$1806)","v":16},{"$f":"LOOKUP($V140,Data!$A$6:$A$1806,Data!$G$6:$G$1806)","v":173.5},{"$f":"LOOKUP($V140,Data!$A$6:$A$1806,Data!$H$6:$H$1806)","v":10},{"$f":"LOOKUP($V140,Data!$A$6:$A$1806,Data!$I$6:$I$1806)","v":0},{"$f":"LOOKUP($V140,Data!$A$6:$A$1806,Data!$J$6:$J$1806)","v":-103},{"$f":"LOOKUP($V140,Data!$A$6:$A$1806,Data!$K$6:$K$1806)","v":7578},67.19970703125]
[null,40098.103761573955,{"$f":"LOOKUP(B141,Data!$A$6:$A$1806,Data!B$6:B$1806)","v":59.917999267578125},{"$f":"LOOKUP(B141,Data!$A$6:$A$1806,Data!C$6:C$1806)","v":3788.132080078125},null,null,null,65.6005859375,68.405153697067192,null,null,0.55220438547493267,3775.9024696022152,{"$f":"AVERAGE(D$79:D141)","v":3790.8462340339784},{"$f":"AVERAGE(M$79:M141)","v":3777.7384311339028},3712.1407128807405,{"$f":"AVERAGE(P$79:P141)","v":3695.2984791237577},null,null,null,null,40098.103761573955,{"$f":"LOOKUP($V141,Data!$A$6:$A$1806,Data!$B$6:$B$1806)","v":59.917999267578125},{"$f":"LOOKUP($V141,Data!$A$6:$A$1806,Data!$C$6:$C$1806)","v":3788.132080078125},{"$f":"LOOKUP($V141,Data!$A$6:$A$1806,Data!$D$6:$D$1806)","v":335},{"$f":"IF($Z$1=\"+\",LOOKUP($V141,Data!$A$6:$A$1806,Data!$E$6:$E$1806)*-1,LOOKUP($V141,Data!$A$6:$A$1806,Data!$E$6:$E$1806))","v":-227.65591430664062},{"$f":"LOOKUP($V141,Data!$A$6:$A$1806,Data!$F$6:$F$1806)","v":16},{"$f":"LOOKUP($V141,Data!$A$6:$A$1806,Data!$G$6:$G$1806)","v":174},{"$f":"LOOKUP($V141,Data!$A$6:$A$1806,Data!$H$6:$H$1806)","v":10},{"$f":"LOOKUP($V141,Data!$A$6:$A$1806,Data!$I$6:$I$1806)","v":0},{"$f":"LOOKUP($V141,Data!$A$6:$A$1806,Data!$J$6:$J$1806)","v":-103},{"$f":"LOOKUP($V141,Data!$A$6:$A$1806,Data!$K$6:$K$1806)","v":7579},65.6005859375]
[null,40098.103784722101,{"$f":"LOOKUP(B142,Data!$A$6:$A$1806,Data!B$6:B$1806)","v":59.917999267578125},{"$f":"LOOKUP(B142,Data!$A$6:$A$1806,Data!C$6:C$1806)","v":3788.132080078125},null,null,null,65.6005859375,67.423554981218672,null,null,0.55220438547493267,3775.4730752718415,{"$f":"AVERAGE(D$79:D142)","v":3790.803825378418},{"$f":"AVERAGE(M$79:M142)","v":3777.7030349485581},3712.6929172662153,{"$f":"AVERAGE(P$79:P142)","v":3695.5745813164954},null,null,null,null,40098.103784722101,{"$f":"LOOKUP($V142,Data!$A$6:$A$1806,Data!$B$6:$B$1806)","v":59.917999267578125},{"$f":"LOOKUP($V142,Data!$A$6:$A$1806,Data!$C$6:$C$1806)","v":3788.132080078125},{"$f":"LOOKUP($V142,Data!$A$6:$A$1806,Data!$D$6:$D$1806)","v":335},{"$f":"IF($Z$1=\"+\",LOOKUP($V142,Data!$A$6:$A$1806,Data!$E$6:$E$1806)*-1,LOOKUP($V142,Data!$A$6:$A$1806,Data!$E$6:$E$1806))","v":-227.65591430664062},{"$f":"LOOKUP($V142,Data!$A$6:$A$1806,Data!$F$6:$F$1806)","v":16},{"$f":"LOOKUP($V142,Data!$A$6:$A$1806,Data!$G$6:$G$1806)","v":174},{"$f":"LOOKUP($V142,Data!$A$6:$A$1806,Data!$H$6:$H$1806)","v":10},{"$f":"LOOKUP($V142,Data!$A$6:$A$1806,Data!$I$6:$I$1806)","v":0},{"$f":"LOOKUP($V142,Data!$A$6:$A$1806,Data!$J$6:$J$1806)","v":-103},{"$f":"LOOKUP($V142,Data!$A$6:$A$1806,Data!$K$6:$K$1806)","v":7579},65.6005859375]
[null,40098.103807870248,{"$f":"LOOKUP(B143,Data!$A$6:$A$1806,Data!B$6:B$1806)","v":59.919998168945313},{"$f":"LOOKUP(B143,Data!$A$6:$A$1806,Data!C$6:C$1806)","v":3783.0283203125},null,null,null,64.00146484375,66.225823433104637,null,null,0.55220438547493267,3774.8275481092023,{"$f":"AVERAGE(D$79:D143)","v":3790.6842022235578},{"$f":"AVERAGE(M$79:M143)","v":3777.6587966894908},3713.2451216516902,{"$f":"AVERAGE(P$79:P143)","v":3695.8506835092326},null,null,null,null,40098.103807870248,{"$f":"LOOKUP($V143,Data!$A$6:$A$1806,Data!$B$6:$B$1806)","v":59.919998168945313},{"$f":"LOOKUP($V143,Data!$A$6:$A$1806,Data!$C$6:$C$1806)","v":3783.0283203125},{"$f":"LOOKUP($V143,Data!$A$6:$A$1806,Data!$D$6:$D$1806)","v":335},{"$f":"IF($Z$1=\"+\",LOOKUP($V143,Data!$A$6:$A$1806,Data!$E$6:$E$1806)*-1,LOOKUP($V143,Data!$A$6:$A$1806,Data!$E$6:$E$1806))","v":-227.65591430664062},{"$f":"LOOKUP($V143,Data!$A$6:$A$1806,Data!$F$6:$F$1806)","v":16},{"$f":"LOOKUP($V143,Data!$A$6:$A$1806,Data!$G$6:$G$1806)","v":174.5},{"$f":"LOOKUP($V143,Data!$A$6:$A$1806,Data!$H$6:$H$1806)","v":10},{"$f":"LOOKUP($V143,Data!$A$6:$A$1806,Data!$I$6:$I$1806)","v":0},{"$f":"LOOKUP($V143,Data!$A$6:$A$1806,Data!$J$6:$J$1806)","v":-103},{"$f":"LOOKUP($V143,Data!$A$6:$A$1806,Data!$K$6:$K$1806)","v":7580},64.00146484375]
[null,40098.103831018394,{"$f":"LOOKUP(B144,Data!$A$6:$A$1806,Data!B$6:B$1806)","v":59.919998168945313},{"$f":"LOOKUP(B144,Data!$A$6:$A$1806,Data!C$6:C$1806)","v":3781.701171875},null,null,null,64.00146484375,65.447297926830515,null,null,{"$f":"IF(B144>G$3,0,(K$21*0.000023148/K$22))","v":0.55220438547493267},{"$f":"M143+L144+(I144-I143)","v":3774.6012269884031},{"$f":"AVERAGE(D$79:D144)","v":3790.548095703125},{"$f":"AVERAGE(M$79:M144)","v":3777.6124698758381},3713.797326037165,{"$f":"AVERAGE(P$79:P144)","v":3696.1267857019702},null,null,null,null,40098.103831018394,{"$f":"LOOKUP($V144,Data!$A$6:$A$1806,Data!$B$6:$B$1806)","v":59.919998168945313},{"$f":"LOOKUP($V144,Data!$A$6:$A$1806,Data!$C$6:$C$1806)","v":3781.701171875},{"$f":"LOOKUP($V144,Data!$A$6:$A$1806,Data!$D$6:$D$1806)","v":335},{"$f":"IF($Z$1=\"+\",LOOKUP($V144,Data!$A$6:$A$1806,Data!$E$6:$E$1806)*-1,LOOKUP($V144,Data!$A$6:$A$1806,Data!$E$6:$E$1806))","v":-227.65591430664062},{"$f":"LOOKUP($V144,Data!$A$6:$A$1806,Data!$F$6:$F$1806)","v":16},{"$f":"LOOKUP($V144,Data!$A$6:$A$1806,Data!$G$6:$G$1806)","v":175},{"$f":"LOOKUP($V144,Data!$A$6:$A$1806,Data!$H$6:$H$1806)","v":10},{"$f":"LOOKUP($V144,Data!$A$6:$A$1806,Data!$I$6:$I$1806)","v":0},{"$f":"LOOKUP($V144,Data!$A$6:$A$1806,Data!$J$6:$J$1806)","v":-103},{"$f":"LOOKUP($V144,Data!$A$6:$A$1806,Data!$K$6:$K$1806)","v":7581},64.00146484375]
[null,40098.10385416654,{"$f":"LOOKUP(B145,Data!$A$6:$A$1806,Data!B$6:B$1806)","v":59.919998168945313},{"$f":"LOOKUP(B145,Data!$A$6:$A$1806,Data!C$6:C$1806)","v":3781.701171875},null,null,null,64.00146484375,64.941256347752329,null,null,0.55220438547493267,3774.6473897947999,{"$f":"AVERAGE(D$79:D145)","v":3790.4160520638993},{"$f":"AVERAGE(M$79:M145)","v":3777.568214949255},3714.3495304226399,{"$f":"AVERAGE(P$79:P145)","v":3696.4028878947074},null,null,null,null,{"$f":"V144+TIME(0,0,$B$1)","v":40098.10385416654},{"$f":"LOOKUP($V145,Data!$A$6:$A$1806,Data!$B$6:$B$1806)","v":59.919998168945313},{"$f":"LOOKUP($V145,Data!$A$6:$A$1806,Data!$C$6:$C$1806)","v":3781.701171875},{"$f":"LOOKUP($V145,Data!$A$6:$A$1806,Data!$D$6:$D$1806)","v":335},{"$f":"IF($Z$1=\"+\",LOOKUP($V145,Data!$A$6:$A$1806,Data!$E$6:$E$1806)*-1,LOOKUP($V145,Data!$A$6:$A$1806,Data!$E$6:$E$1806))","v":-227.65591430664062},{"$f":"LOOKUP($V145,Data!$A$6:$A$1806,Data!$F$6:$F$1806)","v":16},{"$f":"LOOKUP($V145,Data!$A$6:$A$1806,Data!$G$6:$G$1806)","v":175},{"$f":"LOOKUP($V145,Data!$A$6:$A$1806,Data!$H$6:$H$1806)","v":10},{"$f":"LOOKUP($V145,Data!$A$6:$A$1806,Data!$I$6:$I$1806)","v":0},{"$f":"LOOKUP($V145,Data!$A$6:$A$1806,Data!$J$6:$J$1806)","v":-103},{"$f":"LOOKUP($V145,Data!$A$6:$A$1806,Data!$K$6:$K$1806)","v":7581},64.00146484375]
[null,40098.103877314687,{"$f":"LOOKUP(B146,Data!$A$6:$A$1806,Data!B$6:B$1806)","v":59.916999816894531},{"$f":"LOOKUP(B146,Data!$A$6:$A$1806,Data!C$6:C$1806)","v":3775.635498046875},null,null,null,66.400146484375,65.451867895570274,null,null,0.55220438547493267,3775.7102057280927,{"$f":"AVERAGE(D$79:D146)","v":3790.1986909754137},{"$f":"AVERAGE(M$79:M146)","v":3777.5408912842381},{"$f":"P145+L146","v":3714.9017348081147},{"$f":"AVERAGE(P$79:P146)","v":3696.6789900874451},null,null,null,null,40098.103877314687,{"$f":"LOOKUP($V146,Data!$A$6:$A$1806,Data!$B$6:$B$1806)","v":59.916999816894531},{"$f":"LOOKUP($V146,Data!$A$6:$A$1806,Data!$C$6:$C$1806)","v":3775.635498046875},{"$f":"LOOKUP($V146,Data!$A$6:$A$1806,Data!$D$6:$D$1806)","v":335},{"$f":"IF($Z$1=\"+\",LOOKUP($V146,Data!$A$6:$A$1806,Data!$E$6:$E$1806)*-1,LOOKUP($V146,Data!$A$6:$A$1806,Data!$E$6:$E$1806))","v":-227.65591430664062},{"$f":"LOOKUP($V146,Data!$A$6:$A$1806,Data!$F$6:$F$1806)","v":16},{"$f":"LOOKUP($V146,Data!$A$6:$A$1806,Data!$G$6:$G$1806)","v":175.5},{"$f":"LOOKUP($V146,Data!$A$6:$A$1806,Data!$H$6:$H$1806)","v":10},{"$f":"LOOKUP($V146,Data!$A$6:$A$1806,Data!$I$6:$I$1806)","v":0},{"$f":"LOOKUP($V146,Data!$A$6:$A$1806,Data!$J$6:$J$1806)","v":-103},{"$f":"LOOKUP($V146,Data!$A$6:$A$1806,Data!$K$6:$K$1806)","v":7585},66.400146484375]
[null,40098.103900462833,{"$f":"LOOKUP(B147,Data!$A$6:$A$1806,Data!B$6:B$1806)","v":59.921001434326172},{"$f":"LOOKUP(B147,Data!$A$6:$A$1806,Data!C$6:C$1806)","v":3774.604248046875},null,null,null,63.1988525390625,64.663312520792545,null,null,0.55220438547493267,3775.4738547387897,{"$f":"AVERAGE(D$79:D147)","v":3789.9726845561595},{"$f":"AVERAGE(M$79:M147)","v":3777.5109342328547},3715.4539391935896,{"$f":"AVERAGE(P$79:P147)","v":3696.9550922801827},null,null,null,null,40098.103900462833,{"$f":"LOOKUP($V147,Data!$A$6:$A$1806,Data!$B$6:$B$1806)","v":59.921001434326172},{"$f":"LOOKUP($V147,Data!$A$6:$A$1806,Data!$C$6:$C$1806)","v":3774.604248046875},{"$f":"LOOKUP($V147,Data!$A$6:$A$1806,Data!$D$6:$D$1806)","v":335},{"$f":"IF($Z$1=\"+\",LOOKUP($V147,Data!$A$6:$A$1806,Data!$E$6:$E$1806)*-1,LOOKUP($V147,Data!$A$6:$A$1806,Data!$E$6:$E$1806))","v":-225.01808166503906},{"$f":"LOOKUP($V147,Data!$A$6:$A$1806,Data!$F$6:$F$1806)","v":16},{"$f":"LOOKUP($V147,Data!$A$6:$A$1806,Data!$G$6:$G$1806)","v":176},{"$f":"LOOKUP($V147,Data!$A$6:$A$1806,Data!$H$6:$H$1806)","v":10},{"$f":"LOOKUP($V147,Data!$A$6:$A$1806,Data!$I$6:$I$1806)","v":0},{"$f":"LOOKUP($V147,Data!$A$6:$A$1806,Data!$J$6:$J$1806)","v":-103},{"$f":"LOOKUP($V147,Data!$A$6:$A$1806,Data!$K$6:$K$1806)","v":7588},63.1988525390625]
[null,40098.103923610979,{"$f":"LOOKUP(B148,Data!$A$6:$A$1806,Data!B$6:B$1806)","v":59.921001434326172},{"$f":"LOOKUP(B148,Data!$A$6:$A$1806,Data!C$6:C$1806)","v":3774.604248046875},null,null,null,63.1988525390625,64.150751527187026,null,null,0.55220438547493267,3775.5134981306592,{"$f":"AVERAGE(D$79:D148)","v":3789.7531354631697},{"$f":"AVERAGE(M$79:M148)","v":3777.4823994313947},3716.0061435790644,{"$f":"AVERAGE(P$79:P148)","v":3697.2311944729199},null,null,null,null,40098.103923610979,{"$f":"LOOKUP($V148,Data!$A$6:$A$1806,Data!$B$6:$B$1806)","v":59.921001434326172},{"$f":"LOOKUP($V148,Data!$A$6:$A$1806,Data!$C$6:$C$1806)","v":3774.604248046875},{"$f":"LOOKUP($V148,Data!$A$6:$A$1806,Data!$D$6:$D$1806)","v":335},{"$f":"IF($Z$1=\"+\",LOOKUP($V148,Data!$A$6:$A$1806,Data!$E$6:$E$1806)*-1,LOOKUP($V148,Data!$A$6:$A$1806,Data!$E$6:$E$1806))","v":-225.01808166503906},{"$f":"LOOKUP($V148,Data!$A$6:$A$1806,Data!$F$6:$F$1806)","v":16},{"$f":"LOOKUP($V148,Data!$A$6:$A$1806,Data!$G$6:$G$1806)","v":176},{"$f":"LOOKUP($V148,Data!$A$6:$A$1806,Data!$H$6:$H$1806)","v":10},{"$f":"LOOKUP($V148,Data!$A$6:$A$1806,Data!$I$6:$I$1806)","v":0},{"$f":"LOOKUP($V148,Data!$A$6:$A$1806,Data!$J$6:$J$1806)","v":-103},{"$f":"LOOKUP($V148,Data!$A$6:$A$1806,Data!$K$6:$K$1806)","v":7588},63.1988525390625]
[null,40098.103946759125,{"$f":"LOOKUP(B149,Data!$A$6:$A$1806,Data!B$6:B$1806)","v":59.923000335693359},{"$f":"LOOKUP(B149,Data!$A$6:$A$1806,Data!C$6:C$1806)","v":3773.957763671875},null,null,null,61.5997314453125,63.257894498530945,null,null,0.55220438547493267,3775.1728454874778,{"$f":"AVERAGE(D$79:D149)","v":3789.5306654379401},{"$f":"AVERAGE(M$79:M149)","v":3777.4498705026076},3716.5583479645393,{"$f":"AVERAGE(P$79:P149)","v":3697.5072966656571},null,null,null,null,40098.103946759125,{"$f":"LOOKUP($V149,Data!$A$6:$A$1806,Data!$B$6:$B$1806)","v":59.923000335693359},{"$f":"LOOKUP($V149,Data!$A$6:$A$1806,Data!$C$6:$C$1806)","v":3773.957763671875},{"$f":"LOOKUP($V149,Data!$A$6:$A$1806,Data!$D$6:$D$1806)","v":335},{"$f":"IF($Z$1=\"+\",LOOKUP($V149,Data!$A$6:$A$1806,Data!$E$6:$E$1806)*-1,LOOKUP($V149,Data!$A$6:$A$1806,Data!$E$6:$E$1806))","v":-225.01808166503906},{"$f":"LOOKUP($V149,Data!$A$6:$A$1806,Data!$F$6:$F$1806)","v":16},{"$f":"LOOKUP($V149,Data!$A$6:$A$1806,Data!$G$6:$G$1806)","v":176.5},{"$f":"LOOKUP($V149,Data!$A$6:$A$1806,Data!$H$6:$H$1806)","v":10},{"$f":"LOOKUP($V149,Data!$A$6:$A$1806,Data!$I$6:$I$1806)","v":0},{"$f":"LOOKUP($V149,Data!$A$6:$A$1806,Data!$J$6:$J$1806)","v":-103},{"$f":"LOOKUP($V149,Data!$A$6:$A$1806,Data!$K$6:$K$1806)","v":7589},61.5997314453125]
[null,40098.103969907272,{"$f":"LOOKUP(B150,Data!$A$6:$A$1806,Data!B$6:B$1806)","v":59.924999237060547},{"$f":"LOOKUP(B150,Data!$A$6:$A$1806,Data!C$6:C$1806)","v":3772.722412109375},null,null,null,60.0006103515625,62.11784504709199,null,null,0.55220438547493267,3774.5850004215135,{"$f":"AVERAGE(D$79:D150)","v":3789.2972174750435},{"$f":"AVERAGE(M$79:M150)","v":3777.4100806403699},3717.1105523500141,{"$f":"AVERAGE(P$79:P150)","v":3697.7833988583943},null,null,null,null,40098.103969907272,{"$f":"LOOKUP($V150,Data!$A$6:$A$1806,Data!$B$6:$B$1806)","v":59.924999237060547},{"$f":"LOOKUP($V150,Data!$A$6:$A$1806,Data!$C$6:$C$1806)","v":3772.722412109375},{"$f":"LOOKUP($V150,Data!$A$6:$A$1806,Data!$D$6:$D$1806)","v":335},{"$f":"IF($Z$1=\"+\",LOOKUP($V150,Data!$A$6:$A$1806,Data!$E$6:$E$1806)*-1,LOOKUP($V150,Data!$A$6:$A$1806,Data!$E$6:$E$1806))","v":-225.01808166503906},{"$f":"LOOKUP($V150,Data!$A$6:$A$1806,Data!$F$6:$F$1806)","v":0},{"$f":"LOOKUP($V150,Data!$A$6:$A$1806,Data!$G$6:$G$1806)","v":177},{"$f":"LOOKUP($V150,Data!$A$6:$A$1806,Data!$H$6:$H$1806)","v":10},{"$f":"LOOKUP($V150,Data!$A$6:$A$1806,Data!$I$6:$I$1806)","v":0},{"$f":"LOOKUP($V150,Data!$A$6:$A$1806,Data!$J$6:$J$1806)","v":-103},{"$f":"LOOKUP($V150,Data!$A$6:$A$1806,Data!$K$6:$K$1806)","v":7589},60.0006103515625]
[null,40098.103993055418,{"$f":"LOOKUP(B151,Data!$A$6:$A$1806,Data!B$6:B$1806)","v":59.924999237060547},{"$f":"LOOKUP(B151,Data!$A$6:$A$1806,Data!C$6:C$1806)","v":3772.722412109375},null,null,null,60.0006103515625,61.376812903656671,null,null,0.55220438547493267,3774.396172663553,{"$f":"AVERAGE(D$79:D151)","v":3789.0701653467468},{"$f":"AVERAGE(M$79:M151)","v":3777.3687942297283},3717.662756735489,{"$f":"AVERAGE(P$79:P151)","v":3698.0595010511324},null,null,null,null,40098.103993055418,{"$f":"LOOKUP($V151,Data!$A$6:$A$1806,Data!$B$6:$B$1806)","v":59.924999237060547},{"$f":"LOOKUP($V151,Data!$A$6:$A$1806,Data!$C$6:$C$1806)","v":3772.722412109375},{"$f":"LOOKUP($V151,Data!$A$6:$A$1806,Data!$D$6:$D$1806)","v":335},{"$f":"IF($Z$1=\"+\",LOOKUP($V151,Data!$A$6:$A$1806,Data!$E$6:$E$1806)*-1,LOOKUP($V151,Data!$A$6:$A$1806,Data!$E$6:$E$1806))","v":-225.01808166503906},{"$f":"LOOKUP($V151,Data!$A$6:$A$1806,Data!$F$6:$F$1806)","v":0},{"$f":"LOOKUP($V151,Data!$A$6:$A$1806,Data!$G$6:$G$1806)","v":177},{"$f":"LOOKUP($V151,Data!$A$6:$A$1806,Data!$H$6:$H$1806)","v":10},{"$f":"LOOKUP($V151,Data!$A$6:$A$1806,Data!$I$6:$I$1806)","v":0},{"$f":"LOOKUP($V151,Data!$A$6:$A$1806,Data!$J$6:$J$1806)","v":-103},{"$f":"LOOKUP($V151,Data!$A$6:$A$1806,Data!$K$6:$K$1806)","v":7589},60.0006103515625]
[null,40098.104016203564,{"$f":"LOOKUP(B152,Data!$A$6:$A$1806,Data!B$6:B$1806)","v":59.928001403808594},{"$f":"LOOKUP(B152,Data!$A$6:$A$1806,Data!C$6:C$1806)","v":3769.629638671875},null,null,null,57.598876953125,60.054535320970587,null,null,0.55220438547493267,3773.6260994663417,{"$f":"AVERAGE(D$79:D152)","v":3788.8074555268158},{"$f":"AVERAGE(M$79:M152)","v":3777.3182172734664},3718.2149611209638,{"$f":"AVERAGE(P$79:P152)","v":3698.3356032438701},null,null,null,null,40098.104016203564,{"$f":"LOOKUP($V152,Data!$A$6:$A$1806,Data!$B$6:$B$1806)","v":59.928001403808594},{"$f":"LOOKUP($V152,Data!$A$6:$A$1806,Data!$C$6:$C$1806)","v":3769.629638671875},{"$f":"LOOKUP($V152,Data!$A$6:$A$1806,Data!$D$6:$D$1806)","v":335},{"$f":"IF($Z$1=\"+\",LOOKUP($V152,Data!$A$6:$A$1806,Data!$E$6:$E$1806)*-1,LOOKUP($V152,Data!$A$6:$A$1806,Data!$E$6:$E$1806))","v":-225.01808166503906},{"$f":"LOOKUP($V152,Data!$A$6:$A$1806,Data!$F$6:$F$1806)","v":0},{"$f":"LOOKUP($V152,Data!$A$6:$A$1806,Data!$G$6:$G$1806)","v":177.5},{"$f":"LOOKUP($V152,Data!$A$6:$A$1806,Data!$H$6:$H$1806)","v":10},{"$f":"LOOKUP($V152,Data!$A$6:$A$1806,Data!$I$6:$I$1806)","v":0},{"$f":"LOOKUP($V152,Data!$A$6:$A$1806,Data!$J$6:$J$1806)","v":-103},{"$f":"LOOKUP($V152,Data!$A$6:$A$1806,Data!$K$6:$K$1806)","v":7590},57.598876953125]
[null,40098.104039351711,{"$f":"LOOKUP(B153,Data!$A$6:$A$1806,Data!B$6:B$1806)","v":59.931999206542969},{"$f":"LOOKUP(B153,Data!$A$6:$A$1806,Data!C$6:C$1806)","v":3768.70703125},null,null,null,54.400634765625,58.075670126599633,null,null,0.55220438547493267,3772.1994386574456,{"$f":"AVERAGE(D$79:D153)","v":3788.5394498697915},{"$f":"AVERAGE(M$79:M153)","v":3777.2499668919195},3718.7671655064387,{"$f":"AVERAGE(P$79:P153)","v":3698.6117054366073},null,null,null,null,40098.104039351711,{"$f":"LOOKUP($V153,Data!$A$6:$A$1806,Data!$B$6:$B$1806)","v":59.931999206542969},{"$f":"LOOKUP($V153,Data!$A$6:$A$1806,Data!$C$6:$C$1806)","v":3768.70703125},{"$f":"LOOKUP($V153,Data!$A$6:$A$1806,Data!$D$6:$D$1806)","v":335},{"$f":"IF($Z$1=\"+\",LOOKUP($V153,Data!$A$6:$A$1806,Data!$E$6:$E$1806)*-1,LOOKUP($V153,Data!$A$6:$A$1806,Data!$E$6:$E$1806))","v":-225.01808166503906},{"$f":"LOOKUP($V153,Data!$A$6:$A$1806,Data!$F$6:$F$1806)","v":0},{"$f":"LOOKUP($V153,Data!$A$6:$A$1806,Data!$G$6:$G$1806)","v":178},{"$f":"LOOKUP($V153,Data!$A$6:$A$1806,Data!$H$6:$H$1806)","v":10},{"$f":"LOOKUP($V153,Data!$A$6:$A$1806,Data!$I$6:$I$1806)","v":0},{"$f":"LOOKUP($V153,Data!$A$6:$A$1806,Data!$J$6:$J$1806)","v":-103},{"$f":"LOOKUP($V153,Data!$A$6:$A$1806,Data!$K$6:$K$1806)","v":7590},54.400634765625]
[null,40098.104062499857,{"$f":"LOOKUP(B154,Data!$A$6:$A$1806,Data!B$6:B$1806)","v":59.931999206542969},{"$f":"LOOKUP(B154,Data!$A$6:$A$1806,Data!C$6:C$1806)","v":3768.70703125},null,null,null,54.400634765625,56.789407750258512,null,null,0.55220438547493267,3771.4653806665792,{"$f":"AVERAGE(D$79:D154)","v":3788.2784969932154},{"$f":"AVERAGE(M$79:M154)","v":3777.1738539152707},3719.3193698919135,{"$f":"AVERAGE(P$79:P154)","v":3698.8878076293445},null,null,null,null,40098.104062499857,{"$f":"LOOKUP($V154,Data!$A$6:$A$1806,Data!$B$6:$B$1806)","v":59.931999206542969},{"$f":"LOOKUP($V154,Data!$A$6:$A$1806,Data!$C$6:$C$1806)","v":3768.70703125},{"$f":"LOOKUP($V154,Data!$A$6:$A$1806,Data!$D$6:$D$1806)","v":335},{"$f":"IF($Z$1=\"+\",LOOKUP($V154,Data!$A$6:$A$1806,Data!$E$6:$E$1806)*-1,LOOKUP($V154,Data!$A$6:$A$1806,Data!$E$6:$E$1806))","v":-225.01808166503906},{"$f":"LOOKUP($V154,Data!$A$6:$A$1806,Data!$F$6:$F$1806)","v":0},{"$f":"LOOKUP($V154,Data!$A$6:$A$1806,Data!$G$6:$G$1806)","v":178},{"$f":"LOOKUP($V154,Data!$A$6:$A$1806,Data!$H$6:$H$1806)","v":10},{"$f":"LOOKUP($V154,Data!$A$6:$A$1806,Data!$I$6:$I$1806)","v":0},{"$f":"LOOKUP($V154,Data!$A$6:$A$1806,Data!$J$6:$J$1806)","v":-103},{"$f":"LOOKUP($V154,Data!$A$6:$A$1806,Data!$K$6:$K$1806)","v":7590},54.400634765625]
[null,40098.104085648003,{"$f":"LOOKUP(B155,Data!$A$6:$A$1806,Data!B$6:B$1806)","v":59.926998138427734},{"$f":"LOOKUP(B155,Data!$A$6:$A$1806,Data!C$6:C$1806)","v":3767.02099609375},null,null,null,58.4014892578125,57.35363627790241,null,null,0.55220438547493267,3772.5818135796981,{"$f":"AVERAGE(D$79:D155)","v":3788.0024255529624},{"$f":"AVERAGE(M$79:M155)","v":3777.1142170277958},3719.8715742773884,{"$f":"AVERAGE(P$79:P155)","v":3699.1639098220821},null,null,null,null,40098.104085648003,{"$f":"LOOKUP($V155,Data!$A$6:$A$1806,Data!$B$6:$B$1806)","v":59.926998138427734},{"$f":"LOOKUP($V155,Data!$A$6:$A$1806,Data!$C$6:$C$1806)","v":3767.02099609375},{"$f":"LOOKUP($V155,Data!$A$6:$A$1806,Data!$D$6:$D$1806)","v":335},{"$f":"IF($Z$1=\"+\",LOOKUP($V155,Data!$A$6:$A$1806,Data!$E$6:$E$1806)*-1,LOOKUP($V155,Data!$A$6:$A$1806,Data!$E$6:$E$1806))","v":-228.36515808105469},{"$f":"LOOKUP($V155,Data!$A$6:$A$1806,Data!$F$6:$F$1806)","v":0},{"$f":"LOOKUP($V155,Data!$A$6:$A$1806,Data!$G$6:$G$1806)","v":178.5},{"$f":"LOOKUP($V155,Data!$A$6:$A$1806,Data!$H$6:$H$1806)","v":10},{"$f":"LOOKUP($V155,Data!$A$6:$A$1806,Data!$I$6:$I$1806)","v":0},{"$f":"LOOKUP($V155,Data!$A$6:$A$1806,Data!$J$6:$J$1806)","v":-103},{"$f":"LOOKUP($V155,Data!$A$6:$A$1806,Data!$K$6:$K$1806)","v":7590},58.4014892578125]
[null,40098.104108796149,{"$f":"LOOKUP(B156,Data!$A$6:$A$1806,Data!B$6:B$1806)","v":59.930999755859375},{"$f":"LOOKUP(B156,Data!$A$6:$A$1806,Data!C$6:C$1806)","v":3767.407958984375},null,null,null,55.2001953125,56.599931940011565,null,null,0.55220438547493267,3772.3803136272822,{"$f":"AVERAGE(D$79:D156)","v":3787.7383939302886},{"$f":"AVERAGE(M$79:M156)","v":3777.0535259585586},3720.4237786628632,{"$f":"AVERAGE(P$79:P156)","v":3699.4400120148193},null,null,null,null,40098.104108796149,{"$f":"LOOKUP($V156,Data!$A$6:$A$1806,Data!$B$6:$B$1806)","v":59.930999755859375},{"$f":"LOOKUP($V156,Data!$A$6:$A$1806,Data!$C$6:$C$1806)","v":3767.407958984375},{"$f":"LOOKUP($V156,Data!$A$6:$A$1806,Data!$D$6:$D$1806)","v":335},{"$f":"IF($Z$1=\"+\",LOOKUP($V156,Data!$A$6:$A$1806,Data!$E$6:$E$1806)*-1,LOOKUP($V156,Data!$A$6:$A$1806,Data!$E$6:$E$1806))","v":-228.36515808105469},{"$f":"LOOKUP($V156,Data!$A$6:$A$1806,Data!$F$6:$F$1806)","v":0},{"$f":"LOOKUP($V156,Data!$A$6:$A$1806,Data!$G$6:$G$1806)","v":179},{"$f":"LOOKUP($V156,Data!$A$6:$A$1806,Data!$H$6:$H$1806)","v":10},{"$f":"LOOKUP($V156,Data!$A$6:$A$1806,Data!$I$6:$I$1806)","v":0},{"$f":"LOOKUP($V156,Data!$A$6:$A$1806,Data!$J$6:$J$1806)","v":-103},{"$f":"LOOKUP($V156,Data!$A$6:$A$1806,Data!$K$6:$K$1806)","v":7591},55.2001953125]
[null,40098.104131944296,{"$f":"LOOKUP(B157,Data!$A$6:$A$1806,Data!B$6:B$1806)","v":59.930999755859375},{"$f":"LOOKUP(B157,Data!$A$6:$A$1806,Data!C$6:C$1806)","v":3767.407958984375},null,null,null,55.2001953125,56.110024120382519,null,null,0.55220438547493267,3772.4426101931281,{"$f":"AVERAGE(D$79:D157)","v":3787.4810466524923},{"$f":"AVERAGE(M$79:M157)","v":3776.9951599362112},3720.9759830483381,{"$f":"AVERAGE(P$79:P157)","v":3699.7161142075565},null,null,null,null,40098.104131944296,{"$f":"LOOKUP($V157,Data!$A$6:$A$1806,Data!$B$6:$B$1806)","v":59.930999755859375},{"$f":"LOOKUP($V157,Data!$A$6:$A$1806,Data!$C$6:$C$1806)","v":3767.407958984375},{"$f":"LOOKUP($V157,Data!$A$6:$A$1806,Data!$D$6:$D$1806)","v":335},{"$f":"IF($Z$1=\"+\",LOOKUP($V157,Data!$A$6:$A$1806,Data!$E$6:$E$1806)*-1,LOOKUP($V157,Data!$A$6:$A$1806,Data!$E$6:$E$1806))","v":-228.36515808105469},{"$f":"LOOKUP($V157,Data!$A$6:$A$1806,Data!$F$6:$F$1806)","v":0},{"$f":"LOOKUP($V157,Data!$A$6:$A$1806,Data!$G$6:$G$1806)","v":179},{"$f":"LOOKUP($V157,Data!$A$6:$A$1806,Data!$H$6:$H$1806)","v":10},{"$f":"LOOKUP($V157,Data!$A$6:$A$1806,Data!$I$6:$I$1806)","v":0},{"$f":"LOOKUP($V157,Data!$A$6:$A$1806,Data!$J$6:$J$1806)","v":-103},{"$f":"LOOKUP($V157,Data!$A$6:$A$1806,Data!$K$6:$K$1806)","v":7591},55.2001953125]
[null,40098.104155092442,{"$f":"LOOKUP(B158,Data!$A$6:$A$1806,Data!B$6:B$1806)","v":59.929000854492187},{"$f":"LOOKUP(B158,Data!$A$6:$A$1806,Data!C$6:C$1806)","v":3766.259033203125},null,null,null,56.79931640625,56.351276420436136,null,null,0.55220438547493267,3773.2360668786564,{"$f":"AVERAGE(D$79:D158)","v":3787.2157714843752},{"$f":"AVERAGE(M$79:M158)","v":3776.9481712729917},3721.5281874338129,{"$f":"AVERAGE(P$79:P158)","v":3699.9922164002946},null,null,null,null,40098.104155092442,{"$f":"LOOKUP($V158,Data!$A$6:$A$1806,Data!$B$6:$B$1806)","v":59.929000854492187},{"$f":"LOOKUP($V158,Data!$A$6:$A$1806,Data!$C$6:$C$1806)","v":3766.259033203125},{"$f":"LOOKUP($V158,Data!$A$6:$A$1806,Data!$D$6:$D$1806)","v":335},{"$f":"IF($Z$1=\"+\",LOOKUP($V158,Data!$A$6:$A$1806,Data!$E$6:$E$1806)*-1,LOOKUP($V158,Data!$A$6:$A$1806,Data!$E$6:$E$1806))","v":-228.36515808105469},{"$f":"LOOKUP($V158,Data!$A$6:$A$1806,Data!$F$6:$F$1806)","v":0},{"$f":"LOOKUP($V158,Data!$A$6:$A$1806,Data!$G$6:$G$1806)","v":179.5},{"$f":"LOOKUP($V158,Data!$A$6:$A$1806,Data!$H$6:$H$1806)","v":10},{"$f":"LOOKUP($V158,Data!$A$6:$A$1806,Data!$I$6:$I$1806)","v":0},{"$f":"LOOKUP($V158,Data!$A$6:$A$1806,Data!$J$6:$J$1806)","v":-103},{"$f":"LOOKUP($V158,Data!$A$6:$A$1806,Data!$K$6:$K$1806)","v":7591},56.79931640625]
[null,40098.104178240588,{"$f":"LOOKUP(B159,Data!$A$6:$A$1806,Data!B$6:B$1806)","v":59.930999755859375},{"$f":"LOOKUP(B159,Data!$A$6:$A$1806,Data!C$6:C$1806)","v":3765.671630859375},null,null,null,55.2001953125,55.948398032658488,null,null,0.55220438547493267,3773.3853928763538,{"$f":"AVERAGE(D$79:D159)","v":3786.9497944396221},{"$f":"AVERAGE(M$79:M159)","v":3776.9041863545144},3722.0803918192878,{"$f":"AVERAGE(P$79:P159)","v":3700.2683185930318},null,null,null,null,40098.104178240588,{"$f":"LOOKUP($V159,Data!$A$6:$A$1806,Data!$B$6:$B$1806)","v":59.930999755859375},{"$f":"LOOKUP($V159,Data!$A$6:$A$1806,Data!$C$6:$C$1806)","v":3765.671630859375},{"$f":"LOOKUP($V159,Data!$A$6:$A$1806,Data!$D$6:$D$1806)","v":335},{"$f":"IF($Z$1=\"+\",LOOKUP($V159,Data!$A$6:$A$1806,Data!$E$6:$E$1806)*-1,LOOKUP($V159,Data!$A$6:$A$1806,Data!$E$6:$E$1806))","v":-228.36515808105469},{"$f":"LOOKUP($V159,Data!$A$6:$A$1806,Data!$F$6:$F$1806)","v":0},{"$f":"LOOKUP($V159,Data!$A$6:$A$1806,Data!$G$6:$G$1806)","v":180},{"$f":"LOOKUP($V159,Data!$A$6:$A$1806,Data!$H$6:$H$1806)","v":10},{"$f":"LOOKUP($V159,Data!$A$6:$A$1806,Data!$I$6:$I$1806)","v":0},{"$f":"LOOKUP($V159,Data!$A$6:$A$1806,Data!$J$6:$J$1806)","v":-103},{"$f":"LOOKUP($V159,Data!$A$6:$A$1806,Data!$K$6:$K$1806)","v":7591},55.2001953125]
[null,40098.104201388735,{"$f":"LOOKUP(B160,Data!$A$6:$A$1806,Data!B$6:B$1806)","v":59.930999755859375},{"$f":"LOOKUP(B160,Data!$A$6:$A$1806,Data!C$6:C$1806)","v":3765.671630859375},null,null,null,55.2001953125,55.686527080603021,null,null,0.55220438547493267,3773.6757263097729,{"$f":"AVERAGE(D$79:D160)","v":3786.6903046398629},{"$f":"AVERAGE(M$79:M160)","v":3776.864814890554},3722.6325962047626,{"$f":"AVERAGE(P$79:P160)","v":3700.5444207857695},null,null,null,null,40098.104201388735,{"$f":"LOOKUP($V160,Data!$A$6:$A$1806,Data!$B$6:$B$1806)","v":59.930999755859375},{"$f":"LOOKUP($V160,Data!$A$6:$A$1806,Data!$C$6:$C$1806)","v":3765.671630859375},{"$f":"LOOKUP($V160,Data!$A$6:$A$1806,Data!$D$6:$D$1806)","v":335},{"$f":"IF($Z$1=\"+\",LOOKUP($V160,Data!$A$6:$A$1806,Data!$E$6:$E$1806)*-1,LOOKUP($V160,Data!$A$6:$A$1806,Data!$E$6:$E$1806))","v":-228.36515808105469},{"$f":"LOOKUP($V160,Data!$A$6:$A$1806,Data!$F$6:$F$1806)","v":0},{"$f":"LOOKUP($V160,Data!$A$6:$A$1806,Data!$G$6:$G$1806)","v":180},{"$f":"LOOKUP($V160,Data!$A$6:$A$1806,Data!$H$6:$H$1806)","v":10},{"$f":"LOOKUP($V160,Data!$A$6:$A$1806,Data!$I$6:$I$1806)","v":0},{"$f":"LOOKUP($V160,Data!$A$6:$A$1806,Data!$J$6:$J$1806)","v":-103},{"$f":"LOOKUP($V160,Data!$A$6:$A$1806,Data!$K$6:$K$1806)","v":7591},55.2001953125]
[null,40098.104224536881,{"$f":"LOOKUP(B161,Data!$A$6:$A$1806,Data!B$6:B$1806)","v":59.937000274658203},{"$f":"LOOKUP(B161,Data!$A$6:$A$1806,Data!C$6:C$1806)","v":3766.12255859375},null,null,null,50.3997802734375,53.836165698095087,null,null,0.55220438547493267,3772.37756931274,{"$f":"AVERAGE(D$79:D161)","v":3786.4425004706327},{"$f":"AVERAGE(M$79:M161)","v":3776.8107516908217},3723.1848005902375,{"$f":"AVERAGE(P$79:P161)","v":3700.8205229785067},null,null,null,null,40098.104224536881,{"$f":"LOOKUP($V161,Data!$A$6:$A$1806,Data!$B$6:$B$1806)","v":59.937000274658203},{"$f":"LOOKUP($V161,Data!$A$6:$A$1806,Data!$C$6:$C$1806)","v":3766.12255859375},{"$f":"LOOKUP($V161,Data!$A$6:$A$1806,Data!$D$6:$D$1806)","v":335},{"$f":"IF($Z$1=\"+\",LOOKUP($V161,Data!$A$6:$A$1806,Data!$E$6:$E$1806)*-1,LOOKUP($V161,Data!$A$6:$A$1806,Data!$E$6:$E$1806))","v":-228.36515808105469},{"$f":"LOOKUP($V161,Data!$A$6:$A$1806,Data!$F$6:$F$1806)","v":0},{"$f":"LOOKUP($V161,Data!$A$6:$A$1806,Data!$G$6:$G$1806)","v":180.5},{"$f":"LOOKUP($V161,Data!$A$6:$A$1806,Data!$H$6:$H$1806)","v":10},{"$f":"LOOKUP($V161,Data!$A$6:$A$1806,Data!$I$6:$I$1806)","v":0},{"$f":"LOOKUP($V161,Data!$A$6:$A$1806,Data!$J$6:$J$1806)","v":-103},{"$f":"LOOKUP($V161,Data!$A$6:$A$1806,Data!$K$6:$K$1806)","v":7592},50.3997802734375]
[null,40098.104247685027,{"$f":"LOOKUP(B162,Data!$A$6:$A$1806,Data!B$6:B$1806)","v":59.944999694824219},{"$f":"LOOKUP(B162,Data!$A$6:$A$1806,Data!C$6:C$1806)","v":3765.10498046875},null,null,null,44.000244140625,50.393593152980557,null,null,0.55220438547493267,3769.4872011531002,{"$f":"AVERAGE(D$79:D162)","v":3786.1884823753721},{"$f":"AVERAGE(M$79:M162)","v":3776.7235665653729},3723.7370049757124,{"$f":"AVERAGE(P$79:P162)","v":3701.0966251712439},null,null,null,null,40098.104247685027,{"$f":"LOOKUP($V162,Data!$A$6:$A$1806,Data!$B$6:$B$1806)","v":59.944999694824219},{"$f":"LOOKUP($V162,Data!$A$6:$A$1806,Data!$C$6:$C$1806)","v":3765.10498046875},{"$f":"LOOKUP($V162,Data!$A$6:$A$1806,Data!$D$6:$D$1806)","v":335},{"$f":"IF($Z$1=\"+\",LOOKUP($V162,Data!$A$6:$A$1806,Data!$E$6:$E$1806)*-1,LOOKUP($V162,Data!$A$6:$A$1806,Data!$E$6:$E$1806))","v":-234.07533264160156},{"$f":"LOOKUP($V162,Data!$A$6:$A$1806,Data!$F$6:$F$1806)","v":0},{"$f":"LOOKUP($V162,Data!$A$6:$A$1806,Data!$G$6:$G$1806)","v":181},{"$f":"LOOKUP($V162,Data!$A$6:$A$1806,Data!$H$6:$H$1806)","v":10},{"$f":"LOOKUP($V162,Data!$A$6:$A$1806,Data!$I$6:$I$1806)","v":0},{"$f":"LOOKUP($V162,Data!$A$6:$A$1806,Data!$J$6:$J$1806)","v":-103},{"$f":"LOOKUP($V162,Data!$A$6:$A$1806,Data!$K$6:$K$1806)","v":7592},44.000244140625]
[null,40098.104270833173,{"$f":"LOOKUP(B163,Data!$A$6:$A$1806,Data!B$6:B$1806)","v":59.944999694824219},{"$f":"LOOKUP(B163,Data!$A$6:$A$1806,Data!C$6:C$1806)","v":3765.10498046875},null,null,null,44.000244140625,48.155920998656114,null,null,0.55220438547493267,3767.8017333842504,{"$f":"AVERAGE(D$79:D163)","v":3785.9404411764708},{"$f":"AVERAGE(M$79:M163)","v":3776.6186038220658},3724.2892093611872,{"$f":"AVERAGE(P$79:P163)","v":3701.3727273639815},null,null,null,null,40098.104270833173,{"$f":"LOOKUP($V163,Data!$A$6:$A$1806,Data!$B$6:$B$1806)","v":59.944999694824219},{"$f":"LOOKUP($V163,Data!$A$6:$A$1806,Data!$C$6:$C$1806)","v":3765.10498046875},{"$f":"LOOKUP($V163,Data!$A$6:$A$1806,Data!$D$6:$D$1806)","v":335},{"$f":"IF($Z$1=\"+\",LOOKUP($V163,Data!$A$6:$A$1806,Data!$E$6:$E$1806)*-1,LOOKUP($V163,Data!$A$6:$A$1806,Data!$E$6:$E$1806))","v":-234.07533264160156},{"$f":"LOOKUP($V163,Data!$A$6:$A$1806,Data!$F$6:$F$1806)","v":0},{"$f":"LOOKUP($V163,Data!$A$6:$A$1806,Data!$G$6:$G$1806)","v":181},{"$f":"LOOKUP($V163,Data!$A$6:$A$1806,Data!$H$6:$H$1806)","v":10},{"$f":"LOOKUP($V163,Data!$A$6:$A$1806,Data!$I$6:$I$1806)","v":0},{"$f":"LOOKUP($V163,Data!$A$6:$A$1806,Data!$J$6:$J$1806)","v":-103},{"$f":"LOOKUP($V163,Data!$A$6:$A$1806,Data!$K$6:$K$1806)","v":7592},44.000244140625]
[null,40098.10429398132,{"$f":"LOOKUP(B164,Data!$A$6:$A$1806,Data!B$6:B$1806)","v":59.949001312255859},{"$f":"LOOKUP(B164,Data!$A$6:$A$1806,Data!C$6:C$1806)","v":3758.38720703125},null,null,null,40.7989501953125,45.580981217485849,null,null,0.55220438547493267,3765.7789979885551,{"$f":"AVERAGE(D$79:D164)","v":3785.6200547329213},{"$f":"AVERAGE(M$79:M164)","v":3776.4925618937691},3724.8414137466621,{"$f":"AVERAGE(P$79:P164)","v":3701.6488295567187},null,null,null,null,40098.10429398132,{"$f":"LOOKUP($V164,Data!$A$6:$A$1806,Data!$B$6:$B$1806)","v":59.949001312255859},{"$f":"LOOKUP($V164,Data!$A$6:$A$1806,Data!$C$6:$C$1806)","v":3758.38720703125},{"$f":"LOOKUP($V164,Data!$A$6:$A$1806,Data!$D$6:$D$1806)","v":335},{"$f":"IF($Z$1=\"+\",LOOKUP($V164,Data!$A$6:$A$1806,Data!$E$6:$E$1806)*-1,LOOKUP($V164,Data!$A$6:$A$1806,Data!$E$6:$E$1806))","v":-234.07533264160156},{"$f":"LOOKUP($V164,Data!$A$6:$A$1806,Data!$F$6:$F$1806)","v":0},{"$f":"LOOKUP($V164,Data!$A$6:$A$1806,Data!$G$6:$G$1806)","v":181.5},{"$f":"LOOKUP($V164,Data!$A$6:$A$1806,Data!$H$6:$H$1806)","v":10},{"$f":"LOOKUP($V164,Data!$A$6:$A$1806,Data!$I$6:$I$1806)","v":0},{"$f":"LOOKUP($V164,Data!$A$6:$A$1806,Data!$J$6:$J$1806)","v":-103},{"$f":"LOOKUP($V164,Data!$A$6:$A$1806,Data!$K$6:$K$1806)","v":7593},40.7989501953125]
[null,40098.104317129466,{"$f":"LOOKUP(B165,Data!$A$6:$A$1806,Data!B$6:B$1806)","v":59.942001342773438},{"$f":"LOOKUP(B165,Data!$A$6:$A$1806,Data!C$6:C$1806)","v":3753.92236328125},null,null,null,46.39892578125,45.8672618148033,null,null,0.55220438547493267,3766.6174829713473,{"$f":"AVERAGE(D$79:D165)","v":3785.2557134518679},{"$f":"AVERAGE(M$79:M165)","v":3776.3790552394885},3725.3936181321369,{"$f":"AVERAGE(P$79:P165)","v":3701.9249317494564},null,null,null,null,40098.104317129466,{"$f":"LOOKUP($V165,Data!$A$6:$A$1806,Data!$B$6:$B$1806)","v":59.942001342773438},{"$f":"LOOKUP($V165,Data!$A$6:$A$1806,Data!$C$6:$C$1806)","v":3753.92236328125},{"$f":"LOOKUP($V165,Data!$A$6:$A$1806,Data!$D$6:$D$1806)","v":335},{"$f":"IF($Z$1=\"+\",LOOKUP($V165,Data!$A$6:$A$1806,Data!$E$6:$E$1806)*-1,LOOKUP($V165,Data!$A$6:$A$1806,Data!$E$6:$E$1806))","v":-234.07533264160156},{"$f":"LOOKUP($V165,Data!$A$6:$A$1806,Data!$F$6:$F$1806)","v":0},{"$f":"LOOKUP($V165,Data!$A$6:$A$1806,Data!$G$6:$G$1806)","v":182},{"$f":"LOOKUP($V165,Data!$A$6:$A$1806,Data!$H$6:$H$1806)","v":10},{"$f":"LOOKUP($V165,Data!$A$6:$A$1806,Data!$I$6:$I$1806)","v":0},{"$f":"LOOKUP($V165,Data!$A$6:$A$1806,Data!$J$6:$J$1806)","v":-103},{"$f":"LOOKUP($V165,Data!$A$6:$A$1806,Data!$K$6:$K$1806)","v":7594},46.39892578125]
[null,40098.104340277612,{"$f":"LOOKUP(B166,Data!$A$6:$A$1806,Data!B$6:B$1806)","v":59.942001342773438},{"$f":"LOOKUP(B166,Data!$A$6:$A$1806,Data!C$6:C$1806)","v":3753.92236328125},null,null,null,46.39892578125,46.053344203059645,null,null,0.55220438547493267,3767.3557697450783,{"$f":"AVERAGE(D$79:D166)","v":3784.8996526544743},{"$f":"AVERAGE(M$79:M166)","v":3776.2765179043245},3725.9458225176118,{"$f":"AVERAGE(P$79:P166)","v":3702.201033942194},null,null,null,null,40098.104340277612,{"$f":"LOOKUP($V166,Data!$A$6:$A$1806,Data!$B$6:$B$1806)","v":59.942001342773438},{"$f":"LOOKUP($V166,Data!$A$6:$A$1806,Data!$C$6:$C$1806)","v":3753.92236328125},{"$f":"LOOKUP($V166,Data!$A$6:$A$1806,Data!$D$6:$D$1806)","v":335},{"$f":"IF($Z$1=\"+\",LOOKUP($V166,Data!$A$6:$A$1806,Data!$E$6:$E$1806)*-1,LOOKUP($V166,Data!$A$6:$A$1806,Data!$E$6:$E$1806))","v":-234.07533264160156},{"$f":"LOOKUP($V166,Data!$A$6:$A$1806,Data!$F$6:$F$1806)","v":0},{"$f":"LOOKUP($V166,Data!$A$6:$A$1806,Data!$G$6:$G$1806)","v":182},{"$f":"LOOKUP($V166,Data!$A$6:$A$1806,Data!$H$6:$H$1806)","v":10},{"$f":"LOOKUP($V166,Data!$A$6:$A$1806,Data!$I$6:$I$1806)","v":0},{"$f":"LOOKUP($V166,Data!$A$6:$A$1806,Data!$J$6:$J$1806)","v":-103},{"$f":"LOOKUP($V166,Data!$A$6:$A$1806,Data!$K$6:$K$1806)","v":7594},46.39892578125]
[null,40098.104363425758,{"$f":"LOOKUP(B167,Data!$A$6:$A$1806,Data!B$6:B$1806)","v":59.941001892089844},{"$f":"LOOKUP(B167,Data!$A$6:$A$1806,Data!C$6:C$1806)","v":3746.888671875},null,null,null,47.198486328125,46.454143946832517,null,null,0.55220438547493267,3768.3087738743261,{"$f":"AVERAGE(D$79:D167)","v":3784.4725629827949},{"$f":"AVERAGE(M$79:M167)","v":3776.1869926905042},3726.4980269030866,{"$f":"AVERAGE(P$79:P167)","v":3702.4771361349312},null,null,null,null,40098.104363425758,{"$f":"LOOKUP($V167,Data!$A$6:$A$1806,Data!$B$6:$B$1806)","v":59.941001892089844},{"$f":"LOOKUP($V167,Data!$A$6:$A$1806,Data!$C$6:$C$1806)","v":3746.888671875},{"$f":"LOOKUP($V167,Data!$A$6:$A$1806,Data!$D$6:$D$1806)","v":335},{"$f":"IF($Z$1=\"+\",LOOKUP($V167,Data!$A$6:$A$1806,Data!$E$6:$E$1806)*-1,LOOKUP($V167,Data!$A$6:$A$1806,Data!$E$6:$E$1806))","v":-234.07533264160156},{"$f":"LOOKUP($V167,Data!$A$6:$A$1806,Data!$F$6:$F$1806)","v":0},{"$f":"LOOKUP($V167,Data!$A$6:$A$1806,Data!$G$6:$G$1806)","v":182.5},{"$f":"LOOKUP($V167,Data!$A$6:$A$1806,Data!$H$6:$H$1806)","v":10},{"$f":"LOOKUP($V167,Data!$A$6:$A$1806,Data!$I$6:$I$1806)","v":0},{"$f":"LOOKUP($V167,Data!$A$6:$A$1806,Data!$J$6:$J$1806)","v":-103},{"$f":"LOOKUP($V167,Data!$A$6:$A$1806,Data!$K$6:$K$1806)","v":7595},47.198486328125]
[null,40098.104386573905,{"$f":"LOOKUP(B168,Data!$A$6:$A$1806,Data!B$6:B$1806)","v":59.944999694824219},{"$f":"LOOKUP(B168,Data!$A$6:$A$1806,Data!C$6:C$1806)","v":3747.87548828125},null,null,null,44.000244140625,45.595279014659887,null,null,0.55220438547493267,3768.0021133276282,{"$f":"AVERAGE(D$79:D168)","v":3784.0659288194443},{"$f":"AVERAGE(M$79:M168)","v":3776.096049586472},3727.0502312885615,{"$f":"AVERAGE(P$79:P168)","v":3702.7532383276684},null,null,null,null,40098.104386573905,{"$f":"LOOKUP($V168,Data!$A$6:$A$1806,Data!$B$6:$B$1806)","v":59.944999694824219},{"$f":"LOOKUP($V168,Data!$A$6:$A$1806,Data!$C$6:$C$1806)","v":3747.87548828125},{"$f":"LOOKUP($V168,Data!$A$6:$A$1806,Data!$D$6:$D$1806)","v":335},{"$f":"IF($Z$1=\"+\",LOOKUP($V168,Data!$A$6:$A$1806,Data!$E$6:$E$1806)*-1,LOOKUP($V168,Data!$A$6:$A$1806,Data!$E$6:$E$1806))","v":-234.07533264160156},{"$f":"LOOKUP($V168,Data!$A$6:$A$1806,Data!$F$6:$F$1806)","v":0},{"$f":"LOOKUP($V168,Data!$A$6:$A$1806,Data!$G$6:$G$1806)","v":183},{"$f":"LOOKUP($V168,Data!$A$6:$A$1806,Data!$H$6:$H$1806)","v":10},{"$f":"LOOKUP($V168,Data!$A$6:$A$1806,Data!$I$6:$I$1806)","v":0},{"$f":"LOOKUP($V168,Data!$A$6:$A$1806,Data!$J$6:$J$1806)","v":-103},{"$f":"LOOKUP($V168,Data!$A$6:$A$1806,Data!$K$6:$K$1806)","v":7655},44.000244140625]
[null,40098.104409722051,{"$f":"LOOKUP(B169,Data!$A$6:$A$1806,Data!B$6:B$1806)","v":59.944999694824219},{"$f":"LOOKUP(B169,Data!$A$6:$A$1806,Data!C$6:C$1806)","v":3747.87548828125},null,null,null,44.000244140625,45.037016808747673,null,null,0.55220438547493267,3767.9960555071907,{"$f":"AVERAGE(D$79:D169)","v":3783.6682316706729},{"$f":"AVERAGE(M$79:M169)","v":3776.0070386625243},3727.6024356740363,{"$f":"AVERAGE(P$79:P169)","v":3703.0293405204061},null,null,null,null,40098.104409722051,{"$f":"LOOKUP($V169,Data!$A$6:$A$1806,Data!$B$6:$B$1806)","v":59.944999694824219},{"$f":"LOOKUP($V169,Data!$A$6:$A$1806,Data!$C$6:$C$1806)","v":3747.87548828125},{"$f":"LOOKUP($V169,Data!$A$6:$A$1806,Data!$D$6:$D$1806)","v":335},{"$f":"IF($Z$1=\"+\",LOOKUP($V169,Data!$A$6:$A$1806,Data!$E$6:$E$1806)*-1,LOOKUP($V169,Data!$A$6:$A$1806,Data!$E$6:$E$1806))","v":-234.07533264160156},{"$f":"LOOKUP($V169,Data!$A$6:$A$1806,Data!$F$6:$F$1806)","v":0},{"$f":"LOOKUP($V169,Data!$A$6:$A$1806,Data!$G$6:$G$1806)","v":183},{"$f":"LOOKUP($V169,Data!$A$6:$A$1806,Data!$H$6:$H$1806)","v":10},{"$f":"LOOKUP($V169,Data!$A$6:$A$1806,Data!$I$6:$I$1806)","v":0},{"$f":"LOOKUP($V169,Data!$A$6:$A$1806,Data!$J$6:$J$1806)","v":-103},{"$f":"LOOKUP($V169,Data!$A$6:$A$1806,Data!$K$6:$K$1806)","v":7655},44.000244140625]
[null,40098.104432870197,{"$f":"LOOKUP(B170,Data!$A$6:$A$1806,Data!B$6:B$1806)","v":59.948001861572266},{"$f":"LOOKUP(B170,Data!$A$6:$A$1806,Data!C$6:C$1806)","v":3748.6611328125},null,null,null,41.5985107421875,43.833539685451612,null,null,0.55220438547493267,3767.3447827693694,{"$f":"AVERAGE(D$79:D170)","v":3783.2877197265625},{"$f":"AVERAGE(M$79:M170)","v":3775.9128837071639},3728.1546400595112,{"$f":"AVERAGE(P$79:P170)","v":3703.3054427131433},null,null,null,null,40098.104432870197,{"$f":"LOOKUP($V170,Data!$A$6:$A$1806,Data!$B$6:$B$1806)","v":59.948001861572266},{"$f":"LOOKUP($V170,Data!$A$6:$A$1806,Data!$C$6:$C$1806)","v":3748.6611328125},{"$f":"LOOKUP($V170,Data!$A$6:$A$1806,Data!$D$6:$D$1806)","v":335},{"$f":"IF($Z$1=\"+\",LOOKUP($V170,Data!$A$6:$A$1806,Data!$E$6:$E$1806)*-1,LOOKUP($V170,Data!$A$6:$A$1806,Data!$E$6:$E$1806))","v":-228.79815673828125},{"$f":"LOOKUP($V170,Data!$A$6:$A$1806,Data!$F$6:$F$1806)","v":0},{"$f":"LOOKUP($V170,Data!$A$6:$A$1806,Data!$G$6:$G$1806)","v":183.5},{"$f":"LOOKUP($V170,Data!$A$6:$A$1806,Data!$H$6:$H$1806)","v":10},{"$f":"LOOKUP($V170,Data!$A$6:$A$1806,Data!$I$6:$I$1806)","v":0},{"$f":"LOOKUP($V170,Data!$A$6:$A$1806,Data!$J$6:$J$1806)","v":-103},{"$f":"LOOKUP($V170,Data!$A$6:$A$1806,Data!$K$6:$K$1806)","v":7656},41.5985107421875]
[null,40098.104456018344,{"$f":"LOOKUP(B171,Data!$A$6:$A$1806,Data!B$6:B$1806)","v":59.949001312255859},{"$f":"LOOKUP(B171,Data!$A$6:$A$1806,Data!C$6:C$1806)","v":3746.7060546875},null,null,null,40.7989501953125,{"$f":"L$13*H171+(1-L$13)*I170","v":42.771433363902922},null,null,0.55220438547493267,3766.8348808332958,{"$f":"AVERAGE(D$79:D171)","v":3782.8943684895835},{"$f":"AVERAGE(M$79:M171)","v":3775.8152707730364},3728.706844444986,{"$f":"AVERAGE(P$79:P171)","v":3703.5815449058805},null,null,null,null,40098.104456018344,{"$f":"LOOKUP($V171,Data!$A$6:$A$1806,Data!$B$6:$B$1806)","v":59.949001312255859},{"$f":"LOOKUP($V171,Data!$A$6:$A$1806,Data!$C$6:$C$1806)","v":3746.7060546875},{"$f":"LOOKUP($V171,Data!$A$6:$A$1806,Data!$D$6:$D$1806)","v":335},{"$f":"IF($Z$1=\"+\",LOOKUP($V171,Data!$A$6:$A$1806,Data!$E$6:$E$1806)*-1,LOOKUP($V171,Data!$A$6:$A$1806,Data!$E$6:$E$1806))","v":-228.79815673828125},{"$f":"LOOKUP($V171,Data!$A$6:$A$1806,Data!$F$6:$F$1806)","v":0},{"$f":"LOOKUP($V171,Data!$A$6:$A$1806,Data!$G$6:$G$1806)","v":184},{"$f":"LOOKUP($V171,Data!$A$6:$A$1806,Data!$H$6:$H$1806)","v":10},{"$f":"LOOKUP($V171,Data!$A$6:$A$1806,Data!$I$6:$I$1806)","v":0},{"$f":"LOOKUP($V171,Data!$A$6:$A$1806,Data!$J$6:$J$1806)","v":-103},{"$f":"LOOKUP($V171,Data!$A$6:$A$1806,Data!$K$6:$K$1806)","v":7656},40.7989501953125]
[null,40098.10447916649,{"$f":"LOOKUP(B172,Data!$A$6:$A$1806,Data!B$6:B$1806)","v":59.949001312255859},{"$f":"LOOKUP(B172,Data!$A$6:$A$1806,Data!C$6:C$1806)","v":3746.7060546875},null,null,null,{"$f":"(IF((C172-L$2)>0,((C172-L$2-L$5)/((L$4*L$2)-L$5)*L$3*-1),((C172-L$2+L$5)/((L$4*L$2)-L$5)*L$3*-1)))","v":40.7989501953125},42.081064254896276,null,null,0.55220438547493267,3766.6967161097641,{"$f":"AVERAGE(D$79:D172)","v":3782.5093864278592},{"$f":"AVERAGE(M$79:M172)","v":3775.7182648723629},3729.2590488304609,{"$f":"AVERAGE(P$79:P172)","v":3703.8576470986186},null,null,null,null,40098.10447916649,{"$f":"LOOKUP($V172,Data!$A$6:$A$1806,Data!$B$6:$B$1806)","v":59.949001312255859},{"$f":"LOOKUP($V172,Data!$A$6:$A$1806,Data!$C$6:$C$1806)","v":3746.7060546875},{"$f":"LOOKUP($V172,Data!$A$6:$A$1806,Data!$D$6:$D$1806)","v":335},{"$f":"IF($Z$1=\"+\",LOOKUP($V172,Data!$A$6:$A$1806,Data!$E$6:$E$1806)*-1,LOOKUP($V172,Data!$A$6:$A$1806,Data!$E$6:$E$1806))","v":-228.79815673828125},{"$f":"LOOKUP($V172,Data!$A$6:$A$1806,Data!$F$6:$F$1806)","v":0},{"$f":"LOOKUP($V172,Data!$A$6:$A$1806,Data!$G$6:$G$1806)","v":184},{"$f":"LOOKUP($V172,Data!$A$6:$A$1806,Data!$H$6:$H$1806)","v":10},{"$f":"LOOKUP($V172,Data!$A$6:$A$1806,Data!$I$6:$I$1806)","v":0},{"$f":"LOOKUP($V172,Data!$A$6:$A$1806,Data!$J$6:$J$1806)","v":-103},{"$f":"LOOKUP($V172,Data!$A$6:$A$1806,Data!$K$6:$K$1806)","v":7656},{"$f":"(IF((W172-$L$2)>0,((W172-$L$2-$L$5)/(($L$4*$L$2)-$L$5)*$L$3*-1),((W172-$L$2+$L$5)/(($L$4*$L$2)-$L$5)*$L$3*-1)))","v":40.7989501953125}]
[null,40098.104502314636,{"$f":"LOOKUP(B173,Data!$A$6:$A$1806,Data!B$6:B$1806)","v":59.951000213623047},{"$f":"LOOKUP(B173,Data!$A$6:$A$1806,Data!C$6:C$1806)","v":3742.741455078125},null,null,null,39.1998291015625,41.072631951229454,null,null,0.55220438547493267,3766.2404881915722,{"$f":"AVERAGE(D$79:D173)","v":3782.0907766241776},{"$f":"AVERAGE(M$79:M173)","v":3775.6184988020391},3729.8112532159357,{"$f":"AVERAGE(P$79:P173)","v":3704.1337492913558},null,null,null,null,40098.104502314636,{"$f":"LOOKUP($V173,Data!$A$6:$A$1806,Data!$B$6:$B$1806)","v":59.951000213623047},{"$f":"LOOKUP($V173,Data!$A$6:$A$1806,Data!$C$6:$C$1806)","v":3742.741455078125},{"$f":"LOOKUP($V173,Data!$A$6:$A$1806,Data!$D$6:$D$1806)","v":335},{"$f":"IF($Z$1=\"+\",LOOKUP($V173,Data!$A$6:$A$1806,Data!$E$6:$E$1806)*-1,LOOKUP($V173,Data!$A$6:$A$1806,Data!$E$6:$E$1806))","v":-228.79815673828125},{"$f":"LOOKUP($V173,Data!$A$6:$A$1806,Data!$F$6:$F$1806)","v":0},{"$f":"LOOKUP($V173,Data!$A$6:$A$1806,Data!$G$6:$G$1806)","v":184.5},{"$f":"LOOKUP($V173,Data!$A$6:$A$1806,Data!$H$6:$H$1806)","v":10},{"$f":"LOOKUP($V173,Data!$A$6:$A$1806,Data!$I$6:$I$1806)","v":0},{"$f":"LOOKUP($V173,Data!$A$6:$A$1806,Data!$J$6:$J$1806)","v":-103},{"$f":"LOOKUP($V173,Data!$A$6:$A$1806,Data!$K$6:$K$1806)","v":7657},39.1998291015625]
[null,{"$f":"B173+TIME(0,0,$B$1)","v":40098.104525462782},{"$f":"LOOKUP(B174,Data!$A$6:$A$1806,Data!B$6:B$1806)","v":59.952999114990234},{"$f":"LOOKUP(B174,Data!$A$6:$A$1806,Data!C$6:C$1806)","v":3740.259033203125},null,null,null,37.6007080078125,39.857458571033519,null,null,0.55220438547493267,3765.577519196851,{"$f":"AVERAGE(D$79:D174)","v":3781.655029296875},{"$f":"AVERAGE(M$79:M174)","v":3775.5139052644849},3730.3634576014106,{"$f":"AVERAGE(P$79:P174)","v":3704.409851484093},null,null,null,null,40098.104525462782,{"$f":"LOOKUP($V174,Data!$A$6:$A$1806,Data!$B$6:$B$1806)","v":59.952999114990234},{"$f":"LOOKUP($V174,Data!$A$6:$A$1806,Data!$C$6:$C$1806)","v":3740.259033203125},{"$f":"LOOKUP($V174,Data!$A$6:$A$1806,Data!$D$6:$D$1806)","v":335},{"$f":"IF($Z$1=\"+\",LOOKUP($V174,Data!$A$6:$A$1806,Data!$E$6:$E$1806)*-1,LOOKUP($V174,Data!$A$6:$A$1806,Data!$E$6:$E$1806))","v":-228.79815673828125},{"$f":"LOOKUP($V174,Data!$A$6:$A$1806,Data!$F$6:$F$1806)","v":0},{"$f":"LOOKUP($V174,Data!$A$6:$A$1806,Data!$G$6:$G$1806)","v":185},{"$f":"LOOKUP($V174,Data!$A$6:$A$1806,Data!$H$6:$H$1806)","v":10},{"$f":"LOOKUP($V174,Data!$A$6:$A$1806,Data!$I$6:$I$1806)","v":0},{"$f":"LOOKUP($V174,Data!$A$6:$A$1806,Data!$J$6:$J$1806)","v":-103},{"$f":"LOOKUP($V174,Data!$A$6:$A$1806,Data!$K$6:$K$1806)","v":7657},37.6007080078125]
[null,40098.104548610929,{"$f":"LOOKUP(B175,Data!$A$6:$A$1806,Data!B$6:B$1806)","v":59.952999114990234},{"$f":"LOOKUP(B175,Data!$A$6:$A$1806,Data!C$6:C$1806)","v":3740.259033203125},null,null,null,37.6007080078125,39.067595873906164,null,null,0.55220438547493267,3765.3398608851985,{"$f":"AVERAGE(D$79:D175)","v":3781.2282664505478},{"$f":"AVERAGE(M$79:M175)","v":3775.4090182090281},3730.9156619868854,{"$f":"AVERAGE(P$79:P175)","v":3704.6859536768302},null,null,null,null,40098.104548610929,{"$f":"LOOKUP($V175,Data!$A$6:$A$1806,Data!$B$6:$B$1806)","v":59.952999114990234},{"$f":"LOOKUP($V175,Data!$A$6:$A$1806,Data!$C$6:$C$1806)","v":3740.259033203125},{"$f":"LOOKUP($V175,Data!$A$6:$A$1806,Data!$D$6:$D$1806)","v":335},{"$f":"IF($Z$1=\"+\",LOOKUP($V175,Data!$A$6:$A$1806,Data!$E$6:$E$1806)*-1,LOOKUP($V175,Data!$A$6:$A$1806,Data!$E$6:$E$1806))","v":-228.79815673828125},{"$f":"LOOKUP($V175,Data!$A$6:$A$1806,Data!$F$6:$F$1806)","v":0},{"$f":"LOOKUP($V175,Data!$A$6:$A$1806,Data!$G$6:$G$1806)","v":185},{"$f":"LOOKUP($V175,Data!$A$6:$A$1806,Data!$H$6:$H$1806)","v":10},{"$f":"LOOKUP($V175,Data!$A$6:$A$1806,Data!$I$6:$I$1806)","v":0},{"$f":"LOOKUP($V175,Data!$A$6:$A$1806,Data!$J$6:$J$1806)","v":-103},{"$f":"LOOKUP($V175,Data!$A$6:$A$1806,Data!$K$6:$K$1806)","v":7657},37.6007080078125]
[null,40098.104571759075,{"$f":"LOOKUP(B176,Data!$A$6:$A$1806,Data!B$6:B$1806)","v":59.951000213623047},{"$f":"LOOKUP(B176,Data!$A$6:$A$1806,Data!C$6:C$1806)","v":3731.382080078125},null,null,null,39.1998291015625,39.113877503585883,null,null,0.55220438547493267,3765.9383469003533,{"$f":"AVERAGE(D$79:D176)","v":3780.7196318957272},{"$f":"AVERAGE(M$79:M176)","v":3775.3123787058785},3731.4678663723603,{"$f":"AVERAGE(P$79:P176)","v":3704.9620558695678},null,null,null,null,40098.104571759075,{"$f":"LOOKUP($V176,Data!$A$6:$A$1806,Data!$B$6:$B$1806)","v":59.951000213623047},{"$f":"LOOKUP($V176,Data!$A$6:$A$1806,Data!$C$6:$C$1806)","v":3731.382080078125},{"$f":"LOOKUP($V176,Data!$A$6:$A$1806,Data!$D$6:$D$1806)","v":335},{"$f":"IF($Z$1=\"+\",LOOKUP($V176,Data!$A$6:$A$1806,Data!$E$6:$E$1806)*-1,LOOKUP($V176,Data!$A$6:$A$1806,Data!$E$6:$E$1806))","v":-228.79815673828125},{"$f":"LOOKUP($V176,Data!$A$6:$A$1806,Data!$F$6:$F$1806)","v":0},{"$f":"LOOKUP($V176,Data!$A$6:$A$1806,Data!$G$6:$G$1806)","v":185.5},{"$f":"LOOKUP($V176,Data!$A$6:$A$1806,Data!$H$6:$H$1806)","v":10},{"$f":"LOOKUP($V176,Data!$A$6:$A$1806,Data!$I$6:$I$1806)","v":0},{"$f":"LOOKUP($V176,Data!$A$6:$A$1806,Data!$J$6:$J$1806)","v":-103},{"$f":"LOOKUP($V176,Data!$A$6:$A$1806,Data!$K$6:$K$1806)","v":7658},39.1998291015625]
[null,40098.104594907221,{"$f":"LOOKUP(B177,Data!$A$6:$A$1806,Data!B$6:B$1806)","v":59.951999664306641},{"$f":"LOOKUP(B177,Data!$A$6:$A$1806,Data!C$6:C$1806)","v":3727.83837890625},null,null,null,38.4002685546875,38.864114371471445,null,null,0.55220438547493267,3766.2407881537138,{"$f":"AVERAGE(D$79:D177)","v":3780.1854778251263},{"$f":"AVERAGE(M$79:M177)","v":3775.2207464780786},3732.0200707578351,{"$f":"AVERAGE(P$79:P177)","v":3705.2381580623055},null,null,null,null,40098.104594907221,{"$f":"LOOKUP($V177,Data!$A$6:$A$1806,Data!$B$6:$B$1806)","v":59.951999664306641},{"$f":"LOOKUP($V177,Data!$A$6:$A$1806,Data!$C$6:$C$1806)","v":3727.83837890625},{"$f":"LOOKUP($V177,Data!$A$6:$A$1806,Data!$D$6:$D$1806)","v":335},{"$f":"IF($Z$1=\"+\",LOOKUP($V177,Data!$A$6:$A$1806,Data!$E$6:$E$1806)*-1,LOOKUP($V177,Data!$A$6:$A$1806,Data!$E$6:$E$1806))","v":-229.46696472167969},{"$f":"LOOKUP($V177,Data!$A$6:$A$1806,Data!$F$6:$F$1806)","v":0},{"$f":"LOOKUP($V177,Data!$A$6:$A$1806,Data!$G$6:$G$1806)","v":186},{"$f":"LOOKUP($V177,Data!$A$6:$A$1806,Data!$H$6:$H$1806)","v":10},{"$f":"LOOKUP($V177,Data!$A$6:$A$1806,Data!$I$6:$I$1806)","v":0},{"$f":"LOOKUP($V177,Data!$A$6:$A$1806,Data!$J$6:$J$1806)","v":-103},{"$f":"LOOKUP($V177,Data!$A$6:$A$1806,Data!$K$6:$K$1806)","v":7658},38.4002685546875]
[null,40098.104618055368,{"$f":"LOOKUP(B178,Data!$A$6:$A$1806,Data!B$6:B$1806)","v":59.951999664306641},{"$f":"LOOKUP(B178,Data!$A$6:$A$1806,Data!C$6:C$1806)","v":3727.83837890625},null,null,null,38.4002685546875,38.701768335597066,null,null,0.55220438547493267,3766.6306465033144,{"$f":"AVERAGE(D$79:D178)","v":3779.6620068359375},{"$f":"AVERAGE(M$79:M178)","v":3775.134845478331},3732.57227514331,{"$f":"AVERAGE(P$79:P178)","v":3705.5142602550427},null,null,null,null,40098.104618055368,{"$f":"LOOKUP($V178,Data!$A$6:$A$1806,Data!$B$6:$B$1806)","v":59.951999664306641},{"$f":"LOOKUP($V178,Data!$A$6:$A$1806,Data!$C$6:$C$1806)","v":3727.83837890625},{"$f":"LOOKUP($V178,Data!$A$6:$A$1806,Data!$D$6:$D$1806)","v":335},{"$f":"IF($Z$1=\"+\",LOOKUP($V178,Data!$A$6:$A$1806,Data!$E$6:$E$1806)*-1,LOOKUP($V178,Data!$A$6:$A$1806,Data!$E$6:$E$1806))","v":-229.46696472167969},{"$f":"LOOKUP($V178,Data!$A$6:$A$1806,Data!$F$6:$F$1806)","v":0},{"$f":"LOOKUP($V178,Data!$A$6:$A$1806,Data!$G$6:$G$1806)","v":186},{"$f":"LOOKUP($V178,Data!$A$6:$A$1806,Data!$H$6:$H$1806)","v":10},{"$f":"LOOKUP($V178,Data!$A$6:$A$1806,Data!$I$6:$I$1806)","v":0},{"$f":"LOOKUP($V178,Data!$A$6:$A$1806,Data!$J$6:$J$1806)","v":-103},{"$f":"LOOKUP($V178,Data!$A$6:$A$1806,Data!$K$6:$K$1806)","v":7658},38.4002685546875]
[null,40098.104641203514,{"$f":"LOOKUP(B179,Data!$A$6:$A$1806,Data!B$6:B$1806)","v":59.951999664306641},{"$f":"LOOKUP(B179,Data!$A$6:$A$1806,Data!C$6:C$1806)","v":3722.64892578125},null,null,null,38.4002685546875,38.596243412278717,null,null,0.55220438547493267,3767.0773259654711,{"$f":"AVERAGE(D$79:D179)","v":3779.0975208849009},{"$f":"AVERAGE(M$79:M179)","v":3775.0550680574115},3733.1244795287848,{"$f":"AVERAGE(P$79:P179)","v":3705.7903624477804},null,null,null,null,40098.104641203514,{"$f":"LOOKUP($V179,Data!$A$6:$A$1806,Data!$B$6:$B$1806)","v":59.951999664306641},{"$f":"LOOKUP($V179,Data!$A$6:$A$1806,Data!$C$6:$C$1806)","v":3722.64892578125},{"$f":"LOOKUP($V179,Data!$A$6:$A$1806,Data!$D$6:$D$1806)","v":335},{"$f":"IF($Z$1=\"+\",LOOKUP($V179,Data!$A$6:$A$1806,Data!$E$6:$E$1806)*-1,LOOKUP($V179,Data!$A$6:$A$1806,Data!$E$6:$E$1806))","v":-249.33757019042969},{"$f":"LOOKUP($V179,Data!$A$6:$A$1806,Data!$F$6:$F$1806)","v":0},{"$f":"LOOKUP($V179,Data!$A$6:$A$1806,Data!$G$6:$G$1806)","v":186.5},{"$f":"LOOKUP($V179,Data!$A$6:$A$1806,Data!$H$6:$H$1806)","v":10},{"$f":"LOOKUP($V179,Data!$A$6:$A$1806,Data!$I$6:$I$1806)","v":0},{"$f":"LOOKUP($V179,Data!$A$6:$A$1806,Data!$J$6:$J$1806)","v":-103},{"$f":"LOOKUP($V179,Data!$A$6:$A$1806,Data!$K$6:$K$1806)","v":7659},38.4002685546875]
[null,40098.10466435166,{"$f":"LOOKUP(B180,Data!$A$6:$A$1806,Data!B$6:B$1806)","v":59.951999664306641},{"$f":"LOOKUP(B180,Data!$A$6:$A$1806,Data!C$6:C$1806)","v":3720.578125},null,null,null,38.4002685546875,38.527652212121794,null,null,0.55220438547493267,3767.5609391507892,{"$f":"AVERAGE(D$79:D180)","v":3778.5238013174021},{"$f":"AVERAGE(M$79:M180)","v":3774.9815962053858},3733.6766839142597,{"$f":"AVERAGE(P$79:P180)","v":3706.0664646405176},null,null,null,null,40098.10466435166,{"$f":"LOOKUP($V180,Data!$A$6:$A$1806,Data!$B$6:$B$1806)","v":59.951999664306641},{"$f":"LOOKUP($V180,Data!$A$6:$A$1806,Data!$C$6:$C$1806)","v":3720.578125},{"$f":"LOOKUP($V180,Data!$A$6:$A$1806,Data!$D$6:$D$1806)","v":335},{"$f":"IF($Z$1=\"+\",LOOKUP($V180,Data!$A$6:$A$1806,Data!$E$6:$E$1806)*-1,LOOKUP($V180,Data!$A$6:$A$1806,Data!$E$6:$E$1806))","v":-249.33757019042969},{"$f":"LOOKUP($V180,Data!$A$6:$A$1806,Data!$F$6:$F$1806)","v":0},{"$f":"LOOKUP($V180,Data!$A$6:$A$1806,Data!$G$6:$G$1806)","v":187},{"$f":"LOOKUP($V180,Data!$A$6:$A$1806,Data!$H$6:$H$1806)","v":10},{"$f":"LOOKUP($V180,Data!$A$6:$A$1806,Data!$I$6:$I$1806)","v":0},{"$f":"LOOKUP($V180,Data!$A$6:$A$1806,Data!$J$6:$J$1806)","v":-103},{"$f":"LOOKUP($V180,Data!$A$6:$A$1806,Data!$K$6:$K$1806)","v":7659},38.4002685546875]
[null,40098.104687499806,{"$f":"LOOKUP(B181,Data!$A$6:$A$1806,Data!B$6:B$1806)","v":59.951999664306641},{"$f":"LOOKUP(B181,Data!$A$6:$A$1806,Data!C$6:C$1806)","v":3720.578125},null,null,null,38.4002685546875,38.483067932019793,null,null,0.55220438547493267,3768.0685592561622,{"$f":"AVERAGE(D$79:D181)","v":3777.9612219356795},{"$f":"AVERAGE(M$79:M181)","v":3774.9144793418009},3734.2288882997345,{"$f":"AVERAGE(P$79:P181)","v":3706.3425668332552},null,null,null,null,40098.104687499806,{"$f":"LOOKUP($V181,Data!$A$6:$A$1806,Data!$B$6:$B$1806)","v":59.951999664306641},{"$f":"LOOKUP($V181,Data!$A$6:$A$1806,Data!$C$6:$C$1806)","v":3720.578125},{"$f":"LOOKUP($V181,Data!$A$6:$A$1806,Data!$D$6:$D$1806)","v":335},{"$f":"IF($Z$1=\"+\",LOOKUP($V181,Data!$A$6:$A$1806,Data!$E$6:$E$1806)*-1,LOOKUP($V181,Data!$A$6:$A$1806,Data!$E$6:$E$1806))","v":-249.33757019042969},{"$f":"LOOKUP($V181,Data!$A$6:$A$1806,Data!$F$6:$F$1806)","v":0},{"$f":"LOOKUP($V181,Data!$A$6:$A$1806,Data!$G$6:$G$1806)","v":187},{"$f":"LOOKUP($V181,Data!$A$6:$A$1806,Data!$H$6:$H$1806)","v":10},{"$f":"LOOKUP($V181,Data!$A$6:$A$1806,Data!$I$6:$I$1806)","v":0},{"$f":"LOOKUP($V181,Data!$A$6:$A$1806,Data!$J$6:$J$1806)","v":-103},{"$f":"LOOKUP($V181,Data!$A$6:$A$1806,Data!$K$6:$K$1806)","v":7659},38.4002685546875]
[null,40098.104710647953,{"$f":"LOOKUP(B182,Data!$A$6:$A$1806,Data!B$6:B$1806)","v":59.953998565673828},{"$f":"LOOKUP(B182,Data!$A$6:$A$1806,Data!C$6:C$1806)","v":3718.141845703125},null,null,null,36.8011474609375,37.894395767140992,null,null,0.55220438547493267,3768.0320914767581,{"$f":"AVERAGE(D$79:D182)","v":3777.386035625751},{"$f":"AVERAGE(M$79:M182)","v":3774.8483025354067},3734.7810926852094,{"$f":"AVERAGE(P$79:P182)","v":3706.6186690259919},null,null,null,null,40098.104710647953,{"$f":"LOOKUP($V182,Data!$A$6:$A$1806,Data!$B$6:$B$1806)","v":59.953998565673828},{"$f":"LOOKUP($V182,Data!$A$6:$A$1806,Data!$C$6:$C$1806)","v":3718.141845703125},{"$f":"LOOKUP($V182,Data!$A$6:$A$1806,Data!$D$6:$D$1806)","v":335},{"$f":"IF($Z$1=\"+\",LOOKUP($V182,Data!$A$6:$A$1806,Data!$E$6:$E$1806)*-1,LOOKUP($V182,Data!$A$6:$A$1806,Data!$E$6:$E$1806))","v":-249.33757019042969},{"$f":"LOOKUP($V182,Data!$A$6:$A$1806,Data!$F$6:$F$1806)","v":0},{"$f":"LOOKUP($V182,Data!$A$6:$A$1806,Data!$G$6:$G$1806)","v":187.5},{"$f":"LOOKUP($V182,Data!$A$6:$A$1806,Data!$H$6:$H$1806)","v":10},{"$f":"LOOKUP($V182,Data!$A$6:$A$1806,Data!$I$6:$I$1806)","v":0},{"$f":"LOOKUP($V182,Data!$A$6:$A$1806,Data!$J$6:$J$1806)","v":-103},{"$f":"LOOKUP($V182,Data!$A$6:$A$1806,Data!$K$6:$K$1806)","v":7659},36.8011474609375]
[null,40098.104733796099,{"$f":"LOOKUP(B183,Data!$A$6:$A$1806,Data!B$6:B$1806)","v":59.952999114990234},{"$f":"LOOKUP(B183,Data!$A$6:$A$1806,Data!C$6:C$1806)","v":3715.752685546875},null,null,null,37.6007080078125,37.791605051376024,null,null,0.55220438547493267,3768.481505146468,{"$f":"AVERAGE(D$79:D183)","v":3776.7990513392856},{"$f":"AVERAGE(M$79:M183)","v":3774.787666369798},3735.3332970706842,{"$f":"AVERAGE(P$79:P183)","v":3706.8947712187296},null,null,null,null,40098.104733796099,{"$f":"LOOKUP($V183,Data!$A$6:$A$1806,Data!$B$6:$B$1806)","v":59.952999114990234},{"$f":"LOOKUP($V183,Data!$A$6:$A$1806,Data!$C$6:$C$1806)","v":3715.752685546875},{"$f":"LOOKUP($V183,Data!$A$6:$A$1806,Data!$D$6:$D$1806)","v":335},{"$f":"IF($Z$1=\"+\",LOOKUP($V183,Data!$A$6:$A$1806,Data!$E$6:$E$1806)*-1,LOOKUP($V183,Data!$A$6:$A$1806,Data!$E$6:$E$1806))","v":-249.33757019042969},{"$f":"LOOKUP($V183,Data!$A$6:$A$1806,Data!$F$6:$F$1806)","v":0},{"$f":"LOOKUP($V183,Data!$A$6:$A$1806,Data!$G$6:$G$1806)","v":188},{"$f":"LOOKUP($V183,Data!$A$6:$A$1806,Data!$H$6:$H$1806)","v":10},{"$f":"LOOKUP($V183,Data!$A$6:$A$1806,Data!$I$6:$I$1806)","v":0},{"$f":"LOOKUP($V183,Data!$A$6:$A$1806,Data!$J$6:$J$1806)","v":-103},{"$f":"LOOKUP($V183,Data!$A$6:$A$1806,Data!$K$6:$K$1806)","v":7660},37.6007080078125]
[null,40098.104756944245,{"$f":"LOOKUP(B184,Data!$A$6:$A$1806,Data!B$6:B$1806)","v":59.952999114990234},{"$f":"LOOKUP(B184,Data!$A$6:$A$1806,Data!C$6:C$1806)","v":3715.752685546875},null,null,null,37.6007080078125,37.724791086128789,null,null,0.55220438547493267,3768.9668955666957,{"$f":"AVERAGE(D$79:D184)","v":3776.2231422280365},{"$f":"AVERAGE(M$79:M184)","v":3774.7327534376927},3735.8855014561591,{"$f":"AVERAGE(P$79:P184)","v":3707.1708734114673},null,null,null,null,40098.104756944245,{"$f":"LOOKUP($V184,Data!$A$6:$A$1806,Data!$B$6:$B$1806)","v":59.952999114990234},{"$f":"LOOKUP($V184,Data!$A$6:$A$1806,Data!$C$6:$C$1806)","v":3715.752685546875},{"$f":"LOOKUP($V184,Data!$A$6:$A$1806,Data!$D$6:$D$1806)","v":335},{"$f":"IF($Z$1=\"+\",LOOKUP($V184,Data!$A$6:$A$1806,Data!$E$6:$E$1806)*-1,LOOKUP($V184,Data!$A$6:$A$1806,Data!$E$6:$E$1806))","v":-249.33757019042969},{"$f":"LOOKUP($V184,Data!$A$6:$A$1806,Data!$F$6:$F$1806)","v":0},{"$f":"LOOKUP($V184,Data!$A$6:$A$1806,Data!$G$6:$G$1806)","v":188},{"$f":"LOOKUP($V184,Data!$A$6:$A$1806,Data!$H$6:$H$1806)","v":10},{"$f":"LOOKUP($V184,Data!$A$6:$A$1806,Data!$I$6:$I$1806)","v":0},{"$f":"LOOKUP($V184,Data!$A$6:$A$1806,Data!$J$6:$J$1806)","v":-103},{"$f":"LOOKUP($V184,Data!$A$6:$A$1806,Data!$K$6:$K$1806)","v":7660},37.6007080078125]
[null,40098.104780092392,{"$f":"LOOKUP(B185,Data!$A$6:$A$1806,Data!B$6:B$1806)","v":59.952999114990234},{"$f":"LOOKUP(B185,Data!$A$6:$A$1806,Data!C$6:C$1806)","v":3713.483642578125},null,null,null,37.6007080078125,37.681362008718089,null,null,0.55220438547493267,3769.47567087476,{"$f":"AVERAGE(D$79:D185)","v":3775.6367917640187},{"$f":"AVERAGE(M$79:M185)","v":3774.683621824955},3736.4377058416339,{"$f":"AVERAGE(P$79:P185)","v":3707.4469756042045},null,null,null,null,40098.104780092392,{"$f":"LOOKUP($V185,Data!$A$6:$A$1806,Data!$B$6:$B$1806)","v":59.952999114990234},{"$f":"LOOKUP($V185,Data!$A$6:$A$1806,Data!$C$6:$C$1806)","v":3713.483642578125},{"$f":"LOOKUP($V185,Data!$A$6:$A$1806,Data!$D$6:$D$1806)","v":335},{"$f":"IF($Z$1=\"+\",LOOKUP($V185,Data!$A$6:$A$1806,Data!$E$6:$E$1806)*-1,LOOKUP($V185,Data!$A$6:$A$1806,Data!$E$6:$E$1806))","v":-249.33757019042969},{"$f":"LOOKUP($V185,Data!$A$6:$A$1806,Data!$F$6:$F$1806)","v":0},{"$f":"LOOKUP($V185,Data!$A$6:$A$1806,Data!$G$6:$G$1806)","v":188.5},{"$f":"LOOKUP($V185,Data!$A$6:$A$1806,Data!$H$6:$H$1806)","v":10},{"$f":"LOOKUP($V185,Data!$A$6:$A$1806,Data!$I$6:$I$1806)","v":0},{"$f":"LOOKUP($V185,Data!$A$6:$A$1806,Data!$J$6:$J$1806)","v":-103},{"$f":"LOOKUP($V185,Data!$A$6:$A$1806,Data!$K$6:$K$1806)","v":7660},37.6007080078125]
[null,40098.104803240538,{"$f":"LOOKUP(B186,Data!$A$6:$A$1806,Data!B$6:B$1806)","v":59.953998565673828},{"$f":"LOOKUP(B186,Data!$A$6:$A$1806,Data!C$6:C$1806)","v":3710.84814453125},null,null,null,36.8011474609375,37.373286916994886,null,null,0.55220438547493267,3769.7198001685115,{"$f":"AVERAGE(D$79:D186)","v":3775.0368968822336},{"$f":"AVERAGE(M$79:M186)","v":3774.6376605133214},3736.9899102271088,{"$f":"AVERAGE(P$79:P186)","v":3707.7230777969421},null,null,null,null,40098.104803240538,{"$f":"LOOKUP($V186,Data!$A$6:$A$1806,Data!$B$6:$B$1806)","v":59.953998565673828},{"$f":"LOOKUP($V186,Data!$A$6:$A$1806,Data!$C$6:$C$1806)","v":3710.84814453125},{"$f":"LOOKUP($V186,Data!$A$6:$A$1806,Data!$D$6:$D$1806)","v":335},{"$f":"IF($Z$1=\"+\",LOOKUP($V186,Data!$A$6:$A$1806,Data!$E$6:$E$1806)*-1,LOOKUP($V186,Data!$A$6:$A$1806,Data!$E$6:$E$1806))","v":-258.27816772460937},{"$f":"LOOKUP($V186,Data!$A$6:$A$1806,Data!$F$6:$F$1806)","v":0},{"$f":"LOOKUP($V186,Data!$A$6:$A$1806,Data!$G$6:$G$1806)","v":189},{"$f":"LOOKUP($V186,Data!$A$6:$A$1806,Data!$H$6:$H$1806)","v":10},{"$f":"LOOKUP($V186,Data!$A$6:$A$1806,Data!$I$6:$I$1806)","v":0},{"$f":"LOOKUP($V186,Data!$A$6:$A$1806,Data!$J$6:$J$1806)","v":-103},{"$f":"LOOKUP($V186,Data!$A$6:$A$1806,Data!$K$6:$K$1806)","v":7661},36.8011474609375]
[null,40098.104826388684,{"$f":"LOOKUP(B187,Data!$A$6:$A$1806,Data!B$6:B$1806)","v":59.953998565673828},{"$f":"LOOKUP(B187,Data!$A$6:$A$1806,Data!C$6:C$1806)","v":3710.84814453125},null,null,null,36.8011474609375,37.173038107374801,null,null,0.55220438547493267,3770.0717557443663,{"$f":"AVERAGE(D$79:D187)","v":3774.4480092459862},{"$f":"AVERAGE(M$79:M187)","v":3774.5957714787437},3737.5421146125836,{"$f":"AVERAGE(P$79:P187)","v":3707.9991799896793},null,null,null,null,40098.104826388684,{"$f":"LOOKUP($V187,Data!$A$6:$A$1806,Data!$B$6:$B$1806)","v":59.953998565673828},{"$f":"LOOKUP($V187,Data!$A$6:$A$1806,Data!$C$6:$C$1806)","v":3710.84814453125},{"$f":"LOOKUP($V187,Data!$A$6:$A$1806,Data!$D$6:$D$1806)","v":335},{"$f":"IF($Z$1=\"+\",LOOKUP($V187,Data!$A$6:$A$1806,Data!$E$6:$E$1806)*-1,LOOKUP($V187,Data!$A$6:$A$1806,Data!$E$6:$E$1806))","v":-258.27816772460937},{"$f":"LOOKUP($V187,Data!$A$6:$A$1806,Data!$F$6:$F$1806)","v":0},{"$f":"LOOKUP($V187,Data!$A$6:$A$1806,Data!$G$6:$G$1806)","v":189},{"$f":"LOOKUP($V187,Data!$A$6:$A$1806,Data!$H$6:$H$1806)","v":10},{"$f":"LOOKUP($V187,Data!$A$6:$A$1806,Data!$I$6:$I$1806)","v":0},{"$f":"LOOKUP($V187,Data!$A$6:$A$1806,Data!$J$6:$J$1806)","v":-103},{"$f":"LOOKUP($V187,Data!$A$6:$A$1806,Data!$K$6:$K$1806)","v":7661},36.8011474609375]
[null,40098.10484953683,{"$f":"LOOKUP(B188,Data!$A$6:$A$1806,Data!B$6:B$1806)","v":59.953998565673828},{"$f":"LOOKUP(B188,Data!$A$6:$A$1806,Data!C$6:C$1806)","v":3712.091796875},null,null,null,36.8011474609375,37.042876381121744,null,null,0.55220438547493267,3770.4937984035882,{"$f":"AVERAGE(D$79:D188)","v":3773.8811345880681},{"$f":"AVERAGE(M$79:M188)","v":3774.558480814424},3738.0943189980585,{"$f":"AVERAGE(P$79:P188)","v":3708.275282182417},null,null,null,null,40098.10484953683,{"$f":"LOOKUP($V188,Data!$A$6:$A$1806,Data!$B$6:$B$1806)","v":59.953998565673828},{"$f":"LOOKUP($V188,Data!$A$6:$A$1806,Data!$C$6:$C$1806)","v":3712.091796875},{"$f":"LOOKUP($V188,Data!$A$6:$A$1806,Data!$D$6:$D$1806)","v":335},{"$f":"IF($Z$1=\"+\",LOOKUP($V188,Data!$A$6:$A$1806,Data!$E$6:$E$1806)*-1,LOOKUP($V188,Data!$A$6:$A$1806,Data!$E$6:$E$1806))","v":-258.27816772460937},{"$f":"LOOKUP($V188,Data!$A$6:$A$1806,Data!$F$6:$F$1806)","v":0},{"$f":"LOOKUP($V188,Data!$A$6:$A$1806,Data!$G$6:$G$1806)","v":189.5},{"$f":"LOOKUP($V188,Data!$A$6:$A$1806,Data!$H$6:$H$1806)","v":10},{"$f":"LOOKUP($V188,Data!$A$6:$A$1806,Data!$I$6:$I$1806)","v":0},{"$f":"LOOKUP($V188,Data!$A$6:$A$1806,Data!$J$6:$J$1806)","v":-103},{"$f":"LOOKUP($V188,Data!$A$6:$A$1806,Data!$K$6:$K$1806)","v":7661},36.8011474609375]
[null,40098.104872684977,{"$f":"LOOKUP(B189,Data!$A$6:$A$1806,Data!B$6:B$1806)","v":59.957000732421875},{"$f":"LOOKUP(B189,Data!$A$6:$A$1806,Data!C$6:C$1806)","v":3714.62255859375},null,null,null,34.3994140625,36.117664569604131,null,null,0.55220438547493267,3770.1207909775453,{"$f":"AVERAGE(D$79:D189)","v":3773.3472735430742},{"$f":"AVERAGE(M$79:M189)","v":3774.5185016267046},3738.6465233835333,{"$f":"AVERAGE(P$79:P189)","v":3708.5513843751546},null,null,null,null,40098.104872684977,{"$f":"LOOKUP($V189,Data!$A$6:$A$1806,Data!$B$6:$B$1806)","v":59.957000732421875},{"$f":"LOOKUP($V189,Data!$A$6:$A$1806,Data!$C$6:$C$1806)","v":3714.62255859375},{"$f":"LOOKUP($V189,Data!$A$6:$A$1806,Data!$D$6:$D$1806)","v":335},{"$f":"IF($Z$1=\"+\",LOOKUP($V189,Data!$A$6:$A$1806,Data!$E$6:$E$1806)*-1,LOOKUP($V189,Data!$A$6:$A$1806,Data!$E$6:$E$1806))","v":-258.27816772460937},{"$f":"LOOKUP($V189,Data!$A$6:$A$1806,Data!$F$6:$F$1806)","v":0},{"$f":"LOOKUP($V189,Data!$A$6:$A$1806,Data!$G$6:$G$1806)","v":190},{"$f":"LOOKUP($V189,Data!$A$6:$A$1806,Data!$H$6:$H$1806)","v":10},{"$f":"LOOKUP($V189,Data!$A$6:$A$1806,Data!$I$6:$I$1806)","v":0},{"$f":"LOOKUP($V189,Data!$A$6:$A$1806,Data!$J$6:$J$1806)","v":-103},{"$f":"LOOKUP($V189,Data!$A$6:$A$1806,Data!$K$6:$K$1806)","v":7625.4},34.3994140625]
[null,40098.104895833123,{"$f":"LOOKUP(B190,Data!$A$6:$A$1806,Data!B$6:B$1806)","v":59.957000732421875},{"$f":"LOOKUP(B190,Data!$A$6:$A$1806,Data!C$6:C$1806)","v":3714.62255859375},null,null,null,34.3994140625,35.516276892117688,null,null,0.55220438547493267,3770.0716076855338,{"$f":"AVERAGE(D$79:D190)","v":3772.8229457310267},{"$f":"AVERAGE(M$79:M190)","v":3774.4787972165154},3739.1987277690082,{"$f":"AVERAGE(P$79:P190)","v":3708.8274865678918},null,null,null,null,40098.104895833123,{"$f":"LOOKUP($V190,Data!$A$6:$A$1806,Data!$B$6:$B$1806)","v":59.957000732421875},{"$f":"LOOKUP($V190,Data!$A$6:$A$1806,Data!$C$6:$C$1806)","v":3714.62255859375},{"$f":"LOOKUP($V190,Data!$A$6:$A$1806,Data!$D$6:$D$1806)","v":335},{"$f":"IF($Z$1=\"+\",LOOKUP($V190,Data!$A$6:$A$1806,Data!$E$6:$E$1806)*-1,LOOKUP($V190,Data!$A$6:$A$1806,Data!$E$6:$E$1806))","v":-258.27816772460937},{"$f":"LOOKUP($V190,Data!$A$6:$A$1806,Data!$F$6:$F$1806)","v":0},{"$f":"LOOKUP($V190,Data!$A$6:$A$1806,Data!$G$6:$G$1806)","v":190},{"$f":"LOOKUP($V190,Data!$A$6:$A$1806,Data!$H$6:$H$1806)","v":10},{"$f":"LOOKUP($V190,Data!$A$6:$A$1806,Data!$I$6:$I$1806)","v":0},{"$f":"LOOKUP($V190,Data!$A$6:$A$1806,Data!$J$6:$J$1806)","v":-103},{"$f":"LOOKUP($V190,Data!$A$6:$A$1806,Data!$K$6:$K$1806)","v":7625.4},34.3994140625]
[null,40098.104918981269,{"$f":"LOOKUP(B191,Data!$A$6:$A$1806,Data!B$6:B$1806)","v":59.956001281738281},{"$f":"LOOKUP(B191,Data!$A$6:$A$1806,Data!C$6:C$1806)","v":3716.168212890625},null,null,null,35.198974609375,35.405221093157749,null,null,0.55220438547493267,3770.5127562720486,{"$f":"AVERAGE(D$79:D191)","v":3772.3215764138549},{"$f":"AVERAGE(M$79:M191)","v":3774.4436995090423},3739.7509321544831,{"$f":"AVERAGE(P$79:P191)","v":3709.1035887606295},null,null,null,null,40098.104918981269,{"$f":"LOOKUP($V191,Data!$A$6:$A$1806,Data!$B$6:$B$1806)","v":59.956001281738281},{"$f":"LOOKUP($V191,Data!$A$6:$A$1806,Data!$C$6:$C$1806)","v":3716.168212890625},{"$f":"LOOKUP($V191,Data!$A$6:$A$1806,Data!$D$6:$D$1806)","v":335},{"$f":"IF($Z$1=\"+\",LOOKUP($V191,Data!$A$6:$A$1806,Data!$E$6:$E$1806)*-1,LOOKUP($V191,Data!$A$6:$A$1806,Data!$E$6:$E$1806))","v":-258.27816772460937},{"$f":"LOOKUP($V191,Data!$A$6:$A$1806,Data!$F$6:$F$1806)","v":0},{"$f":"LOOKUP($V191,Data!$A$6:$A$1806,Data!$G$6:$G$1806)","v":190.5},{"$f":"LOOKUP($V191,Data!$A$6:$A$1806,Data!$H$6:$H$1806)","v":10},{"$f":"LOOKUP($V191,Data!$A$6:$A$1806,Data!$I$6:$I$1806)","v":0},{"$f":"LOOKUP($V191,Data!$A$6:$A$1806,Data!$J$6:$J$1806)","v":-103},{"$f":"LOOKUP($V191,Data!$A$6:$A$1806,Data!$K$6:$K$1806)","v":7625.73},35.198974609375]
[null,40098.104942129416,{"$f":"LOOKUP(B192,Data!$A$6:$A$1806,Data!B$6:B$1806)","v":59.956001281738281},{"$f":"LOOKUP(B192,Data!$A$6:$A$1806,Data!C$6:C$1806)","v":3716.46142578125},null,null,null,35.198974609375,35.333034823833785,null,null,0.55220438547493267,3770.9927743881995,{"$f":"AVERAGE(D$79:D192)","v":3771.8315750925162},{"$f":"AVERAGE(M$79:M192)","v":3774.4134282360524},3740.3031365399579,{"$f":"AVERAGE(P$79:P192)","v":3709.3796909533667},null,null,null,null,40098.104942129416,{"$f":"LOOKUP($V192,Data!$A$6:$A$1806,Data!$B$6:$B$1806)","v":59.956001281738281},{"$f":"LOOKUP($V192,Data!$A$6:$A$1806,Data!$C$6:$C$1806)","v":3716.46142578125},{"$f":"LOOKUP($V192,Data!$A$6:$A$1806,Data!$D$6:$D$1806)","v":335},{"$f":"IF($Z$1=\"+\",LOOKUP($V192,Data!$A$6:$A$1806,Data!$E$6:$E$1806)*-1,LOOKUP($V192,Data!$A$6:$A$1806,Data!$E$6:$E$1806))","v":-258.27816772460937},{"$f":"LOOKUP($V192,Data!$A$6:$A$1806,Data!$F$6:$F$1806)","v":0},{"$f":"LOOKUP($V192,Data!$A$6:$A$1806,Data!$G$6:$G$1806)","v":191},{"$f":"LOOKUP($V192,Data!$A$6:$A$1806,Data!$H$6:$H$1806)","v":10},{"$f":"LOOKUP($V192,Data!$A$6:$A$1806,Data!$I$6:$I$1806)","v":0},{"$f":"LOOKUP($V192,Data!$A$6:$A$1806,Data!$J$6:$J$1806)","v":-103},{"$f":"LOOKUP($V192,Data!$A$6:$A$1806,Data!$K$6:$K$1806)","v":7626.06},35.198974609375]
[null,40098.104965277562,{"$f":"LOOKUP(B193,Data!$A$6:$A$1806,Data!B$6:B$1806)","v":59.956001281738281},{"$f":"LOOKUP(B193,Data!$A$6:$A$1806,Data!C$6:C$1806)","v":3716.46142578125},null,null,null,35.198974609375,35.286113748773211,null,null,0.55220438547493267,3771.4980576986136,{"$f":"AVERAGE(D$79:D193)","v":3771.3500955332879},{"$f":"AVERAGE(M$79:M193)","v":3774.3880771879008},3740.8553409254328,{"$f":"AVERAGE(P$79:P193)","v":3709.6557931461043},null,null,null,null,40098.104965277562,{"$f":"LOOKUP($V193,Data!$A$6:$A$1806,Data!$B$6:$B$1806)","v":59.956001281738281},{"$f":"LOOKUP($V193,Data!$A$6:$A$1806,Data!$C$6:$C$1806)","v":3716.46142578125},{"$f":"LOOKUP($V193,Data!$A$6:$A$1806,Data!$D$6:$D$1806)","v":335},{"$f":"IF($Z$1=\"+\",LOOKUP($V193,Data!$A$6:$A$1806,Data!$E$6:$E$1806)*-1,LOOKUP($V193,Data!$A$6:$A$1806,Data!$E$6:$E$1806))","v":-258.27816772460937},{"$f":"LOOKUP($V193,Data!$A$6:$A$1806,Data!$F$6:$F$1806)","v":0},{"$f":"LOOKUP($V193,Data!$A$6:$A$1806,Data!$G$6:$G$1806)","v":191},{"$f":"LOOKUP($V193,Data!$A$6:$A$1806,Data!$H$6:$H$1806)","v":10},{"$f":"LOOKUP($V193,Data!$A$6:$A$1806,Data!$I$6:$I$1806)","v":0},{"$f":"LOOKUP($V193,Data!$A$6:$A$1806,Data!$J$6:$J$1806)","v":-103},{"$f":"LOOKUP($V193,Data!$A$6:$A$1806,Data!$K$6:$K$1806)","v":7626.06},35.198974609375]
[null,40098.104988425708,{"$f":"LOOKUP(B194,Data!$A$6:$A$1806,Data!B$6:B$1806)","v":59.955001831054688},{"$f":"LOOKUP(B194,Data!$A$6:$A$1806,Data!C$6:C$1806)","v":3717.759033203125},null,null,null,35.99853515625,35.535461241390088,null,null,0.55220438547493267,3772.2996095767053,{"$f":"AVERAGE(D$79:D194)","v":3770.8881036166486},{"$f":"AVERAGE(M$79:M194)","v":3774.3700731567696},3741.4075453109076,{"$f":"AVERAGE(P$79:P194)","v":3709.9318953388415},null,null,null,null,40098.104988425708,{"$f":"LOOKUP($V194,Data!$A$6:$A$1806,Data!$B$6:$B$1806)","v":59.955001831054688},{"$f":"LOOKUP($V194,Data!$A$6:$A$1806,Data!$C$6:$C$1806)","v":3717.759033203125},{"$f":"LOOKUP($V194,Data!$A$6:$A$1806,Data!$D$6:$D$1806)","v":335},{"$f":"IF($Z$1=\"+\",LOOKUP($V194,Data!$A$6:$A$1806,Data!$E$6:$E$1806)*-1,LOOKUP($V194,Data!$A$6:$A$1806,Data!$E$6:$E$1806))","v":-258.4063720703125},{"$f":"LOOKUP($V194,Data!$A$6:$A$1806,Data!$F$6:$F$1806)","v":0},{"$f":"LOOKUP($V194,Data!$A$6:$A$1806,Data!$G$6:$G$1806)","v":191.5},{"$f":"LOOKUP($V194,Data!$A$6:$A$1806,Data!$H$6:$H$1806)","v":10},{"$f":"LOOKUP($V194,Data!$A$6:$A$1806,Data!$I$6:$I$1806)","v":0},{"$f":"LOOKUP($V194,Data!$A$6:$A$1806,Data!$J$6:$J$1806)","v":-103},{"$f":"LOOKUP($V194,Data!$A$6:$A$1806,Data!$K$6:$K$1806)","v":7626.39},35.99853515625]
[null,40098.105011573854,{"$f":"LOOKUP(B195,Data!$A$6:$A$1806,Data!B$6:B$1806)","v":59.96099853515625},{"$f":"LOOKUP(B195,Data!$A$6:$A$1806,Data!C$6:C$1806)","v":3722.361328125},null,null,null,31.201171875,34.01845996315356,null,null,0.55220438547493267,3771.3348126839437,{"$f":"AVERAGE(D$79:D195)","v":3770.4733448517627},{"$f":"AVERAGE(M$79:M195)","v":3774.3441307595658},3741.9597496963825,{"$f":"AVERAGE(P$79:P195)","v":3710.2079975315787},null,null,null,null,40098.105011573854,{"$f":"LOOKUP($V195,Data!$A$6:$A$1806,Data!$B$6:$B$1806)","v":59.96099853515625},{"$f":"LOOKUP($V195,Data!$A$6:$A$1806,Data!$C$6:$C$1806)","v":3722.361328125},{"$f":"LOOKUP($V195,Data!$A$6:$A$1806,Data!$D$6:$D$1806)","v":335},{"$f":"IF($Z$1=\"+\",LOOKUP($V195,Data!$A$6:$A$1806,Data!$E$6:$E$1806)*-1,LOOKUP($V195,Data!$A$6:$A$1806,Data!$E$6:$E$1806))","v":-258.4063720703125},{"$f":"LOOKUP($V195,Data!$A$6:$A$1806,Data!$F$6:$F$1806)","v":0},{"$f":"LOOKUP($V195,Data!$A$6:$A$1806,Data!$G$6:$G$1806)","v":192},{"$f":"LOOKUP($V195,Data!$A$6:$A$1806,Data!$H$6:$H$1806)","v":10},{"$f":"LOOKUP($V195,Data!$A$6:$A$1806,Data!$I$6:$I$1806)","v":0},{"$f":"LOOKUP($V195,Data!$A$6:$A$1806,Data!$J$6:$J$1806)","v":-103},{"$f":"LOOKUP($V195,Data!$A$6:$A$1806,Data!$K$6:$K$1806)","v":7626.72},31.201171875]
[null,40098.105034722001,{"$f":"LOOKUP(B196,Data!$A$6:$A$1806,Data!B$6:B$1806)","v":59.96099853515625},{"$f":"LOOKUP(B196,Data!$A$6:$A$1806,Data!C$6:C$1806)","v":3722.361328125},null,null,null,31.201171875,33.032409132299819,null,null,0.55220438547493267,3770.9009662385647,{"$f":"AVERAGE(D$79:D196)","v":3770.0656158964512},{"$f":"AVERAGE(M$79:M196)","v":3774.3149513992184},3742.5119540818573,{"$f":"AVERAGE(P$79:P196)","v":3710.4840997243164},null,null,null,null,40098.105034722001,{"$f":"LOOKUP($V196,Data!$A$6:$A$1806,Data!$B$6:$B$1806)","v":59.96099853515625},{"$f":"LOOKUP($V196,Data!$A$6:$A$1806,Data!$C$6:$C$1806)","v":3722.361328125},{"$f":"LOOKUP($V196,Data!$A$6:$A$1806,Data!$D$6:$D$1806)","v":335},{"$f":"IF($Z$1=\"+\",LOOKUP($V196,Data!$A$6:$A$1806,Data!$E$6:$E$1806)*-1,LOOKUP($V196,Data!$A$6:$A$1806,Data!$E$6:$E$1806))","v":-258.4063720703125},{"$f":"LOOKUP($V196,Data!$A$6:$A$1806,Data!$F$6:$F$1806)","v":0},{"$f":"LOOKUP($V196,Data!$A$6:$A$1806,Data!$G$6:$G$1806)","v":192},{"$f":"LOOKUP($V196,Data!$A$6:$A$1806,Data!$H$6:$H$1806)","v":10},{"$f":"LOOKUP($V196,Data!$A$6:$A$1806,Data!$I$6:$I$1806)","v":0},{"$f":"LOOKUP($V196,Data!$A$6:$A$1806,Data!$J$6:$J$1806)","v":-103},{"$f":"LOOKUP($V196,Data!$A$6:$A$1806,Data!$K$6:$K$1806)","v":7626.72},31.201171875]
[null,40098.105057870147,{"$f":"LOOKUP(B197,Data!$A$6:$A$1806,Data!B$6:B$1806)","v":59.962001800537109},{"$f":"LOOKUP(B197,Data!$A$6:$A$1806,Data!C$6:C$1806)","v":3722.657958984375},null,null,null,30.3985595703125,32.110561785604261,null,null,0.55220438547493267,3770.5313232773442,{"$f":"AVERAGE(D$79:D197)","v":3769.667232224921},{"$f":"AVERAGE(M$79:M197)","v":3774.2831562049168},3743.0641584673322,{"$f":"AVERAGE(P$79:P197)","v":3710.760201917054},null,null,null,null,40098.105057870147,{"$f":"LOOKUP($V197,Data!$A$6:$A$1806,Data!$B$6:$B$1806)","v":59.962001800537109},{"$f":"LOOKUP($V197,Data!$A$6:$A$1806,Data!$C$6:$C$1806)","v":3722.657958984375},{"$f":"LOOKUP($V197,Data!$A$6:$A$1806,Data!$D$6:$D$1806)","v":335},{"$f":"IF($Z$1=\"+\",LOOKUP($V197,Data!$A$6:$A$1806,Data!$E$6:$E$1806)*-1,LOOKUP($V197,Data!$A$6:$A$1806,Data!$E$6:$E$1806))","v":-258.4063720703125},{"$f":"LOOKUP($V197,Data!$A$6:$A$1806,Data!$F$6:$F$1806)","v":0},{"$f":"LOOKUP($V197,Data!$A$6:$A$1806,Data!$G$6:$G$1806)","v":192.5},{"$f":"LOOKUP($V197,Data!$A$6:$A$1806,Data!$H$6:$H$1806)","v":10},{"$f":"LOOKUP($V197,Data!$A$6:$A$1806,Data!$I$6:$I$1806)","v":0},{"$f":"LOOKUP($V197,Data!$A$6:$A$1806,Data!$J$6:$J$1806)","v":-103},{"$f":"LOOKUP($V197,Data!$A$6:$A$1806,Data!$K$6:$K$1806)","v":7627.05},30.3985595703125]
[null,40098.105081018293,{"$f":"LOOKUP(B198,Data!$A$6:$A$1806,Data!B$6:B$1806)","v":59.967998504638672},{"$f":"LOOKUP(B198,Data!$A$6:$A$1806,Data!C$6:C$1806)","v":3722.2666015625},null,null,null,25.6011962890625,29.832283861814645,null,null,0.55220438547493267,3768.8052497390295,{"$f":"AVERAGE(D$79:D198)","v":3769.2722269694009},{"$f":"AVERAGE(M$79:M198)","v":3774.2375069843679},3743.616362852807,{"$f":"AVERAGE(P$79:P198)","v":3711.0363041097917},null,null,null,null,40098.105081018293,{"$f":"LOOKUP($V198,Data!$A$6:$A$1806,Data!$B$6:$B$1806)","v":59.967998504638672},{"$f":"LOOKUP($V198,Data!$A$6:$A$1806,Data!$C$6:$C$1806)","v":3722.2666015625},{"$f":"LOOKUP($V198,Data!$A$6:$A$1806,Data!$D$6:$D$1806)","v":335},{"$f":"IF($Z$1=\"+\",LOOKUP($V198,Data!$A$6:$A$1806,Data!$E$6:$E$1806)*-1,LOOKUP($V198,Data!$A$6:$A$1806,Data!$E$6:$E$1806))","v":-258.4063720703125},{"$f":"LOOKUP($V198,Data!$A$6:$A$1806,Data!$F$6:$F$1806)","v":0},{"$f":"LOOKUP($V198,Data!$A$6:$A$1806,Data!$G$6:$G$1806)","v":193},{"$f":"LOOKUP($V198,Data!$A$6:$A$1806,Data!$H$6:$H$1806)","v":10},{"$f":"LOOKUP($V198,Data!$A$6:$A$1806,Data!$I$6:$I$1806)","v":0},{"$f":"LOOKUP($V198,Data!$A$6:$A$1806,Data!$J$6:$J$1806)","v":-103},{"$f":"LOOKUP($V198,Data!$A$6:$A$1806,Data!$K$6:$K$1806)","v":7627.38},25.6011962890625]
[null,40098.10510416644,{"$f":"LOOKUP(B199,Data!$A$6:$A$1806,Data!B$6:B$1806)","v":59.967998504638672},{"$f":"LOOKUP(B199,Data!$A$6:$A$1806,Data!C$6:C$1806)","v":3722.2666015625},null,null,null,25.6011962890625,28.351403211351396,null,null,0.55220438547493267,3767.8765734740409,{"$f":"AVERAGE(D$79:D199)","v":3768.8837507263688},{"$f":"AVERAGE(M$79:M199)","v":3774.1849372859351},3744.1685672382819,{"$f":"AVERAGE(P$79:P199)","v":3711.3124063025289},null,null,null,null,40098.10510416644,{"$f":"LOOKUP($V199,Data!$A$6:$A$1806,Data!$B$6:$B$1806)","v":59.967998504638672},{"$f":"LOOKUP($V199,Data!$A$6:$A$1806,Data!$C$6:$C$1806)","v":3722.2666015625},{"$f":"LOOKUP($V199,Data!$A$6:$A$1806,Data!$D$6:$D$1806)","v":335},{"$f":"IF($Z$1=\"+\",LOOKUP($V199,Data!$A$6:$A$1806,Data!$E$6:$E$1806)*-1,LOOKUP($V199,Data!$A$6:$A$1806,Data!$E$6:$E$1806))","v":-258.4063720703125},{"$f":"LOOKUP($V199,Data!$A$6:$A$1806,Data!$F$6:$F$1806)","v":0},{"$f":"LOOKUP($V199,Data!$A$6:$A$1806,Data!$G$6:$G$1806)","v":193},{"$f":"LOOKUP($V199,Data!$A$6:$A$1806,Data!$H$6:$H$1806)","v":10},{"$f":"LOOKUP($V199,Data!$A$6:$A$1806,Data!$I$6:$I$1806)","v":0},{"$f":"LOOKUP($V199,Data!$A$6:$A$1806,Data!$J$6:$J$1806)","v":-103},{"$f":"LOOKUP($V199,Data!$A$6:$A$1806,Data!$K$6:$K$1806)","v":7627.38},25.6011962890625]
[null,40098.105127314586,{"$f":"LOOKUP(B200,Data!$A$6:$A$1806,Data!B$6:B$1806)","v":59.965999603271484},{"$f":"LOOKUP(B200,Data!$A$6:$A$1806,Data!C$6:C$1806)","v":3721.78662109375},null,null,null,27.2003173828125,27.948523171362783,null,null,0.55220438547493267,3768.025897819527,{"$f":"AVERAGE(D$79:D200)","v":3768.4977086801996},{"$f":"AVERAGE(M$79:M200)","v":3774.1344533558831},3744.7207716237567,{"$f":"AVERAGE(P$79:P200)","v":3711.5885084952661},null,null,null,null,40098.105127314586,{"$f":"LOOKUP($V200,Data!$A$6:$A$1806,Data!$B$6:$B$1806)","v":59.965999603271484},{"$f":"LOOKUP($V200,Data!$A$6:$A$1806,Data!$C$6:$C$1806)","v":3721.78662109375},{"$f":"LOOKUP($V200,Data!$A$6:$A$1806,Data!$D$6:$D$1806)","v":335},{"$f":"IF($Z$1=\"+\",LOOKUP($V200,Data!$A$6:$A$1806,Data!$E$6:$E$1806)*-1,LOOKUP($V200,Data!$A$6:$A$1806,Data!$E$6:$E$1806))","v":-258.4063720703125},{"$f":"LOOKUP($V200,Data!$A$6:$A$1806,Data!$F$6:$F$1806)","v":0},{"$f":"LOOKUP($V200,Data!$A$6:$A$1806,Data!$G$6:$G$1806)","v":193.5},{"$f":"LOOKUP($V200,Data!$A$6:$A$1806,Data!$H$6:$H$1806)","v":10},{"$f":"LOOKUP($V200,Data!$A$6:$A$1806,Data!$I$6:$I$1806)","v":0},{"$f":"LOOKUP($V200,Data!$A$6:$A$1806,Data!$J$6:$J$1806)","v":-103},{"$f":"LOOKUP($V200,Data!$A$6:$A$1806,Data!$K$6:$K$1806)","v":7627.71},27.2003173828125]
[null,40098.105150462732,{"$f":"LOOKUP(B201,Data!$A$6:$A$1806,Data!B$6:B$1806)","v":59.967998504638672},{"$f":"LOOKUP(B201,Data!$A$6:$A$1806,Data!C$6:C$1806)","v":3723.0908203125},null,null,null,25.6011962890625,27.126958762557685,null,null,0.55220438547493267,3767.7565377961969,{"$f":"AVERAGE(D$79:D201)","v":3768.1285469861537},{"$f":"AVERAGE(M$79:M201)","v":3774.0826003838529},3745.2729760092316,{"$f":"AVERAGE(P$79:P201)","v":3711.8646106880037},null,null,null,null,40098.105150462732,{"$f":"LOOKUP($V201,Data!$A$6:$A$1806,Data!$B$6:$B$1806)","v":59.967998504638672},{"$f":"LOOKUP($V201,Data!$A$6:$A$1806,Data!$C$6:$C$1806)","v":3723.0908203125},{"$f":"LOOKUP($V201,Data!$A$6:$A$1806,Data!$D$6:$D$1806)","v":335},{"$f":"IF($Z$1=\"+\",LOOKUP($V201,Data!$A$6:$A$1806,Data!$E$6:$E$1806)*-1,LOOKUP($V201,Data!$A$6:$A$1806,Data!$E$6:$E$1806))","v":-260.53887939453125},{"$f":"LOOKUP($V201,Data!$A$6:$A$1806,Data!$F$6:$F$1806)","v":0},{"$f":"LOOKUP($V201,Data!$A$6:$A$1806,Data!$G$6:$G$1806)","v":194},{"$f":"LOOKUP($V201,Data!$A$6:$A$1806,Data!$H$6:$H$1806)","v":10},{"$f":"LOOKUP($V201,Data!$A$6:$A$1806,Data!$I$6:$I$1806)","v":0},{"$f":"LOOKUP($V201,Data!$A$6:$A$1806,Data!$J$6:$J$1806)","v":-103},{"$f":"LOOKUP($V201,Data!$A$6:$A$1806,Data!$K$6:$K$1806)","v":7628.04},25.6011962890625]
[null,40098.105173610878,{"$f":"LOOKUP(B202,Data!$A$6:$A$1806,Data!B$6:B$1806)","v":59.967998504638672},{"$f":"LOOKUP(B202,Data!$A$6:$A$1806,Data!C$6:C$1806)","v":3723.0908203125},null,null,null,25.6011962890625,26.592941896834372,null,null,0.55220438547493267,3767.7747253159482,{"$f":"AVERAGE(D$79:D202)","v":3767.7653395129787},{"$f":"AVERAGE(M$79:M202)","v":3774.0317304236278},3745.8251803947064,{"$f":"AVERAGE(P$79:P202)","v":3712.1407128807409},null,null,null,null,40098.105173610878,{"$f":"LOOKUP($V202,Data!$A$6:$A$1806,Data!$B$6:$B$1806)","v":59.967998504638672},{"$f":"LOOKUP($V202,Data!$A$6:$A$1806,Data!$C$6:$C$1806)","v":3723.0908203125},{"$f":"LOOKUP($V202,Data!$A$6:$A$1806,Data!$D$6:$D$1806)","v":335},{"$f":"IF($Z$1=\"+\",LOOKUP($V202,Data!$A$6:$A$1806,Data!$E$6:$E$1806)*-1,LOOKUP($V202,Data!$A$6:$A$1806,Data!$E$6:$E$1806))","v":-260.53887939453125},{"$f":"LOOKUP($V202,Data!$A$6:$A$1806,Data!$F$6:$F$1806)","v":0},{"$f":"LOOKUP($V202,Data!$A$6:$A$1806,Data!$G$6:$G$1806)","v":194},{"$f":"LOOKUP($V202,Data!$A$6:$A$1806,Data!$H$6:$H$1806)","v":10},{"$f":"LOOKUP($V202,Data!$A$6:$A$1806,Data!$I$6:$I$1806)","v":0},{"$f":"LOOKUP($V202,Data!$A$6:$A$1806,Data!$J$6:$J$1806)","v":-103},{"$f":"LOOKUP($V202,Data!$A$6:$A$1806,Data!$K$6:$K$1806)","v":7628.04},25.6011962890625]
[null,40098.105196759025,{"$f":"LOOKUP(B203,Data!$A$6:$A$1806,Data!B$6:B$1806)","v":59.970001220703125},{"$f":"LOOKUP(B203,Data!$A$6:$A$1806,Data!C$6:C$1806)","v":3723.4345703125},null,null,null,23.9990234375,25.685070436067342,null,null,0.55220438547493267,3767.4190582406559,{"$f":"AVERAGE(D$79:D203)","v":3767.4106933593748},{"$f":"AVERAGE(M$79:M203)","v":3773.9788290461643},3746.3773847801813,{"$f":"AVERAGE(P$79:P203)","v":3712.4168150734786},null,null,null,null,40098.105196759025,{"$f":"LOOKUP($V203,Data!$A$6:$A$1806,Data!$B$6:$B$1806)","v":59.970001220703125},{"$f":"LOOKUP($V203,Data!$A$6:$A$1806,Data!$C$6:$C$1806)","v":3723.4345703125},{"$f":"LOOKUP($V203,Data!$A$6:$A$1806,Data!$D$6:$D$1806)","v":335},{"$f":"IF($Z$1=\"+\",LOOKUP($V203,Data!$A$6:$A$1806,Data!$E$6:$E$1806)*-1,LOOKUP($V203,Data!$A$6:$A$1806,Data!$E$6:$E$1806))","v":-260.53887939453125},{"$f":"LOOKUP($V203,Data!$A$6:$A$1806,Data!$F$6:$F$1806)","v":0},{"$f":"LOOKUP($V203,Data!$A$6:$A$1806,Data!$G$6:$G$1806)","v":194.5},{"$f":"LOOKUP($V203,Data!$A$6:$A$1806,Data!$H$6:$H$1806)","v":10},{"$f":"LOOKUP($V203,Data!$A$6:$A$1806,Data!$I$6:$I$1806)","v":0},{"$f":"LOOKUP($V203,Data!$A$6:$A$1806,Data!$J$6:$J$1806)","v":-103},{"$f":"LOOKUP($V203,Data!$A$6:$A$1806,Data!$K$6:$K$1806)","v":7628.37},23.9990234375]
[null,40098.105219907171,{"$f":"LOOKUP(B204,Data!$A$6:$A$1806,Data!B$6:B$1806)","v":59.970001220703125},{"$f":"LOOKUP(B204,Data!$A$6:$A$1806,Data!C$6:C$1806)","v":3723.89306640625},null,null,null,23.9990234375,25.094953986568772,null,null,0.55220438547493267,3767.3811461766322,{"$f":"AVERAGE(D$79:D204)","v":3767.0653153676835},{"$f":"AVERAGE(M$79:M204)","v":3773.9264664837078},3746.9295891656561,{"$f":"AVERAGE(P$79:P204)","v":3712.6929172662162},null,null,null,null,40098.105219907171,{"$f":"LOOKUP($V204,Data!$A$6:$A$1806,Data!$B$6:$B$1806)","v":59.970001220703125},{"$f":"LOOKUP($V204,Data!$A$6:$A$1806,Data!$C$6:$C$1806)","v":3723.89306640625},{"$f":"LOOKUP($V204,Data!$A$6:$A$1806,Data!$D$6:$D$1806)","v":335},{"$f":"IF($Z$1=\"+\",LOOKUP($V204,Data!$A$6:$A$1806,Data!$E$6:$E$1806)*-1,LOOKUP($V204,Data!$A$6:$A$1806,Data!$E$6:$E$1806))","v":-260.53887939453125},{"$f":"LOOKUP($V204,Data!$A$6:$A$1806,Data!$F$6:$F$1806)","v":0},{"$f":"LOOKUP($V204,Data!$A$6:$A$1806,Data!$G$6:$G$1806)","v":195},{"$f":"LOOKUP($V204,Data!$A$6:$A$1806,Data!$H$6:$H$1806)","v":10},{"$f":"LOOKUP($V204,Data!$A$6:$A$1806,Data!$I$6:$I$1806)","v":0},{"$f":"LOOKUP($V204,Data!$A$6:$A$1806,Data!$J$6:$J$1806)","v":-103},{"$f":"LOOKUP($V204,Data!$A$6:$A$1806,Data!$K$6:$K$1806)","v":7628.7},23.9990234375]
[null,40098.105243055317,{"$f":"LOOKUP(B205,Data!$A$6:$A$1806,Data!B$6:B$1806)","v":59.970001220703125},{"$f":"LOOKUP(B205,Data!$A$6:$A$1806,Data!C$6:C$1806)","v":3723.89306640625},null,null,null,23.9990234375,24.711378294394702,null,null,0.55220438547493267,3767.5497748699331,{"$f":"AVERAGE(D$79:D205)","v":3766.7253763994831},{"$f":"AVERAGE(M$79:M205)","v":3773.8762563135206},3747.481793551131,{"$f":"AVERAGE(P$79:P205)","v":3712.9690194589534},null,null,null,null,40098.105243055317,{"$f":"LOOKUP($V205,Data!$A$6:$A$1806,Data!$B$6:$B$1806)","v":59.970001220703125},{"$f":"LOOKUP($V205,Data!$A$6:$A$1806,Data!$C$6:$C$1806)","v":3723.89306640625},{"$f":"LOOKUP($V205,Data!$A$6:$A$1806,Data!$D$6:$D$1806)","v":335},{"$f":"IF($Z$1=\"+\",LOOKUP($V205,Data!$A$6:$A$1806,Data!$E$6:$E$1806)*-1,LOOKUP($V205,Data!$A$6:$A$1806,Data!$E$6:$E$1806))","v":-260.53887939453125},{"$f":"LOOKUP($V205,Data!$A$6:$A$1806,Data!$F$6:$F$1806)","v":0},{"$f":"LOOKUP($V205,Data!$A$6:$A$1806,Data!$G$6:$G$1806)","v":195},{"$f":"LOOKUP($V205,Data!$A$6:$A$1806,Data!$H$6:$H$1806)","v":10},{"$f":"LOOKUP($V205,Data!$A$6:$A$1806,Data!$I$6:$I$1806)","v":0},{"$f":"LOOKUP($V205,Data!$A$6:$A$1806,Data!$J$6:$J$1806)","v":-103},{"$f":"LOOKUP($V205,Data!$A$6:$A$1806,Data!$K$6:$K$1806)","v":7628.7},23.9990234375]
[null,40098.105266203464,{"$f":"LOOKUP(B206,Data!$A$6:$A$1806,Data!B$6:B$1806)","v":59.969001770019531},{"$f":"LOOKUP(B206,Data!$A$6:$A$1806,Data!C$6:C$1806)","v":3727.12109375},null,null,null,24.798583984375,24.741900285887809,null,null,0.55220438547493267,3768.132501246901,{"$f":"AVERAGE(D$79:D206)","v":3766.4159679412842},{"$f":"AVERAGE(M$79:M206)","v":3773.8313832270624},3748.0339979366058,{"$f":"AVERAGE(P$79:P206)","v":3713.2451216516906},null,null,null,null,40098.105266203464,{"$f":"LOOKUP($V206,Data!$A$6:$A$1806,Data!$B$6:$B$1806)","v":59.969001770019531},{"$f":"LOOKUP($V206,Data!$A$6:$A$1806,Data!$C$6:$C$1806)","v":3727.12109375},{"$f":"LOOKUP($V206,Data!$A$6:$A$1806,Data!$D$6:$D$1806)","v":335},{"$f":"IF($Z$1=\"+\",LOOKUP($V206,Data!$A$6:$A$1806,Data!$E$6:$E$1806)*-1,LOOKUP($V206,Data!$A$6:$A$1806,Data!$E$6:$E$1806))","v":-260.53887939453125},{"$f":"LOOKUP($V206,Data!$A$6:$A$1806,Data!$F$6:$F$1806)","v":0},{"$f":"LOOKUP($V206,Data!$A$6:$A$1806,Data!$G$6:$G$1806)","v":195.5},{"$f":"LOOKUP($V206,Data!$A$6:$A$1806,Data!$H$6:$H$1806)","v":10},{"$f":"LOOKUP($V206,Data!$A$6:$A$1806,Data!$I$6:$I$1806)","v":0},{"$f":"LOOKUP($V206,Data!$A$6:$A$1806,Data!$J$6:$J$1806)","v":-103},{"$f":"LOOKUP($V206,Data!$A$6:$A$1806,Data!$K$6:$K$1806)","v":7629.03},24.798583984375]
[null,40098.10528935161,{"$f":"LOOKUP(B207,Data!$A$6:$A$1806,Data!B$6:B$1806)","v":59.970001220703125},{"$f":"LOOKUP(B207,Data!$A$6:$A$1806,Data!C$6:C$1806)","v":3728.052978515625},null,null,null,23.9990234375,24.481893388952077,null,null,0.55220438547493267,3768.42469873544,{"$f":"AVERAGE(D$79:D207)","v":3766.1185804263564},{"$f":"AVERAGE(M$79:M207)","v":3773.7894709441812},3748.5862023220807,{"$f":"AVERAGE(P$79:P207)","v":3713.5212238444283},null,null,null,null,40098.10528935161,{"$f":"LOOKUP($V207,Data!$A$6:$A$1806,Data!$B$6:$B$1806)","v":59.970001220703125},{"$f":"LOOKUP($V207,Data!$A$6:$A$1806,Data!$C$6:$C$1806)","v":3728.052978515625},{"$f":"LOOKUP($V207,Data!$A$6:$A$1806,Data!$D$6:$D$1806)","v":335},{"$f":"IF($Z$1=\"+\",LOOKUP($V207,Data!$A$6:$A$1806,Data!$E$6:$E$1806)*-1,LOOKUP($V207,Data!$A$6:$A$1806,Data!$E$6:$E$1806))","v":-260.53887939453125},{"$f":"LOOKUP($V207,Data!$A$6:$A$1806,Data!$F$6:$F$1806)","v":0},{"$f":"LOOKUP($V207,Data!$A$6:$A$1806,Data!$G$6:$G$1806)","v":196},{"$f":"LOOKUP($V207,Data!$A$6:$A$1806,Data!$H$6:$H$1806)","v":10},{"$f":"LOOKUP($V207,Data!$A$6:$A$1806,Data!$I$6:$I$1806)","v":0},{"$f":"LOOKUP($V207,Data!$A$6:$A$1806,Data!$J$6:$J$1806)","v":-103},{"$f":"LOOKUP($V207,Data!$A$6:$A$1806,Data!$K$6:$K$1806)","v":7629.36},23.9990234375]
[null,40098.105312499756,{"$f":"LOOKUP(B208,Data!$A$6:$A$1806,Data!B$6:B$1806)","v":59.970001220703125},{"$f":"LOOKUP(B208,Data!$A$6:$A$1806,Data!C$6:C$1806)","v":3728.052978515625},null,null,null,23.9990234375,24.312888905943851,null,null,{"$f":"IF(B208>G$3,0,(K$21*0.000023148/K$22))","v":0.55220438547493267},{"$f":"M207+L208+(I208-I207)","v":3768.8078986379064},{"$f":"AVERAGE(D$79:D208)","v":3765.8257681039663},{"$f":"AVERAGE(M$79:M208)","v":3773.7511511572097},3749.1384067075555,{"$f":"AVERAGE(P$79:P208)","v":3713.7973260371655},null,null,null,null,40098.105312499756,{"$f":"LOOKUP($V208,Data!$A$6:$A$1806,Data!$B$6:$B$1806)","v":59.970001220703125},{"$f":"LOOKUP($V208,Data!$A$6:$A$1806,Data!$C$6:$C$1806)","v":3728.052978515625},{"$f":"LOOKUP($V208,Data!$A$6:$A$1806,Data!$D$6:$D$1806)","v":335},{"$f":"IF($Z$1=\"+\",LOOKUP($V208,Data!$A$6:$A$1806,Data!$E$6:$E$1806)*-1,LOOKUP($V208,Data!$A$6:$A$1806,Data!$E$6:$E$1806))","v":-260.53887939453125},{"$f":"LOOKUP($V208,Data!$A$6:$A$1806,Data!$F$6:$F$1806)","v":0},{"$f":"LOOKUP($V208,Data!$A$6:$A$1806,Data!$G$6:$G$1806)","v":196},{"$f":"LOOKUP($V208,Data!$A$6:$A$1806,Data!$H$6:$H$1806)","v":10},{"$f":"LOOKUP($V208,Data!$A$6:$A$1806,Data!$I$6:$I$1806)","v":0},{"$f":"LOOKUP($V208,Data!$A$6:$A$1806,Data!$J$6:$J$1806)","v":-103},{"$f":"LOOKUP($V208,Data!$A$6:$A$1806,Data!$K$6:$K$1806)","v":7629.36},23.9990234375]
[null,40098.105335647902,{"$f":"LOOKUP(B209,Data!$A$6:$A$1806,Data!B$6:B$1806)","v":59.971000671386719},{"$f":"LOOKUP(B209,Data!$A$6:$A$1806,Data!C$6:C$1806)","v":3732.530029296875},null,null,null,23.199462890625,23.923189800582254,null,null,0.55220438547493267,3768.9704039180197,{"$f":"AVERAGE(D$79:D209)","v":3765.5716021588742},{"$f":"AVERAGE(M$79:M209)","v":3773.7146569034758},3749.6906110930304,{"$f":"AVERAGE(P$79:P209)","v":3714.0734282299031},null,null,null,null,{"$f":"V208+TIME(0,0,$B$1)","v":40098.105335647902},{"$f":"LOOKUP($V209,Data!$A$6:$A$1806,Data!$B$6:$B$1806)","v":59.971000671386719},{"$f":"LOOKUP($V209,Data!$A$6:$A$1806,Data!$C$6:$C$1806)","v":3732.530029296875},{"$f":"LOOKUP($V209,Data!$A$6:$A$1806,Data!$D$6:$D$1806)","v":335},{"$f":"IF($Z$1=\"+\",LOOKUP($V209,Data!$A$6:$A$1806,Data!$E$6:$E$1806)*-1,LOOKUP($V209,Data!$A$6:$A$1806,Data!$E$6:$E$1806))","v":-257.882080078125},{"$f":"LOOKUP($V209,Data!$A$6:$A$1806,Data!$F$6:$F$1806)","v":0},{"$f":"LOOKUP($V209,Data!$A$6:$A$1806,Data!$G$6:$G$1806)","v":196.5},{"$f":"LOOKUP($V209,Data!$A$6:$A$1806,Data!$H$6:$H$1806)","v":10},{"$f":"LOOKUP($V209,Data!$A$6:$A$1806,Data!$I$6:$I$1806)","v":0},{"$f":"LOOKUP($V209,Data!$A$6:$A$1806,Data!$J$6:$J$1806)","v":-103},{"$f":"LOOKUP($V209,Data!$A$6:$A$1806,Data!$K$6:$K$1806)","v":7629.69},23.199462890625]
[null,40098.105358796049,{"$f":"LOOKUP(B210,Data!$A$6:$A$1806,Data!B$6:B$1806)","v":59.972999572753906},{"$f":"LOOKUP(B210,Data!$A$6:$A$1806,Data!C$6:C$1806)","v":3733.3271484375},null,null,null,21.600341796875,23.110192999284713,null,null,0.55220438547493267,3768.7096115021968,{"$f":"AVERAGE(D$79:D210)","v":3765.327325994318},{"$f":"AVERAGE(M$79:M210)","v":3773.6767398928596},{"$f":"P209+L210","v":3750.2428154785052},{"$f":"AVERAGE(P$79:P210)","v":3714.3495304226408},null,null,null,null,40098.105358796049,{"$f":"LOOKUP($V210,Data!$A$6:$A$1806,Data!$B$6:$B$1806)","v":59.972999572753906},{"$f":"LOOKUP($V210,Data!$A$6:$A$1806,Data!$C$6:$C$1806)","v":3733.3271484375},{"$f":"LOOKUP($V210,Data!$A$6:$A$1806,Data!$D$6:$D$1806)","v":335},{"$f":"IF($Z$1=\"+\",LOOKUP($V210,Data!$A$6:$A$1806,Data!$E$6:$E$1806)*-1,LOOKUP($V210,Data!$A$6:$A$1806,Data!$E$6:$E$1806))","v":-257.882080078125},{"$f":"LOOKUP($V210,Data!$A$6:$A$1806,Data!$F$6:$F$1806)","v":0},{"$f":"LOOKUP($V210,Data!$A$6:$A$1806,Data!$G$6:$G$1806)","v":197},{"$f":"LOOKUP($V210,Data!$A$6:$A$1806,Data!$H$6:$H$1806)","v":10},{"$f":"LOOKUP($V210,Data!$A$6:$A$1806,Data!$I$6:$I$1806)","v":0},{"$f":"LOOKUP($V210,Data!$A$6:$A$1806,Data!$J$6:$J$1806)","v":-103},{"$f":"LOOKUP($V210,Data!$A$6:$A$1806,Data!$K$6:$K$1806)","v":7630.02},21.600341796875]
[null,40098.105381944195,{"$f":"LOOKUP(B211,Data!$A$6:$A$1806,Data!B$6:B$1806)","v":59.972999572753906},{"$f":"LOOKUP(B211,Data!$A$6:$A$1806,Data!C$6:C$1806)","v":3733.3271484375},null,null,null,21.600341796875,22.581745078441312,null,null,0.55220438547493267,3768.7333679668282,{"$f":"AVERAGE(D$79:D211)","v":3765.0867231555453},{"$f":"AVERAGE(M$79:M211)","v":3773.6395716828897},3750.7950198639801,{"$f":"AVERAGE(P$79:P211)","v":3714.625632615378},null,null,null,null,40098.105381944195,{"$f":"LOOKUP($V211,Data!$A$6:$A$1806,Data!$B$6:$B$1806)","v":59.972999572753906},{"$f":"LOOKUP($V211,Data!$A$6:$A$1806,Data!$C$6:$C$1806)","v":3733.3271484375},{"$f":"LOOKUP($V211,Data!$A$6:$A$1806,Data!$D$6:$D$1806)","v":335},{"$f":"IF($Z$1=\"+\",LOOKUP($V211,Data!$A$6:$A$1806,Data!$E$6:$E$1806)*-1,LOOKUP($V211,Data!$A$6:$A$1806,Data!$E$6:$E$1806))","v":-257.882080078125},{"$f":"LOOKUP($V211,Data!$A$6:$A$1806,Data!$F$6:$F$1806)","v":0},{"$f":"LOOKUP($V211,Data!$A$6:$A$1806,Data!$G$6:$G$1806)","v":197},{"$f":"LOOKUP($V211,Data!$A$6:$A$1806,Data!$H$6:$H$1806)","v":10},{"$f":"LOOKUP($V211,Data!$A$6:$A$1806,Data!$I$6:$I$1806)","v":0},{"$f":"LOOKUP($V211,Data!$A$6:$A$1806,Data!$J$6:$J$1806)","v":-103},{"$f":"LOOKUP($V211,Data!$A$6:$A$1806,Data!$K$6:$K$1806)","v":7630.02},21.600341796875]
[null,40098.105405092341,{"$f":"LOOKUP(B212,Data!$A$6:$A$1806,Data!B$6:B$1806)","v":59.976001739501953},{"$f":"LOOKUP(B212,Data!$A$6:$A$1806,Data!C$6:C$1806)","v":3736.907470703125},null,null,null,19.1986083984375,21.39764724043998,null,null,0.55220438547493267,3768.1014745143016,{"$f":"AVERAGE(D$79:D212)","v":3764.8764302267955},{"$f":"AVERAGE(M$79:M212)","v":3773.5982425995417},3751.3472242494549,{"$f":"AVERAGE(P$79:P212)","v":3714.9017348081156},null,null,null,null,40098.105405092341,{"$f":"LOOKUP($V212,Data!$A$6:$A$1806,Data!$B$6:$B$1806)","v":59.976001739501953},{"$f":"LOOKUP($V212,Data!$A$6:$A$1806,Data!$C$6:$C$1806)","v":3736.907470703125},{"$f":"LOOKUP($V212,Data!$A$6:$A$1806,Data!$D$6:$D$1806)","v":335},{"$f":"IF($Z$1=\"+\",LOOKUP($V212,Data!$A$6:$A$1806,Data!$E$6:$E$1806)*-1,LOOKUP($V212,Data!$A$6:$A$1806,Data!$E$6:$E$1806))","v":-257.882080078125},{"$f":"LOOKUP($V212,Data!$A$6:$A$1806,Data!$F$6:$F$1806)","v":0},{"$f":"LOOKUP($V212,Data!$A$6:$A$1806,Data!$G$6:$G$1806)","v":197.5},{"$f":"LOOKUP($V212,Data!$A$6:$A$1806,Data!$H$6:$H$1806)","v":10},{"$f":"LOOKUP($V212,Data!$A$6:$A$1806,Data!$I$6:$I$1806)","v":0},{"$f":"LOOKUP($V212,Data!$A$6:$A$1806,Data!$J$6:$J$1806)","v":-103},{"$f":"LOOKUP($V212,Data!$A$6:$A$1806,Data!$K$6:$K$1806)","v":7630.35},19.1986083984375]
[null,40098.105428240488,{"$f":"LOOKUP(B213,Data!$A$6:$A$1806,Data!B$6:B$1806)","v":59.978000640869141},{"$f":"LOOKUP(B213,Data!$A$6:$A$1806,Data!C$6:C$1806)","v":3736.82177734375},null,null,null,17.5994873046875,20.068291262926614,null,null,0.55220438547493267,3767.324322922263,{"$f":"AVERAGE(D$79:D213)","v":3764.6686179832177},{"$f":"AVERAGE(M$79:M213)","v":3773.5517691204509},3751.8994286349298,{"$f":"AVERAGE(P$79:P213)","v":3715.1778370008528},null,null,null,null,40098.105428240488,{"$f":"LOOKUP($V213,Data!$A$6:$A$1806,Data!$B$6:$B$1806)","v":59.978000640869141},{"$f":"LOOKUP($V213,Data!$A$6:$A$1806,Data!$C$6:$C$1806)","v":3736.82177734375},{"$f":"LOOKUP($V213,Data!$A$6:$A$1806,Data!$D$6:$D$1806)","v":335},{"$f":"IF($Z$1=\"+\",LOOKUP($V213,Data!$A$6:$A$1806,Data!$E$6:$E$1806)*-1,LOOKUP($V213,Data!$A$6:$A$1806,Data!$E$6:$E$1806))","v":-257.882080078125},{"$f":"LOOKUP($V213,Data!$A$6:$A$1806,Data!$F$6:$F$1806)","v":0},{"$f":"LOOKUP($V213,Data!$A$6:$A$1806,Data!$G$6:$G$1806)","v":198},{"$f":"LOOKUP($V213,Data!$A$6:$A$1806,Data!$H$6:$H$1806)","v":10},{"$f":"LOOKUP($V213,Data!$A$6:$A$1806,Data!$I$6:$I$1806)","v":0},{"$f":"LOOKUP($V213,Data!$A$6:$A$1806,Data!$J$6:$J$1806)","v":-103},{"$f":"LOOKUP($V213,Data!$A$6:$A$1806,Data!$K$6:$K$1806)","v":7630.68},17.5994873046875]
[null,40098.105451388634,{"$f":"LOOKUP(B214,Data!$A$6:$A$1806,Data!B$6:B$1806)","v":59.978000640869141},{"$f":"LOOKUP(B214,Data!$A$6:$A$1806,Data!C$6:C$1806)","v":3736.82177734375},null,null,null,17.5994873046875,19.204209877542922,null,null,0.55220438547493267,3767.0124459223543,{"$f":"AVERAGE(D$79:D214)","v":3764.4638618020449},{"$f":"AVERAGE(M$79:M214)","v":3773.5036858616413},3752.4516330204046,{"$f":"AVERAGE(P$79:P214)","v":3715.45393919359},null,null,null,null,40098.105451388634,{"$f":"LOOKUP($V214,Data!$A$6:$A$1806,Data!$B$6:$B$1806)","v":59.978000640869141},{"$f":"LOOKUP($V214,Data!$A$6:$A$1806,Data!$C$6:$C$1806)","v":3736.82177734375},{"$f":"LOOKUP($V214,Data!$A$6:$A$1806,Data!$D$6:$D$1806)","v":335},{"$f":"IF($Z$1=\"+\",LOOKUP($V214,Data!$A$6:$A$1806,Data!$E$6:$E$1806)*-1,LOOKUP($V214,Data!$A$6:$A$1806,Data!$E$6:$E$1806))","v":-257.882080078125},{"$f":"LOOKUP($V214,Data!$A$6:$A$1806,Data!$F$6:$F$1806)","v":0},{"$f":"LOOKUP($V214,Data!$A$6:$A$1806,Data!$G$6:$G$1806)","v":198},{"$f":"LOOKUP($V214,Data!$A$6:$A$1806,Data!$H$6:$H$1806)","v":10},{"$f":"LOOKUP($V214,Data!$A$6:$A$1806,Data!$I$6:$I$1806)","v":0},{"$f":"LOOKUP($V214,Data!$A$6:$A$1806,Data!$J$6:$J$1806)","v":-103},{"$f":"LOOKUP($V214,Data!$A$6:$A$1806,Data!$K$6:$K$1806)","v":7630.68},17.5994873046875]
[null,40098.10547453678,{"$f":"LOOKUP(B215,Data!$A$6:$A$1806,Data!B$6:B$1806)","v":59.976001739501953},{"$f":"LOOKUP(B215,Data!$A$6:$A$1806,Data!C$6:C$1806)","v":3739.94384765625},null,null,null,19.1986083984375,19.202249359856026,null,null,0.55220438547493267,3767.5626897901425,{"$f":"AVERAGE(D$79:D215)","v":3764.2848835966015},{"$f":"AVERAGE(M$79:M215)","v":3773.460320926813},3753.0038374058795,{"$f":"AVERAGE(P$79:P215)","v":3715.7300413863277},null,null,null,null,40098.10547453678,{"$f":"LOOKUP($V215,Data!$A$6:$A$1806,Data!$B$6:$B$1806)","v":59.976001739501953},{"$f":"LOOKUP($V215,Data!$A$6:$A$1806,Data!$C$6:$C$1806)","v":3739.94384765625},{"$f":"LOOKUP($V215,Data!$A$6:$A$1806,Data!$D$6:$D$1806)","v":335},{"$f":"IF($Z$1=\"+\",LOOKUP($V215,Data!$A$6:$A$1806,Data!$E$6:$E$1806)*-1,LOOKUP($V215,Data!$A$6:$A$1806,Data!$E$6:$E$1806))","v":-257.882080078125},{"$f":"LOOKUP($V215,Data!$A$6:$A$1806,Data!$F$6:$F$1806)","v":0},{"$f":"LOOKUP($V215,Data!$A$6:$A$1806,Data!$G$6:$G$1806)","v":198.5},{"$f":"LOOKUP($V215,Data!$A$6:$A$1806,Data!$H$6:$H$1806)","v":10},{"$f":"LOOKUP($V215,Data!$A$6:$A$1806,Data!$I$6:$I$1806)","v":0},{"$f":"LOOKUP($V215,Data!$A$6:$A$1806,Data!$J$6:$J$1806)","v":-103},{"$f":"LOOKUP($V215,Data!$A$6:$A$1806,Data!$K$6:$K$1806)","v":7631.01},19.1986083984375]
[null,40098.105497684926,{"$f":"LOOKUP(B216,Data!$A$6:$A$1806,Data!B$6:B$1806)","v":59.976001739501953},{"$f":"LOOKUP(B216,Data!$A$6:$A$1806,Data!C$6:C$1806)","v":3740.876953125},null,null,null,19.1986083984375,19.20097502335954,null,null,0.55220438547493267,3768.1136198391209,{"$f":"AVERAGE(D$79:D216)","v":3764.1152609120245},{"$f":"AVERAGE(M$79:M216)","v":3773.4215767160326},3753.5560417913543,{"$f":"AVERAGE(P$79:P216)","v":3716.0061435790649},null,null,null,null,40098.105497684926,{"$f":"LOOKUP($V216,Data!$A$6:$A$1806,Data!$B$6:$B$1806)","v":59.976001739501953},{"$f":"LOOKUP($V216,Data!$A$6:$A$1806,Data!$C$6:$C$1806)","v":3740.876953125},{"$f":"LOOKUP($V216,Data!$A$6:$A$1806,Data!$D$6:$D$1806)","v":335},{"$f":"IF($Z$1=\"+\",LOOKUP($V216,Data!$A$6:$A$1806,Data!$E$6:$E$1806)*-1,LOOKUP($V216,Data!$A$6:$A$1806,Data!$E$6:$E$1806))","v":-258.58865356445313},{"$f":"LOOKUP($V216,Data!$A$6:$A$1806,Data!$F$6:$F$1806)","v":0},{"$f":"LOOKUP($V216,Data!$A$6:$A$1806,Data!$G$6:$G$1806)","v":199},{"$f":"LOOKUP($V216,Data!$A$6:$A$1806,Data!$H$6:$H$1806)","v":10},{"$f":"LOOKUP($V216,Data!$A$6:$A$1806,Data!$I$6:$I$1806)","v":0},{"$f":"LOOKUP($V216,Data!$A$6:$A$1806,Data!$J$6:$J$1806)","v":-103},{"$f":"LOOKUP($V216,Data!$A$6:$A$1806,Data!$K$6:$K$1806)","v":7631.34},19.1986083984375]
[null,40098.105520833073,{"$f":"LOOKUP(B217,Data!$A$6:$A$1806,Data!B$6:B$1806)","v":59.976001739501953},{"$f":"LOOKUP(B217,Data!$A$6:$A$1806,Data!C$6:C$1806)","v":3740.876953125},null,null,null,19.1986083984375,19.200146704636825,null,null,0.55220438547493267,3768.6649959058732,{"$f":"AVERAGE(D$79:D217)","v":3763.948078841614},{"$f":"AVERAGE(M$79:M217)","v":3773.3873567102041},3754.1082461768292,{"$f":"AVERAGE(P$79:P217)","v":3716.2822457718025},null,null,null,null,40098.105520833073,{"$f":"LOOKUP($V217,Data!$A$6:$A$1806,Data!$B$6:$B$1806)","v":59.976001739501953},{"$f":"LOOKUP($V217,Data!$A$6:$A$1806,Data!$C$6:$C$1806)","v":3740.876953125},{"$f":"LOOKUP($V217,Data!$A$6:$A$1806,Data!$D$6:$D$1806)","v":335},{"$f":"IF($Z$1=\"+\",LOOKUP($V217,Data!$A$6:$A$1806,Data!$E$6:$E$1806)*-1,LOOKUP($V217,Data!$A$6:$A$1806,Data!$E$6:$E$1806))","v":-258.58865356445313},{"$f":"LOOKUP($V217,Data!$A$6:$A$1806,Data!$F$6:$F$1806)","v":0},{"$f":"LOOKUP($V217,Data!$A$6:$A$1806,Data!$G$6:$G$1806)","v":199},{"$f":"LOOKUP($V217,Data!$A$6:$A$1806,Data!$H$6:$H$1806)","v":10},{"$f":"LOOKUP($V217,Data!$A$6:$A$1806,Data!$I$6:$I$1806)","v":0},{"$f":"LOOKUP($V217,Data!$A$6:$A$1806,Data!$J$6:$J$1806)","v":-103},{"$f":"LOOKUP($V217,Data!$A$6:$A$1806,Data!$K$6:$K$1806)","v":7631.34},19.1986083984375]
[null,40098.105543981219,{"$f":"LOOKUP(B218,Data!$A$6:$A$1806,Data!B$6:B$1806)","v":59.978000640869141},{"$f":"LOOKUP(B218,Data!$A$6:$A$1806,Data!C$6:C$1806)","v":3745.233642578125},null,null,null,17.5994873046875,18.639915914654562,null,null,0.55220438547493267,3768.6569695013659,{"$f":"AVERAGE(D$79:D218)","v":3763.8144042968752},{"$f":"AVERAGE(M$79:M218)","v":3773.3535682301413},3754.660450562304,{"$f":"AVERAGE(P$79:P218)","v":3716.5583479645402},null,null,null,null,40098.105543981219,{"$f":"LOOKUP($V218,Data!$A$6:$A$1806,Data!$B$6:$B$1806)","v":59.978000640869141},{"$f":"LOOKUP($V218,Data!$A$6:$A$1806,Data!$C$6:$C$1806)","v":3745.233642578125},{"$f":"LOOKUP($V218,Data!$A$6:$A$1806,Data!$D$6:$D$1806)","v":335},{"$f":"IF($Z$1=\"+\",LOOKUP($V218,Data!$A$6:$A$1806,Data!$E$6:$E$1806)*-1,LOOKUP($V218,Data!$A$6:$A$1806,Data!$E$6:$E$1806))","v":-258.58865356445313},{"$f":"LOOKUP($V218,Data!$A$6:$A$1806,Data!$F$6:$F$1806)","v":0},{"$f":"LOOKUP($V218,Data!$A$6:$A$1806,Data!$G$6:$G$1806)","v":199.5},{"$f":"LOOKUP($V218,Data!$A$6:$A$1806,Data!$H$6:$H$1806)","v":10},{"$f":"LOOKUP($V218,Data!$A$6:$A$1806,Data!$I$6:$I$1806)","v":0},{"$f":"LOOKUP($V218,Data!$A$6:$A$1806,Data!$J$6:$J$1806)","v":-103},{"$f":"LOOKUP($V218,Data!$A$6:$A$1806,Data!$K$6:$K$1806)","v":7631.67},17.5994873046875]
[null,40098.105567129365,{"$f":"LOOKUP(B219,Data!$A$6:$A$1806,Data!B$6:B$1806)","v":59.979999542236328},{"$f":"LOOKUP(B219,Data!$A$6:$A$1806,Data!C$6:C$1806)","v":3746.60791015625},null,null,null,16.0003662109375,17.716073518353589,null,null,0.55220438547493267,3768.2853314905396,{"$f":"AVERAGE(D$79:D219)","v":3763.6923724235371},{"$f":"AVERAGE(M$79:M219)","v":3773.3176232887258},3755.2126549477789,{"$f":"AVERAGE(P$79:P219)","v":3716.8344501572774},null,null,null,null,40098.105567129365,{"$f":"LOOKUP($V219,Data!$A$6:$A$1806,Data!$B$6:$B$1806)","v":59.979999542236328},{"$f":"LOOKUP($V219,Data!$A$6:$A$1806,Data!$C$6:$C$1806)","v":3746.60791015625},{"$f":"LOOKUP($V219,Data!$A$6:$A$1806,Data!$D$6:$D$1806)","v":335},{"$f":"IF($Z$1=\"+\",LOOKUP($V219,Data!$A$6:$A$1806,Data!$E$6:$E$1806)*-1,LOOKUP($V219,Data!$A$6:$A$1806,Data!$E$6:$E$1806))","v":-258.58865356445313},{"$f":"LOOKUP($V219,Data!$A$6:$A$1806,Data!$F$6:$F$1806)","v":0},{"$f":"LOOKUP($V219,Data!$A$6:$A$1806,Data!$G$6:$G$1806)","v":200},{"$f":"LOOKUP($V219,Data!$A$6:$A$1806,Data!$H$6:$H$1806)","v":10},{"$f":"LOOKUP($V219,Data!$A$6:$A$1806,Data!$I$6:$I$1806)","v":0},{"$f":"LOOKUP($V219,Data!$A$6:$A$1806,Data!$J$6:$J$1806)","v":-103},{"$f":"LOOKUP($V219,Data!$A$6:$A$1806,Data!$K$6:$K$1806)","v":7632},16.0003662109375]
[null,40098.105590277512,{"$f":"LOOKUP(B220,Data!$A$6:$A$1806,Data!B$6:B$1806)","v":59.979999542236328},{"$f":"LOOKUP(B220,Data!$A$6:$A$1806,Data!C$6:C$1806)","v":3746.60791015625},null,null,null,16.0003662109375,17.115575960757958,null,null,0.55220438547493267,3768.2370383184189,{"$f":"AVERAGE(D$79:D220)","v":3763.5720593089791},{"$f":"AVERAGE(M$79:M220)","v":3773.2818445213293},3755.7648593332538,{"$f":"AVERAGE(P$79:P220)","v":3717.1105523500146},null,null,null,null,40098.105590277512,{"$f":"LOOKUP($V220,Data!$A$6:$A$1806,Data!$B$6:$B$1806)","v":59.979999542236328},{"$f":"LOOKUP($V220,Data!$A$6:$A$1806,Data!$C$6:$C$1806)","v":3746.60791015625},{"$f":"LOOKUP($V220,Data!$A$6:$A$1806,Data!$D$6:$D$1806)","v":335},{"$f":"IF($Z$1=\"+\",LOOKUP($V220,Data!$A$6:$A$1806,Data!$E$6:$E$1806)*-1,LOOKUP($V220,Data!$A$6:$A$1806,Data!$E$6:$E$1806))","v":-258.58865356445313},{"$f":"LOOKUP($V220,Data!$A$6:$A$1806,Data!$F$6:$F$1806)","v":0},{"$f":"LOOKUP($V220,Data!$A$6:$A$1806,Data!$G$6:$G$1806)","v":200},{"$f":"LOOKUP($V220,Data!$A$6:$A$1806,Data!$H$6:$H$1806)","v":10},{"$f":"LOOKUP($V220,Data!$A$6:$A$1806,Data!$I$6:$I$1806)","v":0},{"$f":"LOOKUP($V220,Data!$A$6:$A$1806,Data!$J$6:$J$1806)","v":-103},{"$f":"LOOKUP($V220,Data!$A$6:$A$1806,Data!$K$6:$K$1806)","v":7632},16.0003662109375]
[null,40098.105613425658,{"$f":"LOOKUP(B221,Data!$A$6:$A$1806,Data!B$6:B$1806)","v":59.981998443603516},{"$f":"LOOKUP(B221,Data!$A$6:$A$1806,Data!C$6:C$1806)","v":3750.71630859375},null,null,null,14.4012451171875,16.165560165508296,null,null,0.55220438547493267,3767.8392269086439,{"$f":"AVERAGE(D$79:D221)","v":3763.4821589543271},{"$f":"AVERAGE(M$79:M221)","v":3773.2437842583031},3756.3170637187286,{"$f":"AVERAGE(P$79:P221)","v":3717.3866545427518},null,null,null,null,40098.105613425658,{"$f":"LOOKUP($V221,Data!$A$6:$A$1806,Data!$B$6:$B$1806)","v":59.981998443603516},{"$f":"LOOKUP($V221,Data!$A$6:$A$1806,Data!$C$6:$C$1806)","v":3750.71630859375},{"$f":"LOOKUP($V221,Data!$A$6:$A$1806,Data!$D$6:$D$1806)","v":335},{"$f":"IF($Z$1=\"+\",LOOKUP($V221,Data!$A$6:$A$1806,Data!$E$6:$E$1806)*-1,LOOKUP($V221,Data!$A$6:$A$1806,Data!$E$6:$E$1806))","v":-258.58865356445313},{"$f":"LOOKUP($V221,Data!$A$6:$A$1806,Data!$F$6:$F$1806)","v":0},{"$f":"LOOKUP($V221,Data!$A$6:$A$1806,Data!$G$6:$G$1806)","v":200.5},{"$f":"LOOKUP($V221,Data!$A$6:$A$1806,Data!$H$6:$H$1806)","v":10},{"$f":"LOOKUP($V221,Data!$A$6:$A$1806,Data!$I$6:$I$1806)","v":0},{"$f":"LOOKUP($V221,Data!$A$6:$A$1806,Data!$J$6:$J$1806)","v":-103},{"$f":"LOOKUP($V221,Data!$A$6:$A$1806,Data!$K$6:$K$1806)","v":7632.33},14.4012451171875]
[null,40098.105636573804,{"$f":"LOOKUP(B222,Data!$A$6:$A$1806,Data!B$6:B$1806)","v":59.979999542236328},{"$f":"LOOKUP(B222,Data!$A$6:$A$1806,Data!C$6:C$1806)","v":3751.5576171875},null,null,null,16.0003662109375,16.10774228140852,null,null,0.55220438547493267,3768.3336134100191,{"$f":"AVERAGE(D$79:D222)","v":3763.3993496365019},{"$f":"AVERAGE(M$79:M222)","v":3773.2096858496348},3756.8692681042035,{"$f":"AVERAGE(P$79:P222)","v":3717.662756735489},null,null,null,null,40098.105636573804,{"$f":"LOOKUP($V222,Data!$A$6:$A$1806,Data!$B$6:$B$1806)","v":59.979999542236328},{"$f":"LOOKUP($V222,Data!$A$6:$A$1806,Data!$C$6:$C$1806)","v":3751.5576171875},{"$f":"LOOKUP($V222,Data!$A$6:$A$1806,Data!$D$6:$D$1806)","v":335},{"$f":"IF($Z$1=\"+\",LOOKUP($V222,Data!$A$6:$A$1806,Data!$E$6:$E$1806)*-1,LOOKUP($V222,Data!$A$6:$A$1806,Data!$E$6:$E$1806))","v":-258.58865356445313},{"$f":"LOOKUP($V222,Data!$A$6:$A$1806,Data!$F$6:$F$1806)","v":0},{"$f":"LOOKUP($V222,Data!$A$6:$A$1806,Data!$G$6:$G$1806)","v":201},{"$f":"LOOKUP($V222,Data!$A$6:$A$1806,Data!$H$6:$H$1806)","v":10},{"$f":"LOOKUP($V222,Data!$A$6:$A$1806,Data!$I$6:$I$1806)","v":0},{"$f":"LOOKUP($V222,Data!$A$6:$A$1806,Data!$J$6:$J$1806)","v":-103},{"$f":"LOOKUP($V222,Data!$A$6:$A$1806,Data!$K$6:$K$1806)","v":7632.66},16.0003662109375]
[null,40098.10565972195,{"$f":"LOOKUP(B223,Data!$A$6:$A$1806,Data!B$6:B$1806)","v":59.979999542236328},{"$f":"LOOKUP(B223,Data!$A$6:$A$1806,Data!C$6:C$1806)","v":3751.5576171875},null,null,null,16.0003662109375,16.070160656743663,null,null,0.55220438547493267,3768.8482361708293,{"$f":"AVERAGE(D$79:D223)","v":3763.3176825161636},{"$f":"AVERAGE(M$79:M223)","v":3773.1796068863323},3757.4214724896783,{"$f":"AVERAGE(P$79:P223)","v":3717.9388589282266},null,null,null,null,40098.10565972195,{"$f":"LOOKUP($V223,Data!$A$6:$A$1806,Data!$B$6:$B$1806)","v":59.979999542236328},{"$f":"LOOKUP($V223,Data!$A$6:$A$1806,Data!$C$6:$C$1806)","v":3751.5576171875},{"$f":"LOOKUP($V223,Data!$A$6:$A$1806,Data!$D$6:$D$1806)","v":335},{"$f":"IF($Z$1=\"+\",LOOKUP($V223,Data!$A$6:$A$1806,Data!$E$6:$E$1806)*-1,LOOKUP($V223,Data!$A$6:$A$1806,Data!$E$6:$E$1806))","v":-258.58865356445313},{"$f":"LOOKUP($V223,Data!$A$6:$A$1806,Data!$F$6:$F$1806)","v":0},{"$f":"LOOKUP($V223,Data!$A$6:$A$1806,Data!$G$6:$G$1806)","v":201},{"$f":"LOOKUP($V223,Data!$A$6:$A$1806,Data!$H$6:$H$1806)","v":10},{"$f":"LOOKUP($V223,Data!$A$6:$A$1806,Data!$I$6:$I$1806)","v":0},{"$f":"LOOKUP($V223,Data!$A$6:$A$1806,Data!$J$6:$J$1806)","v":-103},{"$f":"LOOKUP($V223,Data!$A$6:$A$1806,Data!$K$6:$K$1806)","v":7632.66},16.0003662109375]
[null,40098.105682870097,{"$f":"LOOKUP(B224,Data!$A$6:$A$1806,Data!B$6:B$1806)","v":59.979000091552734},{"$f":"LOOKUP(B224,Data!$A$6:$A$1806,Data!C$6:C$1806)","v":3755.5986328125},null,null,null,16.7999267578125,16.325578792117756,null,null,0.55220438547493267,3769.6558586916781,{"$f":"AVERAGE(D$79:D224)","v":3763.2648123127142},{"$f":"AVERAGE(M$79:M224)","v":3773.1554716247251},3757.9736768751532,{"$f":"AVERAGE(P$79:P224)","v":3718.2149611209638},null,null,null,null,40098.105682870097,{"$f":"LOOKUP($V224,Data!$A$6:$A$1806,Data!$B$6:$B$1806)","v":59.979000091552734},{"$f":"LOOKUP($V224,Data!$A$6:$A$1806,Data!$C$6:$C$1806)","v":3755.5986328125},{"$f":"LOOKUP($V224,Data!$A$6:$A$1806,Data!$D$6:$D$1806)","v":335},{"$f":"IF($Z$1=\"+\",LOOKUP($V224,Data!$A$6:$A$1806,Data!$E$6:$E$1806)*-1,LOOKUP($V224,Data!$A$6:$A$1806,Data!$E$6:$E$1806))","v":-261.90615844726562},{"$f":"LOOKUP($V224,Data!$A$6:$A$1806,Data!$F$6:$F$1806)","v":0},{"$f":"LOOKUP($V224,Data!$A$6:$A$1806,Data!$G$6:$G$1806)","v":201.5},{"$f":"LOOKUP($V224,Data!$A$6:$A$1806,Data!$H$6:$H$1806)","v":10},{"$f":"LOOKUP($V224,Data!$A$6:$A$1806,Data!$I$6:$I$1806)","v":0},{"$f":"LOOKUP($V224,Data!$A$6:$A$1806,Data!$J$6:$J$1806)","v":-103},{"$f":"LOOKUP($V224,Data!$A$6:$A$1806,Data!$K$6:$K$1806)","v":7632.99},16.7999267578125]
[null,40098.105706018243,{"$f":"LOOKUP(B225,Data!$A$6:$A$1806,Data!B$6:B$1806)","v":59.979000091552734},{"$f":"LOOKUP(B225,Data!$A$6:$A$1806,Data!C$6:C$1806)","v":3756.4072265625},null,null,null,16.7999267578125,16.491600580110919,null,null,0.55220438547493267,3770.374084865146,{"$f":"AVERAGE(D$79:D225)","v":3763.2181620695155},{"$f":"AVERAGE(M$79:M225)","v":3773.1365506263605},3758.525881260628,{"$f":"AVERAGE(P$79:P225)","v":3718.4910633137015},null,null,null,null,40098.105706018243,{"$f":"LOOKUP($V225,Data!$A$6:$A$1806,Data!$B$6:$B$1806)","v":59.979000091552734},{"$f":"LOOKUP($V225,Data!$A$6:$A$1806,Data!$C$6:$C$1806)","v":3756.4072265625},{"$f":"LOOKUP($V225,Data!$A$6:$A$1806,Data!$D$6:$D$1806)","v":335},{"$f":"IF($Z$1=\"+\",LOOKUP($V225,Data!$A$6:$A$1806,Data!$E$6:$E$1806)*-1,LOOKUP($V225,Data!$A$6:$A$1806,Data!$E$6:$E$1806))","v":-261.90615844726562},{"$f":"LOOKUP($V225,Data!$A$6:$A$1806,Data!$F$6:$F$1806)","v":0},{"$f":"LOOKUP($V225,Data!$A$6:$A$1806,Data!$G$6:$G$1806)","v":202},{"$f":"LOOKUP($V225,Data!$A$6:$A$1806,Data!$H$6:$H$1806)","v":10},{"$f":"LOOKUP($V225,Data!$A$6:$A$1806,Data!$I$6:$I$1806)","v":0},{"$f":"LOOKUP($V225,Data!$A$6:$A$1806,Data!$J$6:$J$1806)","v":-103},{"$f":"LOOKUP($V225,Data!$A$6:$A$1806,Data!$K$6:$K$1806)","v":7633.32},16.7999267578125]
[null,40098.105729166389,{"$f":"LOOKUP(B226,Data!$A$6:$A$1806,Data!B$6:B$1806)","v":59.979000091552734},{"$f":"LOOKUP(B226,Data!$A$6:$A$1806,Data!C$6:C$1806)","v":3756.4072265625},null,null,null,16.7999267578125,16.599514742306475,null,null,0.55220438547493267,3771.0342034128162,{"$f":"AVERAGE(D$79:D226)","v":3763.1721422350083},{"$f":"AVERAGE(M$79:M226)","v":3773.1223455776203},3759.0780856461029,{"$f":"AVERAGE(P$79:P226)","v":3718.7671655064391},null,null,null,null,40098.105729166389,{"$f":"LOOKUP($V226,Data!$A$6:$A$1806,Data!$B$6:$B$1806)","v":59.979000091552734},{"$f":"LOOKUP($V226,Data!$A$6:$A$1806,Data!$C$6:$C$1806)","v":3756.4072265625},{"$f":"LOOKUP($V226,Data!$A$6:$A$1806,Data!$D$6:$D$1806)","v":335},{"$f":"IF($Z$1=\"+\",LOOKUP($V226,Data!$A$6:$A$1806,Data!$E$6:$E$1806)*-1,LOOKUP($V226,Data!$A$6:$A$1806,Data!$E$6:$E$1806))","v":-261.90615844726562},{"$f":"LOOKUP($V226,Data!$A$6:$A$1806,Data!$F$6:$F$1806)","v":0},{"$f":"LOOKUP($V226,Data!$A$6:$A$1806,Data!$G$6:$G$1806)","v":202},{"$f":"LOOKUP($V226,Data!$A$6:$A$1806,Data!$H$6:$H$1806)","v":10},{"$f":"LOOKUP($V226,Data!$A$6:$A$1806,Data!$I$6:$I$1806)","v":0},{"$f":"LOOKUP($V226,Data!$A$6:$A$1806,Data!$J$6:$J$1806)","v":-103},{"$f":"LOOKUP($V226,Data!$A$6:$A$1806,Data!$K$6:$K$1806)","v":7633.32},16.7999267578125]
[null,40098.105752314535,{"$f":"LOOKUP(B227,Data!$A$6:$A$1806,Data!B$6:B$1806)","v":59.983001708984375},{"$f":"LOOKUP(B227,Data!$A$6:$A$1806,Data!C$6:C$1806)","v":3760.4052734375},null,null,null,13.5986328125,15.549206066874209,null,null,0.55220438547493267,3770.5360991228586,{"$f":"AVERAGE(D$79:D227)","v":3763.1535726457632},{"$f":"AVERAGE(M$79:M227)","v":3773.1049882188631},3759.6302900315777,{"$f":"AVERAGE(P$79:P227)","v":3719.0432676991763},null,null,null,null,40098.105752314535,{"$f":"LOOKUP($V227,Data!$A$6:$A$1806,Data!$B$6:$B$1806)","v":59.983001708984375},{"$f":"LOOKUP($V227,Data!$A$6:$A$1806,Data!$C$6:$C$1806)","v":3760.4052734375},{"$f":"LOOKUP($V227,Data!$A$6:$A$1806,Data!$D$6:$D$1806)","v":335},{"$f":"IF($Z$1=\"+\",LOOKUP($V227,Data!$A$6:$A$1806,Data!$E$6:$E$1806)*-1,LOOKUP($V227,Data!$A$6:$A$1806,Data!$E$6:$E$1806))","v":-261.90615844726562},{"$f":"LOOKUP($V227,Data!$A$6:$A$1806,Data!$F$6:$F$1806)","v":0},{"$f":"LOOKUP($V227,Data!$A$6:$A$1806,Data!$G$6:$G$1806)","v":202.5},{"$f":"LOOKUP($V227,Data!$A$6:$A$1806,Data!$H$6:$H$1806)","v":10},{"$f":"LOOKUP($V227,Data!$A$6:$A$1806,Data!$I$6:$I$1806)","v":0},{"$f":"LOOKUP($V227,Data!$A$6:$A$1806,Data!$J$6:$J$1806)","v":-103},{"$f":"LOOKUP($V227,Data!$A$6:$A$1806,Data!$K$6:$K$1806)","v":7633.65},13.5986328125]
[null,40098.105775462682,{"$f":"LOOKUP(B228,Data!$A$6:$A$1806,Data!B$6:B$1806)","v":59.984001159667969},{"$f":"LOOKUP(B228,Data!$A$6:$A$1806,Data!C$6:C$1806)","v":3760.982177734375},null,null,null,12.799072265625,14.586659236436986,null,null,0.55220438547493267,3770.1257566778963,{"$f":"AVERAGE(D$79:D228)","v":3763.1390966796876},{"$f":"AVERAGE(M$79:M228)","v":3773.085126675257},3760.1824944170526,{"$f":"AVERAGE(P$79:P228)","v":3719.319369891914},null,null,null,null,40098.105775462682,{"$f":"LOOKUP($V228,Data!$A$6:$A$1806,Data!$B$6:$B$1806)","v":59.984001159667969},{"$f":"LOOKUP($V228,Data!$A$6:$A$1806,Data!$C$6:$C$1806)","v":3760.982177734375},{"$f":"LOOKUP($V228,Data!$A$6:$A$1806,Data!$D$6:$D$1806)","v":335},{"$f":"IF($Z$1=\"+\",LOOKUP($V228,Data!$A$6:$A$1806,Data!$E$6:$E$1806)*-1,LOOKUP($V228,Data!$A$6:$A$1806,Data!$E$6:$E$1806))","v":-261.90615844726562},{"$f":"LOOKUP($V228,Data!$A$6:$A$1806,Data!$F$6:$F$1806)","v":0},{"$f":"LOOKUP($V228,Data!$A$6:$A$1806,Data!$G$6:$G$1806)","v":203},{"$f":"LOOKUP($V228,Data!$A$6:$A$1806,Data!$H$6:$H$1806)","v":10},{"$f":"LOOKUP($V228,Data!$A$6:$A$1806,Data!$I$6:$I$1806)","v":0},{"$f":"LOOKUP($V228,Data!$A$6:$A$1806,Data!$J$6:$J$1806)","v":-103},{"$f":"LOOKUP($V228,Data!$A$6:$A$1806,Data!$K$6:$K$1806)","v":7633.98},12.799072265625]
[null,40098.105798610828,{"$f":"LOOKUP(B229,Data!$A$6:$A$1806,Data!B$6:B$1806)","v":59.984001159667969},{"$f":"LOOKUP(B229,Data!$A$6:$A$1806,Data!C$6:C$1806)","v":3760.982177734375},null,null,null,12.799072265625,13.961003796652792,null,null,0.55220438547493267,3770.052305623587,{"$f":"AVERAGE(D$79:D229)","v":3763.1248124482618},{"$f":"AVERAGE(M$79:M229)","v":3773.0650417676297},3760.7346988025274,{"$f":"AVERAGE(P$79:P229)","v":3719.5954720846516},null,null,null,null,40098.105798610828,{"$f":"LOOKUP($V229,Data!$A$6:$A$1806,Data!$B$6:$B$1806)","v":59.984001159667969},{"$f":"LOOKUP($V229,Data!$A$6:$A$1806,Data!$C$6:$C$1806)","v":3760.982177734375},{"$f":"LOOKUP($V229,Data!$A$6:$A$1806,Data!$D$6:$D$1806)","v":335},{"$f":"IF($Z$1=\"+\",LOOKUP($V229,Data!$A$6:$A$1806,Data!$E$6:$E$1806)*-1,LOOKUP($V229,Data!$A$6:$A$1806,Data!$E$6:$E$1806))","v":-261.90615844726562},{"$f":"LOOKUP($V229,Data!$A$6:$A$1806,Data!$F$6:$F$1806)","v":0},{"$f":"LOOKUP($V229,Data!$A$6:$A$1806,Data!$G$6:$G$1806)","v":203},{"$f":"LOOKUP($V229,Data!$A$6:$A$1806,Data!$H$6:$H$1806)","v":10},{"$f":"LOOKUP($V229,Data!$A$6:$A$1806,Data!$I$6:$I$1806)","v":0},{"$f":"LOOKUP($V229,Data!$A$6:$A$1806,Data!$J$6:$J$1806)","v":-103},{"$f":"LOOKUP($V229,Data!$A$6:$A$1806,Data!$K$6:$K$1806)","v":7633.98},12.799072265625]
[null,40098.105821758974,{"$f":"LOOKUP(B230,Data!$A$6:$A$1806,Data!B$6:B$1806)","v":59.987998962402344},{"$f":"LOOKUP(B230,Data!$A$6:$A$1806,Data!C$6:C$1806)","v":3762.7373046875},null,null,null,9.600830078125,12.434942995168065,null,null,0.55220438547493267,3769.0784492075773,{"$f":"AVERAGE(D$79:D230)","v":3763.1222630550988},{"$f":"AVERAGE(M$79:M230)","v":3773.038814184998},3761.2869031880023,{"$f":"AVERAGE(P$79:P230)","v":3719.8715742773888},null,null,null,null,40098.105821758974,{"$f":"LOOKUP($V230,Data!$A$6:$A$1806,Data!$B$6:$B$1806)","v":59.987998962402344},{"$f":"LOOKUP($V230,Data!$A$6:$A$1806,Data!$C$6:$C$1806)","v":3762.7373046875},{"$f":"LOOKUP($V230,Data!$A$6:$A$1806,Data!$D$6:$D$1806)","v":335},{"$f":"IF($Z$1=\"+\",LOOKUP($V230,Data!$A$6:$A$1806,Data!$E$6:$E$1806)*-1,LOOKUP($V230,Data!$A$6:$A$1806,Data!$E$6:$E$1806))","v":-261.90615844726562},{"$f":"LOOKUP($V230,Data!$A$6:$A$1806,Data!$F$6:$F$1806)","v":0},{"$f":"LOOKUP($V230,Data!$A$6:$A$1806,Data!$G$6:$G$1806)","v":203.5},{"$f":"LOOKUP($V230,Data!$A$6:$A$1806,Data!$H$6:$H$1806)","v":10},{"$f":"LOOKUP($V230,Data!$A$6:$A$1806,Data!$I$6:$I$1806)","v":0},{"$f":"LOOKUP($V230,Data!$A$6:$A$1806,Data!$J$6:$J$1806)","v":-103},{"$f":"LOOKUP($V230,Data!$A$6:$A$1806,Data!$K$6:$K$1806)","v":7634.31},9.600830078125]
[null,40098.105844907121,{"$f":"LOOKUP(B231,Data!$A$6:$A$1806,Data!B$6:B$1806)","v":59.98699951171875},{"$f":"LOOKUP(B231,Data!$A$6:$A$1806,Data!C$6:C$1806)","v":3763.212158203125},null,null,null,10.400390625,11.722849665609242,null,null,0.55220438547493267,3768.9185602634934,{"$f":"AVERAGE(D$79:D231)","v":3763.1228506050857},{"$f":"AVERAGE(M$79:M231)","v":3773.011884420805},3761.8391075734771,{"$f":"AVERAGE(P$79:P231)","v":3720.1476764701265},null,null,null,null,40098.105844907121,{"$f":"LOOKUP($V231,Data!$A$6:$A$1806,Data!$B$6:$B$1806)","v":59.98699951171875},{"$f":"LOOKUP($V231,Data!$A$6:$A$1806,Data!$C$6:$C$1806)","v":3763.212158203125},{"$f":"LOOKUP($V231,Data!$A$6:$A$1806,Data!$D$6:$D$1806)","v":335},{"$f":"IF($Z$1=\"+\",LOOKUP($V231,Data!$A$6:$A$1806,Data!$E$6:$E$1806)*-1,LOOKUP($V231,Data!$A$6:$A$1806,Data!$E$6:$E$1806))","v":-256.747802734375},{"$f":"LOOKUP($V231,Data!$A$6:$A$1806,Data!$F$6:$F$1806)","v":0},{"$f":"LOOKUP($V231,Data!$A$6:$A$1806,Data!$G$6:$G$1806)","v":204},{"$f":"LOOKUP($V231,Data!$A$6:$A$1806,Data!$H$6:$H$1806)","v":10},{"$f":"LOOKUP($V231,Data!$A$6:$A$1806,Data!$I$6:$I$1806)","v":0},{"$f":"LOOKUP($V231,Data!$A$6:$A$1806,Data!$J$6:$J$1806)","v":-103},{"$f":"LOOKUP($V231,Data!$A$6:$A$1806,Data!$K$6:$K$1806)","v":7634.64},10.400390625]
[null,40098.105868055267,{"$f":"LOOKUP(B232,Data!$A$6:$A$1806,Data!B$6:B$1806)","v":59.98699951171875},{"$f":"LOOKUP(B232,Data!$A$6:$A$1806,Data!C$6:C$1806)","v":3763.212158203125},null,null,null,10.400390625,11.259989001396008,null,null,0.55220438547493267,3769.0079039847551,{"$f":"AVERAGE(D$79:D232)","v":3763.1234305245534},{"$f":"AVERAGE(M$79:M232)","v":3772.9858845478439},3762.391311958952,{"$f":"AVERAGE(P$79:P232)","v":3720.4237786628637},null,null,null,null,40098.105868055267,{"$f":"LOOKUP($V232,Data!$A$6:$A$1806,Data!$B$6:$B$1806)","v":59.98699951171875},{"$f":"LOOKUP($V232,Data!$A$6:$A$1806,Data!$C$6:$C$1806)","v":3763.212158203125},{"$f":"LOOKUP($V232,Data!$A$6:$A$1806,Data!$D$6:$D$1806)","v":335},{"$f":"IF($Z$1=\"+\",LOOKUP($V232,Data!$A$6:$A$1806,Data!$E$6:$E$1806)*-1,LOOKUP($V232,Data!$A$6:$A$1806,Data!$E$6:$E$1806))","v":-256.747802734375},{"$f":"LOOKUP($V232,Data!$A$6:$A$1806,Data!$F$6:$F$1806)","v":0},{"$f":"LOOKUP($V232,Data!$A$6:$A$1806,Data!$G$6:$G$1806)","v":204},{"$f":"LOOKUP($V232,Data!$A$6:$A$1806,Data!$H$6:$H$1806)","v":10},{"$f":"LOOKUP($V232,Data!$A$6:$A$1806,Data!$I$6:$I$1806)","v":0},{"$f":"LOOKUP($V232,Data!$A$6:$A$1806,Data!$J$6:$J$1806)","v":-103},{"$f":"LOOKUP($V232,Data!$A$6:$A$1806,Data!$K$6:$K$1806)","v":7634.64},10.400390625]
[null,40098.105891203413,{"$f":"LOOKUP(B233,Data!$A$6:$A$1806,Data!B$6:B$1806)","v":59.98699951171875},{"$f":"LOOKUP(B233,Data!$A$6:$A$1806,Data!C$6:C$1806)","v":3766.085205078125},null,null,null,10.400390625,10.959129569657405,null,null,0.55220438547493267,3769.2592489384915,{"$f":"AVERAGE(D$79:D233)","v":3763.1425387474796},{"$f":"AVERAGE(M$79:M233)","v":3772.9618417374609},3762.9435163444268,{"$f":"AVERAGE(P$79:P233)","v":3720.6998808556009},null,null,null,null,40098.105891203413,{"$f":"LOOKUP($V233,Data!$A$6:$A$1806,Data!$B$6:$B$1806)","v":59.98699951171875},{"$f":"LOOKUP($V233,Data!$A$6:$A$1806,Data!$C$6:$C$1806)","v":3766.085205078125},{"$f":"LOOKUP($V233,Data!$A$6:$A$1806,Data!$D$6:$D$1806)","v":335},{"$f":"IF($Z$1=\"+\",LOOKUP($V233,Data!$A$6:$A$1806,Data!$E$6:$E$1806)*-1,LOOKUP($V233,Data!$A$6:$A$1806,Data!$E$6:$E$1806))","v":-256.747802734375},{"$f":"LOOKUP($V233,Data!$A$6:$A$1806,Data!$F$6:$F$1806)","v":0},{"$f":"LOOKUP($V233,Data!$A$6:$A$1806,Data!$G$6:$G$1806)","v":204.5},{"$f":"LOOKUP($V233,Data!$A$6:$A$1806,Data!$H$6:$H$1806)","v":10},{"$f":"LOOKUP($V233,Data!$A$6:$A$1806,Data!$I$6:$I$1806)","v":0},{"$f":"LOOKUP($V233,Data!$A$6:$A$1806,Data!$J$6:$J$1806)","v":-103},{"$f":"LOOKUP($V233,Data!$A$6:$A$1806,Data!$K$6:$K$1806)","v":7634.97},10.400390625]
[null,40098.105914351559,{"$f":"LOOKUP(B234,Data!$A$6:$A$1806,Data!B$6:B$1806)","v":59.993000030517578},{"$f":"LOOKUP(B234,Data!$A$6:$A$1806,Data!C$6:C$1806)","v":3766.43310546875},null,null,null,5.5999755859375,9.0834256753554374,null,null,0.55220438547493267,3767.9357494296646,{"$f":"AVERAGE(D$79:D234)","v":3763.1636321238984},{"$f":"AVERAGE(M$79:M234)","v":3772.9296231970261},3763.4957207299017,{"$f":"AVERAGE(P$79:P234)","v":3720.9759830483385},null,null,null,null,40098.105914351559,{"$f":"LOOKUP($V234,Data!$A$6:$A$1806,Data!$B$6:$B$1806)","v":59.993000030517578},{"$f":"LOOKUP($V234,Data!$A$6:$A$1806,Data!$C$6:$C$1806)","v":3766.43310546875},{"$f":"LOOKUP($V234,Data!$A$6:$A$1806,Data!$D$6:$D$1806)","v":335},{"$f":"IF($Z$1=\"+\",LOOKUP($V234,Data!$A$6:$A$1806,Data!$E$6:$E$1806)*-1,LOOKUP($V234,Data!$A$6:$A$1806,Data!$E$6:$E$1806))","v":-256.747802734375},{"$f":"LOOKUP($V234,Data!$A$6:$A$1806,Data!$F$6:$F$1806)","v":0},{"$f":"LOOKUP($V234,Data!$A$6:$A$1806,Data!$G$6:$G$1806)","v":205},{"$f":"LOOKUP($V234,Data!$A$6:$A$1806,Data!$H$6:$H$1806)","v":10},{"$f":"LOOKUP($V234,Data!$A$6:$A$1806,Data!$I$6:$I$1806)","v":0},{"$f":"LOOKUP($V234,Data!$A$6:$A$1806,Data!$J$6:$J$1806)","v":-103},{"$f":"LOOKUP($V234,Data!$A$6:$A$1806,Data!$K$6:$K$1806)","v":7635.3},5.5999755859375]
[null,40098.105937499706,{"$f":"LOOKUP(B235,Data!$A$6:$A$1806,Data!B$6:B$1806)","v":59.993000030517578},{"$f":"LOOKUP(B235,Data!$A$6:$A$1806,Data!C$6:C$1806)","v":3766.43310546875},null,null,null,5.5999755859375,{"$f":"L$13*H235+(1-L$13)*I234","v":7.8642181440591594},null,null,0.55220438547493267,3767.268746283843,{"$f":"AVERAGE(D$79:D235)","v":3763.1844567948847},{"$f":"AVERAGE(M$79:M235)","v":3772.8935666561779},3764.0479251153765,{"$f":"AVERAGE(P$79:P235)","v":3721.2520852410757},null,null,null,null,40098.105937499706,{"$f":"LOOKUP($V235,Data!$A$6:$A$1806,Data!$B$6:$B$1806)","v":59.993000030517578},{"$f":"LOOKUP($V235,Data!$A$6:$A$1806,Data!$C$6:$C$1806)","v":3766.43310546875},{"$f":"LOOKUP($V235,Data!$A$6:$A$1806,Data!$D$6:$D$1806)","v":335},{"$f":"IF($Z$1=\"+\",LOOKUP($V235,Data!$A$6:$A$1806,Data!$E$6:$E$1806)*-1,LOOKUP($V235,Data!$A$6:$A$1806,Data!$E$6:$E$1806))","v":-256.747802734375},{"$f":"LOOKUP($V235,Data!$A$6:$A$1806,Data!$F$6:$F$1806)","v":0},{"$f":"LOOKUP($V235,Data!$A$6:$A$1806,Data!$G$6:$G$1806)","v":205},{"$f":"LOOKUP($V235,Data!$A$6:$A$1806,Data!$H$6:$H$1806)","v":10},{"$f":"LOOKUP($V235,Data!$A$6:$A$1806,Data!$I$6:$I$1806)","v":0},{"$f":"LOOKUP($V235,Data!$A$6:$A$1806,Data!$J$6:$J$1806)","v":-103},{"$f":"LOOKUP($V235,Data!$A$6:$A$1806,Data!$K$6:$K$1806)","v":7635.3},5.5999755859375]
[null,40098.105960647852,{"$f":"LOOKUP(B236,Data!$A$6:$A$1806,Data!B$6:B$1806)","v":59.992000579833984},{"$f":"LOOKUP(B236,Data!$A$6:$A$1806,Data!C$6:C$1806)","v":3767.79248046875},null,null,null,{"$f":"(IF((C236-L$2)>0,((C236-L$2-L$5)/((L$4*L$2)-L$5)*L$3*-1),((C236-L$2+L$5)/((L$4*L$2)-L$5)*L$3*-1)))","v":6.3995361328125},7.3515794401228289,null,null,0.55220438547493267,3767.3083119653816,{"$f":"AVERAGE(D$79:D236)","v":3763.2136215016812},{"$f":"AVERAGE(M$79:M236)","v":3772.8582169429451},3764.6001295008514,{"$f":"AVERAGE(P$79:P236)","v":3721.5281874338129},null,null,null,null,40098.105960647852,{"$f":"LOOKUP($V236,Data!$A$6:$A$1806,Data!$B$6:$B$1806)","v":59.992000579833984},{"$f":"LOOKUP($V236,Data!$A$6:$A$1806,Data!$C$6:$C$1806)","v":3767.79248046875},{"$f":"LOOKUP($V236,Data!$A$6:$A$1806,Data!$D$6:$D$1806)","v":335},{"$f":"IF($Z$1=\"+\",LOOKUP($V236,Data!$A$6:$A$1806,Data!$E$6:$E$1806)*-1,LOOKUP($V236,Data!$A$6:$A$1806,Data!$E$6:$E$1806))","v":-256.747802734375},{"$f":"LOOKUP($V236,Data!$A$6:$A$1806,Data!$F$6:$F$1806)","v":0},{"$f":"LOOKUP($V236,Data!$A$6:$A$1806,Data!$G$6:$G$1806)","v":205.5},{"$f":"LOOKUP($V236,Data!$A$6:$A$1806,Data!$H$6:$H$1806)","v":10},{"$f":"LOOKUP($V236,Data!$A$6:$A$1806,Data!$I$6:$I$1806)","v":0},{"$f":"LOOKUP($V236,Data!$A$6:$A$1806,Data!$J$6:$J$1806)","v":-103},{"$f":"LOOKUP($V236,Data!$A$6:$A$1806,Data!$K$6:$K$1806)","v":7635.63},{"$f":"(IF((W236-$L$2)>0,((W236-$L$2-$L$5)/(($L$4*$L$2)-$L$5)*$L$3*-1),((W236-$L$2+$L$5)/(($L$4*$L$2)-$L$5)*$L$3*-1)))","v":6.3995361328125}]
[null,40098.105983795998,{"$f":"LOOKUP(B237,Data!$A$6:$A$1806,Data!B$6:B$1806)","v":59.988998413085937},{"$f":"LOOKUP(B237,Data!$A$6:$A$1806,Data!C$6:C$1806)","v":3768.633544921875},null,null,null,8.80126953125,7.8589709720173389,null,null,0.55220438547493267,3768.3679078827508,{"$f":"AVERAGE(D$79:D237)","v":3763.2477090703615},{"$f":"AVERAGE(M$79:M237)","v":3772.8299760054601},3765.1523338863262,{"$f":"AVERAGE(P$79:P237)","v":3721.8042896265506},null,null,null,null,40098.105983795998,{"$f":"LOOKUP($V237,Data!$A$6:$A$1806,Data!$B$6:$B$1806)","v":59.988998413085937},{"$f":"LOOKUP($V237,Data!$A$6:$A$1806,Data!$C$6:$C$1806)","v":3768.633544921875},{"$f":"LOOKUP($V237,Data!$A$6:$A$1806,Data!$D$6:$D$1806)","v":335},{"$f":"IF($Z$1=\"+\",LOOKUP($V237,Data!$A$6:$A$1806,Data!$E$6:$E$1806)*-1,LOOKUP($V237,Data!$A$6:$A$1806,Data!$E$6:$E$1806))","v":-256.747802734375},{"$f":"LOOKUP($V237,Data!$A$6:$A$1806,Data!$F$6:$F$1806)","v":0},{"$f":"LOOKUP($V237,Data!$A$6:$A$1806,Data!$G$6:$G$1806)","v":206},{"$f":"LOOKUP($V237,Data!$A$6:$A$1806,Data!$H$6:$H$1806)","v":10},{"$f":"LOOKUP($V237,Data!$A$6:$A$1806,Data!$I$6:$I$1806)","v":0},{"$f":"LOOKUP($V237,Data!$A$6:$A$1806,Data!$J$6:$J$1806)","v":-103},{"$f":"LOOKUP($V237,Data!$A$6:$A$1806,Data!$K$6:$K$1806)","v":7635.96},8.80126953125]
[null,{"$f":"B237+TIME(0,0,$B$1)","v":40098.106006944145},{"$f":"LOOKUP(B238,Data!$A$6:$A$1806,Data!B$6:B$1806)","v":59.988998413085937},{"$f":"LOOKUP(B238,Data!$A$6:$A$1806,Data!C$6:C$1806)","v":3768.633544921875},null,null,null,8.80126953125,8.1887754677487692,null,null,0.55220438547493267,3769.2499167639571,{"$f":"AVERAGE(D$79:D238)","v":3763.2813705444337},{"$f":"AVERAGE(M$79:M238)","v":3772.8076006352007},3765.7045382718011,{"$f":"AVERAGE(P$79:P238)","v":3722.0803918192878},null,null,null,null,40098.106006944145,{"$f":"LOOKUP($V238,Data!$A$6:$A$1806,Data!$B$6:$B$1806)","v":59.988998413085937},{"$f":"LOOKUP($V238,Data!$A$6:$A$1806,Data!$C$6:$C$1806)","v":3768.633544921875},{"$f":"LOOKUP($V238,Data!$A$6:$A$1806,Data!$D$6:$D$1806)","v":335},{"$f":"IF($Z$1=\"+\",LOOKUP($V238,Data!$A$6:$A$1806,Data!$E$6:$E$1806)*-1,LOOKUP($V238,Data!$A$6:$A$1806,Data!$E$6:$E$1806))","v":-256.747802734375},{"$f":"LOOKUP($V238,Data!$A$6:$A$1806,Data!$F$6:$F$1806)","v":0},{"$f":"LOOKUP($V238,Data!$A$6:$A$1806,Data!$G$6:$G$1806)","v":206},{"$f":"LOOKUP($V238,Data!$A$6:$A$1806,Data!$H$6:$H$1806)","v":10},{"$f":"LOOKUP($V238,Data!$A$6:$A$1806,Data!$I$6:$I$1806)","v":0},{"$f":"LOOKUP($V238,Data!$A$6:$A$1806,Data!$J$6:$J$1806)","v":-103},{"$f":"LOOKUP($V238,Data!$A$6:$A$1806,Data!$K$6:$K$1806)","v":7635.96},8.80126953125]
[null,40098.106030092291,{"$f":"LOOKUP(B239,Data!$A$6:$A$1806,Data!B$6:B$1806)","v":59.986000061035156},{"$f":"LOOKUP(B239,Data!$A$6:$A$1806,Data!C$6:C$1806)","v":3772.444580078125},null,null,null,11.199951171875,9.2426869641929503,null,null,0.55220438547493267,3770.856032645876,{"$f":"AVERAGE(D$79:D239)","v":3763.3382848893634},{"$f":"AVERAGE(M$79:M239)","v":3772.7954790948943},3766.2567426572759,{"$f":"AVERAGE(P$79:P239)","v":3722.3564940120255},null,null,null,null,40098.106030092291,{"$f":"LOOKUP($V239,Data!$A$6:$A$1806,Data!$B$6:$B$1806)","v":59.986000061035156},{"$f":"LOOKUP($V239,Data!$A$6:$A$1806,Data!$C$6:$C$1806)","v":3772.444580078125},{"$f":"LOOKUP($V239,Data!$A$6:$A$1806,Data!$D$6:$D$1806)","v":335},{"$f":"IF($Z$1=\"+\",LOOKUP($V239,Data!$A$6:$A$1806,Data!$E$6:$E$1806)*-1,LOOKUP($V239,Data!$A$6:$A$1806,Data!$E$6:$E$1806))","v":-167.43197631835937},{"$f":"LOOKUP($V239,Data!$A$6:$A$1806,Data!$F$6:$F$1806)","v":0},{"$f":"LOOKUP($V239,Data!$A$6:$A$1806,Data!$G$6:$G$1806)","v":206.5},{"$f":"LOOKUP($V239,Data!$A$6:$A$1806,Data!$H$6:$H$1806)","v":10},{"$f":"LOOKUP($V239,Data!$A$6:$A$1806,Data!$I$6:$I$1806)","v":0},{"$f":"LOOKUP($V239,Data!$A$6:$A$1806,Data!$J$6:$J$1806)","v":-103},{"$f":"LOOKUP($V239,Data!$A$6:$A$1806,Data!$K$6:$K$1806)","v":7636.29},11.199951171875]
[null,40098.106053240437,{"$f":"LOOKUP(B240,Data!$A$6:$A$1806,Data!B$6:B$1806)","v":59.983001708984375},{"$f":"LOOKUP(B240,Data!$A$6:$A$1806,Data!C$6:C$1806)","v":3773.69482421875},null,null,null,13.5986328125,10.767268011100418,null,null,0.55220438547493267,3772.9328180782582,{"$f":"AVERAGE(D$79:D240)","v":3763.402214144483},{"$f":"AVERAGE(M$79:M240)","v":3772.7963268663966},3766.8089470427508,{"$f":"AVERAGE(P$79:P240)","v":3722.6325962047631},null,null,null,null,40098.106053240437,{"$f":"LOOKUP($V240,Data!$A$6:$A$1806,Data!$B$6:$B$1806)","v":59.983001708984375},{"$f":"LOOKUP($V240,Data!$A$6:$A$1806,Data!$C$6:$C$1806)","v":3773.69482421875},{"$f":"LOOKUP($V240,Data!$A$6:$A$1806,Data!$D$6:$D$1806)","v":335},{"$f":"IF($Z$1=\"+\",LOOKUP($V240,Data!$A$6:$A$1806,Data!$E$6:$E$1806)*-1,LOOKUP($V240,Data!$A$6:$A$1806,Data!$E$6:$E$1806))","v":-167.43197631835937},{"$f":"LOOKUP($V240,Data!$A$6:$A$1806,Data!$F$6:$F$1806)","v":0},{"$f":"LOOKUP($V240,Data!$A$6:$A$1806,Data!$G$6:$G$1806)","v":207},{"$f":"LOOKUP($V240,Data!$A$6:$A$1806,Data!$H$6:$H$1806)","v":10},{"$f":"LOOKUP($V240,Data!$A$6:$A$1806,Data!$I$6:$I$1806)","v":0},{"$f":"LOOKUP($V240,Data!$A$6:$A$1806,Data!$J$6:$J$1806)","v":-103},{"$f":"LOOKUP($V240,Data!$A$6:$A$1806,Data!$K$6:$K$1806)","v":7636.62},13.5986328125]
[null,40098.106076388583,{"$f":"LOOKUP(B241,Data!$A$6:$A$1806,Data!B$6:B$1806)","v":59.983001708984375},{"$f":"LOOKUP(B241,Data!$A$6:$A$1806,Data!C$6:C$1806)","v":3773.69482421875},null,null,null,13.5986328125,11.758245691590272,null,null,0.55220438547493267,3774.4760001442228,{"$f":"AVERAGE(D$79:D241)","v":3763.4653589915642},{"$f":"AVERAGE(M$79:M241)","v":3772.8066316104323},3767.3611514282256,{"$f":"AVERAGE(P$79:P241)","v":3722.9086983975003},null,null,null,null,40098.106076388583,{"$f":"LOOKUP($V241,Data!$A$6:$A$1806,Data!$B$6:$B$1806)","v":59.983001708984375},{"$f":"LOOKUP($V241,Data!$A$6:$A$1806,Data!$C$6:$C$1806)","v":3773.69482421875},{"$f":"LOOKUP($V241,Data!$A$6:$A$1806,Data!$D$6:$D$1806)","v":335},{"$f":"IF($Z$1=\"+\",LOOKUP($V241,Data!$A$6:$A$1806,Data!$E$6:$E$1806)*-1,LOOKUP($V241,Data!$A$6:$A$1806,Data!$E$6:$E$1806))","v":-167.43197631835937},{"$f":"LOOKUP($V241,Data!$A$6:$A$1806,Data!$F$6:$F$1806)","v":0},{"$f":"LOOKUP($V241,Data!$A$6:$A$1806,Data!$G$6:$G$1806)","v":207},{"$f":"LOOKUP($V241,Data!$A$6:$A$1806,Data!$H$6:$H$1806)","v":10},{"$f":"LOOKUP($V241,Data!$A$6:$A$1806,Data!$I$6:$I$1806)","v":0},{"$f":"LOOKUP($V241,Data!$A$6:$A$1806,Data!$J$6:$J$1806)","v":-103},{"$f":"LOOKUP($V241,Data!$A$6:$A$1806,Data!$K$6:$K$1806)","v":7636.62},13.5986328125]
[null,40098.10609953673,{"$f":"LOOKUP(B242,Data!$A$6:$A$1806,Data!B$6:B$1806)","v":59.987998962402344},{"$f":"LOOKUP(B242,Data!$A$6:$A$1806,Data!C$6:C$1806)","v":3775.8408203125},null,null,null,9.600830078125,11.003150226877427,null,null,0.55220438547493267,3774.273109064985,{"$f":"AVERAGE(D$79:D242)","v":3763.5408191215702},{"$f":"AVERAGE(M$79:M242)","v":3772.815573546131},3767.9133558137005,{"$f":"AVERAGE(P$79:P242)","v":3723.184800590238},null,null,null,null,40098.10609953673,{"$f":"LOOKUP($V242,Data!$A$6:$A$1806,Data!$B$6:$B$1806)","v":59.987998962402344},{"$f":"LOOKUP($V242,Data!$A$6:$A$1806,Data!$C$6:$C$1806)","v":3775.8408203125},{"$f":"LOOKUP($V242,Data!$A$6:$A$1806,Data!$D$6:$D$1806)","v":335},{"$f":"IF($Z$1=\"+\",LOOKUP($V242,Data!$A$6:$A$1806,Data!$E$6:$E$1806)*-1,LOOKUP($V242,Data!$A$6:$A$1806,Data!$E$6:$E$1806))","v":-167.43197631835937},{"$f":"LOOKUP($V242,Data!$A$6:$A$1806,Data!$F$6:$F$1806)","v":0},{"$f":"LOOKUP($V242,Data!$A$6:$A$1806,Data!$G$6:$G$1806)","v":207.5},{"$f":"LOOKUP($V242,Data!$A$6:$A$1806,Data!$H$6:$H$1806)","v":10},{"$f":"LOOKUP($V242,Data!$A$6:$A$1806,Data!$I$6:$I$1806)","v":0},{"$f":"LOOKUP($V242,Data!$A$6:$A$1806,Data!$J$6:$J$1806)","v":-103},{"$f":"LOOKUP($V242,Data!$A$6:$A$1806,Data!$K$6:$K$1806)","v":7636.95},9.600830078125]
[null,40098.106122684876,{"$f":"LOOKUP(B243,Data!$A$6:$A$1806,Data!B$6:B$1806)","v":59.995998382568359},{"$f":"LOOKUP(B243,Data!$A$6:$A$1806,Data!C$6:C$1806)","v":3775.36328125},null,null,null,3.2012939453125,8.2725005283297026,null,null,0.55220438547493267,3772.0946637519119,{"$f":"AVERAGE(D$79:D243)","v":3763.6124704071972},{"$f":"AVERAGE(M$79:M243)","v":3772.8112043958631},3768.4655601991753,{"$f":"AVERAGE(P$79:P243)","v":3723.4609027829756},null,null,null,null,40098.106122684876,{"$f":"LOOKUP($V243,Data!$A$6:$A$1806,Data!$B$6:$B$1806)","v":59.995998382568359},{"$f":"LOOKUP($V243,Data!$A$6:$A$1806,Data!$C$6:$C$1806)","v":3775.36328125},{"$f":"LOOKUP($V243,Data!$A$6:$A$1806,Data!$D$6:$D$1806)","v":335},{"$f":"IF($Z$1=\"+\",LOOKUP($V243,Data!$A$6:$A$1806,Data!$E$6:$E$1806)*-1,LOOKUP($V243,Data!$A$6:$A$1806,Data!$E$6:$E$1806))","v":-167.43197631835937},{"$f":"LOOKUP($V243,Data!$A$6:$A$1806,Data!$F$6:$F$1806)","v":0},{"$f":"LOOKUP($V243,Data!$A$6:$A$1806,Data!$G$6:$G$1806)","v":208},{"$f":"LOOKUP($V243,Data!$A$6:$A$1806,Data!$H$6:$H$1806)","v":10},{"$f":"LOOKUP($V243,Data!$A$6:$A$1806,Data!$I$6:$I$1806)","v":0},{"$f":"LOOKUP($V243,Data!$A$6:$A$1806,Data!$J$6:$J$1806)","v":-103},{"$f":"LOOKUP($V243,Data!$A$6:$A$1806,Data!$K$6:$K$1806)","v":7637.28},3.2012939453125]
[null,40098.106145833022,{"$f":"LOOKUP(B244,Data!$A$6:$A$1806,Data!B$6:B$1806)","v":59.995998382568359},{"$f":"LOOKUP(B244,Data!$A$6:$A$1806,Data!C$6:C$1806)","v":3775.36328125},null,null,null,3.2012939453125,6.4975782242736821,null,null,0.55220438547493267,3770.8719458333308,{"$f":"AVERAGE(D$79:D244)","v":3763.6832584243225},{"$f":"AVERAGE(M$79:M244)","v":3772.7995221153656},3769.0177645846502,{"$f":"AVERAGE(P$79:P244)","v":3723.7370049757128},null,null,null,null,40098.106145833022,{"$f":"LOOKUP($V244,Data!$A$6:$A$1806,Data!$B$6:$B$1806)","v":59.995998382568359},{"$f":"LOOKUP($V244,Data!$A$6:$A$1806,Data!$C$6:$C$1806)","v":3775.36328125},{"$f":"LOOKUP($V244,Data!$A$6:$A$1806,Data!$D$6:$D$1806)","v":335},{"$f":"IF($Z$1=\"+\",LOOKUP($V244,Data!$A$6:$A$1806,Data!$E$6:$E$1806)*-1,LOOKUP($V244,Data!$A$6:$A$1806,Data!$E$6:$E$1806))","v":-167.43197631835937},{"$f":"LOOKUP($V244,Data!$A$6:$A$1806,Data!$F$6:$F$1806)","v":0},{"$f":"LOOKUP($V244,Data!$A$6:$A$1806,Data!$G$6:$G$1806)","v":208},{"$f":"LOOKUP($V244,Data!$A$6:$A$1806,Data!$H$6:$H$1806)","v":10},{"$f":"LOOKUP($V244,Data!$A$6:$A$1806,Data!$I$6:$I$1806)","v":0},{"$f":"LOOKUP($V244,Data!$A$6:$A$1806,Data!$J$6:$J$1806)","v":-103},{"$f":"LOOKUP($V244,Data!$A$6:$A$1806,Data!$K$6:$K$1806)","v":7637.28},3.2012939453125]
[null,40098.106168981169,{"$f":"LOOKUP(B245,Data!$A$6:$A$1806,Data!B$6:B$1806)","v":59.998001098632813},{"$f":"LOOKUP(B245,Data!$A$6:$A$1806,Data!C$6:C$1806)","v":3775.49169921875},null,null,null,1.59912109375,4.7831182285903937,null,null,0.55220438547493267,3769.7096902231224,{"$f":"AVERAGE(D$79:D245)","v":3763.7539676506362},{"$f":"AVERAGE(M$79:M245)","v":3772.7810201279867},3769.569968970125,{"$f":"AVERAGE(P$79:P245)","v":3724.0131071684505},null,null,null,null,40098.106168981169,{"$f":"LOOKUP($V245,Data!$A$6:$A$1806,Data!$B$6:$B$1806)","v":59.998001098632813},{"$f":"LOOKUP($V245,Data!$A$6:$A$1806,Data!$C$6:$C$1806)","v":3775.49169921875},{"$f":"LOOKUP($V245,Data!$A$6:$A$1806,Data!$D$6:$D$1806)","v":335},{"$f":"IF($Z$1=\"+\",LOOKUP($V245,Data!$A$6:$A$1806,Data!$E$6:$E$1806)*-1,LOOKUP($V245,Data!$A$6:$A$1806,Data!$E$6:$E$1806))","v":-167.43197631835937},{"$f":"LOOKUP($V245,Data!$A$6:$A$1806,Data!$F$6:$F$1806)","v":0},{"$f":"LOOKUP($V245,Data!$A$6:$A$1806,Data!$G$6:$G$1806)","v":208.5},{"$f":"LOOKUP($V245,Data!$A$6:$A$1806,Data!$H$6:$H$1806)","v":10},{"$f":"LOOKUP($V245,Data!$A$6:$A$1806,Data!$I$6:$I$1806)","v":0},{"$f":"LOOKUP($V245,Data!$A$6:$A$1806,Data!$J$6:$J$1806)","v":-103},{"$f":"LOOKUP($V245,Data!$A$6:$A$1806,Data!$K$6:$K$1806)","v":7637.61},1.59912109375]
[null,40098.106192129315,{"$f":"LOOKUP(B246,Data!$A$6:$A$1806,Data!B$6:B$1806)","v":60.000999450683594},{"$f":"LOOKUP(B246,Data!$A$6:$A$1806,Data!C$6:C$1806)","v":3776.420166015625},null,null,null,-0.799560546875,2.8291806571775062,null,null,0,3767.7557526517094,{"$f":"AVERAGE(D$79:D246)","v":3763.829361688523},{"$f":"AVERAGE(M$79:M246)","v":3772.7511078215807},3769.569968970125,{"$f":"AVERAGE(P$79:P246)","v":3724.2859027481013},null,null,null,null,40098.106192129315,{"$f":"LOOKUP($V246,Data!$A$6:$A$1806,Data!$B$6:$B$1806)","v":60.000999450683594},{"$f":"LOOKUP($V246,Data!$A$6:$A$1806,Data!$C$6:$C$1806)","v":3776.420166015625},{"$f":"LOOKUP($V246,Data!$A$6:$A$1806,Data!$D$6:$D$1806)","v":335},{"$f":"IF($Z$1=\"+\",LOOKUP($V246,Data!$A$6:$A$1806,Data!$E$6:$E$1806)*-1,LOOKUP($V246,Data!$A$6:$A$1806,Data!$E$6:$E$1806))","v":-164.97340393066406},{"$f":"LOOKUP($V246,Data!$A$6:$A$1806,Data!$F$6:$F$1806)","v":0},{"$f":"LOOKUP($V246,Data!$A$6:$A$1806,Data!$G$6:$G$1806)","v":209},{"$f":"LOOKUP($V246,Data!$A$6:$A$1806,Data!$H$6:$H$1806)","v":10},{"$f":"LOOKUP($V246,Data!$A$6:$A$1806,Data!$I$6:$I$1806)","v":0},{"$f":"LOOKUP($V246,Data!$A$6:$A$1806,Data!$J$6:$J$1806)","v":-103},{"$f":"LOOKUP($V246,Data!$A$6:$A$1806,Data!$K$6:$K$1806)","v":7637.94},-0.799560546875]
[null,40098.106215277461,{"$f":"LOOKUP(B247,Data!$A$6:$A$1806,Data!B$6:B$1806)","v":60.000999450683594},{"$f":"LOOKUP(B247,Data!$A$6:$A$1806,Data!C$6:C$1806)","v":3776.420166015625},null,null,null,-0.799560546875,1.5591212357591291,null,null,0,3766.485693230291,{"$f":"AVERAGE(D$79:D247)","v":3763.903863489275},{"$f":"AVERAGE(M$79:M247)","v":3772.7140343624606},3769.569968970125,{"$f":"AVERAGE(P$79:P247)","v":3724.5554507613278},null,null,null,null,40098.106215277461,{"$f":"LOOKUP($V247,Data!$A$6:$A$1806,Data!$B$6:$B$1806)","v":60.000999450683594},{"$f":"LOOKUP($V247,Data!$A$6:$A$1806,Data!$C$6:$C$1806)","v":3776.420166015625},{"$f":"LOOKUP($V247,Data!$A$6:$A$1806,Data!$D$6:$D$1806)","v":335},{"$f":"IF($Z$1=\"+\",LOOKUP($V247,Data!$A$6:$A$1806,Data!$E$6:$E$1806)*-1,LOOKUP($V247,Data!$A$6:$A$1806,Data!$E$6:$E$1806))","v":-164.97340393066406},{"$f":"LOOKUP($V247,Data!$A$6:$A$1806,Data!$F$6:$F$1806)","v":0},{"$f":"LOOKUP($V247,Data!$A$6:$A$1806,Data!$G$6:$G$1806)","v":209},{"$f":"LOOKUP($V247,Data!$A$6:$A$1806,Data!$H$6:$H$1806)","v":10},{"$f":"LOOKUP($V247,Data!$A$6:$A$1806,Data!$I$6:$I$1806)","v":0},{"$f":"LOOKUP($V247,Data!$A$6:$A$1806,Data!$J$6:$J$1806)","v":-103},{"$f":"LOOKUP($V247,Data!$A$6:$A$1806,Data!$K$6:$K$1806)","v":7637.94},-0.799560546875]
[null,40098.106238425607,{"$f":"LOOKUP(B248,Data!$A$6:$A$1806,Data!B$6:B$1806)","v":59.999000549316406},{"$f":"LOOKUP(B248,Data!$A$6:$A$1806,Data!C$6:C$1806)","v":3779.69189453125},null,null,null,0.799560546875,1.293274994649684,null,null,0,3766.2198469891814,{"$f":"AVERAGE(D$79:D248)","v":3763.9967342601103},{"$f":"AVERAGE(M$79:M248)","v":3772.6758332602644},3769.569968970125,{"$f":"AVERAGE(P$79:P248)","v":3724.8218088572376},null,null,null,null,40098.106238425607,{"$f":"LOOKUP($V248,Data!$A$6:$A$1806,Data!$B$6:$B$1806)","v":59.999000549316406},{"$f":"LOOKUP($V248,Data!$A$6:$A$1806,Data!$C$6:$C$1806)","v":3779.69189453125},{"$f":"LOOKUP($V248,Data!$A$6:$A$1806,Data!$D$6:$D$1806)","v":335},{"$f":"IF($Z$1=\"+\",LOOKUP($V248,Data!$A$6:$A$1806,Data!$E$6:$E$1806)*-1,LOOKUP($V248,Data!$A$6:$A$1806,Data!$E$6:$E$1806))","v":-164.97340393066406},{"$f":"LOOKUP($V248,Data!$A$6:$A$1806,Data!$F$6:$F$1806)","v":0},{"$f":"LOOKUP($V248,Data!$A$6:$A$1806,Data!$G$6:$G$1806)","v":209.5},{"$f":"LOOKUP($V248,Data!$A$6:$A$1806,Data!$H$6:$H$1806)","v":10},{"$f":"LOOKUP($V248,Data!$A$6:$A$1806,Data!$I$6:$I$1806)","v":0},{"$f":"LOOKUP($V248,Data!$A$6:$A$1806,Data!$J$6:$J$1806)","v":-103},{"$f":"LOOKUP($V248,Data!$A$6:$A$1806,Data!$K$6:$K$1806)","v":7638.27},0.799560546875]
[null,40098.106261573754,{"$f":"LOOKUP(B249,Data!$A$6:$A$1806,Data!B$6:B$1806)","v":59.999000549316406},{"$f":"LOOKUP(B249,Data!$A$6:$A$1806,Data!C$6:C$1806)","v":3781.255859375},null,null,null,0.799560546875,1.1204749379285446,null,null,0,3766.0470469324605,{"$f":"AVERAGE(D$79:D249)","v":3764.0976648163378},{"$f":"AVERAGE(M$79:M249)","v":3772.6370684279386},3769.569968970125,{"$f":"AVERAGE(P$79:P249)","v":3725.0850333284902},null,null,null,null,40098.106261573754,{"$f":"LOOKUP($V249,Data!$A$6:$A$1806,Data!$B$6:$B$1806)","v":59.999000549316406},{"$f":"LOOKUP($V249,Data!$A$6:$A$1806,Data!$C$6:$C$1806)","v":3781.255859375},{"$f":"LOOKUP($V249,Data!$A$6:$A$1806,Data!$D$6:$D$1806)","v":335},{"$f":"IF($Z$1=\"+\",LOOKUP($V249,Data!$A$6:$A$1806,Data!$E$6:$E$1806)*-1,LOOKUP($V249,Data!$A$6:$A$1806,Data!$E$6:$E$1806))","v":-164.97340393066406},{"$f":"LOOKUP($V249,Data!$A$6:$A$1806,Data!$F$6:$F$1806)","v":0},{"$f":"LOOKUP($V249,Data!$A$6:$A$1806,Data!$G$6:$G$1806)","v":210},{"$f":"LOOKUP($V249,Data!$A$6:$A$1806,Data!$H$6:$H$1806)","v":10},{"$f":"LOOKUP($V249,Data!$A$6:$A$1806,Data!$I$6:$I$1806)","v":0},{"$f":"LOOKUP($V249,Data!$A$6:$A$1806,Data!$J$6:$J$1806)","v":-103},{"$f":"LOOKUP($V249,Data!$A$6:$A$1806,Data!$K$6:$K$1806)","v":7638.6},0.799560546875]
[null,40098.1062847219,{"$f":"LOOKUP(B250,Data!$A$6:$A$1806,Data!B$6:B$1806)","v":59.999000549316406},{"$f":"LOOKUP(B250,Data!$A$6:$A$1806,Data!C$6:C$1806)","v":3781.255859375},null,null,null,0.799560546875,1.0081549010598039,null,null,0,3765.9347268955917,{"$f":"AVERAGE(D$79:D250)","v":3764.1974217614461},{"$f":"AVERAGE(M$79:M250)","v":3772.5981013260066},3769.569968970125,{"$f":"AVERAGE(P$79:P250)","v":3725.345179150956},null,null,null,null,40098.1062847219,{"$f":"LOOKUP($V250,Data!$A$6:$A$1806,Data!$B$6:$B$1806)","v":59.999000549316406},{"$f":"LOOKUP($V250,Data!$A$6:$A$1806,Data!$C$6:$C$1806)","v":3781.255859375},{"$f":"LOOKUP($V250,Data!$A$6:$A$1806,Data!$D$6:$D$1806)","v":335},{"$f":"IF($Z$1=\"+\",LOOKUP($V250,Data!$A$6:$A$1806,Data!$E$6:$E$1806)*-1,LOOKUP($V250,Data!$A$6:$A$1806,Data!$E$6:$E$1806))","v":-164.97340393066406},{"$f":"LOOKUP($V250,Data!$A$6:$A$1806,Data!$F$6:$F$1806)","v":0},{"$f":"LOOKUP($V250,Data!$A$6:$A$1806,Data!$G$6:$G$1806)","v":210},{"$f":"LOOKUP($V250,Data!$A$6:$A$1806,Data!$H$6:$H$1806)","v":10},{"$f":"LOOKUP($V250,Data!$A$6:$A$1806,Data!$I$6:$I$1806)","v":0},{"$f":"LOOKUP($V250,Data!$A$6:$A$1806,Data!$J$6:$J$1806)","v":-103},{"$f":"LOOKUP($V250,Data!$A$6:$A$1806,Data!$K$6:$K$1806)","v":7638.6},0.799560546875]
[null,40098.106307870046,{"$f":"LOOKUP(B251,Data!$A$6:$A$1806,Data!B$6:B$1806)","v":60.001998901367188},{"$f":"LOOKUP(B251,Data!$A$6:$A$1806,Data!C$6:C$1806)","v":3783.092041015625},null,null,null,-1.59912109375,9.5608302876372564E-2,null,null,0,3765.0221802974083,{"$f":"AVERAGE(D$79:D251)","v":3764.3066392137825},{"$f":"AVERAGE(M$79:M251)","v":3772.554309874974},3769.569968970125,{"$f":"AVERAGE(P$79:P251)","v":3725.602300021998},null,null,null,null,40098.106307870046,{"$f":"LOOKUP($V251,Data!$A$6:$A$1806,Data!$B$6:$B$1806)","v":60.001998901367188},{"$f":"LOOKUP($V251,Data!$A$6:$A$1806,Data!$C$6:$C$1806)","v":3783.092041015625},{"$f":"LOOKUP($V251,Data!$A$6:$A$1806,Data!$D$6:$D$1806)","v":335},{"$f":"IF($Z$1=\"+\",LOOKUP($V251,Data!$A$6:$A$1806,Data!$E$6:$E$1806)*-1,LOOKUP($V251,Data!$A$6:$A$1806,Data!$E$6:$E$1806))","v":-164.97340393066406},{"$f":"LOOKUP($V251,Data!$A$6:$A$1806,Data!$F$6:$F$1806)","v":0},{"$f":"LOOKUP($V251,Data!$A$6:$A$1806,Data!$G$6:$G$1806)","v":210.5},{"$f":"LOOKUP($V251,Data!$A$6:$A$1806,Data!$H$6:$H$1806)","v":10},{"$f":"LOOKUP($V251,Data!$A$6:$A$1806,Data!$I$6:$I$1806)","v":0},{"$f":"LOOKUP($V251,Data!$A$6:$A$1806,Data!$J$6:$J$1806)","v":-103},{"$f":"LOOKUP($V251,Data!$A$6:$A$1806,Data!$K$6:$K$1806)","v":7638.93},-1.59912109375]
[null,40098.106331018193,{"$f":"LOOKUP(B252,Data!$A$6:$A$1806,Data!B$6:B$1806)","v":60.006999969482422},{"$f":"LOOKUP(B252,Data!$A$6:$A$1806,Data!C$6:C$1806)","v":3783.8955078125},null,null,null,-5.5999755859375,-1.8978460582084826,null,null,0,3763.0287259363236,{"$f":"AVERAGE(D$79:D252)","v":3764.4192189183727},{"$f":"AVERAGE(M$79:M252)","v":3772.4995651396944},3769.569968970125,{"$f":"AVERAGE(P$79:P252)","v":3725.8564483974205},null,null,null,null,40098.106331018193,{"$f":"LOOKUP($V252,Data!$A$6:$A$1806,Data!$B$6:$B$1806)","v":60.006999969482422},{"$f":"LOOKUP($V252,Data!$A$6:$A$1806,Data!$C$6:$C$1806)","v":3783.8955078125},{"$f":"LOOKUP($V252,Data!$A$6:$A$1806,Data!$D$6:$D$1806)","v":335},{"$f":"IF($Z$1=\"+\",LOOKUP($V252,Data!$A$6:$A$1806,Data!$E$6:$E$1806)*-1,LOOKUP($V252,Data!$A$6:$A$1806,Data!$E$6:$E$1806))","v":-164.97340393066406},{"$f":"LOOKUP($V252,Data!$A$6:$A$1806,Data!$F$6:$F$1806)","v":0},{"$f":"LOOKUP($V252,Data!$A$6:$A$1806,Data!$G$6:$G$1806)","v":211},{"$f":"LOOKUP($V252,Data!$A$6:$A$1806,Data!$H$6:$H$1806)","v":10},{"$f":"LOOKUP($V252,Data!$A$6:$A$1806,Data!$I$6:$I$1806)","v":0},{"$f":"LOOKUP($V252,Data!$A$6:$A$1806,Data!$J$6:$J$1806)","v":-103},{"$f":"LOOKUP($V252,Data!$A$6:$A$1806,Data!$K$6:$K$1806)","v":7639.26},-5.5999755859375]
[null,40098.106354166339,{"$f":"LOOKUP(B253,Data!$A$6:$A$1806,Data!B$6:B$1806)","v":60.006999969482422},{"$f":"LOOKUP(B253,Data!$A$6:$A$1806,Data!C$6:C$1806)","v":3783.8955078125},null,null,null,-5.5999755859375,-3.1935913929136386,null,null,0,3761.7329806016182,{"$f":"AVERAGE(D$79:D253)","v":3764.5305119977679},{"$f":"AVERAGE(M$79:M253)","v":3772.4380417994771},3769.569968970125,{"$f":"AVERAGE(P$79:P253)","v":3726.1076755271488},null,null,null,null,40098.106354166339,{"$f":"LOOKUP($V253,Data!$A$6:$A$1806,Data!$B$6:$B$1806)","v":60.006999969482422},{"$f":"LOOKUP($V253,Data!$A$6:$A$1806,Data!$C$6:$C$1806)","v":3783.8955078125},{"$f":"LOOKUP($V253,Data!$A$6:$A$1806,Data!$D$6:$D$1806)","v":335},{"$f":"IF($Z$1=\"+\",LOOKUP($V253,Data!$A$6:$A$1806,Data!$E$6:$E$1806)*-1,LOOKUP($V253,Data!$A$6:$A$1806,Data!$E$6:$E$1806))","v":-164.97340393066406},{"$f":"LOOKUP($V253,Data!$A$6:$A$1806,Data!$F$6:$F$1806)","v":0},{"$f":"LOOKUP($V253,Data!$A$6:$A$1806,Data!$G$6:$G$1806)","v":211},{"$f":"LOOKUP($V253,Data!$A$6:$A$1806,Data!$H$6:$H$1806)","v":10},{"$f":"LOOKUP($V253,Data!$A$6:$A$1806,Data!$I$6:$I$1806)","v":0},{"$f":"LOOKUP($V253,Data!$A$6:$A$1806,Data!$J$6:$J$1806)","v":-103},{"$f":"LOOKUP($V253,Data!$A$6:$A$1806,Data!$K$6:$K$1806)","v":7639.26},-5.5999755859375]
[null,40098.106377314485,{"$f":"LOOKUP(B254,Data!$A$6:$A$1806,Data!B$6:B$1806)","v":60.007999420166016},{"$f":"LOOKUP(B254,Data!$A$6:$A$1806,Data!C$6:C$1806)","v":3785.76806640625},null,null,null,-6.3995361328125,-4.3156720518782397,null,null,0,3760.6108999426538,{"$f":"AVERAGE(D$79:D254)","v":3764.6511799205432},{"$f":"AVERAGE(M$79:M254)","v":3772.3708421298361},3769.569968970125,{"$f":"AVERAGE(P$79:P254)","v":3726.3560314896804},null,null,null,null,40098.106377314485,{"$f":"LOOKUP($V254,Data!$A$6:$A$1806,Data!$B$6:$B$1806)","v":60.007999420166016},{"$f":"LOOKUP($V254,Data!$A$6:$A$1806,Data!$C$6:$C$1806)","v":3785.76806640625},{"$f":"LOOKUP($V254,Data!$A$6:$A$1806,Data!$D$6:$D$1806)","v":335},{"$f":"IF($Z$1=\"+\",LOOKUP($V254,Data!$A$6:$A$1806,Data!$E$6:$E$1806)*-1,LOOKUP($V254,Data!$A$6:$A$1806,Data!$E$6:$E$1806))","v":-157.62808227539062},{"$f":"LOOKUP($V254,Data!$A$6:$A$1806,Data!$F$6:$F$1806)","v":0},{"$f":"LOOKUP($V254,Data!$A$6:$A$1806,Data!$G$6:$G$1806)","v":211.5},{"$f":"LOOKUP($V254,Data!$A$6:$A$1806,Data!$H$6:$H$1806)","v":10},{"$f":"LOOKUP($V254,Data!$A$6:$A$1806,Data!$I$6:$I$1806)","v":0},{"$f":"LOOKUP($V254,Data!$A$6:$A$1806,Data!$J$6:$J$1806)","v":-103},{"$f":"LOOKUP($V254,Data!$A$6:$A$1806,Data!$K$6:$K$1806)","v":7639.59},-6.3995361328125]
[null,40098.106400462631,{"$f":"LOOKUP(B255,Data!$A$6:$A$1806,Data!B$6:B$1806)","v":60.013999938964844},{"$f":"LOOKUP(B255,Data!$A$6:$A$1806,Data!C$6:C$1806)","v":3785.462646484375},null,null,null,-11.199951171875,-6.725169743877105,null,null,0,3758.2014022506551,{"$f":"AVERAGE(D$79:D255)","v":3764.7687588276835},{"$f":"AVERAGE(M$79:M255)","v":3772.2907887971855},3769.569968970125,{"$f":"AVERAGE(P$79:P255)","v":3726.6015652253645},null,null,null,null,40098.106400462631,{"$f":"LOOKUP($V255,Data!$A$6:$A$1806,Data!$B$6:$B$1806)","v":60.013999938964844},{"$f":"LOOKUP($V255,Data!$A$6:$A$1806,Data!$C$6:$C$1806)","v":3785.462646484375},{"$f":"LOOKUP($V255,Data!$A$6:$A$1806,Data!$D$6:$D$1806)","v":335},{"$f":"IF($Z$1=\"+\",LOOKUP($V255,Data!$A$6:$A$1806,Data!$E$6:$E$1806)*-1,LOOKUP($V255,Data!$A$6:$A$1806,Data!$E$6:$E$1806))","v":-157.62808227539062},{"$f":"LOOKUP($V255,Data!$A$6:$A$1806,Data!$F$6:$F$1806)","v":0},{"$f":"LOOKUP($V255,Data!$A$6:$A$1806,Data!$G$6:$G$1806)","v":212},{"$f":"LOOKUP($V255,Data!$A$6:$A$1806,Data!$H$6:$H$1806)","v":10},{"$f":"LOOKUP($V255,Data!$A$6:$A$1806,Data!$I$6:$I$1806)","v":0},{"$f":"LOOKUP($V255,Data!$A$6:$A$1806,Data!$J$6:$J$1806)","v":-103},{"$f":"LOOKUP($V255,Data!$A$6:$A$1806,Data!$K$6:$K$1806)","v":7639.92},-11.199951171875]
[null,40098.106423610778,{"$f":"LOOKUP(B256,Data!$A$6:$A$1806,Data!B$6:B$1806)","v":60.013999938964844},{"$f":"LOOKUP(B256,Data!$A$6:$A$1806,Data!C$6:C$1806)","v":3785.462646484375},null,null,null,-11.199951171875,-8.2913432436763674,null,null,0,3756.6352287508557,{"$f":"AVERAGE(D$79:D256)","v":3764.8850166235079},{"$f":"AVERAGE(M$79:M256)","v":3772.2028362126557},3769.569968970125,{"$f":"AVERAGE(P$79:P256)","v":3726.8443245685557},null,null,null,null,40098.106423610778,{"$f":"LOOKUP($V256,Data!$A$6:$A$1806,Data!$B$6:$B$1806)","v":60.013999938964844},{"$f":"LOOKUP($V256,Data!$A$6:$A$1806,Data!$C$6:$C$1806)","v":3785.462646484375},{"$f":"LOOKUP($V256,Data!$A$6:$A$1806,Data!$D$6:$D$1806)","v":335},{"$f":"IF($Z$1=\"+\",LOOKUP($V256,Data!$A$6:$A$1806,Data!$E$6:$E$1806)*-1,LOOKUP($V256,Data!$A$6:$A$1806,Data!$E$6:$E$1806))","v":-157.62808227539062},{"$f":"LOOKUP($V256,Data!$A$6:$A$1806,Data!$F$6:$F$1806)","v":0},{"$f":"LOOKUP($V256,Data!$A$6:$A$1806,Data!$G$6:$G$1806)","v":212},{"$f":"LOOKUP($V256,Data!$A$6:$A$1806,Data!$H$6:$H$1806)","v":10},{"$f":"LOOKUP($V256,Data!$A$6:$A$1806,Data!$I$6:$I$1806)","v":0},{"$f":"LOOKUP($V256,Data!$A$6:$A$1806,Data!$J$6:$J$1806)","v":-103},{"$f":"LOOKUP($V256,Data!$A$6:$A$1806,Data!$K$6:$K$1806)","v":7639.92},-11.199951171875]
[null,40098.106446758924,{"$f":"LOOKUP(B257,Data!$A$6:$A$1806,Data!B$6:B$1806)","v":60.016998291015625},{"$f":"LOOKUP(B257,Data!$A$6:$A$1806,Data!C$6:C$1806)","v":3786.30419921875},null,null,null,-13.5986328125,-10.148894592764639,null,null,0,3754.7776774017675,{"$f":"AVERAGE(D$79:D257)","v":3765.0046768614698},{"$f":"AVERAGE(M$79:M257)","v":3772.105488956729},3769.569968970125,{"$f":"AVERAGE(P$79:P257)","v":3727.0843562786768},null,null,null,null,40098.106446758924,{"$f":"LOOKUP($V257,Data!$A$6:$A$1806,Data!$B$6:$B$1806)","v":60.016998291015625},{"$f":"LOOKUP($V257,Data!$A$6:$A$1806,Data!$C$6:$C$1806)","v":3786.30419921875},{"$f":"LOOKUP($V257,Data!$A$6:$A$1806,Data!$D$6:$D$1806)","v":335},{"$f":"IF($Z$1=\"+\",LOOKUP($V257,Data!$A$6:$A$1806,Data!$E$6:$E$1806)*-1,LOOKUP($V257,Data!$A$6:$A$1806,Data!$E$6:$E$1806))","v":-157.62808227539062},{"$f":"LOOKUP($V257,Data!$A$6:$A$1806,Data!$F$6:$F$1806)","v":0},{"$f":"LOOKUP($V257,Data!$A$6:$A$1806,Data!$G$6:$G$1806)","v":212.5},{"$f":"LOOKUP($V257,Data!$A$6:$A$1806,Data!$H$6:$H$1806)","v":10},{"$f":"LOOKUP($V257,Data!$A$6:$A$1806,Data!$I$6:$I$1806)","v":0},{"$f":"LOOKUP($V257,Data!$A$6:$A$1806,Data!$J$6:$J$1806)","v":-103},{"$f":"LOOKUP($V257,Data!$A$6:$A$1806,Data!$K$6:$K$1806)","v":7640.25},-13.5986328125]
[null,40098.10646990707,{"$f":"LOOKUP(B258,Data!$A$6:$A$1806,Data!B$6:B$1806)","v":60.020999908447266},{"$f":"LOOKUP(B258,Data!$A$6:$A$1806,Data!C$6:C$1806)","v":3787.25927734375},null,null,null,-16.7999267578125,-12.47675585053139,null,null,0,3752.4498161440006,{"$f":"AVERAGE(D$79:D258)","v":3765.1283135308158},{"$f":"AVERAGE(M$79:M258)","v":3771.9962907744357},3769.569968970125,{"$f":"AVERAGE(P$79:P258)","v":3727.3217060702491},null,null,null,null,40098.10646990707,{"$f":"LOOKUP($V258,Data!$A$6:$A$1806,Data!$B$6:$B$1806)","v":60.020999908447266},{"$f":"LOOKUP($V258,Data!$A$6:$A$1806,Data!$C$6:$C$1806)","v":3787.25927734375},{"$f":"LOOKUP($V258,Data!$A$6:$A$1806,Data!$D$6:$D$1806)","v":335},{"$f":"IF($Z$1=\"+\",LOOKUP($V258,Data!$A$6:$A$1806,Data!$E$6:$E$1806)*-1,LOOKUP($V258,Data!$A$6:$A$1806,Data!$E$6:$E$1806))","v":-157.62808227539062},{"$f":"LOOKUP($V258,Data!$A$6:$A$1806,Data!$F$6:$F$1806)","v":0},{"$f":"LOOKUP($V258,Data!$A$6:$A$1806,Data!$G$6:$G$1806)","v":213},{"$f":"LOOKUP($V258,Data!$A$6:$A$1806,Data!$H$6:$H$1806)","v":10},{"$f":"LOOKUP($V258,Data!$A$6:$A$1806,Data!$I$6:$I$1806)","v":0},{"$f":"LOOKUP($V258,Data!$A$6:$A$1806,Data!$J$6:$J$1806)","v":-103},{"$f":"LOOKUP($V258,Data!$A$6:$A$1806,Data!$K$6:$K$1806)","v":7640.58},-16.7999267578125]
[null,40098.106493055217,{"$f":"LOOKUP(B259,Data!$A$6:$A$1806,Data!B$6:B$1806)","v":60.020999908447266},{"$f":"LOOKUP(B259,Data!$A$6:$A$1806,Data!C$6:C$1806)","v":3787.25927734375},null,null,null,-16.7999267578125,-13.989865668079778,null,null,0,3750.9367063264522,{"$f":"AVERAGE(D$79:D259)","v":3765.2505840491194},{"$f":"AVERAGE(M$79:M259)","v":3771.8799394791431},3769.569968970125,{"$f":"AVERAGE(P$79:P259)","v":3727.5564186419151},null,null,null,null,40098.106493055217,{"$f":"LOOKUP($V259,Data!$A$6:$A$1806,Data!$B$6:$B$1806)","v":60.020999908447266},{"$f":"LOOKUP($V259,Data!$A$6:$A$1806,Data!$C$6:$C$1806)","v":3787.25927734375},{"$f":"LOOKUP($V259,Data!$A$6:$A$1806,Data!$D$6:$D$1806)","v":335},{"$f":"IF($Z$1=\"+\",LOOKUP($V259,Data!$A$6:$A$1806,Data!$E$6:$E$1806)*-1,LOOKUP($V259,Data!$A$6:$A$1806,Data!$E$6:$E$1806))","v":-157.62808227539062},{"$f":"LOOKUP($V259,Data!$A$6:$A$1806,Data!$F$6:$F$1806)","v":0},{"$f":"LOOKUP($V259,Data!$A$6:$A$1806,Data!$G$6:$G$1806)","v":213},{"$f":"LOOKUP($V259,Data!$A$6:$A$1806,Data!$H$6:$H$1806)","v":10},{"$f":"LOOKUP($V259,Data!$A$6:$A$1806,Data!$I$6:$I$1806)","v":0},{"$f":"LOOKUP($V259,Data!$A$6:$A$1806,Data!$J$6:$J$1806)","v":-103},{"$f":"LOOKUP($V259,Data!$A$6:$A$1806,Data!$K$6:$K$1806)","v":7640.58},-16.7999267578125]
[null,40098.106516203363,{"$f":"LOOKUP(B260,Data!$A$6:$A$1806,Data!B$6:B$1806)","v":60.016998291015625},{"$f":"LOOKUP(B260,Data!$A$6:$A$1806,Data!C$6:C$1806)","v":3787.955078125},null,null,null,-13.5986328125,-13.852934168626856,null,null,0,3751.0736378259053,{"$f":"AVERAGE(D$79:D260)","v":3765.3753340165695},{"$f":"AVERAGE(M$79:M260)","v":3771.7656191403889},3769.569968970125,{"$f":"AVERAGE(P$79:P260)","v":3727.7885377045022},null,null,null,null,40098.106516203363,{"$f":"LOOKUP($V260,Data!$A$6:$A$1806,Data!$B$6:$B$1806)","v":60.016998291015625},{"$f":"LOOKUP($V260,Data!$A$6:$A$1806,Data!$C$6:$C$1806)","v":3787.955078125},{"$f":"LOOKUP($V260,Data!$A$6:$A$1806,Data!$D$6:$D$1806)","v":335},{"$f":"IF($Z$1=\"+\",LOOKUP($V260,Data!$A$6:$A$1806,Data!$E$6:$E$1806)*-1,LOOKUP($V260,Data!$A$6:$A$1806,Data!$E$6:$E$1806))","v":-157.62808227539062},{"$f":"LOOKUP($V260,Data!$A$6:$A$1806,Data!$F$6:$F$1806)","v":0},{"$f":"LOOKUP($V260,Data!$A$6:$A$1806,Data!$G$6:$G$1806)","v":213.5},{"$f":"LOOKUP($V260,Data!$A$6:$A$1806,Data!$H$6:$H$1806)","v":10},{"$f":"LOOKUP($V260,Data!$A$6:$A$1806,Data!$I$6:$I$1806)","v":0},{"$f":"LOOKUP($V260,Data!$A$6:$A$1806,Data!$J$6:$J$1806)","v":-103},{"$f":"LOOKUP($V260,Data!$A$6:$A$1806,Data!$K$6:$K$1806)","v":7640.91},-13.5986328125]
[null,40098.106539351509,{"$f":"LOOKUP(B261,Data!$A$6:$A$1806,Data!B$6:B$1806)","v":60.019001007080078},{"$f":"LOOKUP(B261,Data!$A$6:$A$1806,Data!C$6:C$1806)","v":3788.0302734375},null,null,null,-15.2008056640625,-14.324689192029332,null,null,0,3750.6018828025026,{"$f":"AVERAGE(D$79:D261)","v":3765.4991314997437},{"$f":"AVERAGE(M$79:M261)","v":3771.6499703079417},3769.569968970125,{"$f":"AVERAGE(P$79:P261)","v":3728.0181060081595},null,null,null,null,40098.106539351509,{"$f":"LOOKUP($V261,Data!$A$6:$A$1806,Data!$B$6:$B$1806)","v":60.019001007080078},{"$f":"LOOKUP($V261,Data!$A$6:$A$1806,Data!$C$6:$C$1806)","v":3788.0302734375},{"$f":"LOOKUP($V261,Data!$A$6:$A$1806,Data!$D$6:$D$1806)","v":335},{"$f":"IF($Z$1=\"+\",LOOKUP($V261,Data!$A$6:$A$1806,Data!$E$6:$E$1806)*-1,LOOKUP($V261,Data!$A$6:$A$1806,Data!$E$6:$E$1806))","v":-155.53170776367187},{"$f":"LOOKUP($V261,Data!$A$6:$A$1806,Data!$F$6:$F$1806)","v":0},{"$f":"LOOKUP($V261,Data!$A$6:$A$1806,Data!$G$6:$G$1806)","v":214},{"$f":"LOOKUP($V261,Data!$A$6:$A$1806,Data!$H$6:$H$1806)","v":10},{"$f":"LOOKUP($V261,Data!$A$6:$A$1806,Data!$I$6:$I$1806)","v":0},{"$f":"LOOKUP($V261,Data!$A$6:$A$1806,Data!$J$6:$J$1806)","v":-103},{"$f":"LOOKUP($V261,Data!$A$6:$A$1806,Data!$K$6:$K$1806)","v":7641.24},-15.2008056640625]
[null,40098.106562499655,{"$f":"LOOKUP(B262,Data!$A$6:$A$1806,Data!B$6:B$1806)","v":60.019001007080078},{"$f":"LOOKUP(B262,Data!$A$6:$A$1806,Data!C$6:C$1806)","v":3788.0302734375},null,null,null,-15.2008056640625,-14.631329957240942,null,null,0,3750.2952420372908,{"$f":"AVERAGE(D$79:D262)","v":3765.6215833581014},{"$f":"AVERAGE(M$79:M262)","v":3771.5339120021231},3769.569968970125,{"$f":"AVERAGE(P$79:P262)","v":3728.2451653686076},null,null,null,null,40098.106562499655,{"$f":"LOOKUP($V262,Data!$A$6:$A$1806,Data!$B$6:$B$1806)","v":60.019001007080078},{"$f":"LOOKUP($V262,Data!$A$6:$A$1806,Data!$C$6:$C$1806)","v":3788.0302734375},{"$f":"LOOKUP($V262,Data!$A$6:$A$1806,Data!$D$6:$D$1806)","v":335},{"$f":"IF($Z$1=\"+\",LOOKUP($V262,Data!$A$6:$A$1806,Data!$E$6:$E$1806)*-1,LOOKUP($V262,Data!$A$6:$A$1806,Data!$E$6:$E$1806))","v":-155.53170776367187},{"$f":"LOOKUP($V262,Data!$A$6:$A$1806,Data!$F$6:$F$1806)","v":0},{"$f":"LOOKUP($V262,Data!$A$6:$A$1806,Data!$G$6:$G$1806)","v":214},{"$f":"LOOKUP($V262,Data!$A$6:$A$1806,Data!$H$6:$H$1806)","v":10},{"$f":"LOOKUP($V262,Data!$A$6:$A$1806,Data!$I$6:$I$1806)","v":0},{"$f":"LOOKUP($V262,Data!$A$6:$A$1806,Data!$J$6:$J$1806)","v":-103},{"$f":"LOOKUP($V262,Data!$A$6:$A$1806,Data!$K$6:$K$1806)","v":7641.24},-15.2008056640625]
[null,40098.106585647802,{"$f":"LOOKUP(B263,Data!$A$6:$A$1806,Data!B$6:B$1806)","v":60.022998809814453},{"$f":"LOOKUP(B263,Data!$A$6:$A$1806,Data!C$6:C$1806)","v":3789.2158203125},null,null,null,-18.3990478515625,-15.950031220253488,null,null,0,3748.9765407742784,{"$f":"AVERAGE(D$79:D263)","v":3765.749119774071},{"$f":"AVERAGE(M$79:M263)","v":3771.411980265756},3769.569968970125,{"$f":"AVERAGE(P$79:P263)","v":3728.4697566925288},null,null,null,null,40098.106585647802,{"$f":"LOOKUP($V263,Data!$A$6:$A$1806,Data!$B$6:$B$1806)","v":60.022998809814453},{"$f":"LOOKUP($V263,Data!$A$6:$A$1806,Data!$C$6:$C$1806)","v":3789.2158203125},{"$f":"LOOKUP($V263,Data!$A$6:$A$1806,Data!$D$6:$D$1806)","v":335},{"$f":"IF($Z$1=\"+\",LOOKUP($V263,Data!$A$6:$A$1806,Data!$E$6:$E$1806)*-1,LOOKUP($V263,Data!$A$6:$A$1806,Data!$E$6:$E$1806))","v":-155.53170776367187},{"$f":"LOOKUP($V263,Data!$A$6:$A$1806,Data!$F$6:$F$1806)","v":0},{"$f":"LOOKUP($V263,Data!$A$6:$A$1806,Data!$G$6:$G$1806)","v":214.5},{"$f":"LOOKUP($V263,Data!$A$6:$A$1806,Data!$H$6:$H$1806)","v":10},{"$f":"LOOKUP($V263,Data!$A$6:$A$1806,Data!$I$6:$I$1806)","v":0},{"$f":"LOOKUP($V263,Data!$A$6:$A$1806,Data!$J$6:$J$1806)","v":-103},{"$f":"LOOKUP($V263,Data!$A$6:$A$1806,Data!$K$6:$K$1806)","v":7641.57},-18.3990478515625]
[null,40098.106608795948,{"$f":"LOOKUP(B264,Data!$A$6:$A$1806,Data!B$6:B$1806)","v":60.025001525878906},{"$f":"LOOKUP(B264,Data!$A$6:$A$1806,Data!C$6:C$1806)","v":3787.53662109375},null,null,null,-20.001220703125,-17.367947539258516,null,null,0,3747.5586244552733,{"$f":"AVERAGE(D$79:D264)","v":3765.86625687794},{"$f":"AVERAGE(M$79:M264)","v":3771.2837364173124},3769.569968970125,{"$f":"AVERAGE(P$79:P264)","v":3728.6919200021375},null,null,null,null,40098.106608795948,{"$f":"LOOKUP($V264,Data!$A$6:$A$1806,Data!$B$6:$B$1806)","v":60.025001525878906},{"$f":"LOOKUP($V264,Data!$A$6:$A$1806,Data!$C$6:$C$1806)","v":3787.53662109375},{"$f":"LOOKUP($V264,Data!$A$6:$A$1806,Data!$D$6:$D$1806)","v":335},{"$f":"IF($Z$1=\"+\",LOOKUP($V264,Data!$A$6:$A$1806,Data!$E$6:$E$1806)*-1,LOOKUP($V264,Data!$A$6:$A$1806,Data!$E$6:$E$1806))","v":-155.53170776367187},{"$f":"LOOKUP($V264,Data!$A$6:$A$1806,Data!$F$6:$F$1806)","v":0},{"$f":"LOOKUP($V264,Data!$A$6:$A$1806,Data!$G$6:$G$1806)","v":215},{"$f":"LOOKUP($V264,Data!$A$6:$A$1806,Data!$H$6:$H$1806)","v":10},{"$f":"LOOKUP($V264,Data!$A$6:$A$1806,Data!$I$6:$I$1806)","v":0},{"$f":"LOOKUP($V264,Data!$A$6:$A$1806,Data!$J$6:$J$1806)","v":-103},{"$f":"LOOKUP($V264,Data!$A$6:$A$1806,Data!$K$6:$K$1806)","v":7641.9},-20.001220703125]
[null,40098.106631944094,{"$f":"LOOKUP(B265,Data!$A$6:$A$1806,Data!B$6:B$1806)","v":60.025001525878906},{"$f":"LOOKUP(B265,Data!$A$6:$A$1806,Data!C$6:C$1806)","v":3787.53662109375},null,null,null,-20.001220703125,-18.289593146611786,null,null,0,3746.6369788479201,{"$f":"AVERAGE(D$79:D265)","v":3765.9821411785597},{"$f":"AVERAGE(M$79:M265)","v":3771.151935574695},3769.569968970125,{"$f":"AVERAGE(P$79:P265)","v":3728.911694458955},null,null,null,null,40098.106631944094,{"$f":"LOOKUP($V265,Data!$A$6:$A$1806,Data!$B$6:$B$1806)","v":60.025001525878906},{"$f":"LOOKUP($V265,Data!$A$6:$A$1806,Data!$C$6:$C$1806)","v":3787.53662109375},{"$f":"LOOKUP($V265,Data!$A$6:$A$1806,Data!$D$6:$D$1806)","v":335},{"$f":"IF($Z$1=\"+\",LOOKUP($V265,Data!$A$6:$A$1806,Data!$E$6:$E$1806)*-1,LOOKUP($V265,Data!$A$6:$A$1806,Data!$E$6:$E$1806))","v":-155.53170776367187},{"$f":"LOOKUP($V265,Data!$A$6:$A$1806,Data!$F$6:$F$1806)","v":0},{"$f":"LOOKUP($V265,Data!$A$6:$A$1806,Data!$G$6:$G$1806)","v":215},{"$f":"LOOKUP($V265,Data!$A$6:$A$1806,Data!$H$6:$H$1806)","v":10},{"$f":"LOOKUP($V265,Data!$A$6:$A$1806,Data!$I$6:$I$1806)","v":0},{"$f":"LOOKUP($V265,Data!$A$6:$A$1806,Data!$J$6:$J$1806)","v":-103},{"$f":"LOOKUP($V265,Data!$A$6:$A$1806,Data!$K$6:$K$1806)","v":7641.9},-20.001220703125]
[null,40098.106655092241,{"$f":"LOOKUP(B266,Data!$A$6:$A$1806,Data!B$6:B$1806)","v":60.020999908447266},{"$f":"LOOKUP(B266,Data!$A$6:$A$1806,Data!C$6:C$1806)","v":3786.07666015625},null,null,null,-16.7999267578125,-17.768209910532036,null,null,0,3747.1583620839997,{"$f":"AVERAGE(D$79:D266)","v":3766.0890269178026},{"$f":"AVERAGE(M$79:M266)","v":3771.0243101837868},3769.569968970125,{"$f":"AVERAGE(P$79:P266)","v":3729.1291183868225},null,null,null,null,40098.106655092241,{"$f":"LOOKUP($V266,Data!$A$6:$A$1806,Data!$B$6:$B$1806)","v":60.020999908447266},{"$f":"LOOKUP($V266,Data!$A$6:$A$1806,Data!$C$6:$C$1806)","v":3786.07666015625},{"$f":"LOOKUP($V266,Data!$A$6:$A$1806,Data!$D$6:$D$1806)","v":335},{"$f":"IF($Z$1=\"+\",LOOKUP($V266,Data!$A$6:$A$1806,Data!$E$6:$E$1806)*-1,LOOKUP($V266,Data!$A$6:$A$1806,Data!$E$6:$E$1806))","v":-155.53170776367187},{"$f":"LOOKUP($V266,Data!$A$6:$A$1806,Data!$F$6:$F$1806)","v":0},{"$f":"LOOKUP($V266,Data!$A$6:$A$1806,Data!$G$6:$G$1806)","v":215.5},{"$f":"LOOKUP($V266,Data!$A$6:$A$1806,Data!$H$6:$H$1806)","v":10},{"$f":"LOOKUP($V266,Data!$A$6:$A$1806,Data!$I$6:$I$1806)","v":0},{"$f":"LOOKUP($V266,Data!$A$6:$A$1806,Data!$J$6:$J$1806)","v":-103},{"$f":"LOOKUP($V266,Data!$A$6:$A$1806,Data!$K$6:$K$1806)","v":7642.23},-16.7999267578125]
[null,40098.106678240387,{"$f":"LOOKUP(B267,Data!$A$6:$A$1806,Data!B$6:B$1806)","v":60.023998260498047},{"$f":"LOOKUP(B267,Data!$A$6:$A$1806,Data!C$6:C$1806)","v":3787.930419921875},null,null,null,-19.1986083984375,-18.268849381298949,null,null,0,3746.6577226132326,{"$f":"AVERAGE(D$79:D267)","v":3766.20458984375},{"$f":"AVERAGE(M$79:M267)","v":3770.8953864400273},3769.569968970125,{"$f":"AVERAGE(P$79:P267)","v":3729.3442292941804},null,null,null,null,40098.106678240387,{"$f":"LOOKUP($V267,Data!$A$6:$A$1806,Data!$B$6:$B$1806)","v":60.023998260498047},{"$f":"LOOKUP($V267,Data!$A$6:$A$1806,Data!$C$6:$C$1806)","v":3787.930419921875},{"$f":"LOOKUP($V267,Data!$A$6:$A$1806,Data!$D$6:$D$1806)","v":335},{"$f":"IF($Z$1=\"+\",LOOKUP($V267,Data!$A$6:$A$1806,Data!$E$6:$E$1806)*-1,LOOKUP($V267,Data!$A$6:$A$1806,Data!$E$6:$E$1806))","v":-155.53170776367187},{"$f":"LOOKUP($V267,Data!$A$6:$A$1806,Data!$F$6:$F$1806)","v":0},{"$f":"LOOKUP($V267,Data!$A$6:$A$1806,Data!$G$6:$G$1806)","v":216},{"$f":"LOOKUP($V267,Data!$A$6:$A$1806,Data!$H$6:$H$1806)","v":10},{"$f":"LOOKUP($V267,Data!$A$6:$A$1806,Data!$I$6:$I$1806)","v":0},{"$f":"LOOKUP($V267,Data!$A$6:$A$1806,Data!$J$6:$J$1806)","v":-103},{"$f":"LOOKUP($V267,Data!$A$6:$A$1806,Data!$K$6:$K$1806)","v":7642.56},-19.1986083984375]
[null,40098.106701388533,{"$f":"LOOKUP(B268,Data!$A$6:$A$1806,Data!B$6:B$1806)","v":60.023998260498047},{"$f":"LOOKUP(B268,Data!$A$6:$A$1806,Data!C$6:C$1806)","v":3787.930419921875},null,null,null,-19.1986083984375,-18.59426503729744,null,null,0,3746.3323069572343,{"$f":"AVERAGE(D$79:D268)","v":3766.3189363178453},{"$f":"AVERAGE(M$79:M268)","v":3770.7661070743284},3769.569968970125,{"$f":"AVERAGE(P$79:P268)","v":3729.5570638956406},null,null,null,null,40098.106701388533,{"$f":"LOOKUP($V268,Data!$A$6:$A$1806,Data!$B$6:$B$1806)","v":60.023998260498047},{"$f":"LOOKUP($V268,Data!$A$6:$A$1806,Data!$C$6:$C$1806)","v":3787.930419921875},{"$f":"LOOKUP($V268,Data!$A$6:$A$1806,Data!$D$6:$D$1806)","v":335},{"$f":"IF($Z$1=\"+\",LOOKUP($V268,Data!$A$6:$A$1806,Data!$E$6:$E$1806)*-1,LOOKUP($V268,Data!$A$6:$A$1806,Data!$E$6:$E$1806))","v":-155.53170776367187},{"$f":"LOOKUP($V268,Data!$A$6:$A$1806,Data!$F$6:$F$1806)","v":0},{"$f":"LOOKUP($V268,Data!$A$6:$A$1806,Data!$G$6:$G$1806)","v":216},{"$f":"LOOKUP($V268,Data!$A$6:$A$1806,Data!$H$6:$H$1806)","v":10},{"$f":"LOOKUP($V268,Data!$A$6:$A$1806,Data!$I$6:$I$1806)","v":0},{"$f":"LOOKUP($V268,Data!$A$6:$A$1806,Data!$J$6:$J$1806)","v":-103},{"$f":"LOOKUP($V268,Data!$A$6:$A$1806,Data!$K$6:$K$1806)","v":7642.56},-19.1986083984375]
[null,40098.106724536679,{"$f":"LOOKUP(B269,Data!$A$6:$A$1806,Data!B$6:B$1806)","v":60.023998260498047},{"$f":"LOOKUP(B269,Data!$A$6:$A$1806,Data!C$6:C$1806)","v":3786.874755859375},null,null,null,-19.1986083984375,-18.80578521369646,null,null,0,3746.1207867808353,{"$f":"AVERAGE(D$79:D269)","v":3766.4265584096856},{"$f":"AVERAGE(M$79:M269)","v":3770.6370739837862},3769.569968970125,{"$f":"AVERAGE(P$79:P269)","v":3729.7676581328747},null,null,null,null,40098.106724536679,{"$f":"LOOKUP($V269,Data!$A$6:$A$1806,Data!$B$6:$B$1806)","v":60.023998260498047},{"$f":"LOOKUP($V269,Data!$A$6:$A$1806,Data!$C$6:$C$1806)","v":3786.874755859375},{"$f":"LOOKUP($V269,Data!$A$6:$A$1806,Data!$D$6:$D$1806)","v":335},{"$f":"IF($Z$1=\"+\",LOOKUP($V269,Data!$A$6:$A$1806,Data!$E$6:$E$1806)*-1,LOOKUP($V269,Data!$A$6:$A$1806,Data!$E$6:$E$1806))","v":-160.44723510742187},{"$f":"LOOKUP($V269,Data!$A$6:$A$1806,Data!$F$6:$F$1806)","v":0},{"$f":"LOOKUP($V269,Data!$A$6:$A$1806,Data!$G$6:$G$1806)","v":216.5},{"$f":"LOOKUP($V269,Data!$A$6:$A$1806,Data!$H$6:$H$1806)","v":10},{"$f":"LOOKUP($V269,Data!$A$6:$A$1806,Data!$I$6:$I$1806)","v":0},{"$f":"LOOKUP($V269,Data!$A$6:$A$1806,Data!$J$6:$J$1806)","v":-103},{"$f":"LOOKUP($V269,Data!$A$6:$A$1806,Data!$K$6:$K$1806)","v":7642.89},-19.1986083984375]
[null,40098.106747684826,{"$f":"LOOKUP(B270,Data!$A$6:$A$1806,Data!B$6:B$1806)","v":60.020000457763672},{"$f":"LOOKUP(B270,Data!$A$6:$A$1806,Data!C$6:C$1806)","v":3786.5498046875},null,null,null,-16.0003662109375,-17.823888562730822,null,null,0,3747.1026834318009,{"$f":"AVERAGE(D$79:D270)","v":3766.5313669840493},{"$f":"AVERAGE(M$79:M270)","v":3770.514499032995},3769.569968970125,{"$f":"AVERAGE(P$79:P270)","v":3729.9760471948498},null,null,null,null,40098.106747684826,{"$f":"LOOKUP($V270,Data!$A$6:$A$1806,Data!$B$6:$B$1806)","v":60.020000457763672},{"$f":"LOOKUP($V270,Data!$A$6:$A$1806,Data!$C$6:$C$1806)","v":3786.5498046875},{"$f":"LOOKUP($V270,Data!$A$6:$A$1806,Data!$D$6:$D$1806)","v":335},{"$f":"IF($Z$1=\"+\",LOOKUP($V270,Data!$A$6:$A$1806,Data!$E$6:$E$1806)*-1,LOOKUP($V270,Data!$A$6:$A$1806,Data!$E$6:$E$1806))","v":-160.44723510742187},{"$f":"LOOKUP($V270,Data!$A$6:$A$1806,Data!$F$6:$F$1806)","v":0},{"$f":"LOOKUP($V270,Data!$A$6:$A$1806,Data!$G$6:$G$1806)","v":217},{"$f":"LOOKUP($V270,Data!$A$6:$A$1806,Data!$H$6:$H$1806)","v":10},{"$f":"LOOKUP($V270,Data!$A$6:$A$1806,Data!$I$6:$I$1806)","v":0},{"$f":"LOOKUP($V270,Data!$A$6:$A$1806,Data!$J$6:$J$1806)","v":-103},{"$f":"LOOKUP($V270,Data!$A$6:$A$1806,Data!$K$6:$K$1806)","v":7643.22},-16.0003662109375]
[null,40098.106770832972,{"$f":"LOOKUP(B271,Data!$A$6:$A$1806,Data!B$6:B$1806)","v":60.020000457763672},{"$f":"LOOKUP(B271,Data!$A$6:$A$1806,Data!C$6:C$1806)","v":3786.5498046875},null,null,null,-16.0003662109375,-17.18565573960316,null,null,0,3747.7409162549284,{"$f":"AVERAGE(D$79:D271)","v":3766.6350894591969},{"$f":"AVERAGE(M$79:M271)","v":3770.3965011947666},3769.569968970125,{"$f":"AVERAGE(P$79:P271)","v":3730.1822655374294},null,null,null,null,40098.106770832972,{"$f":"LOOKUP($V271,Data!$A$6:$A$1806,Data!$B$6:$B$1806)","v":60.020000457763672},{"$f":"LOOKUP($V271,Data!$A$6:$A$1806,Data!$C$6:$C$1806)","v":3786.5498046875},{"$f":"LOOKUP($V271,Data!$A$6:$A$1806,Data!$D$6:$D$1806)","v":335},{"$f":"IF($Z$1=\"+\",LOOKUP($V271,Data!$A$6:$A$1806,Data!$E$6:$E$1806)*-1,LOOKUP($V271,Data!$A$6:$A$1806,Data!$E$6:$E$1806))","v":-160.44723510742187},{"$f":"LOOKUP($V271,Data!$A$6:$A$1806,Data!$F$6:$F$1806)","v":0},{"$f":"LOOKUP($V271,Data!$A$6:$A$1806,Data!$G$6:$G$1806)","v":217},{"$f":"LOOKUP($V271,Data!$A$6:$A$1806,Data!$H$6:$H$1806)","v":10},{"$f":"LOOKUP($V271,Data!$A$6:$A$1806,Data!$I$6:$I$1806)","v":0},{"$f":"LOOKUP($V271,Data!$A$6:$A$1806,Data!$J$6:$J$1806)","v":-103},{"$f":"LOOKUP($V271,Data!$A$6:$A$1806,Data!$K$6:$K$1806)","v":7643.22},-16.0003662109375]
[null,40098.106793981118,{"$f":"LOOKUP(B272,Data!$A$6:$A$1806,Data!B$6:B$1806)","v":60.025001525878906},{"$f":"LOOKUP(B272,Data!$A$6:$A$1806,Data!C$6:C$1806)","v":3785.01806640625},null,null,null,-20.001220703125,-18.171103476835803,null,null,{"$f":"IF(B272>G$3,0,(K$21*0.000023148/K$22))","v":0},{"$f":"M271+L272+(I272-I271)","v":3746.7554685176956},{"$f":"AVERAGE(D$79:D272)","v":3766.7298470723258},{"$f":"AVERAGE(M$79:M272)","v":3770.2746402015855},3769.569968970125,{"$f":"AVERAGE(P$79:P272)","v":3730.3863469023659},null,null,null,null,40098.106793981118,{"$f":"LOOKUP($V272,Data!$A$6:$A$1806,Data!$B$6:$B$1806)","v":60.025001525878906},{"$f":"LOOKUP($V272,Data!$A$6:$A$1806,Data!$C$6:$C$1806)","v":3785.01806640625},{"$f":"LOOKUP($V272,Data!$A$6:$A$1806,Data!$D$6:$D$1806)","v":335},{"$f":"IF($Z$1=\"+\",LOOKUP($V272,Data!$A$6:$A$1806,Data!$E$6:$E$1806)*-1,LOOKUP($V272,Data!$A$6:$A$1806,Data!$E$6:$E$1806))","v":-160.44723510742187},{"$f":"LOOKUP($V272,Data!$A$6:$A$1806,Data!$F$6:$F$1806)","v":0},{"$f":"LOOKUP($V272,Data!$A$6:$A$1806,Data!$G$6:$G$1806)","v":217.5},{"$f":"LOOKUP($V272,Data!$A$6:$A$1806,Data!$H$6:$H$1806)","v":10},{"$f":"LOOKUP($V272,Data!$A$6:$A$1806,Data!$I$6:$I$1806)","v":0},{"$f":"LOOKUP($V272,Data!$A$6:$A$1806,Data!$J$6:$J$1806)","v":-103},{"$f":"LOOKUP($V272,Data!$A$6:$A$1806,Data!$K$6:$K$1806)","v":7643.55},-20.001220703125]
[null,40098.106817129265,{"$f":"LOOKUP(B273,Data!$A$6:$A$1806,Data!B$6:B$1806)","v":60.020000457763672},{"$f":"LOOKUP(B273,Data!$A$6:$A$1806,Data!C$6:C$1806)","v":3785.614013671875},null,null,null,-16.0003662109375,-17.411345433771398,null,null,0,3747.5152265607599,{"$f":"AVERAGE(D$79:D273)","v":3766.8266889523238},{"$f":"AVERAGE(M$79:M273)","v":3770.1579252598376},3769.569968970125,{"$f":"AVERAGE(P$79:P273)","v":3730.5883243357048},null,null,null,null,{"$f":"V272+TIME(0,0,$B$1)","v":40098.106817129265},{"$f":"LOOKUP($V273,Data!$A$6:$A$1806,Data!$B$6:$B$1806)","v":60.020000457763672},{"$f":"LOOKUP($V273,Data!$A$6:$A$1806,Data!$C$6:$C$1806)","v":3785.614013671875},{"$f":"LOOKUP($V273,Data!$A$6:$A$1806,Data!$D$6:$D$1806)","v":335},{"$f":"IF($Z$1=\"+\",LOOKUP($V273,Data!$A$6:$A$1806,Data!$E$6:$E$1806)*-1,LOOKUP($V273,Data!$A$6:$A$1806,Data!$E$6:$E$1806))","v":-160.44723510742187},{"$f":"LOOKUP($V273,Data!$A$6:$A$1806,Data!$F$6:$F$1806)","v":0},{"$f":"LOOKUP($V273,Data!$A$6:$A$1806,Data!$G$6:$G$1806)","v":218},{"$f":"LOOKUP($V273,Data!$A$6:$A$1806,Data!$H$6:$H$1806)","v":10},{"$f":"LOOKUP($V273,Data!$A$6:$A$1806,Data!$I$6:$I$1806)","v":0},{"$f":"LOOKUP($V273,Data!$A$6:$A$1806,Data!$J$6:$J$1806)","v":-103},{"$f":"LOOKUP($V273,Data!$A$6:$A$1806,Data!$K$6:$K$1806)","v":7643.88},-16.0003662109375]
[null,40098.106840277411,{"$f":"LOOKUP(B274,Data!$A$6:$A$1806,Data!B$6:B$1806)","v":60.020000457763672},{"$f":"LOOKUP(B274,Data!$A$6:$A$1806,Data!C$6:C$1806)","v":3785.614013671875},null,null,null,-16.0003662109375,-16.917502705779533,null,null,0,3748.0090692887516,{"$f":"AVERAGE(D$79:D274)","v":3766.9225426498724},{"$f":"AVERAGE(M$79:M274)","v":3770.0449208926384},{"$f":"P273+L274","v":3769.569968970125},{"$f":"AVERAGE(P$79:P274)","v":3730.788230205625},null,null,null,null,40098.106840277411,{"$f":"LOOKUP($V274,Data!$A$6:$A$1806,Data!$B$6:$B$1806)","v":60.020000457763672},{"$f":"LOOKUP($V274,Data!$A$6:$A$1806,Data!$C$6:$C$1806)","v":3785.614013671875},{"$f":"LOOKUP($V274,Data!$A$6:$A$1806,Data!$D$6:$D$1806)","v":335},{"$f":"IF($Z$1=\"+\",LOOKUP($V274,Data!$A$6:$A$1806,Data!$E$6:$E$1806)*-1,LOOKUP($V274,Data!$A$6:$A$1806,Data!$E$6:$E$1806))","v":-160.44723510742187},{"$f":"LOOKUP($V274,Data!$A$6:$A$1806,Data!$F$6:$F$1806)","v":0},{"$f":"LOOKUP($V274,Data!$A$6:$A$1806,Data!$G$6:$G$1806)","v":218},{"$f":"LOOKUP($V274,Data!$A$6:$A$1806,Data!$H$6:$H$1806)","v":10},{"$f":"LOOKUP($V274,Data!$A$6:$A$1806,Data!$I$6:$I$1806)","v":0},{"$f":"LOOKUP($V274,Data!$A$6:$A$1806,Data!$J$6:$J$1806)","v":-103},{"$f":"LOOKUP($V274,Data!$A$6:$A$1806,Data!$K$6:$K$1806)","v":7643.88},-16.0003662109375]
[null,40098.106863425557,{"$f":"LOOKUP(B275,Data!$A$6:$A$1806,Data!B$6:B$1806)","v":60.020000457763672},{"$f":"LOOKUP(B275,Data!$A$6:$A$1806,Data!C$6:C$1806)","v":3785.8037109375},null,null,null,-16.0003662109375,-16.596504932584821,null,null,0,3748.3300670619465,{"$f":"AVERAGE(D$79:D275)","v":3767.0183861437181},{"$f":"AVERAGE(M$79:M275)","v":3769.9346932082185},3769.569968970125,{"$f":"AVERAGE(P$79:P275)","v":3730.9860962197299},null,null,null,null,40098.106863425557,{"$f":"LOOKUP($V275,Data!$A$6:$A$1806,Data!$B$6:$B$1806)","v":60.020000457763672},{"$f":"LOOKUP($V275,Data!$A$6:$A$1806,Data!$C$6:$C$1806)","v":3785.8037109375},{"$f":"LOOKUP($V275,Data!$A$6:$A$1806,Data!$D$6:$D$1806)","v":335},{"$f":"IF($Z$1=\"+\",LOOKUP($V275,Data!$A$6:$A$1806,Data!$E$6:$E$1806)*-1,LOOKUP($V275,Data!$A$6:$A$1806,Data!$E$6:$E$1806))","v":-160.44723510742187},{"$f":"LOOKUP($V275,Data!$A$6:$A$1806,Data!$F$6:$F$1806)","v":0},{"$f":"LOOKUP($V275,Data!$A$6:$A$1806,Data!$G$6:$G$1806)","v":218.5},{"$f":"LOOKUP($V275,Data!$A$6:$A$1806,Data!$H$6:$H$1806)","v":10},{"$f":"LOOKUP($V275,Data!$A$6:$A$1806,Data!$I$6:$I$1806)","v":0},{"$f":"LOOKUP($V275,Data!$A$6:$A$1806,Data!$J$6:$J$1806)","v":-103},{"$f":"LOOKUP($V275,Data!$A$6:$A$1806,Data!$K$6:$K$1806)","v":7644.21},-16.0003662109375]
[null,40098.106886573703,{"$f":"LOOKUP(B276,Data!$A$6:$A$1806,Data!B$6:B$1806)","v":60.021999359130859},{"$f":"LOOKUP(B276,Data!$A$6:$A$1806,Data!C$6:C$1806)","v":3786.8642578125},null,null,null,-17.5994873046875,-16.947548762820759,null,null,0,3747.9790232317105,{"$f":"AVERAGE(D$79:D276)","v":3767.1186178188132},{"$f":"AVERAGE(M$79:M276)","v":3769.8238059861146},3769.569968970125,{"$f":"AVERAGE(P$79:P276)","v":3731.1819534418132},null,null,null,null,40098.106886573703,{"$f":"LOOKUP($V276,Data!$A$6:$A$1806,Data!$B$6:$B$1806)","v":60.021999359130859},{"$f":"LOOKUP($V276,Data!$A$6:$A$1806,Data!$C$6:$C$1806)","v":3786.8642578125},{"$f":"LOOKUP($V276,Data!$A$6:$A$1806,Data!$D$6:$D$1806)","v":335},{"$f":"IF($Z$1=\"+\",LOOKUP($V276,Data!$A$6:$A$1806,Data!$E$6:$E$1806)*-1,LOOKUP($V276,Data!$A$6:$A$1806,Data!$E$6:$E$1806))","v":-163.95860290527344},{"$f":"LOOKUP($V276,Data!$A$6:$A$1806,Data!$F$6:$F$1806)","v":0},{"$f":"LOOKUP($V276,Data!$A$6:$A$1806,Data!$G$6:$G$1806)","v":219},{"$f":"LOOKUP($V276,Data!$A$6:$A$1806,Data!$H$6:$H$1806)","v":10},{"$f":"LOOKUP($V276,Data!$A$6:$A$1806,Data!$I$6:$I$1806)","v":0},{"$f":"LOOKUP($V276,Data!$A$6:$A$1806,Data!$J$6:$J$1806)","v":-103},{"$f":"LOOKUP($V276,Data!$A$6:$A$1806,Data!$K$6:$K$1806)","v":7644.54},-17.5994873046875]
[null,40098.10690972185,{"$f":"LOOKUP(B277,Data!$A$6:$A$1806,Data!B$6:B$1806)","v":60.021999359130859},{"$f":"LOOKUP(B277,Data!$A$6:$A$1806,Data!C$6:C$1806)","v":3786.8642578125},null,null,null,-17.5994873046875,-17.175727252474118,null,null,0,3747.7508447420573,{"$f":"AVERAGE(D$79:D277)","v":3767.2178421403896},{"$f":"AVERAGE(M$79:M277)","v":3769.7128865828781},3769.569968970125,{"$f":"AVERAGE(P$79:P277)","v":3731.3758323081179},null,null,null,null,40098.10690972185,{"$f":"LOOKUP($V277,Data!$A$6:$A$1806,Data!$B$6:$B$1806)","v":60.021999359130859},{"$f":"LOOKUP($V277,Data!$A$6:$A$1806,Data!$C$6:$C$1806)","v":3786.8642578125},{"$f":"LOOKUP($V277,Data!$A$6:$A$1806,Data!$D$6:$D$1806)","v":335},{"$f":"IF($Z$1=\"+\",LOOKUP($V277,Data!$A$6:$A$1806,Data!$E$6:$E$1806)*-1,LOOKUP($V277,Data!$A$6:$A$1806,Data!$E$6:$E$1806))","v":-163.95860290527344},{"$f":"LOOKUP($V277,Data!$A$6:$A$1806,Data!$F$6:$F$1806)","v":0},{"$f":"LOOKUP($V277,Data!$A$6:$A$1806,Data!$G$6:$G$1806)","v":219},{"$f":"LOOKUP($V277,Data!$A$6:$A$1806,Data!$H$6:$H$1806)","v":10},{"$f":"LOOKUP($V277,Data!$A$6:$A$1806,Data!$I$6:$I$1806)","v":0},{"$f":"LOOKUP($V277,Data!$A$6:$A$1806,Data!$J$6:$J$1806)","v":-103},{"$f":"LOOKUP($V277,Data!$A$6:$A$1806,Data!$K$6:$K$1806)","v":7644.54},-17.5994873046875]
[null,40098.106932869996,{"$f":"LOOKUP(B278,Data!$A$6:$A$1806,Data!B$6:B$1806)","v":60.021999359130859},{"$f":"LOOKUP(B278,Data!$A$6:$A$1806,Data!C$6:C$1806)","v":3785.25390625},null,null,null,-17.5994873046875,-17.324043270748803,null,null,0,3747.6025287237826,{"$f":"AVERAGE(D$79:D278)","v":3767.3080224609375},{"$f":"AVERAGE(M$79:M278)","v":3769.6023347935825},3769.569968970125,{"$f":"AVERAGE(P$79:P278)","v":3731.5677626431029},null,null,null,null,40098.106932869996,{"$f":"LOOKUP($V278,Data!$A$6:$A$1806,Data!$B$6:$B$1806)","v":60.021999359130859},{"$f":"LOOKUP($V278,Data!$A$6:$A$1806,Data!$C$6:$C$1806)","v":3785.25390625},{"$f":"LOOKUP($V278,Data!$A$6:$A$1806,Data!$D$6:$D$1806)","v":335},{"$f":"IF($Z$1=\"+\",LOOKUP($V278,Data!$A$6:$A$1806,Data!$E$6:$E$1806)*-1,LOOKUP($V278,Data!$A$6:$A$1806,Data!$E$6:$E$1806))","v":-163.95860290527344},{"$f":"LOOKUP($V278,Data!$A$6:$A$1806,Data!$F$6:$F$1806)","v":0},{"$f":"LOOKUP($V278,Data!$A$6:$A$1806,Data!$G$6:$G$1806)","v":219.5},{"$f":"LOOKUP($V278,Data!$A$6:$A$1806,Data!$H$6:$H$1806)","v":10},{"$f":"LOOKUP($V278,Data!$A$6:$A$1806,Data!$I$6:$I$1806)","v":0},{"$f":"LOOKUP($V278,Data!$A$6:$A$1806,Data!$J$6:$J$1806)","v":-103},{"$f":"LOOKUP($V278,Data!$A$6:$A$1806,Data!$K$6:$K$1806)","v":7644.87},-17.5994873046875]
[null,40098.106956018142,{"$f":"LOOKUP(B279,Data!$A$6:$A$1806,Data!B$6:B$1806)","v":60.020999908447266},{"$f":"LOOKUP(B279,Data!$A$6:$A$1806,Data!C$6:C$1806)","v":3785.72607421875},null,null,null,-16.7999267578125,-17.140602491221095,null,null,0,3747.7859695033103,{"$f":"AVERAGE(D$79:D279)","v":3767.3996545592349},{"$f":"AVERAGE(M$79:M279)","v":3769.4937956627855},3769.569968970125,{"$f":"AVERAGE(P$79:P279)","v":3731.757773674738},null,null,null,null,40098.106956018142,{"$f":"LOOKUP($V279,Data!$A$6:$A$1806,Data!$B$6:$B$1806)","v":60.020999908447266},{"$f":"LOOKUP($V279,Data!$A$6:$A$1806,Data!$C$6:$C$1806)","v":3785.72607421875},{"$f":"LOOKUP($V279,Data!$A$6:$A$1806,Data!$D$6:$D$1806)","v":335},{"$f":"IF($Z$1=\"+\",LOOKUP($V279,Data!$A$6:$A$1806,Data!$E$6:$E$1806)*-1,LOOKUP($V279,Data!$A$6:$A$1806,Data!$E$6:$E$1806))","v":-163.95860290527344},{"$f":"LOOKUP($V279,Data!$A$6:$A$1806,Data!$F$6:$F$1806)","v":0},{"$f":"LOOKUP($V279,Data!$A$6:$A$1806,Data!$G$6:$G$1806)","v":220},{"$f":"LOOKUP($V279,Data!$A$6:$A$1806,Data!$H$6:$H$1806)","v":10},{"$f":"LOOKUP($V279,Data!$A$6:$A$1806,Data!$I$6:$I$1806)","v":0},{"$f":"LOOKUP($V279,Data!$A$6:$A$1806,Data!$J$6:$J$1806)","v":-103},{"$f":"LOOKUP($V279,Data!$A$6:$A$1806,Data!$K$6:$K$1806)","v":7645.2},-16.7999267578125]
[null,40098.106979166289,{"$f":"LOOKUP(B280,Data!$A$6:$A$1806,Data!B$6:B$1806)","v":60.020999908447266},{"$f":"LOOKUP(B280,Data!$A$6:$A$1806,Data!C$6:C$1806)","v":3785.72607421875},null,null,null,-16.7999267578125,-17.021365984528089,null,null,0,3747.9052060100034,{"$f":"AVERAGE(D$79:D280)","v":3767.4903794090346},{"$f":"AVERAGE(M$79:M280)","v":3769.3869214565834},3769.569968970125,{"$f":"AVERAGE(P$79:P280)","v":3731.9458940493423},null,null,null,null,40098.106979166289,{"$f":"LOOKUP($V280,Data!$A$6:$A$1806,Data!$B$6:$B$1806)","v":60.020999908447266},{"$f":"LOOKUP($V280,Data!$A$6:$A$1806,Data!$C$6:$C$1806)","v":3785.72607421875},{"$f":"LOOKUP($V280,Data!$A$6:$A$1806,Data!$D$6:$D$1806)","v":335},{"$f":"IF($Z$1=\"+\",LOOKUP($V280,Data!$A$6:$A$1806,Data!$E$6:$E$1806)*-1,LOOKUP($V280,Data!$A$6:$A$1806,Data!$E$6:$E$1806))","v":-163.95860290527344},{"$f":"LOOKUP($V280,Data!$A$6:$A$1806,Data!$F$6:$F$1806)","v":0},{"$f":"LOOKUP($V280,Data!$A$6:$A$1806,Data!$G$6:$G$1806)","v":220},{"$f":"LOOKUP($V280,Data!$A$6:$A$1806,Data!$H$6:$H$1806)","v":10},{"$f":"LOOKUP($V280,Data!$A$6:$A$1806,Data!$I$6:$I$1806)","v":0},{"$f":"LOOKUP($V280,Data!$A$6:$A$1806,Data!$J$6:$J$1806)","v":-103},{"$f":"LOOKUP($V280,Data!$A$6:$A$1806,Data!$K$6:$K$1806)","v":7645.2},-16.7999267578125]
[null,40098.107002314435,{"$f":"LOOKUP(B281,Data!$A$6:$A$1806,Data!B$6:B$1806)","v":60.022998809814453},{"$f":"LOOKUP(B281,Data!$A$6:$A$1806,Data!C$6:C$1806)","v":3785.821044921875},null,null,null,-18.3990478515625,-17.503554637990135,null,null,0,3747.4230173565415,{"$f":"AVERAGE(D$79:D281)","v":3767.5806782539253},{"$f":"AVERAGE(M$79:M281)","v":3769.2787248846621},3769.569968970125,{"$f":"AVERAGE(P$79:P281)","v":3732.1321518459799},null,null,null,null,40098.107002314435,{"$f":"LOOKUP($V281,Data!$A$6:$A$1806,Data!$B$6:$B$1806)","v":60.022998809814453},{"$f":"LOOKUP($V281,Data!$A$6:$A$1806,Data!$C$6:$C$1806)","v":3785.821044921875},{"$f":"LOOKUP($V281,Data!$A$6:$A$1806,Data!$D$6:$D$1806)","v":335},{"$f":"IF($Z$1=\"+\",LOOKUP($V281,Data!$A$6:$A$1806,Data!$E$6:$E$1806)*-1,LOOKUP($V281,Data!$A$6:$A$1806,Data!$E$6:$E$1806))","v":-163.95860290527344},{"$f":"LOOKUP($V281,Data!$A$6:$A$1806,Data!$F$6:$F$1806)","v":0},{"$f":"LOOKUP($V281,Data!$A$6:$A$1806,Data!$G$6:$G$1806)","v":220.5},{"$f":"LOOKUP($V281,Data!$A$6:$A$1806,Data!$H$6:$H$1806)","v":10},{"$f":"LOOKUP($V281,Data!$A$6:$A$1806,Data!$I$6:$I$1806)","v":0},{"$f":"LOOKUP($V281,Data!$A$6:$A$1806,Data!$J$6:$J$1806)","v":-103},{"$f":"LOOKUP($V281,Data!$A$6:$A$1806,Data!$K$6:$K$1806)","v":7645.53},-18.3990478515625]
[null,40098.107025462581,{"$f":"LOOKUP(B282,Data!$A$6:$A$1806,Data!B$6:B$1806)","v":60.021999359130859},{"$f":"LOOKUP(B282,Data!$A$6:$A$1806,Data!C$6:C$1806)","v":3785.79833984375},null,null,null,-17.5994873046875,-17.537131071334215,null,null,0,3747.3894409231975,{"$f":"AVERAGE(D$79:D282)","v":3767.6699805166209},{"$f":"AVERAGE(M$79:M282)","v":3769.1714244730865},3769.569968970125,{"$f":"AVERAGE(P$79:P282)","v":3732.3165745904339},null,null,null,null,40098.107025462581,{"$f":"LOOKUP($V282,Data!$A$6:$A$1806,Data!$B$6:$B$1806)","v":60.021999359130859},{"$f":"LOOKUP($V282,Data!$A$6:$A$1806,Data!$C$6:$C$1806)","v":3785.79833984375},{"$f":"LOOKUP($V282,Data!$A$6:$A$1806,Data!$D$6:$D$1806)","v":335},{"$f":"IF($Z$1=\"+\",LOOKUP($V282,Data!$A$6:$A$1806,Data!$E$6:$E$1806)*-1,LOOKUP($V282,Data!$A$6:$A$1806,Data!$E$6:$E$1806))","v":-163.95860290527344},{"$f":"LOOKUP($V282,Data!$A$6:$A$1806,Data!$F$6:$F$1806)","v":0},{"$f":"LOOKUP($V282,Data!$A$6:$A$1806,Data!$G$6:$G$1806)","v":221},{"$f":"LOOKUP($V282,Data!$A$6:$A$1806,Data!$H$6:$H$1806)","v":10},{"$f":"LOOKUP($V282,Data!$A$6:$A$1806,Data!$I$6:$I$1806)","v":0},{"$f":"LOOKUP($V282,Data!$A$6:$A$1806,Data!$J$6:$J$1806)","v":-103},{"$f":"LOOKUP($V282,Data!$A$6:$A$1806,Data!$K$6:$K$1806)","v":7645.86},-17.5994873046875]
[null,40098.107048610727,{"$f":"LOOKUP(B283,Data!$A$6:$A$1806,Data!B$6:B$1806)","v":60.021999359130859},{"$f":"LOOKUP(B283,Data!$A$6:$A$1806,Data!C$6:C$1806)","v":3785.79833984375},null,null,null,-17.5994873046875,-17.558955753007865,null,null,0,3747.367616241524,{"$f":"AVERAGE(D$79:D283)","v":3767.7584115377285},{"$f":"AVERAGE(M$79:M283)","v":3769.0650644329326},3769.569968970125,{"$f":"AVERAGE(P$79:P283)","v":3732.4991892687658},null,null,null,null,40098.107048610727,{"$f":"LOOKUP($V283,Data!$A$6:$A$1806,Data!$B$6:$B$1806)","v":60.021999359130859},{"$f":"LOOKUP($V283,Data!$A$6:$A$1806,Data!$C$6:$C$1806)","v":3785.79833984375},{"$f":"LOOKUP($V283,Data!$A$6:$A$1806,Data!$D$6:$D$1806)","v":335},{"$f":"IF($Z$1=\"+\",LOOKUP($V283,Data!$A$6:$A$1806,Data!$E$6:$E$1806)*-1,LOOKUP($V283,Data!$A$6:$A$1806,Data!$E$6:$E$1806))","v":-163.95860290527344},{"$f":"LOOKUP($V283,Data!$A$6:$A$1806,Data!$F$6:$F$1806)","v":0},{"$f":"LOOKUP($V283,Data!$A$6:$A$1806,Data!$G$6:$G$1806)","v":221},{"$f":"LOOKUP($V283,Data!$A$6:$A$1806,Data!$H$6:$H$1806)","v":10},{"$f":"LOOKUP($V283,Data!$A$6:$A$1806,Data!$I$6:$I$1806)","v":0},{"$f":"LOOKUP($V283,Data!$A$6:$A$1806,Data!$J$6:$J$1806)","v":-103},{"$f":"LOOKUP($V283,Data!$A$6:$A$1806,Data!$K$6:$K$1806)","v":7645.86},-17.5994873046875]
[null,40098.107071758874,{"$f":"LOOKUP(B284,Data!$A$6:$A$1806,Data!B$6:B$1806)","v":60.019001007080078},{"$f":"LOOKUP(B284,Data!$A$6:$A$1806,Data!C$6:C$1806)","v":3786.939208984375},null,null,null,-15.2008056640625,-16.73360322187699,null,null,0,3748.1929687726551,{"$f":"AVERAGE(D$79:D284)","v":3767.8515222049455},{"$f":"AVERAGE(M$79:M284)","v":3768.9637435802124},3769.569968970125,{"$f":"AVERAGE(P$79:P284)","v":3732.6800223404798},null,null,null,null,40098.107071758874,{"$f":"LOOKUP($V284,Data!$A$6:$A$1806,Data!$B$6:$B$1806)","v":60.019001007080078},{"$f":"LOOKUP($V284,Data!$A$6:$A$1806,Data!$C$6:$C$1806)","v":3786.939208984375},{"$f":"LOOKUP($V284,Data!$A$6:$A$1806,Data!$D$6:$D$1806)","v":335},{"$f":"IF($Z$1=\"+\",LOOKUP($V284,Data!$A$6:$A$1806,Data!$E$6:$E$1806)*-1,LOOKUP($V284,Data!$A$6:$A$1806,Data!$E$6:$E$1806))","v":-166.07244873046875},{"$f":"LOOKUP($V284,Data!$A$6:$A$1806,Data!$F$6:$F$1806)","v":0},{"$f":"LOOKUP($V284,Data!$A$6:$A$1806,Data!$G$6:$G$1806)","v":221.5},{"$f":"LOOKUP($V284,Data!$A$6:$A$1806,Data!$H$6:$H$1806)","v":10},{"$f":"LOOKUP($V284,Data!$A$6:$A$1806,Data!$I$6:$I$1806)","v":0},{"$f":"LOOKUP($V284,Data!$A$6:$A$1806,Data!$J$6:$J$1806)","v":-103},{"$f":"LOOKUP($V284,Data!$A$6:$A$1806,Data!$K$6:$K$1806)","v":7646.19},-15.2008056640625]
[null,40098.10709490702,{"$f":"LOOKUP(B285,Data!$A$6:$A$1806,Data!B$6:B$1806)","v":60.018001556396484},{"$f":"LOOKUP(B285,Data!$A$6:$A$1806,Data!C$6:C$1806)","v":3787.62744140625},null,null,null,-14.4012451171875,-15.917277885235668,null,null,0,3749.0092941092967,{"$f":"AVERAGE(D$79:D285)","v":3767.9470580464977},{"$f":"AVERAGE(M$79:M285)","v":3768.8673452735898},3769.569968970125,{"$f":"AVERAGE(P$79:P285)","v":3732.8590997513033},null,null,null,null,40098.10709490702,{"$f":"LOOKUP($V285,Data!$A$6:$A$1806,Data!$B$6:$B$1806)","v":60.018001556396484},{"$f":"LOOKUP($V285,Data!$A$6:$A$1806,Data!$C$6:$C$1806)","v":3787.62744140625},{"$f":"LOOKUP($V285,Data!$A$6:$A$1806,Data!$D$6:$D$1806)","v":335},{"$f":"IF($Z$1=\"+\",LOOKUP($V285,Data!$A$6:$A$1806,Data!$E$6:$E$1806)*-1,LOOKUP($V285,Data!$A$6:$A$1806,Data!$E$6:$E$1806))","v":-166.07244873046875},{"$f":"LOOKUP($V285,Data!$A$6:$A$1806,Data!$F$6:$F$1806)","v":0},{"$f":"LOOKUP($V285,Data!$A$6:$A$1806,Data!$G$6:$G$1806)","v":222},{"$f":"LOOKUP($V285,Data!$A$6:$A$1806,Data!$H$6:$H$1806)","v":10},{"$f":"LOOKUP($V285,Data!$A$6:$A$1806,Data!$I$6:$I$1806)","v":0},{"$f":"LOOKUP($V285,Data!$A$6:$A$1806,Data!$J$6:$J$1806)","v":-103},{"$f":"LOOKUP($V285,Data!$A$6:$A$1806,Data!$K$6:$K$1806)","v":7646.52},-14.4012451171875]
[null,40098.107118055166,{"$f":"LOOKUP(B286,Data!$A$6:$A$1806,Data!B$6:B$1806)","v":60.018001556396484},{"$f":"LOOKUP(B286,Data!$A$6:$A$1806,Data!C$6:C$1806)","v":3787.62744140625},null,null,null,-14.4012451171875,-15.38666641641881,null,null,0,3749.5399055781136,{"$f":"AVERAGE(D$79:D286)","v":3768.0416752741885},{"$f":"AVERAGE(M$79:M286)","v":3768.7744248904387},3769.569968970125,{"$f":"AVERAGE(P$79:P286)","v":3733.0364469455972},null,null,null,null,40098.107118055166,{"$f":"LOOKUP($V286,Data!$A$6:$A$1806,Data!$B$6:$B$1806)","v":60.018001556396484},{"$f":"LOOKUP($V286,Data!$A$6:$A$1806,Data!$C$6:$C$1806)","v":3787.62744140625},{"$f":"LOOKUP($V286,Data!$A$6:$A$1806,Data!$D$6:$D$1806)","v":335},{"$f":"IF($Z$1=\"+\",LOOKUP($V286,Data!$A$6:$A$1806,Data!$E$6:$E$1806)*-1,LOOKUP($V286,Data!$A$6:$A$1806,Data!$E$6:$E$1806))","v":-166.07244873046875},{"$f":"LOOKUP($V286,Data!$A$6:$A$1806,Data!$F$6:$F$1806)","v":0},{"$f":"LOOKUP($V286,Data!$A$6:$A$1806,Data!$G$6:$G$1806)","v":222},{"$f":"LOOKUP($V286,Data!$A$6:$A$1806,Data!$H$6:$H$1806)","v":10},{"$f":"LOOKUP($V286,Data!$A$6:$A$1806,Data!$I$6:$I$1806)","v":0},{"$f":"LOOKUP($V286,Data!$A$6:$A$1806,Data!$J$6:$J$1806)","v":-103},{"$f":"LOOKUP($V286,Data!$A$6:$A$1806,Data!$K$6:$K$1806)","v":7646.52},-14.4012451171875]
[null,40098.107141203312,{"$f":"LOOKUP(B287,Data!$A$6:$A$1806,Data!B$6:B$1806)","v":60.018001556396484},{"$f":"LOOKUP(B287,Data!$A$6:$A$1806,Data!C$6:C$1806)","v":3789.67333984375},null,null,null,-14.4012451171875,-15.041768961687852,null,null,0,3749.8848030328445,{"$f":"AVERAGE(D$79:D287)","v":3768.1451760616028},{"$f":"AVERAGE(M$79:M287)","v":3768.6840439246125},3769.569968970125,{"$f":"AVERAGE(P$79:P287)","v":3733.2120888784075},null,null,null,null,40098.107141203312,{"$f":"LOOKUP($V287,Data!$A$6:$A$1806,Data!$B$6:$B$1806)","v":60.018001556396484},{"$f":"LOOKUP($V287,Data!$A$6:$A$1806,Data!$C$6:$C$1806)","v":3789.67333984375},{"$f":"LOOKUP($V287,Data!$A$6:$A$1806,Data!$D$6:$D$1806)","v":335},{"$f":"IF($Z$1=\"+\",LOOKUP($V287,Data!$A$6:$A$1806,Data!$E$6:$E$1806)*-1,LOOKUP($V287,Data!$A$6:$A$1806,Data!$E$6:$E$1806))","v":-166.07244873046875},{"$f":"LOOKUP($V287,Data!$A$6:$A$1806,Data!$F$6:$F$1806)","v":0},{"$f":"LOOKUP($V287,Data!$A$6:$A$1806,Data!$G$6:$G$1806)","v":222.5},{"$f":"LOOKUP($V287,Data!$A$6:$A$1806,Data!$H$6:$H$1806)","v":10},{"$f":"LOOKUP($V287,Data!$A$6:$A$1806,Data!$I$6:$I$1806)","v":0},{"$f":"LOOKUP($V287,Data!$A$6:$A$1806,Data!$J$6:$J$1806)","v":-103},{"$f":"LOOKUP($V287,Data!$A$6:$A$1806,Data!$K$6:$K$1806)","v":7646.85},-14.4012451171875]
[null,40098.107164351459,{"$f":"LOOKUP(B288,Data!$A$6:$A$1806,Data!B$6:B$1806)","v":60.019001007080078},{"$f":"LOOKUP(B288,Data!$A$6:$A$1806,Data!C$6:C$1806)","v":3789.404296875},null,null,null,-15.2008056640625,-15.09743180751898,null,null,0,3749.8291401870133,{"$f":"AVERAGE(D$79:D288)","v":3768.2464099702379},{"$f":"AVERAGE(M$79:M288)","v":3768.5942586687192},3769.569968970125,{"$f":"AVERAGE(P$79:P288)","v":3733.3860500271717},null,null,null,null,40098.107164351459,{"$f":"LOOKUP($V288,Data!$A$6:$A$1806,Data!$B$6:$B$1806)","v":60.019001007080078},{"$f":"LOOKUP($V288,Data!$A$6:$A$1806,Data!$C$6:$C$1806)","v":3789.404296875},{"$f":"LOOKUP($V288,Data!$A$6:$A$1806,Data!$D$6:$D$1806)","v":335},{"$f":"IF($Z$1=\"+\",LOOKUP($V288,Data!$A$6:$A$1806,Data!$E$6:$E$1806)*-1,LOOKUP($V288,Data!$A$6:$A$1806,Data!$E$6:$E$1806))","v":-166.07244873046875},{"$f":"LOOKUP($V288,Data!$A$6:$A$1806,Data!$F$6:$F$1806)","v":0},{"$f":"LOOKUP($V288,Data!$A$6:$A$1806,Data!$G$6:$G$1806)","v":223},{"$f":"LOOKUP($V288,Data!$A$6:$A$1806,Data!$H$6:$H$1806)","v":10},{"$f":"LOOKUP($V288,Data!$A$6:$A$1806,Data!$I$6:$I$1806)","v":0},{"$f":"LOOKUP($V288,Data!$A$6:$A$1806,Data!$J$6:$J$1806)","v":-103},{"$f":"LOOKUP($V288,Data!$A$6:$A$1806,Data!$K$6:$K$1806)","v":7647.18},-15.2008056640625]
[null,40098.107187499605,{"$f":"LOOKUP(B289,Data!$A$6:$A$1806,Data!B$6:B$1806)","v":60.019001007080078},{"$f":"LOOKUP(B289,Data!$A$6:$A$1806,Data!C$6:C$1806)","v":3789.404296875},null,null,null,-15.2008056640625,-15.133612657309213,null,null,0,3749.7929593372232,{"$f":"AVERAGE(D$79:D289)","v":3768.3466843157585},{"$f":"AVERAGE(M$79:M289)","v":3768.5051529846837},3769.569968970125,{"$f":"AVERAGE(P$79:P289)","v":3733.5583544030906},null,null,null,null,40098.107187499605,{"$f":"LOOKUP($V289,Data!$A$6:$A$1806,Data!$B$6:$B$1806)","v":60.019001007080078},{"$f":"LOOKUP($V289,Data!$A$6:$A$1806,Data!$C$6:$C$1806)","v":3789.404296875},{"$f":"LOOKUP($V289,Data!$A$6:$A$1806,Data!$D$6:$D$1806)","v":335},{"$f":"IF($Z$1=\"+\",LOOKUP($V289,Data!$A$6:$A$1806,Data!$E$6:$E$1806)*-1,LOOKUP($V289,Data!$A$6:$A$1806,Data!$E$6:$E$1806))","v":-166.07244873046875},{"$f":"LOOKUP($V289,Data!$A$6:$A$1806,Data!$F$6:$F$1806)","v":0},{"$f":"LOOKUP($V289,Data!$A$6:$A$1806,Data!$G$6:$G$1806)","v":223},{"$f":"LOOKUP($V289,Data!$A$6:$A$1806,Data!$H$6:$H$1806)","v":10},{"$f":"LOOKUP($V289,Data!$A$6:$A$1806,Data!$I$6:$I$1806)","v":0},{"$f":"LOOKUP($V289,Data!$A$6:$A$1806,Data!$J$6:$J$1806)","v":-103},{"$f":"LOOKUP($V289,Data!$A$6:$A$1806,Data!$K$6:$K$1806)","v":7647.18},-15.2008056640625]
[null,40098.107210647751,{"$f":"LOOKUP(B290,Data!$A$6:$A$1806,Data!B$6:B$1806)","v":60.019001007080078},{"$f":"LOOKUP(B290,Data!$A$6:$A$1806,Data!C$6:C$1806)","v":3789.183349609375},null,null,null,-15.2008056640625,-15.157130209672864,null,null,0,3749.7694417848597,{"$f":"AVERAGE(D$79:D290)","v":3768.4449704728036},{"$f":"AVERAGE(M$79:M290)","v":3768.416776988458},3769.569968970125,{"$f":"AVERAGE(P$79:P290)","v":3733.7290255621765},null,null,null,null,40098.107210647751,{"$f":"LOOKUP($V290,Data!$A$6:$A$1806,Data!$B$6:$B$1806)","v":60.019001007080078},{"$f":"LOOKUP($V290,Data!$A$6:$A$1806,Data!$C$6:$C$1806)","v":3789.183349609375},{"$f":"LOOKUP($V290,Data!$A$6:$A$1806,Data!$D$6:$D$1806)","v":335},{"$f":"IF($Z$1=\"+\",LOOKUP($V290,Data!$A$6:$A$1806,Data!$E$6:$E$1806)*-1,LOOKUP($V290,Data!$A$6:$A$1806,Data!$E$6:$E$1806))","v":-166.07244873046875},{"$f":"LOOKUP($V290,Data!$A$6:$A$1806,Data!$F$6:$F$1806)","v":0},{"$f":"LOOKUP($V290,Data!$A$6:$A$1806,Data!$G$6:$G$1806)","v":223.5},{"$f":"LOOKUP($V290,Data!$A$6:$A$1806,Data!$H$6:$H$1806)","v":10},{"$f":"LOOKUP($V290,Data!$A$6:$A$1806,Data!$I$6:$I$1806)","v":0},{"$f":"LOOKUP($V290,Data!$A$6:$A$1806,Data!$J$6:$J$1806)","v":-103},{"$f":"LOOKUP($V290,Data!$A$6:$A$1806,Data!$K$6:$K$1806)","v":7647.51},-15.2008056640625]
[null,40098.107233795898,{"$f":"LOOKUP(B291,Data!$A$6:$A$1806,Data!B$6:B$1806)","v":60.014999389648438},{"$f":"LOOKUP(B291,Data!$A$6:$A$1806,Data!C$6:C$1806)","v":3789.368896484375},null,null,null,-11.99951171875,-14.051963737849862,null,null,0,3750.8746082566827,{"$f":"AVERAGE(D$79:D291)","v":3768.5432048672242},{"$f":"AVERAGE(M$79:M291)","v":3768.3344193887788},3769.569968970125,{"$f":"AVERAGE(P$79:P291)","v":3733.8980866159873},null,null,null,null,40098.107233795898,{"$f":"LOOKUP($V291,Data!$A$6:$A$1806,Data!$B$6:$B$1806)","v":60.014999389648438},{"$f":"LOOKUP($V291,Data!$A$6:$A$1806,Data!$C$6:$C$1806)","v":3789.368896484375},{"$f":"LOOKUP($V291,Data!$A$6:$A$1806,Data!$D$6:$D$1806)","v":335},{"$f":"IF($Z$1=\"+\",LOOKUP($V291,Data!$A$6:$A$1806,Data!$E$6:$E$1806)*-1,LOOKUP($V291,Data!$A$6:$A$1806,Data!$E$6:$E$1806))","v":-163.76658630371094},{"$f":"LOOKUP($V291,Data!$A$6:$A$1806,Data!$F$6:$F$1806)","v":0},{"$f":"LOOKUP($V291,Data!$A$6:$A$1806,Data!$G$6:$G$1806)","v":224},{"$f":"LOOKUP($V291,Data!$A$6:$A$1806,Data!$H$6:$H$1806)","v":10},{"$f":"LOOKUP($V291,Data!$A$6:$A$1806,Data!$I$6:$I$1806)","v":0},{"$f":"LOOKUP($V291,Data!$A$6:$A$1806,Data!$J$6:$J$1806)","v":-103},{"$f":"LOOKUP($V291,Data!$A$6:$A$1806,Data!$K$6:$K$1806)","v":7647.84},-11.99951171875]
[null,40098.107256944044,{"$f":"LOOKUP(B292,Data!$A$6:$A$1806,Data!B$6:B$1806)","v":60.014999389648438},{"$f":"LOOKUP(B292,Data!$A$6:$A$1806,Data!C$6:C$1806)","v":3789.368896484375},null,null,null,-11.99951171875,-13.33360553116491,null,null,0,3751.5929664633677,{"$f":"AVERAGE(D$79:D292)","v":3768.640521183192},{"$f":"AVERAGE(M$79:M292)","v":3768.2561883003423},3769.569968970125,{"$f":"AVERAGE(P$79:P292)","v":3734.0655602420634},null,null,null,null,40098.107256944044,{"$f":"LOOKUP($V292,Data!$A$6:$A$1806,Data!$B$6:$B$1806)","v":60.014999389648438},{"$f":"LOOKUP($V292,Data!$A$6:$A$1806,Data!$C$6:$C$1806)","v":3789.368896484375},{"$f":"LOOKUP($V292,Data!$A$6:$A$1806,Data!$D$6:$D$1806)","v":335},{"$f":"IF($Z$1=\"+\",LOOKUP($V292,Data!$A$6:$A$1806,Data!$E$6:$E$1806)*-1,LOOKUP($V292,Data!$A$6:$A$1806,Data!$E$6:$E$1806))","v":-163.76658630371094},{"$f":"LOOKUP($V292,Data!$A$6:$A$1806,Data!$F$6:$F$1806)","v":0},{"$f":"LOOKUP($V292,Data!$A$6:$A$1806,Data!$G$6:$G$1806)","v":224},{"$f":"LOOKUP($V292,Data!$A$6:$A$1806,Data!$H$6:$H$1806)","v":10},{"$f":"LOOKUP($V292,Data!$A$6:$A$1806,Data!$I$6:$I$1806)","v":0},{"$f":"LOOKUP($V292,Data!$A$6:$A$1806,Data!$J$6:$J$1806)","v":-103},{"$f":"LOOKUP($V292,Data!$A$6:$A$1806,Data!$K$6:$K$1806)","v":7647.84},-11.99951171875]
[null,40098.10728009219,{"$f":"LOOKUP(B293,Data!$A$6:$A$1806,Data!B$6:B$1806)","v":60.015998840332031},{"$f":"LOOKUP(B293,Data!$A$6:$A$1806,Data!C$6:C$1806)","v":3788.66455078125},null,null,null,-12.799072265625,-13.146518888225941,null,null,0,3751.7800531063067,{"$f":"AVERAGE(D$79:D293)","v":3768.7336562045784},{"$f":"AVERAGE(M$79:M293)","v":3768.1795551133932},3769.569968970125,{"$f":"AVERAGE(P$79:P293)","v":3734.2314686940636},null,null,null,null,40098.10728009219,{"$f":"LOOKUP($V293,Data!$A$6:$A$1806,Data!$B$6:$B$1806)","v":60.015998840332031},{"$f":"LOOKUP($V293,Data!$A$6:$A$1806,Data!$C$6:$C$1806)","v":3788.66455078125},{"$f":"LOOKUP($V293,Data!$A$6:$A$1806,Data!$D$6:$D$1806)","v":335},{"$f":"IF($Z$1=\"+\",LOOKUP($V293,Data!$A$6:$A$1806,Data!$E$6:$E$1806)*-1,LOOKUP($V293,Data!$A$6:$A$1806,Data!$E$6:$E$1806))","v":-163.76658630371094},{"$f":"LOOKUP($V293,Data!$A$6:$A$1806,Data!$F$6:$F$1806)","v":0},{"$f":"LOOKUP($V293,Data!$A$6:$A$1806,Data!$G$6:$G$1806)","v":224.5},{"$f":"LOOKUP($V293,Data!$A$6:$A$1806,Data!$H$6:$H$1806)","v":10},{"$f":"LOOKUP($V293,Data!$A$6:$A$1806,Data!$I$6:$I$1806)","v":0},{"$f":"LOOKUP($V293,Data!$A$6:$A$1806,Data!$J$6:$J$1806)","v":-103},{"$f":"LOOKUP($V293,Data!$A$6:$A$1806,Data!$K$6:$K$1806)","v":7648.17},-12.799072265625]
[null,40098.107303240336,{"$f":"LOOKUP(B294,Data!$A$6:$A$1806,Data!B$6:B$1806)","v":60.01300048828125},{"$f":"LOOKUP(B294,Data!$A$6:$A$1806,Data!C$6:C$1806)","v":3788.932861328125},null,null,null,-10.400390625,-12.185373996096862,null,null,0,3752.7411979984358,{"$f":"AVERAGE(D$79:D294)","v":3768.8271710431136},{"$f":"AVERAGE(M$79:M294)","v":3768.1080812378609},3769.569968970125,{"$f":"AVERAGE(P$79:P294)","v":3734.3958338116267},null,null,null,null,40098.107303240336,{"$f":"LOOKUP($V294,Data!$A$6:$A$1806,Data!$B$6:$B$1806)","v":60.01300048828125},{"$f":"LOOKUP($V294,Data!$A$6:$A$1806,Data!$C$6:$C$1806)","v":3788.932861328125},{"$f":"LOOKUP($V294,Data!$A$6:$A$1806,Data!$D$6:$D$1806)","v":335},{"$f":"IF($Z$1=\"+\",LOOKUP($V294,Data!$A$6:$A$1806,Data!$E$6:$E$1806)*-1,LOOKUP($V294,Data!$A$6:$A$1806,Data!$E$6:$E$1806))","v":-163.76658630371094},{"$f":"LOOKUP($V294,Data!$A$6:$A$1806,Data!$F$6:$F$1806)","v":0},{"$f":"LOOKUP($V294,Data!$A$6:$A$1806,Data!$G$6:$G$1806)","v":225},{"$f":"LOOKUP($V294,Data!$A$6:$A$1806,Data!$H$6:$H$1806)","v":10},{"$f":"LOOKUP($V294,Data!$A$6:$A$1806,Data!$I$6:$I$1806)","v":0},{"$f":"LOOKUP($V294,Data!$A$6:$A$1806,Data!$J$6:$J$1806)","v":-103},{"$f":"LOOKUP($V294,Data!$A$6:$A$1806,Data!$K$6:$K$1806)","v":7648.5},-10.400390625]
[null,40098.107326388483,{"$f":"LOOKUP(B295,Data!$A$6:$A$1806,Data!B$6:B$1806)","v":60.01300048828125},{"$f":"LOOKUP(B295,Data!$A$6:$A$1806,Data!C$6:C$1806)","v":3788.932861328125},null,null,null,-10.400390625,-11.560629816212961,null,null,0,3753.3659421783195,{"$f":"AVERAGE(D$79:D295)","v":3768.9198239937355},{"$f":"AVERAGE(M$79:M295)","v":3768.0401451131625},3769.569968970125,{"$f":"AVERAGE(P$79:P295)","v":3734.5586770299533},null,null,null,null,40098.107326388483,{"$f":"LOOKUP($V295,Data!$A$6:$A$1806,Data!$B$6:$B$1806)","v":60.01300048828125},{"$f":"LOOKUP($V295,Data!$A$6:$A$1806,Data!$C$6:$C$1806)","v":3788.932861328125},{"$f":"LOOKUP($V295,Data!$A$6:$A$1806,Data!$D$6:$D$1806)","v":335},{"$f":"IF($Z$1=\"+\",LOOKUP($V295,Data!$A$6:$A$1806,Data!$E$6:$E$1806)*-1,LOOKUP($V295,Data!$A$6:$A$1806,Data!$E$6:$E$1806))","v":-163.76658630371094},{"$f":"LOOKUP($V295,Data!$A$6:$A$1806,Data!$F$6:$F$1806)","v":0},{"$f":"LOOKUP($V295,Data!$A$6:$A$1806,Data!$G$6:$G$1806)","v":225},{"$f":"LOOKUP($V295,Data!$A$6:$A$1806,Data!$H$6:$H$1806)","v":10},{"$f":"LOOKUP($V295,Data!$A$6:$A$1806,Data!$I$6:$I$1806)","v":0},{"$f":"LOOKUP($V295,Data!$A$6:$A$1806,Data!$J$6:$J$1806)","v":-103},{"$f":"LOOKUP($V295,Data!$A$6:$A$1806,Data!$K$6:$K$1806)","v":7648.5},-10.400390625]
[null,40098.107349536629,{"$f":"LOOKUP(B296,Data!$A$6:$A$1806,Data!B$6:B$1806)","v":60.012001037597656},{"$f":"LOOKUP(B296,Data!$A$6:$A$1806,Data!C$6:C$1806)","v":3790.80517578125},null,null,null,-9.600830078125,-10.874699907882174,null,null,0,3754.0518720866503,{"$f":"AVERAGE(D$79:D296)","v":3769.0202155156967},{"$f":"AVERAGE(M$79:M296)","v":3767.9759787231324},3769.569968970125,{"$f":"AVERAGE(P$79:P296)","v":3734.7200193891249},null,null,null,null,40098.107349536629,{"$f":"LOOKUP($V296,Data!$A$6:$A$1806,Data!$B$6:$B$1806)","v":60.012001037597656},{"$f":"LOOKUP($V296,Data!$A$6:$A$1806,Data!$C$6:$C$1806)","v":3790.80517578125},{"$f":"LOOKUP($V296,Data!$A$6:$A$1806,Data!$D$6:$D$1806)","v":335},{"$f":"IF($Z$1=\"+\",LOOKUP($V296,Data!$A$6:$A$1806,Data!$E$6:$E$1806)*-1,LOOKUP($V296,Data!$A$6:$A$1806,Data!$E$6:$E$1806))","v":-163.76658630371094},{"$f":"LOOKUP($V296,Data!$A$6:$A$1806,Data!$F$6:$F$1806)","v":0},{"$f":"LOOKUP($V296,Data!$A$6:$A$1806,Data!$G$6:$G$1806)","v":225.5},{"$f":"LOOKUP($V296,Data!$A$6:$A$1806,Data!$H$6:$H$1806)","v":10},{"$f":"LOOKUP($V296,Data!$A$6:$A$1806,Data!$I$6:$I$1806)","v":0},{"$f":"LOOKUP($V296,Data!$A$6:$A$1806,Data!$J$6:$J$1806)","v":-103},{"$f":"LOOKUP($V296,Data!$A$6:$A$1806,Data!$K$6:$K$1806)","v":7648.83},-9.600830078125]
[null,40098.107372684775,{"$f":"LOOKUP(B297,Data!$A$6:$A$1806,Data!B$6:B$1806)","v":60.009998321533203},{"$f":"LOOKUP(B297,Data!$A$6:$A$1806,Data!C$6:C$1806)","v":3790.4111328125},null,null,null,-7.9986572265625,-9.8680849694202877,null,null,0,3755.0584870251123,{"$f":"AVERAGE(D$79:D297)","v":3769.1178909371433},{"$f":"AVERAGE(M$79:M297)","v":3767.9169947427758},3769.569968970125,{"$f":"AVERAGE(P$79:P297)","v":3734.879881543166},null,null,null,null,40098.107372684775,{"$f":"LOOKUP($V297,Data!$A$6:$A$1806,Data!$B$6:$B$1806)","v":60.009998321533203},{"$f":"LOOKUP($V297,Data!$A$6:$A$1806,Data!$C$6:$C$1806)","v":3790.4111328125},{"$f":"LOOKUP($V297,Data!$A$6:$A$1806,Data!$D$6:$D$1806)","v":335},{"$f":"IF($Z$1=\"+\",LOOKUP($V297,Data!$A$6:$A$1806,Data!$E$6:$E$1806)*-1,LOOKUP($V297,Data!$A$6:$A$1806,Data!$E$6:$E$1806))","v":-163.76658630371094},{"$f":"LOOKUP($V297,Data!$A$6:$A$1806,Data!$F$6:$F$1806)","v":0},{"$f":"LOOKUP($V297,Data!$A$6:$A$1806,Data!$G$6:$G$1806)","v":226},{"$f":"LOOKUP($V297,Data!$A$6:$A$1806,Data!$H$6:$H$1806)","v":10},{"$f":"LOOKUP($V297,Data!$A$6:$A$1806,Data!$I$6:$I$1806)","v":0},{"$f":"LOOKUP($V297,Data!$A$6:$A$1806,Data!$J$6:$J$1806)","v":-103},{"$f":"LOOKUP($V297,Data!$A$6:$A$1806,Data!$K$6:$K$1806)","v":7649.16},-7.9986572265625]
[null,40098.107395832922,{"$f":"LOOKUP(B298,Data!$A$6:$A$1806,Data!B$6:B$1806)","v":60.009998321533203},{"$f":"LOOKUP(B298,Data!$A$6:$A$1806,Data!C$6:C$1806)","v":3790.4111328125},null,null,null,-7.9986572265625,-9.213785259420062,null,null,0,3755.7127867351123,{"$f":"AVERAGE(D$79:D298)","v":3769.214678400213},{"$f":"AVERAGE(M$79:M298)","v":3767.8615210700141},3769.569968970125,{"$f":"AVERAGE(P$79:P298)","v":3735.0382837688599},null,null,null,null,40098.107395832922,{"$f":"LOOKUP($V298,Data!$A$6:$A$1806,Data!$B$6:$B$1806)","v":60.009998321533203},{"$f":"LOOKUP($V298,Data!$A$6:$A$1806,Data!$C$6:$C$1806)","v":3790.4111328125},{"$f":"LOOKUP($V298,Data!$A$6:$A$1806,Data!$D$6:$D$1806)","v":335},{"$f":"IF($Z$1=\"+\",LOOKUP($V298,Data!$A$6:$A$1806,Data!$E$6:$E$1806)*-1,LOOKUP($V298,Data!$A$6:$A$1806,Data!$E$6:$E$1806))","v":-163.76658630371094},{"$f":"LOOKUP($V298,Data!$A$6:$A$1806,Data!$F$6:$F$1806)","v":0},{"$f":"LOOKUP($V298,Data!$A$6:$A$1806,Data!$G$6:$G$1806)","v":226},{"$f":"LOOKUP($V298,Data!$A$6:$A$1806,Data!$H$6:$H$1806)","v":10},{"$f":"LOOKUP($V298,Data!$A$6:$A$1806,Data!$I$6:$I$1806)","v":0},{"$f":"LOOKUP($V298,Data!$A$6:$A$1806,Data!$J$6:$J$1806)","v":-103},{"$f":"LOOKUP($V298,Data!$A$6:$A$1806,Data!$K$6:$K$1806)","v":7649.16},-7.9986572265625]
[null,40098.107418981068,{"$f":"LOOKUP(B299,Data!$A$6:$A$1806,Data!B$6:B$1806)","v":60.006999969482422},{"$f":"LOOKUP(B299,Data!$A$6:$A$1806,Data!C$6:C$1806)","v":3791.539794921875},null,null,null,-5.5999755859375,{"$f":"L$13*H299+(1-L$13)*I298","v":-7.9489518737011657},null,null,0,3756.977620120831,{"$f":"AVERAGE(D$79:D299)","v":3769.3156970270079},{"$f":"AVERAGE(M$79:M299)","v":3767.8122726494294},3769.569968970125,{"$f":"AVERAGE(P$79:P299)","v":3735.1952459743202},null,null,null,null,40098.107418981068,{"$f":"LOOKUP($V299,Data!$A$6:$A$1806,Data!$B$6:$B$1806)","v":60.006999969482422},{"$f":"LOOKUP($V299,Data!$A$6:$A$1806,Data!$C$6:$C$1806)","v":3791.539794921875},{"$f":"LOOKUP($V299,Data!$A$6:$A$1806,Data!$D$6:$D$1806)","v":335},{"$f":"IF($Z$1=\"+\",LOOKUP($V299,Data!$A$6:$A$1806,Data!$E$6:$E$1806)*-1,LOOKUP($V299,Data!$A$6:$A$1806,Data!$E$6:$E$1806))","v":-165.1016845703125},{"$f":"LOOKUP($V299,Data!$A$6:$A$1806,Data!$F$6:$F$1806)","v":0},{"$f":"LOOKUP($V299,Data!$A$6:$A$1806,Data!$G$6:$G$1806)","v":226.5},{"$f":"LOOKUP($V299,Data!$A$6:$A$1806,Data!$H$6:$H$1806)","v":10},{"$f":"LOOKUP($V299,Data!$A$6:$A$1806,Data!$I$6:$I$1806)","v":0},{"$f":"LOOKUP($V299,Data!$A$6:$A$1806,Data!$J$6:$J$1806)","v":-103},{"$f":"LOOKUP($V299,Data!$A$6:$A$1806,Data!$K$6:$K$1806)","v":7649.49},-5.5999755859375]
[null,40098.107442129214,{"$f":"LOOKUP(B300,Data!$A$6:$A$1806,Data!B$6:B$1806)","v":60.008998870849609},{"$f":"LOOKUP(B300,Data!$A$6:$A$1806,Data!C$6:C$1806)","v":3792.9453125},null,null,null,{"$f":"(IF((C300-L$2)>0,((C300-L$2-L$5)/((L$4*L$2)-L$5)*L$3*-1),((C300-L$2+L$5)/((L$4*L$2)-L$5)*L$3*-1)))","v":-7.1990966796875},-7.6865025557963831,null,null,0,3757.2400694387356,{"$f":"AVERAGE(D$79:D300)","v":3769.4221367363457},{"$f":"AVERAGE(M$79:M300)","v":3767.7646501124445},3769.569968970125,{"$f":"AVERAGE(P$79:P300)","v":3735.350787707333},null,null,null,null,40098.107442129214,{"$f":"LOOKUP($V300,Data!$A$6:$A$1806,Data!$B$6:$B$1806)","v":60.008998870849609},{"$f":"LOOKUP($V300,Data!$A$6:$A$1806,Data!$C$6:$C$1806)","v":3792.9453125},{"$f":"LOOKUP($V300,Data!$A$6:$A$1806,Data!$D$6:$D$1806)","v":335},{"$f":"IF($Z$1=\"+\",LOOKUP($V300,Data!$A$6:$A$1806,Data!$E$6:$E$1806)*-1,LOOKUP($V300,Data!$A$6:$A$1806,Data!$E$6:$E$1806))","v":-165.1016845703125},{"$f":"LOOKUP($V300,Data!$A$6:$A$1806,Data!$F$6:$F$1806)","v":0},{"$f":"LOOKUP($V300,Data!$A$6:$A$1806,Data!$G$6:$G$1806)","v":227},{"$f":"LOOKUP($V300,Data!$A$6:$A$1806,Data!$H$6:$H$1806)","v":10},{"$f":"LOOKUP($V300,Data!$A$6:$A$1806,Data!$I$6:$I$1806)","v":0},{"$f":"LOOKUP($V300,Data!$A$6:$A$1806,Data!$J$6:$J$1806)","v":-103},{"$f":"LOOKUP($V300,Data!$A$6:$A$1806,Data!$K$6:$K$1806)","v":7649.82},{"$f":"(IF((W300-$L$2)>0,((W300-$L$2-$L$5)/(($L$4*$L$2)-$L$5)*$L$3*-1),((W300-$L$2+$L$5)/(($L$4*$L$2)-$L$5)*$L$3*-1)))","v":-7.1990966796875}]
[null,40098.10746527736,{"$f":"LOOKUP(B301,Data!$A$6:$A$1806,Data!B$6:B$1806)","v":60.008998870849609},{"$f":"LOOKUP(B301,Data!$A$6:$A$1806,Data!C$6:C$1806)","v":3792.9453125},null,null,null,-7.1990966796875,-7.5159104991582746,null,null,0,3757.4106614953739,{"$f":"AVERAGE(D$79:D301)","v":3769.5276218294562},{"$f":"AVERAGE(M$79:M301)","v":3767.7182196702156},3769.569968970125,{"$f":"AVERAGE(P$79:P301)","v":3735.504928163472},null,null,null,null,40098.10746527736,{"$f":"LOOKUP($V301,Data!$A$6:$A$1806,Data!$B$6:$B$1806)","v":60.008998870849609},{"$f":"LOOKUP($V301,Data!$A$6:$A$1806,Data!$C$6:$C$1806)","v":3792.9453125},{"$f":"LOOKUP($V301,Data!$A$6:$A$1806,Data!$D$6:$D$1806)","v":335},{"$f":"IF($Z$1=\"+\",LOOKUP($V301,Data!$A$6:$A$1806,Data!$E$6:$E$1806)*-1,LOOKUP($V301,Data!$A$6:$A$1806,Data!$E$6:$E$1806))","v":-165.1016845703125},{"$f":"LOOKUP($V301,Data!$A$6:$A$1806,Data!$F$6:$F$1806)","v":0},{"$f":"LOOKUP($V301,Data!$A$6:$A$1806,Data!$G$6:$G$1806)","v":227},{"$f":"LOOKUP($V301,Data!$A$6:$A$1806,Data!$H$6:$H$1806)","v":10},{"$f":"LOOKUP($V301,Data!$A$6:$A$1806,Data!$I$6:$I$1806)","v":0},{"$f":"LOOKUP($V301,Data!$A$6:$A$1806,Data!$J$6:$J$1806)","v":-103},{"$f":"LOOKUP($V301,Data!$A$6:$A$1806,Data!$K$6:$K$1806)","v":7649.82},-7.1990966796875]
[null,{"$f":"B301+TIME(0,0,$B$1)","v":40098.107488425507},{"$f":"LOOKUP(B302,Data!$A$6:$A$1806,Data!B$6:B$1806)","v":60.008998870849609},{"$f":"LOOKUP(B302,Data!$A$6:$A$1806,Data!C$6:C$1806)","v":3791.443115234375},null,null,null,-7.1990966796875,-7.4050256623435038,null,null,0,3757.5215463321888,{"$f":"AVERAGE(D$79:D302)","v":3769.6254588535853},{"$f":"AVERAGE(M$79:M302)","v":3767.6726988070991},3769.569968970125,{"$f":"AVERAGE(P$79:P302)","v":3735.6576861939952},null,null,null,null,40098.107488425507,{"$f":"LOOKUP($V302,Data!$A$6:$A$1806,Data!$B$6:$B$1806)","v":60.008998870849609},{"$f":"LOOKUP($V302,Data!$A$6:$A$1806,Data!$C$6:$C$1806)","v":3791.443115234375},{"$f":"LOOKUP($V302,Data!$A$6:$A$1806,Data!$D$6:$D$1806)","v":335},{"$f":"IF($Z$1=\"+\",LOOKUP($V302,Data!$A$6:$A$1806,Data!$E$6:$E$1806)*-1,LOOKUP($V302,Data!$A$6:$A$1806,Data!$E$6:$E$1806))","v":-165.1016845703125},{"$f":"LOOKUP($V302,Data!$A$6:$A$1806,Data!$F$6:$F$1806)","v":0},{"$f":"LOOKUP($V302,Data!$A$6:$A$1806,Data!$G$6:$G$1806)","v":227.5},{"$f":"LOOKUP($V302,Data!$A$6:$A$1806,Data!$H$6:$H$1806)","v":10},{"$f":"LOOKUP($V302,Data!$A$6:$A$1806,Data!$I$6:$I$1806)","v":0},{"$f":"LOOKUP($V302,Data!$A$6:$A$1806,Data!$J$6:$J$1806)","v":-103},{"$f":"LOOKUP($V302,Data!$A$6:$A$1806,Data!$K$6:$K$1806)","v":7650.15},-7.1990966796875]
[null,40098.107511573653,{"$f":"LOOKUP(B303,Data!$A$6:$A$1806,Data!B$6:B$1806)","v":60.002998352050781},{"$f":"LOOKUP(B303,Data!$A$6:$A$1806,Data!C$6:C$1806)","v":3791.426025390625},null,null,null,-2.398681640625,-5.6528052547420273,null,null,0,3759.2737667397901,{"$f":"AVERAGE(D$79:D303)","v":3769.7223502604165},{"$f":"AVERAGE(M$79:M303)","v":3767.6353702201332},3769.569968970125,{"$f":"AVERAGE(P$79:P303)","v":3735.8090803135315},null,null,null,null,40098.107511573653,{"$f":"LOOKUP($V303,Data!$A$6:$A$1806,Data!$B$6:$B$1806)","v":60.002998352050781},{"$f":"LOOKUP($V303,Data!$A$6:$A$1806,Data!$C$6:$C$1806)","v":3791.426025390625},{"$f":"LOOKUP($V303,Data!$A$6:$A$1806,Data!$D$6:$D$1806)","v":335},{"$f":"IF($Z$1=\"+\",LOOKUP($V303,Data!$A$6:$A$1806,Data!$E$6:$E$1806)*-1,LOOKUP($V303,Data!$A$6:$A$1806,Data!$E$6:$E$1806))","v":-165.1016845703125},{"$f":"LOOKUP($V303,Data!$A$6:$A$1806,Data!$F$6:$F$1806)","v":0},{"$f":"LOOKUP($V303,Data!$A$6:$A$1806,Data!$G$6:$G$1806)","v":228},{"$f":"LOOKUP($V303,Data!$A$6:$A$1806,Data!$H$6:$H$1806)","v":10},{"$f":"LOOKUP($V303,Data!$A$6:$A$1806,Data!$I$6:$I$1806)","v":0},{"$f":"LOOKUP($V303,Data!$A$6:$A$1806,Data!$J$6:$J$1806)","v":-103},{"$f":"LOOKUP($V303,Data!$A$6:$A$1806,Data!$K$6:$K$1806)","v":7650.48},-2.398681640625]
[null,40098.107534721799,{"$f":"LOOKUP(B304,Data!$A$6:$A$1806,Data!B$6:B$1806)","v":60.002998352050781},{"$f":"LOOKUP(B304,Data!$A$6:$A$1806,Data!C$6:C$1806)","v":3791.426025390625},null,null,null,-2.398681640625,-4.5138619898010681,null,null,0,3760.4127100047308,{"$f":"AVERAGE(D$79:D304)","v":3769.8183842211697},{"$f":"AVERAGE(M$79:M304)","v":3767.6034115466136},3769.569968970125,{"$f":"AVERAGE(P$79:P304)","v":3735.9591287075609},null,null,null,null,40098.107534721799,{"$f":"LOOKUP($V304,Data!$A$6:$A$1806,Data!$B$6:$B$1806)","v":60.002998352050781},{"$f":"LOOKUP($V304,Data!$A$6:$A$1806,Data!$C$6:$C$1806)","v":3791.426025390625},{"$f":"LOOKUP($V304,Data!$A$6:$A$1806,Data!$D$6:$D$1806)","v":335},{"$f":"IF($Z$1=\"+\",LOOKUP($V304,Data!$A$6:$A$1806,Data!$E$6:$E$1806)*-1,LOOKUP($V304,Data!$A$6:$A$1806,Data!$E$6:$E$1806))","v":-165.1016845703125},{"$f":"LOOKUP($V304,Data!$A$6:$A$1806,Data!$F$6:$F$1806)","v":0},{"$f":"LOOKUP($V304,Data!$A$6:$A$1806,Data!$G$6:$G$1806)","v":228},{"$f":"LOOKUP($V304,Data!$A$6:$A$1806,Data!$H$6:$H$1806)","v":10},{"$f":"LOOKUP($V304,Data!$A$6:$A$1806,Data!$I$6:$I$1806)","v":0},{"$f":"LOOKUP($V304,Data!$A$6:$A$1806,Data!$J$6:$J$1806)","v":-103},{"$f":"LOOKUP($V304,Data!$A$6:$A$1806,Data!$K$6:$K$1806)","v":7650.48},-2.398681640625]
[null,40098.107557869946,{"$f":"LOOKUP(B305,Data!$A$6:$A$1806,Data!B$6:B$1806)","v":59.999000549316406},{"$f":"LOOKUP(B305,Data!$A$6:$A$1806,Data!C$6:C$1806)","v":3790.457275390625},null,null,null,0.799560546875,-2.6541641019644442,null,null,0,3762.2724078925676,{"$f":"AVERAGE(D$79:D305)","v":3769.9093044465858},{"$f":"AVERAGE(M$79:M305)","v":3767.579926949019},3769.569968970125,{"$f":"AVERAGE(P$79:P305)","v":3736.1078492396964},null,null,null,null,40098.107557869946,{"$f":"LOOKUP($V305,Data!$A$6:$A$1806,Data!$B$6:$B$1806)","v":59.999000549316406},{"$f":"LOOKUP($V305,Data!$A$6:$A$1806,Data!$C$6:$C$1806)","v":3790.457275390625},{"$f":"LOOKUP($V305,Data!$A$6:$A$1806,Data!$D$6:$D$1806)","v":335},{"$f":"IF($Z$1=\"+\",LOOKUP($V305,Data!$A$6:$A$1806,Data!$E$6:$E$1806)*-1,LOOKUP($V305,Data!$A$6:$A$1806,Data!$E$6:$E$1806))","v":-165.1016845703125},{"$f":"LOOKUP($V305,Data!$A$6:$A$1806,Data!$F$6:$F$1806)","v":0},{"$f":"LOOKUP($V305,Data!$A$6:$A$1806,Data!$G$6:$G$1806)","v":228.5},{"$f":"LOOKUP($V305,Data!$A$6:$A$1806,Data!$H$6:$H$1806)","v":10},{"$f":"LOOKUP($V305,Data!$A$6:$A$1806,Data!$I$6:$I$1806)","v":0},{"$f":"LOOKUP($V305,Data!$A$6:$A$1806,Data!$J$6:$J$1806)","v":-103},{"$f":"LOOKUP($V305,Data!$A$6:$A$1806,Data!$K$6:$K$1806)","v":7650.81},0.799560546875]
[null,40098.107581018092,{"$f":"LOOKUP(B306,Data!$A$6:$A$1806,Data!B$6:B$1806)","v":59.992000579833984},{"$f":"LOOKUP(B306,Data!$A$6:$A$1806,Data!C$6:C$1806)","v":3790.21630859375},null,null,null,6.3995361328125,0.51463098020748621,null,null,0,3765.4412029747396,{"$f":"AVERAGE(D$79:D306)","v":3769.998370254249},{"$f":"AVERAGE(M$79:M306)","v":3767.5705465807109},3769.569968970125,{"$f":"AVERAGE(P$79:P306)","v":3736.2552594587733},null,null,null,null,40098.107581018092,{"$f":"LOOKUP($V306,Data!$A$6:$A$1806,Data!$B$6:$B$1806)","v":59.992000579833984},{"$f":"LOOKUP($V306,Data!$A$6:$A$1806,Data!$C$6:$C$1806)","v":3790.21630859375},{"$f":"LOOKUP($V306,Data!$A$6:$A$1806,Data!$D$6:$D$1806)","v":335},{"$f":"IF($Z$1=\"+\",LOOKUP($V306,Data!$A$6:$A$1806,Data!$E$6:$E$1806)*-1,LOOKUP($V306,Data!$A$6:$A$1806,Data!$E$6:$E$1806))","v":-165.47639465332031},{"$f":"LOOKUP($V306,Data!$A$6:$A$1806,Data!$F$6:$F$1806)","v":0},{"$f":"LOOKUP($V306,Data!$A$6:$A$1806,Data!$G$6:$G$1806)","v":229},{"$f":"LOOKUP($V306,Data!$A$6:$A$1806,Data!$H$6:$H$1806)","v":10},{"$f":"LOOKUP($V306,Data!$A$6:$A$1806,Data!$I$6:$I$1806)","v":0},{"$f":"LOOKUP($V306,Data!$A$6:$A$1806,Data!$J$6:$J$1806)","v":-103},{"$f":"LOOKUP($V306,Data!$A$6:$A$1806,Data!$K$6:$K$1806)","v":7651.14},6.3995361328125]
[null,40098.107604166238,{"$f":"LOOKUP(B307,Data!$A$6:$A$1806,Data!B$6:B$1806)","v":59.992000579833984},{"$f":"LOOKUP(B307,Data!$A$6:$A$1806,Data!C$6:C$1806)","v":3790.21630859375},null,null,null,6.3995361328125,2.574347783619241,null,null,0,3767.5009197781515,{"$f":"AVERAGE(D$79:D307)","v":3770.0866581945961},{"$f":"AVERAGE(M$79:M307)","v":3767.570242533538},3769.569968970125,{"$f":"AVERAGE(P$79:P307)","v":3736.4013766057528},null,null,null,null,40098.107604166238,{"$f":"LOOKUP($V307,Data!$A$6:$A$1806,Data!$B$6:$B$1806)","v":59.992000579833984},{"$f":"LOOKUP($V307,Data!$A$6:$A$1806,Data!$C$6:$C$1806)","v":3790.21630859375},{"$f":"LOOKUP($V307,Data!$A$6:$A$1806,Data!$D$6:$D$1806)","v":335},{"$f":"IF($Z$1=\"+\",LOOKUP($V307,Data!$A$6:$A$1806,Data!$E$6:$E$1806)*-1,LOOKUP($V307,Data!$A$6:$A$1806,Data!$E$6:$E$1806))","v":-165.47639465332031},{"$f":"LOOKUP($V307,Data!$A$6:$A$1806,Data!$F$6:$F$1806)","v":0},{"$f":"LOOKUP($V307,Data!$A$6:$A$1806,Data!$G$6:$G$1806)","v":229},{"$f":"LOOKUP($V307,Data!$A$6:$A$1806,Data!$H$6:$H$1806)","v":10},{"$f":"LOOKUP($V307,Data!$A$6:$A$1806,Data!$I$6:$I$1806)","v":0},{"$f":"LOOKUP($V307,Data!$A$6:$A$1806,Data!$J$6:$J$1806)","v":-103},{"$f":"LOOKUP($V307,Data!$A$6:$A$1806,Data!$K$6:$K$1806)","v":7651.14},6.3995361328125]
[null,40098.107627314384,{"$f":"LOOKUP(B308,Data!$A$6:$A$1806,Data!B$6:B$1806)","v":59.991001129150391},{"$f":"LOOKUP(B308,Data!$A$6:$A$1806,Data!C$6:C$1806)","v":3788.45703125},null,null,null,7.1990966796875,4.1930098972431313,null,null,0,3769.1195818917754,{"$f":"AVERAGE(D$79:D308)","v":3770.1665293817937},{"$f":"AVERAGE(M$79:M308)","v":3767.5769787916174},3769.569968970125,{"$f":"AVERAGE(P$79:P308)","v":3736.5462176204446},null,null,null,null,40098.107627314384,{"$f":"LOOKUP($V308,Data!$A$6:$A$1806,Data!$B$6:$B$1806)","v":59.991001129150391},{"$f":"LOOKUP($V308,Data!$A$6:$A$1806,Data!$C$6:$C$1806)","v":3788.45703125},{"$f":"LOOKUP($V308,Data!$A$6:$A$1806,Data!$D$6:$D$1806)","v":335},{"$f":"IF($Z$1=\"+\",LOOKUP($V308,Data!$A$6:$A$1806,Data!$E$6:$E$1806)*-1,LOOKUP($V308,Data!$A$6:$A$1806,Data!$E$6:$E$1806))","v":-165.47639465332031},{"$f":"LOOKUP($V308,Data!$A$6:$A$1806,Data!$F$6:$F$1806)","v":0},{"$f":"LOOKUP($V308,Data!$A$6:$A$1806,Data!$G$6:$G$1806)","v":229.5},{"$f":"LOOKUP($V308,Data!$A$6:$A$1806,Data!$H$6:$H$1806)","v":10},{"$f":"LOOKUP($V308,Data!$A$6:$A$1806,Data!$I$6:$I$1806)","v":0},{"$f":"LOOKUP($V308,Data!$A$6:$A$1806,Data!$J$6:$J$1806)","v":-103},{"$f":"LOOKUP($V308,Data!$A$6:$A$1806,Data!$K$6:$K$1806)","v":7651.47},7.1990966796875]
[null,40098.107650462531,{"$f":"LOOKUP(B309,Data!$A$6:$A$1806,Data!B$6:B$1806)","v":59.992000579833984},{"$f":"LOOKUP(B309,Data!$A$6:$A$1806,Data!C$6:C$1806)","v":3788.10498046875},null,null,null,6.3995361328125,4.965294079692411,null,null,0,3769.8918660742247,{"$f":"AVERAGE(D$79:D309)","v":3770.2441850142045},{"$f":"AVERAGE(M$79:M309)","v":3767.5869999486849},3769.569968970125,{"$f":"AVERAGE(P$79:P309)","v":3736.6897991480519},null,null,null,null,40098.107650462531,{"$f":"LOOKUP($V309,Data!$A$6:$A$1806,Data!$B$6:$B$1806)","v":59.992000579833984},{"$f":"LOOKUP($V309,Data!$A$6:$A$1806,Data!$C$6:$C$1806)","v":3788.10498046875},{"$f":"LOOKUP($V309,Data!$A$6:$A$1806,Data!$D$6:$D$1806)","v":335},{"$f":"IF($Z$1=\"+\",LOOKUP($V309,Data!$A$6:$A$1806,Data!$E$6:$E$1806)*-1,LOOKUP($V309,Data!$A$6:$A$1806,Data!$E$6:$E$1806))","v":-165.47639465332031},{"$f":"LOOKUP($V309,Data!$A$6:$A$1806,Data!$F$6:$F$1806)","v":0},{"$f":"LOOKUP($V309,Data!$A$6:$A$1806,Data!$G$6:$G$1806)","v":230},{"$f":"LOOKUP($V309,Data!$A$6:$A$1806,Data!$H$6:$H$1806)","v":10},{"$f":"LOOKUP($V309,Data!$A$6:$A$1806,Data!$I$6:$I$1806)","v":0},{"$f":"LOOKUP($V309,Data!$A$6:$A$1806,Data!$J$6:$J$1806)","v":-103},{"$f":"LOOKUP($V309,Data!$A$6:$A$1806,Data!$K$6:$K$1806)","v":7651.8},6.3995361328125]
[null,40098.107673610677,{"$f":"LOOKUP(B310,Data!$A$6:$A$1806,Data!B$6:B$1806)","v":59.992000579833984},{"$f":"LOOKUP(B310,Data!$A$6:$A$1806,Data!C$6:C$1806)","v":3788.10498046875},null,null,null,6.3995361328125,5.4672787982844424,null,null,0,3770.3938507928169,{"$f":"AVERAGE(D$79:D310)","v":3770.3211712015086},{"$f":"AVERAGE(M$79:M310)","v":3767.5990984437026},3769.569968970125,{"$f":"AVERAGE(P$79:P310)","v":3736.8321375455503},null,null,null,null,40098.107673610677,{"$f":"LOOKUP($V310,Data!$A$6:$A$1806,Data!$B$6:$B$1806)","v":59.992000579833984},{"$f":"LOOKUP($V310,Data!$A$6:$A$1806,Data!$C$6:$C$1806)","v":3788.10498046875},{"$f":"LOOKUP($V310,Data!$A$6:$A$1806,Data!$D$6:$D$1806)","v":335},{"$f":"IF($Z$1=\"+\",LOOKUP($V310,Data!$A$6:$A$1806,Data!$E$6:$E$1806)*-1,LOOKUP($V310,Data!$A$6:$A$1806,Data!$E$6:$E$1806))","v":-165.47639465332031},{"$f":"LOOKUP($V310,Data!$A$6:$A$1806,Data!$F$6:$F$1806)","v":0},{"$f":"LOOKUP($V310,Data!$A$6:$A$1806,Data!$G$6:$G$1806)","v":230},{"$f":"LOOKUP($V310,Data!$A$6:$A$1806,Data!$H$6:$H$1806)","v":10},{"$f":"LOOKUP($V310,Data!$A$6:$A$1806,Data!$I$6:$I$1806)","v":0},{"$f":"LOOKUP($V310,Data!$A$6:$A$1806,Data!$J$6:$J$1806)","v":-103},{"$f":"LOOKUP($V310,Data!$A$6:$A$1806,Data!$K$6:$K$1806)","v":7651.8},6.3995361328125]
[null,40098.107696758823,{"$f":"LOOKUP(B311,Data!$A$6:$A$1806,Data!B$6:B$1806)","v":59.987998962402344},{"$f":"LOOKUP(B311,Data!$A$6:$A$1806,Data!C$6:C$1806)","v":3788.189453125},null,null,null,9.600830078125,6.914021746228638,null,null,0,3771.8405937407611,{"$f":"AVERAGE(D$79:D311)","v":3770.3978591067598},{"$f":"AVERAGE(M$79:M311)","v":3767.6173022861794},3769.569968970125,{"$f":"AVERAGE(P$79:P311)","v":3736.9732488878976},null,null,null,null,40098.107696758823,{"$f":"LOOKUP($V311,Data!$A$6:$A$1806,Data!$B$6:$B$1806)","v":59.987998962402344},{"$f":"LOOKUP($V311,Data!$A$6:$A$1806,Data!$C$6:$C$1806)","v":3788.189453125},{"$f":"LOOKUP($V311,Data!$A$6:$A$1806,Data!$D$6:$D$1806)","v":335},{"$f":"IF($Z$1=\"+\",LOOKUP($V311,Data!$A$6:$A$1806,Data!$E$6:$E$1806)*-1,LOOKUP($V311,Data!$A$6:$A$1806,Data!$E$6:$E$1806))","v":-165.47639465332031},{"$f":"LOOKUP($V311,Data!$A$6:$A$1806,Data!$F$6:$F$1806)","v":0},{"$f":"LOOKUP($V311,Data!$A$6:$A$1806,Data!$G$6:$G$1806)","v":230.5},{"$f":"LOOKUP($V311,Data!$A$6:$A$1806,Data!$H$6:$H$1806)","v":10},{"$f":"LOOKUP($V311,Data!$A$6:$A$1806,Data!$I$6:$I$1806)","v":0},{"$f":"LOOKUP($V311,Data!$A$6:$A$1806,Data!$J$6:$J$1806)","v":-103},{"$f":"LOOKUP($V311,Data!$A$6:$A$1806,Data!$K$6:$K$1806)","v":7652.13},9.600830078125]
[null,40098.10771990697,{"$f":"LOOKUP(B312,Data!$A$6:$A$1806,Data!B$6:B$1806)","v":59.985000610351563},{"$f":"LOOKUP(B312,Data!$A$6:$A$1806,Data!C$6:C$1806)","v":3788.497314453125},null,null,null,11.99951171875,8.6939432366111156,null,null,0,3773.6205152311436,{"$f":"AVERAGE(D$79:D312)","v":3770.4752072065303},{"$f":"AVERAGE(M$79:M312)","v":3767.6429570423543},3769.569968970125,{"$f":"AVERAGE(P$79:P312)","v":3737.1131489740874},null,null,null,null,40098.10771990697,{"$f":"LOOKUP($V312,Data!$A$6:$A$1806,Data!$B$6:$B$1806)","v":59.985000610351563},{"$f":"LOOKUP($V312,Data!$A$6:$A$1806,Data!$C$6:$C$1806)","v":3788.497314453125},{"$f":"LOOKUP($V312,Data!$A$6:$A$1806,Data!$D$6:$D$1806)","v":335},{"$f":"IF($Z$1=\"+\",LOOKUP($V312,Data!$A$6:$A$1806,Data!$E$6:$E$1806)*-1,LOOKUP($V312,Data!$A$6:$A$1806,Data!$E$6:$E$1806))","v":-165.47639465332031},{"$f":"LOOKUP($V312,Data!$A$6:$A$1806,Data!$F$6:$F$1806)","v":0},{"$f":"LOOKUP($V312,Data!$A$6:$A$1806,Data!$G$6:$G$1806)","v":231},{"$f":"LOOKUP($V312,Data!$A$6:$A$1806,Data!$H$6:$H$1806)","v":10},{"$f":"LOOKUP($V312,Data!$A$6:$A$1806,Data!$I$6:$I$1806)","v":0},{"$f":"LOOKUP($V312,Data!$A$6:$A$1806,Data!$J$6:$J$1806)","v":-103},{"$f":"LOOKUP($V312,Data!$A$6:$A$1806,Data!$K$6:$K$1806)","v":7652.46},11.99951171875]
[null,40098.107743055116,{"$f":"LOOKUP(B313,Data!$A$6:$A$1806,Data!B$6:B$1806)","v":59.985000610351563},{"$f":"LOOKUP(B313,Data!$A$6:$A$1806,Data!C$6:C$1806)","v":3788.497314453125},null,null,null,11.99951171875,9.8508922053597257,null,null,0,3774.7774641998922,{"$f":"AVERAGE(D$79:D313)","v":3770.5518970246012},{"$f":"AVERAGE(M$79:M313)","v":3767.6733166472804},3769.569968970125,{"$f":"AVERAGE(P$79:P313)","v":3737.2518533330449},null,null,null,null,40098.107743055116,{"$f":"LOOKUP($V313,Data!$A$6:$A$1806,Data!$B$6:$B$1806)","v":59.985000610351563},{"$f":"LOOKUP($V313,Data!$A$6:$A$1806,Data!$C$6:$C$1806)","v":3788.497314453125},{"$f":"LOOKUP($V313,Data!$A$6:$A$1806,Data!$D$6:$D$1806)","v":335},{"$f":"IF($Z$1=\"+\",LOOKUP($V313,Data!$A$6:$A$1806,Data!$E$6:$E$1806)*-1,LOOKUP($V313,Data!$A$6:$A$1806,Data!$E$6:$E$1806))","v":-165.47639465332031},{"$f":"LOOKUP($V313,Data!$A$6:$A$1806,Data!$F$6:$F$1806)","v":0},{"$f":"LOOKUP($V313,Data!$A$6:$A$1806,Data!$G$6:$G$1806)","v":231},{"$f":"LOOKUP($V313,Data!$A$6:$A$1806,Data!$H$6:$H$1806)","v":10},{"$f":"LOOKUP($V313,Data!$A$6:$A$1806,Data!$I$6:$I$1806)","v":0},{"$f":"LOOKUP($V313,Data!$A$6:$A$1806,Data!$J$6:$J$1806)","v":-103},{"$f":"LOOKUP($V313,Data!$A$6:$A$1806,Data!$K$6:$K$1806)","v":7652.46},11.99951171875]
[null,40098.107766203262,{"$f":"LOOKUP(B314,Data!$A$6:$A$1806,Data!B$6:B$1806)","v":59.984001159667969},{"$f":"LOOKUP(B314,Data!$A$6:$A$1806,Data!C$6:C$1806)","v":3788.57080078125},null,null,null,12.799072265625,10.882755226452572,null,null,0,3775.8093272209849,{"$f":"AVERAGE(D$79:D314)","v":3770.6282483117056},{"$f":"AVERAGE(M$79:M314)","v":3767.7077912683553},3769.569968970125,{"$f":"AVERAGE(P$79:P314)","v":3737.3893772293727},null,null,null,null,40098.107766203262,{"$f":"LOOKUP($V314,Data!$A$6:$A$1806,Data!$B$6:$B$1806)","v":59.984001159667969},{"$f":"LOOKUP($V314,Data!$A$6:$A$1806,Data!$C$6:$C$1806)","v":3788.57080078125},{"$f":"LOOKUP($V314,Data!$A$6:$A$1806,Data!$D$6:$D$1806)","v":335},{"$f":"IF($Z$1=\"+\",LOOKUP($V314,Data!$A$6:$A$1806,Data!$E$6:$E$1806)*-1,LOOKUP($V314,Data!$A$6:$A$1806,Data!$E$6:$E$1806))","v":-206.4591064453125},{"$f":"LOOKUP($V314,Data!$A$6:$A$1806,Data!$F$6:$F$1806)","v":0},{"$f":"LOOKUP($V314,Data!$A$6:$A$1806,Data!$G$6:$G$1806)","v":231.5},{"$f":"LOOKUP($V314,Data!$A$6:$A$1806,Data!$H$6:$H$1806)","v":10},{"$f":"LOOKUP($V314,Data!$A$6:$A$1806,Data!$I$6:$I$1806)","v":0},{"$f":"LOOKUP($V314,Data!$A$6:$A$1806,Data!$J$6:$J$1806)","v":-103},{"$f":"LOOKUP($V314,Data!$A$6:$A$1806,Data!$K$6:$K$1806)","v":7652.79},12.799072265625]
[null,40098.107789351408,{"$f":"LOOKUP(B315,Data!$A$6:$A$1806,Data!B$6:B$1806)","v":59.984001159667969},{"$f":"LOOKUP(B315,Data!$A$6:$A$1806,Data!C$6:C$1806)","v":3788.10107421875},null,null,null,12.799072265625,11.553466190162922,null,null,0,3776.4800381846953,{"$f":"AVERAGE(D$79:D315)","v":3770.7019733155325},{"$f":"AVERAGE(M$79:M315)","v":3767.7448049684244},3769.569968970125,{"$f":"AVERAGE(P$79:P315)","v":3737.5257356689526},null,null,null,null,40098.107789351408,{"$f":"LOOKUP($V315,Data!$A$6:$A$1806,Data!$B$6:$B$1806)","v":59.984001159667969},{"$f":"LOOKUP($V315,Data!$A$6:$A$1806,Data!$C$6:$C$1806)","v":3788.10107421875},{"$f":"LOOKUP($V315,Data!$A$6:$A$1806,Data!$D$6:$D$1806)","v":335},{"$f":"IF($Z$1=\"+\",LOOKUP($V315,Data!$A$6:$A$1806,Data!$E$6:$E$1806)*-1,LOOKUP($V315,Data!$A$6:$A$1806,Data!$E$6:$E$1806))","v":-206.4591064453125},{"$f":"LOOKUP($V315,Data!$A$6:$A$1806,Data!$F$6:$F$1806)","v":0},{"$f":"LOOKUP($V315,Data!$A$6:$A$1806,Data!$G$6:$G$1806)","v":232},{"$f":"LOOKUP($V315,Data!$A$6:$A$1806,Data!$H$6:$H$1806)","v":10},{"$f":"LOOKUP($V315,Data!$A$6:$A$1806,Data!$I$6:$I$1806)","v":0},{"$f":"LOOKUP($V315,Data!$A$6:$A$1806,Data!$J$6:$J$1806)","v":-103},{"$f":"LOOKUP($V315,Data!$A$6:$A$1806,Data!$K$6:$K$1806)","v":7616},12.799072265625]
[null,40098.107812499555,{"$f":"LOOKUP(B316,Data!$A$6:$A$1806,Data!B$6:B$1806)","v":59.984001159667969},{"$f":"LOOKUP(B316,Data!$A$6:$A$1806,Data!C$6:C$1806)","v":3788.10107421875},null,null,null,12.799072265625,11.989428316574649,null,null,0,3776.9160003111069,{"$f":"AVERAGE(D$79:D316)","v":3770.7750787815125},{"$f":"AVERAGE(M$79:M316)","v":3767.7833394026375},3769.569968970125,{"$f":"AVERAGE(P$79:P316)","v":3737.6609434044003},null,null,null,null,40098.107812499555,{"$f":"LOOKUP($V316,Data!$A$6:$A$1806,Data!$B$6:$B$1806)","v":59.984001159667969},{"$f":"LOOKUP($V316,Data!$A$6:$A$1806,Data!$C$6:$C$1806)","v":3788.10107421875},{"$f":"LOOKUP($V316,Data!$A$6:$A$1806,Data!$D$6:$D$1806)","v":335},{"$f":"IF($Z$1=\"+\",LOOKUP($V316,Data!$A$6:$A$1806,Data!$E$6:$E$1806)*-1,LOOKUP($V316,Data!$A$6:$A$1806,Data!$E$6:$E$1806))","v":-206.4591064453125},{"$f":"LOOKUP($V316,Data!$A$6:$A$1806,Data!$F$6:$F$1806)","v":0},{"$f":"LOOKUP($V316,Data!$A$6:$A$1806,Data!$G$6:$G$1806)","v":232},{"$f":"LOOKUP($V316,Data!$A$6:$A$1806,Data!$H$6:$H$1806)","v":10},{"$f":"LOOKUP($V316,Data!$A$6:$A$1806,Data!$I$6:$I$1806)","v":0},{"$f":"LOOKUP($V316,Data!$A$6:$A$1806,Data!$J$6:$J$1806)","v":-103},{"$f":"LOOKUP($V316,Data!$A$6:$A$1806,Data!$K$6:$K$1806)","v":7616},12.799072265625]
[null,40098.107835647701,{"$f":"LOOKUP(B317,Data!$A$6:$A$1806,Data!B$6:B$1806)","v":59.981998443603516},{"$f":"LOOKUP(B317,Data!$A$6:$A$1806,Data!C$6:C$1806)","v":3786.452880859375},null,null,null,14.4012451171875,12.833564196789148,null,null,0,3777.7601361913216,{"$f":"AVERAGE(D$79:D317)","v":3770.8406762797463},{"$f":"AVERAGE(M$79:M317)","v":3767.8250833222551},3769.569968970125,{"$f":"AVERAGE(P$79:P317)","v":3737.795014940391},null,null,null,null,40098.107835647701,{"$f":"LOOKUP($V317,Data!$A$6:$A$1806,Data!$B$6:$B$1806)","v":59.981998443603516},{"$f":"LOOKUP($V317,Data!$A$6:$A$1806,Data!$C$6:$C$1806)","v":3786.452880859375},{"$f":"LOOKUP($V317,Data!$A$6:$A$1806,Data!$D$6:$D$1806)","v":335},{"$f":"IF($Z$1=\"+\",LOOKUP($V317,Data!$A$6:$A$1806,Data!$E$6:$E$1806)*-1,LOOKUP($V317,Data!$A$6:$A$1806,Data!$E$6:$E$1806))","v":-206.4591064453125},{"$f":"LOOKUP($V317,Data!$A$6:$A$1806,Data!$F$6:$F$1806)","v":0},{"$f":"LOOKUP($V317,Data!$A$6:$A$1806,Data!$G$6:$G$1806)","v":232.5},{"$f":"LOOKUP($V317,Data!$A$6:$A$1806,Data!$H$6:$H$1806)","v":10},{"$f":"LOOKUP($V317,Data!$A$6:$A$1806,Data!$I$6:$I$1806)","v":0},{"$f":"LOOKUP($V317,Data!$A$6:$A$1806,Data!$J$6:$J$1806)","v":-103},{"$f":"LOOKUP($V317,Data!$A$6:$A$1806,Data!$K$6:$K$1806)","v":7626},14.4012451171875]
[null,40098.107858795847,{"$f":"LOOKUP(B318,Data!$A$6:$A$1806,Data!B$6:B$1806)","v":59.981998443603516},{"$f":"LOOKUP(B318,Data!$A$6:$A$1806,Data!C$6:C$1806)","v":3787.732421875},null,null,null,14.4012451171875,13.382252518928571,null,null,0,3778.3088245134609,{"$f":"AVERAGE(D$79:D318)","v":3770.9110585530598},{"$f":"AVERAGE(M$79:M318)","v":3767.8687655772183},3769.569968970125,{"$f":"AVERAGE(P$79:P318)","v":3737.9279645388419},null,null,null,null,40098.107858795847,{"$f":"LOOKUP($V318,Data!$A$6:$A$1806,Data!$B$6:$B$1806)","v":59.981998443603516},{"$f":"LOOKUP($V318,Data!$A$6:$A$1806,Data!$C$6:$C$1806)","v":3787.732421875},{"$f":"LOOKUP($V318,Data!$A$6:$A$1806,Data!$D$6:$D$1806)","v":335},{"$f":"IF($Z$1=\"+\",LOOKUP($V318,Data!$A$6:$A$1806,Data!$E$6:$E$1806)*-1,LOOKUP($V318,Data!$A$6:$A$1806,Data!$E$6:$E$1806))","v":-206.4591064453125},{"$f":"LOOKUP($V318,Data!$A$6:$A$1806,Data!$F$6:$F$1806)","v":0},{"$f":"LOOKUP($V318,Data!$A$6:$A$1806,Data!$G$6:$G$1806)","v":233},{"$f":"LOOKUP($V318,Data!$A$6:$A$1806,Data!$H$6:$H$1806)","v":10},{"$f":"LOOKUP($V318,Data!$A$6:$A$1806,Data!$I$6:$I$1806)","v":0},{"$f":"LOOKUP($V318,Data!$A$6:$A$1806,Data!$J$6:$J$1806)","v":-103},{"$f":"LOOKUP($V318,Data!$A$6:$A$1806,Data!$K$6:$K$1806)","v":7632},14.4012451171875]
[null,40098.107881943994,{"$f":"LOOKUP(B319,Data!$A$6:$A$1806,Data!B$6:B$1806)","v":59.981998443603516},{"$f":"LOOKUP(B319,Data!$A$6:$A$1806,Data!C$6:C$1806)","v":3787.732421875},null,null,null,14.4012451171875,13.738899928319196,null,null,0,3778.6654719228513,{"$f":"AVERAGE(D$79:D319)","v":3770.9808567411178},{"$f":"AVERAGE(M$79:M319)","v":3767.9135651886108},3769.569968970125,{"$f":"AVERAGE(P$79:P319)","v":3738.0598062239724},null,null,null,null,40098.107881943994,{"$f":"LOOKUP($V319,Data!$A$6:$A$1806,Data!$B$6:$B$1806)","v":59.981998443603516},{"$f":"LOOKUP($V319,Data!$A$6:$A$1806,Data!$C$6:$C$1806)","v":3787.732421875},{"$f":"LOOKUP($V319,Data!$A$6:$A$1806,Data!$D$6:$D$1806)","v":335},{"$f":"IF($Z$1=\"+\",LOOKUP($V319,Data!$A$6:$A$1806,Data!$E$6:$E$1806)*-1,LOOKUP($V319,Data!$A$6:$A$1806,Data!$E$6:$E$1806))","v":-206.4591064453125},{"$f":"LOOKUP($V319,Data!$A$6:$A$1806,Data!$F$6:$F$1806)","v":0},{"$f":"LOOKUP($V319,Data!$A$6:$A$1806,Data!$G$6:$G$1806)","v":233},{"$f":"LOOKUP($V319,Data!$A$6:$A$1806,Data!$H$6:$H$1806)","v":10},{"$f":"LOOKUP($V319,Data!$A$6:$A$1806,Data!$I$6:$I$1806)","v":0},{"$f":"LOOKUP($V319,Data!$A$6:$A$1806,Data!$J$6:$J$1806)","v":-103},{"$f":"LOOKUP($V319,Data!$A$6:$A$1806,Data!$K$6:$K$1806)","v":7632},14.4012451171875]
[null,40098.10790509214,{"$f":"LOOKUP(B320,Data!$A$6:$A$1806,Data!B$6:B$1806)","v":59.979000091552734},{"$f":"LOOKUP(B320,Data!$A$6:$A$1806,Data!C$6:C$1806)","v":3789.28515625},null,null,null,16.7999267578125,14.810259318641853,null,null,0,3779.7368313131742,{"$f":"AVERAGE(D$79:D320)","v":3771.0564943423942},{"$f":"AVERAGE(M$79:M320)","v":3767.9624216602006},3769.569968970125,{"$f":"AVERAGE(P$79:P320)","v":3738.1905537872344},null,null,null,null,40098.10790509214,{"$f":"LOOKUP($V320,Data!$A$6:$A$1806,Data!$B$6:$B$1806)","v":59.979000091552734},{"$f":"LOOKUP($V320,Data!$A$6:$A$1806,Data!$C$6:$C$1806)","v":3789.28515625},{"$f":"LOOKUP($V320,Data!$A$6:$A$1806,Data!$D$6:$D$1806)","v":335},{"$f":"IF($Z$1=\"+\",LOOKUP($V320,Data!$A$6:$A$1806,Data!$E$6:$E$1806)*-1,LOOKUP($V320,Data!$A$6:$A$1806,Data!$E$6:$E$1806))","v":-206.4591064453125},{"$f":"LOOKUP($V320,Data!$A$6:$A$1806,Data!$F$6:$F$1806)","v":0},{"$f":"LOOKUP($V320,Data!$A$6:$A$1806,Data!$G$6:$G$1806)","v":233.5},{"$f":"LOOKUP($V320,Data!$A$6:$A$1806,Data!$H$6:$H$1806)","v":10},{"$f":"LOOKUP($V320,Data!$A$6:$A$1806,Data!$I$6:$I$1806)","v":0},{"$f":"LOOKUP($V320,Data!$A$6:$A$1806,Data!$J$6:$J$1806)","v":-103},{"$f":"LOOKUP($V320,Data!$A$6:$A$1806,Data!$K$6:$K$1806)","v":7632},16.7999267578125]
[null,40098.107928240286,{"$f":"LOOKUP(B321,Data!$A$6:$A$1806,Data!B$6:B$1806)","v":59.976001739501953},{"$f":"LOOKUP(B321,Data!$A$6:$A$1806,Data!C$6:C$1806)","v":3788.25634765625},null,null,null,19.1986083984375,16.346181496570331,null,null,0,3781.2727534911028,{"$f":"AVERAGE(D$79:D321)","v":3771.1272756317517},{"$f":"AVERAGE(M$79:M321)","v":3768.0171966883108},3769.569968970125,{"$f":"AVERAGE(P$79:P321)","v":3738.3202207921227},null,null,null,null,40098.107928240286,{"$f":"LOOKUP($V321,Data!$A$6:$A$1806,Data!$B$6:$B$1806)","v":59.976001739501953},{"$f":"LOOKUP($V321,Data!$A$6:$A$1806,Data!$C$6:$C$1806)","v":3788.25634765625},{"$f":"LOOKUP($V321,Data!$A$6:$A$1806,Data!$D$6:$D$1806)","v":335},{"$f":"IF($Z$1=\"+\",LOOKUP($V321,Data!$A$6:$A$1806,Data!$E$6:$E$1806)*-1,LOOKUP($V321,Data!$A$6:$A$1806,Data!$E$6:$E$1806))","v":-211.25604248046875},{"$f":"LOOKUP($V321,Data!$A$6:$A$1806,Data!$F$6:$F$1806)","v":0},{"$f":"LOOKUP($V321,Data!$A$6:$A$1806,Data!$G$6:$G$1806)","v":234},{"$f":"LOOKUP($V321,Data!$A$6:$A$1806,Data!$H$6:$H$1806)","v":10},{"$f":"LOOKUP($V321,Data!$A$6:$A$1806,Data!$I$6:$I$1806)","v":0},{"$f":"LOOKUP($V321,Data!$A$6:$A$1806,Data!$J$6:$J$1806)","v":-103},{"$f":"LOOKUP($V321,Data!$A$6:$A$1806,Data!$K$6:$K$1806)","v":7632},19.1986083984375]
[null,40098.107951388432,{"$f":"LOOKUP(B322,Data!$A$6:$A$1806,Data!B$6:B$1806)","v":59.976001739501953},{"$f":"LOOKUP(B322,Data!$A$6:$A$1806,Data!C$6:C$1806)","v":3788.25634765625},null,null,null,19.1986083984375,17.344530912223838,null,null,0,3782.2711029067564,{"$f":"AVERAGE(D$79:D322)","v":3771.1974767466058},{"$f":"AVERAGE(M$79:M322)","v":3768.0756143367475},3769.569968970125,{"$f":"AVERAGE(P$79:P322)","v":3738.4488205788634},null,null,null,null,40098.107951388432,{"$f":"LOOKUP($V322,Data!$A$6:$A$1806,Data!$B$6:$B$1806)","v":59.976001739501953},{"$f":"LOOKUP($V322,Data!$A$6:$A$1806,Data!$C$6:$C$1806)","v":3788.25634765625},{"$f":"LOOKUP($V322,Data!$A$6:$A$1806,Data!$D$6:$D$1806)","v":335},{"$f":"IF($Z$1=\"+\",LOOKUP($V322,Data!$A$6:$A$1806,Data!$E$6:$E$1806)*-1,LOOKUP($V322,Data!$A$6:$A$1806,Data!$E$6:$E$1806))","v":-211.25604248046875},{"$f":"LOOKUP($V322,Data!$A$6:$A$1806,Data!$F$6:$F$1806)","v":0},{"$f":"LOOKUP($V322,Data!$A$6:$A$1806,Data!$G$6:$G$1806)","v":234},{"$f":"LOOKUP($V322,Data!$A$6:$A$1806,Data!$H$6:$H$1806)","v":10},{"$f":"LOOKUP($V322,Data!$A$6:$A$1806,Data!$I$6:$I$1806)","v":0},{"$f":"LOOKUP($V322,Data!$A$6:$A$1806,Data!$J$6:$J$1806)","v":-103},{"$f":"LOOKUP($V322,Data!$A$6:$A$1806,Data!$K$6:$K$1806)","v":7632},19.1986083984375]
[null,40098.107974536579,{"$f":"LOOKUP(B323,Data!$A$6:$A$1806,Data!B$6:B$1806)","v":59.976001739501953},{"$f":"LOOKUP(B323,Data!$A$6:$A$1806,Data!C$6:C$1806)","v":3790.46728515625},null,null,null,19.1986083984375,17.993458032398621,null,null,0,3782.9200300269313,{"$f":"AVERAGE(D$79:D323)","v":3771.2761290258291},{"$f":"AVERAGE(M$79:M323)","v":3768.1362037885442},3769.569968970125,{"$f":"AVERAGE(P$79:P323)","v":3738.5763662689915},null,null,null,null,40098.107974536579,{"$f":"LOOKUP($V323,Data!$A$6:$A$1806,Data!$B$6:$B$1806)","v":59.976001739501953},{"$f":"LOOKUP($V323,Data!$A$6:$A$1806,Data!$C$6:$C$1806)","v":3790.46728515625},{"$f":"LOOKUP($V323,Data!$A$6:$A$1806,Data!$D$6:$D$1806)","v":335},{"$f":"IF($Z$1=\"+\",LOOKUP($V323,Data!$A$6:$A$1806,Data!$E$6:$E$1806)*-1,LOOKUP($V323,Data!$A$6:$A$1806,Data!$E$6:$E$1806))","v":-211.25604248046875},{"$f":"LOOKUP($V323,Data!$A$6:$A$1806,Data!$F$6:$F$1806)","v":1},{"$f":"LOOKUP($V323,Data!$A$6:$A$1806,Data!$G$6:$G$1806)","v":234.5},{"$f":"LOOKUP($V323,Data!$A$6:$A$1806,Data!$H$6:$H$1806)","v":10},{"$f":"LOOKUP($V323,Data!$A$6:$A$1806,Data!$I$6:$I$1806)","v":0},{"$f":"LOOKUP($V323,Data!$A$6:$A$1806,Data!$J$6:$J$1806)","v":-103},{"$f":"LOOKUP($V323,Data!$A$6:$A$1806,Data!$K$6:$K$1806)","v":7632},19.1986083984375]
[null,40098.107997684725,{"$f":"LOOKUP(B324,Data!$A$6:$A$1806,Data!B$6:B$1806)","v":59.981998443603516},{"$f":"LOOKUP(B324,Data!$A$6:$A$1806,Data!C$6:C$1806)","v":3790.66455078125},null,null,null,14.4012451171875,16.736183512074732,null,null,0,3781.6627555066075,{"$f":"AVERAGE(D$79:D324)","v":3771.3549437484121},{"$f":"AVERAGE(M$79:M324)","v":3768.1911897711375},3769.569968970125,{"$f":"AVERAGE(P$79:P324)","v":3738.7028707698128},null,null,null,null,40098.107997684725,{"$f":"LOOKUP($V324,Data!$A$6:$A$1806,Data!$B$6:$B$1806)","v":59.981998443603516},{"$f":"LOOKUP($V324,Data!$A$6:$A$1806,Data!$C$6:$C$1806)","v":3790.66455078125},{"$f":"LOOKUP($V324,Data!$A$6:$A$1806,Data!$D$6:$D$1806)","v":335},{"$f":"IF($Z$1=\"+\",LOOKUP($V324,Data!$A$6:$A$1806,Data!$E$6:$E$1806)*-1,LOOKUP($V324,Data!$A$6:$A$1806,Data!$E$6:$E$1806))","v":-211.25604248046875},{"$f":"LOOKUP($V324,Data!$A$6:$A$1806,Data!$F$6:$F$1806)","v":1},{"$f":"LOOKUP($V324,Data!$A$6:$A$1806,Data!$G$6:$G$1806)","v":235},{"$f":"LOOKUP($V324,Data!$A$6:$A$1806,Data!$H$6:$H$1806)","v":10},{"$f":"LOOKUP($V324,Data!$A$6:$A$1806,Data!$I$6:$I$1806)","v":0},{"$f":"LOOKUP($V324,Data!$A$6:$A$1806,Data!$J$6:$J$1806)","v":-103},{"$f":"LOOKUP($V324,Data!$A$6:$A$1806,Data!$K$6:$K$1806)","v":7632},14.4012451171875]
[null,40098.108020832871,{"$f":"LOOKUP(B325,Data!$A$6:$A$1806,Data!B$6:B$1806)","v":59.981998443603516},{"$f":"LOOKUP(B325,Data!$A$6:$A$1806,Data!C$6:C$1806)","v":3790.66455078125},null,null,null,14.4012451171875,15.918955073864201,null,null,0,3780.8455270683971,{"$f":"AVERAGE(D$79:D325)","v":3771.4331202951039},{"$f":"AVERAGE(M$79:M325)","v":3768.2424219059444},3769.569968970125,{"$f":"AVERAGE(P$79:P325)","v":3738.8283467787569},null,null,null,null,40098.108020832871,{"$f":"LOOKUP($V325,Data!$A$6:$A$1806,Data!$B$6:$B$1806)","v":59.981998443603516},{"$f":"LOOKUP($V325,Data!$A$6:$A$1806,Data!$C$6:$C$1806)","v":3790.66455078125},{"$f":"LOOKUP($V325,Data!$A$6:$A$1806,Data!$D$6:$D$1806)","v":335},{"$f":"IF($Z$1=\"+\",LOOKUP($V325,Data!$A$6:$A$1806,Data!$E$6:$E$1806)*-1,LOOKUP($V325,Data!$A$6:$A$1806,Data!$E$6:$E$1806))","v":-211.25604248046875},{"$f":"LOOKUP($V325,Data!$A$6:$A$1806,Data!$F$6:$F$1806)","v":1},{"$f":"LOOKUP($V325,Data!$A$6:$A$1806,Data!$G$6:$G$1806)","v":235},{"$f":"LOOKUP($V325,Data!$A$6:$A$1806,Data!$H$6:$H$1806)","v":10},{"$f":"LOOKUP($V325,Data!$A$6:$A$1806,Data!$I$6:$I$1806)","v":0},{"$f":"LOOKUP($V325,Data!$A$6:$A$1806,Data!$J$6:$J$1806)","v":-103},{"$f":"LOOKUP($V325,Data!$A$6:$A$1806,Data!$K$6:$K$1806)","v":7632},14.4012451171875]
[null,40098.108043981018,{"$f":"LOOKUP(B326,Data!$A$6:$A$1806,Data!B$6:B$1806)","v":59.978000640869141},{"$f":"LOOKUP(B326,Data!$A$6:$A$1806,Data!C$6:C$1806)","v":3789.673828125},null,null,null,17.5994873046875,16.507141354652354,null,null,0,3781.4337133491854,{"$f":"AVERAGE(D$79:D326)","v":3771.5066715363532},{"$f":"AVERAGE(M$79:M326)","v":3768.2956125972473},3769.569968970125,{"$f":"AVERAGE(P$79:P326)","v":3738.952806787629},null,null,null,null,40098.108043981018,{"$f":"LOOKUP($V326,Data!$A$6:$A$1806,Data!$B$6:$B$1806)","v":59.978000640869141},{"$f":"LOOKUP($V326,Data!$A$6:$A$1806,Data!$C$6:$C$1806)","v":3789.673828125},{"$f":"LOOKUP($V326,Data!$A$6:$A$1806,Data!$D$6:$D$1806)","v":335},{"$f":"IF($Z$1=\"+\",LOOKUP($V326,Data!$A$6:$A$1806,Data!$E$6:$E$1806)*-1,LOOKUP($V326,Data!$A$6:$A$1806,Data!$E$6:$E$1806))","v":-211.25604248046875},{"$f":"LOOKUP($V326,Data!$A$6:$A$1806,Data!$F$6:$F$1806)","v":1},{"$f":"LOOKUP($V326,Data!$A$6:$A$1806,Data!$G$6:$G$1806)","v":235.5},{"$f":"LOOKUP($V326,Data!$A$6:$A$1806,Data!$H$6:$H$1806)","v":10},{"$f":"LOOKUP($V326,Data!$A$6:$A$1806,Data!$I$6:$I$1806)","v":0},{"$f":"LOOKUP($V326,Data!$A$6:$A$1806,Data!$J$6:$J$1806)","v":-103},{"$f":"LOOKUP($V326,Data!$A$6:$A$1806,Data!$K$6:$K$1806)","v":7632},17.5994873046875]
[null,40098.108067129164,{"$f":"LOOKUP(B327,Data!$A$6:$A$1806,Data!B$6:B$1806)","v":59.9739990234375},{"$f":"LOOKUP(B327,Data!$A$6:$A$1806,Data!C$6:C$1806)","v":3789.26708984375},null,null,null,20.80078125,18.009915318024031,null,null,0,3782.9364873125569,{"$f":"AVERAGE(D$79:D327)","v":3771.5779985175077},{"$f":"AVERAGE(M$79:M327)","v":3768.354411290883},3769.569968970125,{"$f":"AVERAGE(P$79:P327)","v":3739.0762630867521},null,null,null,null,40098.108067129164,{"$f":"LOOKUP($V327,Data!$A$6:$A$1806,Data!$B$6:$B$1806)","v":59.9739990234375},{"$f":"LOOKUP($V327,Data!$A$6:$A$1806,Data!$C$6:$C$1806)","v":3789.26708984375},{"$f":"LOOKUP($V327,Data!$A$6:$A$1806,Data!$D$6:$D$1806)","v":335},{"$f":"IF($Z$1=\"+\",LOOKUP($V327,Data!$A$6:$A$1806,Data!$E$6:$E$1806)*-1,LOOKUP($V327,Data!$A$6:$A$1806,Data!$E$6:$E$1806))","v":-211.25604248046875},{"$f":"LOOKUP($V327,Data!$A$6:$A$1806,Data!$F$6:$F$1806)","v":1},{"$f":"LOOKUP($V327,Data!$A$6:$A$1806,Data!$G$6:$G$1806)","v":236},{"$f":"LOOKUP($V327,Data!$A$6:$A$1806,Data!$H$6:$H$1806)","v":10},{"$f":"LOOKUP($V327,Data!$A$6:$A$1806,Data!$I$6:$I$1806)","v":0},{"$f":"LOOKUP($V327,Data!$A$6:$A$1806,Data!$J$6:$J$1806)","v":-103},{"$f":"LOOKUP($V327,Data!$A$6:$A$1806,Data!$K$6:$K$1806)","v":7632},20.80078125]
[null,40098.10809027731,{"$f":"LOOKUP(B328,Data!$A$6:$A$1806,Data!B$6:B$1806)","v":59.9739990234375},{"$f":"LOOKUP(B328,Data!$A$6:$A$1806,Data!C$6:C$1806)","v":3789.26708984375},null,null,null,20.80078125,18.986718394215622,null,null,0,3783.9132903887485,{"$f":"AVERAGE(D$79:D328)","v":3771.6487548828127},{"$f":"AVERAGE(M$79:M328)","v":3768.4166468072749},3769.569968970125,{"$f":"AVERAGE(P$79:P328)","v":3739.1987277690146},null,null,null,null,40098.10809027731,{"$f":"LOOKUP($V328,Data!$A$6:$A$1806,Data!$B$6:$B$1806)","v":59.9739990234375},{"$f":"LOOKUP($V328,Data!$A$6:$A$1806,Data!$C$6:$C$1806)","v":3789.26708984375},{"$f":"LOOKUP($V328,Data!$A$6:$A$1806,Data!$D$6:$D$1806)","v":335},{"$f":"IF($Z$1=\"+\",LOOKUP($V328,Data!$A$6:$A$1806,Data!$E$6:$E$1806)*-1,LOOKUP($V328,Data!$A$6:$A$1806,Data!$E$6:$E$1806))","v":-211.25604248046875},{"$f":"LOOKUP($V328,Data!$A$6:$A$1806,Data!$F$6:$F$1806)","v":1},{"$f":"LOOKUP($V328,Data!$A$6:$A$1806,Data!$G$6:$G$1806)","v":236},{"$f":"LOOKUP($V328,Data!$A$6:$A$1806,Data!$H$6:$H$1806)","v":10},{"$f":"LOOKUP($V328,Data!$A$6:$A$1806,Data!$I$6:$I$1806)","v":0},{"$f":"LOOKUP($V328,Data!$A$6:$A$1806,Data!$J$6:$J$1806)","v":-103},{"$f":"LOOKUP($V328,Data!$A$6:$A$1806,Data!$K$6:$K$1806)","v":7632},20.80078125]
[null,40098.108113425456,{"$f":"LOOKUP(B329,Data!$A$6:$A$1806,Data!B$6:B$1806)","v":59.976001739501953},{"$f":"LOOKUP(B329,Data!$A$6:$A$1806,Data!C$6:C$1806)","v":3790.430419921875},null,null,null,19.1986083984375,19.060879895693279,null,null,0,3783.9874518902261,{"$f":"AVERAGE(D$79:D329)","v":3771.7235822335656},{"$f":"AVERAGE(M$79:M329)","v":3768.4786818872867},3769.569968970125,{"$f":"AVERAGE(P$79:P329)","v":3739.3202127338191},null,null,null,null,40098.108113425456,{"$f":"LOOKUP($V329,Data!$A$6:$A$1806,Data!$B$6:$B$1806)","v":59.976001739501953},{"$f":"LOOKUP($V329,Data!$A$6:$A$1806,Data!$C$6:$C$1806)","v":3790.430419921875},{"$f":"LOOKUP($V329,Data!$A$6:$A$1806,Data!$D$6:$D$1806)","v":335},{"$f":"IF($Z$1=\"+\",LOOKUP($V329,Data!$A$6:$A$1806,Data!$E$6:$E$1806)*-1,LOOKUP($V329,Data!$A$6:$A$1806,Data!$E$6:$E$1806))","v":-214.34669494628906},{"$f":"LOOKUP($V329,Data!$A$6:$A$1806,Data!$F$6:$F$1806)","v":1},{"$f":"LOOKUP($V329,Data!$A$6:$A$1806,Data!$G$6:$G$1806)","v":236.5},{"$f":"LOOKUP($V329,Data!$A$6:$A$1806,Data!$H$6:$H$1806)","v":10},{"$f":"LOOKUP($V329,Data!$A$6:$A$1806,Data!$I$6:$I$1806)","v":0},{"$f":"LOOKUP($V329,Data!$A$6:$A$1806,Data!$J$6:$J$1806)","v":-103},{"$f":"LOOKUP($V329,Data!$A$6:$A$1806,Data!$K$6:$K$1806)","v":7632},19.1986083984375]
[null,40098.108136573603,{"$f":"LOOKUP(B330,Data!$A$6:$A$1806,Data!B$6:B$1806)","v":59.977001190185547},{"$f":"LOOKUP(B330,Data!$A$6:$A$1806,Data!C$6:C$1806)","v":3789.914306640625},null,null,null,18.3990478515625,18.829238680247506,null,null,0,3783.7558106747802,{"$f":"AVERAGE(D$79:D330)","v":3771.7957676478795},{"$f":"AVERAGE(M$79:M330)","v":3768.539305414221},3769.569968970125,{"$f":"AVERAGE(P$79:P330)","v":3739.4407296909358},null,null,null,null,40098.108136573603,{"$f":"LOOKUP($V330,Data!$A$6:$A$1806,Data!$B$6:$B$1806)","v":59.977001190185547},{"$f":"LOOKUP($V330,Data!$A$6:$A$1806,Data!$C$6:$C$1806)","v":3789.914306640625},{"$f":"LOOKUP($V330,Data!$A$6:$A$1806,Data!$D$6:$D$1806)","v":335},{"$f":"IF($Z$1=\"+\",LOOKUP($V330,Data!$A$6:$A$1806,Data!$E$6:$E$1806)*-1,LOOKUP($V330,Data!$A$6:$A$1806,Data!$E$6:$E$1806))","v":-214.34669494628906},{"$f":"LOOKUP($V330,Data!$A$6:$A$1806,Data!$F$6:$F$1806)","v":1},{"$f":"LOOKUP($V330,Data!$A$6:$A$1806,Data!$G$6:$G$1806)","v":237},{"$f":"LOOKUP($V330,Data!$A$6:$A$1806,Data!$H$6:$H$1806)","v":10},{"$f":"LOOKUP($V330,Data!$A$6:$A$1806,Data!$I$6:$I$1806)","v":0},{"$f":"LOOKUP($V330,Data!$A$6:$A$1806,Data!$J$6:$J$1806)","v":-103},{"$f":"LOOKUP($V330,Data!$A$6:$A$1806,Data!$K$6:$K$1806)","v":7632},18.3990478515625]
[null,40098.108159721749,{"$f":"LOOKUP(B331,Data!$A$6:$A$1806,Data!B$6:B$1806)","v":59.977001190185547},{"$f":"LOOKUP(B331,Data!$A$6:$A$1806,Data!C$6:C$1806)","v":3789.914306640625},null,null,null,18.3990478515625,18.678671890207752,null,null,0,3783.6052438847405,{"$f":"AVERAGE(D$79:D331)","v":3771.867382426507},{"$f":"AVERAGE(M$79:M331)","v":3768.5988545781361},3769.569968970125,{"$f":"AVERAGE(P$79:P331)","v":3739.560290164266},null,null,null,null,40098.108159721749,{"$f":"LOOKUP($V331,Data!$A$6:$A$1806,Data!$B$6:$B$1806)","v":59.977001190185547},{"$f":"LOOKUP($V331,Data!$A$6:$A$1806,Data!$C$6:$C$1806)","v":3789.914306640625},{"$f":"LOOKUP($V331,Data!$A$6:$A$1806,Data!$D$6:$D$1806)","v":335},{"$f":"IF($Z$1=\"+\",LOOKUP($V331,Data!$A$6:$A$1806,Data!$E$6:$E$1806)*-1,LOOKUP($V331,Data!$A$6:$A$1806,Data!$E$6:$E$1806))","v":-214.34669494628906},{"$f":"LOOKUP($V331,Data!$A$6:$A$1806,Data!$F$6:$F$1806)","v":1},{"$f":"LOOKUP($V331,Data!$A$6:$A$1806,Data!$G$6:$G$1806)","v":237},{"$f":"LOOKUP($V331,Data!$A$6:$A$1806,Data!$H$6:$H$1806)","v":10},{"$f":"LOOKUP($V331,Data!$A$6:$A$1806,Data!$I$6:$I$1806)","v":0},{"$f":"LOOKUP($V331,Data!$A$6:$A$1806,Data!$J$6:$J$1806)","v":-103},{"$f":"LOOKUP($V331,Data!$A$6:$A$1806,Data!$K$6:$K$1806)","v":7632},18.3990478515625]
[null,40098.108182869895,{"$f":"LOOKUP(B332,Data!$A$6:$A$1806,Data!B$6:B$1806)","v":59.974998474121094},{"$f":"LOOKUP(B332,Data!$A$6:$A$1806,Data!C$6:C$1806)","v":3787.442138671875},null,null,null,20.001220703125,19.14156397472879,null,null,0,3784.0681359692617,{"$f":"AVERAGE(D$79:D332)","v":3771.9287003644808},{"$f":"AVERAGE(M$79:M332)","v":3768.659757260778},3769.569968970125,{"$f":"AVERAGE(P$79:P332)","v":3739.6789054955148},null,null,null,null,40098.108182869895,{"$f":"LOOKUP($V332,Data!$A$6:$A$1806,Data!$B$6:$B$1806)","v":59.974998474121094},{"$f":"LOOKUP($V332,Data!$A$6:$A$1806,Data!$C$6:$C$1806)","v":3787.442138671875},{"$f":"LOOKUP($V332,Data!$A$6:$A$1806,Data!$D$6:$D$1806)","v":335},{"$f":"IF($Z$1=\"+\",LOOKUP($V332,Data!$A$6:$A$1806,Data!$E$6:$E$1806)*-1,LOOKUP($V332,Data!$A$6:$A$1806,Data!$E$6:$E$1806))","v":-214.34669494628906},{"$f":"LOOKUP($V332,Data!$A$6:$A$1806,Data!$F$6:$F$1806)","v":1},{"$f":"LOOKUP($V332,Data!$A$6:$A$1806,Data!$G$6:$G$1806)","v":237.5},{"$f":"LOOKUP($V332,Data!$A$6:$A$1806,Data!$H$6:$H$1806)","v":10},{"$f":"LOOKUP($V332,Data!$A$6:$A$1806,Data!$I$6:$I$1806)","v":0},{"$f":"LOOKUP($V332,Data!$A$6:$A$1806,Data!$J$6:$J$1806)","v":-103},{"$f":"LOOKUP($V332,Data!$A$6:$A$1806,Data!$K$6:$K$1806)","v":7632},20.001220703125]
[null,40098.108206018042,{"$f":"LOOKUP(B333,Data!$A$6:$A$1806,Data!B$6:B$1806)","v":59.969001770019531},{"$f":"LOOKUP(B333,Data!$A$6:$A$1806,Data!C$6:C$1806)","v":3788.962890625},null,null,null,24.798583984375,21.121520978104964,null,null,0,3786.0480929726377,{"$f":"AVERAGE(D$79:D333)","v":3771.9955011106003},{"$f":"AVERAGE(M$79:M333)","v":3768.7279468125894},3769.569968970125,{"$f":"AVERAGE(P$79:P333)","v":3739.7965868477772},null,null,null,null,40098.108206018042,{"$f":"LOOKUP($V333,Data!$A$6:$A$1806,Data!$B$6:$B$1806)","v":59.969001770019531},{"$f":"LOOKUP($V333,Data!$A$6:$A$1806,Data!$C$6:$C$1806)","v":3788.962890625},{"$f":"LOOKUP($V333,Data!$A$6:$A$1806,Data!$D$6:$D$1806)","v":335},{"$f":"IF($Z$1=\"+\",LOOKUP($V333,Data!$A$6:$A$1806,Data!$E$6:$E$1806)*-1,LOOKUP($V333,Data!$A$6:$A$1806,Data!$E$6:$E$1806))","v":-214.34669494628906},{"$f":"LOOKUP($V333,Data!$A$6:$A$1806,Data!$F$6:$F$1806)","v":2},{"$f":"LOOKUP($V333,Data!$A$6:$A$1806,Data!$G$6:$G$1806)","v":238},{"$f":"LOOKUP($V333,Data!$A$6:$A$1806,Data!$H$6:$H$1806)","v":10},{"$f":"LOOKUP($V333,Data!$A$6:$A$1806,Data!$I$6:$I$1806)","v":0},{"$f":"LOOKUP($V333,Data!$A$6:$A$1806,Data!$J$6:$J$1806)","v":-103},{"$f":"LOOKUP($V333,Data!$A$6:$A$1806,Data!$K$6:$K$1806)","v":7632},24.798583984375]
[null,40098.108229166188,{"$f":"LOOKUP(B334,Data!$A$6:$A$1806,Data!B$6:B$1806)","v":59.969001770019531},{"$f":"LOOKUP(B334,Data!$A$6:$A$1806,Data!C$6:C$1806)","v":3788.962890625},null,null,null,24.798583984375,22.408493030299475,null,null,0,3787.3350650248321,{"$f":"AVERAGE(D$79:D334)","v":3772.0617799758911},{"$f":"AVERAGE(M$79:M334)","v":3768.8006308681056},3769.569968970125,{"$f":"AVERAGE(P$79:P334)","v":3739.9133452090414},null,null,null,null,40098.108229166188,{"$f":"LOOKUP($V334,Data!$A$6:$A$1806,Data!$B$6:$B$1806)","v":59.969001770019531},{"$f":"LOOKUP($V334,Data!$A$6:$A$1806,Data!$C$6:$C$1806)","v":3788.962890625},{"$f":"LOOKUP($V334,Data!$A$6:$A$1806,Data!$D$6:$D$1806)","v":335},{"$f":"IF($Z$1=\"+\",LOOKUP($V334,Data!$A$6:$A$1806,Data!$E$6:$E$1806)*-1,LOOKUP($V334,Data!$A$6:$A$1806,Data!$E$6:$E$1806))","v":-214.34669494628906},{"$f":"LOOKUP($V334,Data!$A$6:$A$1806,Data!$F$6:$F$1806)","v":2},{"$f":"LOOKUP($V334,Data!$A$6:$A$1806,Data!$G$6:$G$1806)","v":238},{"$f":"LOOKUP($V334,Data!$A$6:$A$1806,Data!$H$6:$H$1806)","v":10},{"$f":"LOOKUP($V334,Data!$A$6:$A$1806,Data!$I$6:$I$1806)","v":0},{"$f":"LOOKUP($V334,Data!$A$6:$A$1806,Data!$J$6:$J$1806)","v":-103},{"$f":"LOOKUP($V334,Data!$A$6:$A$1806,Data!$K$6:$K$1806)","v":7632},24.798583984375]
[null,40098.108252314334,{"$f":"LOOKUP(B335,Data!$A$6:$A$1806,Data!B$6:B$1806)","v":59.970001220703125},{"$f":"LOOKUP(B335,Data!$A$6:$A$1806,Data!C$6:C$1806)","v":3791.876953125},null,null,null,23.9990234375,22.965178672819661,null,null,0,3787.8917506673524,{"$f":"AVERAGE(D$79:D335)","v":3772.138881816938},{"$f":"AVERAGE(M$79:M335)","v":3768.8749153809431},3769.569968970125,{"$f":"AVERAGE(P$79:P335)","v":3740.029191395608},null,null,null,null,40098.108252314334,{"$f":"LOOKUP($V335,Data!$A$6:$A$1806,Data!$B$6:$B$1806)","v":59.970001220703125},{"$f":"LOOKUP($V335,Data!$A$6:$A$1806,Data!$C$6:$C$1806)","v":3791.876953125},{"$f":"LOOKUP($V335,Data!$A$6:$A$1806,Data!$D$6:$D$1806)","v":335},{"$f":"IF($Z$1=\"+\",LOOKUP($V335,Data!$A$6:$A$1806,Data!$E$6:$E$1806)*-1,LOOKUP($V335,Data!$A$6:$A$1806,Data!$E$6:$E$1806))","v":-214.34669494628906},{"$f":"LOOKUP($V335,Data!$A$6:$A$1806,Data!$F$6:$F$1806)","v":3},{"$f":"LOOKUP($V335,Data!$A$6:$A$1806,Data!$G$6:$G$1806)","v":238.5},{"$f":"LOOKUP($V335,Data!$A$6:$A$1806,Data!$H$6:$H$1806)","v":10},{"$f":"LOOKUP($V335,Data!$A$6:$A$1806,Data!$I$6:$I$1806)","v":0},{"$f":"LOOKUP($V335,Data!$A$6:$A$1806,Data!$J$6:$J$1806)","v":-103},{"$f":"LOOKUP($V335,Data!$A$6:$A$1806,Data!$K$6:$K$1806)","v":7632},23.9990234375]
[null,40098.10827546248,{"$f":"LOOKUP(B336,Data!$A$6:$A$1806,Data!B$6:B$1806)","v":59.972999572753906},{"$f":"LOOKUP(B336,Data!$A$6:$A$1806,Data!C$6:C$1806)","v":3792.91064453125},null,null,null,21.600341796875,22.487485766239029,null,null,{"$f":"IF(B336>G$3,0,(K$21*0.000023148/K$22))","v":0},{"$f":"M335+L336+(I336-I335)","v":3787.4140577607718},{"$f":"AVERAGE(D$79:D336)","v":3772.2193925251331},{"$f":"AVERAGE(M$79:M336)","v":3768.9467725219502},3769.569968970125,{"$f":"AVERAGE(P$79:P336)","v":3740.1441360554309},null,null,null,null,40098.10827546248,{"$f":"LOOKUP($V336,Data!$A$6:$A$1806,Data!$B$6:$B$1806)","v":59.972999572753906},{"$f":"LOOKUP($V336,Data!$A$6:$A$1806,Data!$C$6:$C$1806)","v":3792.91064453125},{"$f":"LOOKUP($V336,Data!$A$6:$A$1806,Data!$D$6:$D$1806)","v":335},{"$f":"IF($Z$1=\"+\",LOOKUP($V336,Data!$A$6:$A$1806,Data!$E$6:$E$1806)*-1,LOOKUP($V336,Data!$A$6:$A$1806,Data!$E$6:$E$1806))","v":-212.17269897460937},{"$f":"LOOKUP($V336,Data!$A$6:$A$1806,Data!$F$6:$F$1806)","v":4},{"$f":"LOOKUP($V336,Data!$A$6:$A$1806,Data!$G$6:$G$1806)","v":239},{"$f":"LOOKUP($V336,Data!$A$6:$A$1806,Data!$H$6:$H$1806)","v":10},{"$f":"LOOKUP($V336,Data!$A$6:$A$1806,Data!$I$6:$I$1806)","v":0},{"$f":"LOOKUP($V336,Data!$A$6:$A$1806,Data!$J$6:$J$1806)","v":-103},{"$f":"LOOKUP($V336,Data!$A$6:$A$1806,Data!$K$6:$K$1806)","v":7632},21.600341796875]
[null,40098.108298610627,{"$f":"LOOKUP(B337,Data!$A$6:$A$1806,Data!B$6:B$1806)","v":59.972999572753906},{"$f":"LOOKUP(B337,Data!$A$6:$A$1806,Data!C$6:C$1806)","v":3792.91064453125},null,null,null,21.600341796875,22.176985376961618,null,null,0,3787.1035573714944,{"$f":"AVERAGE(D$79:D337)","v":3772.2992815290177},{"$f":"AVERAGE(M$79:M337)","v":3769.0168759383578},3769.569968970125,{"$f":"AVERAGE(P$79:P337)","v":3740.2581896713796},null,null,null,null,{"$f":"V336+TIME(0,0,$B$1)","v":40098.108298610627},{"$f":"LOOKUP($V337,Data!$A$6:$A$1806,Data!$B$6:$B$1806)","v":59.972999572753906},{"$f":"LOOKUP($V337,Data!$A$6:$A$1806,Data!$C$6:$C$1806)","v":3792.91064453125},{"$f":"LOOKUP($V337,Data!$A$6:$A$1806,Data!$D$6:$D$1806)","v":335},{"$f":"IF($Z$1=\"+\",LOOKUP($V337,Data!$A$6:$A$1806,Data!$E$6:$E$1806)*-1,LOOKUP($V337,Data!$A$6:$A$1806,Data!$E$6:$E$1806))","v":-212.17269897460937},{"$f":"LOOKUP($V337,Data!$A$6:$A$1806,Data!$F$6:$F$1806)","v":4},{"$f":"LOOKUP($V337,Data!$A$6:$A$1806,Data!$G$6:$G$1806)","v":239},{"$f":"LOOKUP($V337,Data!$A$6:$A$1806,Data!$H$6:$H$1806)","v":10},{"$f":"LOOKUP($V337,Data!$A$6:$A$1806,Data!$I$6:$I$1806)","v":0},{"$f":"LOOKUP($V337,Data!$A$6:$A$1806,Data!$J$6:$J$1806)","v":-103},{"$f":"LOOKUP($V337,Data!$A$6:$A$1806,Data!$K$6:$K$1806)","v":7632},21.600341796875]
[null,40098.108321758773,{"$f":"LOOKUP(B338,Data!$A$6:$A$1806,Data!B$6:B$1806)","v":59.978000640869141},{"$f":"LOOKUP(B338,Data!$A$6:$A$1806,Data!C$6:C$1806)","v":3789.125},null,null,null,17.5994873046875,20.574861051665678,null,null,0,3785.5014330461986,{"$f":"AVERAGE(D$79:D338)","v":3772.3639958308295},{"$f":"AVERAGE(M$79:M338)","v":3769.08027808108},{"$f":"P337+L338","v":3769.569968970125},{"$f":"AVERAGE(P$79:P338)","v":3740.371362564425},null,null,null,null,40098.108321758773,{"$f":"LOOKUP($V338,Data!$A$6:$A$1806,Data!$B$6:$B$1806)","v":59.978000640869141},{"$f":"LOOKUP($V338,Data!$A$6:$A$1806,Data!$C$6:$C$1806)","v":3789.125},{"$f":"LOOKUP($V338,Data!$A$6:$A$1806,Data!$D$6:$D$1806)","v":335},{"$f":"IF($Z$1=\"+\",LOOKUP($V338,Data!$A$6:$A$1806,Data!$E$6:$E$1806)*-1,LOOKUP($V338,Data!$A$6:$A$1806,Data!$E$6:$E$1806))","v":-212.17269897460937},{"$f":"LOOKUP($V338,Data!$A$6:$A$1806,Data!$F$6:$F$1806)","v":5},{"$f":"LOOKUP($V338,Data!$A$6:$A$1806,Data!$G$6:$G$1806)","v":239.5},{"$f":"LOOKUP($V338,Data!$A$6:$A$1806,Data!$H$6:$H$1806)","v":10},{"$f":"LOOKUP($V338,Data!$A$6:$A$1806,Data!$I$6:$I$1806)","v":0},{"$f":"LOOKUP($V338,Data!$A$6:$A$1806,Data!$J$6:$J$1806)","v":-103},{"$f":"LOOKUP($V338,Data!$A$6:$A$1806,Data!$K$6:$K$1806)","v":7632},17.5994873046875]
[null,40098.108344906919,{"$f":"LOOKUP(B339,Data!$A$6:$A$1806,Data!B$6:B$1806)","v":59.978000640869141},{"$f":"LOOKUP(B339,Data!$A$6:$A$1806,Data!C$6:C$1806)","v":3788.07958984375},null,null,null,17.5994873046875,19.533480240223316,null,null,0,3784.4600522347564,{"$f":"AVERAGE(D$79:D339)","v":3772.42420883471},{"$f":"AVERAGE(M$79:M339)","v":3769.1392044188337},3769.569968970125,{"$f":"AVERAGE(P$79:P339)","v":3740.4836648967548},null,null,null,null,40098.108344906919,{"$f":"LOOKUP($V339,Data!$A$6:$A$1806,Data!$B$6:$B$1806)","v":59.978000640869141},{"$f":"LOOKUP($V339,Data!$A$6:$A$1806,Data!$C$6:$C$1806)","v":3788.07958984375},{"$f":"LOOKUP($V339,Data!$A$6:$A$1806,Data!$D$6:$D$1806)","v":335},{"$f":"IF($Z$1=\"+\",LOOKUP($V339,Data!$A$6:$A$1806,Data!$E$6:$E$1806)*-1,LOOKUP($V339,Data!$A$6:$A$1806,Data!$E$6:$E$1806))","v":-212.17269897460937},{"$f":"LOOKUP($V339,Data!$A$6:$A$1806,Data!$F$6:$F$1806)","v":6},{"$f":"LOOKUP($V339,Data!$A$6:$A$1806,Data!$G$6:$G$1806)","v":240},{"$f":"LOOKUP($V339,Data!$A$6:$A$1806,Data!$H$6:$H$1806)","v":10},{"$f":"LOOKUP($V339,Data!$A$6:$A$1806,Data!$I$6:$I$1806)","v":0},{"$f":"LOOKUP($V339,Data!$A$6:$A$1806,Data!$J$6:$J$1806)","v":-103},{"$f":"LOOKUP($V339,Data!$A$6:$A$1806,Data!$K$6:$K$1806)","v":7632},17.5994873046875]
[null,40098.108368055066,{"$f":"LOOKUP(B340,Data!$A$6:$A$1806,Data!B$6:B$1806)","v":59.978000640869141},{"$f":"LOOKUP(B340,Data!$A$6:$A$1806,Data!C$6:C$1806)","v":3788.07958984375},null,null,null,17.5994873046875,18.85658271278578,null,null,0,3783.7831547073188,{"$f":"AVERAGE(D$79:D340)","v":3772.4839621973401},{"$f":"AVERAGE(M$79:M340)","v":3769.195097358866},3769.569968970125,{"$f":"AVERAGE(P$79:P340)","v":3740.5951066748135},null,null,null,null,40098.108368055066,{"$f":"LOOKUP($V340,Data!$A$6:$A$1806,Data!$B$6:$B$1806)","v":59.978000640869141},{"$f":"LOOKUP($V340,Data!$A$6:$A$1806,Data!$C$6:$C$1806)","v":3788.07958984375},{"$f":"LOOKUP($V340,Data!$A$6:$A$1806,Data!$D$6:$D$1806)","v":335},{"$f":"IF($Z$1=\"+\",LOOKUP($V340,Data!$A$6:$A$1806,Data!$E$6:$E$1806)*-1,LOOKUP($V340,Data!$A$6:$A$1806,Data!$E$6:$E$1806))","v":-212.17269897460937},{"$f":"LOOKUP($V340,Data!$A$6:$A$1806,Data!$F$6:$F$1806)","v":6},{"$f":"LOOKUP($V340,Data!$A$6:$A$1806,Data!$G$6:$G$1806)","v":240},{"$f":"LOOKUP($V340,Data!$A$6:$A$1806,Data!$H$6:$H$1806)","v":10},{"$f":"LOOKUP($V340,Data!$A$6:$A$1806,Data!$I$6:$I$1806)","v":0},{"$f":"LOOKUP($V340,Data!$A$6:$A$1806,Data!$J$6:$J$1806)","v":-103},{"$f":"LOOKUP($V340,Data!$A$6:$A$1806,Data!$K$6:$K$1806)","v":7632},17.5994873046875]
[null,40098.108391203212,{"$f":"LOOKUP(B341,Data!$A$6:$A$1806,Data!B$6:B$1806)","v":59.974998474121094},{"$f":"LOOKUP(B341,Data!$A$6:$A$1806,Data!C$6:C$1806)","v":3787.135009765625},null,null,null,20.001220703125,19.257206009404506,null,null,0,3784.1837780039373,{"$f":"AVERAGE(D$79:D341)","v":3772.5396696025427},{"$f":"AVERAGE(M$79:M341)","v":3769.2520885400259},3769.569968970125,{"$f":"AVERAGE(P$79:P341)","v":3740.7056977522766},null,null,null,null,40098.108391203212,{"$f":"LOOKUP($V341,Data!$A$6:$A$1806,Data!$B$6:$B$1806)","v":59.974998474121094},{"$f":"LOOKUP($V341,Data!$A$6:$A$1806,Data!$C$6:$C$1806)","v":3787.135009765625},{"$f":"LOOKUP($V341,Data!$A$6:$A$1806,Data!$D$6:$D$1806)","v":335},{"$f":"IF($Z$1=\"+\",LOOKUP($V341,Data!$A$6:$A$1806,Data!$E$6:$E$1806)*-1,LOOKUP($V341,Data!$A$6:$A$1806,Data!$E$6:$E$1806))","v":-212.17269897460937},{"$f":"LOOKUP($V341,Data!$A$6:$A$1806,Data!$F$6:$F$1806)","v":7},{"$f":"LOOKUP($V341,Data!$A$6:$A$1806,Data!$G$6:$G$1806)","v":240.5},{"$f":"LOOKUP($V341,Data!$A$6:$A$1806,Data!$H$6:$H$1806)","v":10},{"$f":"LOOKUP($V341,Data!$A$6:$A$1806,Data!$I$6:$I$1806)","v":0},{"$f":"LOOKUP($V341,Data!$A$6:$A$1806,Data!$J$6:$J$1806)","v":-103},{"$f":"LOOKUP($V341,Data!$A$6:$A$1806,Data!$K$6:$K$1806)","v":7632},20.001220703125]
[null,40098.108414351358,{"$f":"LOOKUP(B342,Data!$A$6:$A$1806,Data!B$6:B$1806)","v":59.976001739501953},{"$f":"LOOKUP(B342,Data!$A$6:$A$1806,Data!C$6:C$1806)","v":3787.164306640625},null,null,null,19.1986083984375,19.236696845566055,null,null,0,3784.1632688400987,{"$f":"AVERAGE(D$79:D342)","v":3772.5950659549599},{"$f":"AVERAGE(M$79:M342)","v":3769.3085702835865},3769.569968970125,{"$f":"AVERAGE(P$79:P342)","v":3740.8154478329529},null,null,null,null,40098.108414351358,{"$f":"LOOKUP($V342,Data!$A$6:$A$1806,Data!$B$6:$B$1806)","v":59.976001739501953},{"$f":"LOOKUP($V342,Data!$A$6:$A$1806,Data!$C$6:$C$1806)","v":3787.164306640625},{"$f":"LOOKUP($V342,Data!$A$6:$A$1806,Data!$D$6:$D$1806)","v":335},{"$f":"IF($Z$1=\"+\",LOOKUP($V342,Data!$A$6:$A$1806,Data!$E$6:$E$1806)*-1,LOOKUP($V342,Data!$A$6:$A$1806,Data!$E$6:$E$1806))","v":-212.17269897460937},{"$f":"LOOKUP($V342,Data!$A$6:$A$1806,Data!$F$6:$F$1806)","v":8},{"$f":"LOOKUP($V342,Data!$A$6:$A$1806,Data!$G$6:$G$1806)","v":241},{"$f":"LOOKUP($V342,Data!$A$6:$A$1806,Data!$H$6:$H$1806)","v":10},{"$f":"LOOKUP($V342,Data!$A$6:$A$1806,Data!$I$6:$I$1806)","v":0},{"$f":"LOOKUP($V342,Data!$A$6:$A$1806,Data!$J$6:$J$1806)","v":-103},{"$f":"LOOKUP($V342,Data!$A$6:$A$1806,Data!$K$6:$K$1806)","v":7632},19.1986083984375]
[null,40098.108437499504,{"$f":"LOOKUP(B343,Data!$A$6:$A$1806,Data!B$6:B$1806)","v":59.976001739501953},{"$f":"LOOKUP(B343,Data!$A$6:$A$1806,Data!C$6:C$1806)","v":3787.164306640625},null,null,null,19.1986083984375,19.223365889071061,null,null,0,3784.1499378836038,{"$f":"AVERAGE(D$79:D343)","v":3772.650044221698},{"$f":"AVERAGE(M$79:M343)","v":3769.364575444341},3769.569968970125,{"$f":"AVERAGE(P$79:P343)","v":3740.9243664736241},null,null,null,null,40098.108437499504,{"$f":"LOOKUP($V343,Data!$A$6:$A$1806,Data!$B$6:$B$1806)","v":59.976001739501953},{"$f":"LOOKUP($V343,Data!$A$6:$A$1806,Data!$C$6:$C$1806)","v":3787.164306640625},{"$f":"LOOKUP($V343,Data!$A$6:$A$1806,Data!$D$6:$D$1806)","v":335},{"$f":"IF($Z$1=\"+\",LOOKUP($V343,Data!$A$6:$A$1806,Data!$E$6:$E$1806)*-1,LOOKUP($V343,Data!$A$6:$A$1806,Data!$E$6:$E$1806))","v":-212.17269897460937},{"$f":"LOOKUP($V343,Data!$A$6:$A$1806,Data!$F$6:$F$1806)","v":8},{"$f":"LOOKUP($V343,Data!$A$6:$A$1806,Data!$G$6:$G$1806)","v":241},{"$f":"LOOKUP($V343,Data!$A$6:$A$1806,Data!$H$6:$H$1806)","v":10},{"$f":"LOOKUP($V343,Data!$A$6:$A$1806,Data!$I$6:$I$1806)","v":0},{"$f":"LOOKUP($V343,Data!$A$6:$A$1806,Data!$J$6:$J$1806)","v":-103},{"$f":"LOOKUP($V343,Data!$A$6:$A$1806,Data!$K$6:$K$1806)","v":7632},19.1986083984375]
[null,40098.108460647651,{"$f":"LOOKUP(B344,Data!$A$6:$A$1806,Data!B$6:B$1806)","v":59.974998474121094},{"$f":"LOOKUP(B344,Data!$A$6:$A$1806,Data!C$6:C$1806)","v":3787.40478515625},null,null,null,20.001220703125,19.495615073989939,null,null,0,3784.4221870685228,{"$f":"AVERAGE(D$79:D344)","v":3772.7055131725797},{"$f":"AVERAGE(M$79:M344)","v":3769.421183006838},3769.569968970125,{"$f":"AVERAGE(P$79:P344)","v":3741.0324630868186},null,null,null,null,40098.108460647651,{"$f":"LOOKUP($V344,Data!$A$6:$A$1806,Data!$B$6:$B$1806)","v":59.974998474121094},{"$f":"LOOKUP($V344,Data!$A$6:$A$1806,Data!$C$6:$C$1806)","v":3787.40478515625},{"$f":"LOOKUP($V344,Data!$A$6:$A$1806,Data!$D$6:$D$1806)","v":335},{"$f":"IF($Z$1=\"+\",LOOKUP($V344,Data!$A$6:$A$1806,Data!$E$6:$E$1806)*-1,LOOKUP($V344,Data!$A$6:$A$1806,Data!$E$6:$E$1806))","v":-215.59817504882812},{"$f":"LOOKUP($V344,Data!$A$6:$A$1806,Data!$F$6:$F$1806)","v":9},{"$f":"LOOKUP($V344,Data!$A$6:$A$1806,Data!$G$6:$G$1806)","v":241.5},{"$f":"LOOKUP($V344,Data!$A$6:$A$1806,Data!$H$6:$H$1806)","v":10},{"$f":"LOOKUP($V344,Data!$A$6:$A$1806,Data!$I$6:$I$1806)","v":0},{"$f":"LOOKUP($V344,Data!$A$6:$A$1806,Data!$J$6:$J$1806)","v":-103},{"$f":"LOOKUP($V344,Data!$A$6:$A$1806,Data!$K$6:$K$1806)","v":7632},20.001220703125]
[null,40098.108483795797,{"$f":"LOOKUP(B345,Data!$A$6:$A$1806,Data!B$6:B$1806)","v":59.969001770019531},{"$f":"LOOKUP(B345,Data!$A$6:$A$1806,Data!C$6:C$1806)","v":3786.48681640625},null,null,null,24.798583984375,21.351654192624711,null,null,0,3786.2782261871575,{"$f":"AVERAGE(D$79:D345)","v":3772.7571285404961},{"$f":"AVERAGE(M$79:M345)","v":3769.4843180000225},3769.569968970125,{"$f":"AVERAGE(P$79:P345)","v":3741.1397469435228},null,null,null,null,40098.108483795797,{"$f":"LOOKUP($V345,Data!$A$6:$A$1806,Data!$B$6:$B$1806)","v":59.969001770019531},{"$f":"LOOKUP($V345,Data!$A$6:$A$1806,Data!$C$6:$C$1806)","v":3786.48681640625},{"$f":"LOOKUP($V345,Data!$A$6:$A$1806,Data!$D$6:$D$1806)","v":335},{"$f":"IF($Z$1=\"+\",LOOKUP($V345,Data!$A$6:$A$1806,Data!$E$6:$E$1806)*-1,LOOKUP($V345,Data!$A$6:$A$1806,Data!$E$6:$E$1806))","v":-215.59817504882812},{"$f":"LOOKUP($V345,Data!$A$6:$A$1806,Data!$F$6:$F$1806)","v":10},{"$f":"LOOKUP($V345,Data!$A$6:$A$1806,Data!$G$6:$G$1806)","v":242},{"$f":"LOOKUP($V345,Data!$A$6:$A$1806,Data!$H$6:$H$1806)","v":10},{"$f":"LOOKUP($V345,Data!$A$6:$A$1806,Data!$I$6:$I$1806)","v":0},{"$f":"LOOKUP($V345,Data!$A$6:$A$1806,Data!$J$6:$J$1806)","v":-103},{"$f":"LOOKUP($V345,Data!$A$6:$A$1806,Data!$K$6:$K$1806)","v":7632},24.798583984375]
[null,40098.108506943943,{"$f":"LOOKUP(B346,Data!$A$6:$A$1806,Data!B$6:B$1806)","v":59.969001770019531},{"$f":"LOOKUP(B346,Data!$A$6:$A$1806,Data!C$6:C$1806)","v":3786.48681640625},null,null,null,24.798583984375,22.558079619737313,null,null,0,3787.4846516142702,{"$f":"AVERAGE(D$79:D346)","v":3772.8083587190999},{"$f":"AVERAGE(M$79:M346)","v":3769.5514834239561},3769.569968970125,{"$f":"AVERAGE(P$79:P346)","v":3741.2462271758322},null,null,null,null,40098.108506943943,{"$f":"LOOKUP($V346,Data!$A$6:$A$1806,Data!$B$6:$B$1806)","v":59.969001770019531},{"$f":"LOOKUP($V346,Data!$A$6:$A$1806,Data!$C$6:$C$1806)","v":3786.48681640625},{"$f":"LOOKUP($V346,Data!$A$6:$A$1806,Data!$D$6:$D$1806)","v":335},{"$f":"IF($Z$1=\"+\",LOOKUP($V346,Data!$A$6:$A$1806,Data!$E$6:$E$1806)*-1,LOOKUP($V346,Data!$A$6:$A$1806,Data!$E$6:$E$1806))","v":-215.59817504882812},{"$f":"LOOKUP($V346,Data!$A$6:$A$1806,Data!$F$6:$F$1806)","v":10},{"$f":"LOOKUP($V346,Data!$A$6:$A$1806,Data!$G$6:$G$1806)","v":242},{"$f":"LOOKUP($V346,Data!$A$6:$A$1806,Data!$H$6:$H$1806)","v":10},{"$f":"LOOKUP($V346,Data!$A$6:$A$1806,Data!$I$6:$I$1806)","v":0},{"$f":"LOOKUP($V346,Data!$A$6:$A$1806,Data!$J$6:$J$1806)","v":-103},{"$f":"LOOKUP($V346,Data!$A$6:$A$1806,Data!$K$6:$K$1806)","v":7632},24.798583984375]
[null,40098.108530092089,{"$f":"LOOKUP(B347,Data!$A$6:$A$1806,Data!B$6:B$1806)","v":59.965999603271484},{"$f":"LOOKUP(B347,Data!$A$6:$A$1806,Data!C$6:C$1806)","v":3789.2138671875},null,null,null,27.2003173828125,24.182862836813626,null,null,0,3789.1094348313463,{"$f":"AVERAGE(D$79:D347)","v":3772.8693457394284},{"$f":"AVERAGE(M$79:M347)","v":3769.6241895630169},3769.569968970125,{"$f":"AVERAGE(P$79:P347)","v":3741.3519127795425},null,null,null,null,40098.108530092089,{"$f":"LOOKUP($V347,Data!$A$6:$A$1806,Data!$B$6:$B$1806)","v":59.965999603271484},{"$f":"LOOKUP($V347,Data!$A$6:$A$1806,Data!$C$6:$C$1806)","v":3789.2138671875},{"$f":"LOOKUP($V347,Data!$A$6:$A$1806,Data!$D$6:$D$1806)","v":335},{"$f":"IF($Z$1=\"+\",LOOKUP($V347,Data!$A$6:$A$1806,Data!$E$6:$E$1806)*-1,LOOKUP($V347,Data!$A$6:$A$1806,Data!$E$6:$E$1806))","v":-215.59817504882812},{"$f":"LOOKUP($V347,Data!$A$6:$A$1806,Data!$F$6:$F$1806)","v":11},{"$f":"LOOKUP($V347,Data!$A$6:$A$1806,Data!$G$6:$G$1806)","v":242.5},{"$f":"LOOKUP($V347,Data!$A$6:$A$1806,Data!$H$6:$H$1806)","v":10},{"$f":"LOOKUP($V347,Data!$A$6:$A$1806,Data!$I$6:$I$1806)","v":0},{"$f":"LOOKUP($V347,Data!$A$6:$A$1806,Data!$J$6:$J$1806)","v":-103},{"$f":"LOOKUP($V347,Data!$A$6:$A$1806,Data!$K$6:$K$1806)","v":7632},27.2003173828125]
[null,40098.108553240236,{"$f":"LOOKUP(B348,Data!$A$6:$A$1806,Data!B$6:B$1806)","v":59.965999603271484},{"$f":"LOOKUP(B348,Data!$A$6:$A$1806,Data!C$6:C$1806)","v":3790.51171875},null,null,null,27.2003173828125,25.238971927913234,null,null,0,3790.165543922446,{"$f":"AVERAGE(D$79:D348)","v":3772.9346878616898},{"$f":"AVERAGE(M$79:M348)","v":3769.7002686532369},3769.569968970125,{"$f":"AVERAGE(P$79:P348)","v":3741.4568126166823},null,null,null,null,40098.108553240236,{"$f":"LOOKUP($V348,Data!$A$6:$A$1806,Data!$B$6:$B$1806)","v":59.965999603271484},{"$f":"LOOKUP($V348,Data!$A$6:$A$1806,Data!$C$6:$C$1806)","v":3790.51171875},{"$f":"LOOKUP($V348,Data!$A$6:$A$1806,Data!$D$6:$D$1806)","v":335},{"$f":"IF($Z$1=\"+\",LOOKUP($V348,Data!$A$6:$A$1806,Data!$E$6:$E$1806)*-1,LOOKUP($V348,Data!$A$6:$A$1806,Data!$E$6:$E$1806))","v":-215.59817504882812},{"$f":"LOOKUP($V348,Data!$A$6:$A$1806,Data!$F$6:$F$1806)","v":12},{"$f":"LOOKUP($V348,Data!$A$6:$A$1806,Data!$G$6:$G$1806)","v":243},{"$f":"LOOKUP($V348,Data!$A$6:$A$1806,Data!$H$6:$H$1806)","v":10},{"$f":"LOOKUP($V348,Data!$A$6:$A$1806,Data!$I$6:$I$1806)","v":0},{"$f":"LOOKUP($V348,Data!$A$6:$A$1806,Data!$J$6:$J$1806)","v":-103},{"$f":"LOOKUP($V348,Data!$A$6:$A$1806,Data!$K$6:$K$1806)","v":7632},27.2003173828125]
[null,40098.108576388382,{"$f":"LOOKUP(B349,Data!$A$6:$A$1806,Data!B$6:B$1806)","v":59.965999603271484},{"$f":"LOOKUP(B349,Data!$A$6:$A$1806,Data!C$6:C$1806)","v":3790.51171875},null,null,null,27.2003173828125,25.925442837127978,null,null,0,3790.8520148316607,{"$f":"AVERAGE(D$79:D349)","v":3772.9995477542666},{"$f":"AVERAGE(M$79:M349)","v":3769.7783193771425},3769.569968970125,{"$f":"AVERAGE(P$79:P349)","v":3741.5609354179915},null,null,null,null,40098.108576388382,{"$f":"LOOKUP($V349,Data!$A$6:$A$1806,Data!$B$6:$B$1806)","v":59.965999603271484},{"$f":"LOOKUP($V349,Data!$A$6:$A$1806,Data!$C$6:$C$1806)","v":3790.51171875},{"$f":"LOOKUP($V349,Data!$A$6:$A$1806,Data!$D$6:$D$1806)","v":335},{"$f":"IF($Z$1=\"+\",LOOKUP($V349,Data!$A$6:$A$1806,Data!$E$6:$E$1806)*-1,LOOKUP($V349,Data!$A$6:$A$1806,Data!$E$6:$E$1806))","v":-215.59817504882812},{"$f":"LOOKUP($V349,Data!$A$6:$A$1806,Data!$F$6:$F$1806)","v":12},{"$f":"LOOKUP($V349,Data!$A$6:$A$1806,Data!$G$6:$G$1806)","v":243},{"$f":"LOOKUP($V349,Data!$A$6:$A$1806,Data!$H$6:$H$1806)","v":10},{"$f":"LOOKUP($V349,Data!$A$6:$A$1806,Data!$I$6:$I$1806)","v":0},{"$f":"LOOKUP($V349,Data!$A$6:$A$1806,Data!$J$6:$J$1806)","v":-103},{"$f":"LOOKUP($V349,Data!$A$6:$A$1806,Data!$K$6:$K$1806)","v":7632},27.2003173828125]
[null,40098.108599536528,{"$f":"LOOKUP(B350,Data!$A$6:$A$1806,Data!B$6:B$1806)","v":59.969001770019531},{"$f":"LOOKUP(B350,Data!$A$6:$A$1806,Data!C$6:C$1806)","v":3792.21826171875},null,null,null,24.798583984375,25.531042238664437,null,null,0,3790.4576142331971,{"$f":"AVERAGE(D$79:D350)","v":3773.0702047909008},{"$f":"AVERAGE(M$79:M350)","v":3769.8543461964664},3769.569968970125,{"$f":"AVERAGE(P$79:P350)","v":3741.6642897853426},null,null,null,null,40098.108599536528,{"$f":"LOOKUP($V350,Data!$A$6:$A$1806,Data!$B$6:$B$1806)","v":59.969001770019531},{"$f":"LOOKUP($V350,Data!$A$6:$A$1806,Data!$C$6:$C$1806)","v":3792.21826171875},{"$f":"LOOKUP($V350,Data!$A$6:$A$1806,Data!$D$6:$D$1806)","v":335},{"$f":"IF($Z$1=\"+\",LOOKUP($V350,Data!$A$6:$A$1806,Data!$E$6:$E$1806)*-1,LOOKUP($V350,Data!$A$6:$A$1806,Data!$E$6:$E$1806))","v":-215.59817504882812},{"$f":"LOOKUP($V350,Data!$A$6:$A$1806,Data!$F$6:$F$1806)","v":13},{"$f":"LOOKUP($V350,Data!$A$6:$A$1806,Data!$G$6:$G$1806)","v":243.5},{"$f":"LOOKUP($V350,Data!$A$6:$A$1806,Data!$H$6:$H$1806)","v":10},{"$f":"LOOKUP($V350,Data!$A$6:$A$1806,Data!$I$6:$I$1806)","v":0},{"$f":"LOOKUP($V350,Data!$A$6:$A$1806,Data!$J$6:$J$1806)","v":-103},{"$f":"LOOKUP($V350,Data!$A$6:$A$1806,Data!$K$6:$K$1806)","v":7632},24.798583984375]
[null,40098.108622684675,{"$f":"LOOKUP(B351,Data!$A$6:$A$1806,Data!B$6:B$1806)","v":59.967998504638672},{"$f":"LOOKUP(B351,Data!$A$6:$A$1806,Data!C$6:C$1806)","v":3790.95947265625},null,null,null,25.6011962890625,25.555596156303761,null,null,0,3790.4821681508365,{"$f":"AVERAGE(D$79:D351)","v":3773.13573324462},{"$f":"AVERAGE(M$79:M351)","v":3769.9299059838449},3769.569968970125,{"$f":"AVERAGE(P$79:P351)","v":3741.7668841941099},null,null,null,null,40098.108622684675,{"$f":"LOOKUP($V351,Data!$A$6:$A$1806,Data!$B$6:$B$1806)","v":59.967998504638672},{"$f":"LOOKUP($V351,Data!$A$6:$A$1806,Data!$C$6:$C$1806)","v":3790.95947265625},{"$f":"LOOKUP($V351,Data!$A$6:$A$1806,Data!$D$6:$D$1806)","v":335},{"$f":"IF($Z$1=\"+\",LOOKUP($V351,Data!$A$6:$A$1806,Data!$E$6:$E$1806)*-1,LOOKUP($V351,Data!$A$6:$A$1806,Data!$E$6:$E$1806))","v":-218.32725524902344},{"$f":"LOOKUP($V351,Data!$A$6:$A$1806,Data!$F$6:$F$1806)","v":14},{"$f":"LOOKUP($V351,Data!$A$6:$A$1806,Data!$G$6:$G$1806)","v":244},{"$f":"LOOKUP($V351,Data!$A$6:$A$1806,Data!$H$6:$H$1806)","v":10},{"$f":"LOOKUP($V351,Data!$A$6:$A$1806,Data!$I$6:$I$1806)","v":0},{"$f":"LOOKUP($V351,Data!$A$6:$A$1806,Data!$J$6:$J$1806)","v":-103},{"$f":"LOOKUP($V351,Data!$A$6:$A$1806,Data!$K$6:$K$1806)","v":7632},25.6011962890625]
[null,40098.108645832821,{"$f":"LOOKUP(B352,Data!$A$6:$A$1806,Data!B$6:B$1806)","v":59.967998504638672},{"$f":"LOOKUP(B352,Data!$A$6:$A$1806,Data!C$6:C$1806)","v":3790.95947265625},null,null,null,25.6011962890625,25.571556202769319,null,null,0,3790.4981281973019,{"$f":"AVERAGE(D$79:D352)","v":3773.2007833884581},{"$f":"AVERAGE(M$79:M352)","v":3770.0049724882733},3769.569968970125,{"$f":"AVERAGE(P$79:P352)","v":3741.8687269954876},null,null,null,null,40098.108645832821,{"$f":"LOOKUP($V352,Data!$A$6:$A$1806,Data!$B$6:$B$1806)","v":59.967998504638672},{"$f":"LOOKUP($V352,Data!$A$6:$A$1806,Data!$C$6:$C$1806)","v":3790.95947265625},{"$f":"LOOKUP($V352,Data!$A$6:$A$1806,Data!$D$6:$D$1806)","v":335},{"$f":"IF($Z$1=\"+\",LOOKUP($V352,Data!$A$6:$A$1806,Data!$E$6:$E$1806)*-1,LOOKUP($V352,Data!$A$6:$A$1806,Data!$E$6:$E$1806))","v":-218.32725524902344},{"$f":"LOOKUP($V352,Data!$A$6:$A$1806,Data!$F$6:$F$1806)","v":14},{"$f":"LOOKUP($V352,Data!$A$6:$A$1806,Data!$G$6:$G$1806)","v":244},{"$f":"LOOKUP($V352,Data!$A$6:$A$1806,Data!$H$6:$H$1806)","v":10},{"$f":"LOOKUP($V352,Data!$A$6:$A$1806,Data!$I$6:$I$1806)","v":0},{"$f":"LOOKUP($V352,Data!$A$6:$A$1806,Data!$J$6:$J$1806)","v":-103},{"$f":"LOOKUP($V352,Data!$A$6:$A$1806,Data!$K$6:$K$1806)","v":7632},25.6011962890625]
[null,40098.108668980967,{"$f":"LOOKUP(B353,Data!$A$6:$A$1806,Data!B$6:B$1806)","v":59.965000152587891},{"$f":"LOOKUP(B353,Data!$A$6:$A$1806,Data!C$6:C$1806)","v":3789.0263671875},null,null,null,27.9998779296875,26.421468807190681,null,null,0,3791.3480408017231,{"$f":"AVERAGE(D$79:D353)","v":3773.258330965909},{"$f":"AVERAGE(M$79:M353)","v":3770.082583645777},3769.569968970125,{"$f":"AVERAGE(P$79:P353)","v":3741.9698264187527},null,null,null,null,40098.108668980967,{"$f":"LOOKUP($V353,Data!$A$6:$A$1806,Data!$B$6:$B$1806)","v":59.965000152587891},{"$f":"LOOKUP($V353,Data!$A$6:$A$1806,Data!$C$6:$C$1806)","v":3789.0263671875},{"$f":"LOOKUP($V353,Data!$A$6:$A$1806,Data!$D$6:$D$1806)","v":335},{"$f":"IF($Z$1=\"+\",LOOKUP($V353,Data!$A$6:$A$1806,Data!$E$6:$E$1806)*-1,LOOKUP($V353,Data!$A$6:$A$1806,Data!$E$6:$E$1806))","v":-218.32725524902344},{"$f":"LOOKUP($V353,Data!$A$6:$A$1806,Data!$F$6:$F$1806)","v":15},{"$f":"LOOKUP($V353,Data!$A$6:$A$1806,Data!$G$6:$G$1806)","v":244.5},{"$f":"LOOKUP($V353,Data!$A$6:$A$1806,Data!$H$6:$H$1806)","v":10},{"$f":"LOOKUP($V353,Data!$A$6:$A$1806,Data!$I$6:$I$1806)","v":0},{"$f":"LOOKUP($V353,Data!$A$6:$A$1806,Data!$J$6:$J$1806)","v":-103},{"$f":"LOOKUP($V353,Data!$A$6:$A$1806,Data!$K$6:$K$1806)","v":7632},27.9998779296875]
[null,40098.108692129113,{"$f":"LOOKUP(B354,Data!$A$6:$A$1806,Data!B$6:B$1806)","v":59.970001220703125},{"$f":"LOOKUP(B354,Data!$A$6:$A$1806,Data!C$6:C$1806)","v":3789.16748046875},null,null,null,23.9990234375,25.573612927798944,null,null,0,3790.5001849223313,{"$f":"AVERAGE(D$79:D354)","v":3773.315972811934},{"$f":"AVERAGE(M$79:M354)","v":3770.1565604619964},3769.569968970125,{"$f":"AVERAGE(P$79:P354)","v":3742.070190573485},null,null,null,null,40098.108692129113,{"$f":"LOOKUP($V354,Data!$A$6:$A$1806,Data!$B$6:$B$1806)","v":59.970001220703125},{"$f":"LOOKUP($V354,Data!$A$6:$A$1806,Data!$C$6:$C$1806)","v":3789.16748046875},{"$f":"LOOKUP($V354,Data!$A$6:$A$1806,Data!$D$6:$D$1806)","v":335},{"$f":"IF($Z$1=\"+\",LOOKUP($V354,Data!$A$6:$A$1806,Data!$E$6:$E$1806)*-1,LOOKUP($V354,Data!$A$6:$A$1806,Data!$E$6:$E$1806))","v":-218.32725524902344},{"$f":"LOOKUP($V354,Data!$A$6:$A$1806,Data!$F$6:$F$1806)","v":16},{"$f":"LOOKUP($V354,Data!$A$6:$A$1806,Data!$G$6:$G$1806)","v":245},{"$f":"LOOKUP($V354,Data!$A$6:$A$1806,Data!$H$6:$H$1806)","v":10},{"$f":"LOOKUP($V354,Data!$A$6:$A$1806,Data!$I$6:$I$1806)","v":0},{"$f":"LOOKUP($V354,Data!$A$6:$A$1806,Data!$J$6:$J$1806)","v":-103},{"$f":"LOOKUP($V354,Data!$A$6:$A$1806,Data!$K$6:$K$1806)","v":7632},23.9990234375]
[null,40098.10871527726,{"$f":"LOOKUP(B355,Data!$A$6:$A$1806,Data!B$6:B$1806)","v":59.970001220703125},{"$f":"LOOKUP(B355,Data!$A$6:$A$1806,Data!C$6:C$1806)","v":3789.16748046875},null,null,null,23.9990234375,25.022506606194316,null,null,0,3789.9490786007268,{"$f":"AVERAGE(D$79:D355)","v":3773.3731984713449},{"$f":"AVERAGE(M$79:M355)","v":3770.2280135960714},3769.569968970125,{"$f":"AVERAGE(P$79:P355)","v":3742.1698274517339},null,null,null,null,40098.10871527726,{"$f":"LOOKUP($V355,Data!$A$6:$A$1806,Data!$B$6:$B$1806)","v":59.970001220703125},{"$f":"LOOKUP($V355,Data!$A$6:$A$1806,Data!$C$6:$C$1806)","v":3789.16748046875},{"$f":"LOOKUP($V355,Data!$A$6:$A$1806,Data!$D$6:$D$1806)","v":335},{"$f":"IF($Z$1=\"+\",LOOKUP($V355,Data!$A$6:$A$1806,Data!$E$6:$E$1806)*-1,LOOKUP($V355,Data!$A$6:$A$1806,Data!$E$6:$E$1806))","v":-218.32725524902344},{"$f":"LOOKUP($V355,Data!$A$6:$A$1806,Data!$F$6:$F$1806)","v":16},{"$f":"LOOKUP($V355,Data!$A$6:$A$1806,Data!$G$6:$G$1806)","v":245},{"$f":"LOOKUP($V355,Data!$A$6:$A$1806,Data!$H$6:$H$1806)","v":10},{"$f":"LOOKUP($V355,Data!$A$6:$A$1806,Data!$I$6:$I$1806)","v":0},{"$f":"LOOKUP($V355,Data!$A$6:$A$1806,Data!$J$6:$J$1806)","v":-103},{"$f":"LOOKUP($V355,Data!$A$6:$A$1806,Data!$K$6:$K$1806)","v":7632},23.9990234375]
[null,40098.108738425406,{"$f":"LOOKUP(B356,Data!$A$6:$A$1806,Data!B$6:B$1806)","v":59.972000122070313},{"$f":"LOOKUP(B356,Data!$A$6:$A$1806,Data!C$6:C$1806)","v":3785.68994140625},null,null,null,22.39990234375,24.104595114338807,null,null,0,3789.0311671088712,{"$f":"AVERAGE(D$79:D356)","v":3773.417503302046},{"$f":"AVERAGE(M$79:M356)","v":3770.2956508389234},3769.569968970125,{"$f":"AVERAGE(P$79:P356)","v":3742.2687449301397},null,null,null,null,40098.108738425406,{"$f":"LOOKUP($V356,Data!$A$6:$A$1806,Data!$B$6:$B$1806)","v":59.972000122070313},{"$f":"LOOKUP($V356,Data!$A$6:$A$1806,Data!$C$6:$C$1806)","v":3785.68994140625},{"$f":"LOOKUP($V356,Data!$A$6:$A$1806,Data!$D$6:$D$1806)","v":335},{"$f":"IF($Z$1=\"+\",LOOKUP($V356,Data!$A$6:$A$1806,Data!$E$6:$E$1806)*-1,LOOKUP($V356,Data!$A$6:$A$1806,Data!$E$6:$E$1806))","v":-218.32725524902344},{"$f":"LOOKUP($V356,Data!$A$6:$A$1806,Data!$F$6:$F$1806)","v":16},{"$f":"LOOKUP($V356,Data!$A$6:$A$1806,Data!$G$6:$G$1806)","v":245.5},{"$f":"LOOKUP($V356,Data!$A$6:$A$1806,Data!$H$6:$H$1806)","v":10},{"$f":"LOOKUP($V356,Data!$A$6:$A$1806,Data!$I$6:$I$1806)","v":0},{"$f":"LOOKUP($V356,Data!$A$6:$A$1806,Data!$J$6:$J$1806)","v":-103},{"$f":"LOOKUP($V356,Data!$A$6:$A$1806,Data!$K$6:$K$1806)","v":7632},22.39990234375]
[null,40098.108761573552,{"$f":"LOOKUP(B357,Data!$A$6:$A$1806,Data!B$6:B$1806)","v":59.966999053955078},{"$f":"LOOKUP(B357,Data!$A$6:$A$1806,Data!C$6:C$1806)","v":3784.83056640625},null,null,null,26.4007568359375,24.908251716898349,null,null,0,3789.8348237114305,{"$f":"AVERAGE(D$79:D357)","v":3773.4584103382617},{"$f":"AVERAGE(M$79:M357)","v":3770.3656837166027},3769.569968970125,{"$f":"AVERAGE(P$79:P357)","v":3742.3669507720101},null,null,null,null,40098.108761573552,{"$f":"LOOKUP($V357,Data!$A$6:$A$1806,Data!$B$6:$B$1806)","v":59.966999053955078},{"$f":"LOOKUP($V357,Data!$A$6:$A$1806,Data!$C$6:$C$1806)","v":3784.83056640625},{"$f":"LOOKUP($V357,Data!$A$6:$A$1806,Data!$D$6:$D$1806)","v":335},{"$f":"IF($Z$1=\"+\",LOOKUP($V357,Data!$A$6:$A$1806,Data!$E$6:$E$1806)*-1,LOOKUP($V357,Data!$A$6:$A$1806,Data!$E$6:$E$1806))","v":-218.32725524902344},{"$f":"LOOKUP($V357,Data!$A$6:$A$1806,Data!$F$6:$F$1806)","v":16},{"$f":"LOOKUP($V357,Data!$A$6:$A$1806,Data!$G$6:$G$1806)","v":246},{"$f":"LOOKUP($V357,Data!$A$6:$A$1806,Data!$H$6:$H$1806)","v":10},{"$f":"LOOKUP($V357,Data!$A$6:$A$1806,Data!$I$6:$I$1806)","v":0},{"$f":"LOOKUP($V357,Data!$A$6:$A$1806,Data!$J$6:$J$1806)","v":-103},{"$f":"LOOKUP($V357,Data!$A$6:$A$1806,Data!$K$6:$K$1806)","v":7632},26.4007568359375]
[null,40098.108784721699,{"$f":"LOOKUP(B358,Data!$A$6:$A$1806,Data!B$6:B$1806)","v":59.966999053955078},{"$f":"LOOKUP(B358,Data!$A$6:$A$1806,Data!C$6:C$1806)","v":3784.83056640625},null,null,null,26.4007568359375,25.430628508562052,null,null,0,3790.3572005030942,{"$f":"AVERAGE(D$79:D358)","v":3773.4990251813615},{"$f":"AVERAGE(M$79:M358)","v":3770.4370819908399},3769.569968970125,{"$f":"AVERAGE(P$79:P358)","v":3742.4644526293509},null,null,null,null,40098.108784721699,{"$f":"LOOKUP($V358,Data!$A$6:$A$1806,Data!$B$6:$B$1806)","v":59.966999053955078},{"$f":"LOOKUP($V358,Data!$A$6:$A$1806,Data!$C$6:$C$1806)","v":3784.83056640625},{"$f":"LOOKUP($V358,Data!$A$6:$A$1806,Data!$D$6:$D$1806)","v":335},{"$f":"IF($Z$1=\"+\",LOOKUP($V358,Data!$A$6:$A$1806,Data!$E$6:$E$1806)*-1,LOOKUP($V358,Data!$A$6:$A$1806,Data!$E$6:$E$1806))","v":-218.32725524902344},{"$f":"LOOKUP($V358,Data!$A$6:$A$1806,Data!$F$6:$F$1806)","v":16},{"$f":"LOOKUP($V358,Data!$A$6:$A$1806,Data!$G$6:$G$1806)","v":246},{"$f":"LOOKUP($V358,Data!$A$6:$A$1806,Data!$H$6:$H$1806)","v":10},{"$f":"LOOKUP($V358,Data!$A$6:$A$1806,Data!$I$6:$I$1806)","v":0},{"$f":"LOOKUP($V358,Data!$A$6:$A$1806,Data!$J$6:$J$1806)","v":-103},{"$f":"LOOKUP($V358,Data!$A$6:$A$1806,Data!$K$6:$K$1806)","v":7632},26.4007568359375]
[null,40098.108807869845,{"$f":"LOOKUP(B359,Data!$A$6:$A$1806,Data!B$6:B$1806)","v":59.969001770019531},{"$f":"LOOKUP(B359,Data!$A$6:$A$1806,Data!C$6:C$1806)","v":3784.3203125},null,null,null,24.798583984375,25.209412925096583,null,null,0,3790.1359849196288,{"$f":"AVERAGE(D$79:D359)","v":3773.5375351006451},{"$f":"AVERAGE(M$79:M359)","v":3770.5071848482385},3769.569968970125,{"$f":"AVERAGE(P$79:P359)","v":3742.5612580448537},null,null,null,null,40098.108807869845,{"$f":"LOOKUP($V359,Data!$A$6:$A$1806,Data!$B$6:$B$1806)","v":59.969001770019531},{"$f":"LOOKUP($V359,Data!$A$6:$A$1806,Data!$C$6:$C$1806)","v":3784.3203125},{"$f":"LOOKUP($V359,Data!$A$6:$A$1806,Data!$D$6:$D$1806)","v":335},{"$f":"IF($Z$1=\"+\",LOOKUP($V359,Data!$A$6:$A$1806,Data!$E$6:$E$1806)*-1,LOOKUP($V359,Data!$A$6:$A$1806,Data!$E$6:$E$1806))","v":-217.37942504882812},{"$f":"LOOKUP($V359,Data!$A$6:$A$1806,Data!$F$6:$F$1806)","v":16},{"$f":"LOOKUP($V359,Data!$A$6:$A$1806,Data!$G$6:$G$1806)","v":246.5},{"$f":"LOOKUP($V359,Data!$A$6:$A$1806,Data!$H$6:$H$1806)","v":10},{"$f":"LOOKUP($V359,Data!$A$6:$A$1806,Data!$I$6:$I$1806)","v":0},{"$f":"LOOKUP($V359,Data!$A$6:$A$1806,Data!$J$6:$J$1806)","v":-103},{"$f":"LOOKUP($V359,Data!$A$6:$A$1806,Data!$K$6:$K$1806)","v":7632},24.798583984375]
[null,40098.108831017991,{"$f":"LOOKUP(B360,Data!$A$6:$A$1806,Data!B$6:B$1806)","v":59.969001770019531},{"$f":"LOOKUP(B360,Data!$A$6:$A$1806,Data!C$6:C$1806)","v":3782.80859375},null,null,null,24.798583984375,25.065622795844028,null,null,0,3789.9921947903763,{"$f":"AVERAGE(D$79:D360)","v":3773.5704111951463},{"$f":"AVERAGE(M$79:M360)","v":3770.576280628175},3769.569968970125,{"$f":"AVERAGE(P$79:P360)","v":3742.6573744538405},null,null,null,null,40098.108831017991,{"$f":"LOOKUP($V360,Data!$A$6:$A$1806,Data!$B$6:$B$1806)","v":59.969001770019531},{"$f":"LOOKUP($V360,Data!$A$6:$A$1806,Data!$C$6:$C$1806)","v":3782.80859375},{"$f":"LOOKUP($V360,Data!$A$6:$A$1806,Data!$D$6:$D$1806)","v":335},{"$f":"IF($Z$1=\"+\",LOOKUP($V360,Data!$A$6:$A$1806,Data!$E$6:$E$1806)*-1,LOOKUP($V360,Data!$A$6:$A$1806,Data!$E$6:$E$1806))","v":-217.37942504882812},{"$f":"LOOKUP($V360,Data!$A$6:$A$1806,Data!$F$6:$F$1806)","v":16},{"$f":"LOOKUP($V360,Data!$A$6:$A$1806,Data!$G$6:$G$1806)","v":247},{"$f":"LOOKUP($V360,Data!$A$6:$A$1806,Data!$H$6:$H$1806)","v":10},{"$f":"LOOKUP($V360,Data!$A$6:$A$1806,Data!$I$6:$I$1806)","v":0},{"$f":"LOOKUP($V360,Data!$A$6:$A$1806,Data!$J$6:$J$1806)","v":-103},{"$f":"LOOKUP($V360,Data!$A$6:$A$1806,Data!$K$6:$K$1806)","v":7632},24.798583984375]
[null,40098.108854166137,{"$f":"LOOKUP(B361,Data!$A$6:$A$1806,Data!B$6:B$1806)","v":59.969001770019531},{"$f":"LOOKUP(B361,Data!$A$6:$A$1806,Data!C$6:C$1806)","v":3782.80859375},null,null,null,24.798583984375,24.972159211829869,null,null,0,3789.8987312063623,{"$f":"AVERAGE(D$79:D361)","v":3773.6030549497573},{"$f":"AVERAGE(M$79:M361)","v":3770.6445578386983},3769.569968970125,{"$f":"AVERAGE(P$79:P361)","v":3742.7528091861673},null,null,null,null,40098.108854166137,{"$f":"LOOKUP($V361,Data!$A$6:$A$1806,Data!$B$6:$B$1806)","v":59.969001770019531},{"$f":"LOOKUP($V361,Data!$A$6:$A$1806,Data!$C$6:$C$1806)","v":3782.80859375},{"$f":"LOOKUP($V361,Data!$A$6:$A$1806,Data!$D$6:$D$1806)","v":335},{"$f":"IF($Z$1=\"+\",LOOKUP($V361,Data!$A$6:$A$1806,Data!$E$6:$E$1806)*-1,LOOKUP($V361,Data!$A$6:$A$1806,Data!$E$6:$E$1806))","v":-217.37942504882812},{"$f":"LOOKUP($V361,Data!$A$6:$A$1806,Data!$F$6:$F$1806)","v":16},{"$f":"LOOKUP($V361,Data!$A$6:$A$1806,Data!$G$6:$G$1806)","v":247},{"$f":"LOOKUP($V361,Data!$A$6:$A$1806,Data!$H$6:$H$1806)","v":10},{"$f":"LOOKUP($V361,Data!$A$6:$A$1806,Data!$I$6:$I$1806)","v":0},{"$f":"LOOKUP($V361,Data!$A$6:$A$1806,Data!$J$6:$J$1806)","v":-103},{"$f":"LOOKUP($V361,Data!$A$6:$A$1806,Data!$K$6:$K$1806)","v":7632},24.798583984375]
[null,40098.108877314284,{"$f":"LOOKUP(B362,Data!$A$6:$A$1806,Data!B$6:B$1806)","v":59.966999053955078},{"$f":"LOOKUP(B362,Data!$A$6:$A$1806,Data!C$6:C$1806)","v":3779.3515625},null,null,null,26.4007568359375,25.47216838026754,null,null,0,3790.3987403748001,{"$f":"AVERAGE(D$79:D362)","v":3773.6232961735254},{"$f":"AVERAGE(M$79:M362)","v":3770.7141148194592},3769.569968970125,{"$f":"AVERAGE(P$79:P362)","v":3742.8475694680887},null,null,null,null,40098.108877314284,{"$f":"LOOKUP($V362,Data!$A$6:$A$1806,Data!$B$6:$B$1806)","v":59.966999053955078},{"$f":"LOOKUP($V362,Data!$A$6:$A$1806,Data!$C$6:$C$1806)","v":3779.3515625},{"$f":"LOOKUP($V362,Data!$A$6:$A$1806,Data!$D$6:$D$1806)","v":335},{"$f":"IF($Z$1=\"+\",LOOKUP($V362,Data!$A$6:$A$1806,Data!$E$6:$E$1806)*-1,LOOKUP($V362,Data!$A$6:$A$1806,Data!$E$6:$E$1806))","v":-217.37942504882812},{"$f":"LOOKUP($V362,Data!$A$6:$A$1806,Data!$F$6:$F$1806)","v":16},{"$f":"LOOKUP($V362,Data!$A$6:$A$1806,Data!$G$6:$G$1806)","v":247.5},{"$f":"LOOKUP($V362,Data!$A$6:$A$1806,Data!$H$6:$H$1806)","v":10},{"$f":"LOOKUP($V362,Data!$A$6:$A$1806,Data!$I$6:$I$1806)","v":0},{"$f":"LOOKUP($V362,Data!$A$6:$A$1806,Data!$J$6:$J$1806)","v":-103},{"$f":"LOOKUP($V362,Data!$A$6:$A$1806,Data!$K$6:$K$1806)","v":7631},26.4007568359375]
[null,40098.10890046243,{"$f":"LOOKUP(B363,Data!$A$6:$A$1806,Data!B$6:B$1806)","v":59.965999603271484},{"$f":"LOOKUP(B363,Data!$A$6:$A$1806,Data!C$6:C$1806)","v":3779.05615234375},null,null,null,27.2003173828125,{"$f":"L$13*H363+(1-L$13)*I362","v":26.077020531158276},null,null,0,3791.0035925256907,{"$f":"AVERAGE(D$79:D363)","v":3773.6423588267544},{"$f":"AVERAGE(M$79:M363)","v":3770.7853059693052},3769.569968970125,{"$f":"AVERAGE(P$79:P363)","v":3742.9416624240816},null,null,null,null,40098.10890046243,{"$f":"LOOKUP($V363,Data!$A$6:$A$1806,Data!$B$6:$B$1806)","v":59.965999603271484},{"$f":"LOOKUP($V363,Data!$A$6:$A$1806,Data!$C$6:$C$1806)","v":3779.05615234375},{"$f":"LOOKUP($V363,Data!$A$6:$A$1806,Data!$D$6:$D$1806)","v":335},{"$f":"IF($Z$1=\"+\",LOOKUP($V363,Data!$A$6:$A$1806,Data!$E$6:$E$1806)*-1,LOOKUP($V363,Data!$A$6:$A$1806,Data!$E$6:$E$1806))","v":-217.37942504882812},{"$f":"LOOKUP($V363,Data!$A$6:$A$1806,Data!$F$6:$F$1806)","v":16},{"$f":"LOOKUP($V363,Data!$A$6:$A$1806,Data!$G$6:$G$1806)","v":248},{"$f":"LOOKUP($V363,Data!$A$6:$A$1806,Data!$H$6:$H$1806)","v":10},{"$f":"LOOKUP($V363,Data!$A$6:$A$1806,Data!$I$6:$I$1806)","v":0},{"$f":"LOOKUP($V363,Data!$A$6:$A$1806,Data!$J$6:$J$1806)","v":-103},{"$f":"LOOKUP($V363,Data!$A$6:$A$1806,Data!$K$6:$K$1806)","v":7625},27.2003173828125]
[null,40098.108923610576,{"$f":"LOOKUP(B364,Data!$A$6:$A$1806,Data!B$6:B$1806)","v":59.965999603271484},{"$f":"LOOKUP(B364,Data!$A$6:$A$1806,Data!C$6:C$1806)","v":3779.05615234375},null,null,null,{"$f":"(IF((C364-L$2)>0,((C364-L$2-L$5)/((L$4*L$2)-L$5)*L$3*-1),((C364-L$2+L$5)/((L$4*L$2)-L$5)*L$3*-1)))","v":27.2003173828125},26.470174429237254,null,null,0,3791.3967464237699,{"$f":"AVERAGE(D$79:D364)","v":3773.661288174716},{"$f":"AVERAGE(M$79:M364)","v":3770.8573739429221},3769.569968970125,{"$f":"AVERAGE(P$79:P364)","v":3743.0350950786287},null,null,null,null,40098.108923610576,{"$f":"LOOKUP($V364,Data!$A$6:$A$1806,Data!$B$6:$B$1806)","v":59.965999603271484},{"$f":"LOOKUP($V364,Data!$A$6:$A$1806,Data!$C$6:$C$1806)","v":3779.05615234375},{"$f":"LOOKUP($V364,Data!$A$6:$A$1806,Data!$D$6:$D$1806)","v":335},{"$f":"IF($Z$1=\"+\",LOOKUP($V364,Data!$A$6:$A$1806,Data!$E$6:$E$1806)*-1,LOOKUP($V364,Data!$A$6:$A$1806,Data!$E$6:$E$1806))","v":-217.37942504882812},{"$f":"LOOKUP($V364,Data!$A$6:$A$1806,Data!$F$6:$F$1806)","v":16},{"$f":"LOOKUP($V364,Data!$A$6:$A$1806,Data!$G$6:$G$1806)","v":248},{"$f":"LOOKUP($V364,Data!$A$6:$A$1806,Data!$H$6:$H$1806)","v":10},{"$f":"LOOKUP($V364,Data!$A$6:$A$1806,Data!$I$6:$I$1806)","v":0},{"$f":"LOOKUP($V364,Data!$A$6:$A$1806,Data!$J$6:$J$1806)","v":-103},{"$f":"LOOKUP($V364,Data!$A$6:$A$1806,Data!$K$6:$K$1806)","v":7625},{"$f":"(IF((W364-$L$2)>0,((W364-$L$2-$L$5)/(($L$4*$L$2)-$L$5)*$L$3*-1),((W364-$L$2+$L$5)/(($L$4*$L$2)-$L$5)*$L$3*-1)))","v":27.2003173828125}]
[null,40098.108946758723,{"$f":"LOOKUP(B365,Data!$A$6:$A$1806,Data!B$6:B$1806)","v":59.965000152587891},{"$f":"LOOKUP(B365,Data!$A$6:$A$1806,Data!C$6:C$1806)","v":3779.211669921875},null,null,null,27.9998779296875,27.005570654394841,null,null,0,3791.9321426489273,{"$f":"AVERAGE(D$79:D365)","v":3773.6806274839396},{"$f":"AVERAGE(M$79:M365)","v":3770.9308051927687},3769.569968970125,{"$f":"AVERAGE(P$79:P365)","v":3743.1278743579692},null,null,null,null,40098.108946758723,{"$f":"LOOKUP($V365,Data!$A$6:$A$1806,Data!$B$6:$B$1806)","v":59.965000152587891},{"$f":"LOOKUP($V365,Data!$A$6:$A$1806,Data!$C$6:$C$1806)","v":3779.211669921875},{"$f":"LOOKUP($V365,Data!$A$6:$A$1806,Data!$D$6:$D$1806)","v":335},{"$f":"IF($Z$1=\"+\",LOOKUP($V365,Data!$A$6:$A$1806,Data!$E$6:$E$1806)*-1,LOOKUP($V365,Data!$A$6:$A$1806,Data!$E$6:$E$1806))","v":-217.37942504882812},{"$f":"LOOKUP($V365,Data!$A$6:$A$1806,Data!$F$6:$F$1806)","v":16},{"$f":"LOOKUP($V365,Data!$A$6:$A$1806,Data!$G$6:$G$1806)","v":248.5},{"$f":"LOOKUP($V365,Data!$A$6:$A$1806,Data!$H$6:$H$1806)","v":10},{"$f":"LOOKUP($V365,Data!$A$6:$A$1806,Data!$I$6:$I$1806)","v":0},{"$f":"LOOKUP($V365,Data!$A$6:$A$1806,Data!$J$6:$J$1806)","v":-103},{"$f":"LOOKUP($V365,Data!$A$6:$A$1806,Data!$K$6:$K$1806)","v":7623},27.9998779296875]
[null,{"$f":"B365+TIME(0,0,$B$1)","v":40098.108969906869},{"$f":"LOOKUP(B366,Data!$A$6:$A$1806,Data!B$6:B$1806)","v":59.966999053955078},{"$f":"LOOKUP(B366,Data!$A$6:$A$1806,Data!C$6:C$1806)","v":3779.334716796875},null,null,null,26.4007568359375,26.793885817934772,null,null,0,3791.7204578124674,{"$f":"AVERAGE(D$79:D366)","v":3773.7002597384981},{"$f":"AVERAGE(M$79:M366)","v":3771.0029914865872},3769.569968970125,{"$f":"AVERAGE(P$79:P366)","v":3743.2200070918093},null,null,null,null,40098.108969906869,{"$f":"LOOKUP($V366,Data!$A$6:$A$1806,Data!$B$6:$B$1806)","v":59.966999053955078},{"$f":"LOOKUP($V366,Data!$A$6:$A$1806,Data!$C$6:$C$1806)","v":3779.334716796875},{"$f":"LOOKUP($V366,Data!$A$6:$A$1806,Data!$D$6:$D$1806)","v":335},{"$f":"IF($Z$1=\"+\",LOOKUP($V366,Data!$A$6:$A$1806,Data!$E$6:$E$1806)*-1,LOOKUP($V366,Data!$A$6:$A$1806,Data!$E$6:$E$1806))","v":-214.83035278320312},{"$f":"LOOKUP($V366,Data!$A$6:$A$1806,Data!$F$6:$F$1806)","v":16},{"$f":"LOOKUP($V366,Data!$A$6:$A$1806,Data!$G$6:$G$1806)","v":249},{"$f":"LOOKUP($V366,Data!$A$6:$A$1806,Data!$H$6:$H$1806)","v":10},{"$f":"LOOKUP($V366,Data!$A$6:$A$1806,Data!$I$6:$I$1806)","v":0},{"$f":"LOOKUP($V366,Data!$A$6:$A$1806,Data!$J$6:$J$1806)","v":-103},{"$f":"LOOKUP($V366,Data!$A$6:$A$1806,Data!$K$6:$K$1806)","v":7621},26.4007568359375]
[null,40098.108993055015,{"$f":"LOOKUP(B367,Data!$A$6:$A$1806,Data!B$6:B$1806)","v":59.966999053955078},{"$f":"LOOKUP(B367,Data!$A$6:$A$1806,Data!C$6:C$1806)","v":3779.334716796875},null,null,null,26.4007568359375,26.656290674235727,null,null,0,3791.5828626687685,{"$f":"AVERAGE(D$79:D367)","v":3773.7197561297039},{"$f":"AVERAGE(M$79:M367)","v":3771.0742021135152},3769.569968970125,{"$f":"AVERAGE(P$79:P367)","v":3743.3115000149974},null,null,null,null,40098.108993055015,{"$f":"LOOKUP($V367,Data!$A$6:$A$1806,Data!$B$6:$B$1806)","v":59.966999053955078},{"$f":"LOOKUP($V367,Data!$A$6:$A$1806,Data!$C$6:$C$1806)","v":3779.334716796875},{"$f":"LOOKUP($V367,Data!$A$6:$A$1806,Data!$D$6:$D$1806)","v":335},{"$f":"IF($Z$1=\"+\",LOOKUP($V367,Data!$A$6:$A$1806,Data!$E$6:$E$1806)*-1,LOOKUP($V367,Data!$A$6:$A$1806,Data!$E$6:$E$1806))","v":-214.83035278320312},{"$f":"LOOKUP($V367,Data!$A$6:$A$1806,Data!$F$6:$F$1806)","v":16},{"$f":"LOOKUP($V367,Data!$A$6:$A$1806,Data!$G$6:$G$1806)","v":249},{"$f":"LOOKUP($V367,Data!$A$6:$A$1806,Data!$H$6:$H$1806)","v":10},{"$f":"LOOKUP($V367,Data!$A$6:$A$1806,Data!$I$6:$I$1806)","v":0},{"$f":"LOOKUP($V367,Data!$A$6:$A$1806,Data!$J$6:$J$1806)","v":-103},{"$f":"LOOKUP($V367,Data!$A$6:$A$1806,Data!$K$6:$K$1806)","v":7621},26.4007568359375]
[null,40098.109016203161,{"$f":"LOOKUP(B368,Data!$A$6:$A$1806,Data!B$6:B$1806)","v":59.965000152587891},{"$f":"LOOKUP(B368,Data!$A$6:$A$1806,Data!C$6:C$1806)","v":3775.646728515625},null,null,null,27.9998779296875,27.126546213643849,null,null,0,3792.0531182081768,{"$f":"AVERAGE(D$79:D368)","v":3773.7264008620691},{"$f":"AVERAGE(M$79:M368)","v":3771.1465432034965},3769.569968970125,{"$f":"AVERAGE(P$79:P368)","v":3743.4023597691671},null,null,null,null,40098.109016203161,{"$f":"LOOKUP($V368,Data!$A$6:$A$1806,Data!$B$6:$B$1806)","v":59.965000152587891},{"$f":"LOOKUP($V368,Data!$A$6:$A$1806,Data!$C$6:$C$1806)","v":3775.646728515625},{"$f":"LOOKUP($V368,Data!$A$6:$A$1806,Data!$D$6:$D$1806)","v":335},{"$f":"IF($Z$1=\"+\",LOOKUP($V368,Data!$A$6:$A$1806,Data!$E$6:$E$1806)*-1,LOOKUP($V368,Data!$A$6:$A$1806,Data!$E$6:$E$1806))","v":-214.83035278320312},{"$f":"LOOKUP($V368,Data!$A$6:$A$1806,Data!$F$6:$F$1806)","v":16},{"$f":"LOOKUP($V368,Data!$A$6:$A$1806,Data!$G$6:$G$1806)","v":249.5},{"$f":"LOOKUP($V368,Data!$A$6:$A$1806,Data!$H$6:$H$1806)","v":10},{"$f":"LOOKUP($V368,Data!$A$6:$A$1806,Data!$I$6:$I$1806)","v":0},{"$f":"LOOKUP($V368,Data!$A$6:$A$1806,Data!$J$6:$J$1806)","v":-103},{"$f":"LOOKUP($V368,Data!$A$6:$A$1806,Data!$K$6:$K$1806)","v":7623},27.9998779296875]
[null,40098.109039351308,{"$f":"LOOKUP(B369,Data!$A$6:$A$1806,Data!B$6:B$1806)","v":59.964000701904297},{"$f":"LOOKUP(B369,Data!$A$6:$A$1806,Data!C$6:C$1806)","v":3776.5966796875},null,null,null,28.7994384765625,27.712058505665379,null,null,0,3792.6386305001984,{"$f":"AVERAGE(D$79:D369)","v":3773.7362643631873},{"$f":"AVERAGE(M$79:M369)","v":3771.2203991735887},3769.569968970125,{"$f":"AVERAGE(P$79:P369)","v":3743.4925929043425},null,null,null,null,40098.109039351308,{"$f":"LOOKUP($V369,Data!$A$6:$A$1806,Data!$B$6:$B$1806)","v":59.964000701904297},{"$f":"LOOKUP($V369,Data!$A$6:$A$1806,Data!$C$6:$C$1806)","v":3776.5966796875},{"$f":"LOOKUP($V369,Data!$A$6:$A$1806,Data!$D$6:$D$1806)","v":335},{"$f":"IF($Z$1=\"+\",LOOKUP($V369,Data!$A$6:$A$1806,Data!$E$6:$E$1806)*-1,LOOKUP($V369,Data!$A$6:$A$1806,Data!$E$6:$E$1806))","v":-214.83035278320312},{"$f":"LOOKUP($V369,Data!$A$6:$A$1806,Data!$F$6:$F$1806)","v":16},{"$f":"LOOKUP($V369,Data!$A$6:$A$1806,Data!$G$6:$G$1806)","v":250},{"$f":"LOOKUP($V369,Data!$A$6:$A$1806,Data!$H$6:$H$1806)","v":10},{"$f":"LOOKUP($V369,Data!$A$6:$A$1806,Data!$I$6:$I$1806)","v":0},{"$f":"LOOKUP($V369,Data!$A$6:$A$1806,Data!$J$6:$J$1806)","v":-103},{"$f":"LOOKUP($V369,Data!$A$6:$A$1806,Data!$K$6:$K$1806)","v":7625},28.7994384765625]
[null,40098.109062499454,{"$f":"LOOKUP(B370,Data!$A$6:$A$1806,Data!B$6:B$1806)","v":59.964000701904297},{"$f":"LOOKUP(B370,Data!$A$6:$A$1806,Data!C$6:C$1806)","v":3776.5966796875},null,null,null,28.7994384765625,28.092641495479374,null,null,0,3793.0192134900121,{"$f":"AVERAGE(D$79:D370)","v":3773.7460603060786},{"$f":"AVERAGE(M$79:M370)","v":3771.295052647275},3769.569968970125,{"$f":"AVERAGE(P$79:P370)","v":3743.5822058805134},null,null,null,null,40098.109062499454,{"$f":"LOOKUP($V370,Data!$A$6:$A$1806,Data!$B$6:$B$1806)","v":59.964000701904297},{"$f":"LOOKUP($V370,Data!$A$6:$A$1806,Data!$C$6:$C$1806)","v":3776.5966796875},{"$f":"LOOKUP($V370,Data!$A$6:$A$1806,Data!$D$6:$D$1806)","v":335},{"$f":"IF($Z$1=\"+\",LOOKUP($V370,Data!$A$6:$A$1806,Data!$E$6:$E$1806)*-1,LOOKUP($V370,Data!$A$6:$A$1806,Data!$E$6:$E$1806))","v":-214.83035278320312},{"$f":"LOOKUP($V370,Data!$A$6:$A$1806,Data!$F$6:$F$1806)","v":16},{"$f":"LOOKUP($V370,Data!$A$6:$A$1806,Data!$G$6:$G$1806)","v":250},{"$f":"LOOKUP($V370,Data!$A$6:$A$1806,Data!$H$6:$H$1806)","v":10},{"$f":"LOOKUP($V370,Data!$A$6:$A$1806,Data!$I$6:$I$1806)","v":0},{"$f":"LOOKUP($V370,Data!$A$6:$A$1806,Data!$J$6:$J$1806)","v":-103},{"$f":"LOOKUP($V370,Data!$A$6:$A$1806,Data!$K$6:$K$1806)","v":7625},28.7994384765625]
[null,40098.1090856476,{"$f":"LOOKUP(B371,Data!$A$6:$A$1806,Data!B$6:B$1806)","v":59.970001220703125},{"$f":"LOOKUP(B371,Data!$A$6:$A$1806,Data!C$6:C$1806)","v":3776.02294921875},null,null,null,23.9990234375,26.659875175186592,null,null,0,3791.5864471697196,{"$f":"AVERAGE(D$79:D371)","v":3773.7538312579991},{"$f":"AVERAGE(M$79:M371)","v":3771.3643065534952},3769.569968970125,{"$f":"AVERAGE(P$79:P371)","v":3743.6712050691763},null,null,null,null,40098.1090856476,{"$f":"LOOKUP($V371,Data!$A$6:$A$1806,Data!$B$6:$B$1806)","v":59.970001220703125},{"$f":"LOOKUP($V371,Data!$A$6:$A$1806,Data!$C$6:$C$1806)","v":3776.02294921875},{"$f":"LOOKUP($V371,Data!$A$6:$A$1806,Data!$D$6:$D$1806)","v":335},{"$f":"IF($Z$1=\"+\",LOOKUP($V371,Data!$A$6:$A$1806,Data!$E$6:$E$1806)*-1,LOOKUP($V371,Data!$A$6:$A$1806,Data!$E$6:$E$1806))","v":-214.83035278320312},{"$f":"LOOKUP($V371,Data!$A$6:$A$1806,Data!$F$6:$F$1806)","v":16},{"$f":"LOOKUP($V371,Data!$A$6:$A$1806,Data!$G$6:$G$1806)","v":250.5},{"$f":"LOOKUP($V371,Data!$A$6:$A$1806,Data!$H$6:$H$1806)","v":10},{"$f":"LOOKUP($V371,Data!$A$6:$A$1806,Data!$I$6:$I$1806)","v":0},{"$f":"LOOKUP($V371,Data!$A$6:$A$1806,Data!$J$6:$J$1806)","v":-103},{"$f":"LOOKUP($V371,Data!$A$6:$A$1806,Data!$K$6:$K$1806)","v":7627},23.9990234375]
[null,40098.109108795747,{"$f":"LOOKUP(B372,Data!$A$6:$A$1806,Data!B$6:B$1806)","v":59.969001770019531},{"$f":"LOOKUP(B372,Data!$A$6:$A$1806,Data!C$6:C$1806)","v":3773.169921875},null,null,null,24.798583984375,26.008423258402534,null,null,0,3790.9349952529356,{"$f":"AVERAGE(D$79:D372)","v":3773.7518451716624},{"$f":"AVERAGE(M$79:M372)","v":3771.4308735218601},3769.569968970125,{"$f":"AVERAGE(P$79:P372)","v":3743.7595967548446},null,null,null,null,40098.109108795747,{"$f":"LOOKUP($V372,Data!$A$6:$A$1806,Data!$B$6:$B$1806)","v":59.969001770019531},{"$f":"LOOKUP($V372,Data!$A$6:$A$1806,Data!$C$6:$C$1806)","v":3773.169921875},{"$f":"LOOKUP($V372,Data!$A$6:$A$1806,Data!$D$6:$D$1806)","v":335},{"$f":"IF($Z$1=\"+\",LOOKUP($V372,Data!$A$6:$A$1806,Data!$E$6:$E$1806)*-1,LOOKUP($V372,Data!$A$6:$A$1806,Data!$E$6:$E$1806))","v":-214.83035278320312},{"$f":"LOOKUP($V372,Data!$A$6:$A$1806,Data!$F$6:$F$1806)","v":16},{"$f":"LOOKUP($V372,Data!$A$6:$A$1806,Data!$G$6:$G$1806)","v":251},{"$f":"LOOKUP($V372,Data!$A$6:$A$1806,Data!$H$6:$H$1806)","v":10},{"$f":"LOOKUP($V372,Data!$A$6:$A$1806,Data!$I$6:$I$1806)","v":0},{"$f":"LOOKUP($V372,Data!$A$6:$A$1806,Data!$J$6:$J$1806)","v":-103},{"$f":"LOOKUP($V372,Data!$A$6:$A$1806,Data!$K$6:$K$1806)","v":7628},24.798583984375]
[null,40098.109131943893,{"$f":"LOOKUP(B373,Data!$A$6:$A$1806,Data!B$6:B$1806)","v":59.969001770019531},{"$f":"LOOKUP(B373,Data!$A$6:$A$1806,Data!C$6:C$1806)","v":3773.169921875},null,null,null,24.798583984375,25.584979512492897,null,null,0,3790.5115515070261,{"$f":"AVERAGE(D$79:D373)","v":3773.7498725503178},{"$f":"AVERAGE(M$79:M373)","v":3771.495553786217},3769.569968970125,{"$f":"AVERAGE(P$79:P373)","v":3743.8473871365286},null,null,null,null,40098.109131943893,{"$f":"LOOKUP($V373,Data!$A$6:$A$1806,Data!$B$6:$B$1806)","v":59.969001770019531},{"$f":"LOOKUP($V373,Data!$A$6:$A$1806,Data!$C$6:$C$1806)","v":3773.169921875},{"$f":"LOOKUP($V373,Data!$A$6:$A$1806,Data!$D$6:$D$1806)","v":335},{"$f":"IF($Z$1=\"+\",LOOKUP($V373,Data!$A$6:$A$1806,Data!$E$6:$E$1806)*-1,LOOKUP($V373,Data!$A$6:$A$1806,Data!$E$6:$E$1806))","v":-214.83035278320312},{"$f":"LOOKUP($V373,Data!$A$6:$A$1806,Data!$F$6:$F$1806)","v":16},{"$f":"LOOKUP($V373,Data!$A$6:$A$1806,Data!$G$6:$G$1806)","v":251},{"$f":"LOOKUP($V373,Data!$A$6:$A$1806,Data!$H$6:$H$1806)","v":10},{"$f":"LOOKUP($V373,Data!$A$6:$A$1806,Data!$I$6:$I$1806)","v":0},{"$f":"LOOKUP($V373,Data!$A$6:$A$1806,Data!$J$6:$J$1806)","v":-103},{"$f":"LOOKUP($V373,Data!$A$6:$A$1806,Data!$K$6:$K$1806)","v":7628},24.798583984375]
[null,40098.109155092039,{"$f":"LOOKUP(B374,Data!$A$6:$A$1806,Data!B$6:B$1806)","v":59.967998504638672},{"$f":"LOOKUP(B374,Data!$A$6:$A$1806,Data!C$6:C$1806)","v":3768.79296875},null,null,null,25.6011962890625,25.590655384292258,null,null,0,3790.5172273788253,{"$f":"AVERAGE(D$79:D374)","v":3773.733126253695},{"$f":"AVERAGE(M$79:M374)","v":3771.5598161970029},3769.569968970125,{"$f":"AVERAGE(P$79:P374)","v":3743.9345823291847},null,null,null,null,40098.109155092039,{"$f":"LOOKUP($V374,Data!$A$6:$A$1806,Data!$B$6:$B$1806)","v":59.967998504638672},{"$f":"LOOKUP($V374,Data!$A$6:$A$1806,Data!$C$6:$C$1806)","v":3768.79296875},{"$f":"LOOKUP($V374,Data!$A$6:$A$1806,Data!$D$6:$D$1806)","v":335},{"$f":"IF($Z$1=\"+\",LOOKUP($V374,Data!$A$6:$A$1806,Data!$E$6:$E$1806)*-1,LOOKUP($V374,Data!$A$6:$A$1806,Data!$E$6:$E$1806))","v":-227.65591430664062},{"$f":"LOOKUP($V374,Data!$A$6:$A$1806,Data!$F$6:$F$1806)","v":16},{"$f":"LOOKUP($V374,Data!$A$6:$A$1806,Data!$G$6:$G$1806)","v":251.5},{"$f":"LOOKUP($V374,Data!$A$6:$A$1806,Data!$H$6:$H$1806)","v":10},{"$f":"LOOKUP($V374,Data!$A$6:$A$1806,Data!$I$6:$I$1806)","v":0},{"$f":"LOOKUP($V374,Data!$A$6:$A$1806,Data!$J$6:$J$1806)","v":-103},{"$f":"LOOKUP($V374,Data!$A$6:$A$1806,Data!$K$6:$K$1806)","v":7628},25.6011962890625]
[null,40098.109178240185,{"$f":"LOOKUP(B375,Data!$A$6:$A$1806,Data!B$6:B$1806)","v":59.965000152587891},{"$f":"LOOKUP(B375,Data!$A$6:$A$1806,Data!C$6:C$1806)","v":3768.5029296875},null,null,null,27.9998779296875,26.433883275180595,null,null,0,3791.3604552697138,{"$f":"AVERAGE(D$79:D375)","v":3773.7155161642468},{"$f":"AVERAGE(M$79:M375)","v":3771.6264850154294},3769.569968970125,{"$f":"AVERAGE(P$79:P375)","v":3744.0211883651336},null,null,null,null,40098.109178240185,{"$f":"LOOKUP($V375,Data!$A$6:$A$1806,Data!$B$6:$B$1806)","v":59.965000152587891},{"$f":"LOOKUP($V375,Data!$A$6:$A$1806,Data!$C$6:$C$1806)","v":3768.5029296875},{"$f":"LOOKUP($V375,Data!$A$6:$A$1806,Data!$D$6:$D$1806)","v":335},{"$f":"IF($Z$1=\"+\",LOOKUP($V375,Data!$A$6:$A$1806,Data!$E$6:$E$1806)*-1,LOOKUP($V375,Data!$A$6:$A$1806,Data!$E$6:$E$1806))","v":-227.65591430664062},{"$f":"LOOKUP($V375,Data!$A$6:$A$1806,Data!$F$6:$F$1806)","v":16},{"$f":"LOOKUP($V375,Data!$A$6:$A$1806,Data!$G$6:$G$1806)","v":252},{"$f":"LOOKUP($V375,Data!$A$6:$A$1806,Data!$H$6:$H$1806)","v":10},{"$f":"LOOKUP($V375,Data!$A$6:$A$1806,Data!$I$6:$I$1806)","v":0},{"$f":"LOOKUP($V375,Data!$A$6:$A$1806,Data!$J$6:$J$1806)","v":-103},{"$f":"LOOKUP($V375,Data!$A$6:$A$1806,Data!$K$6:$K$1806)","v":7629},27.9998779296875]
[null,40098.109201388332,{"$f":"LOOKUP(B376,Data!$A$6:$A$1806,Data!B$6:B$1806)","v":59.965000152587891},{"$f":"LOOKUP(B376,Data!$A$6:$A$1806,Data!C$6:C$1806)","v":3768.5029296875},null,null,null,27.9998779296875,26.981981404258011,null,null,0,3791.9085533987914,{"$f":"AVERAGE(D$79:D376)","v":3773.6980242633181},{"$f":"AVERAGE(M$79:M376)","v":3771.6945456475883},3769.569968970125,{"$f":"AVERAGE(P$79:P376)","v":3744.1072111954531},null,null,null,null,40098.109201388332,{"$f":"LOOKUP($V376,Data!$A$6:$A$1806,Data!$B$6:$B$1806)","v":59.965000152587891},{"$f":"LOOKUP($V376,Data!$A$6:$A$1806,Data!$C$6:$C$1806)","v":3768.5029296875},{"$f":"LOOKUP($V376,Data!$A$6:$A$1806,Data!$D$6:$D$1806)","v":335},{"$f":"IF($Z$1=\"+\",LOOKUP($V376,Data!$A$6:$A$1806,Data!$E$6:$E$1806)*-1,LOOKUP($V376,Data!$A$6:$A$1806,Data!$E$6:$E$1806))","v":-227.65591430664062},{"$f":"LOOKUP($V376,Data!$A$6:$A$1806,Data!$F$6:$F$1806)","v":16},{"$f":"LOOKUP($V376,Data!$A$6:$A$1806,Data!$G$6:$G$1806)","v":252},{"$f":"LOOKUP($V376,Data!$A$6:$A$1806,Data!$H$6:$H$1806)","v":10},{"$f":"LOOKUP($V376,Data!$A$6:$A$1806,Data!$I$6:$I$1806)","v":0},{"$f":"LOOKUP($V376,Data!$A$6:$A$1806,Data!$J$6:$J$1806)","v":-103},{"$f":"LOOKUP($V376,Data!$A$6:$A$1806,Data!$K$6:$K$1806)","v":7629},27.9998779296875]
[null,40098.109224536478,{"$f":"LOOKUP(B377,Data!$A$6:$A$1806,Data!B$6:B$1806)","v":59.970001220703125},{"$f":"LOOKUP(B377,Data!$A$6:$A$1806,Data!C$6:C$1806)","v":3767.3662109375},null,null,null,23.9990234375,25.937946115892707,null,null,0,3790.8645181104262,{"$f":"AVERAGE(D$79:D377)","v":3773.6768476301213},{"$f":"AVERAGE(M$79:M377)","v":3771.7586592678649},3769.569968970125,{"$f":"AVERAGE(P$79:P377)","v":3744.1926566913407},null,null,null,null,40098.109224536478,{"$f":"LOOKUP($V377,Data!$A$6:$A$1806,Data!$B$6:$B$1806)","v":59.970001220703125},{"$f":"LOOKUP($V377,Data!$A$6:$A$1806,Data!$C$6:$C$1806)","v":3767.3662109375},{"$f":"LOOKUP($V377,Data!$A$6:$A$1806,Data!$D$6:$D$1806)","v":335},{"$f":"IF($Z$1=\"+\",LOOKUP($V377,Data!$A$6:$A$1806,Data!$E$6:$E$1806)*-1,LOOKUP($V377,Data!$A$6:$A$1806,Data!$E$6:$E$1806))","v":-227.65591430664062},{"$f":"LOOKUP($V377,Data!$A$6:$A$1806,Data!$F$6:$F$1806)","v":16},{"$f":"LOOKUP($V377,Data!$A$6:$A$1806,Data!$G$6:$G$1806)","v":252.5},{"$f":"LOOKUP($V377,Data!$A$6:$A$1806,Data!$H$6:$H$1806)","v":10},{"$f":"LOOKUP($V377,Data!$A$6:$A$1806,Data!$I$6:$I$1806)","v":0},{"$f":"LOOKUP($V377,Data!$A$6:$A$1806,Data!$J$6:$J$1806)","v":-103},{"$f":"LOOKUP($V377,Data!$A$6:$A$1806,Data!$K$6:$K$1806)","v":7630},23.9990234375]
[null,40098.109247684624,{"$f":"LOOKUP(B378,Data!$A$6:$A$1806,Data!B$6:B$1806)","v":59.967998504638672},{"$f":"LOOKUP(B378,Data!$A$6:$A$1806,Data!C$6:C$1806)","v":3764.7861328125},null,null,null,25.6011962890625,25.820083676502136,null,null,0,3790.7466556710356,{"$f":"AVERAGE(D$79:D378)","v":3773.6472119140626},{"$f":"AVERAGE(M$79:M378)","v":3771.8219525892086},3769.569968970125,{"$f":"AVERAGE(P$79:P378)","v":3744.27753064545},null,null,null,null,40098.109247684624,{"$f":"LOOKUP($V378,Data!$A$6:$A$1806,Data!$B$6:$B$1806)","v":59.967998504638672},{"$f":"LOOKUP($V378,Data!$A$6:$A$1806,Data!$C$6:$C$1806)","v":3764.7861328125},{"$f":"LOOKUP($V378,Data!$A$6:$A$1806,Data!$D$6:$D$1806)","v":335},{"$f":"IF($Z$1=\"+\",LOOKUP($V378,Data!$A$6:$A$1806,Data!$E$6:$E$1806)*-1,LOOKUP($V378,Data!$A$6:$A$1806,Data!$E$6:$E$1806))","v":-227.65591430664062},{"$f":"LOOKUP($V378,Data!$A$6:$A$1806,Data!$F$6:$F$1806)","v":16},{"$f":"LOOKUP($V378,Data!$A$6:$A$1806,Data!$G$6:$G$1806)","v":253},{"$f":"LOOKUP($V378,Data!$A$6:$A$1806,Data!$H$6:$H$1806)","v":10},{"$f":"LOOKUP($V378,Data!$A$6:$A$1806,Data!$I$6:$I$1806)","v":0},{"$f":"LOOKUP($V378,Data!$A$6:$A$1806,Data!$J$6:$J$1806)","v":-103},{"$f":"LOOKUP($V378,Data!$A$6:$A$1806,Data!$K$6:$K$1806)","v":7631},25.6011962890625]
[null,40098.109270832771,{"$f":"LOOKUP(B379,Data!$A$6:$A$1806,Data!B$6:B$1806)","v":59.967998504638672},{"$f":"LOOKUP(B379,Data!$A$6:$A$1806,Data!C$6:C$1806)","v":3764.7861328125},null,null,null,25.6011962890625,25.743473090898263,null,null,0,3790.6700450854319,{"$f":"AVERAGE(D$79:D379)","v":3773.6177731130606},{"$f":"AVERAGE(M$79:M379)","v":3771.8845708367044},3769.569968970125,{"$f":"AVERAGE(P$79:P379)","v":3744.3618387731985},null,null,null,null,40098.109270832771,{"$f":"LOOKUP($V379,Data!$A$6:$A$1806,Data!$B$6:$B$1806)","v":59.967998504638672},{"$f":"LOOKUP($V379,Data!$A$6:$A$1806,Data!$C$6:$C$1806)","v":3764.7861328125},{"$f":"LOOKUP($V379,Data!$A$6:$A$1806,Data!$D$6:$D$1806)","v":335},{"$f":"IF($Z$1=\"+\",LOOKUP($V379,Data!$A$6:$A$1806,Data!$E$6:$E$1806)*-1,LOOKUP($V379,Data!$A$6:$A$1806,Data!$E$6:$E$1806))","v":-227.65591430664062},{"$f":"LOOKUP($V379,Data!$A$6:$A$1806,Data!$F$6:$F$1806)","v":16},{"$f":"LOOKUP($V379,Data!$A$6:$A$1806,Data!$G$6:$G$1806)","v":253},{"$f":"LOOKUP($V379,Data!$A$6:$A$1806,Data!$H$6:$H$1806)","v":10},{"$f":"LOOKUP($V379,Data!$A$6:$A$1806,Data!$I$6:$I$1806)","v":0},{"$f":"LOOKUP($V379,Data!$A$6:$A$1806,Data!$J$6:$J$1806)","v":-103},{"$f":"LOOKUP($V379,Data!$A$6:$A$1806,Data!$K$6:$K$1806)","v":7631},25.6011962890625]
[null,40098.109293980917,{"$f":"LOOKUP(B380,Data!$A$6:$A$1806,Data!B$6:B$1806)","v":59.965000152587891},{"$f":"LOOKUP(B380,Data!$A$6:$A$1806,Data!C$6:C$1806)","v":3759.591796875},null,null,null,27.9998779296875,26.533214784474495,null,null,0,3791.459786779008,{"$f":"AVERAGE(D$79:D380)","v":3773.5713294831335},{"$f":"AVERAGE(M$79:M380)","v":3771.9493894325401},3769.569968970125,{"$f":"AVERAGE(P$79:P380)","v":3744.4455867140518},null,null,null,null,40098.109293980917,{"$f":"LOOKUP($V380,Data!$A$6:$A$1806,Data!$B$6:$B$1806)","v":59.965000152587891},{"$f":"LOOKUP($V380,Data!$A$6:$A$1806,Data!$C$6:$C$1806)","v":3759.591796875},{"$f":"LOOKUP($V380,Data!$A$6:$A$1806,Data!$D$6:$D$1806)","v":335},{"$f":"IF($Z$1=\"+\",LOOKUP($V380,Data!$A$6:$A$1806,Data!$E$6:$E$1806)*-1,LOOKUP($V380,Data!$A$6:$A$1806,Data!$E$6:$E$1806))","v":-227.65591430664062},{"$f":"LOOKUP($V380,Data!$A$6:$A$1806,Data!$F$6:$F$1806)","v":16},{"$f":"LOOKUP($V380,Data!$A$6:$A$1806,Data!$G$6:$G$1806)","v":253.5},{"$f":"LOOKUP($V380,Data!$A$6:$A$1806,Data!$H$6:$H$1806)","v":10},{"$f":"LOOKUP($V380,Data!$A$6:$A$1806,Data!$I$6:$I$1806)","v":0},{"$f":"LOOKUP($V380,Data!$A$6:$A$1806,Data!$J$6:$J$1806)","v":-103},{"$f":"LOOKUP($V380,Data!$A$6:$A$1806,Data!$K$6:$K$1806)","v":7635},27.9998779296875]
[null,40098.109317129063,{"$f":"LOOKUP(B381,Data!$A$6:$A$1806,Data!B$6:B$1806)","v":59.969001770019531},{"$f":"LOOKUP(B381,Data!$A$6:$A$1806,Data!C$6:C$1806)","v":3761.893798828125},null,null,null,24.798583984375,25.926094004439673,null,null,0,3790.8526659989734,{"$f":"AVERAGE(D$79:D381)","v":3773.5327897780012},{"$f":"AVERAGE(M$79:M381)","v":3772.0117764839142},3769.569968970125,{"$f":"AVERAGE(P$79:P381)","v":3744.5287800327806},null,null,null,null,40098.109317129063,{"$f":"LOOKUP($V381,Data!$A$6:$A$1806,Data!$B$6:$B$1806)","v":59.969001770019531},{"$f":"LOOKUP($V381,Data!$A$6:$A$1806,Data!$C$6:$C$1806)","v":3761.893798828125},{"$f":"LOOKUP($V381,Data!$A$6:$A$1806,Data!$D$6:$D$1806)","v":335},{"$f":"IF($Z$1=\"+\",LOOKUP($V381,Data!$A$6:$A$1806,Data!$E$6:$E$1806)*-1,LOOKUP($V381,Data!$A$6:$A$1806,Data!$E$6:$E$1806))","v":-225.01808166503906},{"$f":"LOOKUP($V381,Data!$A$6:$A$1806,Data!$F$6:$F$1806)","v":16},{"$f":"LOOKUP($V381,Data!$A$6:$A$1806,Data!$G$6:$G$1806)","v":254},{"$f":"LOOKUP($V381,Data!$A$6:$A$1806,Data!$H$6:$H$1806)","v":10},{"$f":"LOOKUP($V381,Data!$A$6:$A$1806,Data!$I$6:$I$1806)","v":0},{"$f":"LOOKUP($V381,Data!$A$6:$A$1806,Data!$J$6:$J$1806)","v":-103},{"$f":"LOOKUP($V381,Data!$A$6:$A$1806,Data!$K$6:$K$1806)","v":7638},24.798583984375]
[null,40098.109340277209,{"$f":"LOOKUP(B382,Data!$A$6:$A$1806,Data!B$6:B$1806)","v":59.969001770019531},{"$f":"LOOKUP(B382,Data!$A$6:$A$1806,Data!C$6:C$1806)","v":3761.893798828125},null,null,null,24.798583984375,25.531465497417038,null,null,0,3790.4580374919506,{"$f":"AVERAGE(D$79:D382)","v":3773.4945036235608},{"$f":"AVERAGE(M$79:M382)","v":3772.0724549740721},3769.569968970125,{"$f":"AVERAGE(P$79:P382)","v":3744.6114242206922},null,null,null,null,40098.109340277209,{"$f":"LOOKUP($V382,Data!$A$6:$A$1806,Data!$B$6:$B$1806)","v":59.969001770019531},{"$f":"LOOKUP($V382,Data!$A$6:$A$1806,Data!$C$6:$C$1806)","v":3761.893798828125},{"$f":"LOOKUP($V382,Data!$A$6:$A$1806,Data!$D$6:$D$1806)","v":335},{"$f":"IF($Z$1=\"+\",LOOKUP($V382,Data!$A$6:$A$1806,Data!$E$6:$E$1806)*-1,LOOKUP($V382,Data!$A$6:$A$1806,Data!$E$6:$E$1806))","v":-225.01808166503906},{"$f":"LOOKUP($V382,Data!$A$6:$A$1806,Data!$F$6:$F$1806)","v":16},{"$f":"LOOKUP($V382,Data!$A$6:$A$1806,Data!$G$6:$G$1806)","v":254},{"$f":"LOOKUP($V382,Data!$A$6:$A$1806,Data!$H$6:$H$1806)","v":10},{"$f":"LOOKUP($V382,Data!$A$6:$A$1806,Data!$I$6:$I$1806)","v":0},{"$f":"LOOKUP($V382,Data!$A$6:$A$1806,Data!$J$6:$J$1806)","v":-103},{"$f":"LOOKUP($V382,Data!$A$6:$A$1806,Data!$K$6:$K$1806)","v":7638},24.798583984375]
[null,40098.109363425356,{"$f":"LOOKUP(B383,Data!$A$6:$A$1806,Data!B$6:B$1806)","v":59.966999053955078},{"$f":"LOOKUP(B383,Data!$A$6:$A$1806,Data!C$6:C$1806)","v":3760.58251953125},null,null,null,26.4007568359375,25.835717465899201,null,null,0,3790.7622894604328,{"$f":"AVERAGE(D$79:D383)","v":3773.4521692494877},{"$f":"AVERAGE(M$79:M383)","v":3772.1337331199293},3769.569968970125,{"$f":"AVERAGE(P$79:P383)","v":3744.693524696841},null,null,null,null,40098.109363425356,{"$f":"LOOKUP($V383,Data!$A$6:$A$1806,Data!$B$6:$B$1806)","v":59.966999053955078},{"$f":"LOOKUP($V383,Data!$A$6:$A$1806,Data!$C$6:$C$1806)","v":3760.58251953125},{"$f":"LOOKUP($V383,Data!$A$6:$A$1806,Data!$D$6:$D$1806)","v":335},{"$f":"IF($Z$1=\"+\",LOOKUP($V383,Data!$A$6:$A$1806,Data!$E$6:$E$1806)*-1,LOOKUP($V383,Data!$A$6:$A$1806,Data!$E$6:$E$1806))","v":-225.01808166503906},{"$f":"LOOKUP($V383,Data!$A$6:$A$1806,Data!$F$6:$F$1806)","v":16},{"$f":"LOOKUP($V383,Data!$A$6:$A$1806,Data!$G$6:$G$1806)","v":254.5},{"$f":"LOOKUP($V383,Data!$A$6:$A$1806,Data!$H$6:$H$1806)","v":10},{"$f":"LOOKUP($V383,Data!$A$6:$A$1806,Data!$I$6:$I$1806)","v":0},{"$f":"LOOKUP($V383,Data!$A$6:$A$1806,Data!$J$6:$J$1806)","v":-103},{"$f":"LOOKUP($V383,Data!$A$6:$A$1806,Data!$K$6:$K$1806)","v":7639},26.4007568359375]
[null,40098.109386573502,{"$f":"LOOKUP(B384,Data!$A$6:$A$1806,Data!B$6:B$1806)","v":59.965999603271484},{"$f":"LOOKUP(B384,Data!$A$6:$A$1806,Data!C$6:C$1806)","v":3760.157470703125},null,null,null,27.2003173828125,26.313327436818856,null,null,0,3791.2398994313526,{"$f":"AVERAGE(D$79:D384)","v":3773.408722522212},{"$f":"AVERAGE(M$79:M384)","v":3772.1961715719276},3769.569968970125,{"$f":"AVERAGE(P$79:P384)","v":3744.7750868092121},null,null,null,null,40098.109386573502,{"$f":"LOOKUP($V384,Data!$A$6:$A$1806,Data!$B$6:$B$1806)","v":59.965999603271484},{"$f":"LOOKUP($V384,Data!$A$6:$A$1806,Data!$C$6:$C$1806)","v":3760.157470703125},{"$f":"LOOKUP($V384,Data!$A$6:$A$1806,Data!$D$6:$D$1806)","v":335},{"$f":"IF($Z$1=\"+\",LOOKUP($V384,Data!$A$6:$A$1806,Data!$E$6:$E$1806)*-1,LOOKUP($V384,Data!$A$6:$A$1806,Data!$E$6:$E$1806))","v":-225.01808166503906},{"$f":"LOOKUP($V384,Data!$A$6:$A$1806,Data!$F$6:$F$1806)","v":16},{"$f":"LOOKUP($V384,Data!$A$6:$A$1806,Data!$G$6:$G$1806)","v":255},{"$f":"LOOKUP($V384,Data!$A$6:$A$1806,Data!$H$6:$H$1806)","v":10},{"$f":"LOOKUP($V384,Data!$A$6:$A$1806,Data!$I$6:$I$1806)","v":0},{"$f":"LOOKUP($V384,Data!$A$6:$A$1806,Data!$J$6:$J$1806)","v":-103},{"$f":"LOOKUP($V384,Data!$A$6:$A$1806,Data!$K$6:$K$1806)","v":7642},27.2003173828125]
[null,40098.109409721648,{"$f":"LOOKUP(B385,Data!$A$6:$A$1806,Data!B$6:B$1806)","v":59.965999603271484},{"$f":"LOOKUP(B385,Data!$A$6:$A$1806,Data!C$6:C$1806)","v":3760.157470703125},null,null,null,27.2003173828125,26.623773917916633,null,null,0,3791.5503459124502,{"$f":"AVERAGE(D$79:D385)","v":3773.365558835505},{"$f":"AVERAGE(M$79:M385)","v":3772.2592144850883},3769.569968970125,{"$f":"AVERAGE(P$79:P385)","v":3744.8561158358816},null,null,null,null,40098.109409721648,{"$f":"LOOKUP($V385,Data!$A$6:$A$1806,Data!$B$6:$B$1806)","v":59.965999603271484},{"$f":"LOOKUP($V385,Data!$A$6:$A$1806,Data!$C$6:$C$1806)","v":3760.157470703125},{"$f":"LOOKUP($V385,Data!$A$6:$A$1806,Data!$D$6:$D$1806)","v":335},{"$f":"IF($Z$1=\"+\",LOOKUP($V385,Data!$A$6:$A$1806,Data!$E$6:$E$1806)*-1,LOOKUP($V385,Data!$A$6:$A$1806,Data!$E$6:$E$1806))","v":-225.01808166503906},{"$f":"LOOKUP($V385,Data!$A$6:$A$1806,Data!$F$6:$F$1806)","v":16},{"$f":"LOOKUP($V385,Data!$A$6:$A$1806,Data!$G$6:$G$1806)","v":255},{"$f":"LOOKUP($V385,Data!$A$6:$A$1806,Data!$H$6:$H$1806)","v":10},{"$f":"LOOKUP($V385,Data!$A$6:$A$1806,Data!$I$6:$I$1806)","v":0},{"$f":"LOOKUP($V385,Data!$A$6:$A$1806,Data!$J$6:$J$1806)","v":-103},{"$f":"LOOKUP($V385,Data!$A$6:$A$1806,Data!$K$6:$K$1806)","v":7642},27.2003173828125]
[null,40098.109432869795,{"$f":"LOOKUP(B386,Data!$A$6:$A$1806,Data!B$6:B$1806)","v":59.979000091552734},{"$f":"LOOKUP(B386,Data!$A$6:$A$1806,Data!C$6:C$1806)","v":3759.494873046875},null,null,null,16.7999267578125,23.185427411880188,null,null,0,3788.1119994064138,{"$f":"AVERAGE(D$79:D386)","v":3773.3205241413862},{"$f":"AVERAGE(M$79:M386)","v":3772.3106845660022},3769.569968970125,{"$f":"AVERAGE(P$79:P386)","v":3744.9366169861555},null,null,null,null,40098.109432869795,{"$f":"LOOKUP($V386,Data!$A$6:$A$1806,Data!$B$6:$B$1806)","v":59.979000091552734},{"$f":"LOOKUP($V386,Data!$A$6:$A$1806,Data!$C$6:$C$1806)","v":3759.494873046875},{"$f":"LOOKUP($V386,Data!$A$6:$A$1806,Data!$D$6:$D$1806)","v":335},{"$f":"IF($Z$1=\"+\",LOOKUP($V386,Data!$A$6:$A$1806,Data!$E$6:$E$1806)*-1,LOOKUP($V386,Data!$A$6:$A$1806,Data!$E$6:$E$1806))","v":-225.01808166503906},{"$f":"LOOKUP($V386,Data!$A$6:$A$1806,Data!$F$6:$F$1806)","v":16},{"$f":"LOOKUP($V386,Data!$A$6:$A$1806,Data!$G$6:$G$1806)","v":255.5},{"$f":"LOOKUP($V386,Data!$A$6:$A$1806,Data!$H$6:$H$1806)","v":10},{"$f":"LOOKUP($V386,Data!$A$6:$A$1806,Data!$I$6:$I$1806)","v":0},{"$f":"LOOKUP($V386,Data!$A$6:$A$1806,Data!$J$6:$J$1806)","v":-103},{"$f":"LOOKUP($V386,Data!$A$6:$A$1806,Data!$K$6:$K$1806)","v":7644},16.7999267578125]
[null,40098.109456017941,{"$f":"LOOKUP(B387,Data!$A$6:$A$1806,Data!B$6:B$1806)","v":59.983001708984375},{"$f":"LOOKUP(B387,Data!$A$6:$A$1806,Data!C$6:C$1806)","v":3757.77294921875},null,null,null,13.5986328125,19.830049302097123,null,null,0,3784.7566212966308,{"$f":"AVERAGE(D$79:D387)","v":3773.2702083649374},{"$f":"AVERAGE(M$79:M387)","v":3772.3509626783984},3769.569968970125,{"$f":"AVERAGE(P$79:P387)","v":3745.0165954016879},null,null,null,null,40098.109456017941,{"$f":"LOOKUP($V387,Data!$A$6:$A$1806,Data!$B$6:$B$1806)","v":59.983001708984375},{"$f":"LOOKUP($V387,Data!$A$6:$A$1806,Data!$C$6:$C$1806)","v":3757.77294921875},{"$f":"LOOKUP($V387,Data!$A$6:$A$1806,Data!$D$6:$D$1806)","v":335},{"$f":"IF($Z$1=\"+\",LOOKUP($V387,Data!$A$6:$A$1806,Data!$E$6:$E$1806)*-1,LOOKUP($V387,Data!$A$6:$A$1806,Data!$E$6:$E$1806))","v":-225.01808166503906},{"$f":"LOOKUP($V387,Data!$A$6:$A$1806,Data!$F$6:$F$1806)","v":16},{"$f":"LOOKUP($V387,Data!$A$6:$A$1806,Data!$G$6:$G$1806)","v":256},{"$f":"LOOKUP($V387,Data!$A$6:$A$1806,Data!$H$6:$H$1806)","v":10},{"$f":"LOOKUP($V387,Data!$A$6:$A$1806,Data!$I$6:$I$1806)","v":0},{"$f":"LOOKUP($V387,Data!$A$6:$A$1806,Data!$J$6:$J$1806)","v":-103},{"$f":"LOOKUP($V387,Data!$A$6:$A$1806,Data!$K$6:$K$1806)","v":7645},13.5986328125]
[null,40098.109479166087,{"$f":"LOOKUP(B388,Data!$A$6:$A$1806,Data!B$6:B$1806)","v":59.983001708984375},{"$f":"LOOKUP(B388,Data!$A$6:$A$1806,Data!C$6:C$1806)","v":3757.77294921875},null,null,null,13.5986328125,17.649053530738129,null,null,0,3782.5756255252718,{"$f":"AVERAGE(D$79:D388)","v":3773.2202172064012},{"$f":"AVERAGE(M$79:M388)","v":3772.3839454617755},3769.569968970125,{"$f":"AVERAGE(P$79:P388)","v":3745.0960561575725},null,null,null,null,40098.109479166087,{"$f":"LOOKUP($V388,Data!$A$6:$A$1806,Data!$B$6:$B$1806)","v":59.983001708984375},{"$f":"LOOKUP($V388,Data!$A$6:$A$1806,Data!$C$6:$C$1806)","v":3757.77294921875},{"$f":"LOOKUP($V388,Data!$A$6:$A$1806,Data!$D$6:$D$1806)","v":335},{"$f":"IF($Z$1=\"+\",LOOKUP($V388,Data!$A$6:$A$1806,Data!$E$6:$E$1806)*-1,LOOKUP($V388,Data!$A$6:$A$1806,Data!$E$6:$E$1806))","v":-225.01808166503906},{"$f":"LOOKUP($V388,Data!$A$6:$A$1806,Data!$F$6:$F$1806)","v":16},{"$f":"LOOKUP($V388,Data!$A$6:$A$1806,Data!$G$6:$G$1806)","v":256},{"$f":"LOOKUP($V388,Data!$A$6:$A$1806,Data!$H$6:$H$1806)","v":10},{"$f":"LOOKUP($V388,Data!$A$6:$A$1806,Data!$I$6:$I$1806)","v":0},{"$f":"LOOKUP($V388,Data!$A$6:$A$1806,Data!$J$6:$J$1806)","v":-103},{"$f":"LOOKUP($V388,Data!$A$6:$A$1806,Data!$K$6:$K$1806)","v":7645},13.5986328125]
[null,40098.109502314233,{"$f":"LOOKUP(B389,Data!$A$6:$A$1806,Data!B$6:B$1806)","v":59.9739990234375},{"$f":"LOOKUP(B389,Data!$A$6:$A$1806,Data!C$6:C$1806)","v":3753.08740234375},null,null,null,20.80078125,18.752158232479783,null,null,0,3783.6787302270136,{"$f":"AVERAGE(D$79:D389)","v":3773.1554814672932},{"$f":"AVERAGE(M$79:M389)","v":3772.420263097677},3769.569968970125,{"$f":"AVERAGE(P$79:P389)","v":3745.1750042634189},null,null,null,null,40098.109502314233,{"$f":"LOOKUP($V389,Data!$A$6:$A$1806,Data!$B$6:$B$1806)","v":59.9739990234375},{"$f":"LOOKUP($V389,Data!$A$6:$A$1806,Data!$C$6:$C$1806)","v":3753.08740234375},{"$f":"LOOKUP($V389,Data!$A$6:$A$1806,Data!$D$6:$D$1806)","v":335},{"$f":"IF($Z$1=\"+\",LOOKUP($V389,Data!$A$6:$A$1806,Data!$E$6:$E$1806)*-1,LOOKUP($V389,Data!$A$6:$A$1806,Data!$E$6:$E$1806))","v":-228.36515808105469},{"$f":"LOOKUP($V389,Data!$A$6:$A$1806,Data!$F$6:$F$1806)","v":16},{"$f":"LOOKUP($V389,Data!$A$6:$A$1806,Data!$G$6:$G$1806)","v":256.5},{"$f":"LOOKUP($V389,Data!$A$6:$A$1806,Data!$H$6:$H$1806)","v":10},{"$f":"LOOKUP($V389,Data!$A$6:$A$1806,Data!$I$6:$I$1806)","v":0},{"$f":"LOOKUP($V389,Data!$A$6:$A$1806,Data!$J$6:$J$1806)","v":-103},{"$f":"LOOKUP($V389,Data!$A$6:$A$1806,Data!$K$6:$K$1806)","v":7647},20.80078125]
[null,40098.10952546238,{"$f":"LOOKUP(B390,Data!$A$6:$A$1806,Data!B$6:B$1806)","v":59.965000152587891},{"$f":"LOOKUP(B390,Data!$A$6:$A$1806,Data!C$6:C$1806)","v":3751.63671875},null,null,null,27.9998779296875,21.988860126502484,null,null,0,3786.9154321210362,{"$f":"AVERAGE(D$79:D390)","v":3773.0865110739683},{"$f":"AVERAGE(M$79:M390)","v":3772.4667219727521},3769.569968970125,{"$f":"AVERAGE(P$79:P390)","v":3745.2534446644049},null,null,null,null,40098.10952546238,{"$f":"LOOKUP($V390,Data!$A$6:$A$1806,Data!$B$6:$B$1806)","v":59.965000152587891},{"$f":"LOOKUP($V390,Data!$A$6:$A$1806,Data!$C$6:$C$1806)","v":3751.63671875},{"$f":"LOOKUP($V390,Data!$A$6:$A$1806,Data!$D$6:$D$1806)","v":335},{"$f":"IF($Z$1=\"+\",LOOKUP($V390,Data!$A$6:$A$1806,Data!$E$6:$E$1806)*-1,LOOKUP($V390,Data!$A$6:$A$1806,Data!$E$6:$E$1806))","v":-228.36515808105469},{"$f":"LOOKUP($V390,Data!$A$6:$A$1806,Data!$F$6:$F$1806)","v":16},{"$f":"LOOKUP($V390,Data!$A$6:$A$1806,Data!$G$6:$G$1806)","v":257},{"$f":"LOOKUP($V390,Data!$A$6:$A$1806,Data!$H$6:$H$1806)","v":10},{"$f":"LOOKUP($V390,Data!$A$6:$A$1806,Data!$I$6:$I$1806)","v":0},{"$f":"LOOKUP($V390,Data!$A$6:$A$1806,Data!$J$6:$J$1806)","v":-103},{"$f":"LOOKUP($V390,Data!$A$6:$A$1806,Data!$K$6:$K$1806)","v":7648},27.9998779296875]
[null,40098.109548610526,{"$f":"LOOKUP(B391,Data!$A$6:$A$1806,Data!B$6:B$1806)","v":59.965000152587891},{"$f":"LOOKUP(B391,Data!$A$6:$A$1806,Data!C$6:C$1806)","v":3751.63671875},null,null,null,27.9998779296875,24.092716357617242,null,null,0,3789.0192883521509,{"$f":"AVERAGE(D$79:D391)","v":3773.0179813860323},{"$f":"AVERAGE(M$79:M391)","v":3772.5196055714086},3769.569968970125,{"$f":"AVERAGE(P$79:P391)","v":3745.3313822423074},null,null,null,null,40098.109548610526,{"$f":"LOOKUP($V391,Data!$A$6:$A$1806,Data!$B$6:$B$1806)","v":59.965000152587891},{"$f":"LOOKUP($V391,Data!$A$6:$A$1806,Data!$C$6:$C$1806)","v":3751.63671875},{"$f":"LOOKUP($V391,Data!$A$6:$A$1806,Data!$D$6:$D$1806)","v":335},{"$f":"IF($Z$1=\"+\",LOOKUP($V391,Data!$A$6:$A$1806,Data!$E$6:$E$1806)*-1,LOOKUP($V391,Data!$A$6:$A$1806,Data!$E$6:$E$1806))","v":-228.36515808105469},{"$f":"LOOKUP($V391,Data!$A$6:$A$1806,Data!$F$6:$F$1806)","v":16},{"$f":"LOOKUP($V391,Data!$A$6:$A$1806,Data!$G$6:$G$1806)","v":257},{"$f":"LOOKUP($V391,Data!$A$6:$A$1806,Data!$H$6:$H$1806)","v":10},{"$f":"LOOKUP($V391,Data!$A$6:$A$1806,Data!$I$6:$I$1806)","v":0},{"$f":"LOOKUP($V391,Data!$A$6:$A$1806,Data!$J$6:$J$1806)","v":-103},{"$f":"LOOKUP($V391,Data!$A$6:$A$1806,Data!$K$6:$K$1806)","v":7648},27.9998779296875]
[null,40098.109571758672,{"$f":"LOOKUP(B392,Data!$A$6:$A$1806,Data!B$6:B$1806)","v":59.962001800537109},{"$f":"LOOKUP(B392,Data!$A$6:$A$1806,Data!C$6:C$1806)","v":3758.224609375},null,null,null,30.3985595703125,26.299761482060582,null,null,0,3791.2263334765944,{"$f":"AVERAGE(D$79:D392)","v":3772.9708687363159},{"$f":"AVERAGE(M$79:M392)","v":3772.5791811379854},3769.569968970125,{"$f":"AVERAGE(P$79:P392)","v":3745.4088218165175},null,null,null,null,40098.109571758672,{"$f":"LOOKUP($V392,Data!$A$6:$A$1806,Data!$B$6:$B$1806)","v":59.962001800537109},{"$f":"LOOKUP($V392,Data!$A$6:$A$1806,Data!$C$6:$C$1806)","v":3758.224609375},{"$f":"LOOKUP($V392,Data!$A$6:$A$1806,Data!$D$6:$D$1806)","v":335},{"$f":"IF($Z$1=\"+\",LOOKUP($V392,Data!$A$6:$A$1806,Data!$E$6:$E$1806)*-1,LOOKUP($V392,Data!$A$6:$A$1806,Data!$E$6:$E$1806))","v":-228.36515808105469},{"$f":"LOOKUP($V392,Data!$A$6:$A$1806,Data!$F$6:$F$1806)","v":16},{"$f":"LOOKUP($V392,Data!$A$6:$A$1806,Data!$G$6:$G$1806)","v":257.5},{"$f":"LOOKUP($V392,Data!$A$6:$A$1806,Data!$H$6:$H$1806)","v":10},{"$f":"LOOKUP($V392,Data!$A$6:$A$1806,Data!$I$6:$I$1806)","v":0},{"$f":"LOOKUP($V392,Data!$A$6:$A$1806,Data!$J$6:$J$1806)","v":-103},{"$f":"LOOKUP($V392,Data!$A$6:$A$1806,Data!$K$6:$K$1806)","v":7649},30.3985595703125]
[null,40098.109594906819,{"$f":"LOOKUP(B393,Data!$A$6:$A$1806,Data!B$6:B$1806)","v":59.96099853515625},{"$f":"LOOKUP(B393,Data!$A$6:$A$1806,Data!C$6:C$1806)","v":3759.249755859375},null,null,null,31.201171875,28.01525511958938,null,null,0,3792.941827114123,{"$f":"AVERAGE(D$79:D393)","v":3772.9273096478173},{"$f":"AVERAGE(M$79:M393)","v":3772.6438244585452},3769.569968970125,{"$f":"AVERAGE(P$79:P393)","v":3745.4857681450317},null,null,null,null,40098.109594906819,{"$f":"LOOKUP($V393,Data!$A$6:$A$1806,Data!$B$6:$B$1806)","v":59.96099853515625},{"$f":"LOOKUP($V393,Data!$A$6:$A$1806,Data!$C$6:$C$1806)","v":3759.249755859375},{"$f":"LOOKUP($V393,Data!$A$6:$A$1806,Data!$D$6:$D$1806)","v":335},{"$f":"IF($Z$1=\"+\",LOOKUP($V393,Data!$A$6:$A$1806,Data!$E$6:$E$1806)*-1,LOOKUP($V393,Data!$A$6:$A$1806,Data!$E$6:$E$1806))","v":-228.36515808105469},{"$f":"LOOKUP($V393,Data!$A$6:$A$1806,Data!$F$6:$F$1806)","v":16},{"$f":"LOOKUP($V393,Data!$A$6:$A$1806,Data!$G$6:$G$1806)","v":258},{"$f":"LOOKUP($V393,Data!$A$6:$A$1806,Data!$H$6:$H$1806)","v":10},{"$f":"LOOKUP($V393,Data!$A$6:$A$1806,Data!$I$6:$I$1806)","v":0},{"$f":"LOOKUP($V393,Data!$A$6:$A$1806,Data!$J$6:$J$1806)","v":-103},{"$f":"LOOKUP($V393,Data!$A$6:$A$1806,Data!$K$6:$K$1806)","v":7650},31.201171875]
[null,40098.109618054965,{"$f":"LOOKUP(B394,Data!$A$6:$A$1806,Data!B$6:B$1806)","v":59.96099853515625},{"$f":"LOOKUP(B394,Data!$A$6:$A$1806,Data!C$6:C$1806)","v":3759.249755859375},null,null,null,31.201171875,29.130325983983099,null,null,0,3794.0568979785166,{"$f":"AVERAGE(D$79:D394)","v":3772.8840262497529},{"$f":"AVERAGE(M$79:M394)","v":3772.7115873494313},3769.569968970125,{"$f":"AVERAGE(P$79:P394)","v":3745.5622259254287},null,null,null,null,40098.109618054965,{"$f":"LOOKUP($V394,Data!$A$6:$A$1806,Data!$B$6:$B$1806)","v":59.96099853515625},{"$f":"LOOKUP($V394,Data!$A$6:$A$1806,Data!$C$6:$C$1806)","v":3759.249755859375},{"$f":"LOOKUP($V394,Data!$A$6:$A$1806,Data!$D$6:$D$1806)","v":335},{"$f":"IF($Z$1=\"+\",LOOKUP($V394,Data!$A$6:$A$1806,Data!$E$6:$E$1806)*-1,LOOKUP($V394,Data!$A$6:$A$1806,Data!$E$6:$E$1806))","v":-228.36515808105469},{"$f":"LOOKUP($V394,Data!$A$6:$A$1806,Data!$F$6:$F$1806)","v":16},{"$f":"LOOKUP($V394,Data!$A$6:$A$1806,Data!$G$6:$G$1806)","v":258},{"$f":"LOOKUP($V394,Data!$A$6:$A$1806,Data!$H$6:$H$1806)","v":10},{"$f":"LOOKUP($V394,Data!$A$6:$A$1806,Data!$I$6:$I$1806)","v":0},{"$f":"LOOKUP($V394,Data!$A$6:$A$1806,Data!$J$6:$J$1806)","v":-103},{"$f":"LOOKUP($V394,Data!$A$6:$A$1806,Data!$K$6:$K$1806)","v":7650},31.201171875]
[null,40098.109641203111,{"$f":"LOOKUP(B395,Data!$A$6:$A$1806,Data!B$6:B$1806)","v":59.96099853515625},{"$f":"LOOKUP(B395,Data!$A$6:$A$1806,Data!C$6:C$1806)","v":3760.96484375},null,null,null,31.201171875,29.855122045839014,null,null,0,3794.7816940403727,{"$f":"AVERAGE(D$79:D395)","v":3772.8464263049586},{"$f":"AVERAGE(M$79:M395)","v":3772.7812091370997},3769.569968970125,{"$f":"AVERAGE(P$79:P395)","v":3745.6381997958229},null,null,null,null,40098.109641203111,{"$f":"LOOKUP($V395,Data!$A$6:$A$1806,Data!$B$6:$B$1806)","v":59.96099853515625},{"$f":"LOOKUP($V395,Data!$A$6:$A$1806,Data!$C$6:$C$1806)","v":3760.96484375},{"$f":"LOOKUP($V395,Data!$A$6:$A$1806,Data!$D$6:$D$1806)","v":335},{"$f":"IF($Z$1=\"+\",LOOKUP($V395,Data!$A$6:$A$1806,Data!$E$6:$E$1806)*-1,LOOKUP($V395,Data!$A$6:$A$1806,Data!$E$6:$E$1806))","v":-228.36515808105469},{"$f":"LOOKUP($V395,Data!$A$6:$A$1806,Data!$F$6:$F$1806)","v":16},{"$f":"LOOKUP($V395,Data!$A$6:$A$1806,Data!$G$6:$G$1806)","v":258.5},{"$f":"LOOKUP($V395,Data!$A$6:$A$1806,Data!$H$6:$H$1806)","v":10},{"$f":"LOOKUP($V395,Data!$A$6:$A$1806,Data!$I$6:$I$1806)","v":0},{"$f":"LOOKUP($V395,Data!$A$6:$A$1806,Data!$J$6:$J$1806)","v":-103},{"$f":"LOOKUP($V395,Data!$A$6:$A$1806,Data!$K$6:$K$1806)","v":7651},31.201171875]
[null,40098.109664351257,{"$f":"LOOKUP(B396,Data!$A$6:$A$1806,Data!B$6:B$1806)","v":59.963001251220703},{"$f":"LOOKUP(B396,Data!$A$6:$A$1806,Data!C$6:C$1806)","v":3762.022216796875},null,null,null,29.5989990234375,29.765478987998485,null,null,0,3794.6920509825322,{"$f":"AVERAGE(D$79:D396)","v":3772.8123879102791},{"$f":"AVERAGE(M$79:M396)","v":3772.8501111554815},3769.569968970125,{"$f":"AVERAGE(P$79:P396)","v":3745.7136943358046},null,null,null,null,40098.109664351257,{"$f":"LOOKUP($V396,Data!$A$6:$A$1806,Data!$B$6:$B$1806)","v":59.963001251220703},{"$f":"LOOKUP($V396,Data!$A$6:$A$1806,Data!$C$6:$C$1806)","v":3762.022216796875},{"$f":"LOOKUP($V396,Data!$A$6:$A$1806,Data!$D$6:$D$1806)","v":335},{"$f":"IF($Z$1=\"+\",LOOKUP($V396,Data!$A$6:$A$1806,Data!$E$6:$E$1806)*-1,LOOKUP($V396,Data!$A$6:$A$1806,Data!$E$6:$E$1806))","v":-234.07533264160156},{"$f":"LOOKUP($V396,Data!$A$6:$A$1806,Data!$F$6:$F$1806)","v":16},{"$f":"LOOKUP($V396,Data!$A$6:$A$1806,Data!$G$6:$G$1806)","v":259},{"$f":"LOOKUP($V396,Data!$A$6:$A$1806,Data!$H$6:$H$1806)","v":10},{"$f":"LOOKUP($V396,Data!$A$6:$A$1806,Data!$I$6:$I$1806)","v":0},{"$f":"LOOKUP($V396,Data!$A$6:$A$1806,Data!$J$6:$J$1806)","v":-103},{"$f":"LOOKUP($V396,Data!$A$6:$A$1806,Data!$K$6:$K$1806)","v":7652},29.5989990234375]
[null,40098.109687499404,{"$f":"LOOKUP(B397,Data!$A$6:$A$1806,Data!B$6:B$1806)","v":59.963001251220703},{"$f":"LOOKUP(B397,Data!$A$6:$A$1806,Data!C$6:C$1806)","v":3762.022216796875},null,null,null,29.5989990234375,29.70721100040214,null,null,0,3794.6337829949357,{"$f":"AVERAGE(D$79:D397)","v":3772.7785629224627},{"$f":"AVERAGE(M$79:M397)","v":3772.9183985280188},3769.569968970125,{"$f":"AVERAGE(P$79:P397)","v":3745.7887140673588},null,null,null,null,40098.109687499404,{"$f":"LOOKUP($V397,Data!$A$6:$A$1806,Data!$B$6:$B$1806)","v":59.963001251220703},{"$f":"LOOKUP($V397,Data!$A$6:$A$1806,Data!$C$6:$C$1806)","v":3762.022216796875},{"$f":"LOOKUP($V397,Data!$A$6:$A$1806,Data!$D$6:$D$1806)","v":335},{"$f":"IF($Z$1=\"+\",LOOKUP($V397,Data!$A$6:$A$1806,Data!$E$6:$E$1806)*-1,LOOKUP($V397,Data!$A$6:$A$1806,Data!$E$6:$E$1806))","v":-234.07533264160156},{"$f":"LOOKUP($V397,Data!$A$6:$A$1806,Data!$F$6:$F$1806)","v":16},{"$f":"LOOKUP($V397,Data!$A$6:$A$1806,Data!$G$6:$G$1806)","v":259},{"$f":"LOOKUP($V397,Data!$A$6:$A$1806,Data!$H$6:$H$1806)","v":10},{"$f":"LOOKUP($V397,Data!$A$6:$A$1806,Data!$I$6:$I$1806)","v":0},{"$f":"LOOKUP($V397,Data!$A$6:$A$1806,Data!$J$6:$J$1806)","v":-103},{"$f":"LOOKUP($V397,Data!$A$6:$A$1806,Data!$K$6:$K$1806)","v":7652},29.5989990234375]
[null,40098.10971064755,{"$f":"LOOKUP(B398,Data!$A$6:$A$1806,Data!B$6:B$1806)","v":59.958999633789063},{"$f":"LOOKUP(B398,Data!$A$6:$A$1806,Data!C$6:C$1806)","v":3763.10009765625},null,null,null,32.80029296875,30.789789689323893,null,null,0,3795.7163616838575,{"$f":"AVERAGE(D$79:D398)","v":3772.7483177185059},{"$f":"AVERAGE(M$79:M398)","v":3772.989642162881},3769.569968970125,{"$f":"AVERAGE(P$79:P398)","v":3745.8632634557684},null,null,null,null,40098.10971064755,{"$f":"LOOKUP($V398,Data!$A$6:$A$1806,Data!$B$6:$B$1806)","v":59.958999633789063},{"$f":"LOOKUP($V398,Data!$A$6:$A$1806,Data!$C$6:$C$1806)","v":3763.10009765625},{"$f":"LOOKUP($V398,Data!$A$6:$A$1806,Data!$D$6:$D$1806)","v":335},{"$f":"IF($Z$1=\"+\",LOOKUP($V398,Data!$A$6:$A$1806,Data!$E$6:$E$1806)*-1,LOOKUP($V398,Data!$A$6:$A$1806,Data!$E$6:$E$1806))","v":-234.07533264160156},{"$f":"LOOKUP($V398,Data!$A$6:$A$1806,Data!$F$6:$F$1806)","v":16},{"$f":"LOOKUP($V398,Data!$A$6:$A$1806,Data!$G$6:$G$1806)","v":259.5},{"$f":"LOOKUP($V398,Data!$A$6:$A$1806,Data!$H$6:$H$1806)","v":10},{"$f":"LOOKUP($V398,Data!$A$6:$A$1806,Data!$I$6:$I$1806)","v":0},{"$f":"LOOKUP($V398,Data!$A$6:$A$1806,Data!$J$6:$J$1806)","v":-103},{"$f":"LOOKUP($V398,Data!$A$6:$A$1806,Data!$K$6:$K$1806)","v":7653},32.80029296875]
[null,40098.109733795696,{"$f":"LOOKUP(B399,Data!$A$6:$A$1806,Data!B$6:B$1806)","v":59.951000213623047},{"$f":"LOOKUP(B399,Data!$A$6:$A$1806,Data!C$6:C$1806)","v":3763.858154296875},null,null,null,39.1998291015625,33.733303483607408,null,null,0,3798.6598754781412,{"$f":"AVERAGE(D$79:D399)","v":3772.7206225053542},{"$f":"AVERAGE(M$79:M399)","v":3773.0696117370717},3769.569968970125,{"$f":"AVERAGE(P$79:P399)","v":3745.9373469105003},null,null,null,null,40098.109733795696,{"$f":"LOOKUP($V399,Data!$A$6:$A$1806,Data!$B$6:$B$1806)","v":59.951000213623047},{"$f":"LOOKUP($V399,Data!$A$6:$A$1806,Data!$C$6:$C$1806)","v":3763.858154296875},{"$f":"LOOKUP($V399,Data!$A$6:$A$1806,Data!$D$6:$D$1806)","v":335},{"$f":"IF($Z$1=\"+\",LOOKUP($V399,Data!$A$6:$A$1806,Data!$E$6:$E$1806)*-1,LOOKUP($V399,Data!$A$6:$A$1806,Data!$E$6:$E$1806))","v":-234.07533264160156},{"$f":"LOOKUP($V399,Data!$A$6:$A$1806,Data!$F$6:$F$1806)","v":16},{"$f":"LOOKUP($V399,Data!$A$6:$A$1806,Data!$G$6:$G$1806)","v":260},{"$f":"LOOKUP($V399,Data!$A$6:$A$1806,Data!$H$6:$H$1806)","v":10},{"$f":"LOOKUP($V399,Data!$A$6:$A$1806,Data!$I$6:$I$1806)","v":0},{"$f":"LOOKUP($V399,Data!$A$6:$A$1806,Data!$J$6:$J$1806)","v":-103},{"$f":"LOOKUP($V399,Data!$A$6:$A$1806,Data!$K$6:$K$1806)","v":7654},39.1998291015625]
[null,40098.109756943843,{"$f":"LOOKUP(B400,Data!$A$6:$A$1806,Data!B$6:B$1806)","v":59.951000213623047},{"$f":"LOOKUP(B400,Data!$A$6:$A$1806,Data!C$6:C$1806)","v":3763.858154296875},null,null,null,39.1998291015625,35.64658744989169,null,null,{"$f":"IF(B400>G$3,0,(K$21*0.000023148/K$22))","v":0},{"$f":"M399+L400+(I400-I399)","v":3800.5731594444255},{"$f":"AVERAGE(D$79:D400)","v":3772.6930993121605},{"$f":"AVERAGE(M$79:M400)","v":3773.1550264815041},3769.569968970125,{"$f":"AVERAGE(P$79:P400)","v":3746.0109687860754},null,null,null,null,40098.109756943843,{"$f":"LOOKUP($V400,Data!$A$6:$A$1806,Data!$B$6:$B$1806)","v":59.951000213623047},{"$f":"LOOKUP($V400,Data!$A$6:$A$1806,Data!$C$6:$C$1806)","v":3763.858154296875},{"$f":"LOOKUP($V400,Data!$A$6:$A$1806,Data!$D$6:$D$1806)","v":335},{"$f":"IF($Z$1=\"+\",LOOKUP($V400,Data!$A$6:$A$1806,Data!$E$6:$E$1806)*-1,LOOKUP($V400,Data!$A$6:$A$1806,Data!$E$6:$E$1806))","v":-234.07533264160156},{"$f":"LOOKUP($V400,Data!$A$6:$A$1806,Data!$F$6:$F$1806)","v":16},{"$f":"LOOKUP($V400,Data!$A$6:$A$1806,Data!$G$6:$G$1806)","v":260},{"$f":"LOOKUP($V400,Data!$A$6:$A$1806,Data!$H$6:$H$1806)","v":10},{"$f":"LOOKUP($V400,Data!$A$6:$A$1806,Data!$I$6:$I$1806)","v":0},{"$f":"LOOKUP($V400,Data!$A$6:$A$1806,Data!$J$6:$J$1806)","v":-103},{"$f":"LOOKUP($V400,Data!$A$6:$A$1806,Data!$K$6:$K$1806)","v":7654},39.1998291015625]
[null,40098.109780091989,{"$f":"LOOKUP(B401,Data!$A$6:$A$1806,Data!B$6:B$1806)","v":59.952999114990234},{"$f":"LOOKUP(B401,Data!$A$6:$A$1806,Data!C$6:C$1806)","v":3766.126708984375},null,null,null,37.6007080078125,36.330529645163978,null,null,0,3801.2571016396978,{"$f":"AVERAGE(D$79:D401)","v":3772.6727699303406},{"$f":"AVERAGE(M$79:M401)","v":3773.242029810167},3769.569968970125,{"$f":"AVERAGE(P$79:P401)","v":3746.0841333829198},null,null,null,null,{"$f":"V400+TIME(0,0,$B$1)","v":40098.109780091989},{"$f":"LOOKUP($V401,Data!$A$6:$A$1806,Data!$B$6:$B$1806)","v":59.952999114990234},{"$f":"LOOKUP($V401,Data!$A$6:$A$1806,Data!$C$6:$C$1806)","v":3766.126708984375},{"$f":"LOOKUP($V401,Data!$A$6:$A$1806,Data!$D$6:$D$1806)","v":335},{"$f":"IF($Z$1=\"+\",LOOKUP($V401,Data!$A$6:$A$1806,Data!$E$6:$E$1806)*-1,LOOKUP($V401,Data!$A$6:$A$1806,Data!$E$6:$E$1806))","v":-234.07533264160156},{"$f":"LOOKUP($V401,Data!$A$6:$A$1806,Data!$F$6:$F$1806)","v":16},{"$f":"LOOKUP($V401,Data!$A$6:$A$1806,Data!$G$6:$G$1806)","v":260.5},{"$f":"LOOKUP($V401,Data!$A$6:$A$1806,Data!$H$6:$H$1806)","v":10},{"$f":"LOOKUP($V401,Data!$A$6:$A$1806,Data!$I$6:$I$1806)","v":0},{"$f":"LOOKUP($V401,Data!$A$6:$A$1806,Data!$J$6:$J$1806)","v":-103},{"$f":"LOOKUP($V401,Data!$A$6:$A$1806,Data!$K$6:$K$1806)","v":7655},37.6007080078125]
[null,40098.109803240135,{"$f":"LOOKUP(B402,Data!$A$6:$A$1806,Data!B$6:B$1806)","v":59.957000732421875},{"$f":"LOOKUP(B402,Data!$A$6:$A$1806,Data!C$6:C$1806)","v":3768.3388671875},null,null,null,34.3994140625,35.654639191231581,null,null,0,3800.5812111857654,{"$f":"AVERAGE(D$79:D402)","v":3772.6593936873069},{"$f":"AVERAGE(M$79:M402)","v":3773.3264099995981},{"$f":"P401+L402","v":3769.569968970125},{"$f":"AVERAGE(P$79:P402)","v":3746.1568449482052},null,null,null,null,40098.109803240135,{"$f":"LOOKUP($V402,Data!$A$6:$A$1806,Data!$B$6:$B$1806)","v":59.957000732421875},{"$f":"LOOKUP($V402,Data!$A$6:$A$1806,Data!$C$6:$C$1806)","v":3768.3388671875},{"$f":"LOOKUP($V402,Data!$A$6:$A$1806,Data!$D$6:$D$1806)","v":335},{"$f":"IF($Z$1=\"+\",LOOKUP($V402,Data!$A$6:$A$1806,Data!$E$6:$E$1806)*-1,LOOKUP($V402,Data!$A$6:$A$1806,Data!$E$6:$E$1806))","v":-234.07533264160156},{"$f":"LOOKUP($V402,Data!$A$6:$A$1806,Data!$F$6:$F$1806)","v":16},{"$f":"LOOKUP($V402,Data!$A$6:$A$1806,Data!$G$6:$G$1806)","v":261},{"$f":"LOOKUP($V402,Data!$A$6:$A$1806,Data!$H$6:$H$1806)","v":10},{"$f":"LOOKUP($V402,Data!$A$6:$A$1806,Data!$I$6:$I$1806)","v":0},{"$f":"LOOKUP($V402,Data!$A$6:$A$1806,Data!$J$6:$J$1806)","v":-103},{"$f":"LOOKUP($V402,Data!$A$6:$A$1806,Data!$K$6:$K$1806)","v":7655},34.3994140625]
[null,40098.109826388281,{"$f":"LOOKUP(B403,Data!$A$6:$A$1806,Data!B$6:B$1806)","v":59.957000732421875},{"$f":"LOOKUP(B403,Data!$A$6:$A$1806,Data!C$6:C$1806)","v":3768.3388671875},null,null,null,34.3994140625,35.215310396175525,null,null,0,3800.1418823907093,{"$f":"AVERAGE(D$79:D403)","v":3772.6460997596155},{"$f":"AVERAGE(M$79:M403)","v":3773.4089191454168},3769.569968970125,{"$f":"AVERAGE(P$79:P403)","v":3746.2291076766674},null,null,null,null,40098.109826388281,{"$f":"LOOKUP($V403,Data!$A$6:$A$1806,Data!$B$6:$B$1806)","v":59.957000732421875},{"$f":"LOOKUP($V403,Data!$A$6:$A$1806,Data!$C$6:$C$1806)","v":3768.3388671875},{"$f":"LOOKUP($V403,Data!$A$6:$A$1806,Data!$D$6:$D$1806)","v":335},{"$f":"IF($Z$1=\"+\",LOOKUP($V403,Data!$A$6:$A$1806,Data!$E$6:$E$1806)*-1,LOOKUP($V403,Data!$A$6:$A$1806,Data!$E$6:$E$1806))","v":-234.07533264160156},{"$f":"LOOKUP($V403,Data!$A$6:$A$1806,Data!$F$6:$F$1806)","v":16},{"$f":"LOOKUP($V403,Data!$A$6:$A$1806,Data!$G$6:$G$1806)","v":261},{"$f":"LOOKUP($V403,Data!$A$6:$A$1806,Data!$H$6:$H$1806)","v":10},{"$f":"LOOKUP($V403,Data!$A$6:$A$1806,Data!$I$6:$I$1806)","v":0},{"$f":"LOOKUP($V403,Data!$A$6:$A$1806,Data!$J$6:$J$1806)","v":-103},{"$f":"LOOKUP($V403,Data!$A$6:$A$1806,Data!$K$6:$K$1806)","v":7655},34.3994140625]
[null,40098.109849536428,{"$f":"LOOKUP(B404,Data!$A$6:$A$1806,Data!B$6:B$1806)","v":59.956001281738281},{"$f":"LOOKUP(B404,Data!$A$6:$A$1806,Data!C$6:C$1806)","v":3767.4375},null,null,null,35.198974609375,35.209592870795341,null,null,0,3800.1361648653292,{"$f":"AVERAGE(D$79:D404)","v":3772.6301224597391},{"$f":"AVERAGE(M$79:M404)","v":3773.4909045617355},3769.569968970125,{"$f":"AVERAGE(P$79:P404)","v":3746.3009257114163},null,null,null,null,40098.109849536428,{"$f":"LOOKUP($V404,Data!$A$6:$A$1806,Data!$B$6:$B$1806)","v":59.956001281738281},{"$f":"LOOKUP($V404,Data!$A$6:$A$1806,Data!$C$6:$C$1806)","v":3767.4375},{"$f":"LOOKUP($V404,Data!$A$6:$A$1806,Data!$D$6:$D$1806)","v":335},{"$f":"IF($Z$1=\"+\",LOOKUP($V404,Data!$A$6:$A$1806,Data!$E$6:$E$1806)*-1,LOOKUP($V404,Data!$A$6:$A$1806,Data!$E$6:$E$1806))","v":-228.79815673828125},{"$f":"LOOKUP($V404,Data!$A$6:$A$1806,Data!$F$6:$F$1806)","v":16},{"$f":"LOOKUP($V404,Data!$A$6:$A$1806,Data!$G$6:$G$1806)","v":261.5},{"$f":"LOOKUP($V404,Data!$A$6:$A$1806,Data!$H$6:$H$1806)","v":10},{"$f":"LOOKUP($V404,Data!$A$6:$A$1806,Data!$I$6:$I$1806)","v":0},{"$f":"LOOKUP($V404,Data!$A$6:$A$1806,Data!$J$6:$J$1806)","v":-103},{"$f":"LOOKUP($V404,Data!$A$6:$A$1806,Data!$K$6:$K$1806)","v":7656},35.198974609375]
[null,40098.109872684574,{"$f":"LOOKUP(B405,Data!$A$6:$A$1806,Data!B$6:B$1806)","v":59.963001251220703},{"$f":"LOOKUP(B405,Data!$A$6:$A$1806,Data!C$6:C$1806)","v":3765.6064453125},null,null,null,29.5989990234375,33.245885024220101,null,null,0,3798.1724570187539,{"$f":"AVERAGE(D$79:D405)","v":3772.6086433247324},{"$f":"AVERAGE(M$79:M405)","v":3773.5663833154267},3769.569968970125,{"$f":"AVERAGE(P$79:P405)","v":3746.3723031447248},null,null,null,null,40098.109872684574,{"$f":"LOOKUP($V405,Data!$A$6:$A$1806,Data!$B$6:$B$1806)","v":59.963001251220703},{"$f":"LOOKUP($V405,Data!$A$6:$A$1806,Data!$C$6:$C$1806)","v":3765.6064453125},{"$f":"LOOKUP($V405,Data!$A$6:$A$1806,Data!$D$6:$D$1806)","v":335},{"$f":"IF($Z$1=\"+\",LOOKUP($V405,Data!$A$6:$A$1806,Data!$E$6:$E$1806)*-1,LOOKUP($V405,Data!$A$6:$A$1806,Data!$E$6:$E$1806))","v":-228.79815673828125},{"$f":"LOOKUP($V405,Data!$A$6:$A$1806,Data!$F$6:$F$1806)","v":16},{"$f":"LOOKUP($V405,Data!$A$6:$A$1806,Data!$G$6:$G$1806)","v":262},{"$f":"LOOKUP($V405,Data!$A$6:$A$1806,Data!$H$6:$H$1806)","v":10},{"$f":"LOOKUP($V405,Data!$A$6:$A$1806,Data!$I$6:$I$1806)","v":0},{"$f":"LOOKUP($V405,Data!$A$6:$A$1806,Data!$J$6:$J$1806)","v":-103},{"$f":"LOOKUP($V405,Data!$A$6:$A$1806,Data!$K$6:$K$1806)","v":7656},29.5989990234375]
[null,40098.10989583272,{"$f":"LOOKUP(B406,Data!$A$6:$A$1806,Data!B$6:B$1806)","v":59.963001251220703},{"$f":"LOOKUP(B406,Data!$A$6:$A$1806,Data!C$6:C$1806)","v":3765.6064453125},null,null,null,29.5989990234375,31.969474923946191,null,null,0,3796.8960469184799,{"$f":"AVERAGE(D$79:D406)","v":3772.5872951600609},{"$f":"AVERAGE(M$79:M406)","v":3773.6375103386072},3769.569968970125,{"$f":"AVERAGE(P$79:P406)","v":3746.4432440188084},null,null,null,null,40098.10989583272,{"$f":"LOOKUP($V406,Data!$A$6:$A$1806,Data!$B$6:$B$1806)","v":59.963001251220703},{"$f":"LOOKUP($V406,Data!$A$6:$A$1806,Data!$C$6:$C$1806)","v":3765.6064453125},{"$f":"LOOKUP($V406,Data!$A$6:$A$1806,Data!$D$6:$D$1806)","v":335},{"$f":"IF($Z$1=\"+\",LOOKUP($V406,Data!$A$6:$A$1806,Data!$E$6:$E$1806)*-1,LOOKUP($V406,Data!$A$6:$A$1806,Data!$E$6:$E$1806))","v":-228.79815673828125},{"$f":"LOOKUP($V406,Data!$A$6:$A$1806,Data!$F$6:$F$1806)","v":16},{"$f":"LOOKUP($V406,Data!$A$6:$A$1806,Data!$G$6:$G$1806)","v":262},{"$f":"LOOKUP($V406,Data!$A$6:$A$1806,Data!$H$6:$H$1806)","v":10},{"$f":"LOOKUP($V406,Data!$A$6:$A$1806,Data!$I$6:$I$1806)","v":0},{"$f":"LOOKUP($V406,Data!$A$6:$A$1806,Data!$J$6:$J$1806)","v":-103},{"$f":"LOOKUP($V406,Data!$A$6:$A$1806,Data!$K$6:$K$1806)","v":7656},29.5989990234375]
[null,40098.109918980866,{"$f":"LOOKUP(B407,Data!$A$6:$A$1806,Data!B$6:B$1806)","v":59.96099853515625},{"$f":"LOOKUP(B407,Data!$A$6:$A$1806,Data!C$6:C$1806)","v":3761.5703125},null,null,null,31.201171875,31.700568856815025,null,null,0,3796.6271408513489,{"$f":"AVERAGE(D$79:D407)","v":3772.5538088905773},{"$f":"AVERAGE(M$79:M407)","v":3773.7073876349987},3769.569968970125,{"$f":"AVERAGE(P$79:P407)","v":3746.5137523265867},null,null,null,null,40098.109918980866,{"$f":"LOOKUP($V407,Data!$A$6:$A$1806,Data!$B$6:$B$1806)","v":59.96099853515625},{"$f":"LOOKUP($V407,Data!$A$6:$A$1806,Data!$C$6:$C$1806)","v":3761.5703125},{"$f":"LOOKUP($V407,Data!$A$6:$A$1806,Data!$D$6:$D$1806)","v":335},{"$f":"IF($Z$1=\"+\",LOOKUP($V407,Data!$A$6:$A$1806,Data!$E$6:$E$1806)*-1,LOOKUP($V407,Data!$A$6:$A$1806,Data!$E$6:$E$1806))","v":-228.79815673828125},{"$f":"LOOKUP($V407,Data!$A$6:$A$1806,Data!$F$6:$F$1806)","v":16},{"$f":"LOOKUP($V407,Data!$A$6:$A$1806,Data!$G$6:$G$1806)","v":262.5},{"$f":"LOOKUP($V407,Data!$A$6:$A$1806,Data!$H$6:$H$1806)","v":10},{"$f":"LOOKUP($V407,Data!$A$6:$A$1806,Data!$I$6:$I$1806)","v":0},{"$f":"LOOKUP($V407,Data!$A$6:$A$1806,Data!$J$6:$J$1806)","v":-103},{"$f":"LOOKUP($V407,Data!$A$6:$A$1806,Data!$K$6:$K$1806)","v":7657},31.201171875]
[null,40098.109942129013,{"$f":"LOOKUP(B408,Data!$A$6:$A$1806,Data!B$6:B$1806)","v":59.963001251220703},{"$f":"LOOKUP(B408,Data!$A$6:$A$1806,Data!C$6:C$1806)","v":3761.919921875},null,null,null,29.5989990234375,30.965019415132893,null,null,0,3795.8915914096669,{"$f":"AVERAGE(D$79:D408)","v":3772.5215849905303},{"$f":"AVERAGE(M$79:M408)","v":3773.7746124949222},3769.569968970125,{"$f":"AVERAGE(P$79:P408)","v":3746.583832012433},null,null,null,null,40098.109942129013,{"$f":"LOOKUP($V408,Data!$A$6:$A$1806,Data!$B$6:$B$1806)","v":59.963001251220703},{"$f":"LOOKUP($V408,Data!$A$6:$A$1806,Data!$C$6:$C$1806)","v":3761.919921875},{"$f":"LOOKUP($V408,Data!$A$6:$A$1806,Data!$D$6:$D$1806)","v":335},{"$f":"IF($Z$1=\"+\",LOOKUP($V408,Data!$A$6:$A$1806,Data!$E$6:$E$1806)*-1,LOOKUP($V408,Data!$A$6:$A$1806,Data!$E$6:$E$1806))","v":-228.79815673828125},{"$f":"LOOKUP($V408,Data!$A$6:$A$1806,Data!$F$6:$F$1806)","v":16},{"$f":"LOOKUP($V408,Data!$A$6:$A$1806,Data!$G$6:$G$1806)","v":263},{"$f":"LOOKUP($V408,Data!$A$6:$A$1806,Data!$H$6:$H$1806)","v":10},{"$f":"LOOKUP($V408,Data!$A$6:$A$1806,Data!$I$6:$I$1806)","v":0},{"$f":"LOOKUP($V408,Data!$A$6:$A$1806,Data!$J$6:$J$1806)","v":-103},{"$f":"LOOKUP($V408,Data!$A$6:$A$1806,Data!$K$6:$K$1806)","v":7657},29.5989990234375]
[null,40098.109965277159,{"$f":"LOOKUP(B409,Data!$A$6:$A$1806,Data!B$6:B$1806)","v":59.963001251220703},{"$f":"LOOKUP(B409,Data!$A$6:$A$1806,Data!C$6:C$1806)","v":3761.919921875},null,null,null,29.5989990234375,30.486912278039505,null,null,0,3795.4134842725734,{"$f":"AVERAGE(D$79:D409)","v":3772.489555796828},{"$f":"AVERAGE(M$79:M409)","v":3773.8399867298999},3769.569968970125,{"$f":"AVERAGE(P$79:P409)","v":3746.6534869729103},null,null,null,null,40098.109965277159,{"$f":"LOOKUP($V409,Data!$A$6:$A$1806,Data!$B$6:$B$1806)","v":59.963001251220703},{"$f":"LOOKUP($V409,Data!$A$6:$A$1806,Data!$C$6:$C$1806)","v":3761.919921875},{"$f":"LOOKUP($V409,Data!$A$6:$A$1806,Data!$D$6:$D$1806)","v":335},{"$f":"IF($Z$1=\"+\",LOOKUP($V409,Data!$A$6:$A$1806,Data!$E$6:$E$1806)*-1,LOOKUP($V409,Data!$A$6:$A$1806,Data!$E$6:$E$1806))","v":-228.79815673828125},{"$f":"LOOKUP($V409,Data!$A$6:$A$1806,Data!$F$6:$F$1806)","v":16},{"$f":"LOOKUP($V409,Data!$A$6:$A$1806,Data!$G$6:$G$1806)","v":263},{"$f":"LOOKUP($V409,Data!$A$6:$A$1806,Data!$H$6:$H$1806)","v":10},{"$f":"LOOKUP($V409,Data!$A$6:$A$1806,Data!$I$6:$I$1806)","v":0},{"$f":"LOOKUP($V409,Data!$A$6:$A$1806,Data!$J$6:$J$1806)","v":-103},{"$f":"LOOKUP($V409,Data!$A$6:$A$1806,Data!$K$6:$K$1806)","v":7657},29.5989990234375]
[null,40098.109988425305,{"$f":"LOOKUP(B410,Data!$A$6:$A$1806,Data!B$6:B$1806)","v":59.963001251220703},{"$f":"LOOKUP(B410,Data!$A$6:$A$1806,Data!C$6:C$1806)","v":3758.52197265625},null,null,null,29.5989990234375,30.176142638928802,null,null,0,3795.1027146334627,{"$f":"AVERAGE(D$79:D410)","v":3772.4474847632719},{"$f":"AVERAGE(M$79:M410)","v":3773.9040310910555},3769.569968970125,{"$f":"AVERAGE(P$79:P410)","v":3746.7227210574938},null,null,null,null,40098.109988425305,{"$f":"LOOKUP($V410,Data!$A$6:$A$1806,Data!$B$6:$B$1806)","v":59.963001251220703},{"$f":"LOOKUP($V410,Data!$A$6:$A$1806,Data!$C$6:$C$1806)","v":3758.52197265625},{"$f":"LOOKUP($V410,Data!$A$6:$A$1806,Data!$D$6:$D$1806)","v":335},{"$f":"IF($Z$1=\"+\",LOOKUP($V410,Data!$A$6:$A$1806,Data!$E$6:$E$1806)*-1,LOOKUP($V410,Data!$A$6:$A$1806,Data!$E$6:$E$1806))","v":-228.79815673828125},{"$f":"LOOKUP($V410,Data!$A$6:$A$1806,Data!$F$6:$F$1806)","v":16},{"$f":"LOOKUP($V410,Data!$A$6:$A$1806,Data!$G$6:$G$1806)","v":263.5},{"$f":"LOOKUP($V410,Data!$A$6:$A$1806,Data!$H$6:$H$1806)","v":10},{"$f":"LOOKUP($V410,Data!$A$6:$A$1806,Data!$I$6:$I$1806)","v":0},{"$f":"LOOKUP($V410,Data!$A$6:$A$1806,Data!$J$6:$J$1806)","v":-103},{"$f":"LOOKUP($V410,Data!$A$6:$A$1806,Data!$K$6:$K$1806)","v":7658},29.5989990234375]
[null,40098.110011573452,{"$f":"LOOKUP(B411,Data!$A$6:$A$1806,Data!B$6:B$1806)","v":59.967998504638672},{"$f":"LOOKUP(B411,Data!$A$6:$A$1806,Data!C$6:C$1806)","v":3752.4287109375},null,null,null,25.6011962890625,28.574911416475597,null,null,0,3793.5014834110093,{"$f":"AVERAGE(D$79:D411)","v":3772.3873683253564},{"$f":"AVERAGE(M$79:M411)","v":3773.9628822992236},3769.569968970125,{"$f":"AVERAGE(P$79:P411)","v":3746.7915380692784},null,null,null,null,40098.110011573452,{"$f":"LOOKUP($V411,Data!$A$6:$A$1806,Data!$B$6:$B$1806)","v":59.967998504638672},{"$f":"LOOKUP($V411,Data!$A$6:$A$1806,Data!$C$6:$C$1806)","v":3752.4287109375},{"$f":"LOOKUP($V411,Data!$A$6:$A$1806,Data!$D$6:$D$1806)","v":335},{"$f":"IF($Z$1=\"+\",LOOKUP($V411,Data!$A$6:$A$1806,Data!$E$6:$E$1806)*-1,LOOKUP($V411,Data!$A$6:$A$1806,Data!$E$6:$E$1806))","v":-229.46696472167969},{"$f":"LOOKUP($V411,Data!$A$6:$A$1806,Data!$F$6:$F$1806)","v":16},{"$f":"LOOKUP($V411,Data!$A$6:$A$1806,Data!$G$6:$G$1806)","v":264},{"$f":"LOOKUP($V411,Data!$A$6:$A$1806,Data!$H$6:$H$1806)","v":10},{"$f":"LOOKUP($V411,Data!$A$6:$A$1806,Data!$I$6:$I$1806)","v":0},{"$f":"LOOKUP($V411,Data!$A$6:$A$1806,Data!$J$6:$J$1806)","v":-103},{"$f":"LOOKUP($V411,Data!$A$6:$A$1806,Data!$K$6:$K$1806)","v":7658},25.6011962890625]
[null,40098.110034721598,{"$f":"LOOKUP(B412,Data!$A$6:$A$1806,Data!B$6:B$1806)","v":59.967998504638672},{"$f":"LOOKUP(B412,Data!$A$6:$A$1806,Data!C$6:C$1806)","v":3752.4287109375},null,null,null,25.6011962890625,27.534111121881015,null,null,0,3792.4606831164147,{"$f":"AVERAGE(D$79:D412)","v":3772.3276118661115},{"$f":"AVERAGE(M$79:M412)","v":3774.018264936401},3769.569968970125,{"$f":"AVERAGE(P$79:P412)","v":3746.8599417656774},null,null,null,null,40098.110034721598,{"$f":"LOOKUP($V412,Data!$A$6:$A$1806,Data!$B$6:$B$1806)","v":59.967998504638672},{"$f":"LOOKUP($V412,Data!$A$6:$A$1806,Data!$C$6:$C$1806)","v":3752.4287109375},{"$f":"LOOKUP($V412,Data!$A$6:$A$1806,Data!$D$6:$D$1806)","v":335},{"$f":"IF($Z$1=\"+\",LOOKUP($V412,Data!$A$6:$A$1806,Data!$E$6:$E$1806)*-1,LOOKUP($V412,Data!$A$6:$A$1806,Data!$E$6:$E$1806))","v":-229.46696472167969},{"$f":"LOOKUP($V412,Data!$A$6:$A$1806,Data!$F$6:$F$1806)","v":16},{"$f":"LOOKUP($V412,Data!$A$6:$A$1806,Data!$G$6:$G$1806)","v":264},{"$f":"LOOKUP($V412,Data!$A$6:$A$1806,Data!$H$6:$H$1806)","v":10},{"$f":"LOOKUP($V412,Data!$A$6:$A$1806,Data!$I$6:$I$1806)","v":0},{"$f":"LOOKUP($V412,Data!$A$6:$A$1806,Data!$J$6:$J$1806)","v":-103},{"$f":"LOOKUP($V412,Data!$A$6:$A$1806,Data!$K$6:$K$1806)","v":7658},25.6011962890625]
[null,40098.110057869744,{"$f":"LOOKUP(B413,Data!$A$6:$A$1806,Data!B$6:B$1806)","v":59.967998504638672},{"$f":"LOOKUP(B413,Data!$A$6:$A$1806,Data!C$6:C$1806)","v":3753.82958984375},null,null,null,25.6011962890625,26.857590930394537,null,null,0,3791.7841629249283,{"$f":"AVERAGE(D$79:D413)","v":3772.2723938899253},{"$f":"AVERAGE(M$79:M413)","v":3774.0712974677099},3769.569968970125,{"$f":"AVERAGE(P$79:P413)","v":3746.9279358591034},null,null,null,null,40098.110057869744,{"$f":"LOOKUP($V413,Data!$A$6:$A$1806,Data!$B$6:$B$1806)","v":59.967998504638672},{"$f":"LOOKUP($V413,Data!$A$6:$A$1806,Data!$C$6:$C$1806)","v":3753.82958984375},{"$f":"LOOKUP($V413,Data!$A$6:$A$1806,Data!$D$6:$D$1806)","v":335},{"$f":"IF($Z$1=\"+\",LOOKUP($V413,Data!$A$6:$A$1806,Data!$E$6:$E$1806)*-1,LOOKUP($V413,Data!$A$6:$A$1806,Data!$E$6:$E$1806))","v":-229.46696472167969},{"$f":"LOOKUP($V413,Data!$A$6:$A$1806,Data!$F$6:$F$1806)","v":16},{"$f":"LOOKUP($V413,Data!$A$6:$A$1806,Data!$G$6:$G$1806)","v":264.5},{"$f":"LOOKUP($V413,Data!$A$6:$A$1806,Data!$H$6:$H$1806)","v":10},{"$f":"LOOKUP($V413,Data!$A$6:$A$1806,Data!$I$6:$I$1806)","v":0},{"$f":"LOOKUP($V413,Data!$A$6:$A$1806,Data!$J$6:$J$1806)","v":-103},{"$f":"LOOKUP($V413,Data!$A$6:$A$1806,Data!$K$6:$K$1806)","v":7659},25.6011962890625]
[null,40098.11008101789,{"$f":"LOOKUP(B414,Data!$A$6:$A$1806,Data!B$6:B$1806)","v":59.970001220703125},{"$f":"LOOKUP(B414,Data!$A$6:$A$1806,Data!C$6:C$1806)","v":3753.51025390625},null,null,null,23.9990234375,25.857092307881448,null,null,0,3790.7836643024152,{"$f":"AVERAGE(D$79:D414)","v":3772.2165541875929},{"$f":"AVERAGE(M$79:M414)","v":3774.121036654718},3769.569968970125,{"$f":"AVERAGE(P$79:P414)","v":3746.9955240176437},null,null,null,null,40098.11008101789,{"$f":"LOOKUP($V414,Data!$A$6:$A$1806,Data!$B$6:$B$1806)","v":59.970001220703125},{"$f":"LOOKUP($V414,Data!$A$6:$A$1806,Data!$C$6:$C$1806)","v":3753.51025390625},{"$f":"LOOKUP($V414,Data!$A$6:$A$1806,Data!$D$6:$D$1806)","v":335},{"$f":"IF($Z$1=\"+\",LOOKUP($V414,Data!$A$6:$A$1806,Data!$E$6:$E$1806)*-1,LOOKUP($V414,Data!$A$6:$A$1806,Data!$E$6:$E$1806))","v":-229.46696472167969},{"$f":"LOOKUP($V414,Data!$A$6:$A$1806,Data!$F$6:$F$1806)","v":16},{"$f":"LOOKUP($V414,Data!$A$6:$A$1806,Data!$G$6:$G$1806)","v":265},{"$f":"LOOKUP($V414,Data!$A$6:$A$1806,Data!$H$6:$H$1806)","v":10},{"$f":"LOOKUP($V414,Data!$A$6:$A$1806,Data!$I$6:$I$1806)","v":0},{"$f":"LOOKUP($V414,Data!$A$6:$A$1806,Data!$J$6:$J$1806)","v":-103},{"$f":"LOOKUP($V414,Data!$A$6:$A$1806,Data!$K$6:$K$1806)","v":7659},23.9990234375]
[null,40098.110104166037,{"$f":"LOOKUP(B415,Data!$A$6:$A$1806,Data!B$6:B$1806)","v":59.970001220703125},{"$f":"LOOKUP(B415,Data!$A$6:$A$1806,Data!C$6:C$1806)","v":3753.51025390625},null,null,null,23.9990234375,25.206768203247943,null,null,0,3790.1333401977818,{"$f":"AVERAGE(D$79:D415)","v":3772.1610458781529},{"$f":"AVERAGE(M$79:M415)","v":3774.1685509085551},3769.569968970125,{"$f":"AVERAGE(P$79:P415)","v":3747.062709865716},null,null,null,null,40098.110104166037,{"$f":"LOOKUP($V415,Data!$A$6:$A$1806,Data!$B$6:$B$1806)","v":59.970001220703125},{"$f":"LOOKUP($V415,Data!$A$6:$A$1806,Data!$C$6:$C$1806)","v":3753.51025390625},{"$f":"LOOKUP($V415,Data!$A$6:$A$1806,Data!$D$6:$D$1806)","v":335},{"$f":"IF($Z$1=\"+\",LOOKUP($V415,Data!$A$6:$A$1806,Data!$E$6:$E$1806)*-1,LOOKUP($V415,Data!$A$6:$A$1806,Data!$E$6:$E$1806))","v":-229.46696472167969},{"$f":"LOOKUP($V415,Data!$A$6:$A$1806,Data!$F$6:$F$1806)","v":16},{"$f":"LOOKUP($V415,Data!$A$6:$A$1806,Data!$G$6:$G$1806)","v":265},{"$f":"LOOKUP($V415,Data!$A$6:$A$1806,Data!$H$6:$H$1806)","v":10},{"$f":"LOOKUP($V415,Data!$A$6:$A$1806,Data!$I$6:$I$1806)","v":0},{"$f":"LOOKUP($V415,Data!$A$6:$A$1806,Data!$J$6:$J$1806)","v":-103},{"$f":"LOOKUP($V415,Data!$A$6:$A$1806,Data!$K$6:$K$1806)","v":7659},23.9990234375]
[null,40098.110127314183,{"$f":"LOOKUP(B416,Data!$A$6:$A$1806,Data!B$6:B$1806)","v":59.972999572753906},{"$f":"LOOKUP(B416,Data!$A$6:$A$1806,Data!C$6:C$1806)","v":3752.74072265625},null,null,null,21.600341796875,23.944518961017415,null,null,0,3788.8710909555512,{"$f":"AVERAGE(D$79:D416)","v":3772.1035893005733},{"$f":"AVERAGE(M$79:M416)","v":3774.2120495477475},3769.569968970125,{"$f":"AVERAGE(P$79:P416)","v":3747.1294969847199},null,null,null,null,40098.110127314183,{"$f":"LOOKUP($V416,Data!$A$6:$A$1806,Data!$B$6:$B$1806)","v":59.972999572753906},{"$f":"LOOKUP($V416,Data!$A$6:$A$1806,Data!$C$6:$C$1806)","v":3752.74072265625},{"$f":"LOOKUP($V416,Data!$A$6:$A$1806,Data!$D$6:$D$1806)","v":335},{"$f":"IF($Z$1=\"+\",LOOKUP($V416,Data!$A$6:$A$1806,Data!$E$6:$E$1806)*-1,LOOKUP($V416,Data!$A$6:$A$1806,Data!$E$6:$E$1806))","v":-229.46696472167969},{"$f":"LOOKUP($V416,Data!$A$6:$A$1806,Data!$F$6:$F$1806)","v":16},{"$f":"LOOKUP($V416,Data!$A$6:$A$1806,Data!$G$6:$G$1806)","v":265.5},{"$f":"LOOKUP($V416,Data!$A$6:$A$1806,Data!$H$6:$H$1806)","v":10},{"$f":"LOOKUP($V416,Data!$A$6:$A$1806,Data!$I$6:$I$1806)","v":0},{"$f":"LOOKUP($V416,Data!$A$6:$A$1806,Data!$J$6:$J$1806)","v":-103},{"$f":"LOOKUP($V416,Data!$A$6:$A$1806,Data!$K$6:$K$1806)","v":7659},21.600341796875]
[null,40098.110150462329,{"$f":"LOOKUP(B417,Data!$A$6:$A$1806,Data!B$6:B$1806)","v":59.965000152587891},{"$f":"LOOKUP(B417,Data!$A$6:$A$1806,Data!C$6:C$1806)","v":3753.17822265625},null,null,null,27.9998779296875,25.363894600051946,null,null,0,3790.2904665945857,{"$f":"AVERAGE(D$79:D417)","v":3772.0477622603244},{"$f":"AVERAGE(M$79:M417)","v":3774.2594785065876},3769.569968970125,{"$f":"AVERAGE(P$79:P417)","v":3747.1958889136704},null,null,null,null,40098.110150462329,{"$f":"LOOKUP($V417,Data!$A$6:$A$1806,Data!$B$6:$B$1806)","v":59.965000152587891},{"$f":"LOOKUP($V417,Data!$A$6:$A$1806,Data!$C$6:$C$1806)","v":3753.17822265625},{"$f":"LOOKUP($V417,Data!$A$6:$A$1806,Data!$D$6:$D$1806)","v":335},{"$f":"IF($Z$1=\"+\",LOOKUP($V417,Data!$A$6:$A$1806,Data!$E$6:$E$1806)*-1,LOOKUP($V417,Data!$A$6:$A$1806,Data!$E$6:$E$1806))","v":-229.46696472167969},{"$f":"LOOKUP($V417,Data!$A$6:$A$1806,Data!$F$6:$F$1806)","v":16},{"$f":"LOOKUP($V417,Data!$A$6:$A$1806,Data!$G$6:$G$1806)","v":266},{"$f":"LOOKUP($V417,Data!$A$6:$A$1806,Data!$H$6:$H$1806)","v":10},{"$f":"LOOKUP($V417,Data!$A$6:$A$1806,Data!$I$6:$I$1806)","v":0},{"$f":"LOOKUP($V417,Data!$A$6:$A$1806,Data!$J$6:$J$1806)","v":-103},{"$f":"LOOKUP($V417,Data!$A$6:$A$1806,Data!$K$6:$K$1806)","v":7660},27.9998779296875]
[null,40098.110173610476,{"$f":"LOOKUP(B418,Data!$A$6:$A$1806,Data!B$6:B$1806)","v":59.965000152587891},{"$f":"LOOKUP(B418,Data!$A$6:$A$1806,Data!C$6:C$1806)","v":3753.17822265625},null,null,null,27.9998779296875,26.286488765424391,null,null,0,3791.2130607599584,{"$f":"AVERAGE(D$79:D418)","v":3771.9922636144302},{"$f":"AVERAGE(M$79:M418)","v":3774.3093419838033},3769.569968970125,{"$f":"AVERAGE(P$79:P418)","v":3747.261889149825},null,null,null,null,40098.110173610476,{"$f":"LOOKUP($V418,Data!$A$6:$A$1806,Data!$B$6:$B$1806)","v":59.965000152587891},{"$f":"LOOKUP($V418,Data!$A$6:$A$1806,Data!$C$6:$C$1806)","v":3753.17822265625},{"$f":"LOOKUP($V418,Data!$A$6:$A$1806,Data!$D$6:$D$1806)","v":335},{"$f":"IF($Z$1=\"+\",LOOKUP($V418,Data!$A$6:$A$1806,Data!$E$6:$E$1806)*-1,LOOKUP($V418,Data!$A$6:$A$1806,Data!$E$6:$E$1806))","v":-229.46696472167969},{"$f":"LOOKUP($V418,Data!$A$6:$A$1806,Data!$F$6:$F$1806)","v":16},{"$f":"LOOKUP($V418,Data!$A$6:$A$1806,Data!$G$6:$G$1806)","v":266},{"$f":"LOOKUP($V418,Data!$A$6:$A$1806,Data!$H$6:$H$1806)","v":10},{"$f":"LOOKUP($V418,Data!$A$6:$A$1806,Data!$I$6:$I$1806)","v":0},{"$f":"LOOKUP($V418,Data!$A$6:$A$1806,Data!$J$6:$J$1806)","v":-103},{"$f":"LOOKUP($V418,Data!$A$6:$A$1806,Data!$K$6:$K$1806)","v":7660},27.9998779296875]
[null,40098.110196758622,{"$f":"LOOKUP(B419,Data!$A$6:$A$1806,Data!B$6:B$1806)","v":59.966999053955078},{"$f":"LOOKUP(B419,Data!$A$6:$A$1806,Data!C$6:C$1806)","v":3753.29052734375},null,null,null,26.4007568359375,26.326482590103979,null,null,0,3791.253054584638,{"$f":"AVERAGE(D$79:D419)","v":3771.9374198130499},{"$f":"AVERAGE(M$79:M419)","v":3774.3590302905504},3769.569968970125,{"$f":"AVERAGE(P$79:P419)","v":3747.327501149296},null,null,null,null,40098.110196758622,{"$f":"LOOKUP($V419,Data!$A$6:$A$1806,Data!$B$6:$B$1806)","v":59.966999053955078},{"$f":"LOOKUP($V419,Data!$A$6:$A$1806,Data!$C$6:$C$1806)","v":3753.29052734375},{"$f":"LOOKUP($V419,Data!$A$6:$A$1806,Data!$D$6:$D$1806)","v":335},{"$f":"IF($Z$1=\"+\",LOOKUP($V419,Data!$A$6:$A$1806,Data!$E$6:$E$1806)*-1,LOOKUP($V419,Data!$A$6:$A$1806,Data!$E$6:$E$1806))","v":-228.98016357421875},{"$f":"LOOKUP($V419,Data!$A$6:$A$1806,Data!$F$6:$F$1806)","v":16},{"$f":"LOOKUP($V419,Data!$A$6:$A$1806,Data!$G$6:$G$1806)","v":266.5},{"$f":"LOOKUP($V419,Data!$A$6:$A$1806,Data!$H$6:$H$1806)","v":10},{"$f":"LOOKUP($V419,Data!$A$6:$A$1806,Data!$I$6:$I$1806)","v":0},{"$f":"LOOKUP($V419,Data!$A$6:$A$1806,Data!$J$6:$J$1806)","v":-103},{"$f":"LOOKUP($V419,Data!$A$6:$A$1806,Data!$K$6:$K$1806)","v":7660},26.4007568359375]
[null,40098.110219906768,{"$f":"LOOKUP(B420,Data!$A$6:$A$1806,Data!B$6:B$1806)","v":59.972000122070313},{"$f":"LOOKUP(B420,Data!$A$6:$A$1806,Data!C$6:C$1806)","v":3752.87158203125},null,null,null,22.39990234375,24.952179503880085,null,null,0,3789.8787514984142,{"$f":"AVERAGE(D$79:D420)","v":3771.8816717493605},{"$f":"AVERAGE(M$79:M420)","v":3774.4044095923277},3769.569968970125,{"$f":"AVERAGE(P$79:P420)","v":3747.3927283276562},null,null,null,null,40098.110219906768,{"$f":"LOOKUP($V420,Data!$A$6:$A$1806,Data!$B$6:$B$1806)","v":59.972000122070313},{"$f":"LOOKUP($V420,Data!$A$6:$A$1806,Data!$C$6:$C$1806)","v":3752.87158203125},{"$f":"LOOKUP($V420,Data!$A$6:$A$1806,Data!$D$6:$D$1806)","v":335},{"$f":"IF($Z$1=\"+\",LOOKUP($V420,Data!$A$6:$A$1806,Data!$E$6:$E$1806)*-1,LOOKUP($V420,Data!$A$6:$A$1806,Data!$E$6:$E$1806))","v":-228.98016357421875},{"$f":"LOOKUP($V420,Data!$A$6:$A$1806,Data!$F$6:$F$1806)","v":16},{"$f":"LOOKUP($V420,Data!$A$6:$A$1806,Data!$G$6:$G$1806)","v":267},{"$f":"LOOKUP($V420,Data!$A$6:$A$1806,Data!$H$6:$H$1806)","v":10},{"$f":"LOOKUP($V420,Data!$A$6:$A$1806,Data!$I$6:$I$1806)","v":0},{"$f":"LOOKUP($V420,Data!$A$6:$A$1806,Data!$J$6:$J$1806)","v":-103},{"$f":"LOOKUP($V420,Data!$A$6:$A$1806,Data!$K$6:$K$1806)","v":7661},22.39990234375]
[null,40098.110243054914,{"$f":"LOOKUP(B421,Data!$A$6:$A$1806,Data!B$6:B$1806)","v":59.972000122070313},{"$f":"LOOKUP(B421,Data!$A$6:$A$1806,Data!C$6:C$1806)","v":3752.87158203125},null,null,null,22.39990234375,24.058882497834556,null,null,0,3788.9854544923687,{"$f":"AVERAGE(D$79:D421)","v":3771.8262487472666},{"$f":"AVERAGE(M$79:M421)","v":3774.446919927313},3769.569968970125,{"$f":"AVERAGE(P$79:P421)","v":3747.4575740605287},null,null,null,null,40098.110243054914,{"$f":"LOOKUP($V421,Data!$A$6:$A$1806,Data!$B$6:$B$1806)","v":59.972000122070313},{"$f":"LOOKUP($V421,Data!$A$6:$A$1806,Data!$C$6:$C$1806)","v":3752.87158203125},{"$f":"LOOKUP($V421,Data!$A$6:$A$1806,Data!$D$6:$D$1806)","v":335},{"$f":"IF($Z$1=\"+\",LOOKUP($V421,Data!$A$6:$A$1806,Data!$E$6:$E$1806)*-1,LOOKUP($V421,Data!$A$6:$A$1806,Data!$E$6:$E$1806))","v":-228.98016357421875},{"$f":"LOOKUP($V421,Data!$A$6:$A$1806,Data!$F$6:$F$1806)","v":16},{"$f":"LOOKUP($V421,Data!$A$6:$A$1806,Data!$G$6:$G$1806)","v":267},{"$f":"LOOKUP($V421,Data!$A$6:$A$1806,Data!$H$6:$H$1806)","v":10},{"$f":"LOOKUP($V421,Data!$A$6:$A$1806,Data!$I$6:$I$1806)","v":0},{"$f":"LOOKUP($V421,Data!$A$6:$A$1806,Data!$J$6:$J$1806)","v":-103},{"$f":"LOOKUP($V421,Data!$A$6:$A$1806,Data!$K$6:$K$1806)","v":7661},22.39990234375]
[null,40098.110266203061,{"$f":"LOOKUP(B422,Data!$A$6:$A$1806,Data!B$6:B$1806)","v":59.976001739501953},{"$f":"LOOKUP(B422,Data!$A$6:$A$1806,Data!C$6:C$1806)","v":3749.39794921875},null,null,null,19.1986083984375,22.357786563045586,null,null,0,3787.2843585575797,{"$f":"AVERAGE(D$79:D422)","v":3771.7610502021257},{"$f":"AVERAGE(M$79:M422)","v":3774.4842380628661},3769.569968970125,{"$f":"AVERAGE(P$79:P422)","v":3747.5220416841712},null,null,null,null,40098.110266203061,{"$f":"LOOKUP($V422,Data!$A$6:$A$1806,Data!$B$6:$B$1806)","v":59.976001739501953},{"$f":"LOOKUP($V422,Data!$A$6:$A$1806,Data!$C$6:$C$1806)","v":3749.39794921875},{"$f":"LOOKUP($V422,Data!$A$6:$A$1806,Data!$D$6:$D$1806)","v":335},{"$f":"IF($Z$1=\"+\",LOOKUP($V422,Data!$A$6:$A$1806,Data!$E$6:$E$1806)*-1,LOOKUP($V422,Data!$A$6:$A$1806,Data!$E$6:$E$1806))","v":-228.98016357421875},{"$f":"LOOKUP($V422,Data!$A$6:$A$1806,Data!$F$6:$F$1806)","v":16},{"$f":"LOOKUP($V422,Data!$A$6:$A$1806,Data!$G$6:$G$1806)","v":267.5},{"$f":"LOOKUP($V422,Data!$A$6:$A$1806,Data!$H$6:$H$1806)","v":10},{"$f":"LOOKUP($V422,Data!$A$6:$A$1806,Data!$I$6:$I$1806)","v":0},{"$f":"LOOKUP($V422,Data!$A$6:$A$1806,Data!$J$6:$J$1806)","v":-103},{"$f":"LOOKUP($V422,Data!$A$6:$A$1806,Data!$K$6:$K$1806)","v":7661},19.1986083984375]
[null,40098.110289351207,{"$f":"LOOKUP(B423,Data!$A$6:$A$1806,Data!B$6:B$1806)","v":59.969001770019531},{"$f":"LOOKUP(B423,Data!$A$6:$A$1806,Data!C$6:C$1806)","v":3747.475830078125},null,null,null,24.798583984375,23.212065660510881,null,null,0,3788.1386376550449,{"$f":"AVERAGE(D$79:D423)","v":3771.6906582597371},{"$f":"AVERAGE(M$79:M423)","v":3774.5238160326981},3769.569968970125,{"$f":"AVERAGE(P$79:P423)","v":3747.586134496049},null,null,null,null,40098.110289351207,{"$f":"LOOKUP($V423,Data!$A$6:$A$1806,Data!$B$6:$B$1806)","v":59.969001770019531},{"$f":"LOOKUP($V423,Data!$A$6:$A$1806,Data!$C$6:$C$1806)","v":3747.475830078125},{"$f":"LOOKUP($V423,Data!$A$6:$A$1806,Data!$D$6:$D$1806)","v":335},{"$f":"IF($Z$1=\"+\",LOOKUP($V423,Data!$A$6:$A$1806,Data!$E$6:$E$1806)*-1,LOOKUP($V423,Data!$A$6:$A$1806,Data!$E$6:$E$1806))","v":-228.98016357421875},{"$f":"LOOKUP($V423,Data!$A$6:$A$1806,Data!$F$6:$F$1806)","v":16},{"$f":"LOOKUP($V423,Data!$A$6:$A$1806,Data!$G$6:$G$1806)","v":268},{"$f":"LOOKUP($V423,Data!$A$6:$A$1806,Data!$H$6:$H$1806)","v":10},{"$f":"LOOKUP($V423,Data!$A$6:$A$1806,Data!$I$6:$I$1806)","v":0},{"$f":"LOOKUP($V423,Data!$A$6:$A$1806,Data!$J$6:$J$1806)","v":-103},{"$f":"LOOKUP($V423,Data!$A$6:$A$1806,Data!$K$6:$K$1806)","v":7662},24.798583984375]
[null,40098.110312499353,{"$f":"LOOKUP(B424,Data!$A$6:$A$1806,Data!B$6:B$1806)","v":59.969001770019531},{"$f":"LOOKUP(B424,Data!$A$6:$A$1806,Data!C$6:C$1806)","v":3747.475830078125},null,null,null,24.798583984375,23.767347073863323,null,null,0,3788.6939190683975,{"$f":"AVERAGE(D$79:D424)","v":3771.6206732071892},{"$f":"AVERAGE(M$79:M424)","v":3774.5647700877148},3769.569968970125,{"$f":"AVERAGE(P$79:P424)","v":3747.6498557553937},null,null,null,null,40098.110312499353,{"$f":"LOOKUP($V424,Data!$A$6:$A$1806,Data!$B$6:$B$1806)","v":59.969001770019531},{"$f":"LOOKUP($V424,Data!$A$6:$A$1806,Data!$C$6:$C$1806)","v":3747.475830078125},{"$f":"LOOKUP($V424,Data!$A$6:$A$1806,Data!$D$6:$D$1806)","v":335},{"$f":"IF($Z$1=\"+\",LOOKUP($V424,Data!$A$6:$A$1806,Data!$E$6:$E$1806)*-1,LOOKUP($V424,Data!$A$6:$A$1806,Data!$E$6:$E$1806))","v":-228.98016357421875},{"$f":"LOOKUP($V424,Data!$A$6:$A$1806,Data!$F$6:$F$1806)","v":16},{"$f":"LOOKUP($V424,Data!$A$6:$A$1806,Data!$G$6:$G$1806)","v":268},{"$f":"LOOKUP($V424,Data!$A$6:$A$1806,Data!$H$6:$H$1806)","v":10},{"$f":"LOOKUP($V424,Data!$A$6:$A$1806,Data!$I$6:$I$1806)","v":0},{"$f":"LOOKUP($V424,Data!$A$6:$A$1806,Data!$J$6:$J$1806)","v":-103},{"$f":"LOOKUP($V424,Data!$A$6:$A$1806,Data!$K$6:$K$1806)","v":7662},24.798583984375]
[null,40098.1103356475,{"$f":"LOOKUP(B425,Data!$A$6:$A$1806,Data!B$6:B$1806)","v":59.972999572753906},{"$f":"LOOKUP(B425,Data!$A$6:$A$1806,Data!C$6:C$1806)","v":3741.28515625},null,null,null,21.600341796875,23.00889522691741,null,null,0,3787.9354672214517,{"$f":"AVERAGE(D$79:D425)","v":3771.5332509681198},{"$f":"AVERAGE(M$79:M425)","v":3774.6033023561122},3769.569968970125,{"$f":"AVERAGE(P$79:P425)","v":3747.7132086837596},null,null,null,null,40098.1103356475,{"$f":"LOOKUP($V425,Data!$A$6:$A$1806,Data!$B$6:$B$1806)","v":59.972999572753906},{"$f":"LOOKUP($V425,Data!$A$6:$A$1806,Data!$C$6:$C$1806)","v":3741.28515625},{"$f":"LOOKUP($V425,Data!$A$6:$A$1806,Data!$D$6:$D$1806)","v":335},{"$f":"IF($Z$1=\"+\",LOOKUP($V425,Data!$A$6:$A$1806,Data!$E$6:$E$1806)*-1,LOOKUP($V425,Data!$A$6:$A$1806,Data!$E$6:$E$1806))","v":-228.98016357421875},{"$f":"LOOKUP($V425,Data!$A$6:$A$1806,Data!$F$6:$F$1806)","v":16},{"$f":"LOOKUP($V425,Data!$A$6:$A$1806,Data!$G$6:$G$1806)","v":268.5},{"$f":"LOOKUP($V425,Data!$A$6:$A$1806,Data!$H$6:$H$1806)","v":10},{"$f":"LOOKUP($V425,Data!$A$6:$A$1806,Data!$I$6:$I$1806)","v":0},{"$f":"LOOKUP($V425,Data!$A$6:$A$1806,Data!$J$6:$J$1806)","v":-103},{"$f":"LOOKUP($V425,Data!$A$6:$A$1806,Data!$K$6:$K$1806)","v":7662},21.600341796875]
[null,40098.110358795646,{"$f":"LOOKUP(B426,Data!$A$6:$A$1806,Data!B$6:B$1806)","v":59.978000640869141},{"$f":"LOOKUP(B426,Data!$A$6:$A$1806,Data!C$6:C$1806)","v":3746.65087890625},null,null,null,17.5994873046875,21.11560245413694,null,null,0,3786.0421744486712,{"$f":"AVERAGE(D$79:D426)","v":3771.4617498989764},{"$f":"AVERAGE(M$79:M426)","v":3774.636172678217},3769.569968970125,{"$f":"AVERAGE(P$79:P426)","v":3747.7761964655647},null,null,null,null,40098.110358795646,{"$f":"LOOKUP($V426,Data!$A$6:$A$1806,Data!$B$6:$B$1806)","v":59.978000640869141},{"$f":"LOOKUP($V426,Data!$A$6:$A$1806,Data!$C$6:$C$1806)","v":3746.65087890625},{"$f":"LOOKUP($V426,Data!$A$6:$A$1806,Data!$D$6:$D$1806)","v":335},{"$f":"IF($Z$1=\"+\",LOOKUP($V426,Data!$A$6:$A$1806,Data!$E$6:$E$1806)*-1,LOOKUP($V426,Data!$A$6:$A$1806,Data!$E$6:$E$1806))","v":-219.97555541992187},{"$f":"LOOKUP($V426,Data!$A$6:$A$1806,Data!$F$6:$F$1806)","v":16},{"$f":"LOOKUP($V426,Data!$A$6:$A$1806,Data!$G$6:$G$1806)","v":269},{"$f":"LOOKUP($V426,Data!$A$6:$A$1806,Data!$H$6:$H$1806)","v":10},{"$f":"LOOKUP($V426,Data!$A$6:$A$1806,Data!$I$6:$I$1806)","v":0},{"$f":"LOOKUP($V426,Data!$A$6:$A$1806,Data!$J$6:$J$1806)","v":-103},{"$f":"LOOKUP($V426,Data!$A$6:$A$1806,Data!$K$6:$K$1806)","v":7663},17.5994873046875]
[null,40098.110381943792,{"$f":"LOOKUP(B427,Data!$A$6:$A$1806,Data!B$6:B$1806)","v":59.978000640869141},{"$f":"LOOKUP(B427,Data!$A$6:$A$1806,Data!C$6:C$1806)","v":3746.65087890625},null,null,null,17.5994873046875,{"$f":"L$13*H427+(1-L$13)*I426","v":19.884962151829637},null,null,0,3784.811534146364,{"$f":"AVERAGE(D$79:D427)","v":3771.3906585780801},{"$f":"AVERAGE(M$79:M427)","v":3774.6653284417362},3769.569968970125,{"$f":"AVERAGE(P$79:P427)","v":3747.8388222486233},null,null,null,null,40098.110381943792,{"$f":"LOOKUP($V427,Data!$A$6:$A$1806,Data!$B$6:$B$1806)","v":59.978000640869141},{"$f":"LOOKUP($V427,Data!$A$6:$A$1806,Data!$C$6:$C$1806)","v":3746.65087890625},{"$f":"LOOKUP($V427,Data!$A$6:$A$1806,Data!$D$6:$D$1806)","v":335},{"$f":"IF($Z$1=\"+\",LOOKUP($V427,Data!$A$6:$A$1806,Data!$E$6:$E$1806)*-1,LOOKUP($V427,Data!$A$6:$A$1806,Data!$E$6:$E$1806))","v":-219.97555541992187},{"$f":"LOOKUP($V427,Data!$A$6:$A$1806,Data!$F$6:$F$1806)","v":16},{"$f":"LOOKUP($V427,Data!$A$6:$A$1806,Data!$G$6:$G$1806)","v":269},{"$f":"LOOKUP($V427,Data!$A$6:$A$1806,Data!$H$6:$H$1806)","v":10},{"$f":"LOOKUP($V427,Data!$A$6:$A$1806,Data!$I$6:$I$1806)","v":0},{"$f":"LOOKUP($V427,Data!$A$6:$A$1806,Data!$J$6:$J$1806)","v":-103},{"$f":"LOOKUP($V427,Data!$A$6:$A$1806,Data!$K$6:$K$1806)","v":7663},17.5994873046875]
[null,40098.110405091938,{"$f":"LOOKUP(B428,Data!$A$6:$A$1806,Data!B$6:B$1806)","v":59.980998992919922},{"$f":"LOOKUP(B428,Data!$A$6:$A$1806,Data!C$6:C$1806)","v":3743.3505859375},null,null,null,{"$f":"(IF((C428-L$2)>0,((C428-L$2-L$5)/((L$4*L$2)-L$5)*L$3*-1),((C428-L$2+L$5)/((L$4*L$2)-L$5)*L$3*-1)))","v":15.2008056640625},18.245507381111139,null,null,0,3783.1720793756454,{"$f":"AVERAGE(D$79:D428)","v":3771.3105440848212},{"$f":"AVERAGE(M$79:M428)","v":3774.6896334444045},3769.569968970125,{"$f":"AVERAGE(P$79:P428)","v":3747.9010891446733},null,null,null,null,40098.110405091938,{"$f":"LOOKUP($V428,Data!$A$6:$A$1806,Data!$B$6:$B$1806)","v":59.980998992919922},{"$f":"LOOKUP($V428,Data!$A$6:$A$1806,Data!$C$6:$C$1806)","v":3743.3505859375},{"$f":"LOOKUP($V428,Data!$A$6:$A$1806,Data!$D$6:$D$1806)","v":335},{"$f":"IF($Z$1=\"+\",LOOKUP($V428,Data!$A$6:$A$1806,Data!$E$6:$E$1806)*-1,LOOKUP($V428,Data!$A$6:$A$1806,Data!$E$6:$E$1806))","v":-219.97555541992187},{"$f":"LOOKUP($V428,Data!$A$6:$A$1806,Data!$F$6:$F$1806)","v":16},{"$f":"LOOKUP($V428,Data!$A$6:$A$1806,Data!$G$6:$G$1806)","v":269.5},{"$f":"LOOKUP($V428,Data!$A$6:$A$1806,Data!$H$6:$H$1806)","v":10},{"$f":"LOOKUP($V428,Data!$A$6:$A$1806,Data!$I$6:$I$1806)","v":0},{"$f":"LOOKUP($V428,Data!$A$6:$A$1806,Data!$J$6:$J$1806)","v":-103},{"$f":"LOOKUP($V428,Data!$A$6:$A$1806,Data!$K$6:$K$1806)","v":7663},{"$f":"(IF((W428-$L$2)>0,((W428-$L$2-$L$5)/(($L$4*$L$2)-$L$5)*$L$3*-1),((W428-$L$2+$L$5)/(($L$4*$L$2)-$L$5)*$L$3*-1)))","v":15.2008056640625}]
[null,40098.110428240085,{"$f":"LOOKUP(B429,Data!$A$6:$A$1806,Data!B$6:B$1806)","v":59.980998992919922},{"$f":"LOOKUP(B429,Data!$A$6:$A$1806,Data!C$6:C$1806)","v":3741.6181640625},null,null,null,15.2008056640625,17.179861780144115,null,null,0,3782.1064337746784,{"$f":"AVERAGE(D$79:D429)","v":3771.2259504095441},{"$f":"AVERAGE(M$79:M429)","v":3774.710763929676},3769.569968970125,{"$f":"AVERAGE(P$79:P429)","v":3747.9630002298886},null,null,null,null,40098.110428240085,{"$f":"LOOKUP($V429,Data!$A$6:$A$1806,Data!$B$6:$B$1806)","v":59.980998992919922},{"$f":"LOOKUP($V429,Data!$A$6:$A$1806,Data!$C$6:$C$1806)","v":3741.6181640625},{"$f":"LOOKUP($V429,Data!$A$6:$A$1806,Data!$D$6:$D$1806)","v":335},{"$f":"IF($Z$1=\"+\",LOOKUP($V429,Data!$A$6:$A$1806,Data!$E$6:$E$1806)*-1,LOOKUP($V429,Data!$A$6:$A$1806,Data!$E$6:$E$1806))","v":-219.97555541992187},{"$f":"LOOKUP($V429,Data!$A$6:$A$1806,Data!$F$6:$F$1806)","v":16},{"$f":"LOOKUP($V429,Data!$A$6:$A$1806,Data!$G$6:$G$1806)","v":270},{"$f":"LOOKUP($V429,Data!$A$6:$A$1806,Data!$H$6:$H$1806)","v":10},{"$f":"LOOKUP($V429,Data!$A$6:$A$1806,Data!$I$6:$I$1806)","v":0},{"$f":"LOOKUP($V429,Data!$A$6:$A$1806,Data!$J$6:$J$1806)","v":-103},{"$f":"LOOKUP($V429,Data!$A$6:$A$1806,Data!$K$6:$K$1806)","v":7664},15.2008056640625]
[null,{"$f":"B429+TIME(0,0,$B$1)","v":40098.110451388231},{"$f":"LOOKUP(B430,Data!$A$6:$A$1806,Data!B$6:B$1806)","v":59.980998992919922},{"$f":"LOOKUP(B430,Data!$A$6:$A$1806,Data!C$6:C$1806)","v":3741.6181640625},null,null,null,15.2008056640625,16.48719213951555,null,null,0,3781.4137641340499,{"$f":"AVERAGE(D$79:D430)","v":3771.1418373801494},{"$f":"AVERAGE(M$79:M430)","v":3774.7298065438927},3769.569968970125,{"$f":"AVERAGE(P$79:P430)","v":3748.0245585453872},null,null,null,null,40098.110451388231,{"$f":"LOOKUP($V430,Data!$A$6:$A$1806,Data!$B$6:$B$1806)","v":59.980998992919922},{"$f":"LOOKUP($V430,Data!$A$6:$A$1806,Data!$C$6:$C$1806)","v":3741.6181640625},{"$f":"LOOKUP($V430,Data!$A$6:$A$1806,Data!$D$6:$D$1806)","v":335},{"$f":"IF($Z$1=\"+\",LOOKUP($V430,Data!$A$6:$A$1806,Data!$E$6:$E$1806)*-1,LOOKUP($V430,Data!$A$6:$A$1806,Data!$E$6:$E$1806))","v":-219.97555541992187},{"$f":"LOOKUP($V430,Data!$A$6:$A$1806,Data!$F$6:$F$1806)","v":16},{"$f":"LOOKUP($V430,Data!$A$6:$A$1806,Data!$G$6:$G$1806)","v":270},{"$f":"LOOKUP($V430,Data!$A$6:$A$1806,Data!$H$6:$H$1806)","v":10},{"$f":"LOOKUP($V430,Data!$A$6:$A$1806,Data!$I$6:$I$1806)","v":0},{"$f":"LOOKUP($V430,Data!$A$6:$A$1806,Data!$J$6:$J$1806)","v":-103},{"$f":"LOOKUP($V430,Data!$A$6:$A$1806,Data!$K$6:$K$1806)","v":7664},15.2008056640625]
[null,40098.110474536377,{"$f":"LOOKUP(B431,Data!$A$6:$A$1806,Data!B$6:B$1806)","v":59.981998443603516},{"$f":"LOOKUP(B431,Data!$A$6:$A$1806,Data!C$6:C$1806)","v":3738.484375},null,null,null,14.4012451171875,15.757110681700732,null,null,0,3780.6836826762351,{"$f":"AVERAGE(D$79:D431)","v":3771.0493233224151},{"$f":"AVERAGE(M$79:M431)","v":3774.7466730485166},3769.569968970125,{"$f":"AVERAGE(P$79:P431)","v":3748.0857670977302},null,null,null,null,40098.110474536377,{"$f":"LOOKUP($V431,Data!$A$6:$A$1806,Data!$B$6:$B$1806)","v":59.981998443603516},{"$f":"LOOKUP($V431,Data!$A$6:$A$1806,Data!$C$6:$C$1806)","v":3738.484375},{"$f":"LOOKUP($V431,Data!$A$6:$A$1806,Data!$D$6:$D$1806)","v":335},{"$f":"IF($Z$1=\"+\",LOOKUP($V431,Data!$A$6:$A$1806,Data!$E$6:$E$1806)*-1,LOOKUP($V431,Data!$A$6:$A$1806,Data!$E$6:$E$1806))","v":-219.97555541992187},{"$f":"LOOKUP($V431,Data!$A$6:$A$1806,Data!$F$6:$F$1806)","v":16},{"$f":"LOOKUP($V431,Data!$A$6:$A$1806,Data!$G$6:$G$1806)","v":270.5},{"$f":"LOOKUP($V431,Data!$A$6:$A$1806,Data!$H$6:$H$1806)","v":10},{"$f":"LOOKUP($V431,Data!$A$6:$A$1806,Data!$I$6:$I$1806)","v":0},{"$f":"LOOKUP($V431,Data!$A$6:$A$1806,Data!$J$6:$J$1806)","v":-103},{"$f":"LOOKUP($V431,Data!$A$6:$A$1806,Data!$K$6:$K$1806)","v":7664},14.4012451171875]
[null,40098.110497684524,{"$f":"LOOKUP(B432,Data!$A$6:$A$1806,Data!B$6:B$1806)","v":59.984001159667969},{"$f":"LOOKUP(B432,Data!$A$6:$A$1806,Data!C$6:C$1806)","v":3738.9013671875},null,null,null,12.799072265625,14.721797236074226,null,null,0,3779.6483692306088,{"$f":"AVERAGE(D$79:D432)","v":3770.9585098870057},{"$f":"AVERAGE(M$79:M432)","v":3774.7605196479012},3769.569968970125,{"$f":"AVERAGE(P$79:P432)","v":3748.1466288594079},null,null,null,null,40098.110497684524,{"$f":"LOOKUP($V432,Data!$A$6:$A$1806,Data!$B$6:$B$1806)","v":59.984001159667969},{"$f":"LOOKUP($V432,Data!$A$6:$A$1806,Data!$C$6:$C$1806)","v":3738.9013671875},{"$f":"LOOKUP($V432,Data!$A$6:$A$1806,Data!$D$6:$D$1806)","v":335},{"$f":"IF($Z$1=\"+\",LOOKUP($V432,Data!$A$6:$A$1806,Data!$E$6:$E$1806)*-1,LOOKUP($V432,Data!$A$6:$A$1806,Data!$E$6:$E$1806))","v":-219.97555541992187},{"$f":"LOOKUP($V432,Data!$A$6:$A$1806,Data!$F$6:$F$1806)","v":16},{"$f":"LOOKUP($V432,Data!$A$6:$A$1806,Data!$G$6:$G$1806)","v":271},{"$f":"LOOKUP($V432,Data!$A$6:$A$1806,Data!$H$6:$H$1806)","v":10},{"$f":"LOOKUP($V432,Data!$A$6:$A$1806,Data!$I$6:$I$1806)","v":0},{"$f":"LOOKUP($V432,Data!$A$6:$A$1806,Data!$J$6:$J$1806)","v":-103},{"$f":"LOOKUP($V432,Data!$A$6:$A$1806,Data!$K$6:$K$1806)","v":7665},12.799072265625]
[null,40098.11052083267,{"$f":"LOOKUP(B433,Data!$A$6:$A$1806,Data!B$6:B$1806)","v":59.984001159667969},{"$f":"LOOKUP(B433,Data!$A$6:$A$1806,Data!C$6:C$1806)","v":3738.9013671875},null,null,null,12.799072265625,14.048843496416996,null,null,0,3778.9754154909515,{"$f":"AVERAGE(D$79:D433)","v":3770.8682080765843},{"$f":"AVERAGE(M$79:M433)","v":3774.7723925939381},3769.569968970125,{"$f":"AVERAGE(P$79:P433)","v":3748.2071467693249},null,null,null,null,40098.11052083267,{"$f":"LOOKUP($V433,Data!$A$6:$A$1806,Data!$B$6:$B$1806)","v":59.984001159667969},{"$f":"LOOKUP($V433,Data!$A$6:$A$1806,Data!$C$6:$C$1806)","v":3738.9013671875},{"$f":"LOOKUP($V433,Data!$A$6:$A$1806,Data!$D$6:$D$1806)","v":335},{"$f":"IF($Z$1=\"+\",LOOKUP($V433,Data!$A$6:$A$1806,Data!$E$6:$E$1806)*-1,LOOKUP($V433,Data!$A$6:$A$1806,Data!$E$6:$E$1806))","v":-219.97555541992187},{"$f":"LOOKUP($V433,Data!$A$6:$A$1806,Data!$F$6:$F$1806)","v":16},{"$f":"LOOKUP($V433,Data!$A$6:$A$1806,Data!$G$6:$G$1806)","v":271},{"$f":"LOOKUP($V433,Data!$A$6:$A$1806,Data!$H$6:$H$1806)","v":10},{"$f":"LOOKUP($V433,Data!$A$6:$A$1806,Data!$I$6:$I$1806)","v":0},{"$f":"LOOKUP($V433,Data!$A$6:$A$1806,Data!$J$6:$J$1806)","v":-103},{"$f":"LOOKUP($V433,Data!$A$6:$A$1806,Data!$K$6:$K$1806)","v":7665},12.799072265625]
[null,40098.110543980816,{"$f":"LOOKUP(B434,Data!$A$6:$A$1806,Data!B$6:B$1806)","v":59.981998443603516},{"$f":"LOOKUP(B434,Data!$A$6:$A$1806,Data!C$6:C$1806)","v":3737.273193359375},null,null,null,14.4012451171875,14.172184063686673,null,null,0,3779.0987560582212,{"$f":"AVERAGE(D$79:D434)","v":3770.7738400577159},{"$f":"AVERAGE(M$79:M434)","v":3774.7845453002983},3769.569968970125,{"$f":"AVERAGE(P$79:P434)","v":3748.2673237332706},null,null,null,null,40098.110543980816,{"$f":"LOOKUP($V434,Data!$A$6:$A$1806,Data!$B$6:$B$1806)","v":59.981998443603516},{"$f":"LOOKUP($V434,Data!$A$6:$A$1806,Data!$C$6:$C$1806)","v":3737.273193359375},{"$f":"LOOKUP($V434,Data!$A$6:$A$1806,Data!$D$6:$D$1806)","v":335},{"$f":"IF($Z$1=\"+\",LOOKUP($V434,Data!$A$6:$A$1806,Data!$E$6:$E$1806)*-1,LOOKUP($V434,Data!$A$6:$A$1806,Data!$E$6:$E$1806))","v":-229.08924865722656},{"$f":"LOOKUP($V434,Data!$A$6:$A$1806,Data!$F$6:$F$1806)","v":16},{"$f":"LOOKUP($V434,Data!$A$6:$A$1806,Data!$G$6:$G$1806)","v":271.5},{"$f":"LOOKUP($V434,Data!$A$6:$A$1806,Data!$H$6:$H$1806)","v":10},{"$f":"LOOKUP($V434,Data!$A$6:$A$1806,Data!$I$6:$I$1806)","v":0},{"$f":"LOOKUP($V434,Data!$A$6:$A$1806,Data!$J$6:$J$1806)","v":-103},{"$f":"LOOKUP($V434,Data!$A$6:$A$1806,Data!$K$6:$K$1806)","v":7666},14.4012451171875]
[null,40098.110567128962,{"$f":"LOOKUP(B435,Data!$A$6:$A$1806,Data!B$6:B$1806)","v":59.979000091552734},{"$f":"LOOKUP(B435,Data!$A$6:$A$1806,Data!C$6:C$1806)","v":3736.308349609375},null,null,null,16.7999267578125,15.091894006630714,null,null,0,3780.0184660011651,{"$f":"AVERAGE(D$79:D435)","v":3770.6772980676647},{"$f":"AVERAGE(M$79:M435)","v":3774.7992061425975},3769.569968970125,{"$f":"AVERAGE(P$79:P435)","v":3748.327162624385},null,null,null,null,40098.110567128962,{"$f":"LOOKUP($V435,Data!$A$6:$A$1806,Data!$B$6:$B$1806)","v":59.979000091552734},{"$f":"LOOKUP($V435,Data!$A$6:$A$1806,Data!$C$6:$C$1806)","v":3736.308349609375},{"$f":"LOOKUP($V435,Data!$A$6:$A$1806,Data!$D$6:$D$1806)","v":335},{"$f":"IF($Z$1=\"+\",LOOKUP($V435,Data!$A$6:$A$1806,Data!$E$6:$E$1806)*-1,LOOKUP($V435,Data!$A$6:$A$1806,Data!$E$6:$E$1806))","v":-229.08924865722656},{"$f":"LOOKUP($V435,Data!$A$6:$A$1806,Data!$F$6:$F$1806)","v":16},{"$f":"LOOKUP($V435,Data!$A$6:$A$1806,Data!$G$6:$G$1806)","v":272},{"$f":"LOOKUP($V435,Data!$A$6:$A$1806,Data!$H$6:$H$1806)","v":10},{"$f":"LOOKUP($V435,Data!$A$6:$A$1806,Data!$I$6:$I$1806)","v":0},{"$f":"LOOKUP($V435,Data!$A$6:$A$1806,Data!$J$6:$J$1806)","v":-103},{"$f":"LOOKUP($V435,Data!$A$6:$A$1806,Data!$K$6:$K$1806)","v":7666},16.7999267578125]
[null,40098.110590277109,{"$f":"LOOKUP(B436,Data!$A$6:$A$1806,Data!B$6:B$1806)","v":59.979000091552734},{"$f":"LOOKUP(B436,Data!$A$6:$A$1806,Data!C$6:C$1806)","v":3736.308349609375},null,null,null,16.7999267578125,15.689705469544339,null,null,0,3780.6162774640788,{"$f":"AVERAGE(D$79:D436)","v":3770.5812954183398},{"$f":"AVERAGE(M$79:M436)","v":3774.815454945171},3769.569968970125,{"$f":"AVERAGE(P$79:P436)","v":3748.3866662836167},null,null,null,null,40098.110590277109,{"$f":"LOOKUP($V436,Data!$A$6:$A$1806,Data!$B$6:$B$1806)","v":59.979000091552734},{"$f":"LOOKUP($V436,Data!$A$6:$A$1806,Data!$C$6:$C$1806)","v":3736.308349609375},{"$f":"LOOKUP($V436,Data!$A$6:$A$1806,Data!$D$6:$D$1806)","v":335},{"$f":"IF($Z$1=\"+\",LOOKUP($V436,Data!$A$6:$A$1806,Data!$E$6:$E$1806)*-1,LOOKUP($V436,Data!$A$6:$A$1806,Data!$E$6:$E$1806))","v":-229.08924865722656},{"$f":"LOOKUP($V436,Data!$A$6:$A$1806,Data!$F$6:$F$1806)","v":16},{"$f":"LOOKUP($V436,Data!$A$6:$A$1806,Data!$G$6:$G$1806)","v":272},{"$f":"LOOKUP($V436,Data!$A$6:$A$1806,Data!$H$6:$H$1806)","v":10},{"$f":"LOOKUP($V436,Data!$A$6:$A$1806,Data!$I$6:$I$1806)","v":0},{"$f":"LOOKUP($V436,Data!$A$6:$A$1806,Data!$J$6:$J$1806)","v":-103},{"$f":"LOOKUP($V436,Data!$A$6:$A$1806,Data!$K$6:$K$1806)","v":7666},16.7999267578125]
[null,40098.110613425255,{"$f":"LOOKUP(B437,Data!$A$6:$A$1806,Data!B$6:B$1806)","v":59.979999542236328},{"$f":"LOOKUP(B437,Data!$A$6:$A$1806,Data!C$6:C$1806)","v":3735.4482421875},null,null,null,16.0003662109375,15.798436729031947,null,null,0,3780.7250087235666,{"$f":"AVERAGE(D$79:D437)","v":3770.4834317603149},{"$f":"AVERAGE(M$79:M437)","v":3774.8319160977571},3769.569968970125,{"$f":"AVERAGE(P$79:P437)","v":3748.4458375201707},null,null,null,null,40098.110613425255,{"$f":"LOOKUP($V437,Data!$A$6:$A$1806,Data!$B$6:$B$1806)","v":59.979999542236328},{"$f":"LOOKUP($V437,Data!$A$6:$A$1806,Data!$C$6:$C$1806)","v":3735.4482421875},{"$f":"LOOKUP($V437,Data!$A$6:$A$1806,Data!$D$6:$D$1806)","v":335},{"$f":"IF($Z$1=\"+\",LOOKUP($V437,Data!$A$6:$A$1806,Data!$E$6:$E$1806)*-1,LOOKUP($V437,Data!$A$6:$A$1806,Data!$E$6:$E$1806))","v":-229.08924865722656},{"$f":"LOOKUP($V437,Data!$A$6:$A$1806,Data!$F$6:$F$1806)","v":16},{"$f":"LOOKUP($V437,Data!$A$6:$A$1806,Data!$G$6:$G$1806)","v":272.5},{"$f":"LOOKUP($V437,Data!$A$6:$A$1806,Data!$H$6:$H$1806)","v":10},{"$f":"LOOKUP($V437,Data!$A$6:$A$1806,Data!$I$6:$I$1806)","v":0},{"$f":"LOOKUP($V437,Data!$A$6:$A$1806,Data!$J$6:$J$1806)","v":-103},{"$f":"LOOKUP($V437,Data!$A$6:$A$1806,Data!$K$6:$K$1806)","v":7667},16.0003662109375]
[null,40098.110636573401,{"$f":"LOOKUP(B438,Data!$A$6:$A$1806,Data!B$6:B$1806)","v":59.978000640869141},{"$f":"LOOKUP(B438,Data!$A$6:$A$1806,Data!C$6:C$1806)","v":3735.649658203125},null,null,null,17.5994873046875,16.428804430511391,null,null,0,3781.355376425046,{"$f":"AVERAGE(D$79:D438)","v":3770.3866712782119},{"$f":"AVERAGE(M$79:M438)","v":3774.8500368208884},3769.569968970125,{"$f":"AVERAGE(P$79:P438)","v":3748.504679111953},null,null,null,null,40098.110636573401,{"$f":"LOOKUP($V438,Data!$A$6:$A$1806,Data!$B$6:$B$1806)","v":59.978000640869141},{"$f":"LOOKUP($V438,Data!$A$6:$A$1806,Data!$C$6:$C$1806)","v":3735.649658203125},{"$f":"LOOKUP($V438,Data!$A$6:$A$1806,Data!$D$6:$D$1806)","v":335},{"$f":"IF($Z$1=\"+\",LOOKUP($V438,Data!$A$6:$A$1806,Data!$E$6:$E$1806)*-1,LOOKUP($V438,Data!$A$6:$A$1806,Data!$E$6:$E$1806))","v":-229.08924865722656},{"$f":"LOOKUP($V438,Data!$A$6:$A$1806,Data!$F$6:$F$1806)","v":16},{"$f":"LOOKUP($V438,Data!$A$6:$A$1806,Data!$G$6:$G$1806)","v":273},{"$f":"LOOKUP($V438,Data!$A$6:$A$1806,Data!$H$6:$H$1806)","v":10},{"$f":"LOOKUP($V438,Data!$A$6:$A$1806,Data!$I$6:$I$1806)","v":0},{"$f":"LOOKUP($V438,Data!$A$6:$A$1806,Data!$J$6:$J$1806)","v":-103},{"$f":"LOOKUP($V438,Data!$A$6:$A$1806,Data!$K$6:$K$1806)","v":7668},17.5994873046875]
[null,40098.110659721548,{"$f":"LOOKUP(B439,Data!$A$6:$A$1806,Data!B$6:B$1806)","v":59.978000640869141},{"$f":"LOOKUP(B439,Data!$A$6:$A$1806,Data!C$6:C$1806)","v":3735.649658203125},null,null,null,17.5994873046875,16.838543436473032,null,null,0,3781.7651154310074,{"$f":"AVERAGE(D$79:D439)","v":3770.2904468652614},{"$f":"AVERAGE(M$79:M439)","v":3774.8691921632985},3769.569968970125,{"$f":"AVERAGE(P$79:P439)","v":3748.5631938060033},null,null,null,null,40098.110659721548,{"$f":"LOOKUP($V439,Data!$A$6:$A$1806,Data!$B$6:$B$1806)","v":59.978000640869141},{"$f":"LOOKUP($V439,Data!$A$6:$A$1806,Data!$C$6:$C$1806)","v":3735.649658203125},{"$f":"LOOKUP($V439,Data!$A$6:$A$1806,Data!$D$6:$D$1806)","v":335},{"$f":"IF($Z$1=\"+\",LOOKUP($V439,Data!$A$6:$A$1806,Data!$E$6:$E$1806)*-1,LOOKUP($V439,Data!$A$6:$A$1806,Data!$E$6:$E$1806))","v":-229.08924865722656},{"$f":"LOOKUP($V439,Data!$A$6:$A$1806,Data!$F$6:$F$1806)","v":16},{"$f":"LOOKUP($V439,Data!$A$6:$A$1806,Data!$G$6:$G$1806)","v":273},{"$f":"LOOKUP($V439,Data!$A$6:$A$1806,Data!$H$6:$H$1806)","v":10},{"$f":"LOOKUP($V439,Data!$A$6:$A$1806,Data!$I$6:$I$1806)","v":0},{"$f":"LOOKUP($V439,Data!$A$6:$A$1806,Data!$J$6:$J$1806)","v":-103},{"$f":"LOOKUP($V439,Data!$A$6:$A$1806,Data!$K$6:$K$1806)","v":7668},17.5994873046875]
[null,40098.110682869694,{"$f":"LOOKUP(B440,Data!$A$6:$A$1806,Data!B$6:B$1806)","v":59.979999542236328},{"$f":"LOOKUP(B440,Data!$A$6:$A$1806,Data!C$6:C$1806)","v":3738.011962890625},null,null,null,16.0003662109375,16.545181407535594,null,null,0,3781.4717534020701,{"$f":"AVERAGE(D$79:D440)","v":3770.2012797824586},{"$f":"AVERAGE(M$79:M440)","v":3774.8874312827429},3769.569968970125,{"$f":"AVERAGE(P$79:P440)","v":3748.621384318923},null,null,null,null,40098.110682869694,{"$f":"LOOKUP($V440,Data!$A$6:$A$1806,Data!$B$6:$B$1806)","v":59.979999542236328},{"$f":"LOOKUP($V440,Data!$A$6:$A$1806,Data!$C$6:$C$1806)","v":3738.011962890625},{"$f":"LOOKUP($V440,Data!$A$6:$A$1806,Data!$D$6:$D$1806)","v":335},{"$f":"IF($Z$1=\"+\",LOOKUP($V440,Data!$A$6:$A$1806,Data!$E$6:$E$1806)*-1,LOOKUP($V440,Data!$A$6:$A$1806,Data!$E$6:$E$1806))","v":-229.08924865722656},{"$f":"LOOKUP($V440,Data!$A$6:$A$1806,Data!$F$6:$F$1806)","v":16},{"$f":"LOOKUP($V440,Data!$A$6:$A$1806,Data!$G$6:$G$1806)","v":273.5},{"$f":"LOOKUP($V440,Data!$A$6:$A$1806,Data!$H$6:$H$1806)","v":10},{"$f":"LOOKUP($V440,Data!$A$6:$A$1806,Data!$I$6:$I$1806)","v":0},{"$f":"LOOKUP($V440,Data!$A$6:$A$1806,Data!$J$6:$J$1806)","v":-103},{"$f":"LOOKUP($V440,Data!$A$6:$A$1806,Data!$K$6:$K$1806)","v":7668},16.0003662109375]
[null,40098.11070601784,{"$f":"LOOKUP(B441,Data!$A$6:$A$1806,Data!B$6:B$1806)","v":59.979999542236328},{"$f":"LOOKUP(B441,Data!$A$6:$A$1806,Data!C$6:C$1806)","v":3736.74755859375},null,null,null,16.0003662109375,16.354496088726261,null,null,0,3781.2810680832608,{"$f":"AVERAGE(D$79:D441)","v":3770.1091207709196},{"$f":"AVERAGE(M$79:M441)","v":3774.9050446072629},3769.569968970125,{"$f":"AVERAGE(P$79:P441)","v":3748.6792533372964},null,null,null,null,40098.11070601784,{"$f":"LOOKUP($V441,Data!$A$6:$A$1806,Data!$B$6:$B$1806)","v":59.979999542236328},{"$f":"LOOKUP($V441,Data!$A$6:$A$1806,Data!$C$6:$C$1806)","v":3736.74755859375},{"$f":"LOOKUP($V441,Data!$A$6:$A$1806,Data!$D$6:$D$1806)","v":335},{"$f":"IF($Z$1=\"+\",LOOKUP($V441,Data!$A$6:$A$1806,Data!$E$6:$E$1806)*-1,LOOKUP($V441,Data!$A$6:$A$1806,Data!$E$6:$E$1806))","v":-229.66326904296875},{"$f":"LOOKUP($V441,Data!$A$6:$A$1806,Data!$F$6:$F$1806)","v":16},{"$f":"LOOKUP($V441,Data!$A$6:$A$1806,Data!$G$6:$G$1806)","v":274},{"$f":"LOOKUP($V441,Data!$A$6:$A$1806,Data!$H$6:$H$1806)","v":10},{"$f":"LOOKUP($V441,Data!$A$6:$A$1806,Data!$I$6:$I$1806)","v":0},{"$f":"LOOKUP($V441,Data!$A$6:$A$1806,Data!$J$6:$J$1806)","v":-103},{"$f":"LOOKUP($V441,Data!$A$6:$A$1806,Data!$K$6:$K$1806)","v":7669},16.0003662109375]
[null,40098.110729165986,{"$f":"LOOKUP(B442,Data!$A$6:$A$1806,Data!B$6:B$1806)","v":59.979999542236328},{"$f":"LOOKUP(B442,Data!$A$6:$A$1806,Data!C$6:C$1806)","v":3736.74755859375},null,null,null,16.0003662109375,16.230550631500194,null,null,0,3781.1571226260348,{"$f":"AVERAGE(D$79:D442)","v":3770.0174681275757},{"$f":"AVERAGE(M$79:M442)","v":3774.9222206457757},3769.569968970125,{"$f":"AVERAGE(P$79:P442)","v":3748.736803518103},null,null,null,null,40098.110729165986,{"$f":"LOOKUP($V442,Data!$A$6:$A$1806,Data!$B$6:$B$1806)","v":59.979999542236328},{"$f":"LOOKUP($V442,Data!$A$6:$A$1806,Data!$C$6:$C$1806)","v":3736.74755859375},{"$f":"LOOKUP($V442,Data!$A$6:$A$1806,Data!$D$6:$D$1806)","v":335},{"$f":"IF($Z$1=\"+\",LOOKUP($V442,Data!$A$6:$A$1806,Data!$E$6:$E$1806)*-1,LOOKUP($V442,Data!$A$6:$A$1806,Data!$E$6:$E$1806))","v":-229.66326904296875},{"$f":"LOOKUP($V442,Data!$A$6:$A$1806,Data!$F$6:$F$1806)","v":16},{"$f":"LOOKUP($V442,Data!$A$6:$A$1806,Data!$G$6:$G$1806)","v":274},{"$f":"LOOKUP($V442,Data!$A$6:$A$1806,Data!$H$6:$H$1806)","v":10},{"$f":"LOOKUP($V442,Data!$A$6:$A$1806,Data!$I$6:$I$1806)","v":0},{"$f":"LOOKUP($V442,Data!$A$6:$A$1806,Data!$J$6:$J$1806)","v":-103},{"$f":"LOOKUP($V442,Data!$A$6:$A$1806,Data!$K$6:$K$1806)","v":7669},16.0003662109375]
[null,40098.110752314133,{"$f":"LOOKUP(B443,Data!$A$6:$A$1806,Data!B$6:B$1806)","v":59.978000640869141},{"$f":"LOOKUP(B443,Data!$A$6:$A$1806,Data!C$6:C$1806)","v":3736.0673828125},null,null,null,17.5994873046875,16.709678467115751,null,null,0,3781.6362504616504,{"$f":"AVERAGE(D$79:D443)","v":3769.9244541952053},{"$f":"AVERAGE(M$79:M443)","v":3774.940615248011},3769.569968970125,{"$f":"AVERAGE(P$79:P443)","v":3748.7940374891245},null,null,null,null,40098.110752314133,{"$f":"LOOKUP($V443,Data!$A$6:$A$1806,Data!$B$6:$B$1806)","v":59.978000640869141},{"$f":"LOOKUP($V443,Data!$A$6:$A$1806,Data!$C$6:$C$1806)","v":3736.0673828125},{"$f":"LOOKUP($V443,Data!$A$6:$A$1806,Data!$D$6:$D$1806)","v":335},{"$f":"IF($Z$1=\"+\",LOOKUP($V443,Data!$A$6:$A$1806,Data!$E$6:$E$1806)*-1,LOOKUP($V443,Data!$A$6:$A$1806,Data!$E$6:$E$1806))","v":-229.66326904296875},{"$f":"LOOKUP($V443,Data!$A$6:$A$1806,Data!$F$6:$F$1806)","v":16},{"$f":"LOOKUP($V443,Data!$A$6:$A$1806,Data!$G$6:$G$1806)","v":274.5},{"$f":"LOOKUP($V443,Data!$A$6:$A$1806,Data!$H$6:$H$1806)","v":10},{"$f":"LOOKUP($V443,Data!$A$6:$A$1806,Data!$I$6:$I$1806)","v":0},{"$f":"LOOKUP($V443,Data!$A$6:$A$1806,Data!$J$6:$J$1806)","v":-103},{"$f":"LOOKUP($V443,Data!$A$6:$A$1806,Data!$K$6:$K$1806)","v":7669},17.5994873046875]
[null,40098.110775462279,{"$f":"LOOKUP(B444,Data!$A$6:$A$1806,Data!B$6:B$1806)","v":59.972000122070313},{"$f":"LOOKUP(B444,Data!$A$6:$A$1806,Data!C$6:C$1806)","v":3736.09423828125},null,null,null,22.39990234375,18.701256823937737,null,null,0,3783.6278288184726,{"$f":"AVERAGE(D$79:D444)","v":3769.8320219112875},{"$f":"AVERAGE(M$79:M444)","v":3774.9643508042145},3769.569968970125,{"$f":"AVERAGE(P$79:P444)","v":3748.8509578493463},null,null,null,null,40098.110775462279,{"$f":"LOOKUP($V444,Data!$A$6:$A$1806,Data!$B$6:$B$1806)","v":59.972000122070313},{"$f":"LOOKUP($V444,Data!$A$6:$A$1806,Data!$C$6:$C$1806)","v":3736.09423828125},{"$f":"LOOKUP($V444,Data!$A$6:$A$1806,Data!$D$6:$D$1806)","v":335},{"$f":"IF($Z$1=\"+\",LOOKUP($V444,Data!$A$6:$A$1806,Data!$E$6:$E$1806)*-1,LOOKUP($V444,Data!$A$6:$A$1806,Data!$E$6:$E$1806))","v":-229.66326904296875},{"$f":"LOOKUP($V444,Data!$A$6:$A$1806,Data!$F$6:$F$1806)","v":16},{"$f":"LOOKUP($V444,Data!$A$6:$A$1806,Data!$G$6:$G$1806)","v":275},{"$f":"LOOKUP($V444,Data!$A$6:$A$1806,Data!$H$6:$H$1806)","v":10},{"$f":"LOOKUP($V444,Data!$A$6:$A$1806,Data!$I$6:$I$1806)","v":0},{"$f":"LOOKUP($V444,Data!$A$6:$A$1806,Data!$J$6:$J$1806)","v":-103},{"$f":"LOOKUP($V444,Data!$A$6:$A$1806,Data!$K$6:$K$1806)","v":7670},22.39990234375]
[null,40098.110798610425,{"$f":"LOOKUP(B445,Data!$A$6:$A$1806,Data!B$6:B$1806)","v":59.972000122070313},{"$f":"LOOKUP(B445,Data!$A$6:$A$1806,Data!C$6:C$1806)","v":3736.09423828125},null,null,null,22.39990234375,19.995782755872028,null,null,0,3784.9223547504071,{"$f":"AVERAGE(D$79:D445)","v":3769.7400933455383},{"$f":"AVERAGE(M$79:M445)","v":3774.9914843299534},3769.569968970125,{"$f":"AVERAGE(P$79:P445)","v":3748.9075671693481},null,null,null,null,40098.110798610425,{"$f":"LOOKUP($V445,Data!$A$6:$A$1806,Data!$B$6:$B$1806)","v":59.972000122070313},{"$f":"LOOKUP($V445,Data!$A$6:$A$1806,Data!$C$6:$C$1806)","v":3736.09423828125},{"$f":"LOOKUP($V445,Data!$A$6:$A$1806,Data!$D$6:$D$1806)","v":335},{"$f":"IF($Z$1=\"+\",LOOKUP($V445,Data!$A$6:$A$1806,Data!$E$6:$E$1806)*-1,LOOKUP($V445,Data!$A$6:$A$1806,Data!$E$6:$E$1806))","v":-229.66326904296875},{"$f":"LOOKUP($V445,Data!$A$6:$A$1806,Data!$F$6:$F$1806)","v":16},{"$f":"LOOKUP($V445,Data!$A$6:$A$1806,Data!$G$6:$G$1806)","v":275},{"$f":"LOOKUP($V445,Data!$A$6:$A$1806,Data!$H$6:$H$1806)","v":10},{"$f":"LOOKUP($V445,Data!$A$6:$A$1806,Data!$I$6:$I$1806)","v":0},{"$f":"LOOKUP($V445,Data!$A$6:$A$1806,Data!$J$6:$J$1806)","v":-103},{"$f":"LOOKUP($V445,Data!$A$6:$A$1806,Data!$K$6:$K$1806)","v":7670},22.39990234375]
[null,40098.110821758572,{"$f":"LOOKUP(B446,Data!$A$6:$A$1806,Data!B$6:B$1806)","v":59.971000671386719},{"$f":"LOOKUP(B446,Data!$A$6:$A$1806,Data!C$6:C$1806)","v":3738.571044921875},null,null,null,23.199462890625,21.117070803035567,null,null,0,3786.0436427975706,{"$f":"AVERAGE(D$79:D446)","v":3769.655394844387},{"$f":"AVERAGE(M$79:M446)","v":3775.0215173692673},3769.569968970125,{"$f":"AVERAGE(P$79:P446)","v":3748.9638679916934},null,null,null,null,40098.110821758572,{"$f":"LOOKUP($V446,Data!$A$6:$A$1806,Data!$B$6:$B$1806)","v":59.971000671386719},{"$f":"LOOKUP($V446,Data!$A$6:$A$1806,Data!$C$6:$C$1806)","v":3738.571044921875},{"$f":"LOOKUP($V446,Data!$A$6:$A$1806,Data!$D$6:$D$1806)","v":335},{"$f":"IF($Z$1=\"+\",LOOKUP($V446,Data!$A$6:$A$1806,Data!$E$6:$E$1806)*-1,LOOKUP($V446,Data!$A$6:$A$1806,Data!$E$6:$E$1806))","v":-229.66326904296875},{"$f":"LOOKUP($V446,Data!$A$6:$A$1806,Data!$F$6:$F$1806)","v":16},{"$f":"LOOKUP($V446,Data!$A$6:$A$1806,Data!$G$6:$G$1806)","v":275.5},{"$f":"LOOKUP($V446,Data!$A$6:$A$1806,Data!$H$6:$H$1806)","v":10},{"$f":"LOOKUP($V446,Data!$A$6:$A$1806,Data!$I$6:$I$1806)","v":0},{"$f":"LOOKUP($V446,Data!$A$6:$A$1806,Data!$J$6:$J$1806)","v":-103},{"$f":"LOOKUP($V446,Data!$A$6:$A$1806,Data!$K$6:$K$1806)","v":7670},23.199462890625]
[null,40098.110844906718,{"$f":"LOOKUP(B447,Data!$A$6:$A$1806,Data!B$6:B$1806)","v":59.9739990234375},{"$f":"LOOKUP(B447,Data!$A$6:$A$1806,Data!C$6:C$1806)","v":3738.874755859375},null,null,null,20.80078125,21.006369459473117,null,null,0,3785.932941454008,{"$f":"AVERAGE(D$79:D447)","v":3769.5719784785738},{"$f":"AVERAGE(M$79:M447)","v":3775.0510876242392},3769.569968970125,{"$f":"AVERAGE(P$79:P447)","v":3749.0198628313083},null,null,null,null,40098.110844906718,{"$f":"LOOKUP($V447,Data!$A$6:$A$1806,Data!$B$6:$B$1806)","v":59.9739990234375},{"$f":"LOOKUP($V447,Data!$A$6:$A$1806,Data!$C$6:$C$1806)","v":3738.874755859375},{"$f":"LOOKUP($V447,Data!$A$6:$A$1806,Data!$D$6:$D$1806)","v":335},{"$f":"IF($Z$1=\"+\",LOOKUP($V447,Data!$A$6:$A$1806,Data!$E$6:$E$1806)*-1,LOOKUP($V447,Data!$A$6:$A$1806,Data!$E$6:$E$1806))","v":-229.66326904296875},{"$f":"LOOKUP($V447,Data!$A$6:$A$1806,Data!$F$6:$F$1806)","v":16},{"$f":"LOOKUP($V447,Data!$A$6:$A$1806,Data!$G$6:$G$1806)","v":276},{"$f":"LOOKUP($V447,Data!$A$6:$A$1806,Data!$H$6:$H$1806)","v":10},{"$f":"LOOKUP($V447,Data!$A$6:$A$1806,Data!$I$6:$I$1806)","v":0},{"$f":"LOOKUP($V447,Data!$A$6:$A$1806,Data!$J$6:$J$1806)","v":-103},{"$f":"LOOKUP($V447,Data!$A$6:$A$1806,Data!$K$6:$K$1806)","v":7671},20.80078125]
[null,40098.110868054864,{"$f":"LOOKUP(B448,Data!$A$6:$A$1806,Data!B$6:B$1806)","v":59.9739990234375},{"$f":"LOOKUP(B448,Data!$A$6:$A$1806,Data!C$6:C$1806)","v":3738.874755859375},null,null,null,20.80078125,20.934413586157525,null,null,0,3785.8609855806922,{"$f":"AVERAGE(D$79:D448)","v":3769.4890130120357},{"$f":"AVERAGE(M$79:M448)","v":3775.0803035646622},3769.569968970125,{"$f":"AVERAGE(P$79:P448)","v":3749.0755541758576},null,null,null,null,40098.110868054864,{"$f":"LOOKUP($V448,Data!$A$6:$A$1806,Data!$B$6:$B$1806)","v":59.9739990234375},{"$f":"LOOKUP($V448,Data!$A$6:$A$1806,Data!$C$6:$C$1806)","v":3738.874755859375},{"$f":"LOOKUP($V448,Data!$A$6:$A$1806,Data!$D$6:$D$1806)","v":335},{"$f":"IF($Z$1=\"+\",LOOKUP($V448,Data!$A$6:$A$1806,Data!$E$6:$E$1806)*-1,LOOKUP($V448,Data!$A$6:$A$1806,Data!$E$6:$E$1806))","v":-229.66326904296875},{"$f":"LOOKUP($V448,Data!$A$6:$A$1806,Data!$F$6:$F$1806)","v":16},{"$f":"LOOKUP($V448,Data!$A$6:$A$1806,Data!$G$6:$G$1806)","v":276},{"$f":"LOOKUP($V448,Data!$A$6:$A$1806,Data!$H$6:$H$1806)","v":10},{"$f":"LOOKUP($V448,Data!$A$6:$A$1806,Data!$I$6:$I$1806)","v":0},{"$f":"LOOKUP($V448,Data!$A$6:$A$1806,Data!$J$6:$J$1806)","v":-103},{"$f":"LOOKUP($V448,Data!$A$6:$A$1806,Data!$K$6:$K$1806)","v":7671},20.80078125]
[null,40098.11089120301,{"$f":"LOOKUP(B449,Data!$A$6:$A$1806,Data!B$6:B$1806)","v":59.974998474121094},{"$f":"LOOKUP(B449,Data!$A$6:$A$1806,Data!C$6:C$1806)","v":3738.64697265625},null,null,null,20.001220703125,20.60779607709614,null,null,0,3785.534368071631,{"$f":"AVERAGE(D$79:D449)","v":3769.4058808277882},{"$f":"AVERAGE(M$79:M449)","v":3775.1084816361094},3769.569968970125,{"$f":"AVERAGE(P$79:P449)","v":3749.1309444861122},null,null,null,null,40098.11089120301,{"$f":"LOOKUP($V449,Data!$A$6:$A$1806,Data!$B$6:$B$1806)","v":59.974998474121094},{"$f":"LOOKUP($V449,Data!$A$6:$A$1806,Data!$C$6:$C$1806)","v":3738.64697265625},{"$f":"LOOKUP($V449,Data!$A$6:$A$1806,Data!$D$6:$D$1806)","v":335},{"$f":"IF($Z$1=\"+\",LOOKUP($V449,Data!$A$6:$A$1806,Data!$E$6:$E$1806)*-1,LOOKUP($V449,Data!$A$6:$A$1806,Data!$E$6:$E$1806))","v":-229.23385620117187},{"$f":"LOOKUP($V449,Data!$A$6:$A$1806,Data!$F$6:$F$1806)","v":16},{"$f":"LOOKUP($V449,Data!$A$6:$A$1806,Data!$G$6:$G$1806)","v":276.5},{"$f":"LOOKUP($V449,Data!$A$6:$A$1806,Data!$H$6:$H$1806)","v":10},{"$f":"LOOKUP($V449,Data!$A$6:$A$1806,Data!$I$6:$I$1806)","v":0},{"$f":"LOOKUP($V449,Data!$A$6:$A$1806,Data!$J$6:$J$1806)","v":-103},{"$f":"LOOKUP($V449,Data!$A$6:$A$1806,Data!$K$6:$K$1806)","v":7671},20.001220703125]
[null,40098.110914351157,{"$f":"LOOKUP(B450,Data!$A$6:$A$1806,Data!B$6:B$1806)","v":59.972000122070313},{"$f":"LOOKUP(B450,Data!$A$6:$A$1806,Data!C$6:C$1806)","v":3737.68408203125},null,null,null,22.39990234375,21.235033270424989,null,null,0,3786.1616052649597,{"$f":"AVERAGE(D$79:D450)","v":3769.3206071751092},{"$f":"AVERAGE(M$79:M450)","v":3775.1381943340366},3769.569968970125,{"$f":"AVERAGE(P$79:P450)","v":3749.1860361963113},null,null,null,null,40098.110914351157,{"$f":"LOOKUP($V450,Data!$A$6:$A$1806,Data!$B$6:$B$1806)","v":59.972000122070313},{"$f":"LOOKUP($V450,Data!$A$6:$A$1806,Data!$C$6:$C$1806)","v":3737.68408203125},{"$f":"LOOKUP($V450,Data!$A$6:$A$1806,Data!$D$6:$D$1806)","v":335},{"$f":"IF($Z$1=\"+\",LOOKUP($V450,Data!$A$6:$A$1806,Data!$E$6:$E$1806)*-1,LOOKUP($V450,Data!$A$6:$A$1806,Data!$E$6:$E$1806))","v":-229.23385620117187},{"$f":"LOOKUP($V450,Data!$A$6:$A$1806,Data!$F$6:$F$1806)","v":16},{"$f":"LOOKUP($V450,Data!$A$6:$A$1806,Data!$G$6:$G$1806)","v":277},{"$f":"LOOKUP($V450,Data!$A$6:$A$1806,Data!$H$6:$H$1806)","v":10},{"$f":"LOOKUP($V450,Data!$A$6:$A$1806,Data!$I$6:$I$1806)","v":0},{"$f":"LOOKUP($V450,Data!$A$6:$A$1806,Data!$J$6:$J$1806)","v":-103},{"$f":"LOOKUP($V450,Data!$A$6:$A$1806,Data!$K$6:$K$1806)","v":7672},22.39990234375]
[null,40098.110937499303,{"$f":"LOOKUP(B451,Data!$A$6:$A$1806,Data!B$6:B$1806)","v":59.972000122070313},{"$f":"LOOKUP(B451,Data!$A$6:$A$1806,Data!C$6:C$1806)","v":3737.68408203125},null,null,null,22.39990234375,21.642737446088741,null,null,0,3786.5693094406233,{"$f":"AVERAGE(D$79:D451)","v":3769.2357907538121},{"$f":"AVERAGE(M$79:M451)","v":3775.1688407552342},3769.569968970125,{"$f":"AVERAGE(P$79:P451)","v":3749.2408317145205},null,null,null,null,40098.110937499303,{"$f":"LOOKUP($V451,Data!$A$6:$A$1806,Data!$B$6:$B$1806)","v":59.972000122070313},{"$f":"LOOKUP($V451,Data!$A$6:$A$1806,Data!$C$6:$C$1806)","v":3737.68408203125},{"$f":"LOOKUP($V451,Data!$A$6:$A$1806,Data!$D$6:$D$1806)","v":335},{"$f":"IF($Z$1=\"+\",LOOKUP($V451,Data!$A$6:$A$1806,Data!$E$6:$E$1806)*-1,LOOKUP($V451,Data!$A$6:$A$1806,Data!$E$6:$E$1806))","v":-229.23385620117187},{"$f":"LOOKUP($V451,Data!$A$6:$A$1806,Data!$F$6:$F$1806)","v":16},{"$f":"LOOKUP($V451,Data!$A$6:$A$1806,Data!$G$6:$G$1806)","v":277},{"$f":"LOOKUP($V451,Data!$A$6:$A$1806,Data!$H$6:$H$1806)","v":10},{"$f":"LOOKUP($V451,Data!$A$6:$A$1806,Data!$I$6:$I$1806)","v":0},{"$f":"LOOKUP($V451,Data!$A$6:$A$1806,Data!$J$6:$J$1806)","v":-103},{"$f":"LOOKUP($V451,Data!$A$6:$A$1806,Data!$K$6:$K$1806)","v":7672},22.39990234375]
[null,40098.110960647449,{"$f":"LOOKUP(B452,Data!$A$6:$A$1806,Data!B$6:B$1806)","v":59.969001770019531},{"$f":"LOOKUP(B452,Data!$A$6:$A$1806,Data!C$6:C$1806)","v":3737.89208984375},null,null,null,24.798583984375,22.747283734488931,null,null,0,3787.6738557290237,{"$f":"AVERAGE(D$79:D452)","v":3769.1519840668866},{"$f":"AVERAGE(M$79:M452)","v":3775.2022766241475},3769.569968970125,{"$f":"AVERAGE(P$79:P452)","v":3749.2953334229801},null,null,null,null,40098.110960647449,{"$f":"LOOKUP($V452,Data!$A$6:$A$1806,Data!$B$6:$B$1806)","v":59.969001770019531},{"$f":"LOOKUP($V452,Data!$A$6:$A$1806,Data!$C$6:$C$1806)","v":3737.89208984375},{"$f":"LOOKUP($V452,Data!$A$6:$A$1806,Data!$D$6:$D$1806)","v":335},{"$f":"IF($Z$1=\"+\",LOOKUP($V452,Data!$A$6:$A$1806,Data!$E$6:$E$1806)*-1,LOOKUP($V452,Data!$A$6:$A$1806,Data!$E$6:$E$1806))","v":-229.23385620117187},{"$f":"LOOKUP($V452,Data!$A$6:$A$1806,Data!$F$6:$F$1806)","v":16},{"$f":"LOOKUP($V452,Data!$A$6:$A$1806,Data!$G$6:$G$1806)","v":277.5},{"$f":"LOOKUP($V452,Data!$A$6:$A$1806,Data!$H$6:$H$1806)","v":10},{"$f":"LOOKUP($V452,Data!$A$6:$A$1806,Data!$I$6:$I$1806)","v":0},{"$f":"LOOKUP($V452,Data!$A$6:$A$1806,Data!$J$6:$J$1806)","v":-103},{"$f":"LOOKUP($V452,Data!$A$6:$A$1806,Data!$K$6:$K$1806)","v":7673},24.798583984375]
[null,40098.110983795596,{"$f":"LOOKUP(B453,Data!$A$6:$A$1806,Data!B$6:B$1806)","v":59.9739990234375},{"$f":"LOOKUP(B453,Data!$A$6:$A$1806,Data!C$6:C$1806)","v":3740.016845703125},null,null,null,20.80078125,22.066007864917804,null,null,0,3786.9925798594527,{"$f":"AVERAGE(D$79:D453)","v":3769.0742903645832},{"$f":"AVERAGE(M$79:M453)","v":3775.2337174327754},3769.569968970125,{"$f":"AVERAGE(P$79:P453)","v":3749.3495436784533},null,null,null,null,40098.110983795596,{"$f":"LOOKUP($V453,Data!$A$6:$A$1806,Data!$B$6:$B$1806)","v":59.9739990234375},{"$f":"LOOKUP($V453,Data!$A$6:$A$1806,Data!$C$6:$C$1806)","v":3740.016845703125},{"$f":"LOOKUP($V453,Data!$A$6:$A$1806,Data!$D$6:$D$1806)","v":335},{"$f":"IF($Z$1=\"+\",LOOKUP($V453,Data!$A$6:$A$1806,Data!$E$6:$E$1806)*-1,LOOKUP($V453,Data!$A$6:$A$1806,Data!$E$6:$E$1806))","v":-229.23385620117187},{"$f":"LOOKUP($V453,Data!$A$6:$A$1806,Data!$F$6:$F$1806)","v":16},{"$f":"LOOKUP($V453,Data!$A$6:$A$1806,Data!$G$6:$G$1806)","v":278},{"$f":"LOOKUP($V453,Data!$A$6:$A$1806,Data!$H$6:$H$1806)","v":10},{"$f":"LOOKUP($V453,Data!$A$6:$A$1806,Data!$I$6:$I$1806)","v":0},{"$f":"LOOKUP($V453,Data!$A$6:$A$1806,Data!$J$6:$J$1806)","v":-103},{"$f":"LOOKUP($V453,Data!$A$6:$A$1806,Data!$K$6:$K$1806)","v":7673},20.80078125]
[null,40098.111006943742,{"$f":"LOOKUP(B454,Data!$A$6:$A$1806,Data!B$6:B$1806)","v":59.9739990234375},{"$f":"LOOKUP(B454,Data!$A$6:$A$1806,Data!C$6:C$1806)","v":3740.016845703125},null,null,null,20.80078125,21.623178549696572,null,null,0,3786.5497505442313,{"$f":"AVERAGE(D$79:D454)","v":3768.9970099266538},{"$f":"AVERAGE(M$79:M454)","v":3775.2638132655184},3769.569968970125,{"$f":"AVERAGE(P$79:P454)","v":3749.4034648125644},null,null,null,null,40098.111006943742,{"$f":"LOOKUP($V454,Data!$A$6:$A$1806,Data!$B$6:$B$1806)","v":59.9739990234375},{"$f":"LOOKUP($V454,Data!$A$6:$A$1806,Data!$C$6:$C$1806)","v":3740.016845703125},{"$f":"LOOKUP($V454,Data!$A$6:$A$1806,Data!$D$6:$D$1806)","v":335},{"$f":"IF($Z$1=\"+\",LOOKUP($V454,Data!$A$6:$A$1806,Data!$E$6:$E$1806)*-1,LOOKUP($V454,Data!$A$6:$A$1806,Data!$E$6:$E$1806))","v":-229.23385620117187},{"$f":"LOOKUP($V454,Data!$A$6:$A$1806,Data!$F$6:$F$1806)","v":16},{"$f":"LOOKUP($V454,Data!$A$6:$A$1806,Data!$G$6:$G$1806)","v":278},{"$f":"LOOKUP($V454,Data!$A$6:$A$1806,Data!$H$6:$H$1806)","v":10},{"$f":"LOOKUP($V454,Data!$A$6:$A$1806,Data!$I$6:$I$1806)","v":0},{"$f":"LOOKUP($V454,Data!$A$6:$A$1806,Data!$J$6:$J$1806)","v":-103},{"$f":"LOOKUP($V454,Data!$A$6:$A$1806,Data!$K$6:$K$1806)","v":7673},20.80078125]
[null,40098.111030091888,{"$f":"LOOKUP(B455,Data!$A$6:$A$1806,Data!B$6:B$1806)","v":59.972000122070313},{"$f":"LOOKUP(B455,Data!$A$6:$A$1806,Data!C$6:C$1806)","v":3742.052734375},null,null,null,22.39990234375,21.895031877615271,null,null,0,3786.8216038721498,{"$f":"AVERAGE(D$79:D455)","v":3768.9255396997264},{"$f":"AVERAGE(M$79:M455)","v":3775.2944705350319},3769.569968970125,{"$f":"AVERAGE(P$79:P455)","v":3749.457099132132},null,null,null,null,40098.111030091888,{"$f":"LOOKUP($V455,Data!$A$6:$A$1806,Data!$B$6:$B$1806)","v":59.972000122070313},{"$f":"LOOKUP($V455,Data!$A$6:$A$1806,Data!$C$6:$C$1806)","v":3742.052734375},{"$f":"LOOKUP($V455,Data!$A$6:$A$1806,Data!$D$6:$D$1806)","v":350},{"$f":"IF($Z$1=\"+\",LOOKUP($V455,Data!$A$6:$A$1806,Data!$E$6:$E$1806)*-1,LOOKUP($V455,Data!$A$6:$A$1806,Data!$E$6:$E$1806))","v":-229.23385620117187},{"$f":"LOOKUP($V455,Data!$A$6:$A$1806,Data!$F$6:$F$1806)","v":16},{"$f":"LOOKUP($V455,Data!$A$6:$A$1806,Data!$G$6:$G$1806)","v":278.5},{"$f":"LOOKUP($V455,Data!$A$6:$A$1806,Data!$H$6:$H$1806)","v":10},{"$f":"LOOKUP($V455,Data!$A$6:$A$1806,Data!$I$6:$I$1806)","v":0},{"$f":"LOOKUP($V455,Data!$A$6:$A$1806,Data!$J$6:$J$1806)","v":-103},{"$f":"LOOKUP($V455,Data!$A$6:$A$1806,Data!$K$6:$K$1806)","v":7673},22.39990234375]
[null,40098.111053240034,{"$f":"LOOKUP(B456,Data!$A$6:$A$1806,Data!B$6:B$1806)","v":59.972000122070313},{"$f":"LOOKUP(B456,Data!$A$6:$A$1806,Data!C$6:C$1806)","v":3742.423828125},null,null,null,22.39990234375,22.071736540762426,null,null,0,3786.9983085352969,{"$f":"AVERAGE(D$79:D456)","v":3768.8554293516454},{"$f":"AVERAGE(M$79:M456)","v":3775.3254330694235},3769.569968970125,{"$f":"AVERAGE(P$79:P456)","v":3749.5104489195005},null,null,null,null,40098.111053240034,{"$f":"LOOKUP($V456,Data!$A$6:$A$1806,Data!$B$6:$B$1806)","v":59.972000122070313},{"$f":"LOOKUP($V456,Data!$A$6:$A$1806,Data!$C$6:$C$1806)","v":3742.423828125},{"$f":"LOOKUP($V456,Data!$A$6:$A$1806,Data!$D$6:$D$1806)","v":350},{"$f":"IF($Z$1=\"+\",LOOKUP($V456,Data!$A$6:$A$1806,Data!$E$6:$E$1806)*-1,LOOKUP($V456,Data!$A$6:$A$1806,Data!$E$6:$E$1806))","v":-231.40988159179687},{"$f":"LOOKUP($V456,Data!$A$6:$A$1806,Data!$F$6:$F$1806)","v":16},{"$f":"LOOKUP($V456,Data!$A$6:$A$1806,Data!$G$6:$G$1806)","v":279},{"$f":"LOOKUP($V456,Data!$A$6:$A$1806,Data!$H$6:$H$1806)","v":10},{"$f":"LOOKUP($V456,Data!$A$6:$A$1806,Data!$I$6:$I$1806)","v":0},{"$f":"LOOKUP($V456,Data!$A$6:$A$1806,Data!$J$6:$J$1806)","v":-103},{"$f":"LOOKUP($V456,Data!$A$6:$A$1806,Data!$K$6:$K$1806)","v":7673},22.39990234375]
[null,40098.111076388181,{"$f":"LOOKUP(B457,Data!$A$6:$A$1806,Data!B$6:B$1806)","v":59.972000122070313},{"$f":"LOOKUP(B457,Data!$A$6:$A$1806,Data!C$6:C$1806)","v":3742.423828125},null,null,null,22.39990234375,22.186594571808076,null,null,0,3787.1131665663424,{"$f":"AVERAGE(D$79:D457)","v":3768.7856889790155},{"$f":"AVERAGE(M$79:M457)","v":3775.3565352686237},3769.569968970125,{"$f":"AVERAGE(P$79:P457)","v":3749.5635164328619},null,null,null,null,40098.111076388181,{"$f":"LOOKUP($V457,Data!$A$6:$A$1806,Data!$B$6:$B$1806)","v":59.972000122070313},{"$f":"LOOKUP($V457,Data!$A$6:$A$1806,Data!$C$6:$C$1806)","v":3742.423828125},{"$f":"LOOKUP($V457,Data!$A$6:$A$1806,Data!$D$6:$D$1806)","v":350},{"$f":"IF($Z$1=\"+\",LOOKUP($V457,Data!$A$6:$A$1806,Data!$E$6:$E$1806)*-1,LOOKUP($V457,Data!$A$6:$A$1806,Data!$E$6:$E$1806))","v":-231.40988159179687},{"$f":"LOOKUP($V457,Data!$A$6:$A$1806,Data!$F$6:$F$1806)","v":16},{"$f":"LOOKUP($V457,Data!$A$6:$A$1806,Data!$G$6:$G$1806)","v":279},{"$f":"LOOKUP($V457,Data!$A$6:$A$1806,Data!$H$6:$H$1806)","v":10},{"$f":"LOOKUP($V457,Data!$A$6:$A$1806,Data!$I$6:$I$1806)","v":0},{"$f":"LOOKUP($V457,Data!$A$6:$A$1806,Data!$J$6:$J$1806)","v":-103},{"$f":"LOOKUP($V457,Data!$A$6:$A$1806,Data!$K$6:$K$1806)","v":7673},22.39990234375]
[null,40098.111099536327,{"$f":"LOOKUP(B458,Data!$A$6:$A$1806,Data!B$6:B$1806)","v":59.977001190185547},{"$f":"LOOKUP(B458,Data!$A$6:$A$1806,Data!C$6:C$1806)","v":3742.2451171875},null,null,null,18.3990478515625,20.860953219722127,null,null,0,3785.7875252142567,{"$f":"AVERAGE(D$79:D458)","v":3768.7158453690377},{"$f":"AVERAGE(M$79:M458)","v":3775.3839852421647},3769.569968970125,{"$f":"AVERAGE(P$79:P458)","v":3749.6163039065746},null,null,null,null,40098.111099536327,{"$f":"LOOKUP($V458,Data!$A$6:$A$1806,Data!$B$6:$B$1806)","v":59.977001190185547},{"$f":"LOOKUP($V458,Data!$A$6:$A$1806,Data!$C$6:$C$1806)","v":3742.2451171875},{"$f":"LOOKUP($V458,Data!$A$6:$A$1806,Data!$D$6:$D$1806)","v":350},{"$f":"IF($Z$1=\"+\",LOOKUP($V458,Data!$A$6:$A$1806,Data!$E$6:$E$1806)*-1,LOOKUP($V458,Data!$A$6:$A$1806,Data!$E$6:$E$1806))","v":-231.40988159179687},{"$f":"LOOKUP($V458,Data!$A$6:$A$1806,Data!$F$6:$F$1806)","v":16},{"$f":"LOOKUP($V458,Data!$A$6:$A$1806,Data!$G$6:$G$1806)","v":279.5},{"$f":"LOOKUP($V458,Data!$A$6:$A$1806,Data!$H$6:$H$1806)","v":10},{"$f":"LOOKUP($V458,Data!$A$6:$A$1806,Data!$I$6:$I$1806)","v":0},{"$f":"LOOKUP($V458,Data!$A$6:$A$1806,Data!$J$6:$J$1806)","v":-103},{"$f":"LOOKUP($V458,Data!$A$6:$A$1806,Data!$K$6:$K$1806)","v":7673},18.3990478515625]
[null,40098.111122684473,{"$f":"LOOKUP(B459,Data!$A$6:$A$1806,Data!B$6:B$1806)","v":59.978000640869141},{"$f":"LOOKUP(B459,Data!$A$6:$A$1806,Data!C$6:C$1806)","v":3741.72314453125},null,null,null,17.5994873046875,19.719440149460006,null,null,0,3784.6460121439945,{"$f":"AVERAGE(D$79:D459)","v":3768.6449983852117},{"$f":"AVERAGE(M$79:M459)","v":3775.408295024059},3769.569968970125,{"$f":"AVERAGE(P$79:P459)","v":3749.6688135514783},null,null,null,null,40098.111122684473,{"$f":"LOOKUP($V459,Data!$A$6:$A$1806,Data!$B$6:$B$1806)","v":59.978000640869141},{"$f":"LOOKUP($V459,Data!$A$6:$A$1806,Data!$C$6:$C$1806)","v":3741.72314453125},{"$f":"LOOKUP($V459,Data!$A$6:$A$1806,Data!$D$6:$D$1806)","v":350},{"$f":"IF($Z$1=\"+\",LOOKUP($V459,Data!$A$6:$A$1806,Data!$E$6:$E$1806)*-1,LOOKUP($V459,Data!$A$6:$A$1806,Data!$E$6:$E$1806))","v":-231.40988159179687},{"$f":"LOOKUP($V459,Data!$A$6:$A$1806,Data!$F$6:$F$1806)","v":16},{"$f":"LOOKUP($V459,Data!$A$6:$A$1806,Data!$G$6:$G$1806)","v":280},{"$f":"LOOKUP($V459,Data!$A$6:$A$1806,Data!$H$6:$H$1806)","v":10},{"$f":"LOOKUP($V459,Data!$A$6:$A$1806,Data!$I$6:$I$1806)","v":0},{"$f":"LOOKUP($V459,Data!$A$6:$A$1806,Data!$J$6:$J$1806)","v":-103},{"$f":"LOOKUP($V459,Data!$A$6:$A$1806,Data!$K$6:$K$1806)","v":7673},17.5994873046875]
[null,40098.11114583262,{"$f":"LOOKUP(B460,Data!$A$6:$A$1806,Data!B$6:B$1806)","v":59.978000640869141},{"$f":"LOOKUP(B460,Data!$A$6:$A$1806,Data!C$6:C$1806)","v":3741.72314453125},null,null,null,17.5994873046875,18.977456653789631,null,null,0,3783.9040286483241,{"$f":"AVERAGE(D$79:D460)","v":3768.5745223280023},{"$f":"AVERAGE(M$79:M460)","v":3775.4305351644366},3769.569968970125,{"$f":"AVERAGE(P$79:P460)","v":3749.7210475552015},null,null,null,null,40098.11114583262,{"$f":"LOOKUP($V460,Data!$A$6:$A$1806,Data!$B$6:$B$1806)","v":59.978000640869141},{"$f":"LOOKUP($V460,Data!$A$6:$A$1806,Data!$C$6:$C$1806)","v":3741.72314453125},{"$f":"LOOKUP($V460,Data!$A$6:$A$1806,Data!$D$6:$D$1806)","v":350},{"$f":"IF($Z$1=\"+\",LOOKUP($V460,Data!$A$6:$A$1806,Data!$E$6:$E$1806)*-1,LOOKUP($V460,Data!$A$6:$A$1806,Data!$E$6:$E$1806))","v":-231.40988159179687},{"$f":"LOOKUP($V460,Data!$A$6:$A$1806,Data!$F$6:$F$1806)","v":16},{"$f":"LOOKUP($V460,Data!$A$6:$A$1806,Data!$G$6:$G$1806)","v":280},{"$f":"LOOKUP($V460,Data!$A$6:$A$1806,Data!$H$6:$H$1806)","v":10},{"$f":"LOOKUP($V460,Data!$A$6:$A$1806,Data!$I$6:$I$1806)","v":0},{"$f":"LOOKUP($V460,Data!$A$6:$A$1806,Data!$J$6:$J$1806)","v":-103},{"$f":"LOOKUP($V460,Data!$A$6:$A$1806,Data!$K$6:$K$1806)","v":7673},17.5994873046875]
[null,40098.111168980766,{"$f":"LOOKUP(B461,Data!$A$6:$A$1806,Data!B$6:B$1806)","v":59.976001739501953},{"$f":"LOOKUP(B461,Data!$A$6:$A$1806,Data!C$6:C$1806)","v":3740.629150390625},null,null,null,19.1986083984375,19.054859764416385,null,null,0,3783.9814317589507,{"$f":"AVERAGE(D$79:D461)","v":3768.5015579104111},{"$f":"AVERAGE(M$79:M461)","v":3775.4528612652057},3769.569968970125,{"$f":"AVERAGE(P$79:P461)","v":3749.7730080824654},null,null,null,null,40098.111168980766,{"$f":"LOOKUP($V461,Data!$A$6:$A$1806,Data!$B$6:$B$1806)","v":59.976001739501953},{"$f":"LOOKUP($V461,Data!$A$6:$A$1806,Data!$C$6:$C$1806)","v":3740.629150390625},{"$f":"LOOKUP($V461,Data!$A$6:$A$1806,Data!$D$6:$D$1806)","v":350},{"$f":"IF($Z$1=\"+\",LOOKUP($V461,Data!$A$6:$A$1806,Data!$E$6:$E$1806)*-1,LOOKUP($V461,Data!$A$6:$A$1806,Data!$E$6:$E$1806))","v":-231.40988159179687},{"$f":"LOOKUP($V461,Data!$A$6:$A$1806,Data!$F$6:$F$1806)","v":16},{"$f":"LOOKUP($V461,Data!$A$6:$A$1806,Data!$G$6:$G$1806)","v":280.5},{"$f":"LOOKUP($V461,Data!$A$6:$A$1806,Data!$H$6:$H$1806)","v":10},{"$f":"LOOKUP($V461,Data!$A$6:$A$1806,Data!$I$6:$I$1806)","v":0},{"$f":"LOOKUP($V461,Data!$A$6:$A$1806,Data!$J$6:$J$1806)","v":-103},{"$f":"LOOKUP($V461,Data!$A$6:$A$1806,Data!$K$6:$K$1806)","v":7673},19.1986083984375]
[null,40098.111192128912,{"$f":"LOOKUP(B462,Data!$A$6:$A$1806,Data!B$6:B$1806)","v":59.9739990234375},{"$f":"LOOKUP(B462,Data!$A$6:$A$1806,Data!C$6:C$1806)","v":3739.96435546875},null,null,null,20.80078125,19.665932284370651,null,null,0,3784.5925042789049,{"$f":"AVERAGE(D$79:D462)","v":3768.4272422790527},{"$f":"AVERAGE(M$79:M462)","v":3775.4766624188874},3769.569968970125,{"$f":"AVERAGE(P$79:P462)","v":3749.8246972753832},null,null,null,null,40098.111192128912,{"$f":"LOOKUP($V462,Data!$A$6:$A$1806,Data!$B$6:$B$1806)","v":59.9739990234375},{"$f":"LOOKUP($V462,Data!$A$6:$A$1806,Data!$C$6:$C$1806)","v":3739.96435546875},{"$f":"LOOKUP($V462,Data!$A$6:$A$1806,Data!$D$6:$D$1806)","v":350},{"$f":"IF($Z$1=\"+\",LOOKUP($V462,Data!$A$6:$A$1806,Data!$E$6:$E$1806)*-1,LOOKUP($V462,Data!$A$6:$A$1806,Data!$E$6:$E$1806))","v":-231.40988159179687},{"$f":"LOOKUP($V462,Data!$A$6:$A$1806,Data!$F$6:$F$1806)","v":16},{"$f":"LOOKUP($V462,Data!$A$6:$A$1806,Data!$G$6:$G$1806)","v":281},{"$f":"LOOKUP($V462,Data!$A$6:$A$1806,Data!$H$6:$H$1806)","v":10},{"$f":"LOOKUP($V462,Data!$A$6:$A$1806,Data!$I$6:$I$1806)","v":0},{"$f":"LOOKUP($V462,Data!$A$6:$A$1806,Data!$J$6:$J$1806)","v":-103},{"$f":"LOOKUP($V462,Data!$A$6:$A$1806,Data!$K$6:$K$1806)","v":7673},20.80078125]
[null,40098.111215277058,{"$f":"LOOKUP(B463,Data!$A$6:$A$1806,Data!B$6:B$1806)","v":59.9739990234375},{"$f":"LOOKUP(B463,Data!$A$6:$A$1806,Data!C$6:C$1806)","v":3739.96435546875},null,null,null,20.80078125,20.063129422340921,null,null,0,3784.9897014168751,{"$f":"AVERAGE(D$79:D463)","v":3768.3533127029223},{"$f":"AVERAGE(M$79:M463)","v":3775.5013716110898},3769.569968970125,{"$f":"AVERAGE(P$79:P463)","v":3749.8761172537547},null,null,null,null,40098.111215277058,{"$f":"LOOKUP($V463,Data!$A$6:$A$1806,Data!$B$6:$B$1806)","v":59.9739990234375},{"$f":"LOOKUP($V463,Data!$A$6:$A$1806,Data!$C$6:$C$1806)","v":3739.96435546875},{"$f":"LOOKUP($V463,Data!$A$6:$A$1806,Data!$D$6:$D$1806)","v":350},{"$f":"IF($Z$1=\"+\",LOOKUP($V463,Data!$A$6:$A$1806,Data!$E$6:$E$1806)*-1,LOOKUP($V463,Data!$A$6:$A$1806,Data!$E$6:$E$1806))","v":-231.40988159179687},{"$f":"LOOKUP($V463,Data!$A$6:$A$1806,Data!$F$6:$F$1806)","v":16},{"$f":"LOOKUP($V463,Data!$A$6:$A$1806,Data!$G$6:$G$1806)","v":281},{"$f":"LOOKUP($V463,Data!$A$6:$A$1806,Data!$H$6:$H$1806)","v":10},{"$f":"LOOKUP($V463,Data!$A$6:$A$1806,Data!$I$6:$I$1806)","v":0},{"$f":"LOOKUP($V463,Data!$A$6:$A$1806,Data!$J$6:$J$1806)","v":-103},{"$f":"LOOKUP($V463,Data!$A$6:$A$1806,Data!$K$6:$K$1806)","v":7673},20.80078125]
[null,40098.111238425205,{"$f":"LOOKUP(B464,Data!$A$6:$A$1806,Data!B$6:B$1806)","v":59.977001190185547},{"$f":"LOOKUP(B464,Data!$A$6:$A$1806,Data!C$6:C$1806)","v":3742.83251953125},null,null,null,18.3990478515625,19.480700872568477,null,null,{"$f":"IF(B464>G$3,0,(K$21*0.000023148/K$22))","v":0},{"$f":"M463+L464+(I464-I463)","v":3784.4072728671026},{"$f":"AVERAGE(D$79:D464)","v":3768.2871966584357},{"$f":"AVERAGE(M$79:M464)","v":3775.5244438941368},3769.569968970125,{"$f":"AVERAGE(P$79:P464)","v":3749.9272701153554},null,null,null,null,40098.111238425205,{"$f":"LOOKUP($V464,Data!$A$6:$A$1806,Data!$B$6:$B$1806)","v":59.977001190185547},{"$f":"LOOKUP($V464,Data!$A$6:$A$1806,Data!$C$6:$C$1806)","v":3742.83251953125},{"$f":"LOOKUP($V464,Data!$A$6:$A$1806,Data!$D$6:$D$1806)","v":350},{"$f":"IF($Z$1=\"+\",LOOKUP($V464,Data!$A$6:$A$1806,Data!$E$6:$E$1806)*-1,LOOKUP($V464,Data!$A$6:$A$1806,Data!$E$6:$E$1806))","v":-218.62228393554687},{"$f":"LOOKUP($V464,Data!$A$6:$A$1806,Data!$F$6:$F$1806)","v":16},{"$f":"LOOKUP($V464,Data!$A$6:$A$1806,Data!$G$6:$G$1806)","v":281.5},{"$f":"LOOKUP($V464,Data!$A$6:$A$1806,Data!$H$6:$H$1806)","v":10},{"$f":"LOOKUP($V464,Data!$A$6:$A$1806,Data!$I$6:$I$1806)","v":0},{"$f":"LOOKUP($V464,Data!$A$6:$A$1806,Data!$J$6:$J$1806)","v":-103},{"$f":"LOOKUP($V464,Data!$A$6:$A$1806,Data!$K$6:$K$1806)","v":7673},18.3990478515625]
[null,40098.111261573351,{"$f":"LOOKUP(B465,Data!$A$6:$A$1806,Data!B$6:B$1806)","v":59.978000640869141},{"$f":"LOOKUP(B465,Data!$A$6:$A$1806,Data!C$6:C$1806)","v":3741.267822265625},null,null,null,17.5994873046875,18.822276123810134,null,null,0,3783.7488481183441,{"$f":"AVERAGE(D$79:D465)","v":3768.2173791535447},{"$f":"AVERAGE(M$79:M465)","v":3775.5456955846385},3769.569968970125,{"$f":"AVERAGE(P$79:P465)","v":3749.9781579362225},null,null,null,null,{"$f":"V464+TIME(0,0,$B$1)","v":40098.111261573351},{"$f":"LOOKUP($V465,Data!$A$6:$A$1806,Data!$B$6:$B$1806)","v":59.978000640869141},{"$f":"LOOKUP($V465,Data!$A$6:$A$1806,Data!$C$6:$C$1806)","v":3741.267822265625},{"$f":"LOOKUP($V465,Data!$A$6:$A$1806,Data!$D$6:$D$1806)","v":350},{"$f":"IF($Z$1=\"+\",LOOKUP($V465,Data!$A$6:$A$1806,Data!$E$6:$E$1806)*-1,LOOKUP($V465,Data!$A$6:$A$1806,Data!$E$6:$E$1806))","v":-218.62228393554687},{"$f":"LOOKUP($V465,Data!$A$6:$A$1806,Data!$F$6:$F$1806)","v":16},{"$f":"LOOKUP($V465,Data!$A$6:$A$1806,Data!$G$6:$G$1806)","v":282},{"$f":"LOOKUP($V465,Data!$A$6:$A$1806,Data!$H$6:$H$1806)","v":10},{"$f":"LOOKUP($V465,Data!$A$6:$A$1806,Data!$I$6:$I$1806)","v":0},{"$f":"LOOKUP($V465,Data!$A$6:$A$1806,Data!$J$6:$J$1806)","v":-103},{"$f":"LOOKUP($V465,Data!$A$6:$A$1806,Data!$K$6:$K$1806)","v":7673},17.5994873046875]
[null,40098.111284721497,{"$f":"LOOKUP(B466,Data!$A$6:$A$1806,Data!B$6:B$1806)","v":59.978000640869141},{"$f":"LOOKUP(B466,Data!$A$6:$A$1806,Data!C$6:C$1806)","v":3741.267822265625},null,null,null,17.5994873046875,18.394300037117212,null,null,0,3783.3208720316511,{"$f":"AVERAGE(D$79:D466)","v":3768.1479215326999},{"$f":"AVERAGE(M$79:M466)","v":3775.5657346991925},{"$f":"P465+L466","v":3769.569968970125},{"$f":"AVERAGE(P$79:P466)","v":3750.0287827709353},null,null,null,null,40098.111284721497,{"$f":"LOOKUP($V466,Data!$A$6:$A$1806,Data!$B$6:$B$1806)","v":59.978000640869141},{"$f":"LOOKUP($V466,Data!$A$6:$A$1806,Data!$C$6:$C$1806)","v":3741.267822265625},{"$f":"LOOKUP($V466,Data!$A$6:$A$1806,Data!$D$6:$D$1806)","v":350},{"$f":"IF($Z$1=\"+\",LOOKUP($V466,Data!$A$6:$A$1806,Data!$E$6:$E$1806)*-1,LOOKUP($V466,Data!$A$6:$A$1806,Data!$E$6:$E$1806))","v":-218.62228393554687},{"$f":"LOOKUP($V466,Data!$A$6:$A$1806,Data!$F$6:$F$1806)","v":16},{"$f":"LOOKUP($V466,Data!$A$6:$A$1806,Data!$G$6:$G$1806)","v":282},{"$f":"LOOKUP($V466,Data!$A$6:$A$1806,Data!$H$6:$H$1806)","v":10},{"$f":"LOOKUP($V466,Data!$A$6:$A$1806,Data!$I$6:$I$1806)","v":0},{"$f":"LOOKUP($V466,Data!$A$6:$A$1806,Data!$J$6:$J$1806)","v":-103},{"$f":"LOOKUP($V466,Data!$A$6:$A$1806,Data!$K$6:$K$1806)","v":7673},17.5994873046875]
[null,40098.111307869643,{"$f":"LOOKUP(B467,Data!$A$6:$A$1806,Data!B$6:B$1806)","v":59.979000091552734},{"$f":"LOOKUP(B467,Data!$A$6:$A$1806,Data!C$6:C$1806)","v":3738.9658203125},null,null,null,16.7999267578125,17.836269389360563,null,null,0,3782.7628413838943,{"$f":"AVERAGE(D$79:D467)","v":3768.0729032776349},{"$f":"AVERAGE(M$79:M467)","v":3775.5842362587937},3769.569968970125,{"$f":"AVERAGE(P$79:P467)","v":3750.0791466528917},null,null,null,null,40098.111307869643,{"$f":"LOOKUP($V467,Data!$A$6:$A$1806,Data!$B$6:$B$1806)","v":59.979000091552734},{"$f":"LOOKUP($V467,Data!$A$6:$A$1806,Data!$C$6:$C$1806)","v":3738.9658203125},{"$f":"LOOKUP($V467,Data!$A$6:$A$1806,Data!$D$6:$D$1806)","v":350},{"$f":"IF($Z$1=\"+\",LOOKUP($V467,Data!$A$6:$A$1806,Data!$E$6:$E$1806)*-1,LOOKUP($V467,Data!$A$6:$A$1806,Data!$E$6:$E$1806))","v":-218.62228393554687},{"$f":"LOOKUP($V467,Data!$A$6:$A$1806,Data!$F$6:$F$1806)","v":16},{"$f":"LOOKUP($V467,Data!$A$6:$A$1806,Data!$G$6:$G$1806)","v":282.5},{"$f":"LOOKUP($V467,Data!$A$6:$A$1806,Data!$H$6:$H$1806)","v":10},{"$f":"LOOKUP($V467,Data!$A$6:$A$1806,Data!$I$6:$I$1806)","v":0},{"$f":"LOOKUP($V467,Data!$A$6:$A$1806,Data!$J$6:$J$1806)","v":-103},{"$f":"LOOKUP($V467,Data!$A$6:$A$1806,Data!$K$6:$K$1806)","v":7673},16.7999267578125]
[null,40098.11133101779,{"$f":"LOOKUP(B468,Data!$A$6:$A$1806,Data!B$6:B$1806)","v":59.977001190185547},{"$f":"LOOKUP(B468,Data!$A$6:$A$1806,Data!C$6:C$1806)","v":3738.7060546875},null,null,null,18.3990478515625,18.033241851131244,null,null,0,3782.9598138456649,{"$f":"AVERAGE(D$79:D468)","v":3767.9976036658654},{"$f":"AVERAGE(M$79:M468)","v":3775.6031479961957},3769.569968970125,{"$f":"AVERAGE(P$79:P468)","v":3750.1292515945811},null,null,null,null,40098.11133101779,{"$f":"LOOKUP($V468,Data!$A$6:$A$1806,Data!$B$6:$B$1806)","v":59.977001190185547},{"$f":"LOOKUP($V468,Data!$A$6:$A$1806,Data!$C$6:$C$1806)","v":3738.7060546875},{"$f":"LOOKUP($V468,Data!$A$6:$A$1806,Data!$D$6:$D$1806)","v":350},{"$f":"IF($Z$1=\"+\",LOOKUP($V468,Data!$A$6:$A$1806,Data!$E$6:$E$1806)*-1,LOOKUP($V468,Data!$A$6:$A$1806,Data!$E$6:$E$1806))","v":-218.62228393554687},{"$f":"LOOKUP($V468,Data!$A$6:$A$1806,Data!$F$6:$F$1806)","v":16},{"$f":"LOOKUP($V468,Data!$A$6:$A$1806,Data!$G$6:$G$1806)","v":283},{"$f":"LOOKUP($V468,Data!$A$6:$A$1806,Data!$H$6:$H$1806)","v":10},{"$f":"LOOKUP($V468,Data!$A$6:$A$1806,Data!$I$6:$I$1806)","v":0},{"$f":"LOOKUP($V468,Data!$A$6:$A$1806,Data!$J$6:$J$1806)","v":-103},{"$f":"LOOKUP($V468,Data!$A$6:$A$1806,Data!$K$6:$K$1806)","v":7673},18.3990478515625]
[null,40098.111354165936,{"$f":"LOOKUP(B469,Data!$A$6:$A$1806,Data!B$6:B$1806)","v":59.977001190185547},{"$f":"LOOKUP(B469,Data!$A$6:$A$1806,Data!C$6:C$1806)","v":3738.7060546875},null,null,null,18.3990478515625,18.161273951282183,null,null,0,3783.0878459458158,{"$f":"AVERAGE(D$79:D469)","v":3767.9226892183506},{"$f":"AVERAGE(M$79:M469)","v":3775.6222904461943},3769.569968970125,{"$f":"AVERAGE(P$79:P469)","v":3750.1790995878514},null,null,null,null,40098.111354165936,{"$f":"LOOKUP($V469,Data!$A$6:$A$1806,Data!$B$6:$B$1806)","v":59.977001190185547},{"$f":"LOOKUP($V469,Data!$A$6:$A$1806,Data!$C$6:$C$1806)","v":3738.7060546875},{"$f":"LOOKUP($V469,Data!$A$6:$A$1806,Data!$D$6:$D$1806)","v":350},{"$f":"IF($Z$1=\"+\",LOOKUP($V469,Data!$A$6:$A$1806,Data!$E$6:$E$1806)*-1,LOOKUP($V469,Data!$A$6:$A$1806,Data!$E$6:$E$1806))","v":-218.62228393554687},{"$f":"LOOKUP($V469,Data!$A$6:$A$1806,Data!$F$6:$F$1806)","v":16},{"$f":"LOOKUP($V469,Data!$A$6:$A$1806,Data!$G$6:$G$1806)","v":283},{"$f":"LOOKUP($V469,Data!$A$6:$A$1806,Data!$H$6:$H$1806)","v":10},{"$f":"LOOKUP($V469,Data!$A$6:$A$1806,Data!$I$6:$I$1806)","v":0},{"$f":"LOOKUP($V469,Data!$A$6:$A$1806,Data!$J$6:$J$1806)","v":-103},{"$f":"LOOKUP($V469,Data!$A$6:$A$1806,Data!$K$6:$K$1806)","v":7673},18.3990478515625]
[null,40098.111377314082,{"$f":"LOOKUP(B470,Data!$A$6:$A$1806,Data!B$6:B$1806)","v":59.9739990234375},{"$f":"LOOKUP(B470,Data!$A$6:$A$1806,Data!C$6:C$1806)","v":3739.859619140625},null,null,null,20.80078125,19.085101505833418,null,null,0,3784.0116735003671,{"$f":"AVERAGE(D$79:D470)","v":3767.8510997538665},{"$f":"AVERAGE(M$79:M470)","v":3775.6436919335774},3769.569968970125,{"$f":"AVERAGE(P$79:P470)","v":3750.2286926041743},null,null,null,null,40098.111377314082,{"$f":"LOOKUP($V470,Data!$A$6:$A$1806,Data!$B$6:$B$1806)","v":59.9739990234375},{"$f":"LOOKUP($V470,Data!$A$6:$A$1806,Data!$C$6:$C$1806)","v":3739.859619140625},{"$f":"LOOKUP($V470,Data!$A$6:$A$1806,Data!$D$6:$D$1806)","v":350},{"$f":"IF($Z$1=\"+\",LOOKUP($V470,Data!$A$6:$A$1806,Data!$E$6:$E$1806)*-1,LOOKUP($V470,Data!$A$6:$A$1806,Data!$E$6:$E$1806))","v":-218.62228393554687},{"$f":"LOOKUP($V470,Data!$A$6:$A$1806,Data!$F$6:$F$1806)","v":16},{"$f":"LOOKUP($V470,Data!$A$6:$A$1806,Data!$G$6:$G$1806)","v":283.5},{"$f":"LOOKUP($V470,Data!$A$6:$A$1806,Data!$H$6:$H$1806)","v":10},{"$f":"LOOKUP($V470,Data!$A$6:$A$1806,Data!$I$6:$I$1806)","v":0},{"$f":"LOOKUP($V470,Data!$A$6:$A$1806,Data!$J$6:$J$1806)","v":-103},{"$f":"LOOKUP($V470,Data!$A$6:$A$1806,Data!$K$6:$K$1806)","v":7673},20.80078125]
[null,40098.111400462229,{"$f":"LOOKUP(B471,Data!$A$6:$A$1806,Data!B$6:B$1806)","v":59.971000671386719},{"$f":"LOOKUP(B471,Data!$A$6:$A$1806,Data!C$6:C$1806)","v":3738.1015625},null,null,null,23.199462890625,20.52512799051047,null,null,0,3785.4516999850443,{"$f":"AVERAGE(D$79:D471)","v":3767.7754011857905},{"$f":"AVERAGE(M$79:M471)","v":3775.6686486970666},3769.569968970125,{"$f":"AVERAGE(P$79:P471)","v":3750.2780325949034},null,null,null,null,40098.111400462229,{"$f":"LOOKUP($V471,Data!$A$6:$A$1806,Data!$B$6:$B$1806)","v":59.971000671386719},{"$f":"LOOKUP($V471,Data!$A$6:$A$1806,Data!$C$6:$C$1806)","v":3738.1015625},{"$f":"LOOKUP($V471,Data!$A$6:$A$1806,Data!$D$6:$D$1806)","v":350},{"$f":"IF($Z$1=\"+\",LOOKUP($V471,Data!$A$6:$A$1806,Data!$E$6:$E$1806)*-1,LOOKUP($V471,Data!$A$6:$A$1806,Data!$E$6:$E$1806))","v":-213.53585815429687},{"$f":"LOOKUP($V471,Data!$A$6:$A$1806,Data!$F$6:$F$1806)","v":16},{"$f":"LOOKUP($V471,Data!$A$6:$A$1806,Data!$G$6:$G$1806)","v":284},{"$f":"LOOKUP($V471,Data!$A$6:$A$1806,Data!$H$6:$H$1806)","v":10},{"$f":"LOOKUP($V471,Data!$A$6:$A$1806,Data!$I$6:$I$1806)","v":0},{"$f":"LOOKUP($V471,Data!$A$6:$A$1806,Data!$J$6:$J$1806)","v":-103},{"$f":"LOOKUP($V471,Data!$A$6:$A$1806,Data!$K$6:$K$1806)","v":7673},23.199462890625]
[null,40098.111423610375,{"$f":"LOOKUP(B472,Data!$A$6:$A$1806,Data!B$6:B$1806)","v":59.971000671386719},{"$f":"LOOKUP(B472,Data!$A$6:$A$1806,Data!C$6:C$1806)","v":3738.1015625},null,null,null,23.199462890625,21.461145205550558,null,null,0,3786.3877172000844,{"$f":"AVERAGE(D$79:D472)","v":3767.7000868744053},{"$f":"AVERAGE(M$79:M472)","v":3775.6958544546883},3769.569968970125,{"$f":"AVERAGE(P$79:P472)","v":3750.3271214915321},null,null,null,null,40098.111423610375,{"$f":"LOOKUP($V472,Data!$A$6:$A$1806,Data!$B$6:$B$1806)","v":59.971000671386719},{"$f":"LOOKUP($V472,Data!$A$6:$A$1806,Data!$C$6:$C$1806)","v":3738.1015625},{"$f":"LOOKUP($V472,Data!$A$6:$A$1806,Data!$D$6:$D$1806)","v":350},{"$f":"IF($Z$1=\"+\",LOOKUP($V472,Data!$A$6:$A$1806,Data!$E$6:$E$1806)*-1,LOOKUP($V472,Data!$A$6:$A$1806,Data!$E$6:$E$1806))","v":-213.53585815429687},{"$f":"LOOKUP($V472,Data!$A$6:$A$1806,Data!$F$6:$F$1806)","v":16},{"$f":"LOOKUP($V472,Data!$A$6:$A$1806,Data!$G$6:$G$1806)","v":284},{"$f":"LOOKUP($V472,Data!$A$6:$A$1806,Data!$H$6:$H$1806)","v":10},{"$f":"LOOKUP($V472,Data!$A$6:$A$1806,Data!$I$6:$I$1806)","v":0},{"$f":"LOOKUP($V472,Data!$A$6:$A$1806,Data!$J$6:$J$1806)","v":-103},{"$f":"LOOKUP($V472,Data!$A$6:$A$1806,Data!$K$6:$K$1806)","v":7673},23.199462890625]
[null,40098.111446758521,{"$f":"LOOKUP(B473,Data!$A$6:$A$1806,Data!B$6:B$1806)","v":59.971000671386719},{"$f":"LOOKUP(B473,Data!$A$6:$A$1806,Data!C$6:C$1806)","v":3743.5068359375},null,null,null,23.199462890625,22.069556395326615,null,null,0,3786.9961283898606,{"$f":"AVERAGE(D$79:D473)","v":3767.6388381378561},{"$f":"AVERAGE(M$79:M473)","v":3775.7244627431319},3769.569968970125,{"$f":"AVERAGE(P$79:P473)","v":3750.3759612059443},null,null,null,null,40098.111446758521,{"$f":"LOOKUP($V473,Data!$A$6:$A$1806,Data!$B$6:$B$1806)","v":59.971000671386719},{"$f":"LOOKUP($V473,Data!$A$6:$A$1806,Data!$C$6:$C$1806)","v":3743.5068359375},{"$f":"LOOKUP($V473,Data!$A$6:$A$1806,Data!$D$6:$D$1806)","v":350},{"$f":"IF($Z$1=\"+\",LOOKUP($V473,Data!$A$6:$A$1806,Data!$E$6:$E$1806)*-1,LOOKUP($V473,Data!$A$6:$A$1806,Data!$E$6:$E$1806))","v":-213.53585815429687},{"$f":"LOOKUP($V473,Data!$A$6:$A$1806,Data!$F$6:$F$1806)","v":16},{"$f":"LOOKUP($V473,Data!$A$6:$A$1806,Data!$G$6:$G$1806)","v":284.5},{"$f":"LOOKUP($V473,Data!$A$6:$A$1806,Data!$H$6:$H$1806)","v":10},{"$f":"LOOKUP($V473,Data!$A$6:$A$1806,Data!$I$6:$I$1806)","v":0},{"$f":"LOOKUP($V473,Data!$A$6:$A$1806,Data!$J$6:$J$1806)","v":-103},{"$f":"LOOKUP($V473,Data!$A$6:$A$1806,Data!$K$6:$K$1806)","v":7673},23.199462890625]
[null,40098.111469906667,{"$f":"LOOKUP(B474,Data!$A$6:$A$1806,Data!B$6:B$1806)","v":59.967998504638672},{"$f":"LOOKUP(B474,Data!$A$6:$A$1806,Data!C$6:C$1806)","v":3743.418701171875},null,null,null,25.6011962890625,23.305630358134174,null,null,0,3788.2322023526681,{"$f":"AVERAGE(D$79:D474)","v":3767.5776761758207},{"$f":"AVERAGE(M$79:M474)","v":3775.7560479441663},3769.569968970125,{"$f":"AVERAGE(P$79:P474)","v":3750.4245536306639},null,null,null,null,40098.111469906667,{"$f":"LOOKUP($V474,Data!$A$6:$A$1806,Data!$B$6:$B$1806)","v":59.967998504638672},{"$f":"LOOKUP($V474,Data!$A$6:$A$1806,Data!$C$6:$C$1806)","v":3743.418701171875},{"$f":"LOOKUP($V474,Data!$A$6:$A$1806,Data!$D$6:$D$1806)","v":350},{"$f":"IF($Z$1=\"+\",LOOKUP($V474,Data!$A$6:$A$1806,Data!$E$6:$E$1806)*-1,LOOKUP($V474,Data!$A$6:$A$1806,Data!$E$6:$E$1806))","v":-213.53585815429687},{"$f":"LOOKUP($V474,Data!$A$6:$A$1806,Data!$F$6:$F$1806)","v":16},{"$f":"LOOKUP($V474,Data!$A$6:$A$1806,Data!$G$6:$G$1806)","v":285},{"$f":"LOOKUP($V474,Data!$A$6:$A$1806,Data!$H$6:$H$1806)","v":10},{"$f":"LOOKUP($V474,Data!$A$6:$A$1806,Data!$I$6:$I$1806)","v":0},{"$f":"LOOKUP($V474,Data!$A$6:$A$1806,Data!$J$6:$J$1806)","v":-103},{"$f":"LOOKUP($V474,Data!$A$6:$A$1806,Data!$K$6:$K$1806)","v":7673},25.6011962890625]
[null,40098.111493054814,{"$f":"LOOKUP(B475,Data!$A$6:$A$1806,Data!B$6:B$1806)","v":59.967998504638672},{"$f":"LOOKUP(B475,Data!$A$6:$A$1806,Data!C$6:C$1806)","v":3743.418701171875},null,null,null,25.6011962890625,24.109078433959088,null,null,0,3789.0356504284928,{"$f":"AVERAGE(D$79:D475)","v":3767.5168223345008},{"$f":"AVERAGE(M$79:M475)","v":3775.789497824479},3769.569968970125,{"$f":"AVERAGE(P$79:P475)","v":3750.4729006390967},null,null,null,null,40098.111493054814,{"$f":"LOOKUP($V475,Data!$A$6:$A$1806,Data!$B$6:$B$1806)","v":59.967998504638672},{"$f":"LOOKUP($V475,Data!$A$6:$A$1806,Data!$C$6:$C$1806)","v":3743.418701171875},{"$f":"LOOKUP($V475,Data!$A$6:$A$1806,Data!$D$6:$D$1806)","v":350},{"$f":"IF($Z$1=\"+\",LOOKUP($V475,Data!$A$6:$A$1806,Data!$E$6:$E$1806)*-1,LOOKUP($V475,Data!$A$6:$A$1806,Data!$E$6:$E$1806))","v":-213.53585815429687},{"$f":"LOOKUP($V475,Data!$A$6:$A$1806,Data!$F$6:$F$1806)","v":16},{"$f":"LOOKUP($V475,Data!$A$6:$A$1806,Data!$G$6:$G$1806)","v":285},{"$f":"LOOKUP($V475,Data!$A$6:$A$1806,Data!$H$6:$H$1806)","v":10},{"$f":"LOOKUP($V475,Data!$A$6:$A$1806,Data!$I$6:$I$1806)","v":0},{"$f":"LOOKUP($V475,Data!$A$6:$A$1806,Data!$J$6:$J$1806)","v":-103},{"$f":"LOOKUP($V475,Data!$A$6:$A$1806,Data!$K$6:$K$1806)","v":7673},25.6011962890625]
[null,40098.11151620296,{"$f":"LOOKUP(B476,Data!$A$6:$A$1806,Data!B$6:B$1806)","v":59.965999603271484},{"$f":"LOOKUP(B476,Data!$A$6:$A$1806,Data!C$6:C$1806)","v":3745.744140625},null,null,null,27.2003173828125,25.19101206605778,null,null,0,3790.1175840605915,{"$f":"AVERAGE(D$79:D476)","v":3767.4621171040749},{"$f":"AVERAGE(M$79:M476)","v":3775.825498041153},3769.569968970125,{"$f":"AVERAGE(P$79:P476)","v":3750.5210040857737},null,null,null,null,40098.11151620296,{"$f":"LOOKUP($V476,Data!$A$6:$A$1806,Data!$B$6:$B$1806)","v":59.965999603271484},{"$f":"LOOKUP($V476,Data!$A$6:$A$1806,Data!$C$6:$C$1806)","v":3745.744140625},{"$f":"LOOKUP($V476,Data!$A$6:$A$1806,Data!$D$6:$D$1806)","v":350},{"$f":"IF($Z$1=\"+\",LOOKUP($V476,Data!$A$6:$A$1806,Data!$E$6:$E$1806)*-1,LOOKUP($V476,Data!$A$6:$A$1806,Data!$E$6:$E$1806))","v":-213.53585815429687},{"$f":"LOOKUP($V476,Data!$A$6:$A$1806,Data!$F$6:$F$1806)","v":16},{"$f":"LOOKUP($V476,Data!$A$6:$A$1806,Data!$G$6:$G$1806)","v":285.5},{"$f":"LOOKUP($V476,Data!$A$6:$A$1806,Data!$H$6:$H$1806)","v":10},{"$f":"LOOKUP($V476,Data!$A$6:$A$1806,Data!$I$6:$I$1806)","v":0},{"$f":"LOOKUP($V476,Data!$A$6:$A$1806,Data!$J$6:$J$1806)","v":-103},{"$f":"LOOKUP($V476,Data!$A$6:$A$1806,Data!$K$6:$K$1806)","v":7674},27.2003173828125]
[null,40098.111539351106,{"$f":"LOOKUP(B477,Data!$A$6:$A$1806,Data!B$6:B$1806)","v":59.971000671386719},{"$f":"LOOKUP(B477,Data!$A$6:$A$1806,Data!C$6:C$1806)","v":3747.339599609375},null,null,null,23.199462890625,24.493969854656306,null,null,0,3789.4205418491902,{"$f":"AVERAGE(D$79:D477)","v":3767.4116847294017},{"$f":"AVERAGE(M$79:M477)","v":3775.8595708326516},3769.569968970125,{"$f":"AVERAGE(P$79:P477)","v":3750.5688658065887},null,null,null,null,40098.111539351106,{"$f":"LOOKUP($V477,Data!$A$6:$A$1806,Data!$B$6:$B$1806)","v":59.971000671386719},{"$f":"LOOKUP($V477,Data!$A$6:$A$1806,Data!$C$6:$C$1806)","v":3747.339599609375},{"$f":"LOOKUP($V477,Data!$A$6:$A$1806,Data!$D$6:$D$1806)","v":350},{"$f":"IF($Z$1=\"+\",LOOKUP($V477,Data!$A$6:$A$1806,Data!$E$6:$E$1806)*-1,LOOKUP($V477,Data!$A$6:$A$1806,Data!$E$6:$E$1806))","v":-213.53585815429687},{"$f":"LOOKUP($V477,Data!$A$6:$A$1806,Data!$F$6:$F$1806)","v":16},{"$f":"LOOKUP($V477,Data!$A$6:$A$1806,Data!$G$6:$G$1806)","v":286},{"$f":"LOOKUP($V477,Data!$A$6:$A$1806,Data!$H$6:$H$1806)","v":10},{"$f":"LOOKUP($V477,Data!$A$6:$A$1806,Data!$I$6:$I$1806)","v":0},{"$f":"LOOKUP($V477,Data!$A$6:$A$1806,Data!$J$6:$J$1806)","v":-103},{"$f":"LOOKUP($V477,Data!$A$6:$A$1806,Data!$K$6:$K$1806)","v":7675},23.199462890625]
[null,40098.111562499253,{"$f":"LOOKUP(B478,Data!$A$6:$A$1806,Data!B$6:B$1806)","v":59.971000671386719},{"$f":"LOOKUP(B478,Data!$A$6:$A$1806,Data!C$6:C$1806)","v":3747.339599609375},null,null,null,23.199462890625,24.040892417245352,null,null,0,3788.967464411779,{"$f":"AVERAGE(D$79:D478)","v":3767.3615045166016},{"$f":"AVERAGE(M$79:M478)","v":3775.8923405665996},3769.569968970125,{"$f":"AVERAGE(P$79:P478)","v":3750.6164876190282},null,null,null,null,40098.111562499253,{"$f":"LOOKUP($V478,Data!$A$6:$A$1806,Data!$B$6:$B$1806)","v":59.971000671386719},{"$f":"LOOKUP($V478,Data!$A$6:$A$1806,Data!$C$6:$C$1806)","v":3747.339599609375},{"$f":"LOOKUP($V478,Data!$A$6:$A$1806,Data!$D$6:$D$1806)","v":350},{"$f":"IF($Z$1=\"+\",LOOKUP($V478,Data!$A$6:$A$1806,Data!$E$6:$E$1806)*-1,LOOKUP($V478,Data!$A$6:$A$1806,Data!$E$6:$E$1806))","v":-213.53585815429687},{"$f":"LOOKUP($V478,Data!$A$6:$A$1806,Data!$F$6:$F$1806)","v":16},{"$f":"LOOKUP($V478,Data!$A$6:$A$1806,Data!$G$6:$G$1806)","v":286},{"$f":"LOOKUP($V478,Data!$A$6:$A$1806,Data!$H$6:$H$1806)","v":10},{"$f":"LOOKUP($V478,Data!$A$6:$A$1806,Data!$I$6:$I$1806)","v":0},{"$f":"LOOKUP($V478,Data!$A$6:$A$1806,Data!$J$6:$J$1806)","v":-103},{"$f":"LOOKUP($V478,Data!$A$6:$A$1806,Data!$K$6:$K$1806)","v":7675},23.199462890625]
[null,40098.111585647399,{"$f":"LOOKUP(B479,Data!$A$6:$A$1806,Data!B$6:B$1806)","v":59.972999572753906},{"$f":"LOOKUP(B479,Data!$A$6:$A$1806,Data!C$6:C$1806)","v":3749.75},null,null,null,21.600341796875,23.186699700115728,null,null,0,3788.1132716946495,{"$f":"AVERAGE(D$79:D479)","v":3767.3175855527197},{"$f":"AVERAGE(M$79:M479)","v":3775.922816704076},3769.569968970125,{"$f":"AVERAGE(P$79:P479)","v":3750.6638713224056},null,null,null,null,40098.111585647399,{"$f":"LOOKUP($V479,Data!$A$6:$A$1806,Data!$B$6:$B$1806)","v":59.972999572753906},{"$f":"LOOKUP($V479,Data!$A$6:$A$1806,Data!$C$6:$C$1806)","v":3749.75},{"$f":"LOOKUP($V479,Data!$A$6:$A$1806,Data!$D$6:$D$1806)","v":350},{"$f":"IF($Z$1=\"+\",LOOKUP($V479,Data!$A$6:$A$1806,Data!$E$6:$E$1806)*-1,LOOKUP($V479,Data!$A$6:$A$1806,Data!$E$6:$E$1806))","v":-225.65185546875},{"$f":"LOOKUP($V479,Data!$A$6:$A$1806,Data!$F$6:$F$1806)","v":16},{"$f":"LOOKUP($V479,Data!$A$6:$A$1806,Data!$G$6:$G$1806)","v":286.5},{"$f":"LOOKUP($V479,Data!$A$6:$A$1806,Data!$H$6:$H$1806)","v":10},{"$f":"LOOKUP($V479,Data!$A$6:$A$1806,Data!$I$6:$I$1806)","v":0},{"$f":"LOOKUP($V479,Data!$A$6:$A$1806,Data!$J$6:$J$1806)","v":-103},{"$f":"LOOKUP($V479,Data!$A$6:$A$1806,Data!$K$6:$K$1806)","v":7676},21.600341796875]
[null,40098.111608795545,{"$f":"LOOKUP(B480,Data!$A$6:$A$1806,Data!B$6:B$1806)","v":59.969001770019531},{"$f":"LOOKUP(B480,Data!$A$6:$A$1806,Data!C$6:C$1806)","v":3746.216552734375},null,null,null,24.798583984375,23.750859199606474,null,null,0,3788.6774311941404,{"$f":"AVERAGE(D$79:D480)","v":3767.2650954213309},{"$f":"AVERAGE(M$79:M480)","v":3775.9545446008174},3769.569968970125,{"$f":"AVERAGE(P$79:P480)","v":3750.7110186980858},null,null,null,null,40098.111608795545,{"$f":"LOOKUP($V480,Data!$A$6:$A$1806,Data!$B$6:$B$1806)","v":59.969001770019531},{"$f":"LOOKUP($V480,Data!$A$6:$A$1806,Data!$C$6:$C$1806)","v":3746.216552734375},{"$f":"LOOKUP($V480,Data!$A$6:$A$1806,Data!$D$6:$D$1806)","v":350},{"$f":"IF($Z$1=\"+\",LOOKUP($V480,Data!$A$6:$A$1806,Data!$E$6:$E$1806)*-1,LOOKUP($V480,Data!$A$6:$A$1806,Data!$E$6:$E$1806))","v":-225.65185546875},{"$f":"LOOKUP($V480,Data!$A$6:$A$1806,Data!$F$6:$F$1806)","v":16},{"$f":"LOOKUP($V480,Data!$A$6:$A$1806,Data!$G$6:$G$1806)","v":287},{"$f":"LOOKUP($V480,Data!$A$6:$A$1806,Data!$H$6:$H$1806)","v":10},{"$f":"LOOKUP($V480,Data!$A$6:$A$1806,Data!$I$6:$I$1806)","v":0},{"$f":"LOOKUP($V480,Data!$A$6:$A$1806,Data!$J$6:$J$1806)","v":-103},{"$f":"LOOKUP($V480,Data!$A$6:$A$1806,Data!$K$6:$K$1806)","v":7677},24.798583984375]
[null,40098.111631943691,{"$f":"LOOKUP(B481,Data!$A$6:$A$1806,Data!B$6:B$1806)","v":59.969001770019531},{"$f":"LOOKUP(B481,Data!$A$6:$A$1806,Data!C$6:C$1806)","v":3746.216552734375},null,null,null,24.798583984375,24.117562874275457,null,null,0,3789.0441348688091,{"$f":"AVERAGE(D$79:D481)","v":3767.212865786872},{"$f":"AVERAGE(M$79:M481)","v":3775.9870249736909},3769.569968970125,{"$f":"AVERAGE(P$79:P481)","v":3750.7579315097073},null,null,null,null,40098.111631943691,{"$f":"LOOKUP($V481,Data!$A$6:$A$1806,Data!$B$6:$B$1806)","v":59.969001770019531},{"$f":"LOOKUP($V481,Data!$A$6:$A$1806,Data!$C$6:$C$1806)","v":3746.216552734375},{"$f":"LOOKUP($V481,Data!$A$6:$A$1806,Data!$D$6:$D$1806)","v":350},{"$f":"IF($Z$1=\"+\",LOOKUP($V481,Data!$A$6:$A$1806,Data!$E$6:$E$1806)*-1,LOOKUP($V481,Data!$A$6:$A$1806,Data!$E$6:$E$1806))","v":-225.65185546875},{"$f":"LOOKUP($V481,Data!$A$6:$A$1806,Data!$F$6:$F$1806)","v":16},{"$f":"LOOKUP($V481,Data!$A$6:$A$1806,Data!$G$6:$G$1806)","v":287},{"$f":"LOOKUP($V481,Data!$A$6:$A$1806,Data!$H$6:$H$1806)","v":10},{"$f":"LOOKUP($V481,Data!$A$6:$A$1806,Data!$I$6:$I$1806)","v":0},{"$f":"LOOKUP($V481,Data!$A$6:$A$1806,Data!$J$6:$J$1806)","v":-103},{"$f":"LOOKUP($V481,Data!$A$6:$A$1806,Data!$K$6:$K$1806)","v":7677},24.798583984375]
[null,40098.111655091838,{"$f":"LOOKUP(B482,Data!$A$6:$A$1806,Data!B$6:B$1806)","v":59.972000122070313},{"$f":"LOOKUP(B482,Data!$A$6:$A$1806,Data!C$6:C$1806)","v":3743.7451171875},null,null,null,22.39990234375,23.516381688591547,null,null,0,3788.4429536831253,{"$f":"AVERAGE(D$79:D482)","v":3767.1547773002399},{"$f":"AVERAGE(M$79:M482)","v":3776.0178564803978},3769.569968970125,{"$f":"AVERAGE(P$79:P482)","v":3750.8046115034053},null,null,null,null,40098.111655091838,{"$f":"LOOKUP($V482,Data!$A$6:$A$1806,Data!$B$6:$B$1806)","v":59.972000122070313},{"$f":"LOOKUP($V482,Data!$A$6:$A$1806,Data!$C$6:$C$1806)","v":3743.7451171875},{"$f":"LOOKUP($V482,Data!$A$6:$A$1806,Data!$D$6:$D$1806)","v":350},{"$f":"IF($Z$1=\"+\",LOOKUP($V482,Data!$A$6:$A$1806,Data!$E$6:$E$1806)*-1,LOOKUP($V482,Data!$A$6:$A$1806,Data!$E$6:$E$1806))","v":-225.65185546875},{"$f":"LOOKUP($V482,Data!$A$6:$A$1806,Data!$F$6:$F$1806)","v":16},{"$f":"LOOKUP($V482,Data!$A$6:$A$1806,Data!$G$6:$G$1806)","v":287.5},{"$f":"LOOKUP($V482,Data!$A$6:$A$1806,Data!$H$6:$H$1806)","v":10},{"$f":"LOOKUP($V482,Data!$A$6:$A$1806,Data!$I$6:$I$1806)","v":0},{"$f":"LOOKUP($V482,Data!$A$6:$A$1806,Data!$J$6:$J$1806)","v":-103},{"$f":"LOOKUP($V482,Data!$A$6:$A$1806,Data!$K$6:$K$1806)","v":7678},22.39990234375]
[null,40098.111678239984,{"$f":"LOOKUP(B483,Data!$A$6:$A$1806,Data!B$6:B$1806)","v":59.972999572753906},{"$f":"LOOKUP(B483,Data!$A$6:$A$1806,Data!C$6:C$1806)","v":3743.14892578125},null,null,null,21.600341796875,22.845767726490756,null,null,0,3787.7723397210243,{"$f":"AVERAGE(D$79:D483)","v":3767.0955035927855},{"$f":"AVERAGE(M$79:M483)","v":3776.0468798958063},3769.569968970125,{"$f":"AVERAGE(P$79:P483)","v":3750.8510604080257},null,null,null,null,40098.111678239984,{"$f":"LOOKUP($V483,Data!$A$6:$A$1806,Data!$B$6:$B$1806)","v":59.972999572753906},{"$f":"LOOKUP($V483,Data!$A$6:$A$1806,Data!$C$6:$C$1806)","v":3743.14892578125},{"$f":"LOOKUP($V483,Data!$A$6:$A$1806,Data!$D$6:$D$1806)","v":350},{"$f":"IF($Z$1=\"+\",LOOKUP($V483,Data!$A$6:$A$1806,Data!$E$6:$E$1806)*-1,LOOKUP($V483,Data!$A$6:$A$1806,Data!$E$6:$E$1806))","v":-225.65185546875},{"$f":"LOOKUP($V483,Data!$A$6:$A$1806,Data!$F$6:$F$1806)","v":16},{"$f":"LOOKUP($V483,Data!$A$6:$A$1806,Data!$G$6:$G$1806)","v":288},{"$f":"LOOKUP($V483,Data!$A$6:$A$1806,Data!$H$6:$H$1806)","v":10},{"$f":"LOOKUP($V483,Data!$A$6:$A$1806,Data!$I$6:$I$1806)","v":0},{"$f":"LOOKUP($V483,Data!$A$6:$A$1806,Data!$J$6:$J$1806)","v":-103},{"$f":"LOOKUP($V483,Data!$A$6:$A$1806,Data!$K$6:$K$1806)","v":7679},21.600341796875]
[null,40098.11170138813,{"$f":"LOOKUP(B484,Data!$A$6:$A$1806,Data!B$6:B$1806)","v":59.972999572753906},{"$f":"LOOKUP(B484,Data!$A$6:$A$1806,Data!C$6:C$1806)","v":3743.14892578125},null,null,null,21.600341796875,22.40986865112524,null,null,0,3787.336440645659,{"$f":"AVERAGE(D$79:D484)","v":3767.036521874038},{"$f":"AVERAGE(M$79:M484)","v":3776.0746866956829},3769.569968970125,{"$f":"AVERAGE(P$79:P484)","v":3750.8972799353392},null,null,null,null,40098.11170138813,{"$f":"LOOKUP($V484,Data!$A$6:$A$1806,Data!$B$6:$B$1806)","v":59.972999572753906},{"$f":"LOOKUP($V484,Data!$A$6:$A$1806,Data!$C$6:$C$1806)","v":3743.14892578125},{"$f":"LOOKUP($V484,Data!$A$6:$A$1806,Data!$D$6:$D$1806)","v":350},{"$f":"IF($Z$1=\"+\",LOOKUP($V484,Data!$A$6:$A$1806,Data!$E$6:$E$1806)*-1,LOOKUP($V484,Data!$A$6:$A$1806,Data!$E$6:$E$1806))","v":-225.65185546875},{"$f":"LOOKUP($V484,Data!$A$6:$A$1806,Data!$F$6:$F$1806)","v":16},{"$f":"LOOKUP($V484,Data!$A$6:$A$1806,Data!$G$6:$G$1806)","v":288},{"$f":"LOOKUP($V484,Data!$A$6:$A$1806,Data!$H$6:$H$1806)","v":10},{"$f":"LOOKUP($V484,Data!$A$6:$A$1806,Data!$I$6:$I$1806)","v":0},{"$f":"LOOKUP($V484,Data!$A$6:$A$1806,Data!$J$6:$J$1806)","v":-103},{"$f":"LOOKUP($V484,Data!$A$6:$A$1806,Data!$K$6:$K$1806)","v":7679},21.600341796875]
[null,40098.111724536277,{"$f":"LOOKUP(B485,Data!$A$6:$A$1806,Data!B$6:B$1806)","v":59.970001220703125},{"$f":"LOOKUP(B485,Data!$A$6:$A$1806,Data!C$6:C$1806)","v":3739.45263671875},null,null,null,23.9990234375,22.966072826356406,null,null,0,3787.8926448208899,{"$f":"AVERAGE(D$79:D485)","v":3766.9687482004379},{"$f":"AVERAGE(M$79:M485)","v":3776.1037234478335},3769.569968970125,{"$f":"AVERAGE(P$79:P485)","v":3750.9432717802524},null,null,null,null,40098.111724536277,{"$f":"LOOKUP($V485,Data!$A$6:$A$1806,Data!$B$6:$B$1806)","v":59.970001220703125},{"$f":"LOOKUP($V485,Data!$A$6:$A$1806,Data!$C$6:$C$1806)","v":3739.45263671875},{"$f":"LOOKUP($V485,Data!$A$6:$A$1806,Data!$D$6:$D$1806)","v":350},{"$f":"IF($Z$1=\"+\",LOOKUP($V485,Data!$A$6:$A$1806,Data!$E$6:$E$1806)*-1,LOOKUP($V485,Data!$A$6:$A$1806,Data!$E$6:$E$1806))","v":-225.65185546875},{"$f":"LOOKUP($V485,Data!$A$6:$A$1806,Data!$F$6:$F$1806)","v":16},{"$f":"LOOKUP($V485,Data!$A$6:$A$1806,Data!$G$6:$G$1806)","v":288.5},{"$f":"LOOKUP($V485,Data!$A$6:$A$1806,Data!$H$6:$H$1806)","v":10},{"$f":"LOOKUP($V485,Data!$A$6:$A$1806,Data!$I$6:$I$1806)","v":0},{"$f":"LOOKUP($V485,Data!$A$6:$A$1806,Data!$J$6:$J$1806)","v":-103},{"$f":"LOOKUP($V485,Data!$A$6:$A$1806,Data!$K$6:$K$1806)","v":7680},23.9990234375]
[null,40098.111747684423,{"$f":"LOOKUP(B486,Data!$A$6:$A$1806,Data!B$6:B$1806)","v":59.9739990234375},{"$f":"LOOKUP(B486,Data!$A$6:$A$1806,Data!C$6:C$1806)","v":3733.3759765625},null,null,null,20.80078125,22.208220774631663,null,null,0,3787.134792769165,{"$f":"AVERAGE(D$79:D486)","v":3766.8864129758349},{"$f":"AVERAGE(M$79:M486)","v":3776.1307603824444},3769.569968970125,{"$f":"AVERAGE(P$79:P486)","v":3750.9890376210133},null,null,null,null,40098.111747684423,{"$f":"LOOKUP($V486,Data!$A$6:$A$1806,Data!$B$6:$B$1806)","v":59.9739990234375},{"$f":"LOOKUP($V486,Data!$A$6:$A$1806,Data!$C$6:$C$1806)","v":3733.3759765625},{"$f":"LOOKUP($V486,Data!$A$6:$A$1806,Data!$D$6:$D$1806)","v":350},{"$f":"IF($Z$1=\"+\",LOOKUP($V486,Data!$A$6:$A$1806,Data!$E$6:$E$1806)*-1,LOOKUP($V486,Data!$A$6:$A$1806,Data!$E$6:$E$1806))","v":-212.57363891601562},{"$f":"LOOKUP($V486,Data!$A$6:$A$1806,Data!$F$6:$F$1806)","v":16},{"$f":"LOOKUP($V486,Data!$A$6:$A$1806,Data!$G$6:$G$1806)","v":289},{"$f":"LOOKUP($V486,Data!$A$6:$A$1806,Data!$H$6:$H$1806)","v":10},{"$f":"LOOKUP($V486,Data!$A$6:$A$1806,Data!$I$6:$I$1806)","v":0},{"$f":"LOOKUP($V486,Data!$A$6:$A$1806,Data!$J$6:$J$1806)","v":-103},{"$f":"LOOKUP($V486,Data!$A$6:$A$1806,Data!$K$6:$K$1806)","v":7681},20.80078125]
[null,40098.111770832569,{"$f":"LOOKUP(B487,Data!$A$6:$A$1806,Data!B$6:B$1806)","v":59.9739990234375},{"$f":"LOOKUP(B487,Data!$A$6:$A$1806,Data!C$6:C$1806)","v":3733.3759765625},null,null,null,20.80078125,21.71561694101058,null,null,0,3786.6421889355438,{"$f":"AVERAGE(D$79:D487)","v":3766.8044803684675},{"$f":"AVERAGE(M$79:M487)","v":3776.1564606967549},3769.569968970125,{"$f":"AVERAGE(P$79:P487)","v":3751.0345791194181},null,null,null,null,40098.111770832569,{"$f":"LOOKUP($V487,Data!$A$6:$A$1806,Data!$B$6:$B$1806)","v":59.9739990234375},{"$f":"LOOKUP($V487,Data!$A$6:$A$1806,Data!$C$6:$C$1806)","v":3733.3759765625},{"$f":"LOOKUP($V487,Data!$A$6:$A$1806,Data!$D$6:$D$1806)","v":350},{"$f":"IF($Z$1=\"+\",LOOKUP($V487,Data!$A$6:$A$1806,Data!$E$6:$E$1806)*-1,LOOKUP($V487,Data!$A$6:$A$1806,Data!$E$6:$E$1806))","v":-212.57363891601562},{"$f":"LOOKUP($V487,Data!$A$6:$A$1806,Data!$F$6:$F$1806)","v":16},{"$f":"LOOKUP($V487,Data!$A$6:$A$1806,Data!$G$6:$G$1806)","v":289},{"$f":"LOOKUP($V487,Data!$A$6:$A$1806,Data!$H$6:$H$1806)","v":10},{"$f":"LOOKUP($V487,Data!$A$6:$A$1806,Data!$I$6:$I$1806)","v":0},{"$f":"LOOKUP($V487,Data!$A$6:$A$1806,Data!$J$6:$J$1806)","v":-103},{"$f":"LOOKUP($V487,Data!$A$6:$A$1806,Data!$K$6:$K$1806)","v":7681},20.80078125]
[null,40098.111793980715,{"$f":"LOOKUP(B488,Data!$A$6:$A$1806,Data!B$6:B$1806)","v":59.981998443603516},{"$f":"LOOKUP(B488,Data!$A$6:$A$1806,Data!C$6:C$1806)","v":3737.58251953125},null,null,null,14.4012451171875,19.155586802672502,null,null,0,3784.0821587972059,{"$f":"AVERAGE(D$79:D488)","v":3766.7332072932545},{"$f":"AVERAGE(M$79:M488)","v":3776.1757916677316},3769.569968970125,{"$f":"AVERAGE(P$79:P488)","v":3751.0798979210085},null,null,null,null,40098.111793980715,{"$f":"LOOKUP($V488,Data!$A$6:$A$1806,Data!$B$6:$B$1806)","v":59.981998443603516},{"$f":"LOOKUP($V488,Data!$A$6:$A$1806,Data!$C$6:$C$1806)","v":3737.58251953125},{"$f":"LOOKUP($V488,Data!$A$6:$A$1806,Data!$D$6:$D$1806)","v":350},{"$f":"IF($Z$1=\"+\",LOOKUP($V488,Data!$A$6:$A$1806,Data!$E$6:$E$1806)*-1,LOOKUP($V488,Data!$A$6:$A$1806,Data!$E$6:$E$1806))","v":-212.57363891601562},{"$f":"LOOKUP($V488,Data!$A$6:$A$1806,Data!$F$6:$F$1806)","v":16},{"$f":"LOOKUP($V488,Data!$A$6:$A$1806,Data!$G$6:$G$1806)","v":289.5},{"$f":"LOOKUP($V488,Data!$A$6:$A$1806,Data!$H$6:$H$1806)","v":10},{"$f":"LOOKUP($V488,Data!$A$6:$A$1806,Data!$I$6:$I$1806)","v":0},{"$f":"LOOKUP($V488,Data!$A$6:$A$1806,Data!$J$6:$J$1806)","v":-103},{"$f":"LOOKUP($V488,Data!$A$6:$A$1806,Data!$K$6:$K$1806)","v":7682},14.4012451171875]
[null,40098.111817128862,{"$f":"LOOKUP(B489,Data!$A$6:$A$1806,Data!B$6:B$1806)","v":59.985000610351563},{"$f":"LOOKUP(B489,Data!$A$6:$A$1806,Data!C$6:C$1806)","v":3736.2294921875},null,null,null,11.99951171875,16.650960523299627,null,null,0,3781.5775325178329,{"$f":"AVERAGE(D$79:D489)","v":3766.6589890083255},{"$f":"AVERAGE(M$79:M489)","v":3776.1889345895079},3769.569968970125,{"$f":"AVERAGE(P$79:P489)","v":3751.1249956552747},null,null,null,null,40098.111817128862,{"$f":"LOOKUP($V489,Data!$A$6:$A$1806,Data!$B$6:$B$1806)","v":59.985000610351563},{"$f":"LOOKUP($V489,Data!$A$6:$A$1806,Data!$C$6:$C$1806)","v":3736.2294921875},{"$f":"LOOKUP($V489,Data!$A$6:$A$1806,Data!$D$6:$D$1806)","v":350},{"$f":"IF($Z$1=\"+\",LOOKUP($V489,Data!$A$6:$A$1806,Data!$E$6:$E$1806)*-1,LOOKUP($V489,Data!$A$6:$A$1806,Data!$E$6:$E$1806))","v":-212.57363891601562},{"$f":"LOOKUP($V489,Data!$A$6:$A$1806,Data!$F$6:$F$1806)","v":16},{"$f":"LOOKUP($V489,Data!$A$6:$A$1806,Data!$G$6:$G$1806)","v":290},{"$f":"LOOKUP($V489,Data!$A$6:$A$1806,Data!$H$6:$H$1806)","v":10},{"$f":"LOOKUP($V489,Data!$A$6:$A$1806,Data!$I$6:$I$1806)","v":0},{"$f":"LOOKUP($V489,Data!$A$6:$A$1806,Data!$J$6:$J$1806)","v":-103},{"$f":"LOOKUP($V489,Data!$A$6:$A$1806,Data!$K$6:$K$1806)","v":7684},11.99951171875]
[null,40098.111840277008,{"$f":"LOOKUP(B490,Data!$A$6:$A$1806,Data!B$6:B$1806)","v":59.985000610351563},{"$f":"LOOKUP(B490,Data!$A$6:$A$1806,Data!C$6:C$1806)","v":3736.2294921875},null,null,null,11.99951171875,15.022953441707259,null,null,0,3779.9495254362405,{"$f":"AVERAGE(D$79:D490)","v":3766.5851310063335},{"$f":"AVERAGE(M$79:M490)","v":3776.1980622371939},3769.569968970125,{"$f":"AVERAGE(P$79:P490)","v":3751.1698739358458},null,null,null,null,40098.111840277008,{"$f":"LOOKUP($V490,Data!$A$6:$A$1806,Data!$B$6:$B$1806)","v":59.985000610351563},{"$f":"LOOKUP($V490,Data!$A$6:$A$1806,Data!$C$6:$C$1806)","v":3736.2294921875},{"$f":"LOOKUP($V490,Data!$A$6:$A$1806,Data!$D$6:$D$1806)","v":350},{"$f":"IF($Z$1=\"+\",LOOKUP($V490,Data!$A$6:$A$1806,Data!$E$6:$E$1806)*-1,LOOKUP($V490,Data!$A$6:$A$1806,Data!$E$6:$E$1806))","v":-212.57363891601562},{"$f":"LOOKUP($V490,Data!$A$6:$A$1806,Data!$F$6:$F$1806)","v":16},{"$f":"LOOKUP($V490,Data!$A$6:$A$1806,Data!$G$6:$G$1806)","v":290},{"$f":"LOOKUP($V490,Data!$A$6:$A$1806,Data!$H$6:$H$1806)","v":10},{"$f":"LOOKUP($V490,Data!$A$6:$A$1806,Data!$I$6:$I$1806)","v":0},{"$f":"LOOKUP($V490,Data!$A$6:$A$1806,Data!$J$6:$J$1806)","v":-103},{"$f":"LOOKUP($V490,Data!$A$6:$A$1806,Data!$K$6:$K$1806)","v":7684},11.99951171875]
[null,40098.111863425154,{"$f":"LOOKUP(B491,Data!$A$6:$A$1806,Data!B$6:B$1806)","v":59.985000610351563},{"$f":"LOOKUP(B491,Data!$A$6:$A$1806,Data!C$6:C$1806)","v":3733.433837890625},null,null,null,11.99951171875,{"$f":"L$13*H491+(1-L$13)*I490","v":13.964748838672218},null,null,0,3778.8913208332056,{"$f":"AVERAGE(D$79:D491)","v":3766.5048615314772},{"$f":"AVERAGE(M$79:M491)","v":3776.2045834444484},3769.569968970125,{"$f":"AVERAGE(P$79:P491)","v":3751.2145343606858},null,null,null,null,40098.111863425154,{"$f":"LOOKUP($V491,Data!$A$6:$A$1806,Data!$B$6:$B$1806)","v":59.985000610351563},{"$f":"LOOKUP($V491,Data!$A$6:$A$1806,Data!$C$6:$C$1806)","v":3733.433837890625},{"$f":"LOOKUP($V491,Data!$A$6:$A$1806,Data!$D$6:$D$1806)","v":350},{"$f":"IF($Z$1=\"+\",LOOKUP($V491,Data!$A$6:$A$1806,Data!$E$6:$E$1806)*-1,LOOKUP($V491,Data!$A$6:$A$1806,Data!$E$6:$E$1806))","v":-212.57363891601562},{"$f":"LOOKUP($V491,Data!$A$6:$A$1806,Data!$F$6:$F$1806)","v":16},{"$f":"LOOKUP($V491,Data!$A$6:$A$1806,Data!$G$6:$G$1806)","v":290.5},{"$f":"LOOKUP($V491,Data!$A$6:$A$1806,Data!$H$6:$H$1806)","v":10},{"$f":"LOOKUP($V491,Data!$A$6:$A$1806,Data!$I$6:$I$1806)","v":0},{"$f":"LOOKUP($V491,Data!$A$6:$A$1806,Data!$J$6:$J$1806)","v":-103},{"$f":"LOOKUP($V491,Data!$A$6:$A$1806,Data!$K$6:$K$1806)","v":7685},11.99951171875]
[null,40098.111886573301,{"$f":"LOOKUP(B492,Data!$A$6:$A$1806,Data!B$6:B$1806)","v":59.988998413085937},{"$f":"LOOKUP(B492,Data!$A$6:$A$1806,Data!C$6:C$1806)","v":3733.115234375},null,null,null,{"$f":"(IF((C492-L$2)>0,((C492-L$2-L$5)/((L$4*L$2)-L$5)*L$3*-1),((C492-L$2+L$5)/((L$4*L$2)-L$5)*L$3*-1)))","v":8.80126953125},12.157531081074442,null,null,0,3777.0841030756078,{"$f":"AVERAGE(D$79:D492)","v":3766.424210258152},{"$f":"AVERAGE(M$79:M492)","v":3776.2067078880018},3769.569968970125,{"$f":"AVERAGE(P$79:P492)","v":3751.2589785122823},null,null,null,null,40098.111886573301,{"$f":"LOOKUP($V492,Data!$A$6:$A$1806,Data!$B$6:$B$1806)","v":59.988998413085937},{"$f":"LOOKUP($V492,Data!$A$6:$A$1806,Data!$C$6:$C$1806)","v":3733.115234375},{"$f":"LOOKUP($V492,Data!$A$6:$A$1806,Data!$D$6:$D$1806)","v":350},{"$f":"IF($Z$1=\"+\",LOOKUP($V492,Data!$A$6:$A$1806,Data!$E$6:$E$1806)*-1,LOOKUP($V492,Data!$A$6:$A$1806,Data!$E$6:$E$1806))","v":-212.57363891601562},{"$f":"LOOKUP($V492,Data!$A$6:$A$1806,Data!$F$6:$F$1806)","v":16},{"$f":"LOOKUP($V492,Data!$A$6:$A$1806,Data!$G$6:$G$1806)","v":291},{"$f":"LOOKUP($V492,Data!$A$6:$A$1806,Data!$H$6:$H$1806)","v":10},{"$f":"LOOKUP($V492,Data!$A$6:$A$1806,Data!$I$6:$I$1806)","v":0},{"$f":"LOOKUP($V492,Data!$A$6:$A$1806,Data!$J$6:$J$1806)","v":-103},{"$f":"LOOKUP($V492,Data!$A$6:$A$1806,Data!$K$6:$K$1806)","v":7687},{"$f":"(IF((W492-$L$2)>0,((W492-$L$2-$L$5)/(($L$4*$L$2)-$L$5)*$L$3*-1),((W492-$L$2+$L$5)/(($L$4*$L$2)-$L$5)*$L$3*-1)))","v":8.80126953125}]
[null,40098.111909721447,{"$f":"LOOKUP(B493,Data!$A$6:$A$1806,Data!B$6:B$1806)","v":59.988998413085937},{"$f":"LOOKUP(B493,Data!$A$6:$A$1806,Data!C$6:C$1806)","v":3733.115234375},null,null,null,8.80126953125,10.982839538635886,null,null,0,3775.9094115331691,{"$f":"AVERAGE(D$79:D493)","v":3766.3439476656627},{"$f":"AVERAGE(M$79:M493)","v":3776.2059915112432},3769.569968970125,{"$f":"AVERAGE(P$79:P493)","v":3751.3032079578325},null,null,null,null,40098.111909721447,{"$f":"LOOKUP($V493,Data!$A$6:$A$1806,Data!$B$6:$B$1806)","v":59.988998413085937},{"$f":"LOOKUP($V493,Data!$A$6:$A$1806,Data!$C$6:$C$1806)","v":3733.115234375},{"$f":"LOOKUP($V493,Data!$A$6:$A$1806,Data!$D$6:$D$1806)","v":350},{"$f":"IF($Z$1=\"+\",LOOKUP($V493,Data!$A$6:$A$1806,Data!$E$6:$E$1806)*-1,LOOKUP($V493,Data!$A$6:$A$1806,Data!$E$6:$E$1806))","v":-212.57363891601562},{"$f":"LOOKUP($V493,Data!$A$6:$A$1806,Data!$F$6:$F$1806)","v":16},{"$f":"LOOKUP($V493,Data!$A$6:$A$1806,Data!$G$6:$G$1806)","v":291},{"$f":"LOOKUP($V493,Data!$A$6:$A$1806,Data!$H$6:$H$1806)","v":10},{"$f":"LOOKUP($V493,Data!$A$6:$A$1806,Data!$I$6:$I$1806)","v":0},{"$f":"LOOKUP($V493,Data!$A$6:$A$1806,Data!$J$6:$J$1806)","v":-103},{"$f":"LOOKUP($V493,Data!$A$6:$A$1806,Data!$K$6:$K$1806)","v":7687},8.80126953125]
[null,{"$f":"B493+TIME(0,0,$B$1)","v":40098.111932869593},{"$f":"LOOKUP(B494,Data!$A$6:$A$1806,Data!B$6:B$1806)","v":59.988998413085937},{"$f":"LOOKUP(B494,Data!$A$6:$A$1806,Data!C$6:C$1806)","v":3729.18017578125},null,null,null,8.80126953125,10.219290036050825,null,null,0,3775.1458620305839,{"$f":"AVERAGE(D$79:D494)","v":3766.2546116755557},{"$f":"AVERAGE(M$79:M494)","v":3776.2034431230686},3769.569968970125,{"$f":"AVERAGE(P$79:P494)","v":3751.3472242494281},null,null,null,null,40098.111932869593,{"$f":"LOOKUP($V494,Data!$A$6:$A$1806,Data!$B$6:$B$1806)","v":59.988998413085937},{"$f":"LOOKUP($V494,Data!$A$6:$A$1806,Data!$C$6:$C$1806)","v":3729.18017578125},{"$f":"LOOKUP($V494,Data!$A$6:$A$1806,Data!$D$6:$D$1806)","v":350},{"$f":"IF($Z$1=\"+\",LOOKUP($V494,Data!$A$6:$A$1806,Data!$E$6:$E$1806)*-1,LOOKUP($V494,Data!$A$6:$A$1806,Data!$E$6:$E$1806))","v":-219.89729309082031},{"$f":"LOOKUP($V494,Data!$A$6:$A$1806,Data!$F$6:$F$1806)","v":16},{"$f":"LOOKUP($V494,Data!$A$6:$A$1806,Data!$G$6:$G$1806)","v":291.5},{"$f":"LOOKUP($V494,Data!$A$6:$A$1806,Data!$H$6:$H$1806)","v":10},{"$f":"LOOKUP($V494,Data!$A$6:$A$1806,Data!$I$6:$I$1806)","v":0},{"$f":"LOOKUP($V494,Data!$A$6:$A$1806,Data!$J$6:$J$1806)","v":-103},{"$f":"LOOKUP($V494,Data!$A$6:$A$1806,Data!$K$6:$K$1806)","v":7689},8.80126953125]
[null,40098.111956017739,{"$f":"LOOKUP(B495,Data!$A$6:$A$1806,Data!B$6:B$1806)","v":59.98699951171875},{"$f":"LOOKUP(B495,Data!$A$6:$A$1806,Data!C$6:C$1806)","v":3725.458740234375},null,null,null,10.400390625,10.282675242183036,null,null,0,3775.2092472367162,{"$f":"AVERAGE(D$79:D495)","v":3766.156779849558},{"$f":"AVERAGE(M$79:M495)","v":3776.2010589602714},3769.569968970125,{"$f":"AVERAGE(P$79:P495)","v":3751.3910289242372},null,null,null,null,40098.111956017739,{"$f":"LOOKUP($V495,Data!$A$6:$A$1806,Data!$B$6:$B$1806)","v":59.98699951171875},{"$f":"LOOKUP($V495,Data!$A$6:$A$1806,Data!$C$6:$C$1806)","v":3725.458740234375},{"$f":"LOOKUP($V495,Data!$A$6:$A$1806,Data!$D$6:$D$1806)","v":350},{"$f":"IF($Z$1=\"+\",LOOKUP($V495,Data!$A$6:$A$1806,Data!$E$6:$E$1806)*-1,LOOKUP($V495,Data!$A$6:$A$1806,Data!$E$6:$E$1806))","v":-219.89729309082031},{"$f":"LOOKUP($V495,Data!$A$6:$A$1806,Data!$F$6:$F$1806)","v":16},{"$f":"LOOKUP($V495,Data!$A$6:$A$1806,Data!$G$6:$G$1806)","v":292},{"$f":"LOOKUP($V495,Data!$A$6:$A$1806,Data!$H$6:$H$1806)","v":10},{"$f":"LOOKUP($V495,Data!$A$6:$A$1806,Data!$I$6:$I$1806)","v":0},{"$f":"LOOKUP($V495,Data!$A$6:$A$1806,Data!$J$6:$J$1806)","v":-103},{"$f":"LOOKUP($V495,Data!$A$6:$A$1806,Data!$K$6:$K$1806)","v":7690},10.400390625]
[null,40098.111979165886,{"$f":"LOOKUP(B496,Data!$A$6:$A$1806,Data!B$6:B$1806)","v":59.98699951171875},{"$f":"LOOKUP(B496,Data!$A$6:$A$1806,Data!C$6:C$1806)","v":3725.458740234375},null,null,null,10.400390625,10.323875626168974,null,null,0,3775.2504476207023,{"$f":"AVERAGE(D$79:D496)","v":3766.0594161184213},{"$f":"AVERAGE(M$79:M496)","v":3776.1987847704636},3769.569968970125,{"$f":"AVERAGE(P$79:P496)","v":3751.4346235046828},null,null,null,null,40098.111979165886,{"$f":"LOOKUP($V496,Data!$A$6:$A$1806,Data!$B$6:$B$1806)","v":59.98699951171875},{"$f":"LOOKUP($V496,Data!$A$6:$A$1806,Data!$C$6:$C$1806)","v":3725.458740234375},{"$f":"LOOKUP($V496,Data!$A$6:$A$1806,Data!$D$6:$D$1806)","v":350},{"$f":"IF($Z$1=\"+\",LOOKUP($V496,Data!$A$6:$A$1806,Data!$E$6:$E$1806)*-1,LOOKUP($V496,Data!$A$6:$A$1806,Data!$E$6:$E$1806))","v":-219.89729309082031},{"$f":"LOOKUP($V496,Data!$A$6:$A$1806,Data!$F$6:$F$1806)","v":16},{"$f":"LOOKUP($V496,Data!$A$6:$A$1806,Data!$G$6:$G$1806)","v":292},{"$f":"LOOKUP($V496,Data!$A$6:$A$1806,Data!$H$6:$H$1806)","v":10},{"$f":"LOOKUP($V496,Data!$A$6:$A$1806,Data!$I$6:$I$1806)","v":0},{"$f":"LOOKUP($V496,Data!$A$6:$A$1806,Data!$J$6:$J$1806)","v":-103},{"$f":"LOOKUP($V496,Data!$A$6:$A$1806,Data!$K$6:$K$1806)","v":7690},10.400390625]
[null,40098.112002314032,{"$f":"LOOKUP(B497,Data!$A$6:$A$1806,Data!B$6:B$1806)","v":59.990001678466797},{"$f":"LOOKUP(B497,Data!$A$6:$A$1806,Data!C$6:C$1806)","v":3720.10791015625},null,null,null,7.9986572265625,9.5100491863067091,null,null,0,3774.4366211808401,{"$f":"AVERAGE(D$79:D497)","v":3765.9497466531175},{"$f":"AVERAGE(M$79:M497)","v":3776.1945791294379},3769.569968970125,{"$f":"AVERAGE(P$79:P497)","v":3751.478009498619},null,null,null,null,40098.112002314032,{"$f":"LOOKUP($V497,Data!$A$6:$A$1806,Data!$B$6:$B$1806)","v":59.990001678466797},{"$f":"LOOKUP($V497,Data!$A$6:$A$1806,Data!$C$6:$C$1806)","v":3720.10791015625},{"$f":"LOOKUP($V497,Data!$A$6:$A$1806,Data!$D$6:$D$1806)","v":350},{"$f":"IF($Z$1=\"+\",LOOKUP($V497,Data!$A$6:$A$1806,Data!$E$6:$E$1806)*-1,LOOKUP($V497,Data!$A$6:$A$1806,Data!$E$6:$E$1806))","v":-219.89729309082031},{"$f":"LOOKUP($V497,Data!$A$6:$A$1806,Data!$F$6:$F$1806)","v":16},{"$f":"LOOKUP($V497,Data!$A$6:$A$1806,Data!$G$6:$G$1806)","v":292.5},{"$f":"LOOKUP($V497,Data!$A$6:$A$1806,Data!$H$6:$H$1806)","v":10},{"$f":"LOOKUP($V497,Data!$A$6:$A$1806,Data!$I$6:$I$1806)","v":0},{"$f":"LOOKUP($V497,Data!$A$6:$A$1806,Data!$J$6:$J$1806)","v":-103},{"$f":"LOOKUP($V497,Data!$A$6:$A$1806,Data!$K$6:$K$1806)","v":7692},7.9986572265625]
[null,40098.112025462178,{"$f":"LOOKUP(B498,Data!$A$6:$A$1806,Data!B$6:B$1806)","v":59.995998382568359},{"$f":"LOOKUP(B498,Data!$A$6:$A$1806,Data!C$6:C$1806)","v":3720.938232421875},null,null,null,3.2012939453125,7.3019848519587365,null,null,0,3772.2285568464922,{"$f":"AVERAGE(D$79:D498)","v":3765.8425763811383},{"$f":"AVERAGE(M$79:M498)","v":3776.1851362192406},3769.569968970125,{"$f":"AVERAGE(P$79:P498)","v":3751.5211883995057},null,null,null,null,40098.112025462178,{"$f":"LOOKUP($V498,Data!$A$6:$A$1806,Data!$B$6:$B$1806)","v":59.995998382568359},{"$f":"LOOKUP($V498,Data!$A$6:$A$1806,Data!$C$6:$C$1806)","v":3720.938232421875},{"$f":"LOOKUP($V498,Data!$A$6:$A$1806,Data!$D$6:$D$1806)","v":350},{"$f":"IF($Z$1=\"+\",LOOKUP($V498,Data!$A$6:$A$1806,Data!$E$6:$E$1806)*-1,LOOKUP($V498,Data!$A$6:$A$1806,Data!$E$6:$E$1806))","v":-219.89729309082031},{"$f":"LOOKUP($V498,Data!$A$6:$A$1806,Data!$F$6:$F$1806)","v":16},{"$f":"LOOKUP($V498,Data!$A$6:$A$1806,Data!$G$6:$G$1806)","v":293},{"$f":"LOOKUP($V498,Data!$A$6:$A$1806,Data!$H$6:$H$1806)","v":10},{"$f":"LOOKUP($V498,Data!$A$6:$A$1806,Data!$I$6:$I$1806)","v":0},{"$f":"LOOKUP($V498,Data!$A$6:$A$1806,Data!$J$6:$J$1806)","v":-103},{"$f":"LOOKUP($V498,Data!$A$6:$A$1806,Data!$K$6:$K$1806)","v":7692},3.2012939453125]
[null,40098.112048610325,{"$f":"LOOKUP(B499,Data!$A$6:$A$1806,Data!B$6:B$1806)","v":59.995998382568359},{"$f":"LOOKUP(B499,Data!$A$6:$A$1806,Data!C$6:C$1806)","v":3720.938232421875},null,null,null,3.2012939453125,5.8667430346325542,null,null,0,3770.793315029166,{"$f":"AVERAGE(D$79:D499)","v":3765.7359152315917},{"$f":"AVERAGE(M$79:M499)","v":3776.1723290430173},3769.569968970125,{"$f":"AVERAGE(P$79:P499)","v":3751.5641616865782},null,null,null,null,40098.112048610325,{"$f":"LOOKUP($V499,Data!$A$6:$A$1806,Data!$B$6:$B$1806)","v":59.995998382568359},{"$f":"LOOKUP($V499,Data!$A$6:$A$1806,Data!$C$6:$C$1806)","v":3720.938232421875},{"$f":"LOOKUP($V499,Data!$A$6:$A$1806,Data!$D$6:$D$1806)","v":350},{"$f":"IF($Z$1=\"+\",LOOKUP($V499,Data!$A$6:$A$1806,Data!$E$6:$E$1806)*-1,LOOKUP($V499,Data!$A$6:$A$1806,Data!$E$6:$E$1806))","v":-219.89729309082031},{"$f":"LOOKUP($V499,Data!$A$6:$A$1806,Data!$F$6:$F$1806)","v":16},{"$f":"LOOKUP($V499,Data!$A$6:$A$1806,Data!$G$6:$G$1806)","v":293},{"$f":"LOOKUP($V499,Data!$A$6:$A$1806,Data!$H$6:$H$1806)","v":10},{"$f":"LOOKUP($V499,Data!$A$6:$A$1806,Data!$I$6:$I$1806)","v":0},{"$f":"LOOKUP($V499,Data!$A$6:$A$1806,Data!$J$6:$J$1806)","v":-103},{"$f":"LOOKUP($V499,Data!$A$6:$A$1806,Data!$K$6:$K$1806)","v":7692},3.2012939453125]
[null,40098.112071758471,{"$f":"LOOKUP(B500,Data!$A$6:$A$1806,Data!B$6:B$1806)","v":60.000999450683594},{"$f":"LOOKUP(B500,Data!$A$6:$A$1806,Data!C$6:C$1806)","v":3725.6767578125},null,null,null,-0.799560546875,3.5335367811049103,null,null,0,3768.4601087756382,{"$f":"AVERAGE(D$79:D500)","v":3765.640988318276},{"$f":"AVERAGE(M$79:M500)","v":3776.1540536395401},3769.569968970125,{"$f":"AVERAGE(P$79:P500)","v":3751.6069308250185},null,null,null,null,40098.112071758471,{"$f":"LOOKUP($V500,Data!$A$6:$A$1806,Data!$B$6:$B$1806)","v":60.000999450683594},{"$f":"LOOKUP($V500,Data!$A$6:$A$1806,Data!$C$6:$C$1806)","v":3725.6767578125},{"$f":"LOOKUP($V500,Data!$A$6:$A$1806,Data!$D$6:$D$1806)","v":350},{"$f":"IF($Z$1=\"+\",LOOKUP($V500,Data!$A$6:$A$1806,Data!$E$6:$E$1806)*-1,LOOKUP($V500,Data!$A$6:$A$1806,Data!$E$6:$E$1806))","v":-219.89729309082031},{"$f":"LOOKUP($V500,Data!$A$6:$A$1806,Data!$F$6:$F$1806)","v":16},{"$f":"LOOKUP($V500,Data!$A$6:$A$1806,Data!$G$6:$G$1806)","v":293.5},{"$f":"LOOKUP($V500,Data!$A$6:$A$1806,Data!$H$6:$H$1806)","v":10},{"$f":"LOOKUP($V500,Data!$A$6:$A$1806,Data!$I$6:$I$1806)","v":0},{"$f":"LOOKUP($V500,Data!$A$6:$A$1806,Data!$J$6:$J$1806)","v":-103},{"$f":"LOOKUP($V500,Data!$A$6:$A$1806,Data!$K$6:$K$1806)","v":7693},-0.799560546875]
[null,40098.112094906617,{"$f":"LOOKUP(B501,Data!$A$6:$A$1806,Data!B$6:B$1806)","v":60.004001617431641},{"$f":"LOOKUP(B501,Data!$A$6:$A$1806,Data!C$6:C$1806)","v":3727.754150390625},null,null,null,-3.2012939453125,1.1763460268588166,null,null,0,3766.1029180213923,{"$f":"AVERAGE(D$79:D501)","v":3765.5514213255392},{"$f":"AVERAGE(M$79:M501)","v":3776.1302920896151},3769.569968970125,{"$f":"AVERAGE(P$79:P501)","v":3751.6494972661208},null,null,null,null,40098.112094906617,{"$f":"LOOKUP($V501,Data!$A$6:$A$1806,Data!$B$6:$B$1806)","v":60.004001617431641},{"$f":"LOOKUP($V501,Data!$A$6:$A$1806,Data!$C$6:$C$1806)","v":3727.754150390625},{"$f":"LOOKUP($V501,Data!$A$6:$A$1806,Data!$D$6:$D$1806)","v":350},{"$f":"IF($Z$1=\"+\",LOOKUP($V501,Data!$A$6:$A$1806,Data!$E$6:$E$1806)*-1,LOOKUP($V501,Data!$A$6:$A$1806,Data!$E$6:$E$1806))","v":-231.17539978027344},{"$f":"LOOKUP($V501,Data!$A$6:$A$1806,Data!$F$6:$F$1806)","v":16},{"$f":"LOOKUP($V501,Data!$A$6:$A$1806,Data!$G$6:$G$1806)","v":294},{"$f":"LOOKUP($V501,Data!$A$6:$A$1806,Data!$H$6:$H$1806)","v":10},{"$f":"LOOKUP($V501,Data!$A$6:$A$1806,Data!$I$6:$I$1806)","v":0},{"$f":"LOOKUP($V501,Data!$A$6:$A$1806,Data!$J$6:$J$1806)","v":-103},{"$f":"LOOKUP($V501,Data!$A$6:$A$1806,Data!$K$6:$K$1806)","v":7693},-3.2012939453125]
[null,40098.112118054763,{"$f":"LOOKUP(B502,Data!$A$6:$A$1806,Data!B$6:B$1806)","v":60.004001617431641},{"$f":"LOOKUP(B502,Data!$A$6:$A$1806,Data!C$6:C$1806)","v":3727.754150390625},null,null,null,-3.2012939453125,-0.3558279634011442,null,null,0,3764.5707440311321,{"$f":"AVERAGE(D$79:D502)","v":3765.4622768186173},{"$f":"AVERAGE(M$79:M502)","v":3776.1030290045715},3769.569968970125,{"$f":"AVERAGE(P$79:P502)","v":3751.6918624474538},null,null,null,null,40098.112118054763,{"$f":"LOOKUP($V502,Data!$A$6:$A$1806,Data!$B$6:$B$1806)","v":60.004001617431641},{"$f":"LOOKUP($V502,Data!$A$6:$A$1806,Data!$C$6:$C$1806)","v":3727.754150390625},{"$f":"LOOKUP($V502,Data!$A$6:$A$1806,Data!$D$6:$D$1806)","v":350},{"$f":"IF($Z$1=\"+\",LOOKUP($V502,Data!$A$6:$A$1806,Data!$E$6:$E$1806)*-1,LOOKUP($V502,Data!$A$6:$A$1806,Data!$E$6:$E$1806))","v":-231.17539978027344},{"$f":"LOOKUP($V502,Data!$A$6:$A$1806,Data!$F$6:$F$1806)","v":16},{"$f":"LOOKUP($V502,Data!$A$6:$A$1806,Data!$G$6:$G$1806)","v":294},{"$f":"LOOKUP($V502,Data!$A$6:$A$1806,Data!$H$6:$H$1806)","v":10},{"$f":"LOOKUP($V502,Data!$A$6:$A$1806,Data!$I$6:$I$1806)","v":0},{"$f":"LOOKUP($V502,Data!$A$6:$A$1806,Data!$J$6:$J$1806)","v":-103},{"$f":"LOOKUP($V502,Data!$A$6:$A$1806,Data!$K$6:$K$1806)","v":7693},-3.2012939453125]
[null,40098.11214120291,{"$f":"LOOKUP(B503,Data!$A$6:$A$1806,Data!B$6:B$1806)","v":60.006000518798828},{"$f":"LOOKUP(B503,Data!$A$6:$A$1806,Data!C$6:C$1806)","v":3727.683349609375},null,null,null,-4.8004150390625,-1.9114334398826187,null,null,0,3763.0151385546505,{"$f":"AVERAGE(D$79:D503)","v":3765.3733852251839},{"$f":"AVERAGE(M$79:M503)","v":3776.0722339682188},3769.569968970125,{"$f":"AVERAGE(P$79:P503)","v":3751.7340277930257},null,null,null,null,40098.11214120291,{"$f":"LOOKUP($V503,Data!$A$6:$A$1806,Data!$B$6:$B$1806)","v":60.006000518798828},{"$f":"LOOKUP($V503,Data!$A$6:$A$1806,Data!$C$6:$C$1806)","v":3727.683349609375},{"$f":"LOOKUP($V503,Data!$A$6:$A$1806,Data!$D$6:$D$1806)","v":350},{"$f":"IF($Z$1=\"+\",LOOKUP($V503,Data!$A$6:$A$1806,Data!$E$6:$E$1806)*-1,LOOKUP($V503,Data!$A$6:$A$1806,Data!$E$6:$E$1806))","v":-231.17539978027344},{"$f":"LOOKUP($V503,Data!$A$6:$A$1806,Data!$F$6:$F$1806)","v":16},{"$f":"LOOKUP($V503,Data!$A$6:$A$1806,Data!$G$6:$G$1806)","v":294.5},{"$f":"LOOKUP($V503,Data!$A$6:$A$1806,Data!$H$6:$H$1806)","v":10},{"$f":"LOOKUP($V503,Data!$A$6:$A$1806,Data!$I$6:$I$1806)","v":0},{"$f":"LOOKUP($V503,Data!$A$6:$A$1806,Data!$J$6:$J$1806)","v":-103},{"$f":"LOOKUP($V503,Data!$A$6:$A$1806,Data!$K$6:$K$1806)","v":7694},-4.8004150390625]
[null,40098.112164351056,{"$f":"LOOKUP(B504,Data!$A$6:$A$1806,Data!B$6:B$1806)","v":60.013999938964844},{"$f":"LOOKUP(B504,Data!$A$6:$A$1806,Data!C$6:C$1806)","v":3727.2314453125},null,null,null,-11.199951171875,-5.1624146460799523,null,null,0,3759.7641573484534,{"$f":"AVERAGE(D$79:D504)","v":3765.2838501549663},{"$f":"AVERAGE(M$79:M504)","v":3776.0339520982197},3769.569968970125,{"$f":"AVERAGE(P$79:P504)","v":3751.7759947134423},null,null,null,null,40098.112164351056,{"$f":"LOOKUP($V504,Data!$A$6:$A$1806,Data!$B$6:$B$1806)","v":60.013999938964844},{"$f":"LOOKUP($V504,Data!$A$6:$A$1806,Data!$C$6:$C$1806)","v":3727.2314453125},{"$f":"LOOKUP($V504,Data!$A$6:$A$1806,Data!$D$6:$D$1806)","v":350},{"$f":"IF($Z$1=\"+\",LOOKUP($V504,Data!$A$6:$A$1806,Data!$E$6:$E$1806)*-1,LOOKUP($V504,Data!$A$6:$A$1806,Data!$E$6:$E$1806))","v":-231.17539978027344},{"$f":"LOOKUP($V504,Data!$A$6:$A$1806,Data!$F$6:$F$1806)","v":16},{"$f":"LOOKUP($V504,Data!$A$6:$A$1806,Data!$G$6:$G$1806)","v":295},{"$f":"LOOKUP($V504,Data!$A$6:$A$1806,Data!$H$6:$H$1806)","v":10},{"$f":"LOOKUP($V504,Data!$A$6:$A$1806,Data!$I$6:$I$1806)","v":0},{"$f":"LOOKUP($V504,Data!$A$6:$A$1806,Data!$J$6:$J$1806)","v":-103},{"$f":"LOOKUP($V504,Data!$A$6:$A$1806,Data!$K$6:$K$1806)","v":7694},-11.199951171875]
[null,40098.112187499202,{"$f":"LOOKUP(B505,Data!$A$6:$A$1806,Data!B$6:B$1806)","v":60.013999938964844},{"$f":"LOOKUP(B505,Data!$A$6:$A$1806,Data!C$6:C$1806)","v":3727.2314453125},null,null,null,-11.199951171875,-7.2755524301082186,null,null,0,3757.651019564425,{"$f":"AVERAGE(D$79:D505)","v":3765.1947344527589},{"$f":"AVERAGE(M$79:M505)","v":3775.9909007339716},3769.569968970125,{"$f":"AVERAGE(P$79:P505)","v":3751.8177646060635},null,null,null,null,40098.112187499202,{"$f":"LOOKUP($V505,Data!$A$6:$A$1806,Data!$B$6:$B$1806)","v":60.013999938964844},{"$f":"LOOKUP($V505,Data!$A$6:$A$1806,Data!$C$6:$C$1806)","v":3727.2314453125},{"$f":"LOOKUP($V505,Data!$A$6:$A$1806,Data!$D$6:$D$1806)","v":350},{"$f":"IF($Z$1=\"+\",LOOKUP($V505,Data!$A$6:$A$1806,Data!$E$6:$E$1806)*-1,LOOKUP($V505,Data!$A$6:$A$1806,Data!$E$6:$E$1806))","v":-231.17539978027344},{"$f":"LOOKUP($V505,Data!$A$6:$A$1806,Data!$F$6:$F$1806)","v":16},{"$f":"LOOKUP($V505,Data!$A$6:$A$1806,Data!$G$6:$G$1806)","v":295},{"$f":"LOOKUP($V505,Data!$A$6:$A$1806,Data!$H$6:$H$1806)","v":10},{"$f":"LOOKUP($V505,Data!$A$6:$A$1806,Data!$I$6:$I$1806)","v":0},{"$f":"LOOKUP($V505,Data!$A$6:$A$1806,Data!$J$6:$J$1806)","v":-103},{"$f":"LOOKUP($V505,Data!$A$6:$A$1806,Data!$K$6:$K$1806)","v":7694},-11.199951171875]
[null,40098.112210647349,{"$f":"LOOKUP(B506,Data!$A$6:$A$1806,Data!B$6:B$1806)","v":60.019001007080078},{"$f":"LOOKUP(B506,Data!$A$6:$A$1806,Data!C$6:C$1806)","v":3726.4462890625},null,null,null,-15.2008056640625,-10.049391061992218,null,null,0,3754.8771809325413,{"$f":"AVERAGE(D$79:D506)","v":3765.1042007018473},{"$f":"AVERAGE(M$79:M506)","v":3775.9415696129404},3769.569968970125,{"$f":"AVERAGE(P$79:P506)","v":3751.8593388551594},null,null,null,null,40098.112210647349,{"$f":"LOOKUP($V506,Data!$A$6:$A$1806,Data!$B$6:$B$1806)","v":60.019001007080078},{"$f":"LOOKUP($V506,Data!$A$6:$A$1806,Data!$C$6:$C$1806)","v":3726.4462890625},{"$f":"LOOKUP($V506,Data!$A$6:$A$1806,Data!$D$6:$D$1806)","v":350},{"$f":"IF($Z$1=\"+\",LOOKUP($V506,Data!$A$6:$A$1806,Data!$E$6:$E$1806)*-1,LOOKUP($V506,Data!$A$6:$A$1806,Data!$E$6:$E$1806))","v":-231.17539978027344},{"$f":"LOOKUP($V506,Data!$A$6:$A$1806,Data!$F$6:$F$1806)","v":16},{"$f":"LOOKUP($V506,Data!$A$6:$A$1806,Data!$G$6:$G$1806)","v":295.5},{"$f":"LOOKUP($V506,Data!$A$6:$A$1806,Data!$H$6:$H$1806)","v":10},{"$f":"LOOKUP($V506,Data!$A$6:$A$1806,Data!$I$6:$I$1806)","v":0},{"$f":"LOOKUP($V506,Data!$A$6:$A$1806,Data!$J$6:$J$1806)","v":-103},{"$f":"LOOKUP($V506,Data!$A$6:$A$1806,Data!$K$6:$K$1806)","v":7695},-15.2008056640625]
[null,40098.112233795495,{"$f":"LOOKUP(B507,Data!$A$6:$A$1806,Data!B$6:B$1806)","v":60.025001525878906},{"$f":"LOOKUP(B507,Data!$A$6:$A$1806,Data!C$6:C$1806)","v":3726.015625},null,null,null,-20.001220703125,-13.532531436388691,null,null,0,3751.3940405581448,{"$f":"AVERAGE(D$79:D507)","v":3765.0130851407707},{"$f":"AVERAGE(M$79:M507)","v":3775.8843492654933},3769.569968970125,{"$f":"AVERAGE(P$79:P507)","v":3751.9007188320634},null,null,null,null,40098.112233795495,{"$f":"LOOKUP($V507,Data!$A$6:$A$1806,Data!$B$6:$B$1806)","v":60.025001525878906},{"$f":"LOOKUP($V507,Data!$A$6:$A$1806,Data!$C$6:$C$1806)","v":3726.015625},{"$f":"LOOKUP($V507,Data!$A$6:$A$1806,Data!$D$6:$D$1806)","v":350},{"$f":"IF($Z$1=\"+\",LOOKUP($V507,Data!$A$6:$A$1806,Data!$E$6:$E$1806)*-1,LOOKUP($V507,Data!$A$6:$A$1806,Data!$E$6:$E$1806))","v":-231.17539978027344},{"$f":"LOOKUP($V507,Data!$A$6:$A$1806,Data!$F$6:$F$1806)","v":16},{"$f":"LOOKUP($V507,Data!$A$6:$A$1806,Data!$G$6:$G$1806)","v":296},{"$f":"LOOKUP($V507,Data!$A$6:$A$1806,Data!$H$6:$H$1806)","v":10},{"$f":"LOOKUP($V507,Data!$A$6:$A$1806,Data!$I$6:$I$1806)","v":0},{"$f":"LOOKUP($V507,Data!$A$6:$A$1806,Data!$J$6:$J$1806)","v":-103},{"$f":"LOOKUP($V507,Data!$A$6:$A$1806,Data!$K$6:$K$1806)","v":7695},-20.001220703125]
[null,40098.112256943641,{"$f":"LOOKUP(B508,Data!$A$6:$A$1806,Data!B$6:B$1806)","v":60.025001525878906},{"$f":"LOOKUP(B508,Data!$A$6:$A$1806,Data!C$6:C$1806)","v":3726.015625},null,null,null,-20.001220703125,-15.796572679746399,null,null,0,3749.1299993147873,{"$f":"AVERAGE(D$79:D508)","v":3764.9223933730013},{"$f":"AVERAGE(M$79:M508)","v":3775.8221298470039},3769.569968970125,{"$f":"AVERAGE(P$79:P508)","v":3751.9419058953217},null,null,null,null,40098.112256943641,{"$f":"LOOKUP($V508,Data!$A$6:$A$1806,Data!$B$6:$B$1806)","v":60.025001525878906},{"$f":"LOOKUP($V508,Data!$A$6:$A$1806,Data!$C$6:$C$1806)","v":3726.015625},{"$f":"LOOKUP($V508,Data!$A$6:$A$1806,Data!$D$6:$D$1806)","v":350},{"$f":"IF($Z$1=\"+\",LOOKUP($V508,Data!$A$6:$A$1806,Data!$E$6:$E$1806)*-1,LOOKUP($V508,Data!$A$6:$A$1806,Data!$E$6:$E$1806))","v":-231.17539978027344},{"$f":"LOOKUP($V508,Data!$A$6:$A$1806,Data!$F$6:$F$1806)","v":16},{"$f":"LOOKUP($V508,Data!$A$6:$A$1806,Data!$G$6:$G$1806)","v":296},{"$f":"LOOKUP($V508,Data!$A$6:$A$1806,Data!$H$6:$H$1806)","v":10},{"$f":"LOOKUP($V508,Data!$A$6:$A$1806,Data!$I$6:$I$1806)","v":0},{"$f":"LOOKUP($V508,Data!$A$6:$A$1806,Data!$J$6:$J$1806)","v":-103},{"$f":"LOOKUP($V508,Data!$A$6:$A$1806,Data!$K$6:$K$1806)","v":7695},-20.001220703125]
[null,40098.112280091787,{"$f":"LOOKUP(B509,Data!$A$6:$A$1806,Data!B$6:B$1806)","v":60.0260009765625},{"$f":"LOOKUP(B509,Data!$A$6:$A$1806,Data!C$6:C$1806)","v":3716.37451171875},null,null,null,-20.80078125,-17.548045679335157,null,null,0,3747.3785263151985,{"$f":"AVERAGE(D$79:D509)","v":3764.8097532763559},{"$f":"AVERAGE(M$79:M509)","v":3775.7561354072545},3769.569968970125,{"$f":"AVERAGE(P$79:P509)","v":3751.9829013908443},null,null,null,null,40098.112280091787,{"$f":"LOOKUP($V509,Data!$A$6:$A$1806,Data!$B$6:$B$1806)","v":60.0260009765625},{"$f":"LOOKUP($V509,Data!$A$6:$A$1806,Data!$C$6:$C$1806)","v":3716.37451171875},{"$f":"LOOKUP($V509,Data!$A$6:$A$1806,Data!$D$6:$D$1806)","v":350},{"$f":"IF($Z$1=\"+\",LOOKUP($V509,Data!$A$6:$A$1806,Data!$E$6:$E$1806)*-1,LOOKUP($V509,Data!$A$6:$A$1806,Data!$E$6:$E$1806))","v":-226.63412475585937},{"$f":"LOOKUP($V509,Data!$A$6:$A$1806,Data!$F$6:$F$1806)","v":16},{"$f":"LOOKUP($V509,Data!$A$6:$A$1806,Data!$G$6:$G$1806)","v":296.5},{"$f":"LOOKUP($V509,Data!$A$6:$A$1806,Data!$H$6:$H$1806)","v":10},{"$f":"LOOKUP($V509,Data!$A$6:$A$1806,Data!$I$6:$I$1806)","v":0},{"$f":"LOOKUP($V509,Data!$A$6:$A$1806,Data!$J$6:$J$1806)","v":-103},{"$f":"LOOKUP($V509,Data!$A$6:$A$1806,Data!$K$6:$K$1806)","v":7695},-20.80078125]
[null,40098.112303239934,{"$f":"LOOKUP(B510,Data!$A$6:$A$1806,Data!B$6:B$1806)","v":60.028999328613281},{"$f":"LOOKUP(B510,Data!$A$6:$A$1806,Data!C$6:C$1806)","v":3717.33251953125},null,null,null,-23.199462890625,-19.526041703286602,null,null,0,3745.4005302912469,{"$f":"AVERAGE(D$79:D510)","v":3764.6998522723161},{"$f":"AVERAGE(M$79:M510)","v":3775.6858678028193},3769.569968970125,{"$f":"AVERAGE(P$79:P510)","v":3752.023706652049},null,null,null,null,40098.112303239934,{"$f":"LOOKUP($V510,Data!$A$6:$A$1806,Data!$B$6:$B$1806)","v":60.028999328613281},{"$f":"LOOKUP($V510,Data!$A$6:$A$1806,Data!$C$6:$C$1806)","v":3717.33251953125},{"$f":"LOOKUP($V510,Data!$A$6:$A$1806,Data!$D$6:$D$1806)","v":350},{"$f":"IF($Z$1=\"+\",LOOKUP($V510,Data!$A$6:$A$1806,Data!$E$6:$E$1806)*-1,LOOKUP($V510,Data!$A$6:$A$1806,Data!$E$6:$E$1806))","v":-226.63412475585937},{"$f":"LOOKUP($V510,Data!$A$6:$A$1806,Data!$F$6:$F$1806)","v":16},{"$f":"LOOKUP($V510,Data!$A$6:$A$1806,Data!$G$6:$G$1806)","v":297},{"$f":"LOOKUP($V510,Data!$A$6:$A$1806,Data!$H$6:$H$1806)","v":10},{"$f":"LOOKUP($V510,Data!$A$6:$A$1806,Data!$I$6:$I$1806)","v":0},{"$f":"LOOKUP($V510,Data!$A$6:$A$1806,Data!$J$6:$J$1806)","v":-103},{"$f":"LOOKUP($V510,Data!$A$6:$A$1806,Data!$K$6:$K$1806)","v":7696},-23.199462890625]
[null,40098.11232638808,{"$f":"LOOKUP(B511,Data!$A$6:$A$1806,Data!B$6:B$1806)","v":60.028999328613281},{"$f":"LOOKUP(B511,Data!$A$6:$A$1806,Data!C$6:C$1806)","v":3717.33251953125},null,null,null,-23.199462890625,-20.811739118855041,null,null,0,3744.1148328756785,{"$f":"AVERAGE(D$79:D511)","v":3764.5904588941612},{"$f":"AVERAGE(M$79:M511)","v":3775.6129554819718},3769.569968970125,{"$f":"AVERAGE(P$79:P511)","v":3752.0643230000073},null,null,null,null,40098.11232638808,{"$f":"LOOKUP($V511,Data!$A$6:$A$1806,Data!$B$6:$B$1806)","v":60.028999328613281},{"$f":"LOOKUP($V511,Data!$A$6:$A$1806,Data!$C$6:$C$1806)","v":3717.33251953125},{"$f":"LOOKUP($V511,Data!$A$6:$A$1806,Data!$D$6:$D$1806)","v":350},{"$f":"IF($Z$1=\"+\",LOOKUP($V511,Data!$A$6:$A$1806,Data!$E$6:$E$1806)*-1,LOOKUP($V511,Data!$A$6:$A$1806,Data!$E$6:$E$1806))","v":-226.63412475585937},{"$f":"LOOKUP($V511,Data!$A$6:$A$1806,Data!$F$6:$F$1806)","v":16},{"$f":"LOOKUP($V511,Data!$A$6:$A$1806,Data!$G$6:$G$1806)","v":297},{"$f":"LOOKUP($V511,Data!$A$6:$A$1806,Data!$H$6:$H$1806)","v":10},{"$f":"LOOKUP($V511,Data!$A$6:$A$1806,Data!$I$6:$I$1806)","v":0},{"$f":"LOOKUP($V511,Data!$A$6:$A$1806,Data!$J$6:$J$1806)","v":-103},{"$f":"LOOKUP($V511,Data!$A$6:$A$1806,Data!$K$6:$K$1806)","v":7696},-23.199462890625]
[null,40098.112349536226,{"$f":"LOOKUP(B512,Data!$A$6:$A$1806,Data!B$6:B$1806)","v":60.028999328613281},{"$f":"LOOKUP(B512,Data!$A$6:$A$1806,Data!C$6:C$1806)","v":3717.14208984375},null,null,null,-23.199462890625,-21.647442438974529,null,null,0,3743.2791295555589,{"$f":"AVERAGE(D$79:D512)","v":3764.4811308548747},{"$f":"AVERAGE(M$79:M512)","v":3775.5384535789153},3769.569968970125,{"$f":"AVERAGE(P$79:P512)","v":3752.1047517435873},null,null,null,null,40098.112349536226,{"$f":"LOOKUP($V512,Data!$A$6:$A$1806,Data!$B$6:$B$1806)","v":60.028999328613281},{"$f":"LOOKUP($V512,Data!$A$6:$A$1806,Data!$C$6:$C$1806)","v":3717.14208984375},{"$f":"LOOKUP($V512,Data!$A$6:$A$1806,Data!$D$6:$D$1806)","v":350},{"$f":"IF($Z$1=\"+\",LOOKUP($V512,Data!$A$6:$A$1806,Data!$E$6:$E$1806)*-1,LOOKUP($V512,Data!$A$6:$A$1806,Data!$E$6:$E$1806))","v":-226.63412475585937},{"$f":"LOOKUP($V512,Data!$A$6:$A$1806,Data!$F$6:$F$1806)","v":16},{"$f":"LOOKUP($V512,Data!$A$6:$A$1806,Data!$G$6:$G$1806)","v":297.5},{"$f":"LOOKUP($V512,Data!$A$6:$A$1806,Data!$H$6:$H$1806)","v":10},{"$f":"LOOKUP($V512,Data!$A$6:$A$1806,Data!$I$6:$I$1806)","v":0},{"$f":"LOOKUP($V512,Data!$A$6:$A$1806,Data!$J$6:$J$1806)","v":-103},{"$f":"LOOKUP($V512,Data!$A$6:$A$1806,Data!$K$6:$K$1806)","v":7696},-23.199462890625]
[null,40098.112372684373,{"$f":"LOOKUP(B513,Data!$A$6:$A$1806,Data!B$6:B$1806)","v":60.035999298095703},{"$f":"LOOKUP(B513,Data!$A$6:$A$1806,Data!C$6:C$1806)","v":3715.166015625},null,null,null,-28.7994384765625,-24.150641052130318,null,null,0,3740.7759309424032,{"$f":"AVERAGE(D$79:D513)","v":3764.3677627738866},{"$f":"AVERAGE(M$79:M513)","v":3775.4585397337742},3769.569968970125,{"$f":"AVERAGE(P$79:P513)","v":3752.1449941795927},null,null,null,null,40098.112372684373,{"$f":"LOOKUP($V513,Data!$A$6:$A$1806,Data!$B$6:$B$1806)","v":60.035999298095703},{"$f":"LOOKUP($V513,Data!$A$6:$A$1806,Data!$C$6:$C$1806)","v":3715.166015625},{"$f":"LOOKUP($V513,Data!$A$6:$A$1806,Data!$D$6:$D$1806)","v":350},{"$f":"IF($Z$1=\"+\",LOOKUP($V513,Data!$A$6:$A$1806,Data!$E$6:$E$1806)*-1,LOOKUP($V513,Data!$A$6:$A$1806,Data!$E$6:$E$1806))","v":-226.63412475585937},{"$f":"LOOKUP($V513,Data!$A$6:$A$1806,Data!$F$6:$F$1806)","v":16},{"$f":"LOOKUP($V513,Data!$A$6:$A$1806,Data!$G$6:$G$1806)","v":298},{"$f":"LOOKUP($V513,Data!$A$6:$A$1806,Data!$H$6:$H$1806)","v":10},{"$f":"LOOKUP($V513,Data!$A$6:$A$1806,Data!$I$6:$I$1806)","v":0},{"$f":"LOOKUP($V513,Data!$A$6:$A$1806,Data!$J$6:$J$1806)","v":-103},{"$f":"LOOKUP($V513,Data!$A$6:$A$1806,Data!$K$6:$K$1806)","v":7697},-28.7994384765625]
[null,40098.112395832519,{"$f":"LOOKUP(B514,Data!$A$6:$A$1806,Data!B$6:B$1806)","v":60.035999298095703},{"$f":"LOOKUP(B514,Data!$A$6:$A$1806,Data!C$6:C$1806)","v":3715.166015625},null,null,null,-28.7994384765625,-25.777720150681581,null,null,0,3739.1488518438518,{"$f":"AVERAGE(D$79:D514)","v":3764.2549147299669},{"$f":"AVERAGE(M$79:M514)","v":3775.3752606331091},3769.569968970125,{"$f":"AVERAGE(P$79:P514)","v":3752.1850515929041},null,null,null,null,40098.112395832519,{"$f":"LOOKUP($V514,Data!$A$6:$A$1806,Data!$B$6:$B$1806)","v":60.035999298095703},{"$f":"LOOKUP($V514,Data!$A$6:$A$1806,Data!$C$6:$C$1806)","v":3715.166015625},{"$f":"LOOKUP($V514,Data!$A$6:$A$1806,Data!$D$6:$D$1806)","v":350},{"$f":"IF($Z$1=\"+\",LOOKUP($V514,Data!$A$6:$A$1806,Data!$E$6:$E$1806)*-1,LOOKUP($V514,Data!$A$6:$A$1806,Data!$E$6:$E$1806))","v":-226.63412475585937},{"$f":"LOOKUP($V514,Data!$A$6:$A$1806,Data!$F$6:$F$1806)","v":16},{"$f":"LOOKUP($V514,Data!$A$6:$A$1806,Data!$G$6:$G$1806)","v":298},{"$f":"LOOKUP($V514,Data!$A$6:$A$1806,Data!$H$6:$H$1806)","v":10},{"$f":"LOOKUP($V514,Data!$A$6:$A$1806,Data!$I$6:$I$1806)","v":0},{"$f":"LOOKUP($V514,Data!$A$6:$A$1806,Data!$J$6:$J$1806)","v":-103},{"$f":"LOOKUP($V514,Data!$A$6:$A$1806,Data!$K$6:$K$1806)","v":7697},-28.7994384765625]
[null,40098.112418980665,{"$f":"LOOKUP(B515,Data!$A$6:$A$1806,Data!B$6:B$1806)","v":60.036998748779297},{"$f":"LOOKUP(B515,Data!$A$6:$A$1806,Data!C$6:C$1806)","v":3710.283447265625},null,null,null,-29.5989990234375,-27.115167756146153,null,null,0,3737.8114042383872,{"$f":"AVERAGE(D$79:D515)","v":3764.1314102277602},{"$f":"AVERAGE(M$79:M515)","v":3775.2893021516566},3769.569968970125,{"$f":"AVERAGE(P$79:P515)","v":3752.224925256613},null,null,null,null,40098.112418980665,{"$f":"LOOKUP($V515,Data!$A$6:$A$1806,Data!$B$6:$B$1806)","v":60.036998748779297},{"$f":"LOOKUP($V515,Data!$A$6:$A$1806,Data!$C$6:$C$1806)","v":3710.283447265625},{"$f":"LOOKUP($V515,Data!$A$6:$A$1806,Data!$D$6:$D$1806)","v":350},{"$f":"IF($Z$1=\"+\",LOOKUP($V515,Data!$A$6:$A$1806,Data!$E$6:$E$1806)*-1,LOOKUP($V515,Data!$A$6:$A$1806,Data!$E$6:$E$1806))","v":-226.63412475585937},{"$f":"LOOKUP($V515,Data!$A$6:$A$1806,Data!$F$6:$F$1806)","v":16},{"$f":"LOOKUP($V515,Data!$A$6:$A$1806,Data!$G$6:$G$1806)","v":298.5},{"$f":"LOOKUP($V515,Data!$A$6:$A$1806,Data!$H$6:$H$1806)","v":10},{"$f":"LOOKUP($V515,Data!$A$6:$A$1806,Data!$I$6:$I$1806)","v":0},{"$f":"LOOKUP($V515,Data!$A$6:$A$1806,Data!$J$6:$J$1806)","v":-103},{"$f":"LOOKUP($V515,Data!$A$6:$A$1806,Data!$K$6:$K$1806)","v":7697},-29.5989990234375]
[null,40098.112442128811,{"$f":"LOOKUP(B516,Data!$A$6:$A$1806,Data!B$6:B$1806)","v":60.035999298095703},{"$f":"LOOKUP(B516,Data!$A$6:$A$1806,Data!C$6:C$1806)","v":3710.15771484375},null,null,null,-28.7994384765625,-27.704662508291875,null,null,0,3737.2219094862417,{"$f":"AVERAGE(D$79:D516)","v":3764.0081826127284},{"$f":"AVERAGE(M$79:M516)","v":3775.202390296256},3769.569968970125,{"$f":"AVERAGE(P$79:P516)","v":3752.2646164321586},null,null,null,null,40098.112442128811,{"$f":"LOOKUP($V516,Data!$A$6:$A$1806,Data!$B$6:$B$1806)","v":60.035999298095703},{"$f":"LOOKUP($V516,Data!$A$6:$A$1806,Data!$C$6:$C$1806)","v":3710.15771484375},{"$f":"LOOKUP($V516,Data!$A$6:$A$1806,Data!$D$6:$D$1806)","v":350},{"$f":"IF($Z$1=\"+\",LOOKUP($V516,Data!$A$6:$A$1806,Data!$E$6:$E$1806)*-1,LOOKUP($V516,Data!$A$6:$A$1806,Data!$E$6:$E$1806))","v":-227.25506591796875},{"$f":"LOOKUP($V516,Data!$A$6:$A$1806,Data!$F$6:$F$1806)","v":16},{"$f":"LOOKUP($V516,Data!$A$6:$A$1806,Data!$G$6:$G$1806)","v":299},{"$f":"LOOKUP($V516,Data!$A$6:$A$1806,Data!$H$6:$H$1806)","v":10},{"$f":"LOOKUP($V516,Data!$A$6:$A$1806,Data!$I$6:$I$1806)","v":0},{"$f":"LOOKUP($V516,Data!$A$6:$A$1806,Data!$J$6:$J$1806)","v":-103},{"$f":"LOOKUP($V516,Data!$A$6:$A$1806,Data!$K$6:$K$1806)","v":7697},-28.7994384765625]
[null,40098.112465276958,{"$f":"LOOKUP(B517,Data!$A$6:$A$1806,Data!B$6:B$1806)","v":60.035999298095703},{"$f":"LOOKUP(B517,Data!$A$6:$A$1806,Data!C$6:C$1806)","v":3710.15771484375},null,null,null,-28.7994384765625,-28.087834097186594,null,null,0,3736.8387378973471,{"$f":"AVERAGE(D$79:D517)","v":3763.8855163991316},{"$f":"AVERAGE(M$79:M517)","v":3775.115001566418},3769.569968970125,{"$f":"AVERAGE(P$79:P517)","v":3752.3041263694595},null,null,null,null,40098.112465276958,{"$f":"LOOKUP($V517,Data!$A$6:$A$1806,Data!$B$6:$B$1806)","v":60.035999298095703},{"$f":"LOOKUP($V517,Data!$A$6:$A$1806,Data!$C$6:$C$1806)","v":3710.15771484375},{"$f":"LOOKUP($V517,Data!$A$6:$A$1806,Data!$D$6:$D$1806)","v":350},{"$f":"IF($Z$1=\"+\",LOOKUP($V517,Data!$A$6:$A$1806,Data!$E$6:$E$1806)*-1,LOOKUP($V517,Data!$A$6:$A$1806,Data!$E$6:$E$1806))","v":-227.25506591796875},{"$f":"LOOKUP($V517,Data!$A$6:$A$1806,Data!$F$6:$F$1806)","v":16},{"$f":"LOOKUP($V517,Data!$A$6:$A$1806,Data!$G$6:$G$1806)","v":299},{"$f":"LOOKUP($V517,Data!$A$6:$A$1806,Data!$H$6:$H$1806)","v":10},{"$f":"LOOKUP($V517,Data!$A$6:$A$1806,Data!$I$6:$I$1806)","v":0},{"$f":"LOOKUP($V517,Data!$A$6:$A$1806,Data!$J$6:$J$1806)","v":-103},{"$f":"LOOKUP($V517,Data!$A$6:$A$1806,Data!$K$6:$K$1806)","v":7697},-28.7994384765625]
[null,40098.112488425104,{"$f":"LOOKUP(B518,Data!$A$6:$A$1806,Data!B$6:B$1806)","v":60.041000366210938},{"$f":"LOOKUP(B518,Data!$A$6:$A$1806,Data!C$6:C$1806)","v":3698.591064453125},null,null,null,-32.80029296875,-29.737194702233786,null,null,0,3735.1893772922999,{"$f":"AVERAGE(D$79:D518)","v":3763.7371199174363},{"$f":"AVERAGE(M$79:M518)","v":3775.0242615112497},3769.569968970125,{"$f":"AVERAGE(P$79:P518)","v":3752.3434563070464},null,null,null,null,40098.112488425104,{"$f":"LOOKUP($V518,Data!$A$6:$A$1806,Data!$B$6:$B$1806)","v":60.041000366210938},{"$f":"LOOKUP($V518,Data!$A$6:$A$1806,Data!$C$6:$C$1806)","v":3698.591064453125},{"$f":"LOOKUP($V518,Data!$A$6:$A$1806,Data!$D$6:$D$1806)","v":350},{"$f":"IF($Z$1=\"+\",LOOKUP($V518,Data!$A$6:$A$1806,Data!$E$6:$E$1806)*-1,LOOKUP($V518,Data!$A$6:$A$1806,Data!$E$6:$E$1806))","v":-227.25506591796875},{"$f":"LOOKUP($V518,Data!$A$6:$A$1806,Data!$F$6:$F$1806)","v":16},{"$f":"LOOKUP($V518,Data!$A$6:$A$1806,Data!$G$6:$G$1806)","v":299.5},{"$f":"LOOKUP($V518,Data!$A$6:$A$1806,Data!$H$6:$H$1806)","v":10},{"$f":"LOOKUP($V518,Data!$A$6:$A$1806,Data!$I$6:$I$1806)","v":0},{"$f":"LOOKUP($V518,Data!$A$6:$A$1806,Data!$J$6:$J$1806)","v":-103},{"$f":"LOOKUP($V518,Data!$A$6:$A$1806,Data!$K$6:$K$1806)","v":7698},-32.80029296875]
[null,40098.11251157325,{"$f":"LOOKUP(B519,Data!$A$6:$A$1806,Data!B$6:B$1806)","v":60.043998718261719},{"$f":"LOOKUP(B519,Data!$A$6:$A$1806,Data!C$6:C$1806)","v":3704.59130859375},null,null,null,-35.198974609375,-31.648817669733212,null,null,0,3733.2777543248003,{"$f":"AVERAGE(D$79:D519)","v":3763.6030024314414},{"$f":"AVERAGE(M$79:M519)","v":3774.9295982296476},3769.569968970125,{"$f":"AVERAGE(P$79:P519)","v":3752.3826074721896},null,null,null,null,40098.11251157325,{"$f":"LOOKUP($V519,Data!$A$6:$A$1806,Data!$B$6:$B$1806)","v":60.043998718261719},{"$f":"LOOKUP($V519,Data!$A$6:$A$1806,Data!$C$6:$C$1806)","v":3704.59130859375},{"$f":"LOOKUP($V519,Data!$A$6:$A$1806,Data!$D$6:$D$1806)","v":350},{"$f":"IF($Z$1=\"+\",LOOKUP($V519,Data!$A$6:$A$1806,Data!$E$6:$E$1806)*-1,LOOKUP($V519,Data!$A$6:$A$1806,Data!$E$6:$E$1806))","v":-227.25506591796875},{"$f":"LOOKUP($V519,Data!$A$6:$A$1806,Data!$F$6:$F$1806)","v":16},{"$f":"LOOKUP($V519,Data!$A$6:$A$1806,Data!$G$6:$G$1806)","v":300},{"$f":"LOOKUP($V519,Data!$A$6:$A$1806,Data!$H$6:$H$1806)","v":10},{"$f":"LOOKUP($V519,Data!$A$6:$A$1806,Data!$I$6:$I$1806)","v":0},{"$f":"LOOKUP($V519,Data!$A$6:$A$1806,Data!$J$6:$J$1806)","v":-103},{"$f":"LOOKUP($V519,Data!$A$6:$A$1806,Data!$K$6:$K$1806)","v":7698},-35.198974609375]
[null,40098.112534721397,{"$f":"LOOKUP(B520,Data!$A$6:$A$1806,Data!B$6:B$1806)","v":60.043998718261719},{"$f":"LOOKUP(B520,Data!$A$6:$A$1806,Data!C$6:C$1806)","v":3704.59130859375},null,null,null,-35.198974609375,-32.891372598607838,null,null,0,3732.0351993959257,{"$f":"AVERAGE(D$79:D520)","v":3763.4694918118989},{"$f":"AVERAGE(M$79:M520)","v":3774.8325520784397},3769.569968970125,{"$f":"AVERAGE(P$79:P520)","v":3752.4215810810283},null,null,null,null,40098.112534721397,{"$f":"LOOKUP($V520,Data!$A$6:$A$1806,Data!$B$6:$B$1806)","v":60.043998718261719},{"$f":"LOOKUP($V520,Data!$A$6:$A$1806,Data!$C$6:$C$1806)","v":3704.59130859375},{"$f":"LOOKUP($V520,Data!$A$6:$A$1806,Data!$D$6:$D$1806)","v":350},{"$f":"IF($Z$1=\"+\",LOOKUP($V520,Data!$A$6:$A$1806,Data!$E$6:$E$1806)*-1,LOOKUP($V520,Data!$A$6:$A$1806,Data!$E$6:$E$1806))","v":-227.25506591796875},{"$f":"LOOKUP($V520,Data!$A$6:$A$1806,Data!$F$6:$F$1806)","v":16},{"$f":"LOOKUP($V520,Data!$A$6:$A$1806,Data!$G$6:$G$1806)","v":300},{"$f":"LOOKUP($V520,Data!$A$6:$A$1806,Data!$H$6:$H$1806)","v":10},{"$f":"LOOKUP($V520,Data!$A$6:$A$1806,Data!$I$6:$I$1806)","v":0},{"$f":"LOOKUP($V520,Data!$A$6:$A$1806,Data!$J$6:$J$1806)","v":-103},{"$f":"LOOKUP($V520,Data!$A$6:$A$1806,Data!$K$6:$K$1806)","v":7698},-35.198974609375]
[null,40098.112557869543,{"$f":"LOOKUP(B521,Data!$A$6:$A$1806,Data!B$6:B$1806)","v":60.042999267578125},{"$f":"LOOKUP(B521,Data!$A$6:$A$1806,Data!C$6:C$1806)","v":3702.482421875},null,null,null,-34.3994140625,-33.4191871109701,null,null,0,3731.5073848835636,{"$f":"AVERAGE(D$79:D521)","v":3763.3318234824706},{"$f":"AVERAGE(M$79:M521)","v":3774.7347526039589},3769.569968970125,{"$f":"AVERAGE(P$79:P521)","v":3752.4603783386956},null,null,null,null,40098.112557869543,{"$f":"LOOKUP($V521,Data!$A$6:$A$1806,Data!$B$6:$B$1806)","v":60.042999267578125},{"$f":"LOOKUP($V521,Data!$A$6:$A$1806,Data!$C$6:$C$1806)","v":3702.482421875},{"$f":"LOOKUP($V521,Data!$A$6:$A$1806,Data!$D$6:$D$1806)","v":350},{"$f":"IF($Z$1=\"+\",LOOKUP($V521,Data!$A$6:$A$1806,Data!$E$6:$E$1806)*-1,LOOKUP($V521,Data!$A$6:$A$1806,Data!$E$6:$E$1806))","v":-227.25506591796875},{"$f":"LOOKUP($V521,Data!$A$6:$A$1806,Data!$F$6:$F$1806)","v":16},{"$f":"LOOKUP($V521,Data!$A$6:$A$1806,Data!$G$6:$G$1806)","v":300.5},{"$f":"LOOKUP($V521,Data!$A$6:$A$1806,Data!$H$6:$H$1806)","v":10},{"$f":"LOOKUP($V521,Data!$A$6:$A$1806,Data!$I$6:$I$1806)","v":0},{"$f":"LOOKUP($V521,Data!$A$6:$A$1806,Data!$J$6:$J$1806)","v":-103},{"$f":"LOOKUP($V521,Data!$A$6:$A$1806,Data!$K$6:$K$1806)","v":7698.33},-34.3994140625]
[null,40098.112581017689,{"$f":"LOOKUP(B522,Data!$A$6:$A$1806,Data!B$6:B$1806)","v":60.048000335693359},{"$f":"LOOKUP(B522,Data!$A$6:$A$1806,Data!C$6:C$1806)","v":3701.31640625},null,null,null,-38.4002685546875,-35.162565616271195,null,null,0,3729.7640063782624,{"$f":"AVERAGE(D$79:D522)","v":3763.1921491193343},{"$f":"AVERAGE(M$79:M522)","v":3774.633467139487},3769.569968970125,{"$f":"AVERAGE(P$79:P522)","v":3752.4990004394435},null,null,null,null,40098.112581017689,{"$f":"LOOKUP($V522,Data!$A$6:$A$1806,Data!$B$6:$B$1806)","v":60.048000335693359},{"$f":"LOOKUP($V522,Data!$A$6:$A$1806,Data!$C$6:$C$1806)","v":3701.31640625},{"$f":"LOOKUP($V522,Data!$A$6:$A$1806,Data!$D$6:$D$1806)","v":350},{"$f":"IF($Z$1=\"+\",LOOKUP($V522,Data!$A$6:$A$1806,Data!$E$6:$E$1806)*-1,LOOKUP($V522,Data!$A$6:$A$1806,Data!$E$6:$E$1806))","v":-227.25506591796875},{"$f":"LOOKUP($V522,Data!$A$6:$A$1806,Data!$F$6:$F$1806)","v":16},{"$f":"LOOKUP($V522,Data!$A$6:$A$1806,Data!$G$6:$G$1806)","v":301},{"$f":"LOOKUP($V522,Data!$A$6:$A$1806,Data!$H$6:$H$1806)","v":10},{"$f":"LOOKUP($V522,Data!$A$6:$A$1806,Data!$I$6:$I$1806)","v":0},{"$f":"LOOKUP($V522,Data!$A$6:$A$1806,Data!$J$6:$J$1806)","v":-103},{"$f":"LOOKUP($V522,Data!$A$6:$A$1806,Data!$K$6:$K$1806)","v":7698.66},-38.4002685546875]
[null,40098.112604165835,{"$f":"LOOKUP(B523,Data!$A$6:$A$1806,Data!B$6:B$1806)","v":60.048000335693359},{"$f":"LOOKUP(B523,Data!$A$6:$A$1806,Data!C$6:C$1806)","v":3701.31640625},null,null,null,-38.4002685546875,-36.295761644716904,null,null,0,3728.6308103498168,{"$f":"AVERAGE(D$79:D523)","v":3763.0531025061446},{"$f":"AVERAGE(M$79:M523)","v":3774.530090382656},3769.569968970125,{"$f":"AVERAGE(P$79:P523)","v":3752.5374485667644},null,null,null,null,40098.112604165835,{"$f":"LOOKUP($V523,Data!$A$6:$A$1806,Data!$B$6:$B$1806)","v":60.048000335693359},{"$f":"LOOKUP($V523,Data!$A$6:$A$1806,Data!$C$6:$C$1806)","v":3701.31640625},{"$f":"LOOKUP($V523,Data!$A$6:$A$1806,Data!$D$6:$D$1806)","v":350},{"$f":"IF($Z$1=\"+\",LOOKUP($V523,Data!$A$6:$A$1806,Data!$E$6:$E$1806)*-1,LOOKUP($V523,Data!$A$6:$A$1806,Data!$E$6:$E$1806))","v":-227.25506591796875},{"$f":"LOOKUP($V523,Data!$A$6:$A$1806,Data!$F$6:$F$1806)","v":16},{"$f":"LOOKUP($V523,Data!$A$6:$A$1806,Data!$G$6:$G$1806)","v":301},{"$f":"LOOKUP($V523,Data!$A$6:$A$1806,Data!$H$6:$H$1806)","v":10},{"$f":"LOOKUP($V523,Data!$A$6:$A$1806,Data!$I$6:$I$1806)","v":0},{"$f":"LOOKUP($V523,Data!$A$6:$A$1806,Data!$J$6:$J$1806)","v":-103},{"$f":"LOOKUP($V523,Data!$A$6:$A$1806,Data!$K$6:$K$1806)","v":7698.66},-38.4002685546875]
[null,40098.112627313982,{"$f":"LOOKUP(B524,Data!$A$6:$A$1806,Data!B$6:B$1806)","v":60.046001434326172},{"$f":"LOOKUP(B524,Data!$A$6:$A$1806,Data!C$6:C$1806)","v":3699.528564453125},null,null,null,-36.8011474609375,-36.472646680394114,null,null,0,3728.4539253141397,{"$f":"AVERAGE(D$79:D524)","v":3762.9106708064742},{"$f":"AVERAGE(M$79:M524)","v":3774.4267805955069},3769.569968970125,{"$f":"AVERAGE(P$79:P524)","v":3752.5757238935134},null,null,null,null,40098.112627313982,{"$f":"LOOKUP($V524,Data!$A$6:$A$1806,Data!$B$6:$B$1806)","v":60.046001434326172},{"$f":"LOOKUP($V524,Data!$A$6:$A$1806,Data!$C$6:$C$1806)","v":3699.528564453125},{"$f":"LOOKUP($V524,Data!$A$6:$A$1806,Data!$D$6:$D$1806)","v":350},{"$f":"IF($Z$1=\"+\",LOOKUP($V524,Data!$A$6:$A$1806,Data!$E$6:$E$1806)*-1,LOOKUP($V524,Data!$A$6:$A$1806,Data!$E$6:$E$1806))","v":-229.29022216796875},{"$f":"LOOKUP($V524,Data!$A$6:$A$1806,Data!$F$6:$F$1806)","v":16},{"$f":"LOOKUP($V524,Data!$A$6:$A$1806,Data!$G$6:$G$1806)","v":301.5},{"$f":"LOOKUP($V524,Data!$A$6:$A$1806,Data!$H$6:$H$1806)","v":10},{"$f":"LOOKUP($V524,Data!$A$6:$A$1806,Data!$I$6:$I$1806)","v":0},{"$f":"LOOKUP($V524,Data!$A$6:$A$1806,Data!$J$6:$J$1806)","v":-103},{"$f":"LOOKUP($V524,Data!$A$6:$A$1806,Data!$K$6:$K$1806)","v":7698.99},-36.8011474609375]
[null,40098.112650462128,{"$f":"LOOKUP(B525,Data!$A$6:$A$1806,Data!B$6:B$1806)","v":60.042999267578125},{"$f":"LOOKUP(B525,Data!$A$6:$A$1806,Data!C$6:C$1806)","v":3699.72607421875},null,null,null,-34.3994140625,-35.747015264131178,null,null,0,3729.1795567304025,{"$f":"AVERAGE(D$79:D525)","v":3762.7693182414009},{"$f":"AVERAGE(M$79:M525)","v":3774.3255563810435},3769.569968970125,{"$f":"AVERAGE(P$79:P525)","v":3752.6138275820258},null,null,null,null,40098.112650462128,{"$f":"LOOKUP($V525,Data!$A$6:$A$1806,Data!$B$6:$B$1806)","v":60.042999267578125},{"$f":"LOOKUP($V525,Data!$A$6:$A$1806,Data!$C$6:$C$1806)","v":3699.72607421875},{"$f":"LOOKUP($V525,Data!$A$6:$A$1806,Data!$D$6:$D$1806)","v":350},{"$f":"IF($Z$1=\"+\",LOOKUP($V525,Data!$A$6:$A$1806,Data!$E$6:$E$1806)*-1,LOOKUP($V525,Data!$A$6:$A$1806,Data!$E$6:$E$1806))","v":-229.29022216796875},{"$f":"LOOKUP($V525,Data!$A$6:$A$1806,Data!$F$6:$F$1806)","v":16},{"$f":"LOOKUP($V525,Data!$A$6:$A$1806,Data!$G$6:$G$1806)","v":302},{"$f":"LOOKUP($V525,Data!$A$6:$A$1806,Data!$H$6:$H$1806)","v":10},{"$f":"LOOKUP($V525,Data!$A$6:$A$1806,Data!$I$6:$I$1806)","v":0},{"$f":"LOOKUP($V525,Data!$A$6:$A$1806,Data!$J$6:$J$1806)","v":-103},{"$f":"LOOKUP($V525,Data!$A$6:$A$1806,Data!$K$6:$K$1806)","v":7699.32},-34.3994140625]
[null,40098.112673610274,{"$f":"LOOKUP(B526,Data!$A$6:$A$1806,Data!B$6:B$1806)","v":60.042999267578125},{"$f":"LOOKUP(B526,Data!$A$6:$A$1806,Data!C$6:C$1806)","v":3699.72607421875},null,null,null,-34.3994140625,-35.275354843560265,null,null,0,3729.6512171509735,{"$f":"AVERAGE(D$79:D526)","v":3762.6285967145645},{"$f":"AVERAGE(M$79:M526)","v":3774.2258368738335},3769.569968970125,{"$f":"AVERAGE(P$79:P526)","v":3752.6517607842361},null,null,null,null,40098.112673610274,{"$f":"LOOKUP($V526,Data!$A$6:$A$1806,Data!$B$6:$B$1806)","v":60.042999267578125},{"$f":"LOOKUP($V526,Data!$A$6:$A$1806,Data!$C$6:$C$1806)","v":3699.72607421875},{"$f":"LOOKUP($V526,Data!$A$6:$A$1806,Data!$D$6:$D$1806)","v":350},{"$f":"IF($Z$1=\"+\",LOOKUP($V526,Data!$A$6:$A$1806,Data!$E$6:$E$1806)*-1,LOOKUP($V526,Data!$A$6:$A$1806,Data!$E$6:$E$1806))","v":-229.29022216796875},{"$f":"LOOKUP($V526,Data!$A$6:$A$1806,Data!$F$6:$F$1806)","v":16},{"$f":"LOOKUP($V526,Data!$A$6:$A$1806,Data!$G$6:$G$1806)","v":302},{"$f":"LOOKUP($V526,Data!$A$6:$A$1806,Data!$H$6:$H$1806)","v":10},{"$f":"LOOKUP($V526,Data!$A$6:$A$1806,Data!$I$6:$I$1806)","v":0},{"$f":"LOOKUP($V526,Data!$A$6:$A$1806,Data!$J$6:$J$1806)","v":-103},{"$f":"LOOKUP($V526,Data!$A$6:$A$1806,Data!$K$6:$K$1806)","v":7699.32},-34.3994140625]
[null,40098.11269675842,{"$f":"LOOKUP(B527,Data!$A$6:$A$1806,Data!B$6:B$1806)","v":60.042999267578125},{"$f":"LOOKUP(B527,Data!$A$6:$A$1806,Data!C$6:C$1806)","v":3690.477294921875},null,null,null,-34.3994140625,-34.968775570189173,null,null,0,3729.9577964243445,{"$f":"AVERAGE(D$79:D527)","v":3762.4679033920866},{"$f":"AVERAGE(M$79:M527)","v":3774.1272443561288},3769.569968970125,{"$f":"AVERAGE(P$79:P527)","v":3752.6895246417939},null,null,null,null,40098.11269675842,{"$f":"LOOKUP($V527,Data!$A$6:$A$1806,Data!$B$6:$B$1806)","v":60.042999267578125},{"$f":"LOOKUP($V527,Data!$A$6:$A$1806,Data!$C$6:$C$1806)","v":3690.477294921875},{"$f":"LOOKUP($V527,Data!$A$6:$A$1806,Data!$D$6:$D$1806)","v":350},{"$f":"IF($Z$1=\"+\",LOOKUP($V527,Data!$A$6:$A$1806,Data!$E$6:$E$1806)*-1,LOOKUP($V527,Data!$A$6:$A$1806,Data!$E$6:$E$1806))","v":-229.29022216796875},{"$f":"LOOKUP($V527,Data!$A$6:$A$1806,Data!$F$6:$F$1806)","v":16},{"$f":"LOOKUP($V527,Data!$A$6:$A$1806,Data!$G$6:$G$1806)","v":302.5},{"$f":"LOOKUP($V527,Data!$A$6:$A$1806,Data!$H$6:$H$1806)","v":10},{"$f":"LOOKUP($V527,Data!$A$6:$A$1806,Data!$I$6:$I$1806)","v":0},{"$f":"LOOKUP($V527,Data!$A$6:$A$1806,Data!$J$6:$J$1806)","v":-103},{"$f":"LOOKUP($V527,Data!$A$6:$A$1806,Data!$K$6:$K$1806)","v":7699.65},-34.3994140625]
[null,40098.112719906567,{"$f":"LOOKUP(B528,Data!$A$6:$A$1806,Data!B$6:B$1806)","v":60.042999267578125},{"$f":"LOOKUP(B528,Data!$A$6:$A$1806,Data!C$6:C$1806)","v":3696.864501953125},null,null,null,-34.3994140625,-34.769499042497962,null,null,{"$f":"IF(B528>G$3,0,(K$21*0.000023148/K$22))","v":0},{"$f":"M527+L528+(I528-I527)","v":3730.1570729520358},{"$f":"AVERAGE(D$79:D528)","v":3762.3221180555556},{"$f":"AVERAGE(M$79:M528)","v":3774.0295328641196},3769.569968970125,{"$f":"AVERAGE(P$79:P528)","v":3752.7271202861775},null,null,null,null,40098.112719906567,{"$f":"LOOKUP($V528,Data!$A$6:$A$1806,Data!$B$6:$B$1806)","v":60.042999267578125},{"$f":"LOOKUP($V528,Data!$A$6:$A$1806,Data!$C$6:$C$1806)","v":3696.864501953125},{"$f":"LOOKUP($V528,Data!$A$6:$A$1806,Data!$D$6:$D$1806)","v":350},{"$f":"IF($Z$1=\"+\",LOOKUP($V528,Data!$A$6:$A$1806,Data!$E$6:$E$1806)*-1,LOOKUP($V528,Data!$A$6:$A$1806,Data!$E$6:$E$1806))","v":-229.29022216796875},{"$f":"LOOKUP($V528,Data!$A$6:$A$1806,Data!$F$6:$F$1806)","v":16},{"$f":"LOOKUP($V528,Data!$A$6:$A$1806,Data!$G$6:$G$1806)","v":303},{"$f":"LOOKUP($V528,Data!$A$6:$A$1806,Data!$H$6:$H$1806)","v":10},{"$f":"LOOKUP($V528,Data!$A$6:$A$1806,Data!$I$6:$I$1806)","v":0},{"$f":"LOOKUP($V528,Data!$A$6:$A$1806,Data!$J$6:$J$1806)","v":-103},{"$f":"LOOKUP($V528,Data!$A$6:$A$1806,Data!$K$6:$K$1806)","v":7699.98},-34.3994140625]
[null,40098.112743054713,{"$f":"LOOKUP(B529,Data!$A$6:$A$1806,Data!B$6:B$1806)","v":60.042999267578125},{"$f":"LOOKUP(B529,Data!$A$6:$A$1806,Data!C$6:C$1806)","v":3696.864501953125},null,null,null,-34.3994140625,-34.639969299498674,null,null,0,3730.2866026950351,{"$f":"AVERAGE(D$79:D529)","v":3762.1769792171908},{"$f":"AVERAGE(M$79:M529)","v":3773.9325418881349},3769.569968970125,{"$f":"AVERAGE(P$79:P529)","v":3752.764548838808},null,null,null,null,{"$f":"V528+TIME(0,0,$B$1)","v":40098.112743054713},{"$f":"LOOKUP($V529,Data!$A$6:$A$1806,Data!$B$6:$B$1806)","v":60.042999267578125},{"$f":"LOOKUP($V529,Data!$A$6:$A$1806,Data!$C$6:$C$1806)","v":3696.864501953125},{"$f":"LOOKUP($V529,Data!$A$6:$A$1806,Data!$D$6:$D$1806)","v":350},{"$f":"IF($Z$1=\"+\",LOOKUP($V529,Data!$A$6:$A$1806,Data!$E$6:$E$1806)*-1,LOOKUP($V529,Data!$A$6:$A$1806,Data!$E$6:$E$1806))","v":-229.29022216796875},{"$f":"LOOKUP($V529,Data!$A$6:$A$1806,Data!$F$6:$F$1806)","v":16},{"$f":"LOOKUP($V529,Data!$A$6:$A$1806,Data!$G$6:$G$1806)","v":303},{"$f":"LOOKUP($V529,Data!$A$6:$A$1806,Data!$H$6:$H$1806)","v":10},{"$f":"LOOKUP($V529,Data!$A$6:$A$1806,Data!$I$6:$I$1806)","v":0},{"$f":"LOOKUP($V529,Data!$A$6:$A$1806,Data!$J$6:$J$1806)","v":-103},{"$f":"LOOKUP($V529,Data!$A$6:$A$1806,Data!$K$6:$K$1806)","v":7699.98},-34.3994140625]

{"sheet":"Graph 20 to 52s","index":3,"n_rows":0,"n_cols":0,"rows_kept":0,"cut":false,"hidden":false,"merged":[]}

{"sheet":"Sustained Graph","index":4,"n_rows":0,"n_cols":0,"rows_kept":0,"cut":false,"hidden":false,"merged":[]}

{"sheet":"Form 1 Summary Data","index":5,"n_rows":7,"n_cols":31,"rows_kept":7,"cut":false,"hidden":false,"merged":[]}
[null,null,null,null,null,null,"Value A Data",null,"BA Performance",null,null,null,null,null,null,null,null,"Value B","20 to 52 second Average Period Evaluation"]
[null,null,null,null,null,null,null,null,"JOU","Non-",null,null,"Transferred","Contingent",null,null,null,null,null,"JOU","Non-",null,null,"Transferred","Contingent"]
["Date","A Point","FPointA","A Value","t(0) Time","C Value",null,"Net","Dynamic","Conforming","Pumped","Ramping","Frequency","BA","BA","BA","Bias",null,"Net","Dynamic","Conforming","Pumped","Ramping","Frequency","BA","Initial","Initial","Sustained","BA","BA","Bias"]
[null,"Time","Hz","Hz",null,"Hz",null,"Actual","Schedules","Load","Hydro","Units","Response","Lost Generation","Bias","Load","Setting",null,"Actual","Schedules","Load","Hydro","Units","Response","Lost Generation","Performance","Performance","Performance","Bias","Load","Setting"]
[null,null,null,null,null,null,"Frequency","Interchange","Imp(-) Exp (+)","Load (-)","Load (-) Gen (+)","Gen (+)","Rec (-) Del (+)","Load (-) Gen (+)","Setting",null,"EPFR","Frequency","Interchange","Imp(-) Exp (+)","Load (-)","Load (-) Gen (+)","Gen (+)","Rec (-) Del (+)","Load (-) Gen (+)","Adjusted","Unadjusted",null,"Setting",null,"EPFR"]
[null,null,null,null,null,null,"Hz","MW","MW","MW","MW","MW","MW","MW","MW/0.1 Hz","MW","MW","Hz","MW","MW","MW","MW","MW","MW","MW","P.U.","P.U.","P.U.","MW/0.1 Hz","MW","MW"]
[{"$f":"Evaluation!AN2","v":"2009-10-12T02:27:21"},{"$f":"Evaluation!G2","v":40098.102326388886},{"$f":"Evaluation!S2","v":60.03900146484375},{"$f":"Evaluation!S3","v":60.041749954223633},{"$f":"Evaluation!G2","v":40098.102326388886},{"$f":"Evaluation!S4","v":59.83599853515625},{"$f":"Evaluation!AN4","v":60.041749954223633},{"$f":"Evaluation!AN7","v":3647.0458679199219},{"$f":"Evaluation!AN15","v":350},{"$f":"Evaluation!AN16","v":-165.42955589294434},{"$f":"Evaluation!AN17","v":0},{"$f":"Evaluation!AN18","v":151.8125},{"$f":"Evaluation!AN19","v":-4.1749954223632812},{"$f":"Evaluation!AN20","v":15},{"$f":"Evaluation!AS15","v":-103},{"$f":"Evaluation!AS23","v":7600.1962500000009},{"$f":"Evaluation!AS17","v":-43.002452850341797},{"$f":"Evaluation!AN5","v":59.888705982881433},{"$f":"Evaluation!AN8","v":3787.7750028722426},{"$f":"Evaluation!AN23","v":335},{"$f":"Evaluation!AN16","v":-165.42955589294434},{"$f":"Evaluation!AN25","v":2.1176470588235294},{"$f":"Evaluation!AN26","v":159.1764705882353},{"$f":"Evaluation!AN27","v":11.129401711856701},{"$f":"Evaluation!AN28","v":0},{"$f":"Evaluation!AN34","v":1.5784508738586487},{"$f":"Evaluation!AN33","v":1.1494174984329919},{"$f":"Evaluation!$K$33","v":0.92910796774323989},{"$f":"Evaluation!AS16","v":-103},{"$f":"Evaluation!AS24","v":7570},{"$f":"Evaluation!AS18","v":114.63283763212402}]

{"sheet":"Instructions","index":6,"n_rows":43,"n_cols":2,"rows_kept":43,"cut":false,"hidden":false,"merged":[]}
["Steps","To be completed for each event evaluated."]
[1,"Set-up Data collection in exact same order as the \"Data\" sheet of this work book.  Data should be in this order:"]
[null,"Column A: Date and Time in this format, mm/dd/yy HH:MM:SS"]
[null,"Column B: Frequency Hz"]
[null,"Column C: Net Actual Interchange"]
[null,"Column D: Joint Owned Unit dynamic schedule"]
[null,"Column E: Non Conforming Load"]
[null,"Column F: Pumped Hydro"]
[null,"Column G: Ramping units"]
[null,"Column H: Transferred Frequency Response"]
[null,"Column I: Contingent BA Lost load or generation"]
[null,"Column J: BA Bias Setting"]
[null,"Column K: BA Load"]
[]
[2,"Note: Columns D, E, F, G and H are optional data.  If you choose not to use these, leave the columns blank.  Do not delete the columns.  Use the sign (+/-) convention defined in FRS Form 1."]
[3,"Data compression must be turned off for each data point.  Quality data will give you quality results in the evaluation."]
[4,"Data must be at 3 second sample rate for the full 25 minute minimum collection period that starts a minimum of two (2) minutes before the event begins and includes a minimum of 15 minutes after the beginning of the event."]
[null,"The spreadsheet will work with up to 60 minutes of data.  Be sure the \"Data\" worksheet is clear of any old data.  If you start your data collection exactly 10 minutes before the event time in Form 1, the row number in cell C8"]
[null,"of the Entry Data sheet will be correct most of the time.  If using PI historian as your data source, use \"PasteSpecial/Values\" to enter data into the spreadsheet.  Do not include historian data collection formulas in the data."]
[5,"Once data is in place in the \"Data\" worksheet, determine when the beginning of the event occurred.  This is accomplished by knowing the UTC event time from Form 1."]
[null,"Convert the UTC event time to your PI data time and then scroll through the Data worksheet column B data of frequency and observe when frequency moves from the normal, pre-event frequency."]
[null,"This will usually be a single change in frequency of 0.008 to 0.010 Hz more or less.  Note the row number in the worksheet that this change occurs.  In this sample data spreadsheet this occurs in row 206 of the data."]
[6,"Edit cell \"C8\" of the \"Entry Data\" worksheet, change the formula in the cell \"C8\" to reference the row number identified in step 5 above.  In the sample data of this workbook this formula is: \"=Data!A206\""]
[null,"If the correct row is selected, the \"Graph 20 to 52s\" worksheet will indicate the first change in frequency of the event on the center vertical grid line of the graph (Red Trend)."]
[7,"Determine the end of the event to be evaluated.  Use the same rules that are used for DCS only look at frequency instead of ACE.  Scroll down the frequency data in column B of the \"Data\" worksheet until frequency reaches 60 Hz or the"]
[null,"pre-disturbance value.  Note the row number in the worksheet that this occurs.  In this sample data spreadsheet this occurs in row 317."]
[8,"Edit cell \"C11\" of the \"Evaluation\" worksheet, change the formula in the cell \"C11\" to reference the row number identified in step 7 above.  In the sample data of this workbook this formula is: \"=Data!A317\""]
[9,"Use the \"copy\" button provided to copy the evaluation and event specific data for the \"FRS Form 1\" of this field trial.  This data is summarized in the correct order on worksheet \"Form 1 Summary Data\" of this workbook."]
[null,"Use PasteSpecial/Values when pasting the data into FRS Form 1 on the appropriate event row."]
[10,"Save this Form 2 using the file name convention on the Entry Data worksheet.  Return all completed Form 2s with your Form 1 to NERC."]
[]
[]
[]
["Steps","To be completed the first time you use Form 2 for your BA."]
["A","Enter the Balancing Authority name as you want it to appear on the graphs in cell \"B1\" of the \"Entry Data\" worksheet.  For example: \"NYISO\"."]
["B","Enter your Balancing Authorities Frequency Response Obligation in cell \"B2\" of the \"Entry Data\" worksheet.  For example: -80 MW/0.1 Hz (This value could change annually and must be a negative value)"]
["C","For informational and educational purposes, a \"Sustained\" performance evaluation is provided in the \"Evaluation\" worksheet and in the \"Sustained\" Graph.  This evaluation uses a Time Constant (TC) to model the frequency response of your BA."]
[null,"The time constant is located in cell \"L13\" of the \"Evaluation\" spreadsheet and should be edited for the types of generators in your BA.  Presently this time constant is set at 0.35.  "]
[null,"The higher the value of the time constant, the faster the delivery of frequency response is expected.  Setting the TC to 1.0 effectively turns off the delay and instantaneous frequency response will be modeled.  Do not set higher than 1.0."]
[null,"This time constant is only used in the \"Sustained\" evaluation and is not used for the Field Trial evaluation of performance to the FRO."]
[null,"A typical setting for this time constant is 0.08 to 0.15 for hydro units, 0.10 to 0.20 for large steam turbines and 0.20 to 0.40 for combustion turbines.  "]
[null,"By observing the slope of your \"Interchange Actual\" on the \"Sustained\" Graph, adjust the time constant until the initial slope of the \"Target\" is similar."]
[null,"When set appropriately, the \"Target\" trend on the \"Sustained\" graph will model what Interchange Actual should have done during the event recovery period based on your minimum FRO (Value entered in Cell B2 of the Data Entry sheet)."]

{"sheet":"Adj Graph JOU","index":7,"n_rows":0,"n_cols":0,"rows_kept":0,"cut":false,"hidden":false,"merged":[]}

{"sheet":"Adj Graph NCL","index":8,"n_rows":0,"n_cols":0,"rows_kept":0,"cut":false,"hidden":false,"merged":[]}

{"sheet":"Adj Graph PmpHyd","index":9,"n_rows":0,"n_cols":0,"rows_kept":0,"cut":false,"hidden":false,"merged":[]}

{"sheet":"Adj Graph RampGen","index":10,"n_rows":0,"n_cols":0,"rows_kept":0,"cut":false,"hidden":false,"merged":[]}

{"sheet":"Adj Graph MWper0.1Hz","index":11,"n_rows":0,"n_cols":0,"rows_kept":0,"cut":false,"hidden":false,"merged":[]}

{"sheet":"Adj Graph ContingentBA","index":12,"n_rows":0,"n_cols":0,"rows_kept":0,"cut":false,"hidden":false,"merged":[]}

{"sheet":"BA LoadDampening","index":13,"n_rows":0,"n_cols":0,"rows_kept":0,"cut":false,"hidden":false,"merged":[]}

{"sheet":"BA BiasSetting","index":14,"n_rows":0,"n_cols":0,"rows_kept":0,"cut":false,"hidden":false,"merged":[]}