{"text_format":"1","workbook":"xlsx","n_sheets":16,"sheets":["Data","Copy Results","Evaluation","Graph 20 to 52s","Sustained Graph","Bias Graph","Form 1 Summary Data","Instructions","Adj Graph Load Resources","Adj Graph NCL","Adj Graph PmpHyd","Adj Graph Spare","Adj Graph MWper0.1Hz","Adj Graph ContingentBA","BA LoadDampening","BA BiasSetting"],"not_rendered":{"charts":11,"images":0,"macros":1,"external_links":0,"defined_names":0,"comments":2,"pivot_tables":0},"unopened":[],"bounds":{"document_bytes":16777216,"sheet_cells":100000,"rows_first":2000,"rows_last":500,"rows_between":2000,"halvings":0,"cell_chars":16384,"cell_head_chars":4096},"cells_cut":0,"cells_raw":0,"read":"whole","date_system":"1900"}

{"sheet":"Data","index":0,"n_rows":1806,"n_cols":18,"rows_kept":1806,"cut":false,"hidden":false,"merged":[]}
[null,null,null,null,"Non-",null,null,null,null,null,null,null,"Event Detection","Recovery Target Freq:","Max Absolute Delta Hz","Lowest Delta Hz","Highest Delta Hz","Rows of data to shift to align T(0)"]
[null,null,"Contingent","Load","Conforming","Not","Not","Not","Not","BA","BA",null,"Row",{"$f":"IF(Evaluation!G6<0,MIN(Evaluation!G4,60),MAX(Evaluation!G4,60))","v":59.998626708984375},{"$f":"MAX(ABS(P7:P1643))","v":7.8189849853515625E-2},{"$f":"MIN($P6:$P1806)","v":-7.8189849853515625E-2},{"$f":"MAX($P6:$P1806)","v":8.72802734375E-3},{"$f":"'Graph 20 to 52s'!Q3","v":1}]
[null,null,"Resource","Resources","Load","Used","Used","Used","Used","Bias","Load",null,{"$f":"IF('Copy Results'!E4=\"Auto\",MATCH(O$2,Q$7:Q$1806,0)+6-R2,'Copy Results'!E5)","v":805},{"$f":"INDEX(A:A,M3)","v":40679.337939814817},"t(0)"]
[null,null,"Lost","Tripped","Load (-)",null,null,null,null,"Setting",null,null,{"$f":"IF('Copy Results'!E4=\"Auto\",MATCH(1,N7:N1806,0)+6,'Copy Results'!E6)","v":921},{"$f":"INDEX(A:A,M4)","v":40679.340624999997},"t(Recovery)","Delta","Absolute"]
["Time (T)","Hz","MW","MW","MW",null,null,null,null,"MW/0.1 Hz","MW",null,{"$f":"MATCH(O$2,Q$7:Q$1806,0)+6","v":806},{"$f":"N4-N3","v":"00:03:52"},"Event Length mm:ss","Hz","Delta Hz"]
["2011-05-16T07:40:00",60.00970458984375,471,null,0,0,null,null,null,-653,29756.8515625,null,null,0]
["2011-05-16T07:40:02",60.0074462890625,471,null,0,0,null,null,null,-653,29756.8515625,null,{"$f":"IF(ROW()<$M$5,0,1)","v":0},{"$f":"IF((M7=1)*(B7>$N$2),1,0)","v":0},{"$f":"IF(ROW()<$M$3,0,1)","v":0},{"$f":"B7-B6","v":-2.25830078125E-3},{"$f":"ABS(P7)","v":2.25830078125E-3}]
["2011-05-16T07:40:04",60.0045166015625,471,null,0,0,null,null,null,-653,29756.822265625,null,{"$f":"IF(ROW()<$M$5,0,1)","v":0},{"$f":"IF((M8=1)*(B8>$N$2),1,0)","v":0},0,{"$f":"B8-B7","v":-2.9296875E-3},{"$f":"ABS(P8)","v":2.9296875E-3}]
["2011-05-16T07:40:06",60.002593994140625,471,null,0,0,null,null,null,-653,29756.822265625,null,0,0,0,-1.922607421875E-3,1.922607421875E-3]
["2011-05-16T07:40:08",60.000335693359375,471,null,0,0,null,null,null,-653,29756.822265625,null,0,0,0,-2.25830078125E-3,2.25830078125E-3,{"$f":"IF(Q10>(AVERAGE(Q6:Q9)+0.003),1,\" \")","v":" "}]
["2011-05-16T07:40:10",59.99871826171875,471,null,0,0,null,null,null,-653,29756.822265625,null,0,0,0,-1.617431640625E-3,1.617431640625E-3,{"$f":"IF(Q11>(AVERAGE(Q7:Q10)+R$2),1,\" \")","v":" "}]
["2011-05-16T07:40:12",59.997100830078125,471,null,0,0,null,null,null,-653,29756.822265625,null,0,0,0,-1.617431640625E-3,1.617431640625E-3," "]
["2011-05-16T07:40:14",59.9954833984375,471,null,0,0,null,null,null,-653,29766.462890625,null,0,0,0,-1.617431640625E-3,1.617431640625E-3," "]
["2011-05-16T07:40:16",59.9935302734375,471,null,0,0,null,null,null,-653,29766.462890625,null,0,0,0,-1.953125E-3,1.953125E-3," "]
["2011-05-16T07:40:18",59.990631103515625,471,null,0,0,null,null,null,-653,29766.462890625,null,0,0,0,-2.899169921875E-3,2.899169921875E-3," "]
["2011-05-16T07:40:20",59.987396240234375,471,null,0,0,null,null,null,-653,29766.462890625,null,0,0,0,-3.23486328125E-3,3.23486328125E-3," "]
["2011-05-16T07:40:22",59.984161376953125,471,null,0,0,null,null,null,-653,29766.462890625,null,0,0,0,-3.23486328125E-3,3.23486328125E-3," "]
["2011-05-16T07:40:24",59.980926513671875,471,null,0,0,null,null,null,-653,29766.373046875,null,0,0,0,-3.23486328125E-3,3.23486328125E-3," "]
["2011-05-16T07:40:26",59.978668212890625,471,null,0,0,null,null,null,-653,29766.373046875,null,0,0,0,-2.25830078125E-3,2.25830078125E-3," "]
["2011-05-16T07:40:28",59.978363037109375,471,null,0,0,null,null,null,-653,29766.373046875,null,0,0,0,-3.0517578125E-4,3.0517578125E-4," "]
["2011-05-16T07:40:30",59.978363037109375,471,null,0,0,null,null,null,-653,29766.373046875,null,0,0,0,0,0," "]
["2011-05-16T07:40:32",59.978363037109375,471,null,0,0,null,null,null,-653,29766.373046875,null,0,0,0,0,0," "]
["2011-05-16T07:40:34",59.97576904296875,471,null,0,0,null,null,null,-653,29780.982421875,null,0,0,0,-2.593994140625E-3,2.593994140625E-3," "]
["2011-05-16T07:40:36",59.97381591796875,471,null,0,0,null,null,null,-653,29780.982421875,null,0,0,0,-1.953125E-3,1.953125E-3," "]
["2011-05-16T07:40:38",59.97222900390625,471,null,0,0,null,null,null,-653,29780.982421875,null,0,0,0,-1.5869140625E-3,1.5869140625E-3," "]
["2011-05-16T07:40:40",59.97222900390625,471,null,0,0,null,null,null,-653,29780.982421875,null,0,0,0,0,0," "]
["2011-05-16T07:40:42",59.973175048828125,471,null,0,0,null,null,null,-653,29780.982421875,null,0,0,0,9.46044921875E-4,9.46044921875E-4," "]
["2011-05-16T07:40:44",59.9735107421875,471,null,0,0,null,null,null,-653,29780.951171875,null,0,0,0,3.35693359375E-4,3.35693359375E-4," "]
["2011-05-16T07:40:46",59.974151611328125,471,null,0,0,null,null,null,-653,29780.951171875,null,0,0,0,6.40869140625E-4,6.40869140625E-4," "]
["2011-05-16T07:40:48",59.972869873046875,471,null,0,0,null,null,null,-653,29780.951171875,null,0,0,0,-1.28173828125E-3,1.28173828125E-3," "]
["2011-05-16T07:40:50",59.972869873046875,471,null,0,0,null,null,null,-653,29780.951171875,null,0,0,0,0,0," "]
["2011-05-16T07:40:52",59.972869873046875,471,null,0,0,null,null,null,-653,29780.951171875,null,0,0,0,0,0," "]
["2011-05-16T07:40:54",59.96832275390625,471,null,0,0,null,null,null,-653,29770.341796875,null,0,0,0,-4.547119140625E-3,4.547119140625E-3," "]
["2011-05-16T07:40:56",59.967681884765625,471,null,0,0,null,null,null,-653,29770.341796875,null,0,0,0,-6.40869140625E-4,6.40869140625E-4," "]
["2011-05-16T07:40:58",59.968994140625,471,null,0,0,null,null,null,-653,29770.341796875,null,0,0,0,1.312255859375E-3,1.312255859375E-3," "]
["2011-05-16T07:41:00",59.97027587890625,471,null,0,0,null,null,null,-653,29770.341796875,null,0,0,0,1.28173828125E-3,1.28173828125E-3," "]
["2011-05-16T07:41:02",59.97222900390625,471,null,0,0,null,null,null,-653,29770.341796875,null,0,0,0,1.953125E-3,1.953125E-3," "]
["2011-05-16T07:41:04",59.97381591796875,471,null,0,0,null,null,null,-653,29770.341796875,null,0,0,0,1.5869140625E-3,1.5869140625E-3," "]
["2011-05-16T07:41:06",59.97479248046875,471,null,0,0,null,null,null,-653,29770.341796875,null,0,0,0,9.765625E-4,9.765625E-4," "]
["2011-05-16T07:41:08",59.976104736328125,471,null,0,0,null,null,null,-653,29770.341796875,null,0,0,0,1.312255859375E-3,1.312255859375E-3," "]
["2011-05-16T07:41:10",59.977691650390625,471,null,0,0,null,null,null,-653,29770.341796875,null,0,0,0,1.5869140625E-3,1.5869140625E-3," "]
["2011-05-16T07:41:12",59.97998046875,471,null,0,0,null,null,null,-653,29770.341796875,null,0,0,0,2.288818359375E-3,2.288818359375E-3," "]
["2011-05-16T07:41:14",59.983184814453125,471,null,0,0,null,null,null,-653,29782.728515625,null,0,0,0,3.204345703125E-3,3.204345703125E-3," "]
["2011-05-16T07:41:16",59.98577880859375,471,null,0,0,null,null,null,-653,29782.728515625,null,0,0,0,2.593994140625E-3,2.593994140625E-3," "]
["2011-05-16T07:41:18",59.987396240234375,471,null,0,0,null,null,null,-653,29782.728515625,null,0,0,0,1.617431640625E-3,1.617431640625E-3," "]
["2011-05-16T07:41:20",59.988677978515625,471,null,0,0,null,null,null,-653,29782.728515625,null,0,0,0,1.28173828125E-3,1.28173828125E-3," "]
["2011-05-16T07:41:22",59.989990234375,471,null,0,0,null,null,null,-653,29782.728515625,null,0,0,0,1.312255859375E-3,1.312255859375E-3," "]
["2011-05-16T07:41:24",59.991912841796875,471,null,0,0,null,null,null,-653,29782.818359375,null,0,0,0,1.922607421875E-3,1.922607421875E-3," "]
["2011-05-16T07:41:26",59.9935302734375,471,null,0,0,null,null,null,-653,29782.818359375,null,0,0,0,1.617431640625E-3,1.617431640625E-3," "]
["2011-05-16T07:41:28",59.996124267578125,471,null,0,0,null,null,null,-653,29782.818359375,null,0,0,0,2.593994140625E-3,2.593994140625E-3," "]
["2011-05-16T07:41:30",59.998046875,471,null,0,0,null,null,null,-653,29782.818359375,null,0,0,0,1.922607421875E-3,1.922607421875E-3," "]
["2011-05-16T07:41:32",59.9990234375,471,null,0,0,null,null,null,-653,29782.818359375,null,0,0,0,9.765625E-4,9.765625E-4," "]
["2011-05-16T07:41:34",59.9990234375,471,null,0,0,null,null,null,-653,29786.15234375,null,0,0,0,0,0," "]
["2011-05-16T07:41:36",59.99774169921875,471,null,0,0,null,null,null,-653,29786.15234375,null,0,0,0,-1.28173828125E-3,1.28173828125E-3," "]
["2011-05-16T07:41:38",59.9964599609375,471,null,0,0,null,null,null,-653,29786.15234375,null,0,0,0,-1.28173828125E-3,1.28173828125E-3," "]
["2011-05-16T07:41:40",59.99578857421875,471,null,0,0,null,null,null,-653,29786.15234375,null,0,0,0,-6.7138671875E-4,6.7138671875E-4," "]
["2011-05-16T07:41:42",59.996124267578125,471,null,0,0,null,null,null,-653,29786.15234375,null,0,0,0,3.35693359375E-4,3.35693359375E-4," "]
["2011-05-16T07:41:44",59.997100830078125,471,null,0,0,null,null,null,-653,29786.2109375,null,0,0,0,9.765625E-4,9.765625E-4," "]
["2011-05-16T07:41:46",59.99774169921875,471,null,0,0,null,null,null,-653,29786.2109375,null,0,0,0,6.40869140625E-4,6.40869140625E-4," "]
["2011-05-16T07:41:48",59.998382568359375,471,null,0,0,null,null,null,-653,29786.2109375,null,0,0,0,6.40869140625E-4,6.40869140625E-4," "]
["2011-05-16T07:41:50",59.999359130859375,471,null,0,0,null,null,null,-653,29786.2109375,null,0,0,0,9.765625E-4,9.765625E-4," "]
["2011-05-16T07:41:52",60,471,null,0,0,null,null,null,-653,29786.2109375,null,0,0,0,6.40869140625E-4,6.40869140625E-4," "]
["2011-05-16T07:41:54",60.000640869140625,471,null,0,0,null,null,null,-653,29778.982421875,null,0,0,0,6.40869140625E-4,6.40869140625E-4," "]
["2011-05-16T07:41:56",60.00128173828125,471,null,0,0,null,null,null,-653,29778.982421875,null,0,0,0,6.40869140625E-4,6.40869140625E-4," "]
["2011-05-16T07:41:58",60.00225830078125,471,null,0,0,null,null,null,-653,29778.982421875,null,0,0,0,9.765625E-4,9.765625E-4," "]
["2011-05-16T07:42:00",60.003875732421875,471,null,0,0,null,null,null,-653,29778.982421875,null,0,0,0,1.617431640625E-3,1.617431640625E-3," "]
["2011-05-16T07:42:02",60.0064697265625,471,null,0,0,null,null,null,-653,29778.982421875,null,0,0,0,2.593994140625E-3,2.593994140625E-3," "]
["2011-05-16T07:42:04",60.00970458984375,471,null,0,0,null,null,null,-653,29778.923828125,null,0,0,0,3.23486328125E-3,3.23486328125E-3," "]
["2011-05-16T07:42:06",60.013580322265625,471,null,0,0,null,null,null,-653,29778.923828125,null,0,0,0,3.875732421875E-3,3.875732421875E-3," "]
["2011-05-16T07:42:08",60.016143798828125,471,null,0,0,null,null,null,-653,29778.923828125,null,0,0,0,2.5634765625E-3,2.5634765625E-3," "]
["2011-05-16T07:42:10",60.01776123046875,471,null,0,0,null,null,null,-653,29778.923828125,null,0,0,{"$f":"IF(ROW()<$M$3,0,1)","v":0},1.617431640625E-3,1.617431640625E-3," "]
["2011-05-16T07:42:12",60.01776123046875,471,null,0,0,null,null,null,-653,29778.923828125,null,{"$f":"IF(ROW()<$M$5,0,1)","v":0},{"$f":"IF((M72=1)*(B72>$N$2),1,0)","v":0},0,{"$f":"B72-B71","v":0},{"$f":"ABS(P72)","v":0}," "]
["2011-05-16T07:42:14",60.014862060546875,471,null,0,0,null,null,null,-653,29787.896484375,null,0,0,0,-2.899169921875E-3,2.899169921875E-3," "]
["2011-05-16T07:42:16",60.011627197265625,471,null,0,0,null,null,null,-653,29787.896484375,null,0,0,0,-3.23486328125E-3,3.23486328125E-3," "]
["2011-05-16T07:42:18",60.009033203125,471,null,0,0,null,null,null,-653,29787.896484375,null,0,0,0,-2.593994140625E-3,2.593994140625E-3,{"$f":"IF(Q75>(AVERAGE(Q71:Q74)+R$2),1,\" \")","v":" "}]
["2011-05-16T07:42:20",60.00775146484375,471,null,0,0,null,null,null,-653,29787.896484375,null,0,0,0,-1.28173828125E-3,1.28173828125E-3," "]
["2011-05-16T07:42:22",60.00775146484375,471,null,0,0,null,null,null,-653,29787.896484375,null,0,0,0,0,0," "]
["2011-05-16T07:42:24",60.009033203125,471,null,0,0,null,null,null,-653,29787.837890625,null,0,0,0,1.28173828125E-3,1.28173828125E-3," "]
["2011-05-16T07:42:26",60.009033203125,471,null,0,0,null,null,null,-653,29787.837890625,null,0,0,0,0,0," "]
["2011-05-16T07:42:28",60.01324462890625,471,null,0,0,null,null,null,-653,29787.837890625,null,0,0,0,4.21142578125E-3,4.21142578125E-3," "]
["2011-05-16T07:42:30",60.014862060546875,471,null,0,0,null,null,null,-653,29787.837890625,null,0,0,0,1.617431640625E-3,1.617431640625E-3," "]
["2011-05-16T07:42:32",60.01519775390625,471,null,0,0,null,null,null,-653,29787.837890625,null,0,0,0,3.35693359375E-4,3.35693359375E-4," "]
["2011-05-16T07:42:34",60.01519775390625,471,null,0,0,null,null,null,-653,29813.388671875,null,0,0,0,0,0," "]
["2011-05-16T07:42:36",60.014862060546875,471,null,0,0,null,null,null,-653,29813.388671875,null,0,0,0,-3.35693359375E-4,3.35693359375E-4," "]
["2011-05-16T07:42:38",60.01422119140625,471,null,0,0,null,null,null,-653,29813.388671875,null,0,0,0,-6.40869140625E-4,6.40869140625E-4," "]
["2011-05-16T07:42:40",60.013580322265625,471,null,0,0,null,null,null,-653,29813.388671875,null,0,0,0,-6.40869140625E-4,6.40869140625E-4," "]
["2011-05-16T07:42:42",60.01226806640625,471,null,0,0,null,null,null,-653,29813.388671875,null,0,0,0,-1.312255859375E-3,1.312255859375E-3," "]
["2011-05-16T07:42:44",60.010986328125,471,null,0,0,null,null,null,-653,29813.328125,null,0,0,0,-1.28173828125E-3,1.28173828125E-3," "]
["2011-05-16T07:42:46",60.00872802734375,471,null,0,0,null,null,null,-653,29813.328125,null,0,0,0,-2.25830078125E-3,2.25830078125E-3," "]
["2011-05-16T07:42:48",60.0064697265625,471,null,0,0,null,null,null,-653,29813.328125,null,0,0,0,-2.25830078125E-3,2.25830078125E-3," "]
["2011-05-16T07:42:50",60.004852294921875,471,null,0,0,null,null,null,-653,29813.328125,null,0,0,0,-1.617431640625E-3,1.617431640625E-3," "]
["2011-05-16T07:42:52",60.0035400390625,471,null,0,0,null,null,null,-653,29813.328125,null,0,0,0,-1.312255859375E-3,1.312255859375E-3," "]
["2011-05-16T07:42:54",60.001953125,471,null,0,0,null,null,null,-653,29797.45703125,null,0,0,0,-1.5869140625E-3,1.5869140625E-3," "]
["2011-05-16T07:42:56",60,471,null,0,0,null,null,null,-653,29797.45703125,null,0,0,0,-1.953125E-3,1.953125E-3," "]
["2011-05-16T07:42:58",59.99774169921875,471,null,0,0,null,null,null,-653,29797.45703125,null,0,0,0,-2.25830078125E-3,2.25830078125E-3," "]
["2011-05-16T07:43:00",59.996124267578125,471,null,0,0,null,null,null,-653,29797.45703125,null,0,0,0,-1.617431640625E-3,1.617431640625E-3," "]
["2011-05-16T07:43:02",59.9964599609375,471,null,0,0,null,null,null,-653,29797.45703125,null,0,0,0,3.35693359375E-4,3.35693359375E-4," "]
["2011-05-16T07:43:04",59.997406005859375,471,null,0,0,null,null,null,-653,29797.515625,null,0,0,0,9.46044921875E-4,9.46044921875E-4," "]
["2011-05-16T07:43:06",59.998382568359375,471,null,0,0,null,null,null,-653,29797.515625,null,0,0,0,9.765625E-4,9.765625E-4," "]
["2011-05-16T07:43:08",59.999359130859375,471,null,0,0,null,null,null,-653,29797.515625,null,0,0,0,9.765625E-4,9.765625E-4," "]
["2011-05-16T07:43:10",59.9990234375,471,null,0,0,null,null,null,-653,29797.515625,null,0,0,0,-3.35693359375E-4,3.35693359375E-4," "]
["2011-05-16T07:43:12",59.99871826171875,471,null,0,0,null,null,null,-653,29797.515625,null,0,0,0,-3.0517578125E-4,3.0517578125E-4," "]
["2011-05-16T07:43:14",59.99774169921875,471,null,0,0,null,null,null,-653,29780.328125,null,0,0,0,-9.765625E-4,9.765625E-4," "]
["2011-05-16T07:43:16",59.9964599609375,471,null,0,0,null,null,null,-653,29780.328125,null,0,0,0,-1.28173828125E-3,1.28173828125E-3," "]
["2011-05-16T07:43:18",59.99676513671875,471,null,0,0,null,null,null,-653,29780.328125,null,0,0,0,3.0517578125E-4,3.0517578125E-4," "]
["2011-05-16T07:43:20",59.99676513671875,471,null,0,0,null,null,null,-653,29780.328125,null,0,0,0,0,0," "]
["2011-05-16T07:43:22",59.99774169921875,471,null,0,0,null,null,null,-653,29780.328125,null,0,0,0,9.765625E-4,9.765625E-4," "]
["2011-05-16T07:43:24",59.998046875,471,null,0,0,null,null,null,-653,29780.267578125,null,0,0,0,3.0517578125E-4,3.0517578125E-4," "]
["2011-05-16T07:43:26",59.99774169921875,471,null,0,0,null,null,null,-653,29780.267578125,null,0,0,0,-3.0517578125E-4,3.0517578125E-4," "]
["2011-05-16T07:43:28",59.99578857421875,471,null,0,0,null,null,null,-653,29780.267578125,null,0,0,0,-1.953125E-3,1.953125E-3," "]
["2011-05-16T07:43:30",59.993865966796875,471,null,0,0,null,null,null,-653,29780.267578125,null,0,0,0,-1.922607421875E-3,1.922607421875E-3," "]
["2011-05-16T07:43:32",59.9925537109375,471,null,0,0,null,null,null,-653,29780.267578125,null,0,0,0,-1.312255859375E-3,1.312255859375E-3," "]
["2011-05-16T07:43:34",59.99127197265625,471,null,0,0,null,null,null,-653,29785.6328125,null,0,0,0,-1.28173828125E-3,1.28173828125E-3," "]
["2011-05-16T07:43:36",59.989990234375,471,null,0,0,null,null,null,-653,29785.6328125,null,0,0,0,-1.28173828125E-3,1.28173828125E-3," "]
["2011-05-16T07:43:38",59.989654541015625,471,null,0,0,null,null,null,-653,29785.6328125,null,0,0,0,-3.35693359375E-4,3.35693359375E-4," "]
["2011-05-16T07:43:40",59.988372802734375,471,null,0,0,null,null,null,-653,29785.6328125,null,0,0,0,-1.28173828125E-3,1.28173828125E-3," "]
["2011-05-16T07:43:42",59.987091064453125,471,null,0,0,null,null,null,-653,29785.6328125,null,0,0,0,-1.28173828125E-3,1.28173828125E-3," "]
["2011-05-16T07:43:44",59.986419677734375,471,null,0,0,null,null,null,-653,29785.6328125,null,0,0,0,-6.7138671875E-4,6.7138671875E-4," "]
["2011-05-16T07:43:46",59.986419677734375,471,null,0,0,null,null,null,-653,29785.6328125,null,0,0,0,0,0," "]
["2011-05-16T07:43:48",59.986419677734375,471,null,0,0,null,null,null,-653,29785.6328125,null,0,0,0,0,0," "]
["2011-05-16T07:43:50",59.98675537109375,471,null,0,0,null,null,null,-653,29785.6328125,null,0,0,0,3.35693359375E-4,3.35693359375E-4," "]
["2011-05-16T07:43:52",59.98675537109375,471,null,0,0,null,null,null,-653,29785.6328125,null,0,0,0,0,0," "]
["2011-05-16T07:43:54",59.986419677734375,471,null,0,0,null,null,null,-653,29787.1171875,null,0,0,0,-3.35693359375E-4,3.35693359375E-4," "]
["2011-05-16T07:43:56",59.986114501953125,471,null,0,0,null,null,null,-653,29787.1171875,null,0,0,0,-3.0517578125E-4,3.0517578125E-4," "]
["2011-05-16T07:43:58",59.986114501953125,471,null,0,0,null,null,null,-653,29787.1171875,null,0,0,0,0,0," "]
["2011-05-16T07:44:00",59.985137939453125,471,null,0,0,null,null,null,-653,29787.1171875,null,0,0,0,-9.765625E-4,9.765625E-4," "]
["2011-05-16T07:44:02",59.984161376953125,471,null,0,0,null,null,null,-653,29787.1171875,null,0,0,0,-9.765625E-4,9.765625E-4," "]
["2011-05-16T07:44:04",59.9835205078125,471,null,0,0,null,null,null,-653,29787.1171875,null,0,0,0,-6.40869140625E-4,6.40869140625E-4," "]
["2011-05-16T07:44:06",59.98223876953125,471,null,0,0,null,null,null,-653,29787.1171875,null,0,0,0,-1.28173828125E-3,1.28173828125E-3," "]
["2011-05-16T07:44:08",59.98028564453125,471,null,0,0,null,null,null,-653,29787.1171875,null,0,0,0,-1.953125E-3,1.953125E-3," "]
["2011-05-16T07:44:10",59.97900390625,471,null,0,0,null,null,null,-653,29787.1171875,null,0,0,0,-1.28173828125E-3,1.28173828125E-3," "]
["2011-05-16T07:44:12",59.977691650390625,471,null,0,0,null,null,null,-653,29787.1171875,null,0,0,0,-1.312255859375E-3,1.312255859375E-3," "]
["2011-05-16T07:44:14",59.97674560546875,471,null,0,0,null,null,null,-653,29780.66796875,null,0,0,0,-9.46044921875E-4,9.46044921875E-4," "]
["2011-05-16T07:44:16",59.976409912109375,471,null,0,0,null,null,null,-653,29780.66796875,null,0,0,0,-3.35693359375E-4,3.35693359375E-4," "]
["2011-05-16T07:44:18",59.977386474609375,471,null,0,0,null,null,null,-653,29780.66796875,null,0,0,{"$f":"IF(ROW()<$M$3,0,1)","v":0},9.765625E-4,9.765625E-4," "]
["2011-05-16T07:44:20",59.97998046875,471,null,0,0,null,null,null,-653,29780.66796875,null,{"$f":"IF(ROW()<$M$5,0,1)","v":0},{"$f":"IF((M136=1)*(B136>$N$2),1,0)","v":0},0,{"$f":"B136-B135","v":2.593994140625E-3},{"$f":"ABS(P136)","v":2.593994140625E-3}," "]
["2011-05-16T07:44:22",59.983184814453125,471,null,0,0,null,null,null,-653,29780.66796875,null,0,0,0,3.204345703125E-3,3.204345703125E-3," "]
["2011-05-16T07:44:24",59.986114501953125,471,null,0,0,null,null,null,-653,29780.7578125,null,0,0,0,2.9296875E-3,2.9296875E-3," "]
["2011-05-16T07:44:26",59.988372802734375,471,null,0,0,null,null,null,-653,29780.7578125,null,0,0,0,2.25830078125E-3,2.25830078125E-3,{"$f":"IF(Q139>(AVERAGE(Q135:Q138)+R$2),1,\" \")","v":" "}]
["2011-05-16T07:44:28",59.99029541015625,471,null,0,0,null,null,null,-653,29780.7578125,null,0,0,0,1.922607421875E-3,1.922607421875E-3," "]
["2011-05-16T07:44:30",59.991912841796875,471,null,0,0,null,null,null,-653,29780.7578125,null,0,0,0,1.617431640625E-3,1.617431640625E-3," "]
["2011-05-16T07:44:32",59.9935302734375,471,null,0,0,null,null,null,-653,29780.7578125,null,0,0,0,1.617431640625E-3,1.617431640625E-3," "]
["2011-05-16T07:44:34",59.99578857421875,471,null,0,0,null,null,null,-653,29777.701171875,null,0,0,0,2.25830078125E-3,2.25830078125E-3," "]
["2011-05-16T07:44:36",60,471,null,0,0,null,null,null,-653,29777.701171875,null,0,0,0,4.21142578125E-3,4.21142578125E-3," "]
["2011-05-16T07:44:38",60.0035400390625,471,null,0,0,null,null,null,-653,29777.701171875,null,0,0,0,3.5400390625E-3,3.5400390625E-3," "]
["2011-05-16T07:44:40",60.0064697265625,471,null,0,0,null,null,null,-653,29777.701171875,null,0,0,0,2.9296875E-3,2.9296875E-3," "]
["2011-05-16T07:44:42",60.008392333984375,471,null,0,0,null,null,null,-653,29777.701171875,null,0,0,0,1.922607421875E-3,1.922607421875E-3," "]
["2011-05-16T07:44:44",60.009033203125,471,null,0,0,null,null,null,-653,29777.701171875,null,0,0,0,6.40869140625E-4,6.40869140625E-4," "]
["2011-05-16T07:44:46",60.00872802734375,471,null,0,0,null,null,null,-653,29777.701171875,null,0,0,0,-3.0517578125E-4,3.0517578125E-4," "]
["2011-05-16T07:44:48",60.00872802734375,471,null,0,0,null,null,null,-653,29777.701171875,null,0,0,0,0,0," "]
["2011-05-16T07:44:50",60.009368896484375,471,null,0,0,null,null,null,-653,29777.701171875,null,0,0,0,6.40869140625E-4,6.40869140625E-4," "]
["2011-05-16T07:44:52",60.010986328125,471,null,0,0,null,null,null,-653,29777.701171875,null,0,0,0,1.617431640625E-3,1.617431640625E-3," "]
["2011-05-16T07:44:54",60.0145263671875,471,null,0,0,null,null,null,-653,29788.630859375,null,0,0,0,3.5400390625E-3,3.5400390625E-3," "]
["2011-05-16T07:44:56",60.018096923828125,471,null,0,0,null,null,null,-653,29788.630859375,null,0,0,0,3.570556640625E-3,3.570556640625E-3," "]
["2011-05-16T07:44:58",60.02001953125,471,null,0,0,null,null,null,-653,29788.630859375,null,0,0,0,1.922607421875E-3,1.922607421875E-3," "]
["2011-05-16T07:45:00",60.020355224609375,471,null,0,0,null,null,null,-653,29788.630859375,null,0,0,0,3.35693359375E-4,3.35693359375E-4," "]
["2011-05-16T07:45:02",60.02001953125,471,null,0,0,null,null,null,-653,29788.630859375,null,0,0,0,-3.35693359375E-4,3.35693359375E-4," "]
["2011-05-16T07:45:04",60.02001953125,471,null,0,0,null,null,null,-653,29788.630859375,null,0,0,0,0,0," "]
["2011-05-16T07:45:06",60.019073486328125,471,null,0,0,null,null,null,-653,29788.630859375,null,0,0,0,-9.46044921875E-4,9.46044921875E-4," "]
["2011-05-16T07:45:08",60.018096923828125,471,null,0,0,null,null,null,-653,29788.630859375,null,0,0,0,-9.765625E-4,9.765625E-4," "]
["2011-05-16T07:45:10",60.017120361328125,471,null,0,0,null,null,null,-653,29788.630859375,null,0,0,0,-9.765625E-4,9.765625E-4," "]
["2011-05-16T07:45:12",60.017120361328125,471,null,0,0,null,null,null,-653,29788.630859375,null,0,0,0,0,0," "]
["2011-05-16T07:45:14",60.017120361328125,471,null,0,0,null,null,null,-653,29788.505859375,null,0,0,0,0,0," "]
["2011-05-16T07:45:16",60.0145263671875,471,null,0,0,null,null,null,-653,29788.505859375,null,0,0,0,-2.593994140625E-3,2.593994140625E-3," "]
["2011-05-16T07:45:18",60.013580322265625,471,null,0,0,null,null,null,-653,29788.505859375,null,0,0,0,-9.46044921875E-4,9.46044921875E-4," "]
["2011-05-16T07:45:20",60.01226806640625,471,null,0,0,null,null,null,-653,29788.505859375,null,0,0,0,-1.312255859375E-3,1.312255859375E-3," "]
["2011-05-16T07:45:22",60.011627197265625,471,null,0,0,null,null,null,-653,29788.505859375,null,0,0,0,-6.40869140625E-4,6.40869140625E-4," "]
["2011-05-16T07:45:24",60.010650634765625,471,null,0,0,null,null,null,-653,29788.505859375,null,0,0,0,-9.765625E-4,9.765625E-4," "]
["2011-05-16T07:45:26",60.00970458984375,471,null,0,0,null,null,null,-653,29788.505859375,null,0,0,0,-9.46044921875E-4,9.46044921875E-4," "]
["2011-05-16T07:45:28",60.008392333984375,471,null,0,0,null,null,null,-653,29788.505859375,null,0,0,0,-1.312255859375E-3,1.312255859375E-3," "]
["2011-05-16T07:45:30",60.0074462890625,471,null,0,0,null,null,null,-653,29788.505859375,null,0,0,0,-9.46044921875E-4,9.46044921875E-4," "]
["2011-05-16T07:45:32",60.00775146484375,471,null,0,0,null,null,null,-653,29788.505859375,null,0,0,0,3.0517578125E-4,3.0517578125E-4," "]
["2011-05-16T07:45:34",60.008392333984375,471,null,0,0,null,null,null,-653,29780.619140625,null,0,0,0,6.40869140625E-4,6.40869140625E-4," "]
["2011-05-16T07:45:36",60.008392333984375,471,null,0,0,null,null,null,-653,29780.619140625,null,0,0,0,0,0," "]
["2011-05-16T07:45:38",60.008087158203125,471,null,0,0,null,null,null,-653,29780.619140625,null,0,0,0,-3.0517578125E-4,3.0517578125E-4," "]
["2011-05-16T07:45:40",60.0074462890625,471,null,0,0,null,null,null,-653,29780.619140625,null,0,0,0,-6.40869140625E-4,6.40869140625E-4," "]
["2011-05-16T07:45:42",60.007110595703125,471,null,0,0,null,null,null,-653,29780.619140625,null,0,0,0,-3.35693359375E-4,3.35693359375E-4," "]
["2011-05-16T07:45:44",60.008392333984375,471,null,0,0,null,null,null,-653,29780.560546875,null,0,0,0,1.28173828125E-3,1.28173828125E-3," "]
["2011-05-16T07:45:46",60.009368896484375,471,null,0,0,null,null,null,-653,29780.560546875,null,0,0,0,9.765625E-4,9.765625E-4," "]
["2011-05-16T07:45:48",60.00970458984375,471,null,0,0,null,null,null,-653,29780.560546875,null,0,0,0,3.35693359375E-4,3.35693359375E-4," "]
["2011-05-16T07:45:50",60.010009765625,471,null,0,0,null,null,null,-653,29780.560546875,null,0,0,0,3.0517578125E-4,3.0517578125E-4," "]
["2011-05-16T07:45:52",60.010650634765625,471,null,0,0,null,null,null,-653,29780.560546875,null,0,0,0,6.40869140625E-4,6.40869140625E-4," "]
["2011-05-16T07:45:54",60.011962890625,471,null,0,0,null,null,null,-653,29784.962890625,null,0,0,0,1.312255859375E-3,1.312255859375E-3," "]
["2011-05-16T07:45:56",60.01324462890625,471,null,0,0,null,null,null,-653,29784.962890625,null,0,0,0,1.28173828125E-3,1.28173828125E-3," "]
["2011-05-16T07:45:58",60.0145263671875,471,null,0,0,null,null,null,-653,29784.962890625,null,0,0,0,1.28173828125E-3,1.28173828125E-3," "]
["2011-05-16T07:46:00",60.016143798828125,471,null,0,0,null,null,null,-653,29784.962890625,null,0,0,0,1.617431640625E-3,1.617431640625E-3," "]
["2011-05-16T07:46:02",60.017120361328125,471,null,0,0,null,null,null,-653,29784.962890625,null,0,0,0,9.765625E-4,9.765625E-4," "]
["2011-05-16T07:46:04",60.017120361328125,471,null,0,0,null,null,null,-653,29784.93359375,null,0,0,0,0,0," "]
["2011-05-16T07:46:06",60.016143798828125,471,null,0,0,null,null,null,-653,29784.93359375,null,0,0,0,-9.765625E-4,9.765625E-4," "]
["2011-05-16T07:46:08",60.015838623046875,471,null,0,0,null,null,null,-653,29784.93359375,null,0,0,0,-3.0517578125E-4,3.0517578125E-4," "]
["2011-05-16T07:46:10",60.016143798828125,471,null,0,0,null,null,null,-653,29784.93359375,null,0,0,0,3.0517578125E-4,3.0517578125E-4," "]
["2011-05-16T07:46:12",60.015838623046875,471,null,0,0,null,null,null,-653,29784.93359375,null,0,0,0,-3.0517578125E-4,3.0517578125E-4," "]
["2011-05-16T07:46:14",60.014862060546875,471,null,0,0,null,null,null,-653,29760.416015625,null,0,0,0,-9.765625E-4,9.765625E-4," "]
["2011-05-16T07:46:16",60.01422119140625,471,null,0,0,null,null,null,-653,29760.416015625,null,0,0,0,-6.40869140625E-4,6.40869140625E-4," "]
["2011-05-16T07:46:18",60.01226806640625,471,null,0,0,null,null,null,-653,29760.416015625,null,0,0,0,-1.953125E-3,1.953125E-3," "]
["2011-05-16T07:46:20",60.00970458984375,471,null,0,0,null,null,null,-653,29760.416015625,null,0,0,0,-2.5634765625E-3,2.5634765625E-3," "]
["2011-05-16T07:46:22",60.007110595703125,471,null,0,0,null,null,null,-653,29760.416015625,null,0,0,0,-2.593994140625E-3,2.593994140625E-3," "]
["2011-05-16T07:46:24",60.005828857421875,471,null,0,0,null,null,null,-653,29760.416015625,null,0,0,0,-1.28173828125E-3,1.28173828125E-3," "]
["2011-05-16T07:46:26",60.005157470703125,471,null,0,0,null,null,null,-653,29760.416015625,null,0,0,{"$f":"IF(ROW()<$M$3,0,1)","v":0},-6.7138671875E-4,6.7138671875E-4," "]
["2011-05-16T07:46:28",60.005157470703125,471,null,0,0,null,null,null,-653,29760.416015625,null,{"$f":"IF(ROW()<$M$5,0,1)","v":0},{"$f":"IF((M200=1)*(B200>$N$2),1,0)","v":0},0,{"$f":"B200-B199","v":0},{"$f":"ABS(P200)","v":0}," "]
["2011-05-16T07:46:30",60.004852294921875,471,null,0,0,null,null,null,-653,29760.416015625,null,0,0,0,-3.0517578125E-4,3.0517578125E-4," "]
["2011-05-16T07:46:32",60.003875732421875,471,null,0,0,null,null,null,-653,29760.416015625,null,0,0,0,-9.765625E-4,9.765625E-4," "]
["2011-05-16T07:46:34",60.002593994140625,471,null,0,0,null,null,null,-653,29782.349609375,null,0,0,0,-1.28173828125E-3,1.28173828125E-3,{"$f":"IF(Q203>(AVERAGE(Q199:Q202)+R$2),1,\" \")","v":" "}]
["2011-05-16T07:46:36",59.9990234375,471,null,0,0,null,null,null,-653,29782.349609375,null,0,0,0,-3.570556640625E-3,3.570556640625E-3," "]
["2011-05-16T07:46:38",59.997100830078125,471,null,0,0,null,null,null,-653,29782.349609375,null,0,0,0,-1.922607421875E-3,1.922607421875E-3," "]
["2011-05-16T07:46:40",59.9964599609375,471,null,0,0,null,null,null,-653,29782.349609375,null,0,0,0,-6.40869140625E-4,6.40869140625E-4," "]
["2011-05-16T07:46:42",59.99578857421875,471,null,0,0,null,null,null,-653,29782.349609375,null,0,0,0,-6.7138671875E-4,6.7138671875E-4," "]
["2011-05-16T07:46:44",59.994171142578125,471,null,0,0,null,null,null,-653,29782.439453125,null,0,0,0,-1.617431640625E-3,1.617431640625E-3," "]
["2011-05-16T07:46:46",59.99224853515625,471,null,0,0,null,null,null,-653,29782.439453125,null,0,0,0,-1.922607421875E-3,1.922607421875E-3," "]
["2011-05-16T07:46:48",59.99029541015625,471,null,0,0,null,null,null,-653,29782.439453125,null,0,0,0,-1.953125E-3,1.953125E-3," "]
["2011-05-16T07:46:50",59.988037109375,471,null,0,0,null,null,null,-653,29782.439453125,null,0,0,0,-2.25830078125E-3,2.25830078125E-3," "]
["2011-05-16T07:46:52",59.987091064453125,471,null,0,0,null,null,null,-653,29782.439453125,null,0,0,0,-9.46044921875E-4,9.46044921875E-4," "]
["2011-05-16T07:46:54",59.98675537109375,471,null,0,0,null,null,null,-653,29785.5234375,null,0,0,0,-3.35693359375E-4,3.35693359375E-4," "]
["2011-05-16T07:46:56",59.98577880859375,471,null,0,0,null,null,null,-653,29785.5234375,null,0,0,0,-9.765625E-4,9.765625E-4," "]
["2011-05-16T07:46:58",59.9844970703125,471,null,0,0,null,null,null,-653,29785.5234375,null,0,0,0,-1.28173828125E-3,1.28173828125E-3," "]
["2011-05-16T07:47:00",59.982879638671875,471,null,0,0,null,null,null,-653,29785.5234375,null,0,0,0,-1.617431640625E-3,1.617431640625E-3," "]
["2011-05-16T07:47:02",59.98223876953125,471,null,0,0,null,null,null,-653,29785.5234375,null,0,0,0,-6.40869140625E-4,6.40869140625E-4," "]
["2011-05-16T07:47:04",59.98223876953125,471,null,0,0,null,null,null,-653,29785.552734375,null,0,0,0,0,0," "]
["2011-05-16T07:47:06",59.98223876953125,471,null,0,0,null,null,null,-653,29785.552734375,null,0,0,0,0,0," "]
["2011-05-16T07:47:08",59.9825439453125,471,null,0,0,null,null,null,-653,29785.552734375,null,0,0,0,3.0517578125E-4,3.0517578125E-4," "]
["2011-05-16T07:47:10",59.983856201171875,471,null,0,0,null,null,null,-653,29785.552734375,null,0,0,0,1.312255859375E-3,1.312255859375E-3," "]
["2011-05-16T07:47:12",59.98480224609375,471,null,0,0,null,null,null,-653,29785.552734375,null,0,0,0,9.46044921875E-4,9.46044921875E-4," "]
["2011-05-16T07:47:14",59.98577880859375,471,null,0,0,null,null,null,-653,29788.212890625,null,0,0,0,9.765625E-4,9.765625E-4," "]
["2011-05-16T07:47:16",59.986419677734375,471,null,0,0,null,null,null,-653,29788.212890625,null,0,0,0,6.40869140625E-4,6.40869140625E-4," "]
["2011-05-16T07:47:18",59.989990234375,471,null,0,0,null,null,null,-653,29788.212890625,null,0,0,0,3.570556640625E-3,3.570556640625E-3," "]
["2011-05-16T07:47:20",59.99224853515625,471,null,0,0,null,null,null,-653,29788.212890625,null,0,0,0,2.25830078125E-3,2.25830078125E-3," "]
["2011-05-16T07:47:22",59.99322509765625,471,null,0,0,null,null,null,-653,29788.212890625,null,0,0,0,9.765625E-4,9.765625E-4," "]
["2011-05-16T07:47:24",59.9964599609375,471,null,0,0,null,null,null,-653,29788.064453125,null,0,0,0,3.23486328125E-3,3.23486328125E-3," "]
["2011-05-16T07:47:26",59.9990234375,471,null,0,0,null,null,null,-653,29788.064453125,null,0,0,0,2.5634765625E-3,2.5634765625E-3," "]
["2011-05-16T07:47:28",60.000640869140625,471,null,0,0,null,null,null,-653,29788.064453125,null,0,0,0,1.617431640625E-3,1.617431640625E-3," "]
["2011-05-16T07:47:30",60.0064697265625,471,null,0,0,null,null,null,-653,29788.064453125,null,0,0,0,5.828857421875E-3,5.828857421875E-3," "]
["2011-05-16T07:47:32",60.009033203125,471,null,0,0,null,null,null,-653,29788.064453125,null,0,0,0,2.5634765625E-3,2.5634765625E-3," "]
["2011-05-16T07:47:34",60.010986328125,471,null,0,0,null,null,null,-653,29776.11328125,null,0,0,0,1.953125E-3,1.953125E-3," "]
["2011-05-16T07:47:36",60.011322021484375,471,null,0,0,null,null,null,-653,29776.11328125,null,0,0,0,3.35693359375E-4,3.35693359375E-4," "]
["2011-05-16T07:47:38",60.012908935546875,471,null,0,0,null,null,null,-653,29776.11328125,null,0,0,0,1.5869140625E-3,1.5869140625E-3," "]
["2011-05-16T07:47:40",60.01324462890625,471,null,0,0,null,null,null,-653,29776.11328125,null,0,0,0,3.35693359375E-4,3.35693359375E-4," "]
["2011-05-16T07:47:42",60.01324462890625,471,null,0,0,null,null,null,-653,29776.11328125,null,0,0,0,0,0," "]
["2011-05-16T07:47:44",60.01422119140625,471,null,0,0,null,null,null,-653,29776.173828125,null,0,0,0,9.765625E-4,9.765625E-4," "]
["2011-05-16T07:47:46",60.018096923828125,471,null,0,0,null,null,null,-653,29776.173828125,null,0,0,0,3.875732421875E-3,3.875732421875E-3," "]
["2011-05-16T07:47:48",60.019073486328125,471,null,0,0,null,null,null,-653,29776.173828125,null,0,0,0,9.765625E-4,9.765625E-4," "]
["2011-05-16T07:47:50",60.021331787109375,471,null,0,0,null,null,null,-653,29776.173828125,null,0,0,0,2.25830078125E-3,2.25830078125E-3," "]
["2011-05-16T07:47:52",60.02197265625,471,null,0,0,null,null,null,-653,29776.173828125,null,0,0,0,6.40869140625E-4,6.40869140625E-4," "]
["2011-05-16T07:47:54",60.021636962890625,471,null,0,0,null,null,null,-653,29794.685546875,null,0,0,0,-3.35693359375E-4,3.35693359375E-4," "]
["2011-05-16T07:47:56",60.01971435546875,471,null,0,0,null,null,null,-653,29794.685546875,null,0,0,0,-1.922607421875E-3,1.922607421875E-3," "]
["2011-05-16T07:47:58",60.019073486328125,471,null,0,0,null,null,null,-653,29794.685546875,null,0,0,0,-6.40869140625E-4,6.40869140625E-4," "]
["2011-05-16T07:48:00",60.0174560546875,471,null,0,0,null,null,null,-653,29794.685546875,null,0,0,0,-1.617431640625E-3,1.617431640625E-3," "]
["2011-05-16T07:48:02",60.01776123046875,471,null,0,0,null,null,null,-653,29794.685546875,null,0,0,0,3.0517578125E-4,3.0517578125E-4," "]
["2011-05-16T07:48:04",60.018402099609375,471,null,0,0,null,null,null,-653,29794.65625,null,0,0,0,6.40869140625E-4,6.40869140625E-4," "]
["2011-05-16T07:48:06",60.01776123046875,471,null,0,0,null,null,null,-653,29794.65625,null,0,0,0,-6.40869140625E-4,6.40869140625E-4," "]
["2011-05-16T07:48:08",60.01519775390625,471,null,0,0,null,null,null,-653,29794.65625,null,0,0,0,-2.5634765625E-3,2.5634765625E-3," "]
["2011-05-16T07:48:10",60.013885498046875,471,null,0,0,null,null,null,-653,29794.65625,null,0,0,0,-1.312255859375E-3,1.312255859375E-3," "]
["2011-05-16T07:48:12",60.01422119140625,471,null,0,0,null,null,null,-653,29794.65625,null,0,0,0,3.35693359375E-4,3.35693359375E-4," "]
["2011-05-16T07:48:14",60.01519775390625,471,null,0,0,null,null,null,-653,29804.775390625,null,0,0,0,9.765625E-4,9.765625E-4," "]
["2011-05-16T07:48:16",60.016143798828125,471,null,0,0,null,null,null,-653,29804.775390625,null,0,0,0,9.46044921875E-4,9.46044921875E-4," "]
["2011-05-16T07:48:18",60.016143798828125,471,null,0,0,null,null,null,-653,29804.775390625,null,0,0,0,0,0," "]
["2011-05-16T07:48:20",60.01422119140625,471,null,0,0,null,null,null,-653,29804.775390625,null,0,0,0,-1.922607421875E-3,1.922607421875E-3," "]
["2011-05-16T07:48:22",60.011962890625,471,null,0,0,null,null,null,-653,29804.775390625,null,0,0,0,-2.25830078125E-3,2.25830078125E-3," "]
["2011-05-16T07:48:24",60.010345458984375,471,null,0,0,null,null,null,-653,29804.86328125,null,0,0,0,-1.617431640625E-3,1.617431640625E-3," "]
["2011-05-16T07:48:26",60.008087158203125,471,null,0,0,null,null,null,-653,29804.86328125,null,0,0,0,-2.25830078125E-3,2.25830078125E-3," "]
["2011-05-16T07:48:28",60.006134033203125,471,null,0,0,null,null,null,-653,29804.86328125,null,0,0,0,-1.953125E-3,1.953125E-3," "]
["2011-05-16T07:48:30",60.005157470703125,471,null,0,0,null,null,null,-653,29804.86328125,null,0,0,0,-9.765625E-4,9.765625E-4," "]
["2011-05-16T07:48:32",60.0045166015625,471,null,0,0,null,null,null,-653,29804.86328125,null,0,0,0,-6.40869140625E-4,6.40869140625E-4," "]
["2011-05-16T07:48:34",60.0035400390625,471,null,0,0,null,null,null,-653,29800.119140625,null,0,0,{"$f":"IF(ROW()<$M$3,0,1)","v":0},-9.765625E-4,9.765625E-4," "]
["2011-05-16T07:48:36",60.00128173828125,471,null,0,0,null,null,null,-653,29800.119140625,null,{"$f":"IF(ROW()<$M$5,0,1)","v":0},{"$f":"IF((M264=1)*(B264>$N$2),1,0)","v":0},0,{"$f":"B264-B263","v":-2.25830078125E-3},{"$f":"ABS(P264)","v":2.25830078125E-3}," "]
["2011-05-16T07:48:38",60,471,null,0,0,null,null,null,-653,29800.119140625,null,0,0,0,-1.28173828125E-3,1.28173828125E-3," "]
["2011-05-16T07:48:40",59.999359130859375,471,null,0,0,null,null,null,-653,29800.119140625,null,0,0,0,-6.40869140625E-4,6.40869140625E-4," "]
["2011-05-16T07:48:42",59.998382568359375,471,null,0,0,null,null,null,-653,29800.119140625,null,0,0,0,-9.765625E-4,9.765625E-4,{"$f":"IF(Q267>(AVERAGE(Q263:Q266)+R$2),1,\" \")","v":" "}]
["2011-05-16T07:48:44",59.997406005859375,471,null,0,0,null,null,null,-653,29800.177734375,null,0,0,0,-9.765625E-4,9.765625E-4," "]
["2011-05-16T07:48:46",59.99578857421875,471,null,0,0,null,null,null,-653,29800.177734375,null,0,0,0,-1.617431640625E-3,1.617431640625E-3," "]
["2011-05-16T07:48:48",59.995147705078125,471,null,0,0,null,null,null,-653,29800.177734375,null,0,0,0,-6.40869140625E-4,6.40869140625E-4," "]
["2011-05-16T07:48:50",59.9964599609375,471,null,0,0,null,null,null,-653,29800.177734375,null,0,0,0,1.312255859375E-3,1.312255859375E-3," "]
["2011-05-16T07:48:52",59.99871826171875,471,null,0,0,null,null,null,-653,29800.177734375,null,0,0,0,2.25830078125E-3,2.25830078125E-3," "]
["2011-05-16T07:48:54",60.00128173828125,471,null,0,0,null,null,null,-653,29799.8203125,null,0,0,0,2.5634765625E-3,2.5634765625E-3," "]
["2011-05-16T07:48:56",60.00323486328125,471,null,0,0,null,null,null,-653,29799.8203125,null,0,0,0,1.953125E-3,1.953125E-3," "]
["2011-05-16T07:48:58",60.00421142578125,471,null,0,0,null,null,null,-653,29799.8203125,null,0,0,0,9.765625E-4,9.765625E-4," "]
["2011-05-16T07:49:00",60.004852294921875,471,null,0,0,null,null,null,-653,29799.8203125,null,0,0,0,6.40869140625E-4,6.40869140625E-4," "]
["2011-05-16T07:49:02",60.0054931640625,471,null,0,0,null,null,null,-653,29799.8203125,null,0,0,0,6.40869140625E-4,6.40869140625E-4," "]
["2011-05-16T07:49:04",60.005828857421875,471,null,0,0,null,null,null,-653,29799.7890625,null,0,0,0,3.35693359375E-4,3.35693359375E-4," "]
["2011-05-16T07:49:06",60.005828857421875,471,null,0,0,null,null,null,-653,29799.7890625,null,0,0,0,0,0," "]
["2011-05-16T07:49:08",60.0054931640625,471,null,0,0,null,null,null,-653,29799.7890625,null,0,0,0,-3.35693359375E-4,3.35693359375E-4," "]
["2011-05-16T07:49:10",60.003875732421875,471,null,0,0,null,null,null,-653,29799.7890625,null,0,0,0,-1.617431640625E-3,1.617431640625E-3," "]
["2011-05-16T07:49:12",60.00225830078125,471,null,0,0,null,null,null,-653,29799.7890625,null,0,0,0,-1.617431640625E-3,1.617431640625E-3," "]
["2011-05-16T07:49:14",60.00225830078125,471,null,0,0,null,null,null,-653,29795.673828125,null,0,0,0,0,0," "]
["2011-05-16T07:49:16",60,471,null,0,0,null,null,null,-653,29795.673828125,null,0,0,0,-2.25830078125E-3,2.25830078125E-3," "]
["2011-05-16T07:49:18",60,471,null,0,0,null,null,null,-653,29795.673828125,null,0,0,0,0,0," "]
["2011-05-16T07:49:20",60,471,null,0,0,null,null,null,-653,29795.673828125,null,0,0,0,0,0," "]
["2011-05-16T07:49:22",60,471,null,0,0,null,null,null,-653,29795.673828125,null,0,0,0,0,0," "]
["2011-05-16T07:49:24",60.0045166015625,471,null,0,0,null,null,null,-653,29795.5546875,null,0,0,0,4.5166015625E-3,4.5166015625E-3," "]
["2011-05-16T07:49:26",60.005828857421875,471,null,0,0,null,null,null,-653,29795.5546875,null,0,0,0,1.312255859375E-3,1.312255859375E-3," "]
["2011-05-16T07:49:28",60.006134033203125,471,null,0,0,null,null,null,-653,29795.5546875,null,0,0,0,3.0517578125E-4,3.0517578125E-4," "]
["2011-05-16T07:49:30",60.005828857421875,471,null,0,0,null,null,null,-653,29795.5546875,null,0,0,0,-3.0517578125E-4,3.0517578125E-4," "]
["2011-05-16T07:49:32",60.005157470703125,471,null,0,0,null,null,null,-653,29795.5546875,null,0,0,0,-6.7138671875E-4,6.7138671875E-4," "]
["2011-05-16T07:49:34",60.003875732421875,471,null,0,0,null,null,null,-653,29783.529296875,null,0,0,0,-1.28173828125E-3,1.28173828125E-3," "]
["2011-05-16T07:49:36",60.001953125,471,null,0,0,null,null,null,-653,29783.529296875,null,0,0,0,-1.922607421875E-3,1.922607421875E-3," "]
["2011-05-16T07:49:38",60.00128173828125,471,null,0,0,null,null,null,-653,29783.529296875,null,0,0,0,-6.7138671875E-4,6.7138671875E-4," "]
["2011-05-16T07:49:40",60.0009765625,471,null,0,0,null,null,null,-653,29783.529296875,null,0,0,0,-3.0517578125E-4,3.0517578125E-4," "]
["2011-05-16T07:49:42",60.000335693359375,471,null,0,0,null,null,null,-653,29783.529296875,null,0,0,0,-6.40869140625E-4,6.40869140625E-4," "]
["2011-05-16T07:49:44",60,471,null,0,0,null,null,null,-653,29783.46875,null,0,0,0,-3.35693359375E-4,3.35693359375E-4," "]
["2011-05-16T07:49:46",59.9990234375,471,null,0,0,null,null,null,-653,29783.46875,null,0,0,0,-9.765625E-4,9.765625E-4," "]
["2011-05-16T07:49:48",59.99871826171875,471,null,0,0,null,null,null,-653,29783.46875,null,0,0,0,-3.0517578125E-4,3.0517578125E-4," "]
["2011-05-16T07:49:50",59.998382568359375,471,null,0,0,null,null,null,-653,29783.46875,null,0,0,0,-3.35693359375E-4,3.35693359375E-4," "]
["2011-05-16T07:49:52",59.996124267578125,471,null,0,0,null,null,null,-653,29783.46875,null,0,0,0,-2.25830078125E-3,2.25830078125E-3," "]
["2011-05-16T07:49:54",59.99578857421875,471,null,0,0,null,null,null,-653,29788.384765625,null,0,0,0,-3.35693359375E-4,3.35693359375E-4," "]
["2011-05-16T07:49:56",59.995147705078125,471,null,0,0,null,null,null,-653,29788.384765625,null,0,0,0,-6.40869140625E-4,6.40869140625E-4," "]
["2011-05-16T07:49:58",59.993865966796875,471,null,0,0,null,null,null,-653,29788.384765625,null,0,0,0,-1.28173828125E-3,1.28173828125E-3," "]
["2011-05-16T07:50:00",59.99224853515625,471,null,0,0,null,null,null,-653,29788.384765625,null,0,0,0,-1.617431640625E-3,1.617431640625E-3," "]
["2011-05-16T07:50:02",59.99224853515625,471,null,0,0,null,null,null,-653,29788.384765625,null,0,{"$f":"IF((M307=1)*(B307>$N$2),1,0)","v":0},0,0,{"$f":"ABS(P307)","v":0},{"$f":"IF(Q307>(AVERAGE(Q303:Q306)+R$2),1,\" \")","v":" "}]
["2011-05-16T07:50:04",59.994842529296875,471,null,0,0,null,null,null,-653,29788.384765625,null,0,0,0,2.593994140625E-3,2.593994140625E-3," "]
["2011-05-16T07:50:06",59.9964599609375,471,null,0,0,null,null,null,-653,29788.384765625,null,0,0,0,1.617431640625E-3,1.617431640625E-3," "]
["2011-05-16T07:50:08",59.997100830078125,471,null,0,0,null,null,null,-653,29788.384765625,null,0,0,0,6.40869140625E-4,6.40869140625E-4," "]
["2011-05-16T07:50:10",59.9954833984375,471,null,0,0,null,null,null,-653,29788.384765625,null,0,0,0,-1.617431640625E-3,1.617431640625E-3," "]
["2011-05-16T07:50:12",59.992889404296875,471,null,0,0,null,null,null,-653,29788.384765625,null,0,0,0,-2.593994140625E-3,2.593994140625E-3," "]
["2011-05-16T07:50:14",59.989990234375,471,null,0,0,null,null,null,-653,29790.162109375,null,0,0,0,-2.899169921875E-3,2.899169921875E-3," "]
["2011-05-16T07:50:16",59.98773193359375,471,null,0,0,null,null,null,-653,29790.162109375,null,0,0,0,-2.25830078125E-3,2.25830078125E-3," "]
["2011-05-16T07:50:18",59.986419677734375,471,null,0,0,null,null,null,-653,29790.162109375,null,0,0,0,-1.312255859375E-3,1.312255859375E-3," "]
["2011-05-16T07:50:20",59.9854736328125,471,null,0,0,null,null,null,-653,29790.162109375,null,0,0,0,-9.46044921875E-4,9.46044921875E-4," "]
["2011-05-16T07:50:22",59.9854736328125,471,null,0,0,null,null,null,-653,29790.162109375,null,0,0,0,0,0," "]
["2011-05-16T07:50:24",59.986114501953125,471,null,0,0,null,null,null,-653,29790.072265625,null,0,0,0,6.40869140625E-4,6.40869140625E-4," "]
["2011-05-16T07:50:26",59.986114501953125,471,null,0,0,null,null,null,-653,29790.072265625,null,0,0,0,0,0," "]
["2011-05-16T07:50:28",59.98675537109375,471,null,0,0,null,null,null,-653,29790.072265625,null,0,0,0,6.40869140625E-4,6.40869140625E-4," "]
["2011-05-16T07:50:30",59.987091064453125,471,null,0,0,null,null,null,-653,29790.072265625,null,0,0,0,3.35693359375E-4,3.35693359375E-4," "]
["2011-05-16T07:50:32",59.987396240234375,471,null,0,0,null,null,null,-653,29790.072265625,null,0,0,0,3.0517578125E-4,3.0517578125E-4," "]
["2011-05-16T07:50:34",59.98675537109375,471,null,0,0,null,null,null,-653,29777.486328125,null,0,0,0,-6.40869140625E-4,6.40869140625E-4," "]
["2011-05-16T07:50:36",59.986114501953125,471,null,0,0,null,null,null,-653,29777.486328125,null,0,0,0,-6.40869140625E-4,6.40869140625E-4," "]
["2011-05-16T07:50:38",59.986419677734375,471,null,0,0,null,null,null,-653,29777.486328125,null,0,0,0,3.0517578125E-4,3.0517578125E-4," "]
["2011-05-16T07:50:40",59.987396240234375,471,null,0,0,null,null,null,-653,29777.486328125,null,0,0,0,9.765625E-4,9.765625E-4," "]
["2011-05-16T07:50:42",59.988037109375,471,null,0,0,null,null,null,-653,29777.486328125,null,0,0,{"$f":"IF(ROW()<$M$3,0,1)","v":0},6.40869140625E-4,6.40869140625E-4," "]
["2011-05-16T07:50:44",59.987396240234375,471,null,0,0,null,null,null,-653,29777.486328125,null,{"$f":"IF(ROW()<$M$5,0,1)","v":0},0,0,{"$f":"B328-B327","v":-6.40869140625E-4},6.40869140625E-4," "]
["2011-05-16T07:50:46",59.98675537109375,471,null,0,0,null,null,null,-653,29777.486328125,null,0,0,0,-6.40869140625E-4,6.40869140625E-4," "]
["2011-05-16T07:50:48",59.98480224609375,471,null,0,0,null,null,null,-653,29777.486328125,null,0,0,0,-1.953125E-3,1.953125E-3," "]
["2011-05-16T07:50:50",59.982879638671875,471,null,0,0,null,null,null,-653,29777.486328125,null,0,0,0,-1.922607421875E-3,1.922607421875E-3," "]
["2011-05-16T07:50:52",59.980621337890625,471,null,0,0,null,null,null,-653,29777.486328125,null,0,0,0,-2.25830078125E-3,2.25830078125E-3," "]
["2011-05-16T07:50:54",59.97998046875,471,null,0,0,null,null,null,-653,29782.494140625,null,0,0,0,-6.40869140625E-4,6.40869140625E-4," "]
["2011-05-16T07:50:56",59.97930908203125,471,null,0,0,null,null,null,-653,29782.494140625,null,0,0,0,-6.7138671875E-4,6.7138671875E-4," "]
["2011-05-16T07:50:58",59.97900390625,471,null,0,0,null,null,null,-653,29782.494140625,null,0,0,0,-3.0517578125E-4,3.0517578125E-4," "]
["2011-05-16T07:51:00",59.97930908203125,471,null,0,0,null,null,null,-653,29782.494140625,null,0,0,0,3.0517578125E-4,3.0517578125E-4," "]
["2011-05-16T07:51:02",59.980926513671875,471,null,0,0,null,null,null,-653,29782.494140625,null,0,0,0,1.617431640625E-3,1.617431640625E-3," "]
["2011-05-16T07:51:04",59.98126220703125,471,null,0,0,null,null,null,-653,29782.462890625,null,0,0,0,3.35693359375E-4,3.35693359375E-4," "]
["2011-05-16T07:51:06",59.98126220703125,471,null,0,0,null,null,null,-653,29782.462890625,null,0,0,0,0,0," "]
["2011-05-16T07:51:08",59.981903076171875,471,null,0,0,null,null,null,-653,29782.462890625,null,0,0,0,6.40869140625E-4,6.40869140625E-4," "]
["2011-05-16T07:51:10",59.98126220703125,471,null,0,0,null,null,null,-653,29782.462890625,null,0,0,0,-6.40869140625E-4,6.40869140625E-4," "]
["2011-05-16T07:51:12",59.979644775390625,471,null,0,0,null,null,null,-653,29782.462890625,null,0,0,0,-1.617431640625E-3,1.617431640625E-3," "]
["2011-05-16T07:51:14",59.97705078125,471,null,0,0,null,null,null,-653,29756.125,null,0,0,0,-2.593994140625E-3,2.593994140625E-3," "]
["2011-05-16T07:51:16",59.97479248046875,471,null,0,0,null,null,null,-653,29756.125,null,0,0,0,-2.25830078125E-3,2.25830078125E-3," "]
["2011-05-16T07:51:18",59.9735107421875,471,null,0,0,null,null,null,-653,29756.125,null,0,0,0,-1.28173828125E-3,1.28173828125E-3," "]
["2011-05-16T07:51:20",59.972869873046875,471,null,0,0,null,null,null,-653,29756.125,null,0,0,0,-6.40869140625E-4,6.40869140625E-4," "]
["2011-05-16T07:51:22",59.97222900390625,471,null,0,0,null,null,null,-653,29756.125,null,0,0,0,-6.40869140625E-4,6.40869140625E-4," "]
["2011-05-16T07:51:24",59.971893310546875,471,null,0,0,null,null,null,-653,29756.18359375,null,0,0,0,-3.35693359375E-4,3.35693359375E-4," "]
["2011-05-16T07:51:26",59.97125244140625,471,null,0,0,null,null,null,-653,29756.18359375,null,0,0,0,-6.40869140625E-4,6.40869140625E-4," "]
["2011-05-16T07:51:28",59.9715576171875,471,null,0,0,null,null,null,-653,29756.18359375,null,0,0,0,3.0517578125E-4,3.0517578125E-4," "]
["2011-05-16T07:51:30",59.973175048828125,471,null,0,0,null,null,null,-653,29756.18359375,null,0,0,0,1.617431640625E-3,1.617431640625E-3," "]
["2011-05-16T07:51:32",59.974151611328125,471,null,0,0,null,null,null,-653,29756.18359375,null,0,0,0,9.765625E-4,9.765625E-4," "]
["2011-05-16T07:51:34",59.97479248046875,471,null,0,0,null,null,null,-653,29777.580078125,null,0,0,0,6.40869140625E-4,6.40869140625E-4," "]
["2011-05-16T07:51:36",59.97381591796875,471,null,0,0,null,null,null,-653,29777.580078125,null,0,0,0,-9.765625E-4,9.765625E-4," "]
["2011-05-16T07:51:38",59.972869873046875,471,null,0,0,null,null,null,-653,29777.580078125,null,0,0,0,-9.46044921875E-4,9.46044921875E-4," "]
["2011-05-16T07:51:40",59.973175048828125,471,null,0,0,null,null,null,-653,29777.580078125,null,0,0,0,3.0517578125E-4,3.0517578125E-4," "]
["2011-05-16T07:51:42",59.9744873046875,471,null,0,0,null,null,null,-653,29777.580078125,null,0,0,0,1.312255859375E-3,1.312255859375E-3," "]
["2011-05-16T07:51:44",59.97674560546875,471,null,0,0,null,null,null,-653,29777.40234375,null,0,0,0,2.25830078125E-3,2.25830078125E-3," "]
["2011-05-16T07:51:46",59.97802734375,471,null,0,0,null,null,null,-653,29777.40234375,null,0,0,0,1.28173828125E-3,1.28173828125E-3," "]
["2011-05-16T07:51:48",59.97998046875,471,null,0,0,null,null,null,-653,29777.40234375,null,0,0,0,1.953125E-3,1.953125E-3," "]
["2011-05-16T07:51:50",59.980926513671875,471,null,0,0,null,null,null,-653,29777.40234375,null,0,0,0,9.46044921875E-4,9.46044921875E-4," "]
["2011-05-16T07:51:52",59.980926513671875,471,null,0,0,null,null,null,-653,29777.40234375,null,0,0,0,0,0," "]
["2011-05-16T07:51:54",59.979644775390625,471,null,0,0,null,null,null,-653,29802.2421875,null,0,0,0,-1.28173828125E-3,1.28173828125E-3," "]
["2011-05-16T07:51:56",59.97802734375,471,null,0,0,null,null,null,-653,29802.2421875,null,0,0,0,-1.617431640625E-3,1.617431640625E-3," "]
["2011-05-16T07:51:58",59.97705078125,471,null,0,0,null,null,null,-653,29802.2421875,null,0,0,0,-9.765625E-4,9.765625E-4," "]
["2011-05-16T07:52:00",59.977386474609375,471,null,0,0,null,null,null,-653,29802.2421875,null,0,0,0,3.35693359375E-4,3.35693359375E-4," "]
["2011-05-16T07:52:02",59.978363037109375,471,null,0,0,null,null,null,-653,29802.2421875,null,0,0,0,9.765625E-4,9.765625E-4," "]
["2011-05-16T07:52:04",59.97930908203125,471,null,0,0,null,null,null,-653,29802.18359375,null,0,0,0,9.46044921875E-4,9.46044921875E-4," "]
["2011-05-16T07:52:06",59.98126220703125,471,null,0,0,null,null,null,-653,29802.18359375,null,0,0,0,1.953125E-3,1.953125E-3," "]
["2011-05-16T07:52:08",59.984161376953125,471,null,0,0,null,null,null,-653,29802.18359375,null,0,0,0,2.899169921875E-3,2.899169921875E-3," "]
["2011-05-16T07:52:10",59.986114501953125,471,null,0,0,null,null,null,-653,29802.18359375,null,0,{"$f":"IF((M371=1)*(B371>$N$2),1,0)","v":0},0,1.953125E-3,{"$f":"ABS(P371)","v":1.953125E-3},{"$f":"IF(Q371>(AVERAGE(Q367:Q370)+R$2),1,\" \")","v":" "}]
["2011-05-16T07:52:12",59.987091064453125,471,null,0,0,null,null,null,-653,29802.18359375,null,0,0,0,9.765625E-4,9.765625E-4," "]
["2011-05-16T07:52:14",59.987396240234375,471,null,0,0,null,null,null,-653,29802.2890625,null,0,0,0,3.0517578125E-4,3.0517578125E-4," "]
["2011-05-16T07:52:16",59.988037109375,471,null,0,0,null,null,null,-653,29802.2890625,null,0,0,0,6.40869140625E-4,6.40869140625E-4," "]
["2011-05-16T07:52:18",59.988037109375,471,null,0,0,null,null,null,-653,29802.2890625,null,0,0,0,0,0," "]
["2011-05-16T07:52:20",59.98773193359375,471,null,0,0,null,null,null,-653,29802.2890625,null,0,0,0,-3.0517578125E-4,3.0517578125E-4," "]
["2011-05-16T07:52:22",59.987396240234375,471,null,0,0,null,null,null,-653,29802.2890625,null,0,0,0,-3.35693359375E-4,3.35693359375E-4," "]
["2011-05-16T07:52:24",59.987396240234375,471,null,0,0,null,null,null,-653,29802.3203125,null,0,0,0,0,0," "]
["2011-05-16T07:52:26",59.987396240234375,471,null,0,0,null,null,null,-653,29802.3203125,null,0,0,0,0,0," "]
["2011-05-16T07:52:28",59.987396240234375,471,null,0,0,null,null,null,-653,29802.3203125,null,0,0,0,0,0," "]
["2011-05-16T07:52:30",59.98773193359375,471,null,0,0,null,null,null,-653,29802.3203125,null,0,0,0,3.35693359375E-4,3.35693359375E-4," "]
["2011-05-16T07:52:32",59.989013671875,471,null,0,0,null,null,null,-653,29802.3203125,null,0,0,0,1.28173828125E-3,1.28173828125E-3," "]
["2011-05-16T07:52:34",59.989654541015625,471,null,0,0,null,null,null,-653,29795.021484375,null,0,0,0,6.40869140625E-4,6.40869140625E-4," "]
["2011-05-16T07:52:36",59.989349365234375,471,null,0,0,null,null,null,-653,29795.021484375,null,0,0,0,-3.0517578125E-4,3.0517578125E-4," "]
["2011-05-16T07:52:38",59.988372802734375,471,null,0,0,null,null,null,-653,29795.021484375,null,0,0,0,-9.765625E-4,9.765625E-4," "]
["2011-05-16T07:52:40",59.988677978515625,471,null,0,0,null,null,null,-653,29795.021484375,null,0,0,0,3.0517578125E-4,3.0517578125E-4," "]
["2011-05-16T07:52:42",59.988677978515625,471,null,0,0,null,null,null,-653,29795.021484375,null,0,0,0,0,0," "]
["2011-05-16T07:52:44",59.987396240234375,471,null,0,0,null,null,null,-653,29795.052734375,null,0,0,0,-1.28173828125E-3,1.28173828125E-3," "]
["2011-05-16T07:52:46",59.986114501953125,471,null,0,0,null,null,null,-653,29795.052734375,null,0,0,0,-1.28173828125E-3,1.28173828125E-3," "]
["2011-05-16T07:52:48",59.986114501953125,471,null,0,0,null,null,null,-653,29795.052734375,null,0,0,0,0,0," "]
["2011-05-16T07:52:50",59.987091064453125,471,null,0,0,null,null,null,-653,29795.052734375,null,0,0,{"$f":"IF(ROW()<$M$3,0,1)","v":0},9.765625E-4,9.765625E-4," "]
["2011-05-16T07:52:52",59.988372802734375,471,null,0,0,null,null,null,-653,29795.052734375,null,{"$f":"IF(ROW()<$M$5,0,1)","v":0},0,0,{"$f":"B392-B391","v":1.28173828125E-3},1.28173828125E-3," "]
["2011-05-16T07:52:54",59.989349365234375,471,null,0,0,null,null,null,-653,29781.423828125,null,0,0,0,9.765625E-4,9.765625E-4," "]
["2011-05-16T07:52:56",59.989990234375,471,null,0,0,null,null,null,-653,29781.423828125,null,0,0,0,6.40869140625E-4,6.40869140625E-4," "]
["2011-05-16T07:52:58",59.99127197265625,471,null,0,0,null,null,null,-653,29781.423828125,null,0,0,0,1.28173828125E-3,1.28173828125E-3," "]
["2011-05-16T07:53:00",59.9925537109375,471,null,0,0,null,null,null,-653,29781.423828125,null,0,0,0,1.28173828125E-3,1.28173828125E-3," "]
["2011-05-16T07:53:02",59.993865966796875,471,null,0,0,null,null,null,-653,29781.423828125,null,0,0,0,1.312255859375E-3,1.312255859375E-3," "]
["2011-05-16T07:53:04",59.993865966796875,471,null,0,0,null,null,null,-653,29781.453125,null,0,0,0,0,0," "]
["2011-05-16T07:53:06",59.992889404296875,471,null,0,0,null,null,null,-653,29781.453125,null,0,0,0,-9.765625E-4,9.765625E-4," "]
["2011-05-16T07:53:08",59.990966796875,471,null,0,0,null,null,null,-653,29781.453125,null,0,0,0,-1.922607421875E-3,1.922607421875E-3," "]
["2011-05-16T07:53:10",59.988677978515625,471,null,0,0,null,null,null,-653,29781.453125,null,0,0,0,-2.288818359375E-3,2.288818359375E-3," "]
["2011-05-16T07:53:12",59.986419677734375,471,null,0,0,null,null,null,-653,29781.453125,null,0,0,0,-2.25830078125E-3,2.25830078125E-3," "]
["2011-05-16T07:53:14",59.983856201171875,471,null,0,0,null,null,null,-653,29802.4296875,null,0,0,0,-2.5634765625E-3,2.5634765625E-3," "]
["2011-05-16T07:53:16",59.981597900390625,471,null,0,0,null,null,null,-653,29802.4296875,null,0,0,0,-2.25830078125E-3,2.25830078125E-3," "]
["2011-05-16T07:53:18",59.97930908203125,471,null,0,0,null,null,null,-653,29802.4296875,null,0,0,0,-2.288818359375E-3,2.288818359375E-3," "]
["2011-05-16T07:53:20",59.97674560546875,471,null,0,0,null,null,null,-653,29802.4296875,null,0,0,0,-2.5634765625E-3,2.5634765625E-3," "]
["2011-05-16T07:53:22",59.974151611328125,471,null,0,0,null,null,null,-653,29802.4296875,null,0,0,0,-2.593994140625E-3,2.593994140625E-3," "]
["2011-05-16T07:53:24",59.972869873046875,471,null,0,0,null,null,null,-653,29802.400390625,null,0,0,0,-1.28173828125E-3,1.28173828125E-3," "]
["2011-05-16T07:53:26",59.97222900390625,471,null,0,0,null,null,null,-653,29802.400390625,null,0,0,0,-6.40869140625E-4,6.40869140625E-4," "]
["2011-05-16T07:53:28",59.973175048828125,471,null,0,0,null,null,null,-653,29802.400390625,null,0,0,0,9.46044921875E-4,9.46044921875E-4," "]
["2011-05-16T07:53:30",59.9744873046875,471,null,0,0,null,null,null,-653,29802.400390625,null,0,0,0,1.312255859375E-3,1.312255859375E-3," "]
["2011-05-16T07:53:32",59.9735107421875,471,null,0,0,null,null,null,-653,29802.400390625,null,0,0,0,-9.765625E-4,9.765625E-4," "]
["2011-05-16T07:53:34",59.9725341796875,471,null,0,0,null,null,null,-653,29804.40234375,null,0,0,0,-9.765625E-4,9.765625E-4," "]
["2011-05-16T07:53:36",59.9725341796875,471,null,0,0,null,null,null,-653,29804.40234375,null,0,0,0,0,0," "]
["2011-05-16T07:53:38",59.97222900390625,471,null,0,0,null,null,null,-653,29804.40234375,null,0,0,0,-3.0517578125E-4,3.0517578125E-4," "]
["2011-05-16T07:53:40",59.9715576171875,471,null,0,0,null,null,null,-653,29804.40234375,null,0,0,0,-6.7138671875E-4,6.7138671875E-4," "]
["2011-05-16T07:53:42",59.971893310546875,471,null,0,0,null,null,null,-653,29804.40234375,null,0,0,0,3.35693359375E-4,3.35693359375E-4," "]
["2011-05-16T07:53:44",59.973175048828125,471,null,0,0,null,null,null,-653,29804.40234375,null,0,0,0,1.28173828125E-3,1.28173828125E-3," "]
["2011-05-16T07:53:46",59.97479248046875,471,null,0,0,null,null,null,-653,29804.40234375,null,0,0,0,1.617431640625E-3,1.617431640625E-3," "]
["2011-05-16T07:53:48",59.976104736328125,471,null,0,0,null,null,null,-653,29804.40234375,null,0,0,0,1.312255859375E-3,1.312255859375E-3," "]
["2011-05-16T07:53:50",59.97802734375,471,null,0,0,null,null,null,-653,29804.40234375,null,0,0,0,1.922607421875E-3,1.922607421875E-3," "]
["2011-05-16T07:53:52",59.980621337890625,471,null,0,0,null,null,null,-653,29804.40234375,null,0,0,0,2.593994140625E-3,2.593994140625E-3," "]
["2011-05-16T07:53:54",59.9825439453125,471,null,0,0,null,null,null,-653,29797.32421875,null,0,0,0,1.922607421875E-3,1.922607421875E-3," "]
["2011-05-16T07:53:56",59.984161376953125,471,null,0,0,null,null,null,-653,29797.32421875,null,0,0,0,1.617431640625E-3,1.617431640625E-3," "]
["2011-05-16T07:53:58",59.986114501953125,471,null,0,0,null,null,null,-653,29797.32421875,null,0,0,0,1.953125E-3,1.953125E-3," "]
["2011-05-16T07:54:00",59.988037109375,471,null,0,0,null,null,null,-653,29797.32421875,null,0,0,0,1.922607421875E-3,1.922607421875E-3," "]
["2011-05-16T07:54:02",59.99029541015625,471,null,0,0,null,null,null,-653,29797.32421875,null,0,0,0,2.25830078125E-3,2.25830078125E-3," "]
["2011-05-16T07:54:04",59.991607666015625,471,null,0,0,null,null,null,-653,29797.294921875,null,0,0,0,1.312255859375E-3,1.312255859375E-3," "]
["2011-05-16T07:54:06",59.99322509765625,471,null,0,0,null,null,null,-653,29797.294921875,null,0,0,0,1.617431640625E-3,1.617431640625E-3," "]
["2011-05-16T07:54:08",59.994842529296875,471,null,0,0,null,null,null,-653,29797.294921875,null,0,0,0,1.617431640625E-3,1.617431640625E-3," "]
["2011-05-16T07:54:10",59.99578857421875,471,null,0,0,null,null,null,-653,29797.294921875,null,0,0,0,9.46044921875E-4,9.46044921875E-4," "]
["2011-05-16T07:54:12",59.995147705078125,471,null,0,0,null,null,null,-653,29797.294921875,null,0,0,0,-6.40869140625E-4,6.40869140625E-4," "]
["2011-05-16T07:54:14",59.996124267578125,471,null,0,0,null,null,null,-653,29823.759765625,null,0,0,0,9.765625E-4,9.765625E-4," "]
["2011-05-16T07:54:16",59.998046875,471,null,0,0,null,null,null,-653,29823.759765625,null,0,0,0,1.922607421875E-3,1.922607421875E-3," "]
["2011-05-16T07:54:18",59.999359130859375,471,null,0,0,null,null,null,-653,29823.759765625,null,0,{"$f":"IF((M435=1)*(B435>$N$2),1,0)","v":0},0,1.312255859375E-3,{"$f":"ABS(P435)","v":1.312255859375E-3},{"$f":"IF(Q435>(AVERAGE(Q431:Q434)+R$2),1,\" \")","v":" "}]
["2011-05-16T07:54:20",60.000640869140625,471,null,0,0,null,null,null,-653,29823.759765625,null,0,0,0,1.28173828125E-3,1.28173828125E-3," "]
["2011-05-16T07:54:22",60.0009765625,471,null,0,0,null,null,null,-653,29823.759765625,null,0,0,0,3.35693359375E-4,3.35693359375E-4," "]
["2011-05-16T07:54:24",60.000640869140625,471,null,0,0,null,null,null,-653,29818.40625,null,0,0,0,-3.35693359375E-4,3.35693359375E-4," "]
["2011-05-16T07:54:26",60,471,null,0,0,null,null,null,-653,29818.40625,null,0,0,0,-6.40869140625E-4,6.40869140625E-4," "]
["2011-05-16T07:54:28",59.9990234375,471,null,0,0,null,null,null,-653,29818.40625,null,0,0,0,-9.765625E-4,9.765625E-4," "]
["2011-05-16T07:54:30",59.99871826171875,471,null,0,0,null,null,null,-653,29818.40625,null,0,0,0,-3.0517578125E-4,3.0517578125E-4," "]
["2011-05-16T07:54:32",59.999359130859375,471,null,0,0,null,null,null,-653,29818.40625,null,0,0,0,6.40869140625E-4,6.40869140625E-4," "]
["2011-05-16T07:54:34",60.000335693359375,471,null,0,0,null,null,null,-653,29808.89453125,null,0,0,0,9.765625E-4,9.765625E-4," "]
["2011-05-16T07:54:36",60.001617431640625,471,null,0,0,null,null,null,-653,29808.89453125,null,0,0,0,1.28173828125E-3,1.28173828125E-3," "]
["2011-05-16T07:54:38",60.0035400390625,471,null,0,0,null,null,null,-653,29808.89453125,null,0,0,0,1.922607421875E-3,1.922607421875E-3," "]
["2011-05-16T07:54:40",60.004852294921875,471,null,0,0,null,null,null,-653,29808.89453125,null,0,0,0,1.312255859375E-3,1.312255859375E-3," "]
["2011-05-16T07:54:42",60.00421142578125,471,null,0,0,null,null,null,-653,29808.89453125,null,0,0,0,-6.40869140625E-4,6.40869140625E-4," "]
["2011-05-16T07:54:44",60.001953125,471,null,0,0,null,null,null,-653,29814.890625,null,0,0,0,-2.25830078125E-3,2.25830078125E-3," "]
["2011-05-16T07:54:46",59.9990234375,471,null,0,0,null,null,null,-653,29814.890625,null,0,0,0,-2.9296875E-3,2.9296875E-3," "]
["2011-05-16T07:54:48",59.9964599609375,471,null,0,0,null,null,null,-653,29814.890625,null,0,0,0,-2.5634765625E-3,2.5634765625E-3," "]
["2011-05-16T07:54:50",59.994171142578125,471,null,0,0,null,null,null,-653,29814.890625,null,0,0,0,-2.288818359375E-3,2.288818359375E-3," "]
["2011-05-16T07:54:52",59.99322509765625,471,null,0,0,null,null,null,-653,29814.890625,null,0,0,0,-9.46044921875E-4,9.46044921875E-4," "]
["2011-05-16T07:54:54",59.99127197265625,471,null,0,0,null,null,null,-653,29826.47265625,null,0,0,0,-1.953125E-3,1.953125E-3," "]
["2011-05-16T07:54:56",59.989349365234375,471,null,0,0,null,null,null,-653,29826.47265625,null,0,0,0,-1.922607421875E-3,1.922607421875E-3," "]
["2011-05-16T07:54:58",59.987091064453125,471,null,0,0,null,null,null,-653,29826.47265625,null,0,0,{"$f":"IF(ROW()<$M$3,0,1)","v":0},-2.25830078125E-3,2.25830078125E-3," "]
["2011-05-16T07:55:00",59.98577880859375,471,null,0,0,null,null,null,-653,29826.47265625,null,{"$f":"IF(ROW()<$M$5,0,1)","v":0},0,0,{"$f":"B456-B455","v":-1.312255859375E-3},1.312255859375E-3," "]
["2011-05-16T07:55:02",59.9854736328125,471,null,0,0,null,null,null,-653,29826.47265625,null,0,0,0,-3.0517578125E-4,3.0517578125E-4," "]
["2011-05-16T07:55:04",59.9854736328125,471,null,0,0,null,null,null,-653,29826.4140625,null,0,0,0,0,0," "]
["2011-05-16T07:55:06",59.985137939453125,471,null,0,0,null,null,null,-653,29826.4140625,null,0,0,0,-3.35693359375E-4,3.35693359375E-4," "]
["2011-05-16T07:55:08",59.9844970703125,471,null,0,0,null,null,null,-653,29826.4140625,null,0,0,0,-6.40869140625E-4,6.40869140625E-4," "]
["2011-05-16T07:55:10",59.9844970703125,471,null,0,0,null,null,null,-653,29826.4140625,null,0,0,0,0,0," "]
["2011-05-16T07:55:12",59.98480224609375,471,null,0,0,null,null,null,-653,29826.4140625,null,0,0,0,3.0517578125E-4,3.0517578125E-4," "]
["2011-05-16T07:55:14",59.98480224609375,471,null,0,0,null,null,null,-653,29834.177734375,null,0,0,0,0,0," "]
["2011-05-16T07:55:16",59.986114501953125,471,null,0,0,null,null,null,-653,29834.177734375,null,0,0,0,1.312255859375E-3,1.312255859375E-3," "]
["2011-05-16T07:55:18",59.987396240234375,471,null,0,0,null,null,null,-653,29834.177734375,null,0,0,0,1.28173828125E-3,1.28173828125E-3," "]
["2011-05-16T07:55:20",59.988677978515625,471,null,0,0,null,null,null,-653,29834.177734375,null,0,0,0,1.28173828125E-3,1.28173828125E-3," "]
["2011-05-16T07:55:22",59.988372802734375,471,null,0,0,null,null,null,-653,29834.177734375,null,0,0,0,-3.0517578125E-4,3.0517578125E-4," "]
["2011-05-16T07:55:24",59.988372802734375,471,null,0,0,null,null,null,-653,29836.134765625,null,0,0,0,0,0," "]
["2011-05-16T07:55:26",59.98577880859375,471,null,0,0,null,null,null,-653,29836.134765625,null,0,0,0,-2.593994140625E-3,2.593994140625E-3," "]
["2011-05-16T07:55:28",59.9844970703125,471,null,0,0,null,null,null,-653,29836.134765625,null,0,0,0,-1.28173828125E-3,1.28173828125E-3," "]
["2011-05-16T07:55:30",59.98480224609375,471,null,0,0,null,null,null,-653,29836.134765625,null,0,0,0,3.0517578125E-4,3.0517578125E-4," "]
["2011-05-16T07:55:32",59.9854736328125,471,null,0,0,null,null,null,-653,29836.134765625,null,0,0,0,6.7138671875E-4,6.7138671875E-4," "]
["2011-05-16T07:55:34",59.986419677734375,471,null,0,0,null,null,null,-653,29821.837890625,null,0,0,0,9.46044921875E-4,9.46044921875E-4," "]
["2011-05-16T07:55:36",59.98773193359375,471,null,0,0,null,null,null,-653,29821.837890625,null,0,0,0,1.312255859375E-3,1.312255859375E-3," "]
["2011-05-16T07:55:38",59.989654541015625,471,null,0,0,null,null,null,-653,29821.837890625,null,0,0,0,1.922607421875E-3,1.922607421875E-3," "]
["2011-05-16T07:55:40",59.990631103515625,471,null,0,0,null,null,null,-653,29821.837890625,null,0,0,0,9.765625E-4,9.765625E-4," "]
["2011-05-16T07:55:42",59.990631103515625,471,null,0,0,null,null,null,-653,29821.837890625,null,0,0,0,0,0," "]
["2011-05-16T07:55:44",59.990631103515625,471,null,0,0,null,null,null,-653,29821.8671875,null,0,0,0,0,0," "]
["2011-05-16T07:55:46",59.990631103515625,471,null,0,0,null,null,null,-653,29821.8671875,null,0,0,0,0,0," "]
["2011-05-16T07:55:48",59.986419677734375,471,null,0,0,null,null,null,-653,29821.8671875,null,0,0,0,-4.21142578125E-3,4.21142578125E-3," "]
["2011-05-16T07:55:50",59.9844970703125,471,null,0,0,null,null,null,-653,29821.8671875,null,0,0,0,-1.922607421875E-3,1.922607421875E-3," "]
["2011-05-16T07:55:52",59.98223876953125,471,null,0,0,null,null,null,-653,29821.8671875,null,0,0,0,-2.25830078125E-3,2.25830078125E-3," "]
["2011-05-16T07:55:54",59.980621337890625,471,null,0,0,null,null,null,-653,29831.326171875,null,0,0,0,-1.617431640625E-3,1.617431640625E-3," "]
["2011-05-16T07:55:56",59.977386474609375,471,null,0,0,null,null,null,-653,29831.326171875,null,0,0,0,-3.23486328125E-3,3.23486328125E-3," "]
["2011-05-16T07:55:58",59.976409912109375,471,null,0,0,null,null,null,-653,29831.326171875,null,0,0,0,-9.765625E-4,9.765625E-4," "]
["2011-05-16T07:56:00",59.976409912109375,471,null,0,0,null,null,null,-653,29831.326171875,null,0,0,0,0,0," "]
["2011-05-16T07:56:02",59.976104736328125,471,null,0,0,null,null,null,-653,29831.326171875,null,0,0,0,-3.0517578125E-4,3.0517578125E-4," "]
["2011-05-16T07:56:04",59.975433349609375,471,null,0,0,null,null,null,-653,29831.326171875,null,0,0,0,-6.7138671875E-4,6.7138671875E-4," "]
["2011-05-16T07:56:06",59.97576904296875,471,null,0,0,null,null,null,-653,29831.326171875,null,0,0,0,3.35693359375E-4,3.35693359375E-4," "]
["2011-05-16T07:56:08",59.97674560546875,471,null,0,0,null,null,null,-653,29831.326171875,null,0,0,0,9.765625E-4,9.765625E-4," "]
["2011-05-16T07:56:10",59.97705078125,471,null,0,0,null,null,null,-653,29831.326171875,null,0,0,0,3.0517578125E-4,3.0517578125E-4," "]
["2011-05-16T07:56:12",59.97705078125,471,null,0,0,null,null,null,-653,29831.326171875,null,0,0,0,0,0," "]
["2011-05-16T07:56:14",59.97705078125,471,null,0,0,null,null,null,-653,29835.5078125,null,0,0,0,0,0," "]
["2011-05-16T07:56:16",59.97674560546875,471,null,0,0,null,null,null,-653,29835.5078125,null,0,0,0,-3.0517578125E-4,3.0517578125E-4," "]
["2011-05-16T07:56:18",59.97705078125,471,null,0,0,null,null,null,-653,29835.5078125,null,0,0,0,3.0517578125E-4,3.0517578125E-4," "]
["2011-05-16T07:56:20",59.977386474609375,471,null,0,0,null,null,null,-653,29835.5078125,null,0,0,0,3.35693359375E-4,3.35693359375E-4," "]
["2011-05-16T07:56:22",59.97802734375,471,null,0,0,null,null,null,-653,29835.5078125,null,0,0,0,6.40869140625E-4,6.40869140625E-4," "]
["2011-05-16T07:56:24",59.97802734375,471,null,0,0,null,null,null,-653,29856.546875,null,0,0,0,0,0," "]
["2011-05-16T07:56:26",59.978668212890625,471,null,0,0,null,null,null,-653,29856.546875,null,0,{"$f":"IF((M499=1)*(B499>$N$2),1,0)","v":0},0,6.40869140625E-4,{"$f":"ABS(P499)","v":6.40869140625E-4},{"$f":"IF(Q499>(AVERAGE(Q495:Q498)+R$2),1,\" \")","v":" "}]
["2011-05-16T07:56:28",59.979644775390625,471,null,0,0,null,null,null,-653,29856.546875,null,0,0,0,9.765625E-4,9.765625E-4," "]
["2011-05-16T07:56:30",59.981597900390625,471,null,0,0,null,null,null,-653,29856.546875,null,0,0,0,1.953125E-3,1.953125E-3," "]
["2011-05-16T07:56:32",59.9835205078125,471,null,0,0,null,null,null,-653,29856.546875,null,0,0,0,1.922607421875E-3,1.922607421875E-3," "]
["2011-05-16T07:56:34",59.986419677734375,471,null,0,0,null,null,null,-653,29846.76171875,null,0,0,0,2.899169921875E-3,2.899169921875E-3," "]
["2011-05-16T07:56:36",59.99029541015625,471,null,0,0,null,null,null,-653,29846.76171875,null,0,0,0,3.875732421875E-3,3.875732421875E-3," "]
["2011-05-16T07:56:38",59.9945068359375,471,null,0,0,null,null,null,-653,29846.76171875,null,0,0,0,4.21142578125E-3,4.21142578125E-3," "]
["2011-05-16T07:56:40",59.997406005859375,471,null,0,0,null,null,null,-653,29846.76171875,null,0,0,0,2.899169921875E-3,2.899169921875E-3," "]
["2011-05-16T07:56:42",59.998382568359375,471,null,0,0,null,null,null,-653,29846.76171875,null,0,0,0,9.765625E-4,9.765625E-4," "]
["2011-05-16T07:56:44",59.998046875,471,null,0,0,null,null,null,-653,29860.048828125,null,0,0,0,-3.35693359375E-4,3.35693359375E-4," "]
["2011-05-16T07:56:46",59.99676513671875,471,null,0,0,null,null,null,-653,29860.048828125,null,0,0,0,-1.28173828125E-3,1.28173828125E-3," "]
["2011-05-16T07:56:48",59.996124267578125,471,null,0,0,null,null,null,-653,29860.048828125,null,0,0,0,-6.40869140625E-4,6.40869140625E-4," "]
["2011-05-16T07:56:50",59.9954833984375,471,null,0,0,null,null,null,-653,29860.048828125,null,0,0,0,-6.40869140625E-4,6.40869140625E-4," "]
["2011-05-16T07:56:52",59.996124267578125,471,null,0,0,null,null,null,-653,29860.048828125,null,0,0,0,6.40869140625E-4,6.40869140625E-4," "]
["2011-05-16T07:56:54",59.999359130859375,471,null,0,0,null,null,null,-653,29873.146484375,null,0,0,0,3.23486328125E-3,3.23486328125E-3," "]
["2011-05-16T07:56:56",60.00323486328125,471,null,0,0,null,null,null,-653,29873.146484375,null,0,0,0,3.875732421875E-3,3.875732421875E-3," "]
["2011-05-16T07:56:58",60.0074462890625,471,null,0,0,null,null,null,-653,29873.146484375,null,0,0,0,4.21142578125E-3,4.21142578125E-3," "]
["2011-05-16T07:57:00",60.011627197265625,471,null,0,0,null,null,null,-653,29873.146484375,null,0,0,0,4.180908203125E-3,4.180908203125E-3," "]
["2011-05-16T07:57:02",60.0145263671875,471,null,0,0,null,null,null,-653,29873.146484375,null,0,0,0,2.899169921875E-3,2.899169921875E-3," "]
["2011-05-16T07:57:04",60.0174560546875,471,null,0,0,null,null,null,-653,29873.146484375,null,0,0,0,2.9296875E-3,2.9296875E-3," "]
["2011-05-16T07:57:06",60.019073486328125,471,null,0,0,null,null,null,-653,29873.146484375,null,0,0,{"$f":"IF(ROW()<$M$3,0,1)","v":0},1.617431640625E-3,1.617431640625E-3," "]
["2011-05-16T07:57:08",60.019378662109375,471,null,0,0,null,null,null,-653,29873.146484375,null,{"$f":"IF(ROW()<$M$5,0,1)","v":0},0,0,{"$f":"B520-B519","v":3.0517578125E-4},3.0517578125E-4," "]
["2011-05-16T07:57:10",60.019378662109375,471,null,0,0,null,null,null,-653,29873.146484375,null,0,0,0,0,0," "]
["2011-05-16T07:57:12",60.019378662109375,471,null,0,0,null,null,null,-653,29873.146484375,null,0,0,0,0,0," "]
["2011-05-16T07:57:14",60.020355224609375,471,null,0,0,null,null,null,-653,29889.669921875,null,0,0,0,9.765625E-4,9.765625E-4," "]
["2011-05-16T07:57:16",60.02197265625,471,null,0,0,null,null,null,-653,29889.669921875,null,0,0,0,1.617431640625E-3,1.617431640625E-3," "]
["2011-05-16T07:57:18",60.02423095703125,471,null,0,0,null,null,null,-653,29889.669921875,null,0,0,0,2.25830078125E-3,2.25830078125E-3," "]
["2011-05-16T07:57:20",60.026824951171875,471,null,0,0,null,null,null,-653,29889.669921875,null,0,0,0,2.593994140625E-3,2.593994140625E-3," "]
["2011-05-16T07:57:22",60.028106689453125,471,null,0,0,null,null,null,-653,29889.669921875,null,0,0,0,1.28173828125E-3,1.28173828125E-3," "]
["2011-05-16T07:57:24",60.029388427734375,471,null,0,0,null,null,null,-653,29886.599609375,null,0,0,0,1.28173828125E-3,1.28173828125E-3," "]
["2011-05-16T07:57:26",60.030364990234375,471,null,0,0,null,null,null,-653,29886.599609375,null,0,0,0,9.765625E-4,9.765625E-4," "]
["2011-05-16T07:57:28",60.02874755859375,471,null,0,0,null,null,null,-653,29886.599609375,null,0,0,0,-1.617431640625E-3,1.617431640625E-3," "]
["2011-05-16T07:57:30",60.026824951171875,471,null,0,0,null,null,null,-653,29886.599609375,null,0,0,0,-1.922607421875E-3,1.922607421875E-3," "]
["2011-05-16T07:57:32",60.024566650390625,471,null,0,0,null,null,null,-653,29886.599609375,null,0,0,0,-2.25830078125E-3,2.25830078125E-3," "]
["2011-05-16T07:57:34",60.022613525390625,471,null,0,0,null,null,null,-653,29891.673828125,null,0,0,0,-1.953125E-3,1.953125E-3," "]
["2011-05-16T07:57:36",60.022308349609375,471,null,0,0,null,null,null,-653,29891.673828125,null,0,0,0,-3.0517578125E-4,3.0517578125E-4," "]
["2011-05-16T07:57:38",60.02294921875,471,null,0,0,null,null,null,-653,29891.673828125,null,0,0,0,6.40869140625E-4,6.40869140625E-4," "]
["2011-05-16T07:57:40",60.023590087890625,471,null,0,0,null,null,null,-653,29891.673828125,null,0,0,0,6.40869140625E-4,6.40869140625E-4," "]
["2011-05-16T07:57:42",60.022613525390625,471,null,0,0,null,null,null,-653,29891.673828125,null,0,0,0,-9.765625E-4,9.765625E-4," "]
["2011-05-16T07:57:44",60.021636962890625,471,null,0,0,null,null,null,-653,29891.64453125,null,0,0,0,-9.765625E-4,9.765625E-4," "]
["2011-05-16T07:57:46",60.01971435546875,471,null,0,0,null,null,null,-653,29891.64453125,null,0,0,0,-1.922607421875E-3,1.922607421875E-3," "]
["2011-05-16T07:57:48",60.01776123046875,471,null,0,0,null,null,null,-653,29891.64453125,null,0,0,0,-1.953125E-3,1.953125E-3," "]
["2011-05-16T07:57:50",60.0174560546875,471,null,0,0,null,null,null,-653,29891.64453125,null,0,0,0,-3.0517578125E-4,3.0517578125E-4," "]
["2011-05-16T07:57:52",60.016815185546875,471,null,0,0,null,null,null,-653,29891.64453125,null,0,0,0,-6.40869140625E-4,6.40869140625E-4," "]
["2011-05-16T07:57:54",60.017120361328125,471,null,0,0,null,null,null,-653,29891.513671875,null,0,0,0,3.0517578125E-4,3.0517578125E-4," "]
["2011-05-16T07:57:56",60.018402099609375,471,null,0,0,null,null,null,-653,29891.513671875,null,0,0,0,1.28173828125E-3,1.28173828125E-3," "]
["2011-05-16T07:57:58",60.01873779296875,471,null,0,0,null,null,null,-653,29891.513671875,null,0,0,0,3.35693359375E-4,3.35693359375E-4," "]
["2011-05-16T07:58:00",60.018096923828125,471,null,0,0,null,null,null,-653,29891.513671875,null,0,0,0,-6.40869140625E-4,6.40869140625E-4," "]
["2011-05-16T07:58:02",60.016815185546875,471,null,0,0,null,null,null,-653,29891.513671875,null,0,0,0,-1.28173828125E-3,1.28173828125E-3," "]
["2011-05-16T07:58:04",60.01519775390625,471,null,0,0,null,null,null,-653,29891.6015625,null,0,0,0,-1.617431640625E-3,1.617431640625E-3," "]
["2011-05-16T07:58:06",60.01519775390625,471,null,0,0,null,null,null,-653,29891.6015625,null,0,0,0,0,0," "]
["2011-05-16T07:58:08",60.0155029296875,471,null,0,0,null,null,null,-653,29891.6015625,null,0,0,0,3.0517578125E-4,3.0517578125E-4," "]
["2011-05-16T07:58:10",60.0155029296875,471,null,0,0,null,null,null,-653,29891.6015625,null,0,0,0,0,0," "]
["2011-05-16T07:58:12",60.0145263671875,471,null,0,0,null,null,null,-653,29891.6015625,null,0,0,0,-9.765625E-4,9.765625E-4," "]
["2011-05-16T07:58:14",60.0145263671875,471,null,0,0,null,null,null,-653,29884.5,null,0,0,0,0,0," "]
["2011-05-16T07:58:16",60.01519775390625,471,null,0,0,null,null,null,-653,29884.5,null,0,0,0,6.7138671875E-4,6.7138671875E-4," "]
["2011-05-16T07:58:18",60.015838623046875,471,null,0,0,null,null,null,-653,29884.5,null,0,0,0,6.40869140625E-4,6.40869140625E-4," "]
["2011-05-16T07:58:20",60.016143798828125,471,null,0,0,null,null,null,-653,29884.5,null,0,0,0,3.0517578125E-4,3.0517578125E-4," "]
["2011-05-16T07:58:22",60.015838623046875,471,null,0,0,null,null,null,-653,29884.5,null,0,0,0,-3.0517578125E-4,3.0517578125E-4," "]
["2011-05-16T07:58:24",60.01519775390625,471,null,0,0,null,null,null,-653,29881.79296875,null,0,0,0,-6.40869140625E-4,6.40869140625E-4," "]
["2011-05-16T07:58:26",60.0155029296875,471,null,0,0,null,null,null,-653,29881.79296875,null,0,0,0,3.0517578125E-4,3.0517578125E-4," "]
["2011-05-16T07:58:28",60.016143798828125,471,null,0,0,null,null,null,-653,29881.79296875,null,0,0,0,6.40869140625E-4,6.40869140625E-4," "]
["2011-05-16T07:58:30",60.01776123046875,471,null,0,0,null,null,null,-653,29881.79296875,null,0,0,0,1.617431640625E-3,1.617431640625E-3," "]
["2011-05-16T07:58:32",60.019073486328125,471,null,0,0,null,null,null,-653,29881.79296875,null,0,0,0,1.312255859375E-3,1.312255859375E-3," "]
["2011-05-16T07:58:34",60.02069091796875,471,null,0,0,null,null,null,-653,29887.140625,null,0,{"$f":"IF((M563=1)*(B563>$N$2),1,0)","v":0},0,1.617431640625E-3,{"$f":"ABS(P563)","v":1.617431640625E-3},{"$f":"IF(Q563>(AVERAGE(Q559:Q562)+R$2),1,\" \")","v":" "}]
["2011-05-16T07:58:36",60.021331787109375,471,null,0,0,null,null,null,-653,29887.140625,null,0,0,0,6.40869140625E-4,6.40869140625E-4," "]
["2011-05-16T07:58:38",60.02069091796875,471,null,0,0,null,null,null,-653,29887.140625,null,0,0,0,-6.40869140625E-4,6.40869140625E-4," "]
["2011-05-16T07:58:40",60.019073486328125,471,null,0,0,null,null,null,-653,29887.140625,null,0,0,0,-1.617431640625E-3,1.617431640625E-3," "]
["2011-05-16T07:58:42",60.0174560546875,471,null,0,0,null,null,null,-653,29887.140625,null,0,0,0,-1.617431640625E-3,1.617431640625E-3," "]
["2011-05-16T07:58:44",60.016143798828125,471,null,0,0,null,null,null,-653,29873.076171875,null,0,0,0,-1.312255859375E-3,1.312255859375E-3," "]
["2011-05-16T07:58:46",60.01519775390625,471,null,0,0,null,null,null,-653,29873.076171875,null,0,0,0,-9.46044921875E-4,9.46044921875E-4," "]
["2011-05-16T07:58:48",60.0145263671875,471,null,0,0,null,null,null,-653,29873.076171875,null,0,0,0,-6.7138671875E-4,6.7138671875E-4," "]
["2011-05-16T07:58:50",60.013885498046875,471,null,0,0,null,null,null,-653,29873.076171875,null,0,0,0,-6.40869140625E-4,6.40869140625E-4," "]
["2011-05-16T07:58:52",60.013580322265625,471,null,0,0,null,null,null,-653,29873.076171875,null,0,0,0,-3.0517578125E-4,3.0517578125E-4," "]
["2011-05-16T07:58:54",60.010986328125,471,null,0,0,null,null,null,-653,29862.1015625,null,0,0,0,-2.593994140625E-3,2.593994140625E-3," "]
["2011-05-16T07:58:56",60.0054931640625,471,null,0,0,null,null,null,-653,29862.1015625,null,0,0,0,-5.4931640625E-3,5.4931640625E-3," "]
["2011-05-16T07:58:58",59.999664306640625,471,null,0,0,null,null,null,-653,29862.1015625,null,0,0,0,-5.828857421875E-3,5.828857421875E-3," "]
["2011-05-16T07:59:00",59.9945068359375,471,null,0,0,null,null,null,-653,29862.1015625,null,0,0,0,-5.157470703125E-3,5.157470703125E-3," "]
["2011-05-16T07:59:02",59.99127197265625,471,null,0,0,null,null,null,-653,29862.1015625,null,0,0,0,-3.23486328125E-3,3.23486328125E-3," "]
["2011-05-16T07:59:04",59.989654541015625,471,null,0,0,null,null,null,-653,29861.953125,null,0,0,0,-1.617431640625E-3,1.617431640625E-3," "]
["2011-05-16T07:59:06",59.988677978515625,471,null,0,0,null,null,null,-653,29861.953125,null,0,0,0,-9.765625E-4,9.765625E-4," "]
["2011-05-16T07:59:08",59.98675537109375,471,null,0,0,null,null,null,-653,29861.953125,null,0,0,0,-1.922607421875E-3,1.922607421875E-3," "]
["2011-05-16T07:59:10",59.98480224609375,471,null,0,0,null,null,null,-653,29861.953125,null,0,0,0,-1.953125E-3,1.953125E-3," "]
["2011-05-16T07:59:12",59.982879638671875,471,null,0,0,null,null,null,-653,29861.953125,null,0,0,0,-1.922607421875E-3,1.922607421875E-3," "]
["2011-05-16T07:59:14",59.980621337890625,471,null,0,0,null,null,null,-653,29906.20703125,null,0,0,{"$f":"IF(ROW()<$M$3,0,1)","v":0},-2.25830078125E-3,2.25830078125E-3," "]
["2011-05-16T07:59:16",59.97802734375,471,null,0,0,null,null,null,-653,29906.20703125,null,{"$f":"IF(ROW()<$M$5,0,1)","v":0},0,0,{"$f":"B584-B583","v":-2.593994140625E-3},2.593994140625E-3," "]
["2011-05-16T07:59:18",59.976104736328125,471,null,0,0,null,null,null,-653,29906.20703125,null,0,0,0,-1.922607421875E-3,1.922607421875E-3," "]
["2011-05-16T07:59:20",59.97576904296875,471,null,0,0,null,null,null,-653,29906.20703125,null,0,0,0,-3.35693359375E-4,3.35693359375E-4," "]
["2011-05-16T07:59:22",59.976104736328125,471,null,0,0,null,null,null,-653,29906.20703125,null,0,0,0,3.35693359375E-4,3.35693359375E-4," "]
["2011-05-16T07:59:24",59.976104736328125,471,null,0,0,null,null,null,-653,29878.6875,null,0,0,0,0,0," "]
["2011-05-16T07:59:26",59.976409912109375,471,null,0,0,null,null,null,-653,29878.6875,null,0,0,0,3.0517578125E-4,3.0517578125E-4," "]
["2011-05-16T07:59:28",59.975433349609375,471,null,0,0,null,null,null,-653,29878.6875,null,0,0,0,-9.765625E-4,9.765625E-4," "]
["2011-05-16T07:59:30",59.97479248046875,471,null,0,0,null,null,null,-653,29878.6875,null,0,0,0,-6.40869140625E-4,6.40869140625E-4," "]
["2011-05-16T07:59:32",59.97381591796875,471,null,0,0,null,null,null,-653,29878.6875,null,0,0,0,-9.765625E-4,9.765625E-4," "]
["2011-05-16T07:59:34",59.9725341796875,471,null,0,0,null,null,null,-653,29900.5625,null,0,0,0,-1.28173828125E-3,1.28173828125E-3," "]
["2011-05-16T07:59:36",59.97222900390625,471,null,0,0,null,null,null,-653,29900.5625,null,0,0,0,-3.0517578125E-4,3.0517578125E-4," "]
["2011-05-16T07:59:38",59.9725341796875,471,null,0,0,null,null,null,-653,29900.5625,null,0,0,0,3.0517578125E-4,3.0517578125E-4," "]
["2011-05-16T07:59:40",59.9735107421875,471,null,0,0,null,null,null,-653,29900.5625,null,0,0,0,9.765625E-4,9.765625E-4," "]
["2011-05-16T07:59:42",59.9735107421875,471,null,0,0,null,null,null,-653,29900.5625,null,0,0,0,0,0," "]
["2011-05-16T07:59:44",59.973175048828125,471,null,0,0,null,null,null,-653,29896.986328125,null,0,0,0,-3.35693359375E-4,3.35693359375E-4," "]
["2011-05-16T07:59:46",59.971893310546875,471,null,0,0,null,null,null,-653,29896.986328125,null,0,0,0,-1.28173828125E-3,1.28173828125E-3," "]
["2011-05-16T07:59:48",59.970916748046875,471,null,0,0,null,null,null,-653,29896.986328125,null,0,0,0,-9.765625E-4,9.765625E-4," "]
["2011-05-16T07:59:50",59.97027587890625,471,null,0,0,null,null,null,-653,29896.986328125,null,0,0,0,-6.40869140625E-4,6.40869140625E-4," "]
["2011-05-16T07:59:52",59.97027587890625,471,null,0,0,null,null,null,-653,29896.986328125,null,0,0,0,0,0," "]
["2011-05-16T07:59:54",59.97027587890625,471,null,0,0,null,null,null,-653,29905.798828125,null,0,0,0,0,0," "]
["2011-05-16T07:59:56",59.97027587890625,471,null,0,0,null,null,null,-653,29905.798828125,null,0,0,0,0,0," "]
["2011-05-16T07:59:58",59.970611572265625,471,null,0,0,null,null,null,-653,29905.798828125,null,0,0,0,3.35693359375E-4,3.35693359375E-4," "]
["2011-05-16T08:00:00",59.972869873046875,471,null,0,0,null,null,null,-653,29905.798828125,null,0,0,0,2.25830078125E-3,2.25830078125E-3," "]
["2011-05-16T08:00:02",59.972869873046875,471,null,0,0,null,null,null,-653,29905.798828125,null,0,0,0,0,0," "]
["2011-05-16T08:00:04",59.97479248046875,471,null,0,0,null,null,null,-653,29905.767578125,null,0,0,0,1.922607421875E-3,1.922607421875E-3," "]
["2011-05-16T08:00:06",59.97479248046875,471,null,0,0,null,null,null,-653,29905.767578125,null,0,0,0,0,0," "]
["2011-05-16T08:00:08",59.97381591796875,471,null,0,0,null,null,null,-653,29905.767578125,null,0,0,0,-9.765625E-4,9.765625E-4," "]
["2011-05-16T08:00:10",59.96832275390625,471,null,0,0,null,null,null,-653,29905.767578125,null,0,0,0,-5.4931640625E-3,5.4931640625E-3," "]
["2011-05-16T08:00:12",59.968017578125,471,null,0,0,null,null,null,-653,29905.767578125,null,0,0,0,-3.0517578125E-4,3.0517578125E-4," "]
["2011-05-16T08:00:14",59.968994140625,471,null,0,0,null,null,null,-653,29914.896484375,null,0,0,0,9.765625E-4,9.765625E-4," "]
["2011-05-16T08:00:16",59.969940185546875,471,null,0,0,null,null,null,-653,29914.896484375,null,0,0,0,9.46044921875E-4,9.46044921875E-4," "]
["2011-05-16T08:00:18",59.97381591796875,471,null,0,0,null,null,null,-653,29914.896484375,null,0,0,0,3.875732421875E-3,3.875732421875E-3," "]
["2011-05-16T08:00:20",59.97381591796875,471,null,0,0,null,null,null,-653,29914.896484375,null,0,0,0,0,0," "]
["2011-05-16T08:00:22",59.97381591796875,471,null,0,0,null,null,null,-653,29914.896484375,null,0,0,0,0,0," "]
["2011-05-16T08:00:24",59.977691650390625,471,null,0,0,null,null,null,-653,29925.580078125,null,0,0,0,3.875732421875E-3,3.875732421875E-3," "]
["2011-05-16T08:00:26",59.977386474609375,471,null,0,0,null,null,null,-653,29925.580078125,null,0,0,0,-3.0517578125E-4,3.0517578125E-4," "]
["2011-05-16T08:00:28",59.976104736328125,471,null,0,0,null,null,null,-653,29925.580078125,null,0,0,0,-1.28173828125E-3,1.28173828125E-3," "]
["2011-05-16T08:00:30",59.976104736328125,471,null,0,0,null,null,null,-653,29925.580078125,null,0,0,0,0,0," "]
["2011-05-16T08:00:32",59.97705078125,471,null,0,0,null,null,null,-653,29925.580078125,null,0,0,0,9.46044921875E-4,9.46044921875E-4," "]
["2011-05-16T08:00:34",59.977691650390625,471,null,0,0,null,null,null,-653,29938.87109375,null,0,0,0,6.40869140625E-4,6.40869140625E-4," "]
["2011-05-16T08:00:36",59.97802734375,471,null,0,0,null,null,null,-653,29938.87109375,null,0,0,0,3.35693359375E-4,3.35693359375E-4," "]
["2011-05-16T08:00:38",59.97802734375,471,null,0,0,null,null,null,-653,29938.87109375,null,0,0,0,0,0," "]
["2011-05-16T08:00:40",59.977386474609375,471,null,0,0,null,null,null,-653,29938.87109375,null,0,0,0,-6.40869140625E-4,6.40869140625E-4," "]
["2011-05-16T08:00:42",59.97674560546875,471,null,0,0,null,null,null,-653,29938.87109375,null,0,{"$f":"IF((M627=1)*(B627>$N$2),1,0)","v":0},0,-6.40869140625E-4,{"$f":"ABS(P627)","v":6.40869140625E-4},{"$f":"IF(Q627>(AVERAGE(Q623:Q626)+R$2),1,\" \")","v":" "}]
["2011-05-16T08:00:44",59.976409912109375,471,null,0,0,null,null,null,-653,29952.5078125,null,0,0,0,-3.35693359375E-4,3.35693359375E-4," "]
["2011-05-16T08:00:46",59.97479248046875,471,null,0,0,null,null,null,-653,29952.5078125,null,0,0,0,-1.617431640625E-3,1.617431640625E-3," "]
["2011-05-16T08:00:48",59.9744873046875,471,null,0,0,null,null,null,-653,29952.5078125,null,0,0,0,-3.0517578125E-4,3.0517578125E-4," "]
["2011-05-16T08:00:50",59.975433349609375,471,null,0,0,null,null,null,-653,29952.5078125,null,0,0,0,9.46044921875E-4,9.46044921875E-4," "]
["2011-05-16T08:00:52",59.97705078125,471,null,0,0,null,null,null,-653,29952.5078125,null,0,0,0,1.617431640625E-3,1.617431640625E-3," "]
["2011-05-16T08:00:54",59.97930908203125,471,null,0,0,null,null,null,-653,29952.5078125,null,0,0,0,2.25830078125E-3,2.25830078125E-3," "]
["2011-05-16T08:00:56",59.979644775390625,471,null,0,0,null,null,null,-653,29948.94921875,null,0,0,0,3.35693359375E-4,3.35693359375E-4," "]
["2011-05-16T08:00:58",59.97900390625,471,null,0,0,null,null,null,-653,29948.94921875,null,0,0,0,-6.40869140625E-4,6.40869140625E-4," "]
["2011-05-16T08:01:00",59.97802734375,471,null,0,0,null,null,null,-653,29948.94921875,null,0,0,0,-9.765625E-4,9.765625E-4," "]
["2011-05-16T08:01:02",59.97802734375,471,null,0,0,null,null,null,-653,29948.94921875,null,0,0,0,0,0," "]
["2011-05-16T08:01:04",59.97900390625,471,null,0,0,null,null,null,-653,29948.94921875,null,0,0,0,9.765625E-4,9.765625E-4," "]
["2011-05-16T08:01:06",59.98028564453125,471,null,0,0,null,null,null,-653,29948.94921875,null,0,0,0,1.28173828125E-3,1.28173828125E-3," "]
["2011-05-16T08:01:08",59.981903076171875,471,null,0,0,null,null,null,-653,29948.94921875,null,0,0,0,1.617431640625E-3,1.617431640625E-3," "]
["2011-05-16T08:01:10",59.983184814453125,471,null,0,0,null,null,null,-653,29948.94921875,null,0,0,0,1.28173828125E-3,1.28173828125E-3," "]
["2011-05-16T08:01:12",59.9844970703125,471,null,0,0,null,null,null,-653,29948.94921875,null,0,0,0,1.312255859375E-3,1.312255859375E-3," "]
["2011-05-16T08:01:14",59.98577880859375,471,null,0,0,null,null,null,-653,29951.05078125,null,0,0,0,1.28173828125E-3,1.28173828125E-3," "]
["2011-05-16T08:01:16",59.986419677734375,471,null,0,0,null,null,null,-653,29951.05078125,null,0,0,0,6.40869140625E-4,6.40869140625E-4," "]
["2011-05-16T08:01:18",59.986419677734375,471,null,0,0,null,null,null,-653,29951.05078125,null,0,0,0,0,0," "]
["2011-05-16T08:01:20",59.987091064453125,471,null,0,0,null,null,null,-653,29951.05078125,null,0,0,0,6.7138671875E-4,6.7138671875E-4," "]
["2011-05-16T08:01:22",59.98773193359375,471,null,0,0,null,null,null,-653,29951.05078125,null,0,0,{"$f":"IF(ROW()<$M$3,0,1)","v":0},6.40869140625E-4,6.40869140625E-4," "]
["2011-05-16T08:01:24",59.989654541015625,471,null,0,0,null,null,null,-653,29955.087890625,null,{"$f":"IF(ROW()<$M$5,0,1)","v":0},0,0,{"$f":"B648-B647","v":1.922607421875E-3},1.922607421875E-3," "]
["2011-05-16T08:01:26",59.991607666015625,471,null,0,0,null,null,null,-653,29955.087890625,null,0,0,0,1.953125E-3,1.953125E-3," "]
["2011-05-16T08:01:28",59.9925537109375,471,null,0,0,null,null,null,-653,29955.087890625,null,0,0,0,9.46044921875E-4,9.46044921875E-4," "]
["2011-05-16T08:01:30",59.99322509765625,471,null,0,0,null,null,null,-653,29955.087890625,null,0,0,0,6.7138671875E-4,6.7138671875E-4," "]
["2011-05-16T08:01:32",59.992889404296875,471,null,0,0,null,null,null,-653,29955.087890625,null,0,0,0,-3.35693359375E-4,3.35693359375E-4," "]
["2011-05-16T08:01:34",59.990966796875,471,null,0,0,null,null,null,-653,29967.6875,null,0,0,0,-1.922607421875E-3,1.922607421875E-3," "]
["2011-05-16T08:01:36",59.988037109375,471,null,0,0,null,null,null,-653,29967.6875,null,0,0,0,-2.9296875E-3,2.9296875E-3," "]
["2011-05-16T08:01:38",59.98577880859375,471,null,0,0,null,null,null,-653,29967.6875,null,0,0,0,-2.25830078125E-3,2.25830078125E-3," "]
["2011-05-16T08:01:40",59.983856201171875,471,null,0,0,null,null,null,-653,29967.6875,null,0,0,0,-1.922607421875E-3,1.922607421875E-3," "]
["2011-05-16T08:01:42",59.983184814453125,471,null,0,0,null,null,null,-653,29967.6875,null,0,0,0,-6.7138671875E-4,6.7138671875E-4," "]
["2011-05-16T08:01:44",59.983184814453125,471,null,0,0,null,null,null,-653,29983.1328125,null,0,0,0,0,0," "]
["2011-05-16T08:01:46",59.982879638671875,471,null,0,0,null,null,null,-653,29983.1328125,null,0,0,0,-3.0517578125E-4,3.0517578125E-4," "]
["2011-05-16T08:01:48",59.98126220703125,471,null,0,0,null,null,null,-653,29983.1328125,null,0,0,0,-1.617431640625E-3,1.617431640625E-3," "]
["2011-05-16T08:01:50",59.97998046875,471,null,0,0,null,null,null,-653,29983.1328125,null,0,0,0,-1.28173828125E-3,1.28173828125E-3," "]
["2011-05-16T08:01:52",59.979644775390625,471,null,0,0,null,null,null,-653,29983.1328125,null,0,0,0,-3.35693359375E-4,3.35693359375E-4," "]
["2011-05-16T08:01:54",59.98028564453125,471,null,0,0,null,null,null,-653,29976.75390625,null,0,0,0,6.40869140625E-4,6.40869140625E-4," "]
["2011-05-16T08:01:56",59.98126220703125,471,null,0,0,null,null,null,-653,29976.75390625,null,0,0,0,9.765625E-4,9.765625E-4," "]
["2011-05-16T08:01:58",59.9835205078125,471,null,0,0,null,null,null,-653,29976.75390625,null,0,0,0,2.25830078125E-3,2.25830078125E-3," "]
["2011-05-16T08:02:00",59.983856201171875,471,null,0,0,null,null,null,-653,29976.75390625,null,0,0,0,3.35693359375E-4,3.35693359375E-4," "]
["2011-05-16T08:02:02",59.98126220703125,471,null,0,0,null,null,null,-653,29976.75390625,null,0,0,0,-2.593994140625E-3,2.593994140625E-3," "]
["2011-05-16T08:02:04",59.975433349609375,471,null,0,0,null,null,null,-653,29976.783203125,null,0,0,0,-5.828857421875E-3,5.828857421875E-3," "]
["2011-05-16T08:02:06",59.96832275390625,471,null,0,0,null,null,null,-653,29976.783203125,null,0,0,0,-7.110595703125E-3,7.110595703125E-3," "]
["2011-05-16T08:02:08",59.9635009765625,471,null,0,0,null,null,null,-653,29976.783203125,null,0,0,0,-4.82177734375E-3,4.82177734375E-3," "]
["2011-05-16T08:02:10",59.9615478515625,471,null,0,0,null,null,null,-653,29976.783203125,null,0,0,0,-1.953125E-3,1.953125E-3," "]
["2011-05-16T08:02:12",59.960906982421875,471,null,0,0,null,null,null,-653,29976.783203125,null,0,0,0,-6.40869140625E-4,6.40869140625E-4," "]
["2011-05-16T08:02:14",59.9615478515625,471,null,0,0,null,null,null,-653,30008.513671875,null,0,0,0,6.40869140625E-4,6.40869140625E-4," "]
["2011-05-16T08:02:16",59.9605712890625,471,null,0,0,null,null,null,-653,30008.513671875,null,0,0,0,-9.765625E-4,9.765625E-4," "]
["2011-05-16T08:02:18",59.9580078125,471,null,0,0,null,null,null,-653,30008.513671875,null,0,0,0,-2.5634765625E-3,2.5634765625E-3," "]
["2011-05-16T08:02:20",59.95574951171875,471,null,0,0,null,null,null,-653,30008.513671875,null,0,0,0,-2.25830078125E-3,2.25830078125E-3," "]
["2011-05-16T08:02:22",59.95574951171875,471,null,0,0,null,null,null,-653,30008.513671875,null,0,0,0,0,0," "]
["2011-05-16T08:02:24",59.95703125,471,null,0,0,null,null,null,-653,30037.24609375,null,0,0,0,1.28173828125E-3,1.28173828125E-3," "]
["2011-05-16T08:02:26",59.958953857421875,471,null,0,0,null,null,null,-653,30037.24609375,null,0,0,0,1.922607421875E-3,1.922607421875E-3," "]
["2011-05-16T08:02:28",59.9605712890625,471,null,0,0,null,null,null,-653,30037.24609375,null,0,0,0,1.617431640625E-3,1.617431640625E-3," "]
["2011-05-16T08:02:30",59.9615478515625,471,null,0,0,null,null,null,-653,30037.24609375,null,0,0,0,9.765625E-4,9.765625E-4," "]
["2011-05-16T08:02:32",59.9625244140625,471,null,0,0,null,null,null,-653,30037.24609375,null,0,0,0,9.765625E-4,9.765625E-4," "]
["2011-05-16T08:02:34",59.964141845703125,471,null,0,0,null,null,null,-653,30055.732421875,null,0,0,0,1.617431640625E-3,1.617431640625E-3," "]
["2011-05-16T08:02:36",59.965118408203125,471,null,0,0,null,null,null,-653,30055.732421875,null,0,0,0,9.765625E-4,9.765625E-4," "]
["2011-05-16T08:02:38",59.965118408203125,471,null,0,0,null,null,null,-653,30055.732421875,null,0,0,0,0,0," "]
["2011-05-16T08:02:40",59.96575927734375,471,null,0,0,null,null,null,-653,30055.732421875,null,0,0,0,6.40869140625E-4,6.40869140625E-4," "]
["2011-05-16T08:02:42",59.967041015625,471,null,0,0,null,null,null,-653,30055.732421875,null,0,0,0,1.28173828125E-3,1.28173828125E-3," "]
["2011-05-16T08:02:44",59.969940185546875,471,null,0,0,null,null,null,-653,30068.755859375,null,0,0,0,2.899169921875E-3,2.899169921875E-3," "]
["2011-05-16T08:02:46",59.9725341796875,471,null,0,0,null,null,null,-653,30068.755859375,null,0,0,0,2.593994140625E-3,2.593994140625E-3," "]
["2011-05-16T08:02:48",59.974151611328125,471,null,0,0,null,null,null,-653,30068.755859375,null,0,0,0,1.617431640625E-3,1.617431640625E-3," "]
["2011-05-16T08:02:50",59.976104736328125,471,null,0,0,null,null,null,-653,30068.755859375,null,0,{"$f":"IF((M691=1)*(B691>$N$2),1,0)","v":0},0,1.953125E-3,{"$f":"ABS(P691)","v":1.953125E-3},{"$f":"IF(Q691>(AVERAGE(Q687:Q690)+R$2),1,\" \")","v":" "}]
["2011-05-16T08:02:52",59.977386474609375,471,null,0,0,null,null,null,-653,30068.755859375,null,0,0,0,1.28173828125E-3,1.28173828125E-3," "]
["2011-05-16T08:02:54",59.97930908203125,471,null,0,0,null,null,null,-653,30068.20703125,null,0,0,0,1.922607421875E-3,1.922607421875E-3," "]
["2011-05-16T08:02:56",59.98028564453125,471,null,0,0,null,null,null,-653,30068.20703125,null,0,0,0,9.765625E-4,9.765625E-4," "]
["2011-05-16T08:02:58",59.980621337890625,471,null,0,0,null,null,null,-653,30068.20703125,null,0,0,0,3.35693359375E-4,3.35693359375E-4," "]
["2011-05-16T08:03:00",59.98028564453125,471,null,0,0,null,null,null,-653,30068.20703125,null,0,0,0,-3.35693359375E-4,3.35693359375E-4," "]
["2011-05-16T08:03:02",59.98028564453125,471,null,0,0,null,null,null,-653,30068.20703125,null,0,0,0,0,0," "]
["2011-05-16T08:03:04",59.978363037109375,471,null,0,0,null,null,null,-653,30068.23828125,null,0,0,0,-1.922607421875E-3,1.922607421875E-3," "]
["2011-05-16T08:03:06",59.978363037109375,471,null,0,0,null,null,null,-653,30068.23828125,null,0,0,0,0,0," "]
["2011-05-16T08:03:08",59.97900390625,471,null,0,0,null,null,null,-653,30068.23828125,null,0,0,0,6.40869140625E-4,6.40869140625E-4," "]
["2011-05-16T08:03:10",59.97998046875,471,null,0,0,null,null,null,-653,30068.23828125,null,0,0,0,9.765625E-4,9.765625E-4," "]
["2011-05-16T08:03:12",59.98028564453125,471,null,0,0,null,null,null,-653,30068.23828125,null,0,0,0,3.0517578125E-4,3.0517578125E-4," "]
["2011-05-16T08:03:14",59.980926513671875,471,null,0,0,null,null,null,-653,30076.1953125,null,0,0,0,6.40869140625E-4,6.40869140625E-4," "]
["2011-05-16T08:03:16",59.980926513671875,471,null,0,0,null,null,null,-653,30076.1953125,null,0,0,0,0,0," "]
["2011-05-16T08:03:18",59.97998046875,471,null,0,0,null,null,null,-653,30076.1953125,null,0,0,0,-9.46044921875E-4,9.46044921875E-4," "]
["2011-05-16T08:03:20",59.980621337890625,471,null,0,0,null,null,null,-653,30076.1953125,null,0,0,0,6.40869140625E-4,6.40869140625E-4," "]
["2011-05-16T08:03:22",59.98028564453125,471,null,0,0,null,null,null,-653,30076.1953125,null,0,0,0,-3.35693359375E-4,3.35693359375E-4," "]
["2011-05-16T08:03:24",59.97998046875,471,null,0,0,null,null,null,-653,30093.951171875,null,0,0,0,-3.0517578125E-4,3.0517578125E-4," "]
["2011-05-16T08:03:26",59.97900390625,471,null,0,0,null,null,null,-653,30093.951171875,null,0,0,0,-9.765625E-4,9.765625E-4," "]
["2011-05-16T08:03:28",59.97930908203125,471,null,0,0,null,null,null,-653,30093.951171875,null,0,0,0,3.0517578125E-4,3.0517578125E-4," "]
["2011-05-16T08:03:30",59.97998046875,471,null,0,0,null,null,null,-653,30093.951171875,null,0,0,{"$f":"IF(ROW()<$M$3,0,1)","v":0},6.7138671875E-4,6.7138671875E-4," "]
["2011-05-16T08:03:32",59.98028564453125,471,null,0,0,null,null,null,-653,30093.951171875,null,{"$f":"IF(ROW()<$M$5,0,1)","v":0},0,0,{"$f":"B712-B711","v":3.0517578125E-4},3.0517578125E-4," "]
["2011-05-16T08:03:34",59.98028564453125,471,null,0,0,null,null,null,-653,30100.970703125,null,0,0,0,0,0," "]
["2011-05-16T08:03:36",59.98028564453125,471,null,0,0,null,null,null,-653,30100.970703125,null,0,0,0,0,0," "]
["2011-05-16T08:03:38",59.979644775390625,471,null,0,0,null,null,null,-653,30100.970703125,null,0,0,0,-6.40869140625E-4,6.40869140625E-4," "]
["2011-05-16T08:03:40",59.97900390625,471,null,0,0,null,null,null,-653,30100.970703125,null,0,0,0,-6.40869140625E-4,6.40869140625E-4," "]
["2011-05-16T08:03:42",59.97802734375,471,null,0,0,null,null,null,-653,30100.970703125,null,0,0,0,-9.765625E-4,9.765625E-4," "]
["2011-05-16T08:03:44",59.97802734375,471,null,0,0,null,null,null,-653,30118.865234375,null,0,0,0,0,0," "]
["2011-05-16T08:03:46",59.978668212890625,471,null,0,0,null,null,null,-653,30118.865234375,null,0,0,0,6.40869140625E-4,6.40869140625E-4," "]
["2011-05-16T08:03:48",59.979644775390625,471,null,0,0,null,null,null,-653,30118.865234375,null,0,0,0,9.765625E-4,9.765625E-4," "]
["2011-05-16T08:03:50",59.98223876953125,471,null,0,0,null,null,null,-653,30118.865234375,null,0,0,0,2.593994140625E-3,2.593994140625E-3," "]
["2011-05-16T08:03:52",59.98480224609375,471,null,0,0,null,null,null,-653,30118.865234375,null,0,0,0,2.5634765625E-3,2.5634765625E-3," "]
["2011-05-16T08:03:54",59.985137939453125,471,null,0,0,null,null,null,-653,30118.767578125,null,0,0,0,3.35693359375E-4,3.35693359375E-4," "]
["2011-05-16T08:03:56",59.984161376953125,471,null,0,0,null,null,null,-653,30118.767578125,null,0,0,0,-9.765625E-4,9.765625E-4," "]
["2011-05-16T08:03:58",59.98223876953125,471,null,0,0,null,null,null,-653,30118.767578125,null,0,0,0,-1.922607421875E-3,1.922607421875E-3," "]
["2011-05-16T08:04:00",59.98028564453125,471,null,0,0,null,null,null,-653,30118.767578125,null,0,0,0,-1.953125E-3,1.953125E-3," "]
["2011-05-16T08:04:02",59.97900390625,471,null,0,0,null,null,null,-653,30118.767578125,null,0,0,0,-1.28173828125E-3,1.28173828125E-3," "]
["2011-05-16T08:04:04",59.978668212890625,471,null,0,0,null,null,null,-653,30118.736328125,null,0,0,0,-3.35693359375E-4,3.35693359375E-4," "]
["2011-05-16T08:04:06",59.97930908203125,471,null,0,0,null,null,null,-653,30118.736328125,null,0,0,0,6.40869140625E-4,6.40869140625E-4," "]
["2011-05-16T08:04:08",59.97998046875,471,null,0,0,null,null,null,-653,30118.736328125,null,0,0,0,6.7138671875E-4,6.7138671875E-4," "]
["2011-05-16T08:04:10",59.97930908203125,471,null,0,0,null,null,null,-653,30118.736328125,null,0,0,0,-6.7138671875E-4,6.7138671875E-4," "]
["2011-05-16T08:04:12",59.97900390625,471,null,0,0,null,null,null,-653,30118.736328125,null,0,0,0,-3.0517578125E-4,3.0517578125E-4," "]
["2011-05-16T08:04:14",59.97802734375,471,null,0,0,null,null,null,-653,30106.93359375,null,0,0,0,-9.765625E-4,9.765625E-4," "]
["2011-05-16T08:04:16",59.97674560546875,471,null,0,0,null,null,null,-653,30106.93359375,null,0,0,0,-1.28173828125E-3,1.28173828125E-3," "]
["2011-05-16T08:04:18",59.977386474609375,471,null,0,0,null,null,null,-653,30106.93359375,null,0,0,0,6.40869140625E-4,6.40869140625E-4," "]
["2011-05-16T08:04:20",59.97900390625,471,null,0,0,null,null,null,-653,30106.93359375,null,0,0,0,1.617431640625E-3,1.617431640625E-3," "]
["2011-05-16T08:04:22",59.979644775390625,471,null,0,0,null,null,null,-653,30106.93359375,null,0,0,0,6.40869140625E-4,6.40869140625E-4," "]
["2011-05-16T08:04:24",59.980926513671875,471,null,0,0,null,null,null,-653,30106.607421875,null,0,0,0,1.28173828125E-3,1.28173828125E-3," "]
["2011-05-16T08:04:26",59.98223876953125,471,null,0,0,null,null,null,-653,30106.607421875,null,0,0,0,1.312255859375E-3,1.312255859375E-3," "]
["2011-05-16T08:04:28",59.983184814453125,471,null,0,0,null,null,null,-653,30106.607421875,null,0,0,0,9.46044921875E-4,9.46044921875E-4," "]
["2011-05-16T08:04:30",59.983184814453125,471,null,0,0,null,null,null,-653,30106.607421875,null,0,0,0,0,0," "]
["2011-05-16T08:04:32",59.98223876953125,471,null,0,0,null,null,null,-653,30106.607421875,null,0,0,0,-9.46044921875E-4,9.46044921875E-4," "]
["2011-05-16T08:04:34",59.981903076171875,471,null,0,0,null,null,null,-653,30116.017578125,null,0,0,0,-3.35693359375E-4,3.35693359375E-4," "]
["2011-05-16T08:04:36",59.981903076171875,471,null,0,0,null,null,null,-653,30116.017578125,null,0,0,0,0,0," "]
["2011-05-16T08:04:38",59.981903076171875,471,null,0,0,null,null,null,-653,30116.017578125,null,0,0,0,0,0," "]
["2011-05-16T08:04:40",59.981597900390625,471,null,0,0,null,null,null,-653,30116.017578125,null,0,0,0,-3.0517578125E-4,3.0517578125E-4," "]
["2011-05-16T08:04:42",59.981903076171875,471,null,0,0,null,null,null,-653,30116.017578125,null,0,0,0,3.0517578125E-4,3.0517578125E-4," "]
["2011-05-16T08:04:44",59.981597900390625,471,null,0,0,null,null,null,-653,30141.58984375,null,0,0,0,-3.0517578125E-4,3.0517578125E-4," "]
["2011-05-16T08:04:46",59.98126220703125,471,null,0,0,null,null,null,-653,30141.58984375,null,0,0,0,-3.35693359375E-4,3.35693359375E-4," "]
["2011-05-16T08:04:48",59.981597900390625,471,null,0,0,null,null,null,-653,30141.58984375,null,0,0,0,3.35693359375E-4,3.35693359375E-4," "]
["2011-05-16T08:04:50",59.9825439453125,471,null,0,0,null,null,null,-653,30141.58984375,null,0,0,0,9.46044921875E-4,9.46044921875E-4," "]
["2011-05-16T08:04:52",59.9835205078125,471,null,0,0,null,null,null,-653,30141.58984375,null,0,0,0,9.765625E-4,9.765625E-4," "]
["2011-05-16T08:04:54",59.984161376953125,471,null,0,0,null,null,null,-653,30144.228515625,null,0,0,0,6.40869140625E-4,6.40869140625E-4," "]
["2011-05-16T08:04:56",59.984161376953125,471,null,0,0,null,null,null,-653,30144.228515625,null,0,0,0,0,0," "]
["2011-05-16T08:04:58",59.984161376953125,471,null,0,0,null,null,null,-653,30144.228515625,null,0,{"$f":"IF((M755=1)*(B755>$N$2),1,0)","v":0},0,0,{"$f":"ABS(P755)","v":0},{"$f":"IF(Q755>(AVERAGE(Q751:Q754)+R$2),1,\" \")","v":" "}]
["2011-05-16T08:05:00",59.985137939453125,471,null,0,0,null,null,null,-653,30144.228515625,null,0,0,0,9.765625E-4,9.765625E-4," "]
["2011-05-16T08:05:02",59.987396240234375,471,null,0,0,null,null,null,-653,30144.228515625,null,0,0,0,2.25830078125E-3,2.25830078125E-3," "]
["2011-05-16T08:05:04",59.989013671875,471,null,0,0,null,null,null,-653,30144.228515625,null,0,0,0,1.617431640625E-3,1.617431640625E-3," "]
["2011-05-16T08:05:06",59.988037109375,471,null,0,0,null,null,null,-653,30144.228515625,null,0,0,0,-9.765625E-4,9.765625E-4," "]
["2011-05-16T08:05:08",59.986419677734375,471,null,0,0,null,null,null,-653,30144.228515625,null,0,0,0,-1.617431640625E-3,1.617431640625E-3," "]
["2011-05-16T08:05:10",59.982879638671875,471,null,0,0,null,null,null,-653,30144.228515625,null,0,0,0,-3.5400390625E-3,3.5400390625E-3," "]
["2011-05-16T08:05:12",59.9825439453125,471,null,0,0,null,null,null,-653,30144.228515625,null,0,0,0,-3.35693359375E-4,3.35693359375E-4," "]
["2011-05-16T08:05:14",59.983184814453125,471,null,0,0,null,null,null,-653,30148.669921875,null,0,0,0,6.40869140625E-4,6.40869140625E-4," "]
["2011-05-16T08:05:16",59.981903076171875,471,null,0,0,null,null,null,-653,30148.669921875,null,0,0,0,-1.28173828125E-3,1.28173828125E-3," "]
["2011-05-16T08:05:18",59.980621337890625,471,null,0,0,null,null,null,-653,30148.669921875,null,0,0,0,-1.28173828125E-3,1.28173828125E-3," "]
["2011-05-16T08:05:20",59.979644775390625,471,null,0,0,null,null,null,-653,30148.669921875,null,0,0,0,-9.765625E-4,9.765625E-4," "]
["2011-05-16T08:05:22",59.979644775390625,471,null,0,0,null,null,null,-653,30148.669921875,null,0,0,0,0,0," "]
["2011-05-16T08:05:24",59.979644775390625,471,null,0,0,null,null,null,-653,30155.671875,null,0,0,0,0,0," "]
["2011-05-16T08:05:26",59.98028564453125,471,null,0,0,null,null,null,-653,30155.671875,null,0,0,0,6.40869140625E-4,6.40869140625E-4," "]
["2011-05-16T08:05:28",59.98223876953125,471,null,0,0,null,null,null,-653,30155.671875,null,0,0,0,1.953125E-3,1.953125E-3," "]
["2011-05-16T08:05:30",59.9835205078125,471,null,0,0,null,null,null,-653,30155.671875,null,0,0,0,1.28173828125E-3,1.28173828125E-3," "]
["2011-05-16T08:05:32",59.98577880859375,471,null,0,0,null,null,null,-653,30155.671875,null,0,0,0,2.25830078125E-3,2.25830078125E-3," "]
["2011-05-16T08:05:34",59.987396240234375,471,null,0,0,null,null,null,-653,30142.791015625,null,0,0,0,1.617431640625E-3,1.617431640625E-3," "]
["2011-05-16T08:05:36",59.988037109375,471,null,0,0,null,null,null,-653,30142.791015625,null,0,0,0,6.40869140625E-4,6.40869140625E-4," "]
["2011-05-16T08:05:38",59.987396240234375,471,null,0,0,null,null,null,-653,30142.791015625,null,0,0,{"$f":"IF(ROW()<$M$3,0,1)","v":0},-6.40869140625E-4,6.40869140625E-4," "]
["2011-05-16T08:05:40",59.986114501953125,471,null,0,0,null,null,null,-653,30142.791015625,null,{"$f":"IF(ROW()<$M$5,0,1)","v":0},0,0,{"$f":"B776-B775","v":-1.28173828125E-3},1.28173828125E-3," "]
["2011-05-16T08:05:42",59.98480224609375,471,null,0,0,null,null,null,-653,30142.791015625,null,0,0,0,-1.312255859375E-3,1.312255859375E-3," "]
["2011-05-16T08:05:44",59.9835205078125,471,null,0,0,null,null,null,-653,30154.666015625,null,0,0,0,-1.28173828125E-3,1.28173828125E-3," "]
["2011-05-16T08:05:46",59.983184814453125,471,null,0,0,null,null,null,-653,30154.666015625,null,0,0,0,-3.35693359375E-4,3.35693359375E-4," "]
["2011-05-16T08:05:48",59.9835205078125,471,null,0,0,null,null,null,-653,30154.666015625,null,0,0,0,3.35693359375E-4,3.35693359375E-4," "]
["2011-05-16T08:05:50",59.984161376953125,471.30001831054687,null,0,0,null,null,null,-653,30150.34765625,null,0,0,0,6.40869140625E-4,6.40869140625E-4," "]
["2011-05-16T08:05:52",59.985137939453125,471.30001831054687,null,0,0,null,null,null,-653,30150.34765625,null,0,0,0,9.765625E-4,9.765625E-4," "]
["2011-05-16T08:05:54",59.9854736328125,471.30001831054687,null,0,0,null,null,null,-653,30159.634765625,null,0,0,0,3.35693359375E-4,3.35693359375E-4," "]
["2011-05-16T08:05:56",59.986419677734375,471.30001831054687,null,0,0,null,null,null,-653,30159.634765625,null,0,0,0,9.46044921875E-4,9.46044921875E-4," "]
["2011-05-16T08:05:58",59.98675537109375,471.89999389648437,null,0,0,null,null,null,-653,30159.634765625,null,0,0,0,3.35693359375E-4,3.35693359375E-4," "]
["2011-05-16T08:06:00",59.987396240234375,471.89999389648437,null,0,0,null,null,null,-653,30159.634765625,null,0,0,0,6.40869140625E-4,6.40869140625E-4," "]
["2011-05-16T08:06:02",59.98773193359375,471.89999389648437,null,0,0,null,null,null,-653,30151.416015625,null,0,0,0,3.35693359375E-4,3.35693359375E-4," "]
["2011-05-16T08:06:04",59.989013671875,471.89999389648437,null,0,0,null,null,null,-653,30151.416015625,null,0,0,0,1.28173828125E-3,1.28173828125E-3," "]
["2011-05-16T08:06:06",59.989013671875,471.89999389648437,null,0,0,null,null,null,-653,30156.162109375,null,0,0,0,0,0," "]
["2011-05-16T08:06:08",59.988037109375,471.39999389648437,null,0,0,null,null,null,-653,30156.162109375,null,0,0,0,-9.765625E-4,9.765625E-4," "]
["2011-05-16T08:06:10",59.986419677734375,471.39999389648437,null,0,0,null,null,null,-653,30156.162109375,null,0,0,0,-1.617431640625E-3,1.617431640625E-3," "]
["2011-05-16T08:06:12",59.9854736328125,471.39999389648437,null,0,0,null,null,null,-653,30156.162109375,null,0,0,0,-9.46044921875E-4,9.46044921875E-4," "]
["2011-05-16T08:06:14",59.986419677734375,471.39999389648437,null,0,0,null,null,null,-653,30164.146484375,null,0,0,0,9.46044921875E-4,9.46044921875E-4," "]
["2011-05-16T08:06:16",59.989349365234375,471.39999389648437,null,0,0,null,null,null,-653,30164.146484375,null,0,0,0,2.9296875E-3,2.9296875E-3," "]
["2011-05-16T08:06:18",59.99224853515625,471.39999389648437,null,0,0,null,null,null,-653,30164.146484375,null,0,0,0,2.899169921875E-3,2.899169921875E-3," "]
["2011-05-16T08:06:20",59.995147705078125,471.39999389648437,null,0,0,null,null,null,-653,30164.146484375,null,0,0,0,2.899169921875E-3,2.899169921875E-3," "]
["2011-05-16T08:06:22",59.99578857421875,471.39999389648437,null,0,0,null,null,null,-653,30203.90625,null,0,0,0,6.40869140625E-4,6.40869140625E-4," "]
["2011-05-16T08:06:24",59.995147705078125,471.39999389648437,null,0,0,null,null,null,-653,30203.90625,null,0,0,0,-6.40869140625E-4,6.40869140625E-4," "]
["2011-05-16T08:06:26",59.9954833984375,471.39999389648437,null,0,0,null,null,null,-653,30203.728515625,null,0,0,0,3.35693359375E-4,3.35693359375E-4," "]
["2011-05-16T08:06:28",59.997406005859375,470.89999389648437,null,0,0,null,null,null,-653,30203.728515625,null,0,0,0,1.922607421875E-3,1.922607421875E-3," "]
["2011-05-16T08:06:30",60,470.89999389648437,null,0,0,null,null,null,-653,30203.728515625,null,0,0,0,2.593994140625E-3,2.593994140625E-3," "]
["2011-05-16T08:06:32",60.001617431640625,470.89999389648437,null,0,0,null,null,null,-653,30203.728515625,null,0,0,0,1.617431640625E-3,1.617431640625E-3," "]
["2011-05-16T08:06:34",60.001617431640625,470.89999389648437,null,0,0,null,null,null,-653,30199.60546875,null,0,0,0,0,0," "]
["2011-05-16T08:06:36",60.001953125,470.89999389648437,null,0,0,null,null,null,-653,30199.60546875,null,0,0,0,3.35693359375E-4,3.35693359375E-4," "]
["2011-05-16T08:06:38",59.959625244140625,0,null,0,0,null,null,null,-653,30199.60546875,null,0,0,1,-4.2327880859375E-2,4.2327880859375E-2," "]
["2011-05-16T08:06:40",59.881435394287109,0,null,0,0,null,null,null,-653,30199.60546875,null,1,0,1,-7.8189849853515625E-2,7.8189849853515625E-2," "]
["2011-05-16T08:06:42",59.872371673583984,0,null,0,0,null,null,null,-653,30086.109375,null,1,0,1,-9.063720703125E-3,9.063720703125E-3," "]
["2011-05-16T08:06:44",59.870113372802734,0,null,0,0,null,null,null,-653,30086.109375,null,1,0,1,-2.25830078125E-3,2.25830078125E-3," "]
["2011-05-16T08:06:46",59.874324798583984,0,null,0,0,null,null,null,-653,30086.138671875,null,1,0,1,4.21142578125E-3,4.21142578125E-3," "]
["2011-05-16T08:06:48",59.880764007568359,0,null,0,0,null,null,null,-653,30086.138671875,null,1,0,1,6.439208984375E-3,6.439208984375E-3," "]
["2011-05-16T08:06:50",59.885311126708984,0,null,0,0,null,null,null,-653,30086.138671875,null,1,0,1,4.547119140625E-3,4.547119140625E-3," "]
["2011-05-16T08:06:52",59.887874603271484,0,null,0,0,null,null,null,-653,30086.138671875,null,1,0,1,2.5634765625E-3,2.5634765625E-3," "]
["2011-05-16T08:06:54",59.889492034912109,0,null,0,0,null,null,null,-653,30094.42578125,null,1,0,1,1.617431640625E-3,1.617431640625E-3," "]
["2011-05-16T08:06:56",59.890804290771484,0,null,0,0,null,null,null,-653,30094.42578125,null,1,0,1,1.312255859375E-3,1.312255859375E-3," "]
["2011-05-16T08:06:58",59.891750335693359,0,null,0,0,null,null,null,-653,30094.42578125,null,1,0,1,9.46044921875E-4,9.46044921875E-4," "]
["2011-05-16T08:07:00",59.892421722412109,0,null,0,0,null,null,null,-653,30094.42578125,null,1,0,1,6.7138671875E-4,6.7138671875E-4," "]
["2011-05-16T08:07:02",59.893062591552734,0,null,0,0,null,null,null,-653,30139.486328125,null,1,0,1,6.40869140625E-4,6.40869140625E-4," "]
["2011-05-16T08:07:04",59.893062591552734,0,null,0,0,null,null,null,-653,30139.486328125,null,1,0,1,0,0," "]
["2011-05-16T08:07:06",59.893062591552734,0,null,0,0,null,null,null,-653,30133.375,null,1,{"$f":"IF((M819=1)*(B819>$N$2),1,0)","v":0},1,0,{"$f":"ABS(P819)","v":0},{"$f":"IF(Q819>(AVERAGE(Q815:Q818)+R$2),1,\" \")","v":" "}]
["2011-05-16T08:07:08",59.895320892333984,0,null,0,0,null,null,null,-653,30133.375,null,1,0,1,2.25830078125E-3,2.25830078125E-3," "]
["2011-05-16T08:07:10",59.897884368896484,0,null,0,0,null,null,null,-653,30133.375,null,1,0,1,2.5634765625E-3,2.5634765625E-3," "]
["2011-05-16T08:07:12",59.899501800537109,0,null,0,0,null,null,null,-653,30133.375,null,1,0,1,1.617431640625E-3,1.617431640625E-3," "]
["2011-05-16T08:07:14",59.900814056396484,0,null,0,0,null,null,null,-653,30137.263671875,null,1,0,1,1.312255859375E-3,1.312255859375E-3," "]
["2011-05-16T08:07:16",59.902095794677734,0,null,0,0,null,null,null,-653,30137.263671875,null,1,0,1,1.28173828125E-3,1.28173828125E-3," "]
["2011-05-16T08:07:18",59.901790618896484,0,null,0,0,null,null,null,-653,30137.263671875,null,1,0,1,-3.0517578125E-4,3.0517578125E-4," "]
["2011-05-16T08:07:20",59.900814056396484,0,null,0,0,null,null,null,-653,30137.263671875,null,1,0,1,-9.765625E-4,9.765625E-4," "]
["2011-05-16T08:07:22",59.900814056396484,0,null,0,0,null,null,null,-653,30171.375,null,1,0,1,0,0," "]
["2011-05-16T08:07:24",59.900478363037109,0,null,0,0,null,null,null,-653,30171.375,null,1,0,1,-3.35693359375E-4,3.35693359375E-4," "]
["2011-05-16T08:07:26",59.899196624755859,0,null,0,0,null,null,null,-653,30168.763671875,null,1,0,1,-1.28173828125E-3,1.28173828125E-3," "]
["2011-05-16T08:07:28",59.898860931396484,0,null,0,0,null,null,null,-653,30168.763671875,null,1,0,1,-3.35693359375E-4,3.35693359375E-4," "]
["2011-05-16T08:07:30",59.898555755615234,0,null,0,0,null,null,null,-653,30168.763671875,null,1,0,1,-3.0517578125E-4,3.0517578125E-4," "]
["2011-05-16T08:07:32",59.900173187255859,0,null,0,0,null,null,null,-653,30168.763671875,null,1,0,1,1.617431640625E-3,1.617431640625E-3," "]
["2011-05-16T08:07:34",59.902431488037109,0,null,0,0,null,null,null,-653,30208.994140625,null,1,0,1,2.25830078125E-3,2.25830078125E-3," "]
["2011-05-16T08:07:36",59.904689788818359,0,null,0,0,null,null,null,-653,30208.994140625,null,1,0,1,2.25830078125E-3,2.25830078125E-3," "]
["2011-05-16T08:07:38",59.906948089599609,0,null,0,0,null,null,null,-653,30208.994140625,null,1,0,1,2.25830078125E-3,2.25830078125E-3," "]
["2011-05-16T08:07:40",59.908870697021484,0,null,0,0,null,null,null,-653,30208.994140625,null,1,0,1,1.922607421875E-3,1.922607421875E-3," "]
["2011-05-16T08:07:42",59.909206390380859,0,null,0,0,null,null,null,-653,30205.6640625,null,1,0,1,3.35693359375E-4,3.35693359375E-4," "]
["2011-05-16T08:07:44",59.908565521240234,0,null,0,0,null,null,null,-653,30205.6640625,null,1,0,1,-6.40869140625E-4,6.40869140625E-4," "]
["2011-05-16T08:07:46",59.908870697021484,0,null,0,0,null,null,null,-653,30205.658203125,null,1,0,{"$f":"IF(ROW()<$M$3,0,1)","v":1},3.0517578125E-4,3.0517578125E-4," "]
["2011-05-16T08:07:48",59.910182952880859,0,null,0,0,null,null,null,-653,30205.658203125,null,{"$f":"IF(ROW()<$M$5,0,1)","v":1},0,1,{"$f":"B840-B839","v":1.312255859375E-3},1.312255859375E-3," "]
["2011-05-16T08:07:50",59.912441253662109,0,null,0,0,null,null,null,-653,30205.658203125,null,1,0,1,2.25830078125E-3,2.25830078125E-3," "]
["2011-05-16T08:07:52",59.914699554443359,0,null,0,0,null,null,null,-653,30205.658203125,null,1,0,1,2.25830078125E-3,2.25830078125E-3," "]
["2011-05-16T08:07:54",59.917598724365234,0,null,0,0,null,null,null,-653,30211.75390625,null,1,0,1,2.899169921875E-3,2.899169921875E-3," "]
["2011-05-16T08:07:56",59.919216156005859,0,null,0,0,null,null,null,-653,30211.75390625,null,1,0,1,1.617431640625E-3,1.617431640625E-3," "]
["2011-05-16T08:07:58",59.920833587646484,0,null,0,0,null,null,null,-653,30211.75390625,null,1,0,1,1.617431640625E-3,1.617431640625E-3," "]
["2011-05-16T08:08:00",59.922145843505859,0,null,0,0,null,null,null,-653,30211.75390625,null,1,0,1,1.312255859375E-3,1.312255859375E-3," "]
["2011-05-16T08:08:02",59.923091888427734,0,null,0,0,null,null,null,-653,30217.548828125,null,1,0,1,9.46044921875E-4,9.46044921875E-4," "]
["2011-05-16T08:08:04",59.925045013427734,0,null,0,0,null,null,null,-653,30217.548828125,null,1,0,1,1.953125E-3,1.953125E-3," "]
["2011-05-16T08:08:06",59.925045013427734,0,null,0,0,null,null,null,-653,30217.56640625,null,1,0,1,0,0," "]
["2011-05-16T08:08:08",59.927303314208984,0,null,0,0,null,null,null,-653,30217.56640625,null,1,0,1,2.25830078125E-3,2.25830078125E-3," "]
["2011-05-16T08:08:10",59.932460784912109,0,null,0,0,null,null,null,-653,30217.56640625,null,1,0,1,5.157470703125E-3,5.157470703125E-3," "]
["2011-05-16T08:08:12",59.935054779052734,0,null,0,0,null,null,null,-653,30217.56640625,null,1,0,1,2.593994140625E-3,2.593994140625E-3," "]
["2011-05-16T08:08:14",59.937007904052734,0,null,0,0,null,null,null,-653,30217.59375,null,1,0,1,1.953125E-3,1.953125E-3," "]
["2011-05-16T08:08:16",59.937652587890625,0,null,0,0,null,null,null,-653,30217.59375,null,1,0,1,6.44683837890625E-4,6.44683837890625E-4," "]
["2011-05-16T08:08:18",59.93927001953125,0,null,0,0,null,null,null,-653,30217.59375,null,1,0,1,1.617431640625E-3,1.617431640625E-3," "]
["2011-05-16T08:08:20",59.94183349609375,0,null,0,0,null,null,null,-653,30217.59375,null,1,0,1,2.5634765625E-3,2.5634765625E-3," "]
["2011-05-16T08:08:22",59.944091796875,0,null,0,0,null,null,null,-653,30210.486328125,null,1,0,1,2.25830078125E-3,2.25830078125E-3," "]
["2011-05-16T08:08:24",59.945709228515625,0,null,0,0,null,null,null,-653,30210.486328125,null,1,0,1,1.617431640625E-3,1.617431640625E-3," "]
["2011-05-16T08:08:26",59.947967529296875,0,null,0,0,null,null,null,-653,30210.255859375,null,1,0,1,2.25830078125E-3,2.25830078125E-3," "]
["2011-05-16T08:08:28",59.947662353515625,0,null,0,0,null,null,null,-653,30210.255859375,null,1,0,1,-3.0517578125E-4,3.0517578125E-4," "]
["2011-05-16T08:08:30",59.945404052734375,0,null,0,0,null,null,null,-653,30210.255859375,null,1,0,1,-2.25830078125E-3,2.25830078125E-3," "]
["2011-05-16T08:08:32",59.944427490234375,0,null,0,0,null,null,null,-653,30210.255859375,null,1,0,1,-9.765625E-4,9.765625E-4," "]
["2011-05-16T08:08:34",59.944091796875,0,null,0,0,null,null,null,-653,30234.5859375,null,1,0,1,-3.35693359375E-4,3.35693359375E-4," "]
["2011-05-16T08:08:36",59.945068359375,0,null,0,0,null,null,null,-653,30234.5859375,null,1,0,1,9.765625E-4,9.765625E-4," "]
["2011-05-16T08:08:38",59.946044921875,0,null,0,0,null,null,null,-653,30234.5859375,null,1,0,1,9.765625E-4,9.765625E-4," "]
["2011-05-16T08:08:40",59.946380615234375,0,null,0,0,null,null,null,-653,30234.5859375,null,1,0,1,3.35693359375E-4,3.35693359375E-4," "]
["2011-05-16T08:08:42",59.94732666015625,0,null,0,0,null,null,null,-653,30223.599609375,null,1,0,1,9.46044921875E-4,9.46044921875E-4," "]
["2011-05-16T08:08:44",59.94830322265625,0,null,0,0,null,null,null,-653,30223.599609375,null,1,0,1,9.765625E-4,9.765625E-4," "]
["2011-05-16T08:08:46",59.948944091796875,0,null,0,0,null,null,null,-653,30223.73046875,null,1,0,1,6.40869140625E-4,6.40869140625E-4," "]
["2011-05-16T08:08:48",59.949920654296875,0,null,0,0,null,null,null,-653,30223.73046875,null,1,0,1,9.765625E-4,9.765625E-4," "]
["2011-05-16T08:08:50",59.950897216796875,0,null,0,0,null,null,null,-653,30223.73046875,null,1,0,1,9.765625E-4,9.765625E-4," "]
["2011-05-16T08:08:52",59.9515380859375,0,null,0,0,null,null,null,-653,30223.73046875,null,1,0,1,6.40869140625E-4,6.40869140625E-4," "]
["2011-05-16T08:08:54",59.951873779296875,0,null,0,0,null,null,null,-653,30224.392578125,null,1,0,1,3.35693359375E-4,3.35693359375E-4," "]
["2011-05-16T08:08:56",59.953460693359375,0,null,0,0,null,null,null,-653,30224.392578125,null,1,0,1,1.5869140625E-3,1.5869140625E-3," "]
["2011-05-16T08:08:58",59.955078125,0,null,0,0,null,null,null,-653,30224.392578125,null,1,0,1,1.617431640625E-3,1.617431640625E-3," "]
["2011-05-16T08:09:00",59.95574951171875,0,null,0,0,null,null,null,-653,30224.392578125,null,1,0,1,6.7138671875E-4,6.7138671875E-4," "]
["2011-05-16T08:09:02",59.956390380859375,0,null,0,0,null,null,null,-653,30255.529296875,null,1,0,1,6.40869140625E-4,6.40869140625E-4," "]
["2011-05-16T08:09:04",59.9580078125,0,null,0,0,null,null,null,-653,30255.529296875,null,1,0,1,1.617431640625E-3,1.617431640625E-3," "]
["2011-05-16T08:09:06",59.96124267578125,0,null,0,0,null,null,null,-653,30252.8671875,null,1,0,1,3.23486328125E-3,3.23486328125E-3," "]
["2011-05-16T08:09:08",59.9625244140625,0,null,0,0,null,null,null,-653,30252.8671875,null,1,0,1,1.28173828125E-3,1.28173828125E-3," "]
["2011-05-16T08:09:10",59.961883544921875,0,null,0,0,null,null,null,-653,30252.8671875,null,1,0,1,-6.40869140625E-4,6.40869140625E-4," "]
["2011-05-16T08:09:12",59.96124267578125,0,null,0,0,null,null,null,-653,30252.8671875,null,1,0,1,-6.40869140625E-4,6.40869140625E-4," "]
["2011-05-16T08:09:14",59.96026611328125,0,null,0,0,null,null,null,-653,30232.44921875,null,1,{"$f":"IF((M883=1)*(B883>$N$2),1,0)","v":0},1,-9.765625E-4,{"$f":"ABS(P883)","v":9.765625E-4},{"$f":"IF(Q883>(AVERAGE(Q879:Q882)+R$2),1,\" \")","v":" "}]
["2011-05-16T08:09:16",59.9605712890625,0,null,0,0,null,null,null,-653,30232.44921875,null,1,0,1,3.0517578125E-4,3.0517578125E-4," "]
["2011-05-16T08:09:18",59.962188720703125,0,null,0,0,null,null,null,-653,30232.44921875,null,1,0,1,1.617431640625E-3,1.617431640625E-3," "]
["2011-05-16T08:09:20",59.965118408203125,0,null,0,0,null,null,null,-653,30232.44921875,null,1,0,1,2.9296875E-3,2.9296875E-3," "]
["2011-05-16T08:09:22",59.967376708984375,0,null,0,0,null,null,null,-653,30263.990234375,null,1,0,1,2.25830078125E-3,2.25830078125E-3," "]
["2011-05-16T08:09:24",59.968994140625,0,null,0,0,null,null,null,-653,30263.990234375,null,1,0,1,1.617431640625E-3,1.617431640625E-3," "]
["2011-05-16T08:09:26",59.970611572265625,0,null,0,0,null,null,null,-653,30263.68359375,null,1,0,1,1.617431640625E-3,1.617431640625E-3," "]
["2011-05-16T08:09:28",59.973175048828125,0,null,0,0,null,null,null,-653,30263.68359375,null,1,0,1,2.5634765625E-3,2.5634765625E-3," "]
["2011-05-16T08:09:30",59.9735107421875,0,null,0,0,null,null,null,-653,30263.68359375,null,1,0,1,3.35693359375E-4,3.35693359375E-4," "]
["2011-05-16T08:09:32",59.972869873046875,0,null,0,0,null,null,null,-653,30263.68359375,null,1,0,1,-6.40869140625E-4,6.40869140625E-4," "]
["2011-05-16T08:09:34",59.9725341796875,0,null,0,0,null,null,null,-653,30264.9609375,null,1,0,1,-3.35693359375E-4,3.35693359375E-4," "]
["2011-05-16T08:09:36",59.973175048828125,0,null,0,0,null,null,null,-653,30264.9609375,null,1,0,1,6.40869140625E-4,6.40869140625E-4," "]
["2011-05-16T08:09:38",59.974151611328125,0,null,0,0,null,null,null,-653,30264.9609375,null,1,0,1,9.765625E-4,9.765625E-4," "]
["2011-05-16T08:09:40",59.975433349609375,0,null,0,0,null,null,null,-653,30264.9609375,null,1,0,1,1.28173828125E-3,1.28173828125E-3," "]
["2011-05-16T08:09:42",59.97576904296875,0,null,0,0,null,null,null,-653,30263.625,null,1,0,1,3.35693359375E-4,3.35693359375E-4," "]
["2011-05-16T08:09:44",59.976104736328125,0,null,0,0,null,null,null,-653,30263.625,null,1,0,1,3.35693359375E-4,3.35693359375E-4," "]
["2011-05-16T08:09:46",59.97674560546875,0,null,0,0,null,null,null,-653,30279.388671875,null,1,0,1,6.40869140625E-4,6.40869140625E-4," "]
["2011-05-16T08:09:48",59.97802734375,0,null,0,0,null,null,null,-653,30279.388671875,null,1,0,1,1.28173828125E-3,1.28173828125E-3," "]
["2011-05-16T08:09:50",59.97930908203125,0,null,0,0,null,null,null,-653,30279.388671875,null,1,0,1,1.28173828125E-3,1.28173828125E-3," "]
["2011-05-16T08:09:52",59.97998046875,0,null,0,0,null,null,null,-653,30279.388671875,null,1,0,1,6.7138671875E-4,6.7138671875E-4," "]
["2011-05-16T08:09:54",59.979644775390625,0,null,0,0,null,null,null,-653,30255.318359375,null,1,0,{"$f":"IF(ROW()<$M$3,0,1)","v":1},-3.35693359375E-4,3.35693359375E-4," "]
["2011-05-16T08:09:56",59.97900390625,0,null,0,0,null,null,null,-653,30255.318359375,null,{"$f":"IF(ROW()<$M$5,0,1)","v":1},0,1,{"$f":"B904-B903","v":-6.40869140625E-4},6.40869140625E-4," "]
["2011-05-16T08:09:58",59.979644775390625,0,null,0,0,null,null,null,-653,30255.318359375,null,1,0,1,6.40869140625E-4,6.40869140625E-4," "]
["2011-05-16T08:10:00",59.980926513671875,0,null,0,0,null,null,null,-653,30255.318359375,null,1,0,1,1.28173828125E-3,1.28173828125E-3," "]
["2011-05-16T08:10:02",59.98223876953125,0,null,0,0,null,null,null,-653,30260.673828125,null,1,0,1,1.312255859375E-3,1.312255859375E-3," "]
["2011-05-16T08:10:04",59.983856201171875,0,null,0,0,null,null,null,-653,30260.673828125,null,1,0,1,1.617431640625E-3,1.617431640625E-3," "]
["2011-05-16T08:10:06",59.985137939453125,0,null,0,0,null,null,null,-653,30259.9921875,null,1,0,1,1.28173828125E-3,1.28173828125E-3," "]
["2011-05-16T08:10:08",59.98773193359375,0,null,0,0,null,null,null,-653,30259.9921875,null,1,0,1,2.593994140625E-3,2.593994140625E-3," "]
["2011-05-16T08:10:10",59.99029541015625,0,null,0,0,null,null,null,-653,30259.9921875,null,1,0,1,2.5634765625E-3,2.5634765625E-3," "]
["2011-05-16T08:10:12",59.992889404296875,0,null,0,0,null,null,null,-653,30259.9921875,null,1,0,1,2.593994140625E-3,2.593994140625E-3," "]
["2011-05-16T08:10:14",59.99578857421875,0,null,0,0,null,null,null,-653,30274.080078125,null,1,0,1,2.899169921875E-3,2.899169921875E-3," "]
["2011-05-16T08:10:16",59.9964599609375,0,null,0,0,null,null,null,-653,30274.080078125,null,1,0,1,6.7138671875E-4,6.7138671875E-4," "]
["2011-05-16T08:10:18",59.99578857421875,0,null,0,0,null,null,null,-653,30274.080078125,null,1,0,1,-6.7138671875E-4,6.7138671875E-4," "]
["2011-05-16T08:10:20",59.996124267578125,0,null,0,0,null,null,null,-653,30274.080078125,null,1,0,1,3.35693359375E-4,3.35693359375E-4," "]
["2011-05-16T08:10:22",59.99578857421875,0,null,0,0,null,null,null,-653,30297.677734375,null,1,0,1,-3.35693359375E-4,3.35693359375E-4," "]
["2011-05-16T08:10:24",59.994842529296875,0,null,0,0,null,null,null,-653,30297.677734375,null,1,0,1,-9.46044921875E-4,9.46044921875E-4," "]
["2011-05-16T08:10:26",59.994842529296875,0,null,0,0,null,null,null,-653,30297.6484375,null,1,0,1,0,0," "]
["2011-05-16T08:10:28",59.998046875,0,null,0,0,null,null,null,-653,30297.6484375,null,1,0,1,3.204345703125E-3,3.204345703125E-3," "]
["2011-05-16T08:10:30",59.99871826171875,0,null,0,0,null,null,null,-653,30297.6484375,null,1,1,1,6.7138671875E-4,6.7138671875E-4," "]
["2011-05-16T08:10:32",60.000335693359375,0,null,0,0,null,null,null,-653,30297.6484375,null,1,1,1,1.617431640625E-3,1.617431640625E-3," "]
["2011-05-16T08:10:34",60.001953125,0,null,0,0,null,null,null,-653,30300.103515625,null,1,1,1,1.617431640625E-3,1.617431640625E-3," "]
["2011-05-16T08:10:36",60.002593994140625,0,null,0,0,null,null,null,-653,30300.103515625,null,1,1,1,6.40869140625E-4,6.40869140625E-4," "]
["2011-05-16T08:10:38",60.00225830078125,0,null,0,0,null,null,null,-653,30300.103515625,null,1,1,1,-3.35693359375E-4,3.35693359375E-4," "]
["2011-05-16T08:10:40",60.001953125,0,null,0,0,null,null,null,-653,30300.103515625,null,1,1,1,-3.0517578125E-4,3.0517578125E-4," "]
["2011-05-16T08:10:42",60.000640869140625,0,null,0,0,null,null,null,-653,30314.837890625,null,1,1,1,-1.312255859375E-3,1.312255859375E-3," "]
["2011-05-16T08:10:44",59.9964599609375,0,null,0,0,null,null,null,-653,30314.837890625,null,1,0,1,-4.180908203125E-3,4.180908203125E-3," "]
["2011-05-16T08:10:46",59.991912841796875,0,null,0,0,null,null,null,-653,30309.708984375,null,1,0,1,-4.547119140625E-3,4.547119140625E-3," "]
["2011-05-16T08:10:48",59.989013671875,0,null,0,0,null,null,null,-653,30309.708984375,null,1,0,1,-2.899169921875E-3,2.899169921875E-3," "]
["2011-05-16T08:10:50",59.98773193359375,0,null,0,0,null,null,null,-653,30309.708984375,null,1,0,1,-1.28173828125E-3,1.28173828125E-3," "]
["2011-05-16T08:10:52",59.989013671875,0,null,0,0,null,null,null,-653,30309.708984375,null,1,0,1,1.28173828125E-3,1.28173828125E-3," "]
["2011-05-16T08:10:54",59.9925537109375,0,null,0,0,null,null,null,-653,30319.49609375,null,1,0,1,3.5400390625E-3,3.5400390625E-3," "]
["2011-05-16T08:10:56",59.99578857421875,0,null,0,0,null,null,null,-653,30319.49609375,null,1,0,1,3.23486328125E-3,3.23486328125E-3," "]
["2011-05-16T08:10:58",59.9990234375,0,null,0,0,null,null,null,-653,30319.49609375,null,1,1,1,3.23486328125E-3,3.23486328125E-3," "]
["2011-05-16T08:11:00",60.001953125,0,null,0,0,null,null,null,-653,30319.49609375,null,1,1,1,2.9296875E-3,2.9296875E-3," "]
["2011-05-16T08:11:02",60.004852294921875,0,null,0,0,null,null,null,-653,30357.212890625,null,1,1,1,2.899169921875E-3,2.899169921875E-3," "]
["2011-05-16T08:11:04",60.008087158203125,0,null,0,0,null,null,null,-653,30357.212890625,null,1,1,1,3.23486328125E-3,3.23486328125E-3," "]
["2011-05-16T08:11:06",60.011627197265625,0,null,0,0,null,null,null,-653,30357.18359375,null,1,1,1,3.5400390625E-3,3.5400390625E-3," "]
["2011-05-16T08:11:08",60.01422119140625,0,null,0,0,null,null,null,-653,30357.18359375,null,1,1,1,2.593994140625E-3,2.593994140625E-3," "]
["2011-05-16T08:11:10",60.01519775390625,0,null,0,0,null,null,null,-653,30357.18359375,null,1,1,1,9.765625E-4,9.765625E-4," "]
["2011-05-16T08:11:12",60.0155029296875,0,null,0,0,null,null,null,-653,30357.18359375,null,1,1,1,3.0517578125E-4,3.0517578125E-4," "]
["2011-05-16T08:11:14",60.0155029296875,0,null,0,0,null,null,null,-653,30354.2578125,null,1,1,1,0,0," "]
["2011-05-16T08:11:16",60.016815185546875,0,null,0,0,null,null,null,-653,30354.2578125,null,1,1,1,1.312255859375E-3,1.312255859375E-3," "]
["2011-05-16T08:11:18",60.019073486328125,0,null,0,0,null,null,null,-653,30354.2578125,null,1,1,1,2.25830078125E-3,2.25830078125E-3," "]
["2011-05-16T08:11:20",60.02294921875,0,null,0,0,null,null,null,-653,30354.2578125,null,1,1,1,3.875732421875E-3,3.875732421875E-3," "]
["2011-05-16T08:11:22",60.02618408203125,0,null,0,0,null,null,null,-653,30354.484375,null,1,{"$f":"IF((M947=1)*(B947>$N$2),1,0)","v":1},1,3.23486328125E-3,{"$f":"ABS(P947)","v":3.23486328125E-3},{"$f":"IF(Q947>(AVERAGE(Q943:Q946)+R$2),1,\" \")","v":" "}]
["2011-05-16T08:11:24",60.02972412109375,0,null,0,0,null,null,null,-653,30354.484375,null,1,1,1,3.5400390625E-3,3.5400390625E-3," "]
["2011-05-16T08:11:26",60.032623291015625,0,null,0,0,null,null,null,-653,30353.83203125,null,1,1,1,2.899169921875E-3,2.899169921875E-3," "]
["2011-05-16T08:11:28",60.034576416015625,0,null,0,0,null,null,null,-653,30353.83203125,null,1,1,1,1.953125E-3,1.953125E-3," "]
["2011-05-16T08:11:30",60.03521728515625,0,null,0,0,null,null,null,-653,30353.83203125,null,1,1,1,6.40869140625E-4,6.40869140625E-4," "]
["2011-05-16T08:11:32",60.03424072265625,0,null,0,0,null,null,null,-653,30353.83203125,null,1,1,1,-9.765625E-4,9.765625E-4," "]
["2011-05-16T08:11:34",60.033599853515625,0,null,0,0,null,null,null,-653,30370.4140625,null,1,1,1,-6.40869140625E-4,6.40869140625E-4," "]
["2011-05-16T08:11:36",60.03521728515625,0,null,0,0,null,null,null,-653,30370.4140625,null,1,1,1,1.617431640625E-3,1.617431640625E-3," "]
["2011-05-16T08:11:38",60.038116455078125,0,null,0,0,null,null,null,-653,30370.4140625,null,1,1,1,2.899169921875E-3,2.899169921875E-3," "]
["2011-05-16T08:11:40",60.040374755859375,0,null,0,0,null,null,null,-653,30370.4140625,null,1,1,1,2.25830078125E-3,2.25830078125E-3," "]
["2011-05-16T08:11:42",60.041046142578125,0,null,0,0,null,null,null,-653,30374.787109375,null,1,1,1,6.7138671875E-4,6.7138671875E-4," "]
["2011-05-16T08:11:44",60.0419921875,0,null,0,0,null,null,null,-653,30374.787109375,null,1,1,1,9.46044921875E-4,9.46044921875E-4," "]
["2011-05-16T08:11:46",60.042327880859375,0,null,0,0,null,null,null,-653,30366.13671875,null,1,1,1,3.35693359375E-4,3.35693359375E-4," "]
["2011-05-16T08:11:48",60.043304443359375,0,null,0,0,null,null,null,-653,30366.13671875,null,1,1,1,9.765625E-4,9.765625E-4," "]
["2011-05-16T08:11:50",60.04425048828125,0,null,0,0,null,null,null,-653,30366.13671875,null,1,1,1,9.46044921875E-4,9.46044921875E-4," "]
["2011-05-16T08:11:52",60.044921875,0,null,0,0,null,null,null,-653,30366.13671875,null,1,1,1,6.7138671875E-4,6.7138671875E-4," "]
["2011-05-16T08:11:54",60.045562744140625,0,null,0,0,null,null,null,-653,30373.533203125,null,1,1,1,6.40869140625E-4,6.40869140625E-4," "]
["2011-05-16T08:11:56",60.045867919921875,0,null,0,0,null,null,null,-653,30373.533203125,null,1,1,1,3.0517578125E-4,3.0517578125E-4," "]
["2011-05-16T08:11:58",60.046539306640625,0,null,0,0,null,null,null,-653,30373.533203125,null,1,1,1,6.7138671875E-4,6.7138671875E-4," "]
["2011-05-16T08:12:00",60.048797607421875,0,null,0,0,null,null,null,-653,30373.533203125,null,1,1,1,2.25830078125E-3,2.25830078125E-3," "]
["2011-05-16T08:12:02",60.04974365234375,0,null,0,0,null,null,null,-653,30343.46484375,null,1,1,{"$f":"IF(ROW()<$M$3,0,1)","v":1},9.46044921875E-4,9.46044921875E-4," "]
["2011-05-16T08:12:04",60.049102783203125,0,null,0,0,null,null,null,-653,30343.46484375,null,{"$f":"IF(ROW()<$M$5,0,1)","v":1},1,1,{"$f":"B968-B967","v":-6.40869140625E-4},6.40869140625E-4," "]
["2011-05-16T08:12:06",60.049102783203125,0,null,0,0,null,null,null,-653,30335.119140625,null,1,1,1,0,0," "]
["2011-05-16T08:12:08",60.0504150390625,0,null,0,0,null,null,null,-653,30335.119140625,null,1,1,1,1.312255859375E-3,1.312255859375E-3," "]
["2011-05-16T08:12:10",60.04974365234375,0,null,0,0,null,null,null,-653,30335.119140625,null,1,1,1,-6.7138671875E-4,6.7138671875E-4," "]
["2011-05-16T08:12:12",60.0484619140625,0,null,0,0,null,null,null,-653,30335.119140625,null,1,1,1,-1.28173828125E-3,1.28173828125E-3," "]
["2011-05-16T08:12:14",60.04718017578125,0,null,0,0,null,null,null,-653,30337.28515625,null,1,1,1,-1.28173828125E-3,1.28173828125E-3," "]
["2011-05-16T08:12:16",60.045867919921875,0,null,0,0,null,null,null,-653,30337.28515625,null,1,1,1,-1.312255859375E-3,1.312255859375E-3," "]
["2011-05-16T08:12:18",60.045867919921875,0,null,0,0,null,null,null,-653,30337.28515625,null,1,1,1,0,0," "]
["2011-05-16T08:12:20",60.045562744140625,0,null,0,0,null,null,null,-653,30337.28515625,null,1,1,1,-3.0517578125E-4,3.0517578125E-4," "]
["2011-05-16T08:12:22",60.04425048828125,0,null,0,0,null,null,null,-653,30350.197265625,null,1,1,1,-1.312255859375E-3,1.312255859375E-3," "]
["2011-05-16T08:12:24",60.04296875,0,null,0,0,null,null,null,-653,30350.197265625,null,1,1,1,-1.28173828125E-3,1.28173828125E-3," "]
["2011-05-16T08:12:26",60.04168701171875,0,null,0,0,null,null,null,-653,30350.06640625,null,1,1,1,-1.28173828125E-3,1.28173828125E-3," "]
["2011-05-16T08:12:28",60.042327880859375,0,null,0,0,null,null,null,-653,30350.06640625,null,1,1,1,6.40869140625E-4,6.40869140625E-4," "]
["2011-05-16T08:12:30",60.044586181640625,0,null,0,0,null,null,null,-653,30350.06640625,null,1,1,1,2.25830078125E-3,2.25830078125E-3," "]
["2011-05-16T08:12:32",60.046539306640625,0,null,0,0,null,null,null,-653,30350.06640625,null,1,1,1,1.953125E-3,1.953125E-3," "]
["2011-05-16T08:12:34",60.04718017578125,0,null,0,0,null,null,null,-653,30354.7734375,null,1,1,1,6.40869140625E-4,6.40869140625E-4," "]
["2011-05-16T08:12:36",60.04620361328125,0,null,0,0,null,null,null,-653,30354.7734375,null,1,1,1,-9.765625E-4,9.765625E-4," "]
["2011-05-16T08:12:38",60.04425048828125,0,null,0,0,null,null,null,-653,30354.7734375,null,1,1,1,-1.953125E-3,1.953125E-3," "]
["2011-05-16T08:12:40",60.044921875,0,null,0,0,null,null,null,-653,30354.7734375,null,1,1,1,6.7138671875E-4,6.7138671875E-4," "]
["2011-05-16T08:12:42",60.04522705078125,0,null,0,0,null,null,null,-653,30372.384765625,null,1,1,1,3.0517578125E-4,3.0517578125E-4," "]
["2011-05-16T08:12:44",60.04522705078125,0,null,0,0,null,null,null,-653,30372.384765625,null,1,1,1,0,0," "]
["2011-05-16T08:12:46",60.045562744140625,0,null,0,0,null,null,null,-653,30372.384765625,null,1,1,1,3.35693359375E-4,3.35693359375E-4," "]
["2011-05-16T08:12:48",60.04620361328125,0,null,0,0,null,null,null,-653,30372.384765625,null,1,1,1,6.40869140625E-4,6.40869140625E-4," "]
["2011-05-16T08:12:50",60.046539306640625,0,null,0,0,null,null,null,-653,30372.384765625,null,1,1,1,3.35693359375E-4,3.35693359375E-4," "]
["2011-05-16T08:12:52",60.046539306640625,0,null,0,0,null,null,null,-653,30372.384765625,null,1,1,1,0,0," "]
["2011-05-16T08:12:54",60.04522705078125,0,null,0,0,null,null,null,-653,30349.09765625,null,1,1,1,-1.312255859375E-3,1.312255859375E-3," "]
["2011-05-16T08:12:56",60.043609619140625,0,null,0,0,null,null,null,-653,30349.09765625,null,1,1,1,-1.617431640625E-3,1.617431640625E-3," "]
["2011-05-16T08:12:58",60.0419921875,0,null,0,0,null,null,null,-653,30349.09765625,null,1,1,1,-1.617431640625E-3,1.617431640625E-3," "]
["2011-05-16T08:13:00",60.04071044921875,0,null,0,0,null,null,null,-653,30349.09765625,null,1,1,1,-1.28173828125E-3,1.28173828125E-3," "]
["2011-05-16T08:13:02",60.03875732421875,0,null,0,0,null,null,null,-653,30363.6484375,null,1,1,1,-1.953125E-3,1.953125E-3," "]
["2011-05-16T08:13:04",60.035858154296875,0,null,0,0,null,null,null,-653,30363.6484375,null,1,1,1,-2.899169921875E-3,2.899169921875E-3," "]
["2011-05-16T08:13:06",60.033935546875,0,null,0,0,null,null,null,-653,30363.87890625,null,1,1,1,-1.922607421875E-3,1.922607421875E-3," "]
["2011-05-16T08:13:08",60.033599853515625,0,null,0,0,null,null,null,-653,30363.87890625,null,1,1,1,-3.35693359375E-4,3.35693359375E-4," "]
["2011-05-16T08:13:10",60.032623291015625,0,null,0,0,null,null,null,-653,30363.87890625,null,1,1,1,-9.765625E-4,9.765625E-4," "]
["2011-05-16T08:13:12",60.030059814453125,0,null,0,0,null,null,null,-653,30363.87890625,null,1,1,1,-2.5634765625E-3,2.5634765625E-3," "]
["2011-05-16T08:13:14",60.0274658203125,0,null,0,0,null,null,null,-653,30364.767578125,null,1,1,1,-2.593994140625E-3,2.593994140625E-3," "]
["2011-05-16T08:13:16",60.026824951171875,0,null,0,0,null,null,null,-653,30364.767578125,null,1,1,1,-6.40869140625E-4,6.40869140625E-4," "]
["2011-05-16T08:13:18",60.025848388671875,0,null,0,0,null,null,null,-653,30364.767578125,null,1,1,1,-9.765625E-4,9.765625E-4," "]
["2011-05-16T08:13:20",60.023590087890625,0,null,0,0,null,null,null,-653,30364.767578125,null,1,1,1,-2.25830078125E-3,2.25830078125E-3," "]
["2011-05-16T08:13:22",60.02197265625,0,null,0,0,null,null,null,-653,30374.33203125,null,1,1,1,-1.617431640625E-3,1.617431640625E-3," "]
["2011-05-16T08:13:24",60.021636962890625,0,null,0,0,null,null,null,-653,30374.33203125,null,1,1,1,-3.35693359375E-4,3.35693359375E-4," "]
["2011-05-16T08:13:26",60.022308349609375,0,null,0,0,null,null,null,-653,30364.673828125,null,1,1,1,6.7138671875E-4,6.7138671875E-4," "]
["2011-05-16T08:13:28",60.021331787109375,0,null,0,0,null,null,null,-653,30364.673828125,null,1,1,1,-9.765625E-4,9.765625E-4," "]
["2011-05-16T08:13:30",60.021331787109375,0,null,0,0,null,null,null,-653,30364.673828125,null,1,{"$f":"IF((M1011=1)*(B1011>$N$2),1,0)","v":1},1,0,{"$f":"ABS(P1011)","v":0},{"$f":"IF(Q1011>(AVERAGE(Q1007:Q1010)+R$2),1,\" \")","v":" "}]
["2011-05-16T08:13:32",60.02001953125,0,null,0,0,null,null,null,-653,30364.673828125,null,1,1,1,-1.312255859375E-3,1.312255859375E-3," "]
["2011-05-16T08:13:34",60.01776123046875,0,null,0,0,null,null,null,-653,30361.55859375,null,1,1,1,-2.25830078125E-3,2.25830078125E-3," "]
["2011-05-16T08:13:36",60.015838623046875,0,null,0,0,null,null,null,-653,30361.55859375,null,1,1,1,-1.922607421875E-3,1.922607421875E-3," "]
["2011-05-16T08:13:38",60.012908935546875,0,null,0,0,null,null,null,-653,30361.55859375,null,1,1,1,-2.9296875E-3,2.9296875E-3," "]
["2011-05-16T08:13:40",60.011322021484375,0,null,0,0,null,null,null,-653,30361.55859375,null,1,1,1,-1.5869140625E-3,1.5869140625E-3," "]
["2011-05-16T08:13:42",60.010009765625,0,null,0,0,null,null,null,-653,30350.6875,null,1,1,1,-1.312255859375E-3,1.312255859375E-3," "]
["2011-05-16T08:13:44",60.009368896484375,0,null,0,0,null,null,null,-653,30350.6875,null,1,1,1,-6.40869140625E-4,6.40869140625E-4," "]
["2011-05-16T08:13:46",60.00775146484375,0,null,0,0,null,null,null,-653,30344.5234375,null,1,1,1,-1.617431640625E-3,1.617431640625E-3," "]
["2011-05-16T08:13:48",60.005157470703125,0,null,0,0,null,null,null,-653,30344.5234375,null,1,1,1,-2.593994140625E-3,2.593994140625E-3," "]
["2011-05-16T08:13:50",60.0045166015625,0,null,0,0,null,null,null,-653,30344.5234375,null,1,1,1,-6.40869140625E-4,6.40869140625E-4," "]
["2011-05-16T08:13:52",60.006134033203125,0,null,0,0,null,null,null,-653,30344.5234375,null,1,1,1,1.617431640625E-3,1.617431640625E-3," "]
["2011-05-16T08:13:54",60.006134033203125,0,null,0,0,null,null,null,-653,30354.365234375,null,1,1,1,0,0," "]
["2011-05-16T08:13:56",60.0054931640625,0,null,0,0,null,null,null,-653,30354.365234375,null,1,1,1,-6.40869140625E-4,6.40869140625E-4," "]
["2011-05-16T08:13:58",60.005157470703125,0,null,0,0,null,null,null,-653,30354.365234375,null,1,1,1,-3.35693359375E-4,3.35693359375E-4," "]
["2011-05-16T08:14:00",60.003875732421875,0,null,0,0,null,null,null,-653,30354.365234375,null,1,1,1,-1.28173828125E-3,1.28173828125E-3," "]
["2011-05-16T08:14:02",60.002593994140625,0,null,0,0,null,null,null,-653,30373.306640625,null,1,1,1,-1.28173828125E-3,1.28173828125E-3," "]
["2011-05-16T08:14:04",60.00128173828125,0,null,0,0,null,null,null,-653,30373.306640625,null,1,1,1,-1.312255859375E-3,1.312255859375E-3," "]
["2011-05-16T08:14:06",60.00128173828125,0,null,0,0,null,null,null,-653,30373.779296875,null,1,1,1,0,0," "]
["2011-05-16T08:14:08",60.000640869140625,0,null,0,0,null,null,null,-653,30373.779296875,null,1,1,1,-6.40869140625E-4,6.40869140625E-4," "]
["2011-05-16T08:14:10",60.000335693359375,0,null,0,0,null,null,null,-653,30373.779296875,null,1,1,{"$f":"IF(ROW()<$M$3,0,1)","v":1},-3.0517578125E-4,3.0517578125E-4," "]
["2011-05-16T08:14:12",60.00225830078125,0,null,0,0,null,null,null,-653,30373.779296875,null,{"$f":"IF(ROW()<$M$5,0,1)","v":1},1,1,{"$f":"B1032-B1031","v":1.922607421875E-3},1.922607421875E-3," "]
["2011-05-16T08:14:14",60.00421142578125,0,null,0,0,null,null,null,-653,30366.333984375,null,1,1,1,1.953125E-3,1.953125E-3," "]
["2011-05-16T08:14:16",60.00677490234375,0,null,0,0,null,null,null,-653,30366.333984375,null,1,1,1,2.5634765625E-3,2.5634765625E-3," "]
["2011-05-16T08:14:18",60.009033203125,0,null,0,0,null,null,null,-653,30366.333984375,null,1,1,1,2.25830078125E-3,2.25830078125E-3," "]
["2011-05-16T08:14:20",60.012908935546875,0,null,0,0,null,null,null,-653,30366.333984375,null,1,1,1,3.875732421875E-3,3.875732421875E-3," "]
["2011-05-16T08:14:22",60.014862060546875,0,null,0,0,null,null,null,-653,30373.845703125,null,1,1,1,1.953125E-3,1.953125E-3," "]
["2011-05-16T08:14:24",60.0145263671875,0,null,0,0,null,null,null,-653,30373.845703125,null,1,1,1,-3.35693359375E-4,3.35693359375E-4," "]
["2011-05-16T08:14:26",60.01422119140625,0,null,0,0,null,null,null,-653,30373.046875,null,1,1,1,-3.0517578125E-4,3.0517578125E-4," "]
["2011-05-16T08:14:28",60.01519775390625,0,null,0,0,null,null,null,-653,30373.046875,null,1,1,1,9.765625E-4,9.765625E-4," "]
["2011-05-16T08:14:30",60.016143798828125,0,null,0,0,null,null,null,-653,30373.046875,null,1,1,1,9.46044921875E-4,9.46044921875E-4," "]
["2011-05-16T08:14:32",60.016815185546875,0,null,0,0,null,null,null,-653,30373.046875,null,1,1,1,6.7138671875E-4,6.7138671875E-4," "]
["2011-05-16T08:14:34",60.0174560546875,0,null,0,0,null,null,null,-653,30369.76953125,null,1,1,1,6.40869140625E-4,6.40869140625E-4," "]
["2011-05-16T08:14:36",60.017120361328125,0,null,0,0,null,null,null,-653,30369.76953125,null,1,1,1,-3.35693359375E-4,3.35693359375E-4," "]
["2011-05-16T08:14:38",60.016815185546875,0,null,0,0,null,null,null,-653,30369.76953125,null,1,1,1,-3.0517578125E-4,3.0517578125E-4," "]
["2011-05-16T08:14:40",60.0164794921875,0,null,0,0,null,null,null,-653,30369.76953125,null,1,1,1,-3.35693359375E-4,3.35693359375E-4," "]
["2011-05-16T08:14:42",60.016143798828125,0,null,0,0,null,null,null,-653,30388.994140625,null,1,1,1,-3.35693359375E-4,3.35693359375E-4," "]
["2011-05-16T08:14:44",60.0174560546875,0,null,0,0,null,null,null,-653,30388.994140625,null,1,1,1,1.312255859375E-3,1.312255859375E-3," "]
["2011-05-16T08:14:46",60.01776123046875,0,null,0,0,null,null,null,-653,30388.158203125,null,1,1,1,3.0517578125E-4,3.0517578125E-4," "]
["2011-05-16T08:14:48",60.01776123046875,0,null,0,0,null,null,null,-653,30388.158203125,null,1,1,1,0,0," "]
["2011-05-16T08:14:50",60.0164794921875,0,null,0,0,null,null,null,-653,30388.158203125,null,1,1,1,-1.28173828125E-3,1.28173828125E-3," "]
["2011-05-16T08:14:52",60.015838623046875,0,null,0,0,null,null,null,-653,30388.158203125,null,1,1,1,-6.40869140625E-4,6.40869140625E-4," "]
["2011-05-16T08:14:54",60.0164794921875,0,null,0,0,null,null,null,-653,30376.9375,null,1,1,1,6.40869140625E-4,6.40869140625E-4," "]
["2011-05-16T08:14:56",60.015838623046875,0,null,0,0,null,null,null,-653,30376.9375,null,1,1,1,-6.40869140625E-4,6.40869140625E-4," "]
["2011-05-16T08:14:58",60.013580322265625,0,null,0,0,null,null,null,-653,30376.9375,null,1,1,1,-2.25830078125E-3,2.25830078125E-3," "]
["2011-05-16T08:15:00",60.011627197265625,0,null,0,0,null,null,null,-653,30376.9375,null,1,1,1,-1.953125E-3,1.953125E-3," "]
["2011-05-16T08:15:02",60.011322021484375,0,null,0,0,null,null,null,-653,30371.8515625,null,1,1,1,-3.0517578125E-4,3.0517578125E-4," "]
["2011-05-16T08:15:04",60.011322021484375,0,null,0,0,null,null,null,-653,30371.8515625,null,1,1,1,0,0," "]
["2011-05-16T08:15:06",60.010986328125,0,null,0,0,null,null,null,-653,30362.65234375,null,1,1,1,-3.35693359375E-4,3.35693359375E-4," "]
["2011-05-16T08:15:08",60.010986328125,0,null,0,0,null,null,null,-653,30362.65234375,null,1,1,1,0,0," "]
["2011-05-16T08:15:10",60.012908935546875,0,null,0,0,null,null,null,-653,30362.65234375,null,1,1,1,1.922607421875E-3,1.922607421875E-3," "]
["2011-05-16T08:15:12",60.014862060546875,0,null,0,0,null,null,null,-653,30362.65234375,null,1,1,1,1.953125E-3,1.953125E-3," "]
["2011-05-16T08:15:14",60.01776123046875,0,null,0,0,null,null,null,-653,30395.46484375,null,1,1,1,2.899169921875E-3,2.899169921875E-3," "]
["2011-05-16T08:15:16",60.01776123046875,0,null,0,0,null,null,null,-653,30395.46484375,null,1,1,1,0,0," "]
["2011-05-16T08:15:18",60.018402099609375,0,null,0,0,null,null,null,-653,30395.46484375,null,1,1,1,6.40869140625E-4,6.40869140625E-4," "]
["2011-05-16T08:15:20",60.018096923828125,0,null,0,0,null,null,null,-653,30395.46484375,null,1,1,1,-3.0517578125E-4,3.0517578125E-4," "]
["2011-05-16T08:15:22",60.0174560546875,0,null,0,0,null,null,null,-653,30397.025390625,null,1,1,1,-6.40869140625E-4,6.40869140625E-4," "]
["2011-05-16T08:15:24",60.01519775390625,0,null,0,0,null,null,null,-653,30397.025390625,null,1,1,1,-2.25830078125E-3,2.25830078125E-3," "]
["2011-05-16T08:15:26",60.01519775390625,0,null,0,0,null,null,null,-653,30396.666015625,null,1,1,1,0,0," "]
["2011-05-16T08:15:28",60.013885498046875,0,null,0,0,null,null,null,-653,30396.666015625,null,1,1,1,-1.312255859375E-3,1.312255859375E-3," "]
["2011-05-16T08:15:30",60.0174560546875,0,null,0,0,null,null,null,-653,30396.666015625,null,1,1,1,3.570556640625E-3,3.570556640625E-3," "]
["2011-05-16T08:15:32",60.019073486328125,0,null,0,0,null,null,null,-653,30396.666015625,null,1,1,1,1.617431640625E-3,1.617431640625E-3," "]
["2011-05-16T08:15:34",60.019073486328125,0,null,0,0,null,null,null,-653,30388.615234375,null,1,1,1,0,0," "]
["2011-05-16T08:15:36",60.020355224609375,0,null,0,0,null,null,null,-653,30388.615234375,null,1,1,1,1.28173828125E-3,1.28173828125E-3," "]
["2011-05-16T08:15:38",60.01873779296875,0,null,0,0,null,null,null,-653,30388.615234375,null,1,{"$f":"IF((M1075=1)*(B1075>$N$2),1,0)","v":1},1,-1.617431640625E-3,{"$f":"ABS(P1075)","v":1.617431640625E-3},{"$f":"IF(Q1075>(AVERAGE(Q1071:Q1074)+R$2),1,\" \")","v":" "}]
["2011-05-16T08:15:40",60.01873779296875,0,null,0,0,null,null,null,-653,30388.615234375,null,1,1,1,0,0," "]
["2011-05-16T08:15:42",60.01971435546875,0,null,0,0,null,null,null,-653,30381.775390625,null,1,1,1,9.765625E-4,9.765625E-4," "]
["2011-05-16T08:15:44",60.01971435546875,0,null,0,0,null,null,null,-653,30381.775390625,null,1,1,1,0,0," "]
["2011-05-16T08:15:46",60.01971435546875,0,null,0,0,null,null,null,-653,30382.958984375,null,1,1,1,0,0," "]
["2011-05-16T08:15:48",60.018402099609375,0,null,0,0,null,null,null,-653,30382.958984375,null,1,1,1,-1.312255859375E-3,1.312255859375E-3," "]
["2011-05-16T08:15:50",60.014862060546875,0,null,0,0,null,null,null,-653,30382.958984375,null,1,1,1,-3.5400390625E-3,3.5400390625E-3," "]
["2011-05-16T08:15:52",60.013580322265625,0,null,0,0,null,null,null,-653,30382.958984375,null,1,1,1,-1.28173828125E-3,1.28173828125E-3," "]
["2011-05-16T08:15:54",60.013885498046875,0,null,0,0,null,null,null,-653,30381.482421875,null,1,1,1,3.0517578125E-4,3.0517578125E-4," "]
["2011-05-16T08:15:56",60.01226806640625,0,null,0,0,null,null,null,-653,30381.482421875,null,1,1,1,-1.617431640625E-3,1.617431640625E-3," "]
["2011-05-16T08:15:58",60.010009765625,0,null,0,0,null,null,null,-653,30381.482421875,null,1,1,1,-2.25830078125E-3,2.25830078125E-3," "]
["2011-05-16T08:16:00",60.005828857421875,0,null,0,0,null,null,null,-653,30381.482421875,null,1,1,1,-4.180908203125E-3,4.180908203125E-3," "]
["2011-05-16T08:16:02",60.001617431640625,0,null,0,0,null,null,null,-653,30394.029296875,null,1,1,1,-4.21142578125E-3,4.21142578125E-3," "]
["2011-05-16T08:16:04",60.001617431640625,0,null,0,0,null,null,null,-653,30394.029296875,null,1,1,1,0,0," "]
["2011-05-16T08:16:06",59.998046875,0,null,0,0,null,null,null,-653,30394.0703125,null,1,0,1,-3.570556640625E-3,3.570556640625E-3," "]
["2011-05-16T08:16:08",59.9935302734375,0,null,0,0,null,null,null,-653,30394.0703125,null,1,0,1,-4.5166015625E-3,4.5166015625E-3," "]
["2011-05-16T08:16:10",59.9925537109375,0,null,0,0,null,null,null,-653,30394.0703125,null,1,0,1,-9.765625E-4,9.765625E-4," "]
["2011-05-16T08:16:12",59.99224853515625,0,null,0,0,null,null,null,-653,30394.0703125,null,1,0,1,-3.0517578125E-4,3.0517578125E-4," "]
["2011-05-16T08:16:14",59.989990234375,0,null,0,0,null,null,null,-653,30376.91015625,null,1,0,1,-2.25830078125E-3,2.25830078125E-3," "]
["2011-05-16T08:16:16",59.988372802734375,0,null,0,0,null,null,null,-653,30376.91015625,null,1,0,1,-1.617431640625E-3,1.617431640625E-3," "]
["2011-05-16T08:16:18",59.984161376953125,0,null,0,0,null,null,null,-653,30376.91015625,null,1,0,{"$f":"IF(ROW()<$M$3,0,1)","v":1},-4.21142578125E-3,4.21142578125E-3," "]
["2011-05-16T08:16:20",59.981597900390625,0,null,0,0,null,null,null,-653,30376.91015625,null,{"$f":"IF(ROW()<$M$5,0,1)","v":1},0,1,{"$f":"B1096-B1095","v":-2.5634765625E-3},2.5634765625E-3," "]
["2011-05-16T08:16:22",59.980926513671875,0,null,0,0,null,null,null,-653,30367.95703125,null,1,0,1,-6.7138671875E-4,6.7138671875E-4," "]
["2011-05-16T08:16:24",59.98028564453125,0,null,0,0,null,null,null,-653,30367.95703125,null,1,0,1,-6.40869140625E-4,6.40869140625E-4," "]
["2011-05-16T08:16:26",59.97998046875,0,null,0,0,null,null,null,-653,30367.45703125,null,1,0,1,-3.0517578125E-4,3.0517578125E-4," "]
["2011-05-16T08:16:28",59.978363037109375,0,null,0,0,null,null,null,-653,30367.45703125,null,1,0,1,-1.617431640625E-3,1.617431640625E-3," "]
["2011-05-16T08:16:30",59.975128173828125,0,null,0,0,null,null,null,-653,30367.45703125,null,1,0,1,-3.23486328125E-3,3.23486328125E-3," "]
["2011-05-16T08:16:32",59.972869873046875,0,null,0,0,null,null,null,-653,30367.45703125,null,1,0,1,-2.25830078125E-3,2.25830078125E-3," "]
["2011-05-16T08:16:34",59.971893310546875,0,null,0,0,null,null,null,-653,30361.177734375,null,1,0,1,-9.765625E-4,9.765625E-4," "]
["2011-05-16T08:16:36",59.9715576171875,0,null,0,0,null,null,null,-653,30361.177734375,null,1,0,1,-3.35693359375E-4,3.35693359375E-4," "]
["2011-05-16T08:16:38",59.97381591796875,0,null,0,0,null,null,null,-653,30361.177734375,null,1,0,1,2.25830078125E-3,2.25830078125E-3," "]
["2011-05-16T08:16:40",59.976409912109375,0,null,0,0,null,null,null,-653,30361.177734375,null,1,0,1,2.593994140625E-3,2.593994140625E-3," "]
["2011-05-16T08:16:42",59.978363037109375,0,null,0,0,null,null,null,-653,30365.591796875,null,1,0,1,1.953125E-3,1.953125E-3," "]
["2011-05-16T08:16:44",59.97705078125,0,null,0,0,null,null,null,-653,30365.591796875,null,1,0,1,-1.312255859375E-3,1.312255859375E-3," "]
["2011-05-16T08:16:46",59.9744873046875,0,null,0,0,null,null,null,-653,30365.193359375,null,1,0,1,-2.5634765625E-3,2.5634765625E-3," "]
["2011-05-16T08:16:48",59.97125244140625,0,null,0,0,null,null,null,-653,30365.193359375,null,1,0,1,-3.23486328125E-3,3.23486328125E-3," "]
["2011-05-16T08:16:50",59.970916748046875,0,null,0,0,null,null,null,-653,30365.193359375,null,1,0,1,-3.35693359375E-4,3.35693359375E-4," "]
["2011-05-16T08:16:52",59.972869873046875,0,null,0,0,null,null,null,-653,30365.193359375,null,1,0,1,1.953125E-3,1.953125E-3," "]
["2011-05-16T08:16:54",59.9744873046875,0,null,0,0,null,null,null,-653,30375.912109375,null,1,0,1,1.617431640625E-3,1.617431640625E-3," "]
["2011-05-16T08:16:56",59.97381591796875,0,null,0,0,null,null,null,-653,30375.912109375,null,1,0,1,-6.7138671875E-4,6.7138671875E-4," "]
["2011-05-16T08:16:58",59.973175048828125,0,null,0,0,null,null,null,-653,30375.912109375,null,1,0,1,-6.40869140625E-4,6.40869140625E-4," "]
["2011-05-16T08:17:00",59.9744873046875,0,null,0,0,null,null,null,-653,30375.912109375,null,1,0,1,1.312255859375E-3,1.312255859375E-3," "]
["2011-05-16T08:17:02",59.976104736328125,0,null,0,0,null,null,null,-653,30367.40234375,null,1,0,1,1.617431640625E-3,1.617431640625E-3," "]
["2011-05-16T08:17:04",59.977386474609375,0,null,0,0,null,null,null,-653,30367.40234375,null,1,0,1,1.28173828125E-3,1.28173828125E-3," "]
["2011-05-16T08:17:06",59.978363037109375,0,null,0,0,null,null,null,-653,30367.720703125,null,1,0,1,9.765625E-4,9.765625E-4," "]
["2011-05-16T08:17:08",59.977691650390625,0,null,0,0,null,null,null,-653,30367.720703125,null,1,0,1,-6.7138671875E-4,6.7138671875E-4," "]
["2011-05-16T08:17:10",59.97705078125,0,null,0,0,null,null,null,-653,30367.720703125,null,1,0,1,-6.40869140625E-4,6.40869140625E-4," "]
["2011-05-16T08:17:12",59.976409912109375,0,null,0,0,null,null,null,-653,30367.720703125,null,1,0,1,-6.40869140625E-4,6.40869140625E-4," "]
["2011-05-16T08:17:14",59.975433349609375,0,null,0,0,null,null,null,-653,30416.87109375,null,1,0,1,-9.765625E-4,9.765625E-4," "]
["2011-05-16T08:17:16",59.97381591796875,0,null,0,0,null,null,null,-653,30416.87109375,null,1,0,1,-1.617431640625E-3,1.617431640625E-3," "]
["2011-05-16T08:17:18",59.973175048828125,0,null,0,0,null,null,null,-653,30416.87109375,null,1,0,1,-6.40869140625E-4,6.40869140625E-4," "]
["2011-05-16T08:17:20",59.97222900390625,0,null,0,0,null,null,null,-653,30416.87109375,null,1,0,1,-9.46044921875E-4,9.46044921875E-4," "]
["2011-05-16T08:17:22",59.971893310546875,0,null,0,0,null,null,null,-653,30413.646484375,null,1,0,1,-3.35693359375E-4,3.35693359375E-4," "]
["2011-05-16T08:17:24",59.970916748046875,0,null,0,0,null,null,null,-653,30413.646484375,null,1,0,1,-9.765625E-4,9.765625E-4," "]
["2011-05-16T08:17:26",59.969940185546875,0,null,0,0,null,null,null,-653,30406.30078125,null,1,0,1,-9.765625E-4,9.765625E-4," "]
["2011-05-16T08:17:28",59.96832275390625,0,null,0,0,null,null,null,-653,30406.30078125,null,1,0,1,-1.617431640625E-3,1.617431640625E-3," "]
["2011-05-16T08:17:30",59.966064453125,0,null,0,0,null,null,null,-653,30406.30078125,null,1,0,1,-2.25830078125E-3,2.25830078125E-3," "]
["2011-05-16T08:17:32",59.965423583984375,0,null,0,0,null,null,null,-653,30406.30078125,null,1,0,1,-6.40869140625E-4,6.40869140625E-4," "]
["2011-05-16T08:17:34",59.966064453125,0,null,0,0,null,null,null,-653,30418.587890625,null,1,0,1,6.40869140625E-4,6.40869140625E-4," "]
["2011-05-16T08:17:36",59.96929931640625,0,null,0,0,null,null,null,-653,30418.587890625,null,1,0,1,3.23486328125E-3,3.23486328125E-3," "]
["2011-05-16T08:17:38",59.9725341796875,0,null,0,0,null,null,null,-653,30418.587890625,null,1,0,1,3.23486328125E-3,3.23486328125E-3," "]
["2011-05-16T08:17:40",59.9735107421875,0,null,0,0,null,null,null,-653,30418.587890625,null,1,0,1,9.765625E-4,9.765625E-4," "]
["2011-05-16T08:17:42",59.97381591796875,0,null,0,0,null,null,null,-653,30433.314453125,null,1,0,1,3.0517578125E-4,3.0517578125E-4," "]
["2011-05-16T08:17:44",59.9725341796875,0,null,0,0,null,null,null,-653,30433.314453125,null,1,0,1,-1.28173828125E-3,1.28173828125E-3," "]
["2011-05-16T08:17:46",59.9725341796875,0,null,0,0,null,null,null,-653,30433.314453125,null,1,{"$f":"IF((M1139=1)*(B1139>$N$2),1,0)","v":0},1,0,{"$f":"ABS(P1139)","v":0},{"$f":"IF(Q1139>(AVERAGE(Q1135:Q1138)+R$2),1,\" \")","v":" "}]
["2011-05-16T08:17:48",59.9725341796875,0,null,0,0,null,null,null,-653,30433.314453125,null,1,0,1,0,0," "]
["2011-05-16T08:17:50",59.967681884765625,0,null,0,0,null,null,null,-653,30433.314453125,null,1,0,1,-4.852294921875E-3,4.852294921875E-3," "]
["2011-05-16T08:17:52",59.97125244140625,0,null,0,0,null,null,null,-653,30433.314453125,null,1,0,1,3.570556640625E-3,3.570556640625E-3," "]
["2011-05-16T08:17:54",59.97576904296875,0,null,0,0,null,null,null,-653,30451.296875,null,1,0,1,4.5166015625E-3,4.5166015625E-3," "]
["2011-05-16T08:17:56",59.97576904296875,0,null,0,0,null,null,null,-653,30451.296875,null,1,0,1,0,0," "]
["2011-05-16T08:17:58",59.97576904296875,0,null,0,0,null,null,null,-653,30451.296875,null,1,0,1,0,0," "]
["2011-05-16T08:18:00",59.984161376953125,0,null,0,0,null,null,null,-653,30451.296875,null,1,0,1,8.392333984375E-3,8.392333984375E-3," "]
["2011-05-16T08:18:02",59.981903076171875,0,null,0,0,null,null,null,-653,30425.740234375,null,1,0,1,-2.25830078125E-3,2.25830078125E-3," "]
["2011-05-16T08:18:04",59.97900390625,0,null,0,0,null,null,null,-653,30425.740234375,null,1,0,1,-2.899169921875E-3,2.899169921875E-3," "]
["2011-05-16T08:18:06",59.977691650390625,0,null,0,0,null,null,null,-653,30419.18359375,null,1,0,1,-1.312255859375E-3,1.312255859375E-3," "]
["2011-05-16T08:18:08",59.977691650390625,0,null,0,0,null,null,null,-653,30419.18359375,null,1,0,1,0,0," "]
["2011-05-16T08:18:10",59.98126220703125,0,null,0,0,null,null,null,-653,30419.18359375,null,1,0,1,3.570556640625E-3,3.570556640625E-3," "]
["2011-05-16T08:18:12",59.98480224609375,0,null,0,0,null,null,null,-653,30419.18359375,null,1,0,1,3.5400390625E-3,3.5400390625E-3," "]
["2011-05-16T08:18:14",59.988677978515625,0,null,0,0,null,null,null,-653,30424.29296875,null,1,0,1,3.875732421875E-3,3.875732421875E-3," "]
["2011-05-16T08:18:16",59.991607666015625,0,null,0,0,null,null,null,-653,30424.29296875,null,1,0,1,2.9296875E-3,2.9296875E-3," "]
["2011-05-16T08:18:18",59.9935302734375,0,null,0,0,null,null,null,-653,30424.29296875,null,1,0,1,1.922607421875E-3,1.922607421875E-3," "]
["2011-05-16T08:18:20",59.99578857421875,0,null,0,0,null,null,null,-653,30424.29296875,null,1,0,1,2.25830078125E-3,2.25830078125E-3," "]
["2011-05-16T08:18:22",59.99676513671875,0,null,0,0,null,null,null,-653,30440.822265625,null,1,0,1,9.765625E-4,9.765625E-4," "]
["2011-05-16T08:18:24",59.99774169921875,0,null,0,0,null,null,null,-653,30440.822265625,null,1,0,1,9.765625E-4,9.765625E-4," "]
["2011-05-16T08:18:26",59.998382568359375,0,null,0,0,null,null,null,-653,30431.580078125,null,1,0,{"$f":"IF(ROW()<$M$3,0,1)","v":1},6.40869140625E-4,6.40869140625E-4," "]
["2011-05-16T08:18:28",59.99774169921875,0,null,0,0,null,null,null,-653,30431.580078125,null,{"$f":"IF(ROW()<$M$5,0,1)","v":1},0,1,{"$f":"B1160-B1159","v":-6.40869140625E-4},6.40869140625E-4," "]
["2011-05-16T08:18:30",59.997100830078125,0,null,0,0,null,null,null,-653,30431.580078125,null,1,0,1,-6.40869140625E-4,6.40869140625E-4," "]
["2011-05-16T08:18:32",59.997406005859375,0,null,0,0,null,null,null,-653,30431.580078125,null,1,0,1,3.0517578125E-4,3.0517578125E-4," "]
["2011-05-16T08:18:34",59.997406005859375,0,null,0,0,null,null,null,-653,30444.248046875,null,1,0,1,0,0," "]
["2011-05-16T08:18:36",59.997406005859375,0,null,0,0,null,null,null,-653,30444.248046875,null,1,0,1,0,0," "]
["2011-05-16T08:18:38",60.000640869140625,0,null,0,0,null,null,null,-653,30444.248046875,null,1,1,1,3.23486328125E-3,3.23486328125E-3," "]
["2011-05-16T08:18:40",60.00323486328125,0,null,0,0,null,null,null,-653,30444.248046875,null,1,1,1,2.593994140625E-3,2.593994140625E-3," "]
["2011-05-16T08:18:42",60.0035400390625,0,null,0,0,null,null,null,-653,30465.11328125,null,1,1,1,3.0517578125E-4,3.0517578125E-4," "]
["2011-05-16T08:18:44",60.002593994140625,0,null,0,0,null,null,null,-653,30465.11328125,null,1,1,1,-9.46044921875E-4,9.46044921875E-4," "]
["2011-05-16T08:18:46",60.0009765625,0,null,0,0,null,null,null,-653,30465.302734375,null,1,1,1,-1.617431640625E-3,1.617431640625E-3," "]
["2011-05-16T08:18:48",59.999359130859375,0,null,0,0,null,null,null,-653,30465.302734375,null,1,1,1,-1.617431640625E-3,1.617431640625E-3," "]
["2011-05-16T08:18:50",59.997406005859375,0,null,0,0,null,null,null,-653,30465.302734375,null,1,0,1,-1.953125E-3,1.953125E-3," "]
["2011-05-16T08:18:52",59.99676513671875,0,null,0,0,null,null,null,-653,30465.302734375,null,1,0,1,-6.40869140625E-4,6.40869140625E-4," "]
["2011-05-16T08:18:54",59.99676513671875,0,null,0,0,null,null,null,-653,30478.248046875,null,1,0,1,0,0," "]
["2011-05-16T08:18:56",59.997100830078125,0,null,0,0,null,null,null,-653,30478.248046875,null,1,0,1,3.35693359375E-4,3.35693359375E-4," "]
["2011-05-16T08:18:58",59.99774169921875,0,null,0,0,null,null,null,-653,30478.248046875,null,1,0,1,6.40869140625E-4,6.40869140625E-4," "]
["2011-05-16T08:19:00",59.99871826171875,0,null,0,0,null,null,null,-653,30478.248046875,null,1,1,1,9.765625E-4,9.765625E-4," "]
["2011-05-16T08:19:02",59.999664306640625,0,null,0,0,null,null,null,-653,30473.857421875,null,1,1,1,9.46044921875E-4,9.46044921875E-4," "]
["2011-05-16T08:19:04",60,0,null,0,0,null,null,null,-653,30473.857421875,null,1,1,1,3.35693359375E-4,3.35693359375E-4," "]
["2011-05-16T08:19:06",60.000335693359375,0,null,0,0,null,null,null,-653,30468.837890625,null,1,1,1,3.35693359375E-4,3.35693359375E-4," "]
["2011-05-16T08:19:08",60.0009765625,0,null,0,0,null,null,null,-653,30468.837890625,null,1,1,1,6.40869140625E-4,6.40869140625E-4," "]
["2011-05-16T08:19:10",60.00225830078125,0,null,0,0,null,null,null,-653,30468.837890625,null,1,1,1,1.28173828125E-3,1.28173828125E-3," "]
["2011-05-16T08:19:12",60.002899169921875,0,null,0,0,null,null,null,-653,30468.837890625,null,1,1,1,6.40869140625E-4,6.40869140625E-4," "]
["2011-05-16T08:19:14",60.002593994140625,0,null,0,0,null,null,null,-653,30469.626953125,null,1,1,1,-3.0517578125E-4,3.0517578125E-4," "]
["2011-05-16T08:19:16",60.00225830078125,0,null,0,0,null,null,null,-653,30469.626953125,null,1,1,1,-3.35693359375E-4,3.35693359375E-4," "]
["2011-05-16T08:19:18",60.00225830078125,0,null,0,0,null,null,null,-653,30469.626953125,null,1,1,1,0,0," "]
["2011-05-16T08:19:20",60.00323486328125,0,null,0,0,null,null,null,-653,30469.626953125,null,1,1,1,9.765625E-4,9.765625E-4," "]
["2011-05-16T08:19:22",60.00421142578125,0,null,0,0,null,null,null,-653,30488.4140625,null,1,1,1,9.765625E-4,9.765625E-4," "]
["2011-05-16T08:19:24",60.004852294921875,0,null,0,0,null,null,null,-653,30488.4140625,null,1,1,1,6.40869140625E-4,6.40869140625E-4," "]
["2011-05-16T08:19:26",60.0045166015625,0,null,0,0,null,null,null,-653,30480.2890625,null,1,1,1,-3.35693359375E-4,3.35693359375E-4," "]
["2011-05-16T08:19:28",60.0035400390625,0,null,0,0,null,null,null,-653,30480.2890625,null,1,1,1,-9.765625E-4,9.765625E-4," "]
["2011-05-16T08:19:30",60.0035400390625,0,null,0,0,null,null,null,-653,30480.2890625,null,1,1,1,0,0," "]
["2011-05-16T08:19:32",60.0035400390625,0,null,0,0,null,null,null,-653,30480.2890625,null,1,1,1,0,0," "]
["2011-05-16T08:19:34",60.0035400390625,0,null,0,0,null,null,null,-653,30477.1328125,null,1,1,1,0,0," "]
["2011-05-16T08:19:36",60.0035400390625,0,null,0,0,null,null,null,-653,30477.1328125,null,1,1,1,0,0," "]
["2011-05-16T08:19:38",60.0035400390625,0,null,0,0,null,null,null,-653,30477.1328125,null,1,1,1,0,0," "]
["2011-05-16T08:19:40",60.0035400390625,0,null,0,0,null,null,null,-653,30477.1328125,null,1,1,1,0,0," "]
["2011-05-16T08:19:42",60.006134033203125,0,null,0,0,null,null,null,-653,30487.8203125,null,1,1,1,2.593994140625E-3,2.593994140625E-3," "]
["2011-05-16T08:19:44",60.004852294921875,0,null,0,0,null,null,null,-653,30487.8203125,null,1,1,1,-1.28173828125E-3,1.28173828125E-3," "]
["2011-05-16T08:19:46",60.0045166015625,0,null,0,0,null,null,null,-653,30489.7265625,null,1,1,1,-3.35693359375E-4,3.35693359375E-4," "]
["2011-05-16T08:19:48",60.0045166015625,0,null,0,0,null,null,null,-653,30489.7265625,null,1,1,1,0,0," "]
["2011-05-16T08:19:50",60.0035400390625,0,null,0,0,null,null,null,-653,30489.7265625,null,1,1,1,-9.765625E-4,9.765625E-4," "]
["2011-05-16T08:19:52",60.002899169921875,0,null,0,0,null,null,null,-653,30489.7265625,null,1,1,1,-6.40869140625E-4,6.40869140625E-4," "]
["2011-05-16T08:19:54",60.001617431640625,0,null,0,0,null,null,null,-653,30480.091796875,null,1,{"$f":"IF((M1203=1)*(B1203>$N$2),1,0)","v":1},1,-1.28173828125E-3,{"$f":"ABS(P1203)","v":1.28173828125E-3},{"$f":"IF(Q1203>(AVERAGE(Q1199:Q1202)+R$2),1,\" \")","v":" "}]
["2011-05-16T08:19:56",60.001617431640625,0,null,0,0,null,null,null,-653,30480.091796875,null,1,1,1,0,0," "]
["2011-05-16T08:19:58",60.00421142578125,0,null,0,0,null,null,null,-653,30480.091796875,null,1,1,1,2.593994140625E-3,2.593994140625E-3," "]
["2011-05-16T08:20:00",60.00421142578125,0,null,0,0,null,null,null,-653,30480.091796875,null,1,1,1,0,0," "]
["2011-05-16T08:20:02",60.002899169921875,0,null,0,0,null,null,null,-653,30480.9140625,null,1,1,1,-1.312255859375E-3,1.312255859375E-3," "]
["2011-05-16T08:20:04",60.000335693359375,0,null,0,0,null,null,null,-653,30480.9140625,null,1,1,1,-2.5634765625E-3,2.5634765625E-3," "]
["2011-05-16T08:20:06",59.998046875,0,null,0,0,null,null,null,-653,30480.8359375,null,1,0,1,-2.288818359375E-3,2.288818359375E-3," "]
["2011-05-16T08:20:08",59.9964599609375,0,null,0,0,null,null,null,-653,30480.8359375,null,1,0,1,-1.5869140625E-3,1.5869140625E-3," "]
["2011-05-16T08:20:10",59.995147705078125,0,null,0,0,null,null,null,-653,30480.8359375,null,1,0,1,-1.312255859375E-3,1.312255859375E-3," "]
["2011-05-16T08:20:12",59.993865966796875,0,null,0,0,null,null,null,-653,30480.8359375,null,1,0,1,-1.28173828125E-3,1.28173828125E-3," "]
["2011-05-16T08:20:14",59.992889404296875,0,null,0,0,null,null,null,-653,30476.091796875,null,1,0,1,-9.765625E-4,9.765625E-4," "]
["2011-05-16T08:20:16",59.9925537109375,0,null,0,0,null,null,null,-653,30476.091796875,null,1,0,1,-3.35693359375E-4,3.35693359375E-4," "]
["2011-05-16T08:20:18",59.99224853515625,0,null,0,0,null,null,null,-653,30476.091796875,null,1,0,1,-3.0517578125E-4,3.0517578125E-4," "]
["2011-05-16T08:20:20",59.989654541015625,0,null,0,0,null,null,null,-653,30476.091796875,null,1,0,1,-2.593994140625E-3,2.593994140625E-3," "]
["2011-05-16T08:20:22",59.985137939453125,0,null,0,0,null,null,null,-653,30456.755859375,null,1,0,1,-4.5166015625E-3,4.5166015625E-3," "]
["2011-05-16T08:20:24",59.9825439453125,0,null,0,0,null,null,null,-653,30456.755859375,null,1,0,1,-2.593994140625E-3,2.593994140625E-3," "]
["2011-05-16T08:20:26",59.978363037109375,0,null,0,0,null,null,null,-653,30457.115234375,null,1,0,1,-4.180908203125E-3,4.180908203125E-3," "]
["2011-05-16T08:20:28",59.976409912109375,0,null,0,0,null,null,null,-653,30457.115234375,null,1,0,1,-1.953125E-3,1.953125E-3," "]
["2011-05-16T08:20:30",59.97705078125,0,null,0,0,null,null,null,-653,30457.115234375,null,1,0,1,6.40869140625E-4,6.40869140625E-4," "]
["2011-05-16T08:20:32",59.97705078125,0,null,0,0,null,null,null,-653,30457.115234375,null,1,0,1,0,0," "]
["2011-05-16T08:20:34",59.97705078125,0,null,0,0,null,null,null,-653,30446.978515625,null,1,0,{"$f":"IF(ROW()<$M$3,0,1)","v":1},0,0," "]
["2011-05-16T08:20:36",59.97802734375,0,null,0,0,null,null,null,-653,30446.978515625,null,{"$f":"IF(ROW()<$M$5,0,1)","v":1},0,1,{"$f":"B1224-B1223","v":9.765625E-4},9.765625E-4," "]
["2011-05-16T08:20:38",59.979644775390625,0,null,0,0,null,null,null,-653,30446.978515625,null,1,0,1,1.617431640625E-3,1.617431640625E-3," "]
["2011-05-16T08:20:40",59.981597900390625,0,null,0,0,null,null,null,-653,30446.978515625,null,1,0,1,1.953125E-3,1.953125E-3," "]
["2011-05-16T08:20:42",59.98126220703125,0,null,0,0,null,null,null,-653,30461.01953125,null,1,0,1,-3.35693359375E-4,3.35693359375E-4," "]
["2011-05-16T08:20:44",59.97930908203125,0,null,0,0,null,null,null,-653,30461.01953125,null,1,0,1,-1.953125E-3,1.953125E-3," "]
["2011-05-16T08:20:46",59.976104736328125,0,null,0,0,null,null,null,-653,30460.943359375,null,1,0,1,-3.204345703125E-3,3.204345703125E-3," "]
["2011-05-16T08:20:48",59.975433349609375,0,null,0,0,null,null,null,-653,30460.943359375,null,1,0,1,-6.7138671875E-4,6.7138671875E-4," "]
["2011-05-16T08:20:50",59.97576904296875,0,null,0,0,null,null,null,-653,30460.943359375,null,1,0,1,3.35693359375E-4,3.35693359375E-4," "]
["2011-05-16T08:20:52",59.97674560546875,0,null,0,0,null,null,null,-653,30460.943359375,null,1,0,1,9.765625E-4,9.765625E-4," "]
["2011-05-16T08:20:54",59.97802734375,0,null,0,0,null,null,null,-653,30469.23046875,null,1,0,1,1.28173828125E-3,1.28173828125E-3," "]
["2011-05-16T08:20:56",59.97900390625,0,null,0,0,null,null,null,-653,30469.23046875,null,1,0,1,9.765625E-4,9.765625E-4," "]
["2011-05-16T08:20:58",59.979644775390625,0,null,0,0,null,null,null,-653,30469.23046875,null,1,0,1,6.40869140625E-4,6.40869140625E-4," "]
["2011-05-16T08:21:00",59.980621337890625,0,null,0,0,null,null,null,-653,30469.23046875,null,1,0,1,9.765625E-4,9.765625E-4," "]
["2011-05-16T08:21:02",59.981903076171875,0,null,0,0,null,null,null,-653,30481.486328125,null,1,0,1,1.28173828125E-3,1.28173828125E-3," "]
["2011-05-16T08:21:04",59.98223876953125,0,null,0,0,null,null,null,-653,30481.486328125,null,1,0,1,3.35693359375E-4,3.35693359375E-4," "]
["2011-05-16T08:21:06",59.9825439453125,0,null,0,0,null,null,null,-653,30480.28515625,null,1,0,1,3.0517578125E-4,3.0517578125E-4," "]
["2011-05-16T08:21:08",59.982879638671875,0,null,0,0,null,null,null,-653,30480.28515625,null,1,0,1,3.35693359375E-4,3.35693359375E-4," "]
["2011-05-16T08:21:10",59.9825439453125,0,null,0,0,null,null,null,-653,30480.28515625,null,1,0,1,-3.35693359375E-4,3.35693359375E-4," "]
["2011-05-16T08:21:12",59.9825439453125,0,null,0,0,null,null,null,-653,30480.28515625,null,1,0,1,0,0," "]
["2011-05-16T08:21:14",59.982879638671875,0,null,0,0,null,null,null,-653,30473.146484375,null,1,0,1,3.35693359375E-4,3.35693359375E-4," "]
["2011-05-16T08:21:16",59.986114501953125,0,null,0,0,null,null,null,-653,30473.146484375,null,1,0,1,3.23486328125E-3,3.23486328125E-3," "]
["2011-05-16T08:21:18",59.993865966796875,0,null,0,0,null,null,null,-653,30473.146484375,null,1,0,1,7.75146484375E-3,7.75146484375E-3," "]
["2011-05-16T08:21:20",60.00225830078125,0,null,0,0,null,null,null,-653,30473.146484375,null,1,1,1,8.392333984375E-3,8.392333984375E-3," "]
["2011-05-16T08:21:22",60.010986328125,0,null,0,0,null,null,null,-653,30470.658203125,null,1,1,1,8.72802734375E-3,8.72802734375E-3," "]
["2011-05-16T08:21:24",60.017120361328125,0,null,0,0,null,null,null,-653,30470.658203125,null,1,1,1,6.134033203125E-3,6.134033203125E-3," "]
["2011-05-16T08:21:26",60.02069091796875,0,null,0,0,null,null,null,-653,30470.599609375,null,1,1,1,3.570556640625E-3,3.570556640625E-3," "]
["2011-05-16T08:21:28",60.021331787109375,0,null,0,0,null,null,null,-653,30470.599609375,null,1,1,1,6.40869140625E-4,6.40869140625E-4," "]
["2011-05-16T08:21:30",60.021331787109375,0,null,0,0,null,null,null,-653,30470.599609375,null,1,1,1,0,0," "]
["2011-05-16T08:21:32",60.021331787109375,0,null,0,0,null,null,null,-653,30470.599609375,null,1,1,1,0,0," "]
["2011-05-16T08:21:34",60.02325439453125,0,null,0,0,null,null,null,-653,30461.279296875,null,1,1,1,1.922607421875E-3,1.922607421875E-3," "]
["2011-05-16T08:21:36",60.0255126953125,0,null,0,0,null,null,null,-653,30461.279296875,null,1,1,1,2.25830078125E-3,2.25830078125E-3," "]
["2011-05-16T08:21:38",60.026824951171875,0,null,0,0,null,null,null,-653,30461.279296875,null,1,1,1,1.312255859375E-3,1.312255859375E-3," "]
["2011-05-16T08:21:40",60.0284423828125,0,null,0,0,null,null,null,-653,30461.279296875,null,1,1,1,1.617431640625E-3,1.617431640625E-3," "]
["2011-05-16T08:21:42",60.02972412109375,0,null,0,0,null,null,null,-653,30450.435546875,null,1,1,1,1.28173828125E-3,1.28173828125E-3," "]
["2011-05-16T08:21:44",60.031005859375,0,null,0,0,null,null,null,-653,30450.435546875,null,1,1,1,1.28173828125E-3,1.28173828125E-3," "]
["2011-05-16T08:21:46",60.031982421875,0,null,0,0,null,null,null,-653,30451.90625,null,1,1,1,9.765625E-4,9.765625E-4," "]
["2011-05-16T08:21:48",60.032958984375,0,null,0,0,null,null,null,-653,30451.90625,null,1,1,1,9.765625E-4,9.765625E-4," "]
["2011-05-16T08:21:50",60.034576416015625,0,null,0,0,null,null,null,-653,30451.90625,null,1,1,1,1.617431640625E-3,1.617431640625E-3," "]
["2011-05-16T08:21:52",60.034881591796875,0,null,0,0,null,null,null,-653,30451.90625,null,1,1,1,3.0517578125E-4,3.0517578125E-4," "]
["2011-05-16T08:21:54",60.034881591796875,0,null,0,0,null,null,null,-653,30446.517578125,null,1,1,1,0,0," "]
["2011-05-16T08:21:56",60.03424072265625,0,null,0,0,null,null,null,-653,30446.517578125,null,1,1,1,-6.40869140625E-4,6.40869140625E-4," "]
["2011-05-16T08:21:58",60.034576416015625,0,null,0,0,null,null,null,-653,30446.517578125,null,1,1,1,3.35693359375E-4,3.35693359375E-4," "]
["2011-05-16T08:22:00",60.034576416015625,0,null,0,0,null,null,null,-653,30446.517578125,null,1,1,1,0,0," "]
["2011-05-16T08:22:02",60.035552978515625,0,null,0,0,null,null,null,-653,30452.4296875,null,1,{"$f":"IF((M1267=1)*(B1267>$N$2),1,0)","v":1},1,9.765625E-4,{"$f":"ABS(P1267)","v":9.765625E-4},{"$f":"IF(Q1267>(AVERAGE(Q1263:Q1266)+R$2),1,\" \")","v":" "}]
["2011-05-16T08:22:04",60.035858154296875,0,null,0,0,null,null,null,-653,30452.4296875,null,1,1,1,3.0517578125E-4,3.0517578125E-4," "]
["2011-05-16T08:22:06",60.036834716796875,0,null,0,0,null,null,null,-653,30452.4296875,null,1,1,1,9.765625E-4,9.765625E-4," "]
["2011-05-16T08:22:08",60.0374755859375,0,null,0,0,null,null,null,-653,30452.4296875,null,1,1,1,6.40869140625E-4,6.40869140625E-4," "]
["2011-05-16T08:22:10",60.0374755859375,0,null,0,0,null,null,null,-653,30452.4296875,null,1,1,1,0,0," "]
["2011-05-16T08:22:12",60.03717041015625,0,null,0,0,null,null,null,-653,30452.4296875,null,1,1,1,-3.0517578125E-4,3.0517578125E-4," "]
["2011-05-16T08:22:14",60.037811279296875,0,null,0,0,null,null,null,-653,30473.208984375,null,1,1,1,6.40869140625E-4,6.40869140625E-4," "]
["2011-05-16T08:22:16",60.037811279296875,0,null,0,0,null,null,null,-653,30473.208984375,null,1,1,1,0,0," "]
["2011-05-16T08:22:18",60.0374755859375,0,null,0,0,null,null,null,-653,30473.208984375,null,1,1,1,-3.35693359375E-4,3.35693359375E-4," "]
["2011-05-16T08:22:20",60.0364990234375,0,null,0,0,null,null,null,-653,30473.208984375,null,1,1,1,-9.765625E-4,9.765625E-4," "]
["2011-05-16T08:22:22",60.036834716796875,0,null,0,0,null,null,null,-653,30476.607421875,null,1,1,1,3.35693359375E-4,3.35693359375E-4," "]
["2011-05-16T08:22:24",60.0374755859375,0,null,0,0,null,null,null,-653,30476.607421875,null,1,1,1,6.40869140625E-4,6.40869140625E-4," "]
["2011-05-16T08:22:26",60.0374755859375,0,null,0,0,null,null,null,-653,30476.548828125,null,1,1,1,0,0," "]
["2011-05-16T08:22:28",60.038116455078125,0,null,0,0,null,null,null,-653,30476.548828125,null,1,1,1,6.40869140625E-4,6.40869140625E-4," "]
["2011-05-16T08:22:30",60.03875732421875,0,null,0,0,null,null,null,-653,30476.548828125,null,1,1,1,6.40869140625E-4,6.40869140625E-4," "]
["2011-05-16T08:22:32",60.040069580078125,0,null,0,0,null,null,null,-653,30476.548828125,null,1,1,1,1.312255859375E-3,1.312255859375E-3," "]
["2011-05-16T08:22:34",60.04168701171875,0,null,0,0,null,null,null,-653,30473.8046875,null,1,1,1,1.617431640625E-3,1.617431640625E-3," "]
["2011-05-16T08:22:36",60.043609619140625,0,null,0,0,null,null,null,-653,30473.8046875,null,1,1,1,1.922607421875E-3,1.922607421875E-3," "]
["2011-05-16T08:22:38",60.04522705078125,0,null,0,0,null,null,null,-653,30473.8046875,null,1,1,1,1.617431640625E-3,1.617431640625E-3," "]
["2011-05-16T08:22:40",60.044921875,0,null,0,0,null,null,null,-653,30473.8046875,null,1,1,1,-3.0517578125E-4,3.0517578125E-4," "]
["2011-05-16T08:22:42",60.044586181640625,0,null,0,0,null,null,null,-653,30470.99609375,null,1,1,{"$f":"IF(ROW()<$M$3,0,1)","v":1},-3.35693359375E-4,3.35693359375E-4," "]
["2011-05-16T08:22:44",60.0439453125,0,null,0,0,null,null,null,-653,30470.99609375,null,{"$f":"IF(ROW()<$M$5,0,1)","v":1},1,1,{"$f":"B1288-B1287","v":-6.40869140625E-4},6.40869140625E-4," "]
["2011-05-16T08:22:46",60.0419921875,0,null,0,0,null,null,null,-653,30471.966796875,null,1,1,1,-1.953125E-3,1.953125E-3," "]
["2011-05-16T08:22:48",60.03717041015625,0,null,0,0,null,null,null,-653,30471.966796875,null,1,1,1,-4.82177734375E-3,4.82177734375E-3," "]
["2011-05-16T08:22:50",60.032958984375,0,null,0,0,null,null,null,-653,30471.966796875,null,1,1,1,-4.21142578125E-3,4.21142578125E-3," "]
["2011-05-16T08:22:52",60.031005859375,0,null,0,0,null,null,null,-653,30471.966796875,null,1,1,1,-1.953125E-3,1.953125E-3," "]
["2011-05-16T08:22:54",60.031341552734375,0,null,0,0,null,null,null,-653,30485.470703125,null,1,1,1,3.35693359375E-4,3.35693359375E-4," "]
["2011-05-16T08:22:56",60.03167724609375,0,null,0,0,null,null,null,-653,30485.470703125,null,1,1,1,3.35693359375E-4,3.35693359375E-4," "]
["2011-05-16T08:22:58",60.031005859375,0,null,0,0,null,null,null,-653,30485.470703125,null,1,1,1,-6.7138671875E-4,6.7138671875E-4," "]
["2011-05-16T08:23:00",60.031005859375,0,null,0,0,null,null,null,-653,30485.470703125,null,1,1,1,0,0," "]
["2011-05-16T08:23:02",60.032318115234375,0,null,0,0,null,null,null,-653,30505.490234375,null,1,1,1,1.312255859375E-3,1.312255859375E-3," "]
["2011-05-16T08:23:04",60.03326416015625,0,null,0,0,null,null,null,-653,30505.490234375,null,1,1,1,9.46044921875E-4,9.46044921875E-4," "]
["2011-05-16T08:23:06",60.03326416015625,0,null,0,0,null,null,null,-653,30505.26171875,null,1,1,1,0,0," "]
["2011-05-16T08:23:08",60.033935546875,0,null,0,0,null,null,null,-653,30505.26171875,null,1,1,1,6.7138671875E-4,6.7138671875E-4," "]
["2011-05-16T08:23:10",60.032958984375,0,null,0,0,null,null,null,-653,30505.26171875,null,1,1,1,-9.765625E-4,9.765625E-4," "]
["2011-05-16T08:23:12",60.032318115234375,0,null,0,0,null,null,null,-653,30505.26171875,null,1,1,1,-6.40869140625E-4,6.40869140625E-4," "]
["2011-05-16T08:23:14",60.03167724609375,0,null,0,0,null,null,null,-653,30515.595703125,null,1,1,1,-6.40869140625E-4,6.40869140625E-4," "]
["2011-05-16T08:23:16",60.03167724609375,0,null,0,0,null,null,null,-653,30515.595703125,null,1,1,1,0,0," "]
["2011-05-16T08:23:18",60.032318115234375,0,null,0,0,null,null,null,-653,30515.595703125,null,1,1,1,6.40869140625E-4,6.40869140625E-4," "]
["2011-05-16T08:23:20",60.032318115234375,0,null,0,0,null,null,null,-653,30515.595703125,null,1,1,1,0,0," "]
["2011-05-16T08:23:22",60.03167724609375,0,null,0,0,null,null,null,-653,30505.27734375,null,1,1,1,-6.40869140625E-4,6.40869140625E-4," "]
["2011-05-16T08:23:24",60.03167724609375,0,null,0,0,null,null,null,-653,30505.27734375,null,1,1,1,0,0," "]
["2011-05-16T08:23:26",60.031341552734375,0,null,0,0,null,null,null,-653,30506.115234375,null,1,1,1,-3.35693359375E-4,3.35693359375E-4," "]
["2011-05-16T08:23:28",60.031005859375,0,null,0,0,null,null,null,-653,30506.115234375,null,1,1,1,-3.35693359375E-4,3.35693359375E-4," "]
["2011-05-16T08:23:30",60.030364990234375,0,null,0,0,null,null,null,-653,30506.115234375,null,1,1,1,-6.40869140625E-4,6.40869140625E-4," "]
["2011-05-16T08:23:32",60.030364990234375,0,null,0,0,null,null,null,-653,30506.115234375,null,1,1,1,0,0," "]
["2011-05-16T08:23:34",60.02972412109375,0,null,0,0,null,null,null,-653,30493.6796875,null,1,1,1,-6.40869140625E-4,6.40869140625E-4," "]
["2011-05-16T08:23:36",60.02874755859375,0,null,0,0,null,null,null,-653,30493.6796875,null,1,1,1,-9.765625E-4,9.765625E-4," "]
["2011-05-16T08:23:38",60.030059814453125,0,null,0,0,null,null,null,-653,30493.6796875,null,1,1,1,1.312255859375E-3,1.312255859375E-3," "]
["2011-05-16T08:23:40",60.031982421875,0,null,0,0,null,null,null,-653,30493.6796875,null,1,1,1,1.922607421875E-3,1.922607421875E-3," "]
["2011-05-16T08:23:42",60.03326416015625,0,null,0,0,null,null,null,-653,30529.283203125,null,1,1,1,1.28173828125E-3,1.28173828125E-3," "]
["2011-05-16T08:23:44",60.034576416015625,0,null,0,0,null,null,null,-653,30529.283203125,null,1,1,1,1.312255859375E-3,1.312255859375E-3," "]
["2011-05-16T08:23:46",60.034881591796875,0,null,0,0,null,null,null,-653,30529.083984375,null,1,1,1,3.0517578125E-4,3.0517578125E-4," "]
["2011-05-16T08:23:48",60.033599853515625,0,null,0,0,null,null,null,-653,30529.083984375,null,1,1,1,-1.28173828125E-3,1.28173828125E-3," "]
["2011-05-16T08:23:50",60.03326416015625,0,null,0,0,null,null,null,-653,30529.083984375,null,1,1,1,-3.35693359375E-4,3.35693359375E-4," "]
["2011-05-16T08:23:52",60.032318115234375,0,null,0,0,null,null,null,-653,30529.083984375,null,1,1,1,-9.46044921875E-4,9.46044921875E-4," "]
["2011-05-16T08:23:54",60.031341552734375,0,null,0,0,null,null,null,-653,30529.521484375,null,1,1,1,-9.765625E-4,9.765625E-4," "]
["2011-05-16T08:23:56",60.03167724609375,0,null,0,0,null,null,null,-653,30529.521484375,null,1,1,1,3.35693359375E-4,3.35693359375E-4," "]
["2011-05-16T08:23:58",60.03326416015625,0,null,0,0,null,null,null,-653,30529.521484375,null,1,1,1,1.5869140625E-3,1.5869140625E-3," "]
["2011-05-16T08:24:00",60.034576416015625,0,null,0,0,null,null,null,-653,30529.521484375,null,1,1,1,1.312255859375E-3,1.312255859375E-3," "]
["2011-05-16T08:24:02",60.035858154296875,0,null,0,0,null,null,null,-653,30535.572265625,null,1,1,1,1.28173828125E-3,1.28173828125E-3," "]
["2011-05-16T08:24:04",60.0364990234375,0,null,0,0,null,null,null,-653,30535.572265625,null,1,1,1,6.40869140625E-4,6.40869140625E-4," "]
["2011-05-16T08:24:06",60.0374755859375,0,null,0,0,null,null,null,-653,30533.888671875,null,1,1,1,9.765625E-4,9.765625E-4," "]
["2011-05-16T08:24:08",60.036834716796875,0,null,0,0,null,null,null,-653,30533.888671875,null,1,1,1,-6.40869140625E-4,6.40869140625E-4," "]
["2011-05-16T08:24:10",60.03619384765625,0,null,0,0,null,null,null,-653,30533.888671875,null,1,{"$f":"IF((M1331=1)*(B1331>$N$2),1,0)","v":1},1,-6.40869140625E-4,{"$f":"ABS(P1331)","v":6.40869140625E-4},{"$f":"IF(Q1331>(AVERAGE(Q1327:Q1330)+R$2),1,\" \")","v":" "}]
["2011-05-16T08:24:12",60.03521728515625,0,null,0,0,null,null,null,-653,30533.888671875,null,1,1,1,-9.765625E-4,9.765625E-4," "]
["2011-05-16T08:24:14",60.03424072265625,0,null,0,0,null,null,null,-653,30521.8203125,null,1,1,1,-9.765625E-4,9.765625E-4," "]
["2011-05-16T08:24:16",60.032958984375,0,null,0,0,null,null,null,-653,30521.8203125,null,1,1,1,-1.28173828125E-3,1.28173828125E-3," "]
["2011-05-16T08:24:18",60.031982421875,0,null,0,0,null,null,null,-653,30521.8203125,null,1,1,1,-9.765625E-4,9.765625E-4," "]
["2011-05-16T08:24:20",60.031341552734375,0,null,0,0,null,null,null,-653,30521.8203125,null,1,1,1,-6.40869140625E-4,6.40869140625E-4," "]
["2011-05-16T08:24:22",60.03167724609375,0,null,0,0,null,null,null,-653,30533.64453125,null,1,1,1,3.35693359375E-4,3.35693359375E-4," "]
["2011-05-16T08:24:24",60.031341552734375,0,null,0,0,null,null,null,-653,30533.64453125,null,1,1,1,-3.35693359375E-4,3.35693359375E-4," "]
["2011-05-16T08:24:26",60.031005859375,0,null,0,0,null,null,null,-653,30532.322265625,null,1,1,1,-3.35693359375E-4,3.35693359375E-4," "]
["2011-05-16T08:24:28",60.030364990234375,0,null,0,0,null,null,null,-653,30532.322265625,null,1,1,1,-6.40869140625E-4,6.40869140625E-4," "]
["2011-05-16T08:24:30",60.02972412109375,0,null,0,0,null,null,null,-653,30532.322265625,null,1,1,1,-6.40869140625E-4,6.40869140625E-4," "]
["2011-05-16T08:24:32",60.030059814453125,0,null,0,0,null,null,null,-653,30532.322265625,null,1,1,1,3.35693359375E-4,3.35693359375E-4," "]
["2011-05-16T08:24:34",60.03070068359375,0,null,0,0,null,null,null,-653,30551.197265625,null,1,1,1,6.40869140625E-4,6.40869140625E-4," "]
["2011-05-16T08:24:36",60.03167724609375,0,null,0,0,null,null,null,-653,30551.197265625,null,1,1,1,9.765625E-4,9.765625E-4," "]
["2011-05-16T08:24:38",60.033599853515625,0,null,0,0,null,null,null,-653,30551.197265625,null,1,1,1,1.922607421875E-3,1.922607421875E-3," "]
["2011-05-16T08:24:40",60.034881591796875,0,null,0,0,null,null,null,-653,30551.197265625,null,1,1,1,1.28173828125E-3,1.28173828125E-3," "]
["2011-05-16T08:24:42",60.03521728515625,0,null,0,0,null,null,null,-653,30548.05859375,null,1,1,1,3.35693359375E-4,3.35693359375E-4," "]
["2011-05-16T08:24:44",60.035858154296875,0,null,0,0,null,null,null,-653,30548.05859375,null,1,1,1,6.40869140625E-4,6.40869140625E-4," "]
["2011-05-16T08:24:46",60.03717041015625,0,null,0,0,null,null,null,-653,30543.693359375,null,1,1,1,1.312255859375E-3,1.312255859375E-3," "]
["2011-05-16T08:24:48",60.038116455078125,0,null,0,0,null,null,null,-653,30543.693359375,null,1,1,1,9.46044921875E-4,9.46044921875E-4," "]
["2011-05-16T08:24:50",60.03717041015625,0,null,0,0,null,null,null,-653,30543.693359375,null,1,1,{"$f":"IF(ROW()<$M$3,0,1)","v":1},-9.46044921875E-4,9.46044921875E-4," "]
["2011-05-16T08:24:52",60.0374755859375,0,null,0,0,null,null,null,-653,30543.693359375,null,{"$f":"IF(ROW()<$M$5,0,1)","v":1},1,1,{"$f":"B1352-B1351","v":3.0517578125E-4},3.0517578125E-4," "]
["2011-05-16T08:24:54",60.0384521484375,0,null,0,0,null,null,null,-653,30546.31640625,null,1,1,1,9.765625E-4,9.765625E-4," "]
["2011-05-16T08:24:56",60.03875732421875,0,null,0,0,null,null,null,-653,30546.31640625,null,1,1,1,3.0517578125E-4,3.0517578125E-4," "]
["2011-05-16T08:24:58",60.037811279296875,0,null,0,0,null,null,null,-653,30546.31640625,null,1,1,1,-9.46044921875E-4,9.46044921875E-4," "]
["2011-05-16T08:25:00",60.03619384765625,0,null,0,0,null,null,null,-653,30546.31640625,null,1,1,1,-1.617431640625E-3,1.617431640625E-3," "]
["2011-05-16T08:25:02",60.034881591796875,0,null,0,0,null,null,null,-653,30546.27734375,null,1,1,1,-1.312255859375E-3,1.312255859375E-3," "]
["2011-05-16T08:25:04",60.033935546875,0,null,0,0,null,null,null,-653,30546.27734375,null,1,1,1,-9.46044921875E-4,9.46044921875E-4," "]
["2011-05-16T08:25:06",60.033599853515625,0,null,0,0,null,null,null,-653,30546.376953125,null,1,1,1,-3.35693359375E-4,3.35693359375E-4," "]
["2011-05-16T08:25:08",60.033599853515625,0,null,0,0,null,null,null,-653,30546.376953125,null,1,1,1,0,0," "]
["2011-05-16T08:25:10",60.034576416015625,0,null,0,0,null,null,null,-653,30546.376953125,null,1,1,1,9.765625E-4,9.765625E-4," "]
["2011-05-16T08:25:12",60.0364990234375,0,null,0,0,null,null,null,-653,30546.376953125,null,1,1,1,1.922607421875E-3,1.922607421875E-3," "]
["2011-05-16T08:25:14",60.0374755859375,0,null,0,0,null,null,null,-653,30556.841796875,null,1,1,1,9.765625E-4,9.765625E-4," "]
["2011-05-16T08:25:16",60.037811279296875,0,null,0,0,null,null,null,-653,30556.841796875,null,1,1,1,3.35693359375E-4,3.35693359375E-4," "]
["2011-05-16T08:25:18",60.0374755859375,0,null,0,0,null,null,null,-653,30556.841796875,null,1,1,1,-3.35693359375E-4,3.35693359375E-4," "]
["2011-05-16T08:25:20",60.0364990234375,0,null,0,0,null,null,null,-653,30556.841796875,null,1,1,1,-9.765625E-4,9.765625E-4," "]
["2011-05-16T08:25:22",60.034881591796875,0,null,0,0,null,null,null,-653,30557.421875,null,1,1,1,-1.617431640625E-3,1.617431640625E-3," "]
["2011-05-16T08:25:24",60.033599853515625,0,null,0,0,null,null,null,-653,30557.421875,null,1,1,1,-1.28173828125E-3,1.28173828125E-3," "]
["2011-05-16T08:25:26",60.032318115234375,0,null,0,0,null,null,null,-653,30557.431640625,null,1,1,1,-1.28173828125E-3,1.28173828125E-3," "]
["2011-05-16T08:25:28",60.031341552734375,0,null,0,0,null,null,null,-653,30557.431640625,null,1,1,1,-9.765625E-4,9.765625E-4," "]
["2011-05-16T08:25:30",60.031005859375,0,null,0,0,null,null,null,-653,30557.431640625,null,1,1,1,-3.35693359375E-4,3.35693359375E-4," "]
["2011-05-16T08:25:32",60.031005859375,0,null,0,0,null,null,null,-653,30557.431640625,null,1,1,1,0,0," "]
["2011-05-16T08:25:34",60.03070068359375,0,null,0,0,null,null,null,-653,30566.39453125,null,1,1,1,-3.0517578125E-4,3.0517578125E-4," "]
["2011-05-16T08:25:36",60.02972412109375,0,null,0,0,null,null,null,-653,30566.39453125,null,1,1,1,-9.765625E-4,9.765625E-4," "]
["2011-05-16T08:25:38",60.029083251953125,0,null,0,0,null,null,null,-653,30566.39453125,null,1,1,1,-6.40869140625E-4,6.40869140625E-4," "]
["2011-05-16T08:25:40",60.028106689453125,0,null,0,0,null,null,null,-653,30566.39453125,null,1,1,1,-9.765625E-4,9.765625E-4," "]
["2011-05-16T08:25:42",60.0264892578125,0,null,0,0,null,null,null,-653,30567.255859375,null,1,1,1,-1.617431640625E-3,1.617431640625E-3," "]
["2011-05-16T08:25:44",60.02520751953125,0,null,0,0,null,null,null,-653,30567.255859375,null,1,1,1,-1.28173828125E-3,1.28173828125E-3," "]
["2011-05-16T08:25:46",60.023590087890625,0,null,0,0,null,null,null,-653,30562.4296875,null,1,1,1,-1.617431640625E-3,1.617431640625E-3," "]
["2011-05-16T08:25:48",60.021331787109375,0,null,0,0,null,null,null,-653,30562.4296875,null,1,1,1,-2.25830078125E-3,2.25830078125E-3," "]
["2011-05-16T08:25:50",60.02001953125,0,null,0,0,null,null,null,-653,30562.4296875,null,1,1,1,-1.312255859375E-3,1.312255859375E-3," "]
["2011-05-16T08:25:52",60.02001953125,0,null,0,0,null,null,null,-653,30562.4296875,null,1,1,1,0,0," "]
["2011-05-16T08:25:54",60.02069091796875,0,null,0,0,null,null,null,-653,30573.3203125,null,1,1,1,6.7138671875E-4,6.7138671875E-4," "]
["2011-05-16T08:25:56",60.021331787109375,0,null,0,0,null,null,null,-653,30573.3203125,null,1,1,1,6.40869140625E-4,6.40869140625E-4," "]
["2011-05-16T08:25:58",60.02099609375,0,null,0,0,null,null,null,-653,30573.3203125,null,1,1,1,-3.35693359375E-4,3.35693359375E-4," "]
["2011-05-16T08:26:00",60.020355224609375,0,null,0,0,null,null,null,-653,30573.3203125,null,1,1,1,-6.40869140625E-4,6.40869140625E-4," "]
["2011-05-16T08:26:02",60.019378662109375,0,null,0,0,null,null,null,-653,30566.998046875,null,1,1,1,-9.765625E-4,9.765625E-4," "]
["2011-05-16T08:26:04",60.019378662109375,0,null,0,0,null,null,null,-653,30566.998046875,null,1,1,1,0,0," "]
["2011-05-16T08:26:06",60.019378662109375,0,null,0,0,null,null,null,-653,30567.0390625,null,1,1,1,0,0," "]
["2011-05-16T08:26:08",60.01971435546875,0,null,0,0,null,null,null,-653,30567.0390625,null,1,1,1,3.35693359375E-4,3.35693359375E-4," "]
["2011-05-16T08:26:10",60.01971435546875,0,null,0,0,null,null,null,-653,30567.0390625,null,1,1,1,0,0," "]
["2011-05-16T08:26:12",60.019073486328125,0,null,0,0,null,null,null,-653,30567.0390625,null,1,1,1,-6.40869140625E-4,6.40869140625E-4," "]
["2011-05-16T08:26:14",60.019378662109375,0,null,0,0,null,null,null,-653,30556.490234375,null,1,1,1,3.0517578125E-4,3.0517578125E-4," "]
["2011-05-16T08:26:16",60.020355224609375,0,null,0,0,null,null,null,-653,30556.490234375,null,1,1,1,9.765625E-4,9.765625E-4," "]
["2011-05-16T08:26:18",60.020355224609375,0,null,0,0,null,null,null,-653,30556.490234375,null,1,{"$f":"IF((M1395=1)*(B1395>$N$2),1,0)","v":1},1,0,{"$f":"ABS(P1395)","v":0},{"$f":"IF(Q1395>(AVERAGE(Q1391:Q1394)+R$2),1,\" \")","v":" "}]
["2011-05-16T08:26:20",60.019073486328125,0,null,0,0,null,null,null,-653,30556.490234375,null,1,1,1,-1.28173828125E-3,1.28173828125E-3," "]
["2011-05-16T08:26:22",60.017120361328125,0,null,0,0,null,null,null,-653,30530.1875,null,1,1,1,-1.953125E-3,1.953125E-3," "]
["2011-05-16T08:26:24",60.015838623046875,0,null,0,0,null,null,null,-653,30530.1875,null,1,1,1,-1.28173828125E-3,1.28173828125E-3," "]
["2011-05-16T08:26:26",60.01519775390625,0,null,0,0,null,null,null,-653,30530.04296875,null,1,1,1,-6.40869140625E-4,6.40869140625E-4," "]
["2011-05-16T08:26:28",60.0155029296875,0,null,0,0,null,null,null,-653,30530.04296875,null,1,1,1,3.0517578125E-4,3.0517578125E-4," "]
["2011-05-16T08:26:30",60.016143798828125,0,null,0,0,null,null,null,-653,30530.04296875,null,1,1,1,6.40869140625E-4,6.40869140625E-4," "]
["2011-05-16T08:26:32",60.0174560546875,0,null,0,0,null,null,null,-653,30530.04296875,null,1,1,1,1.312255859375E-3,1.312255859375E-3," "]
["2011-05-16T08:26:34",60.018096923828125,0,null,0,0,null,null,null,-653,30542.267578125,null,1,1,1,6.40869140625E-4,6.40869140625E-4," "]
["2011-05-16T08:26:36",60.0174560546875,0,null,0,0,null,null,null,-653,30542.267578125,null,1,1,1,-6.40869140625E-4,6.40869140625E-4," "]
["2011-05-16T08:26:38",60.017120361328125,0,null,0,0,null,null,null,-653,30542.267578125,null,1,1,1,-3.35693359375E-4,3.35693359375E-4," "]
["2011-05-16T08:26:40",60.0164794921875,0,null,0,0,null,null,null,-653,30542.267578125,null,1,1,1,-6.40869140625E-4,6.40869140625E-4," "]
["2011-05-16T08:26:42",60.014862060546875,0,null,0,0,null,null,null,-653,30559.638671875,null,1,1,1,-1.617431640625E-3,1.617431640625E-3," "]
["2011-05-16T08:26:44",60.01226806640625,0,null,0,0,null,null,null,-653,30559.638671875,null,1,1,1,-2.593994140625E-3,2.593994140625E-3," "]
["2011-05-16T08:26:46",60.010345458984375,0,null,0,0,null,null,null,-653,30559.66796875,null,1,1,1,-1.922607421875E-3,1.922607421875E-3," "]
["2011-05-16T08:26:48",60.009368896484375,0,null,0,0,null,null,null,-653,30559.66796875,null,1,1,1,-9.765625E-4,9.765625E-4," "]
["2011-05-16T08:26:50",60.009033203125,0,null,0,0,null,null,null,-653,30559.66796875,null,1,1,1,-3.35693359375E-4,3.35693359375E-4," "]
["2011-05-16T08:26:52",60.009368896484375,0,null,0,0,null,null,null,-653,30559.66796875,null,1,1,1,3.35693359375E-4,3.35693359375E-4," "]
["2011-05-16T08:26:54",60.010650634765625,0,null,0,0,null,null,null,-653,30552.017578125,null,1,1,1,1.28173828125E-3,1.28173828125E-3," "]
["2011-05-16T08:26:56",60.011627197265625,0,null,0,0,null,null,null,-653,30552.017578125,null,1,1,1,9.765625E-4,9.765625E-4," "]
["2011-05-16T08:26:58",60.01226806640625,0,null,0,0,null,null,null,-653,30552.017578125,null,1,1,{"$f":"IF(ROW()<$M$3,0,1)","v":1},6.40869140625E-4,6.40869140625E-4," "]
["2011-05-16T08:27:00",60.011627197265625,0,null,0,0,null,null,null,-653,30552.017578125,null,{"$f":"IF(ROW()<$M$5,0,1)","v":1},1,1,{"$f":"B1416-B1415","v":-6.40869140625E-4},6.40869140625E-4," "]
["2011-05-16T08:27:02",60.00872802734375,0,null,0,0,null,null,null,-653,30556.78125,null,1,1,1,-2.899169921875E-3,2.899169921875E-3," "]
["2011-05-16T08:27:04",60.0064697265625,0,null,0,0,null,null,null,-653,30556.78125,null,1,1,1,-2.25830078125E-3,2.25830078125E-3," "]
["2011-05-16T08:27:06",60.005828857421875,0,null,0,0,null,null,null,-653,30550.697265625,null,1,1,1,-6.40869140625E-4,6.40869140625E-4," "]
["2011-05-16T08:27:08",60.006134033203125,0,null,0,0,null,null,null,-653,30550.697265625,null,1,1,1,3.0517578125E-4,3.0517578125E-4," "]
["2011-05-16T08:27:10",60.006134033203125,0,null,0,0,null,null,null,-653,30550.697265625,null,1,1,1,0,0," "]
["2011-05-16T08:27:12",60.007110595703125,0,null,0,0,null,null,null,-653,30550.697265625,null,1,1,1,9.765625E-4,9.765625E-4," "]
["2011-05-16T08:27:14",60.009033203125,0,null,0,0,null,null,null,-653,30559.759765625,null,1,1,1,1.922607421875E-3,1.922607421875E-3," "]
["2011-05-16T08:27:16",60.010986328125,0,null,0,0,null,null,null,-653,30559.759765625,null,1,1,1,1.953125E-3,1.953125E-3," "]
["2011-05-16T08:27:18",60.010986328125,0,null,0,0,null,null,null,-653,30559.759765625,null,1,1,1,0,0," "]
["2011-05-16T08:27:20",60.010345458984375,0,null,0,0,null,null,null,-653,30559.759765625,null,1,1,1,-6.40869140625E-4,6.40869140625E-4," "]
["2011-05-16T08:27:22",60.00970458984375,0,null,0,0,null,null,null,-653,30563.609375,null,1,1,1,-6.40869140625E-4,6.40869140625E-4," "]
["2011-05-16T08:27:24",60.00872802734375,0,null,0,0,null,null,null,-653,30563.609375,null,1,1,1,-9.765625E-4,9.765625E-4," "]
["2011-05-16T08:27:26",60.007110595703125,0,null,0,0,null,null,null,-653,30556.5703125,null,1,1,1,-1.617431640625E-3,1.617431640625E-3," "]
["2011-05-16T08:27:28",60.006134033203125,0,null,0,0,null,null,null,-653,30556.5703125,null,1,1,1,-9.765625E-4,9.765625E-4," "]
["2011-05-16T08:27:30",60.005828857421875,0,null,0,0,null,null,null,-653,30556.5703125,null,1,1,1,-3.0517578125E-4,3.0517578125E-4," "]
["2011-05-16T08:27:32",60.007110595703125,0,null,0,0,null,null,null,-653,30556.5703125,null,1,1,1,1.28173828125E-3,1.28173828125E-3," "]
["2011-05-16T08:27:34",60.008087158203125,0,null,0,0,null,null,null,-653,30556.6953125,null,1,1,1,9.765625E-4,9.765625E-4," "]
["2011-05-16T08:27:36",60.008392333984375,0,null,0,0,null,null,null,-653,30556.6953125,null,1,1,1,3.0517578125E-4,3.0517578125E-4," "]
["2011-05-16T08:27:38",60.008087158203125,0,null,0,0,null,null,null,-653,30556.6953125,null,1,1,1,-3.0517578125E-4,3.0517578125E-4," "]
["2011-05-16T08:27:40",60.007110595703125,0,null,0,0,null,null,null,-653,30556.6953125,null,1,1,1,-9.765625E-4,9.765625E-4," "]
["2011-05-16T08:27:42",60.00677490234375,0,null,0,0,null,null,null,-653,30544.517578125,null,1,1,1,-3.35693359375E-4,3.35693359375E-4," "]
["2011-05-16T08:27:44",60.00775146484375,0,null,0,0,null,null,null,-653,30544.517578125,null,1,1,1,9.765625E-4,9.765625E-4," "]
["2011-05-16T08:27:46",60.007110595703125,0,null,0,0,null,null,null,-653,30543.341796875,null,1,1,1,-6.40869140625E-4,6.40869140625E-4," "]
["2011-05-16T08:27:48",60.0064697265625,0,null,0,0,null,null,null,-653,30543.341796875,null,1,1,1,-6.40869140625E-4,6.40869140625E-4," "]
["2011-05-16T08:27:50",60.003875732421875,0,null,0,0,null,null,null,-653,30543.341796875,null,1,1,1,-2.593994140625E-3,2.593994140625E-3," "]
["2011-05-16T08:27:52",60.00128173828125,0,null,0,0,null,null,null,-653,30543.341796875,null,1,1,1,-2.593994140625E-3,2.593994140625E-3," "]
["2011-05-16T08:27:54",59.999359130859375,0,null,0,0,null,null,null,-653,30554.416015625,null,1,1,1,-1.922607421875E-3,1.922607421875E-3," "]
["2011-05-16T08:27:56",59.998046875,0,null,0,0,null,null,null,-653,30554.416015625,null,1,0,1,-1.312255859375E-3,1.312255859375E-3," "]
["2011-05-16T08:27:58",59.997406005859375,0,null,0,0,null,null,null,-653,30554.416015625,null,1,0,1,-6.40869140625E-4,6.40869140625E-4," "]
["2011-05-16T08:28:00",59.997100830078125,0,null,0,0,null,null,null,-653,30554.416015625,null,1,0,1,-3.0517578125E-4,3.0517578125E-4," "]
["2011-05-16T08:28:02",59.99676513671875,0,null,0,0,null,null,null,-653,30534.333984375,null,1,0,1,-3.35693359375E-4,3.35693359375E-4," "]
["2011-05-16T08:28:04",59.997100830078125,0,null,0,0,null,null,null,-653,30534.333984375,null,1,0,1,3.35693359375E-4,3.35693359375E-4," "]
["2011-05-16T08:28:06",59.9964599609375,0,null,0,0,null,null,null,-653,30533.837890625,null,1,0,1,-6.40869140625E-4,6.40869140625E-4," "]
["2011-05-16T08:28:08",59.99578857421875,0,null,0,0,null,null,null,-653,30533.837890625,null,1,0,1,-6.7138671875E-4,6.7138671875E-4," "]
["2011-05-16T08:28:10",59.9945068359375,0,null,0,0,null,null,null,-653,30533.837890625,null,1,0,1,-1.28173828125E-3,1.28173828125E-3," "]
["2011-05-16T08:28:12",59.9935302734375,0,null,0,0,null,null,null,-653,30533.837890625,null,1,0,1,-9.765625E-4,9.765625E-4," "]
["2011-05-16T08:28:14",59.992889404296875,0,null,0,0,null,null,null,-653,30557.201171875,null,1,0,1,-6.40869140625E-4,6.40869140625E-4," "]
["2011-05-16T08:28:16",59.991912841796875,0,null,0,0,null,null,null,-653,30557.201171875,null,1,0,1,-9.765625E-4,9.765625E-4," "]
["2011-05-16T08:28:18",59.989013671875,0,null,0,0,null,null,null,-653,30557.201171875,null,1,0,1,-2.899169921875E-3,2.899169921875E-3," "]
["2011-05-16T08:28:20",59.986114501953125,0,null,0,0,null,null,null,-653,30557.201171875,null,1,0,1,-2.899169921875E-3,2.899169921875E-3," "]
["2011-05-16T08:28:22",59.9844970703125,0,null,0,0,null,null,null,-653,30560.912109375,null,1,0,1,-1.617431640625E-3,1.617431640625E-3," "]
["2011-05-16T08:28:24",59.983184814453125,0,null,0,0,null,null,null,-653,30560.912109375,null,1,0,1,-1.312255859375E-3,1.312255859375E-3," "]
["2011-05-16T08:28:26",59.981903076171875,0,null,0,0,null,null,null,-653,30560.556640625,null,1,{"$f":"IF((M1459=1)*(B1459>$N$2),1,0)","v":0},1,-1.28173828125E-3,{"$f":"ABS(P1459)","v":1.28173828125E-3},{"$f":"IF(Q1459>(AVERAGE(Q1455:Q1458)+R$2),1,\" \")","v":" "}]
["2011-05-16T08:28:28",59.980926513671875,0,null,0,0,null,null,null,-653,30560.556640625,null,1,0,1,-9.765625E-4,9.765625E-4," "]
["2011-05-16T08:28:30",59.979644775390625,0,null,0,0,null,null,null,-653,30560.556640625,null,1,0,1,-1.28173828125E-3,1.28173828125E-3," "]
["2011-05-16T08:28:32",59.978668212890625,0,null,0,0,null,null,null,-653,30560.556640625,null,1,0,1,-9.765625E-4,9.765625E-4," "]
["2011-05-16T08:28:34",59.979644775390625,0,null,0,0,null,null,null,-653,30560.083984375,null,1,0,1,9.765625E-4,9.765625E-4," "]
["2011-05-16T08:28:36",59.97998046875,0,null,0,0,null,null,null,-653,30560.083984375,null,1,0,1,3.35693359375E-4,3.35693359375E-4," "]
["2011-05-16T08:28:38",59.980621337890625,0,null,0,0,null,null,null,-653,30560.083984375,null,1,0,1,6.40869140625E-4,6.40869140625E-4," "]
["2011-05-16T08:28:40",59.98028564453125,0,null,0,0,null,null,null,-653,30560.083984375,null,1,0,1,-3.35693359375E-4,3.35693359375E-4," "]
["2011-05-16T08:28:42",59.97900390625,0,null,0,0,null,null,null,-653,30558.71875,null,1,0,1,-1.28173828125E-3,1.28173828125E-3," "]
["2011-05-16T08:28:44",59.977386474609375,0,null,0,0,null,null,null,-653,30558.71875,null,1,0,1,-1.617431640625E-3,1.617431640625E-3," "]
["2011-05-16T08:28:46",59.975128173828125,0,null,0,0,null,null,null,-653,30553.455078125,null,1,0,1,-2.25830078125E-3,2.25830078125E-3," "]
["2011-05-16T08:28:48",59.9735107421875,0,null,0,0,null,null,null,-653,30553.455078125,null,1,0,1,-1.617431640625E-3,1.617431640625E-3," "]
["2011-05-16T08:28:50",59.9725341796875,0,null,0,0,null,null,null,-653,30553.455078125,null,1,0,1,-9.765625E-4,9.765625E-4," "]
["2011-05-16T08:28:52",59.971893310546875,0,null,0,0,null,null,null,-653,30553.455078125,null,1,0,1,-6.40869140625E-4,6.40869140625E-4," "]
["2011-05-16T08:28:54",59.973175048828125,0,null,0,0,null,null,null,-653,30562.630859375,null,1,0,1,1.28173828125E-3,1.28173828125E-3," "]
["2011-05-16T08:28:56",59.974151611328125,0,null,0,0,null,null,null,-653,30562.630859375,null,1,0,1,9.765625E-4,9.765625E-4," "]
["2011-05-16T08:28:58",59.9744873046875,0,null,0,0,null,null,null,-653,30562.630859375,null,1,0,1,3.35693359375E-4,3.35693359375E-4," "]
["2011-05-16T08:29:00",59.975128173828125,0,null,0,0,null,null,null,-653,30562.630859375,null,1,0,1,6.40869140625E-4,6.40869140625E-4," "]
["2011-05-16T08:29:02",59.97576904296875,0,null,0,0,null,null,null,-653,30578.046875,null,1,0,1,6.40869140625E-4,6.40869140625E-4," "]
["2011-05-16T08:29:04",59.976409912109375,0,null,0,0,null,null,null,-653,30578.046875,null,1,0,1,6.40869140625E-4,6.40869140625E-4," "]
["2011-05-16T08:29:06",59.97705078125,0,null,0,0,null,null,null,-653,30570.966796875,null,1,0,{"$f":"IF(ROW()<$M$3,0,1)","v":1},6.40869140625E-4,6.40869140625E-4," "]
["2011-05-16T08:29:08",59.97674560546875,0,null,0,0,null,null,null,-653,30570.966796875,null,{"$f":"IF(ROW()<$M$5,0,1)","v":1},0,1,{"$f":"B1480-B1479","v":-3.0517578125E-4},3.0517578125E-4," "]
["2011-05-16T08:29:10",59.97674560546875,0,null,0,0,null,null,null,-653,30570.966796875,null,1,0,1,0,0," "]
["2011-05-16T08:29:12",59.97674560546875,0,null,0,0,null,null,null,-653,30570.966796875,null,1,0,1,0,0," "]
["2011-05-16T08:29:14",59.976104736328125,0,null,0,0,null,null,null,-653,30593.173828125,null,1,0,1,-6.40869140625E-4,6.40869140625E-4," "]
["2011-05-16T08:29:16",59.976104736328125,0,null,0,0,null,null,null,-653,30593.173828125,null,1,0,1,0,0," "]
["2011-05-16T08:29:18",59.976409912109375,0,null,0,0,null,null,null,-653,30593.173828125,null,1,0,1,3.0517578125E-4,3.0517578125E-4," "]
["2011-05-16T08:29:20",59.97705078125,0,null,0,0,null,null,null,-653,30593.173828125,null,1,0,1,6.40869140625E-4,6.40869140625E-4," "]
["2011-05-16T08:29:22",59.97802734375,0,null,0,0,null,null,null,-653,30575.06640625,null,1,0,1,9.765625E-4,9.765625E-4," "]
["2011-05-16T08:29:24",59.98028564453125,0,null,0,0,null,null,null,-653,30575.06640625,null,1,0,1,2.25830078125E-3,2.25830078125E-3," "]
["2011-05-16T08:29:26",59.983184814453125,0,null,0,0,null,null,null,-653,30575.06640625,null,1,0,1,2.899169921875E-3,2.899169921875E-3," "]
["2011-05-16T08:29:28",59.9854736328125,0,null,0,0,null,null,null,-653,30575.06640625,null,1,0,1,2.288818359375E-3,2.288818359375E-3," "]
["2011-05-16T08:29:30",59.987091064453125,0,null,0,0,null,null,null,-653,30575.06640625,null,1,0,1,1.617431640625E-3,1.617431640625E-3," "]
["2011-05-16T08:29:32",59.989654541015625,0,null,0,0,null,null,null,-653,30575.06640625,null,1,0,1,2.5634765625E-3,2.5634765625E-3," "]
["2011-05-16T08:29:34",59.99224853515625,0,null,0,0,null,null,null,-653,30575.71875,null,1,0,1,2.593994140625E-3,2.593994140625E-3," "]
["2011-05-16T08:29:36",59.994842529296875,0,null,0,0,null,null,null,-653,30575.71875,null,1,0,1,2.593994140625E-3,2.593994140625E-3," "]
["2011-05-16T08:29:38",59.9964599609375,0,null,0,0,null,null,null,-653,30575.71875,null,1,0,1,1.617431640625E-3,1.617431640625E-3," "]
["2011-05-16T08:29:40",59.99774169921875,0,null,0,0,null,null,null,-653,30575.71875,null,1,0,1,1.28173828125E-3,1.28173828125E-3," "]
["2011-05-16T08:29:42",59.999664306640625,0,null,0,0,null,null,null,-653,30583.837890625,null,1,1,1,1.922607421875E-3,1.922607421875E-3," "]
["2011-05-16T08:29:44",60.000335693359375,0,null,0,0,null,null,null,-653,30583.837890625,null,1,1,1,6.7138671875E-4,6.7138671875E-4," "]
["2011-05-16T08:29:46",60.00128173828125,0,null,0,0,null,null,null,-653,30586.40234375,null,1,1,1,9.46044921875E-4,9.46044921875E-4," "]
["2011-05-16T08:29:48",60.001953125,0,null,0,0,null,null,null,-653,30586.40234375,null,1,1,1,6.7138671875E-4,6.7138671875E-4," "]
["2011-05-16T08:29:50",60.00225830078125,0,null,0,0,null,null,null,-653,30586.40234375,null,1,1,1,3.0517578125E-4,3.0517578125E-4," "]
["2011-05-16T08:29:52",60.002899169921875,0,null,0,0,null,null,null,-653,30586.40234375,null,1,1,1,6.40869140625E-4,6.40869140625E-4," "]
["2011-05-16T08:29:54",60.0035400390625,0,null,0,0,null,null,null,-653,30589.716796875,null,1,1,1,6.40869140625E-4,6.40869140625E-4," "]
["2011-05-16T08:29:56",60.00421142578125,0,null,0,0,null,null,null,-653,30589.716796875,null,1,1,1,6.7138671875E-4,6.7138671875E-4," "]
["2011-05-16T08:29:58",60.0045166015625,0,null,0,0,null,null,null,-653,30589.716796875,null,1,1,1,3.0517578125E-4,3.0517578125E-4," "]
["2011-05-16T08:30:00",60.003875732421875,0,null,0,0,null,null,null,-653,30589.716796875,null,1,1,1,-6.40869140625E-4,6.40869140625E-4," "]
["2011-05-16T08:30:02",60.003875732421875,0,null,0,0,null,null,null,-653,30590.30078125,null,1,1,1,0,0," "]
["2011-05-16T08:30:04",60.00421142578125,0,null,0,0,null,null,null,-653,30590.30078125,null,1,1,1,3.35693359375E-4,3.35693359375E-4," "]
["2011-05-16T08:30:06",60.00421142578125,0,null,0,0,null,null,null,-653,30590.220703125,null,1,1,1,0,0," "]
["2011-05-16T08:30:08",60.003875732421875,0,null,0,0,null,null,null,-653,30590.220703125,null,1,1,1,-3.35693359375E-4,3.35693359375E-4," "]
["2011-05-16T08:30:10",60.001953125,0,null,0,0,null,null,null,-653,30590.220703125,null,1,1,1,-1.922607421875E-3,1.922607421875E-3," "]
["2011-05-16T08:30:12",59.999664306640625,0,null,0,0,null,null,null,-653,30590.220703125,null,1,1,1,-2.288818359375E-3,2.288818359375E-3," "]
["2011-05-16T08:30:14",59.993865966796875,0,null,0,0,null,null,null,-653,30600.12109375,null,1,0,1,-5.79833984375E-3,5.79833984375E-3," "]
["2011-05-16T08:30:16",59.993865966796875,0,null,0,0,null,null,null,-653,30600.12109375,null,1,0,1,0,0," "]
["2011-05-16T08:30:18",59.989990234375,0,null,0,0,null,null,null,-653,30600.12109375,null,1,0,1,-3.875732421875E-3,3.875732421875E-3," "]
["2011-05-16T08:30:20",59.988677978515625,0,null,0,0,null,null,null,-653,30600.12109375,null,1,0,1,-1.312255859375E-3,1.312255859375E-3," "]
["2011-05-16T08:30:22",59.987091064453125,0,null,0,0,null,null,null,-653,30603.3828125,null,1,0,1,-1.5869140625E-3,1.5869140625E-3," "]
["2011-05-16T08:30:24",59.98577880859375,0,null,0,0,null,null,null,-653,30603.3828125,null,1,0,1,-1.312255859375E-3,1.312255859375E-3," "]
["2011-05-16T08:30:26",59.98577880859375,0,null,0,0,null,null,null,-653,30597.091796875,null,1,0,1,0,0," "]
["2011-05-16T08:30:28",59.982879638671875,0,null,0,0,null,null,null,-653,30597.091796875,null,1,0,1,-2.899169921875E-3,2.899169921875E-3," "]
["2011-05-16T08:30:30",59.979644775390625,0,null,0,0,null,null,null,-653,30597.091796875,null,1,0,1,-3.23486328125E-3,3.23486328125E-3," "]
["2011-05-16T08:30:32",59.97674560546875,0,null,0,0,null,null,null,-653,30597.091796875,null,1,0,1,-2.899169921875E-3,2.899169921875E-3," "]
["2011-05-16T08:30:34",59.97479248046875,0,null,0,0,null,null,null,-653,30603.9609375,null,1,{"$f":"IF((M1523=1)*(B1523>$N$2),1,0)","v":0},1,-1.953125E-3,{"$f":"ABS(P1523)","v":1.953125E-3},{"$f":"IF(Q1523>(AVERAGE(Q1519:Q1522)+R$2),1,\" \")","v":" "}]
["2011-05-16T08:30:36",59.97479248046875,0,null,0,0,null,null,null,-653,30603.9609375,null,1,0,1,0,0," "]
["2011-05-16T08:30:38",59.976409912109375,0,null,0,0,null,null,null,-653,30603.9609375,null,1,0,1,1.617431640625E-3,1.617431640625E-3," "]
["2011-05-16T08:30:40",59.976409912109375,0,null,0,0,null,null,null,-653,30603.9609375,null,1,0,1,0,0," "]
["2011-05-16T08:30:42",59.975433349609375,0,null,0,0,null,null,null,-653,30607.9609375,null,1,0,1,-9.765625E-4,9.765625E-4," "]
["2011-05-16T08:30:44",59.9735107421875,0,null,0,0,null,null,null,-653,30607.9609375,null,1,0,1,-1.922607421875E-3,1.922607421875E-3," "]
["2011-05-16T08:30:46",59.973175048828125,0,null,0,0,null,null,null,-653,30601.984375,null,1,0,1,-3.35693359375E-4,3.35693359375E-4," "]
["2011-05-16T08:30:48",59.975128173828125,0,null,0,0,null,null,null,-653,30601.984375,null,1,0,1,1.953125E-3,1.953125E-3," "]
["2011-05-16T08:30:50",59.976409912109375,0,null,0,0,null,null,null,-653,30597.091796875,null,1,0,1,1.28173828125E-3,1.28173828125E-3," "]
["2011-05-16T08:30:52",59.97705078125,0,null,0,0,null,null,null,-653,30597.091796875,null,1,0,1,6.40869140625E-4,6.40869140625E-4," "]
["2011-05-16T08:30:54",59.978668212890625,0,null,0,0,null,null,null,-653,30607.9609375,null,1,0,1,1.617431640625E-3,1.617431640625E-3," "]
["2011-05-16T08:30:56",59.978363037109375,0,null,0,0,null,null,null,-653,30607.9609375,null,1,0,1,-3.0517578125E-4,3.0517578125E-4," "]
["2011-05-16T08:30:58",59.97802734375,0,null,0,0,null,null,null,-653,30607.9609375,null,1,0,1,-3.35693359375E-4,3.35693359375E-4," "]
["2011-05-16T08:31:00",59.975433349609375,0,null,0,0,null,null,null,-653,30607.9609375,null,1,0,1,-2.593994140625E-3,2.593994140625E-3," "]
["2011-05-16T08:31:02",59.974151611328125,0,null,0,0,null,null,null,-653,30607.9609375,null,1,0,1,-1.28173828125E-3,1.28173828125E-3," "]
["2011-05-16T08:31:04",59.974151611328125,0,null,0,0,null,null,null,-653,30601.984375,null,1,0,1,0,0," "]
["2011-05-16T08:31:06",59.97479248046875,0,null,0,0,null,null,null,-653,30601.984375,null,1,0,1,6.40869140625E-4,6.40869140625E-4," "]
["2011-05-16T08:31:08",59.974151611328125,0,null,0,0,null,null,null,-653,30601.984375,null,1,0,1,-6.40869140625E-4,6.40869140625E-4," "]
["2011-05-16T08:31:10",59.9735107421875,0,null,0,0,null,null,null,-653,30601.984375,null,1,0,1,-6.40869140625E-4,6.40869140625E-4," "]
["2011-05-16T08:31:12",59.9735107421875,0,null,0,0,null,null,null,-653,30601.984375,null,1,0,1,0,0," "]
["2011-05-16T08:31:14",59.975433349609375,0,null,0,0,null,null,null,-653,30632.78515625,null,1,0,{"$f":"IF(ROW()<$M$3,0,1)","v":1},1.922607421875E-3,1.922607421875E-3," "]
["2011-05-16T08:31:16",59.977691650390625,0,null,0,0,null,null,null,-653,30632.78515625,null,{"$f":"IF(ROW()<$M$5,0,1)","v":1},0,1,{"$f":"B1544-B1543","v":2.25830078125E-3},2.25830078125E-3," "]
["2011-05-16T08:31:18",59.980621337890625,0,null,0,0,null,null,null,-653,30632.78515625,null,1,0,1,2.9296875E-3,2.9296875E-3," "]
["2011-05-16T08:31:20",59.985137939453125,0,null,0,0,null,null,null,-653,30632.78515625,null,1,0,1,4.5166015625E-3,4.5166015625E-3," "]
["2011-05-16T08:31:22",59.98773193359375,0,null,0,0,null,null,null,-653,30632.78515625,null,1,0,1,2.593994140625E-3,2.593994140625E-3," "]
["2011-05-16T08:31:24",59.989654541015625,0,null,0,0,null,null,null,-653,30633.177734375,null,1,0,1,1.922607421875E-3,1.922607421875E-3," "]
["2011-05-16T08:31:26",59.990966796875,0,null,0,0,null,null,null,-653,30633.177734375,null,1,0,1,1.312255859375E-3,1.312255859375E-3," "]
["2011-05-16T08:31:28",59.99224853515625,0,null,0,0,null,null,null,-653,30633.177734375,null,1,0,1,1.28173828125E-3,1.28173828125E-3," "]
["2011-05-16T08:31:30",59.99322509765625,0,null,0,0,null,null,null,-653,30633.177734375,null,1,0,1,9.765625E-4,9.765625E-4," "]
["2011-05-16T08:31:32",59.996124267578125,0,null,0,0,null,null,null,-653,30633.177734375,null,1,0,1,2.899169921875E-3,2.899169921875E-3," "]
["2011-05-16T08:31:34",60.000335693359375,0,null,0,0,null,null,null,-653,30620.59765625,null,1,1,1,4.21142578125E-3,4.21142578125E-3," "]
["2011-05-16T08:31:36",60.0045166015625,0,null,0,0,null,null,null,-653,30620.59765625,null,1,1,1,4.180908203125E-3,4.180908203125E-3," "]
["2011-05-16T08:31:38",60.008087158203125,0,null,0,0,null,null,null,-653,30620.59765625,null,1,1,1,3.570556640625E-3,3.570556640625E-3," "]
["2011-05-16T08:31:40",60.010986328125,0,null,0,0,null,null,null,-653,30620.59765625,null,1,1,1,2.899169921875E-3,2.899169921875E-3," "]
["2011-05-16T08:31:42",60.013885498046875,0,null,0,0,null,null,null,-653,30620.59765625,null,1,1,1,2.899169921875E-3,2.899169921875E-3," "]
["2011-05-16T08:31:44",60.01776123046875,0,null,0,0,null,null,null,-653,30620.90625,null,1,1,1,3.875732421875E-3,3.875732421875E-3," "]
["2011-05-16T08:31:46",60.02069091796875,0,null,0,0,null,null,null,-653,30620.90625,null,1,1,1,2.9296875E-3,2.9296875E-3," "]
["2011-05-16T08:31:48",60.021636962890625,0,null,0,0,null,null,null,-653,30620.90625,null,1,1,1,9.46044921875E-4,9.46044921875E-4," "]
["2011-05-16T08:31:50",60.02099609375,0,null,0,0,null,null,null,-653,30620.90625,null,1,1,1,-6.40869140625E-4,6.40869140625E-4," "]
["2011-05-16T08:31:52",60.019073486328125,0,null,0,0,null,null,null,-653,30620.90625,null,1,1,1,-1.922607421875E-3,1.922607421875E-3," "]
["2011-05-16T08:31:54",60.018096923828125,0,null,0,0,null,null,null,-653,30661.873046875,null,1,1,1,-9.765625E-4,9.765625E-4," "]
["2011-05-16T08:31:56",60.018402099609375,0,null,0,0,null,null,null,-653,30661.873046875,null,1,1,1,3.0517578125E-4,3.0517578125E-4," "]
["2011-05-16T08:31:58",60.02069091796875,0,null,0,0,null,null,null,-653,30661.873046875,null,1,1,1,2.288818359375E-3,2.288818359375E-3," "]
["2011-05-16T08:32:00",60.023895263671875,0,null,0,0,null,null,null,-653,30661.873046875,null,1,1,1,3.204345703125E-3,3.204345703125E-3," "]
["2011-05-16T08:32:02",60.02618408203125,0,null,0,0,null,null,null,-653,30661.873046875,null,1,1,1,2.288818359375E-3,2.288818359375E-3," "]
["2011-05-16T08:32:04",60.026824951171875,0,null,0,0,null,null,null,-653,30663.732421875,null,1,1,1,6.40869140625E-4,6.40869140625E-4," "]
["2011-05-16T08:32:06",60.0264892578125,0,null,0,0,null,null,null,-653,30663.732421875,null,1,1,1,-3.35693359375E-4,3.35693359375E-4," "]
["2011-05-16T08:32:08",60.025848388671875,0,null,0,0,null,null,null,-653,30663.732421875,null,1,1,1,-6.40869140625E-4,6.40869140625E-4," "]
["2011-05-16T08:32:10",60.023590087890625,0,null,0,0,null,null,null,-653,30663.732421875,null,1,1,1,-2.25830078125E-3,2.25830078125E-3," "]
["2011-05-16T08:32:12",60.023590087890625,0,null,0,0,null,null,null,-653,30663.732421875,null,1,1,1,0,0," "]
["2011-05-16T08:32:14",60.021636962890625,0,null,0,0,null,null,null,-653,30659.83984375,null,1,1,1,-1.953125E-3,1.953125E-3," "]
["2011-05-16T08:32:16",60.022308349609375,0,null,0,0,null,null,null,-653,30659.83984375,null,1,1,1,6.7138671875E-4,6.7138671875E-4," "]
["2011-05-16T08:32:18",60.02325439453125,0,null,0,0,null,null,null,-653,30659.83984375,null,1,1,1,9.46044921875E-4,9.46044921875E-4," "]
["2011-05-16T08:32:20",60.023590087890625,0,null,0,0,null,null,null,-653,30659.83984375,null,1,1,1,3.35693359375E-4,3.35693359375E-4," "]
["2011-05-16T08:32:22",60.02294921875,0,null,0,0,null,null,null,-653,30659.83984375,null,1,1,1,-6.40869140625E-4,6.40869140625E-4," "]
["2011-05-16T08:32:24",60.021331787109375,0,null,0,0,null,null,null,-653,30653.46484375,null,1,1,1,-1.617431640625E-3,1.617431640625E-3," "]
["2011-05-16T08:32:26",60.02099609375,0,null,0,0,null,null,null,-653,30653.46484375,null,1,1,1,-3.35693359375E-4,3.35693359375E-4," "]
["2011-05-16T08:32:28",60.02099609375,0,null,0,0,null,null,null,-653,30653.46484375,null,1,1,1,0,0," "]
["2011-05-16T08:32:30",60.021331787109375,0,null,0,0,null,null,null,-653,30653.46484375,null,1,1,1,3.35693359375E-4,3.35693359375E-4," "]
["2011-05-16T08:32:32",60.02099609375,0,null,0,0,null,null,null,-653,30653.46484375,null,1,1,1,-3.35693359375E-4,3.35693359375E-4," "]
["2011-05-16T08:32:34",60.020355224609375,0,null,0,0,null,null,null,-653,30661.603515625,null,1,1,1,-6.40869140625E-4,6.40869140625E-4," "]
["2011-05-16T08:32:36",60.02001953125,0,null,0,0,null,null,null,-653,30661.603515625,null,1,1,1,-3.35693359375E-4,3.35693359375E-4," "]
["2011-05-16T08:32:38",60.019378662109375,0,null,0,0,null,null,null,-653,30661.603515625,null,1,1,1,-6.40869140625E-4,6.40869140625E-4," "]
["2011-05-16T08:32:40",60.018402099609375,0,null,0,0,null,null,null,-653,30661.603515625,null,1,1,1,-9.765625E-4,9.765625E-4," "]
["2011-05-16T08:32:42",60.017120361328125,0,null,0,0,null,null,null,-653,30661.603515625,null,1,{"$f":"IF((M1587=1)*(B1587>$N$2),1,0)","v":1},1,-1.28173828125E-3,{"$f":"ABS(P1587)","v":1.28173828125E-3},{"$f":"IF(Q1587>(AVERAGE(Q1583:Q1586)+R$2),1,\" \")","v":" "}]
["2011-05-16T08:32:44",60.015838623046875,0,null,0,0,null,null,null,-653,30655.509765625,null,1,1,1,-1.28173828125E-3,1.28173828125E-3," "]
["2011-05-16T08:32:46",60.014862060546875,0,null,0,0,null,null,null,-653,30655.509765625,null,1,1,1,-9.765625E-4,9.765625E-4," "]
["2011-05-16T08:32:48",60.0145263671875,0,null,0,0,null,null,null,-653,30655.509765625,null,1,1,1,-3.35693359375E-4,3.35693359375E-4," "]
["2011-05-16T08:32:50",60.014862060546875,0,null,0,0,null,null,null,-653,30655.509765625,null,1,1,1,3.35693359375E-4,3.35693359375E-4," "]
["2011-05-16T08:32:52",60.0145263671875,0,null,0,0,null,null,null,-653,30655.509765625,null,1,1,1,-3.35693359375E-4,3.35693359375E-4," "]
["2011-05-16T08:32:54",60.014862060546875,0,null,0,0,null,null,null,-653,30648.140625,null,1,1,1,3.35693359375E-4,3.35693359375E-4," "]
["2011-05-16T08:32:56",60.01519775390625,0,null,0,0,null,null,null,-653,30648.140625,null,1,1,1,3.35693359375E-4,3.35693359375E-4," "]
["2011-05-16T08:32:58",60.014862060546875,0,null,0,0,null,null,null,-653,30648.140625,null,1,1,1,-3.35693359375E-4,3.35693359375E-4," "]
["2011-05-16T08:33:00",60.01519775390625,0,null,0,0,null,null,null,-653,30648.140625,null,1,1,1,3.35693359375E-4,3.35693359375E-4," "]
["2011-05-16T08:33:02",60.01519775390625,0,null,0,0,null,null,null,-653,30648.140625,null,1,1,1,0,0," "]
["2011-05-16T08:33:04",60.0164794921875,0,null,0,0,null,null,null,-653,30648.291015625,null,1,1,1,1.28173828125E-3,1.28173828125E-3," "]
["2011-05-16T08:33:06",60.016143798828125,0,null,0,0,null,null,null,-653,30648.291015625,null,1,1,1,-3.35693359375E-4,3.35693359375E-4," "]
["2011-05-16T08:33:08",60.01519775390625,0,null,0,0,null,null,null,-653,30648.291015625,null,1,1,1,-9.46044921875E-4,9.46044921875E-4," "]
["2011-05-16T08:33:10",60.014862060546875,0,null,0,0,null,null,null,-653,30648.291015625,null,1,1,1,-3.35693359375E-4,3.35693359375E-4," "]
["2011-05-16T08:33:12",60.0145263671875,0,null,0,0,null,null,null,-653,30648.291015625,null,1,1,1,-3.35693359375E-4,3.35693359375E-4," "]
["2011-05-16T08:33:14",60.012908935546875,0,null,0,0,null,null,null,-653,30652.04296875,null,1,1,1,-1.617431640625E-3,1.617431640625E-3," "]
["2011-05-16T08:33:16",60.010986328125,0,null,0,0,null,null,null,-653,30652.04296875,null,1,1,1,-1.922607421875E-3,1.922607421875E-3," "]
["2011-05-16T08:33:18",60.00775146484375,0,null,0,0,null,null,null,-653,30652.04296875,null,1,1,1,-3.23486328125E-3,3.23486328125E-3," "]
["2011-05-16T08:33:20",60.00421142578125,0,null,0,0,null,null,null,-653,30652.04296875,null,1,1,1,-3.5400390625E-3,3.5400390625E-3," "]
["2011-05-16T08:33:22",60.001617431640625,0,null,0,0,null,null,null,-653,30652.04296875,null,1,1,{"$f":"IF(ROW()<$M$3,0,1)","v":1},-2.593994140625E-3,2.593994140625E-3," "]
["2011-05-16T08:33:24",60,0,null,0,0,null,null,null,-653,30651.841796875,null,{"$f":"IF(ROW()<$M$5,0,1)","v":1},1,1,{"$f":"B1608-B1607","v":-1.617431640625E-3},1.617431640625E-3," "]
["2011-05-16T08:33:26",59.99774169921875,0,null,0,0,null,null,null,-653,30651.841796875,null,1,0,1,-2.25830078125E-3,2.25830078125E-3," "]
["2011-05-16T08:33:28",59.995147705078125,0,null,0,0,null,null,null,-653,30651.841796875,null,1,0,1,-2.593994140625E-3,2.593994140625E-3," "]
["2011-05-16T08:33:30",59.9925537109375,0,null,0,0,null,null,null,-653,30651.841796875,null,1,0,1,-2.593994140625E-3,2.593994140625E-3," "]
["2011-05-16T08:33:32",59.99029541015625,0,null,0,0,null,null,null,-653,30651.841796875,null,1,0,1,-2.25830078125E-3,2.25830078125E-3," "]
["2011-05-16T08:33:34",59.98675537109375,0,null,0,0,null,null,null,-653,30633.80078125,null,1,0,1,-3.5400390625E-3,3.5400390625E-3," "]
["2011-05-16T08:33:36",59.9835205078125,0,null,0,0,null,null,null,-653,30633.80078125,null,1,0,1,-3.23486328125E-3,3.23486328125E-3," "]
["2011-05-16T08:33:38",59.980621337890625,0,null,0,0,null,null,null,-653,30633.80078125,null,1,0,1,-2.899169921875E-3,2.899169921875E-3," "]
["2011-05-16T08:33:40",59.979644775390625,0,null,0,0,null,null,null,-653,30633.80078125,null,1,0,1,-9.765625E-4,9.765625E-4," "]
["2011-05-16T08:33:42",59.978668212890625,0,null,0,0,null,null,null,-653,30633.80078125,null,1,0,1,-9.765625E-4,9.765625E-4," "]
["2011-05-16T08:33:44",59.97705078125,0,null,0,0,null,null,null,-653,30627.70703125,null,1,0,1,-1.617431640625E-3,1.617431640625E-3," "]
["2011-05-16T08:33:46",59.976409912109375,0,null,0,0,null,null,null,-653,30627.70703125,null,1,0,1,-6.40869140625E-4,6.40869140625E-4," "]
["2011-05-16T08:33:48",59.97674560546875,0,null,0,0,null,null,null,-653,30627.70703125,null,1,0,1,3.35693359375E-4,3.35693359375E-4," "]
["2011-05-16T08:33:50",59.976409912109375,0,null,0,0,null,null,null,-653,30627.70703125,null,1,0,1,-3.35693359375E-4,3.35693359375E-4," "]
["2011-05-16T08:33:52",59.97576904296875,0,null,0,0,null,null,null,-653,30627.70703125,null,1,0,1,-6.40869140625E-4,6.40869140625E-4," "]
["2011-05-16T08:33:54",59.97479248046875,0,null,0,0,null,null,null,-653,30634.130859375,null,1,0,1,-9.765625E-4,9.765625E-4," "]
["2011-05-16T08:33:56",59.974151611328125,0,null,0,0,null,null,null,-653,30634.130859375,null,1,0,1,-6.40869140625E-4,6.40869140625E-4," "]
["2011-05-16T08:33:58",59.972869873046875,0,null,0,0,null,null,null,-653,30634.130859375,null,1,0,1,-1.28173828125E-3,1.28173828125E-3," "]
["2011-05-16T08:34:00",59.97125244140625,0,null,0,0,null,null,null,-653,30634.130859375,null,1,0,1,-1.617431640625E-3,1.617431640625E-3," "]
["2011-05-16T08:34:02",59.970916748046875,0,null,0,0,null,null,null,-653,30634.130859375,null,1,0,1,-3.35693359375E-4,3.35693359375E-4," "]
["2011-05-16T08:34:04",59.97125244140625,0,null,0,0,null,null,null,-653,30627.05078125,null,1,0,1,3.35693359375E-4,3.35693359375E-4," "]
["2011-05-16T08:34:06",59.970611572265625,0,null,0,0,null,null,null,-653,30627.05078125,null,1,0,1,-6.40869140625E-4,6.40869140625E-4," "]
["2011-05-16T08:34:08",59.970916748046875,0,null,0,0,null,null,null,-653,30627.05078125,null,1,0,1,3.0517578125E-4,3.0517578125E-4," "]
["2011-05-16T08:34:10",59.97125244140625,0,null,0,0,null,null,null,-653,30627.05078125,null,1,0,1,3.35693359375E-4,3.35693359375E-4," "]
["2011-05-16T08:34:12",59.9715576171875,0,null,0,0,null,null,null,-653,30627.05078125,null,1,0,1,3.0517578125E-4,3.0517578125E-4," "]
["2011-05-16T08:34:14",59.9725341796875,0,null,0,0,null,null,null,-653,30662.72265625,null,1,0,1,9.765625E-4,9.765625E-4," "]
["2011-05-16T08:34:16",59.9744873046875,0,null,0,0,null,null,null,-653,30662.72265625,null,1,0,1,1.953125E-3,1.953125E-3," "]
["2011-05-16T08:34:18",59.97576904296875,0,null,0,0,null,null,null,-653,30662.72265625,null,1,0,1,1.28173828125E-3,1.28173828125E-3," "]
["2011-05-16T08:34:20",59.976409912109375,0,null,0,0,null,null,null,-653,30662.72265625,null,1,0,1,6.40869140625E-4,6.40869140625E-4," "]
["2011-05-16T08:34:22",59.976409912109375,0,null,0,0,null,null,null,-653,30662.72265625,null,1,0,1,0,0," "]
["2011-05-16T08:34:24",59.975128173828125,0,null,0,0,null,null,null,-653,30656.517578125,null,1,0,1,-1.28173828125E-3,1.28173828125E-3," "]
["2011-05-16T08:34:26",59.976104736328125,0,null,0,0,null,null,null,-653,30656.517578125,null,1,0,1,9.765625E-4,9.765625E-4," "]
["2011-05-16T08:34:28",59.97900390625,0,null,0,0,null,null,null,-653,30656.517578125,null,1,0,1,2.899169921875E-3,2.899169921875E-3," "]
["2011-05-16T08:34:30",59.98126220703125,0,null,0,0,null,null,null,-653,30656.517578125,null,1,0,1,2.25830078125E-3,2.25830078125E-3," "]
["2011-05-16T08:34:32",59.98223876953125,0,null,0,0,null,null,null,-653,30656.517578125,null,1,0,1,9.765625E-4,9.765625E-4," "]
["2011-05-16T08:34:34",59.9825439453125,0,null,0,0,null,null,null,-653,30642.24609375,null,1,0,1,3.0517578125E-4,3.0517578125E-4," "]
["2011-05-16T08:34:36",59.9825439453125,0,null,0,0,null,null,null,-653,30642.24609375,null,1,0,1,0,0," "]
["2011-05-16T08:34:38",59.981597900390625,0,null,0,0,null,null,null,-653,30642.24609375,null,1,0,1,-9.46044921875E-4,9.46044921875E-4," "]
["2011-05-16T08:34:40",59.98028564453125,0,null,0,0,null,null,null,-653,30642.24609375,null,1,0,1,-1.312255859375E-3,1.312255859375E-3," "]
["2011-05-16T08:34:42",59.979644775390625,0,null,0,0,null,null,null,-653,30642.24609375,null,1,0,1,-6.40869140625E-4,6.40869140625E-4," "]
["2011-05-16T08:34:44",59.980621337890625,0,null,0,0,null,null,null,-653,30642.486328125,null,1,0,1,9.765625E-4,9.765625E-4," "]
["2011-05-16T08:34:46",59.980926513671875,0,null,0,0,null,null,null,-653,30642.486328125,null,1,0,1,3.0517578125E-4,3.0517578125E-4," "]
["2011-05-16T08:34:48",59.98028564453125,0,null,0,0,null,null,null,-653,30642.486328125,null,1,0,1,-6.40869140625E-4,6.40869140625E-4," "]
["2011-05-16T08:34:50",59.97930908203125,0,null,0,0,null,null,null,-653,30642.486328125,null,1,{"$f":"IF((M1651=1)*(B1651>$N$2),1,0)","v":0},1,-9.765625E-4,{"$f":"ABS(P1651)","v":9.765625E-4},{"$f":"IF(Q1651>(AVERAGE(Q1647:Q1650)+R$2),1,\" \")","v":" "}]
["2011-05-16T08:34:52",59.978363037109375,0,null,0,0,null,null,null,-653,30642.486328125,null,1,0,1,-9.46044921875E-4,9.46044921875E-4," "]
["2011-05-16T08:34:54",59.97802734375,0,null,0,0,null,null,null,-653,30645.72265625,null,1,0,1,-3.35693359375E-4,3.35693359375E-4," "]
["2011-05-16T08:34:56",59.97802734375,0,null,0,0,null,null,null,-653,30645.72265625,null,1,0,1,0,0," "]
["2011-05-16T08:34:58",59.978668212890625,0,null,0,0,null,null,null,-653,30645.72265625,null,1,0,1,6.40869140625E-4,6.40869140625E-4," "]
["2011-05-16T08:35:00",59.979644775390625,0,null,0,0,null,null,null,-653,30645.72265625,null,1,0,1,9.765625E-4,9.765625E-4," "]
["2011-05-16T08:35:02",59.980621337890625,0,null,0,0,null,null,null,-653,30645.72265625,null,1,0,1,9.765625E-4,9.765625E-4," "]
["2011-05-16T08:35:04",59.98126220703125,0,null,0,0,null,null,null,-653,30648.5546875,null,1,0,1,6.40869140625E-4,6.40869140625E-4," "]
["2011-05-16T08:35:06",59.98223876953125,0,null,0,0,null,null,null,-653,30648.5546875,null,1,0,1,9.765625E-4,9.765625E-4," "]
["2011-05-16T08:35:08",59.984161376953125,0,null,0,0,null,null,null,-653,30648.5546875,null,1,0,1,1.922607421875E-3,1.922607421875E-3," "]
["2011-05-16T08:35:10",59.9854736328125,0,null,0,0,null,null,null,-653,30648.5546875,null,1,0,1,1.312255859375E-3,1.312255859375E-3," "]
["2011-05-16T08:35:12",59.98577880859375,0,null,0,0,null,null,null,-653,30648.5546875,null,1,0,1,3.0517578125E-4,3.0517578125E-4," "]
["2011-05-16T08:35:14",59.98577880859375,0,null,0,0,null,null,null,-653,30661.05859375,null,1,0,1,0,0," "]
["2011-05-16T08:35:16",59.98675537109375,0,null,0,0,null,null,null,-653,30661.05859375,null,1,0,1,9.765625E-4,9.765625E-4," "]
["2011-05-16T08:35:18",59.990631103515625,0,null,0,0,null,null,null,-653,30661.05859375,null,1,0,1,3.875732421875E-3,3.875732421875E-3," "]
["2011-05-16T08:35:20",59.994171142578125,0,null,0,0,null,null,null,-653,30661.05859375,null,1,0,1,3.5400390625E-3,3.5400390625E-3," "]
["2011-05-16T08:35:22",59.998046875,0,null,0,0,null,null,null,-653,30661.05859375,null,1,0,1,3.875732421875E-3,3.875732421875E-3," "]
["2011-05-16T08:35:24",59.999664306640625,0,null,0,0,null,null,null,-653,30661.05859375,null,1,1,1,1.617431640625E-3,1.617431640625E-3," "]
["2011-05-16T08:35:26",60.00225830078125,0,null,0,0,null,null,null,-653,30661.05859375,null,1,1,1,2.593994140625E-3,2.593994140625E-3," "]
["2011-05-16T08:35:28",60.001953125,0,null,0,0,null,null,null,-653,30661.05859375,null,1,1,1,-3.0517578125E-4,3.0517578125E-4," "]
["2011-05-16T08:35:30",60.0009765625,0,null,0,0,null,null,null,-653,30661.05859375,null,1,1,{"$f":"IF(ROW()<$M$3,0,1)","v":1},-9.765625E-4,9.765625E-4," "]
["2011-05-16T08:35:32",59.999359130859375,0,null,0,0,null,null,null,-653,30661.05859375,null,{"$f":"IF(ROW()<$M$5,0,1)","v":1},1,1,{"$f":"B1672-B1671","v":-1.617431640625E-3},1.617431640625E-3," "]
["2011-05-16T08:35:34",59.99871826171875,0,null,0,0,null,null,null,-653,30684.306640625,null,1,1,1,-6.40869140625E-4,6.40869140625E-4," "]
["2011-05-16T08:35:36",59.99774169921875,0,null,0,0,null,null,null,-653,30684.306640625,null,1,0,1,-9.765625E-4,9.765625E-4," "]
["2011-05-16T08:35:38",59.997406005859375,0,null,0,0,null,null,null,-653,30684.306640625,null,1,0,1,-3.35693359375E-4,3.35693359375E-4," "]
["2011-05-16T08:35:40",59.997406005859375,0,null,0,0,null,null,null,-653,30684.306640625,null,1,0,1,0,0," "]
["2011-05-16T08:35:42",59.998382568359375,0,null,0,0,null,null,null,-653,30684.306640625,null,1,0,1,9.765625E-4,9.765625E-4," "]
["2011-05-16T08:35:44",59.999664306640625,0,null,0,0,null,null,null,-653,30686.830078125,null,1,1,1,1.28173828125E-3,1.28173828125E-3," "]
["2011-05-16T08:35:46",60.000640869140625,0,null,0,0,null,null,null,-653,30686.830078125,null,1,1,1,9.765625E-4,9.765625E-4," "]
["2011-05-16T08:35:48",60.0009765625,0,null,0,0,null,null,null,-653,30686.830078125,null,1,1,1,3.35693359375E-4,3.35693359375E-4," "]
["2011-05-16T08:35:50",60.000640869140625,0,null,0,0,null,null,null,-653,30686.830078125,null,1,1,1,-3.35693359375E-4,3.35693359375E-4," "]
["2011-05-16T08:35:52",60,0,null,0,0,null,null,null,-653,30686.830078125,null,1,1,1,-6.40869140625E-4,6.40869140625E-4," "]
["2011-05-16T08:35:54",59.999359130859375,0,null,0,0,null,null,null,-653,30678.048828125,null,1,1,1,-6.40869140625E-4,6.40869140625E-4," "]
["2011-05-16T08:35:56",59.997406005859375,0,null,0,0,null,null,null,-653,30678.048828125,null,1,0,1,-1.953125E-3,1.953125E-3," "]
["2011-05-16T08:35:58",59.994842529296875,0,null,0,0,null,null,null,null,30678.048828125,null,1,0,1,-2.5634765625E-3,2.5634765625E-3," "]
["2011-05-16T08:36:00",59.992889404296875,0,null,0,0,null,null,null,null,30678.048828125,null,1,0,1,-1.953125E-3,1.953125E-3," "]
["2011-05-16T08:36:02",59.990966796875,0,null,0,0,null,null,null,null,30678.048828125,null,1,0,1,-1.922607421875E-3,1.922607421875E-3," "]
["2011-05-16T08:36:04",59.989654541015625,0,null,0,0,null,null,null,null,30679.185546875,null,1,0,1,-1.312255859375E-3,1.312255859375E-3," "]
["2011-05-16T08:36:06",59.988037109375,0,null,0,0,null,null,null,null,30679.185546875,null,1,0,1,-1.617431640625E-3,1.617431640625E-3," "]
["2011-05-16T08:36:08",59.98773193359375,0,null,0,0,null,null,null,null,30679.185546875,null,1,0,1,-3.0517578125E-4,3.0517578125E-4," "]
["2011-05-16T08:36:10",59.988037109375,0,null,0,0,null,null,null,null,30679.185546875,null,1,0,1,3.0517578125E-4,3.0517578125E-4," "]
["2011-05-16T08:36:12",59.989013671875,0,null,0,0,null,null,null,null,30679.185546875,null,1,0,1,9.765625E-4,9.765625E-4," "]
["2011-05-16T08:36:14",59.990631103515625,0,null,0,0,null,null,null,null,30684.845703125,null,1,0,1,1.617431640625E-3,1.617431640625E-3," "]
["2011-05-16T08:36:16",59.9925537109375,0,null,0,0,null,null,null,null,30684.845703125,null,1,0,1,1.922607421875E-3,1.922607421875E-3," "]
["2011-05-16T08:36:18",59.994842529296875,0,null,0,0,null,null,null,null,30684.845703125,null,1,0,1,2.288818359375E-3,2.288818359375E-3," "]
["2011-05-16T08:36:20",59.99676513671875,0,null,0,0,null,null,null,null,30684.845703125,null,1,0,1,1.922607421875E-3,1.922607421875E-3," "]
["2011-05-16T08:36:22",59.998382568359375,0,null,0,0,null,null,null,null,30684.845703125,null,1,0,1,1.617431640625E-3,1.617431640625E-3," "]
["2011-05-16T08:36:24",59.99871826171875,0,null,0,0,null,null,null,null,30684.9921875,null,1,1,1,3.35693359375E-4,3.35693359375E-4," "]
["2011-05-16T08:36:26",59.99871826171875,0,null,0,0,null,null,null,null,30684.9921875,null,1,1,1,0,0," "]
["2011-05-16T08:36:28",59.999359130859375,0,null,0,0,null,null,null,null,30684.9921875,null,1,1,1,6.40869140625E-4,6.40869140625E-4," "]
["2011-05-16T08:36:30",60.001953125,0,null,0,0,null,null,null,null,30684.9921875,null,1,1,1,2.593994140625E-3,2.593994140625E-3," "]
["2011-05-16T08:36:32",60.004852294921875,0,null,0,0,null,null,null,null,30684.9921875,null,1,1,1,2.899169921875E-3,2.899169921875E-3," "]
["2011-05-16T08:36:34",60.008087158203125,0,null,0,0,null,null,null,null,30687.2890625,null,1,1,1,3.23486328125E-3,3.23486328125E-3," "]
["2011-05-16T08:36:36",60.010986328125,0,null,0,0,null,null,null,null,30687.2890625,null,1,1,1,2.899169921875E-3,2.899169921875E-3," "]
["2011-05-16T08:36:38",60.01324462890625,0,null,0,0,null,null,null,null,30687.2890625,null,1,1,1,2.25830078125E-3,2.25830078125E-3," "]
["2011-05-16T08:36:40",60.01422119140625,0,null,0,0,null,null,null,null,30687.2890625,null,1,1,1,9.765625E-4,9.765625E-4," "]
["2011-05-16T08:36:42",60.014862060546875,0,null,0,0,null,null,null,null,30687.2890625,null,1,1,1,6.40869140625E-4,6.40869140625E-4," "]
["2011-05-16T08:36:44",60.0145263671875,0,null,0,0,null,null,null,null,30687.58984375,null,1,1,1,-3.35693359375E-4,3.35693359375E-4," "]
["2011-05-16T08:36:46",60.01226806640625,0,null,0,0,null,null,null,null,30687.58984375,null,1,1,1,-2.25830078125E-3,2.25830078125E-3," "]
["2011-05-16T08:36:48",60.010986328125,0,null,0,0,null,null,null,null,30687.58984375,null,1,1,1,-1.28173828125E-3,1.28173828125E-3," "]
["2011-05-16T08:36:50",60.010986328125,0,null,0,0,null,null,null,null,30687.58984375,null,1,1,1,0,0," "]
["2011-05-16T08:36:52",60.01226806640625,0,null,0,0,null,null,null,null,30687.58984375,null,1,1,1,1.28173828125E-3,1.28173828125E-3," "]
["2011-05-16T08:36:54",60.01226806640625,0,null,0,0,null,null,null,null,30726.76171875,null,1,1,1,0,0," "]
["2011-05-16T08:36:56",60.011627197265625,0,null,0,0,null,null,null,null,30726.76171875,null,1,1,1,-6.40869140625E-4,6.40869140625E-4," "]
["2011-05-16T08:36:58",60.011322021484375,0,null,0,0,null,null,null,null,30726.76171875,null,1,{"$f":"IF((M1715=1)*(B1715>$N$2),1,0)","v":1},1,-3.0517578125E-4,{"$f":"ABS(P1715)","v":3.0517578125E-4},{"$f":"IF(Q1715>(AVERAGE(Q1711:Q1714)+R$2),1,\" \")","v":" "}]
["2011-05-16T08:37:00",60.011322021484375,0,null,0,0,null,null,null,null,30726.76171875,null,1,1,1,0,0," "]
["2011-05-16T08:37:02",60.010650634765625,0,null,0,0,null,null,null,null,30726.76171875,null,1,1,1,-6.7138671875E-4,6.7138671875E-4," "]
["2011-05-16T08:37:04",60.009033203125,0,null,0,0,null,null,null,null,30726.818359375,null,1,1,1,-1.617431640625E-3,1.617431640625E-3," "]
["2011-05-16T08:37:06",60.008392333984375,0,null,0,0,null,null,null,null,30726.818359375,null,1,1,1,-6.40869140625E-4,6.40869140625E-4," "]
["2011-05-16T08:37:08",60.008087158203125,0,null,0,0,null,null,null,null,30726.818359375,null,1,1,1,-3.0517578125E-4,3.0517578125E-4," "]
["2011-05-16T08:37:10",60.008087158203125,0,null,0,0,null,null,null,null,30726.818359375,null,1,1,1,0,0," "]
["2011-05-16T08:37:12",60.009368896484375,0,null,0,0,null,null,null,null,30726.818359375,null,1,1,1,1.28173828125E-3,1.28173828125E-3," "]
["2011-05-16T08:37:14",60.010986328125,0,null,0,0,null,null,null,null,30720.93359375,null,1,1,1,1.617431640625E-3,1.617431640625E-3," "]
["2011-05-16T08:37:16",60.01226806640625,0,null,0,0,null,null,null,null,30720.93359375,null,1,1,1,1.28173828125E-3,1.28173828125E-3," "]
["2011-05-16T08:37:18",60.012908935546875,0,null,0,0,null,null,null,null,30720.93359375,null,1,1,1,6.40869140625E-4,6.40869140625E-4," "]
["2011-05-16T08:37:20",60.012603759765625,0,null,0,0,null,null,null,null,30720.93359375,null,1,1,1,-3.0517578125E-4,3.0517578125E-4," "]
["2011-05-16T08:37:22",60.011322021484375,0,null,0,0,null,null,null,null,30720.93359375,null,1,1,1,-1.28173828125E-3,1.28173828125E-3," "]
["2011-05-16T08:37:24",60.00970458984375,0,null,0,0,null,null,null,null,30720.533203125,null,1,1,1,-1.617431640625E-3,1.617431640625E-3," "]
["2011-05-16T08:37:26",60.006134033203125,0,null,0,0,null,null,null,null,30720.533203125,null,1,1,1,-3.570556640625E-3,3.570556640625E-3," "]
["2011-05-16T08:37:28",60.002593994140625,0,null,0,0,null,null,null,null,30720.533203125,null,1,1,1,-3.5400390625E-3,3.5400390625E-3," "]
["2011-05-16T08:37:30",59.999359130859375,0,null,0,0,null,null,null,null,30720.533203125,null,1,1,1,-3.23486328125E-3,3.23486328125E-3," "]
["2011-05-16T08:37:32",59.9990234375,0,null,0,0,null,null,null,null,30720.533203125,null,1,1,1,-3.35693359375E-4,3.35693359375E-4," "]
["2011-05-16T08:37:34",60.000335693359375,0,null,0,0,null,null,null,null,30720.6171875,null,1,1,1,1.312255859375E-3,1.312255859375E-3," "]
["2011-05-16T08:37:36",60.000640869140625,0,null,0,0,null,null,null,null,30720.6171875,null,1,1,1,3.0517578125E-4,3.0517578125E-4," "]
["2011-05-16T08:37:38",59.999359130859375,0,null,0,0,null,null,null,null,30720.6171875,null,1,1,{"$f":"IF(ROW()<$M$3,0,1)","v":1},-1.28173828125E-3,1.28173828125E-3," "]
["2011-05-16T08:37:40",59.997406005859375,0,null,0,0,null,null,null,null,30720.6171875,null,{"$f":"IF(ROW()<$M$5,0,1)","v":1},0,1,{"$f":"B1736-B1735","v":-1.953125E-3},1.953125E-3," "]
["2011-05-16T08:37:42",59.99578857421875,0,null,0,0,null,null,null,null,30720.6171875,null,1,0,1,-1.617431640625E-3,1.617431640625E-3," "]
["2011-05-16T08:37:44",59.993865966796875,0,null,0,0,null,null,null,null,30721.146484375,null,1,0,1,-1.922607421875E-3,1.922607421875E-3," "]
["2011-05-16T08:37:46",59.9925537109375,0,null,0,0,null,null,null,null,30721.146484375,null,1,0,1,-1.312255859375E-3,1.312255859375E-3," "]
["2011-05-16T08:37:48",59.991912841796875,0,null,0,0,null,null,null,null,30721.146484375,null,1,0,1,-6.40869140625E-4,6.40869140625E-4," "]
["2011-05-16T08:37:50",59.9925537109375,0,null,0,0,null,null,null,null,30721.146484375,null,1,0,1,6.40869140625E-4,6.40869140625E-4," "]
["2011-05-16T08:37:52",59.9954833984375,0,null,0,0,null,null,null,null,30721.146484375,null,1,0,1,2.9296875E-3,2.9296875E-3," "]
["2011-05-16T08:37:54",60,0,null,0,0,null,null,null,null,30726.865234375,null,1,1,1,4.5166015625E-3,4.5166015625E-3," "]
["2011-05-16T08:37:56",60.00323486328125,0,null,0,0,null,null,null,null,30726.865234375,null,1,1,1,3.23486328125E-3,3.23486328125E-3," "]
["2011-05-16T08:37:58",60.005157470703125,0,null,0,0,null,null,null,null,30726.865234375,null,1,1,1,1.922607421875E-3,1.922607421875E-3," "]
["2011-05-16T08:38:00",60.004852294921875,0,null,0,0,null,null,null,null,30726.865234375,null,1,1,1,-3.0517578125E-4,3.0517578125E-4," "]
["2011-05-16T08:38:02",60.0035400390625,0,null,0,0,null,null,null,null,30726.865234375,null,1,1,1,-1.312255859375E-3,1.312255859375E-3," "]
["2011-05-16T08:38:04",60.00225830078125,0,null,0,0,null,null,null,null,30734.837890625,null,1,1,1,-1.28173828125E-3,1.28173828125E-3," "]
["2011-05-16T08:38:06",60.0009765625,0,null,0,0,null,null,null,null,30734.837890625,null,1,1,1,-1.28173828125E-3,1.28173828125E-3," "]
["2011-05-16T08:38:08",60,0,null,0,0,null,null,null,null,30734.837890625,null,1,1,1,-9.765625E-4,9.765625E-4," "]
["2011-05-16T08:38:10",59.999664306640625,0,null,0,0,null,null,null,null,30734.837890625,null,1,1,1,-3.35693359375E-4,3.35693359375E-4," "]
["2011-05-16T08:38:12",59.999664306640625,0,null,0,0,null,null,null,null,30734.837890625,null,1,1,1,0,0," "]
["2011-05-16T08:38:14",59.99774169921875,0,null,0,0,null,null,null,null,30757.453125,null,1,0,1,-1.922607421875E-3,1.922607421875E-3," "]
["2011-05-16T08:38:16",59.997100830078125,0,null,0,0,null,null,null,null,30757.453125,null,1,0,1,-6.40869140625E-4,6.40869140625E-4," "]
["2011-05-16T08:38:18",59.997406005859375,0,null,0,0,null,null,null,null,30757.453125,null,1,0,1,3.0517578125E-4,3.0517578125E-4," "]
["2011-05-16T08:38:20",59.998046875,0,null,0,0,null,null,null,null,30757.453125,null,1,0,1,6.40869140625E-4,6.40869140625E-4," "]
["2011-05-16T08:38:22",59.99871826171875,0,null,0,0,null,null,null,null,30757.453125,null,1,1,1,6.7138671875E-4,6.7138671875E-4," "]
["2011-05-16T08:38:24",59.999359130859375,0,null,0,0,null,null,null,null,30757.923828125,null,1,1,1,6.40869140625E-4,6.40869140625E-4," "]
["2011-05-16T08:38:26",60,0,null,0,0,null,null,null,null,30757.923828125,null,1,1,1,6.40869140625E-4,6.40869140625E-4," "]
["2011-05-16T08:38:28",60.001617431640625,0,null,0,0,null,null,null,null,30757.923828125,null,1,1,1,1.617431640625E-3,1.617431640625E-3," "]
["2011-05-16T08:38:30",60.00323486328125,0,null,0,0,null,null,null,null,30757.923828125,null,1,1,1,1.617431640625E-3,1.617431640625E-3," "]
["2011-05-16T08:38:32",60.003875732421875,0,null,0,0,null,null,null,null,30757.923828125,null,1,1,1,6.40869140625E-4,6.40869140625E-4," "]
["2011-05-16T08:38:34",60.004852294921875,0,null,0,0,null,null,null,null,30752.271484375,null,1,1,1,9.765625E-4,9.765625E-4," "]
["2011-05-16T08:38:36",60.0054931640625,0,null,0,0,null,null,null,null,30752.271484375,null,1,1,1,6.40869140625E-4,6.40869140625E-4," "]
["2011-05-16T08:38:38",60.006134033203125,0,null,0,0,null,null,null,null,30752.271484375,null,1,1,1,6.40869140625E-4,6.40869140625E-4," "]
["2011-05-16T08:38:40",60.0064697265625,0,null,0,0,null,null,null,null,30752.271484375,null,1,1,1,3.35693359375E-4,3.35693359375E-4," "]
["2011-05-16T08:38:42",60.00677490234375,0,null,0,0,null,null,null,null,30752.271484375,null,1,1,1,3.0517578125E-4,3.0517578125E-4," "]
["2011-05-16T08:38:44",60.00677490234375,0,null,0,0,null,null,null,null,30752.330078125,null,1,1,1,0,0," "]
["2011-05-16T08:38:46",60.006134033203125,0,null,0,0,null,null,null,null,30752.330078125,null,1,1,1,-6.40869140625E-4,6.40869140625E-4," "]
["2011-05-16T08:38:48",60.0054931640625,0,null,0,0,null,null,null,null,30752.330078125,null,1,1,1,-6.40869140625E-4,6.40869140625E-4," "]
["2011-05-16T08:38:50",60.004852294921875,0,null,0,0,null,null,null,null,30752.330078125,null,1,1,1,-6.40869140625E-4,6.40869140625E-4," "]
["2011-05-16T08:38:52",60.004852294921875,0,null,0,0,null,null,null,null,30752.330078125,null,1,1,1,0,0," "]
["2011-05-16T08:38:54",60.006134033203125,0,null,0,0,null,null,null,null,30755.62890625,null,1,1,1,1.28173828125E-3,1.28173828125E-3," "]
["2011-05-16T08:38:56",60.010009765625,0,null,0,0,null,null,null,null,30755.62890625,null,1,1,1,3.875732421875E-3,3.875732421875E-3," "]
["2011-05-16T08:38:58",60.01324462890625,0,null,0,0,null,null,null,null,30755.62890625,null,1,1,1,3.23486328125E-3,3.23486328125E-3," "]
["2011-05-16T08:39:00",60.016143798828125,0,null,0,0,null,null,null,null,30755.62890625,null,1,1,1,2.899169921875E-3,2.899169921875E-3," "]
["2011-05-16T08:39:02",60.018402099609375,0,null,0,0,null,null,null,null,30755.62890625,null,1,1,1,2.25830078125E-3,2.25830078125E-3," "]
["2011-05-16T08:39:04",60.01971435546875,0,null,0,0,null,null,null,null,30755.658203125,null,1,1,1,1.312255859375E-3,1.312255859375E-3," "]
["2011-05-16T08:39:06",60.02099609375,0,null,0,0,null,null,null,null,30755.658203125,null,1,{"$f":"IF((M1779=1)*(B1779>$N$2),1,0)","v":1},1,1.28173828125E-3,{"$f":"ABS(P1779)","v":1.28173828125E-3},{"$f":"IF(Q1779>(AVERAGE(Q1775:Q1778)+R$2),1,\" \")","v":" "}]
["2011-05-16T08:39:08",60.021331787109375,0,null,0,0,null,null,null,null,30755.658203125,null,1,1,1,3.35693359375E-4,3.35693359375E-4," "]
["2011-05-16T08:39:10",60.02197265625,0,null,0,0,null,null,null,null,30755.658203125,null,1,1,1,6.40869140625E-4,6.40869140625E-4," "]
["2011-05-16T08:39:12",60.023590087890625,0,null,0,0,null,null,null,null,30755.658203125,null,1,1,1,1.617431640625E-3,1.617431640625E-3," "]
["2011-05-16T08:39:14",60.026824951171875,0,null,0,0,null,null,null,null,30784.88671875,null,1,1,1,3.23486328125E-3,3.23486328125E-3," "]
["2011-05-16T08:39:16",60.03070068359375,0,null,0,0,null,null,null,null,30784.88671875,null,1,1,1,3.875732421875E-3,3.875732421875E-3," "]
["2011-05-16T08:39:18",60.033599853515625,0,null,0,0,null,null,null,null,30784.88671875,null,1,1,1,2.899169921875E-3,2.899169921875E-3," "]
["2011-05-16T08:39:20",60.03424072265625,0,null,0,0,null,null,null,null,30784.88671875,null,1,1,1,6.40869140625E-4,6.40869140625E-4," "]
["2011-05-16T08:39:22",60.03326416015625,0,null,0,0,null,null,null,null,30784.88671875,null,1,1,1,-9.765625E-4,9.765625E-4," "]
["2011-05-16T08:39:24",60.03070068359375,0,null,0,0,null,null,null,null,30786.982421875,null,1,1,1,-2.5634765625E-3,2.5634765625E-3," "]
["2011-05-16T08:39:26",60.02874755859375,0,null,0,0,null,null,null,null,30786.982421875,null,1,1,1,-1.953125E-3,1.953125E-3," "]
["2011-05-16T08:39:28",60.02874755859375,0,null,0,0,null,null,null,null,30786.982421875,null,1,1,1,0,0," "]
["2011-05-16T08:39:30",60.029388427734375,0,null,0,0,null,null,null,null,30786.982421875,null,1,1,1,6.40869140625E-4,6.40869140625E-4," "]
["2011-05-16T08:39:32",60.029083251953125,0,null,0,0,null,null,null,null,30786.982421875,null,1,1,1,-3.0517578125E-4,3.0517578125E-4," "]
["2011-05-16T08:39:34",60.0284423828125,0,null,0,0,null,null,null,null,30796.27734375,null,1,1,1,-6.40869140625E-4,6.40869140625E-4," "]
["2011-05-16T08:39:36",60.02777099609375,0,null,0,0,null,null,null,null,30796.27734375,null,1,1,1,-6.7138671875E-4,6.7138671875E-4," "]
["2011-05-16T08:39:38",60.028106689453125,0,null,0,0,null,null,null,null,30796.27734375,null,1,1,1,3.35693359375E-4,3.35693359375E-4," "]
["2011-05-16T08:39:40",60.02777099609375,0,null,0,0,null,null,null,null,30796.27734375,null,1,1,1,-3.35693359375E-4,3.35693359375E-4," "]
["2011-05-16T08:39:42",60.02777099609375,0,null,0,0,null,null,null,null,30796.27734375,null,1,1,1,0,0," "]
["2011-05-16T08:39:44",60.02777099609375,0,null,0,0,null,null,null,null,30792.935546875,null,1,1,1,0,0," "]
["2011-05-16T08:39:46",60.0274658203125,0,null,0,0,null,null,null,null,30792.935546875,null,1,1,{"$f":"IF(ROW()<$M$3,0,1)","v":1},-3.0517578125E-4,3.0517578125E-4," "]
["2011-05-16T08:39:48",60.027130126953125,0,null,0,0,null,null,null,null,30792.935546875,null,{"$f":"IF(ROW()<$M$5,0,1)","v":1},1,1,{"$f":"B1800-B1799","v":-3.35693359375E-4},3.35693359375E-4," "]
["2011-05-16T08:39:50",60.02618408203125,0,null,0,0,null,null,null,null,30792.935546875,null,1,1,1,-9.46044921875E-4,9.46044921875E-4," "]
["2011-05-16T08:39:52",60.02520751953125,0,null,0,0,null,null,null,null,30792.935546875,null,1,1,1,-9.765625E-4,9.765625E-4," "]
["2011-05-16T08:39:54",60.024566650390625,0,null,0,0,null,null,null,null,30803.576171875,null,1,1,1,-6.40869140625E-4,6.40869140625E-4," "]
["2011-05-16T08:39:56",60.024871826171875,0,null,0,0,null,null,null,null,30803.576171875,null,1,1,1,3.0517578125E-4,3.0517578125E-4," "]
["2011-05-16T08:39:58",60.0255126953125,0,null,0,0,null,null,null,null,30803.576171875,null,1,1,1,6.40869140625E-4,6.40869140625E-4," "]
["2011-05-16T08:40:00",60.02618408203125,0,null,0,0,null,null,null,null,30803.576171875,null,1,1,1,6.7138671875E-4,6.7138671875E-4," "]

{"sheet":"Copy Results","index":1,"n_rows":38,"n_cols":26,"rows_kept":38,"cut":false,"hidden":false,"merged":[]}
["Balancing Authority Name:","MyBA",null,{"$f":"$B$1&TEXT($B$34,\"\\_yymmdd\")&TEXT($B$35,\"\\_hhmm\")&\"_FRS_Form2.9.xlsm\"","v":"MyBA_110516_0806_FRS_Form2.9.xlsm"}]
[null,"Interconnection Prevailing UFLS First Step Relay trip point",58.5,"Hz"]
[null,"Interconnection High Relay trip point",{"$f":"60-C2+60","v":61.5},"Hz"]
["Note: See \"Instruction\" tab for more detailed instructions.",null,null,null,"Auto","Event Detection",null,null,null,null,null,null,null,null,null,null,null,null,null,null,null,null,null,null,null,"Auto"]
[null,null,null,{"$f":"Data!N3","v":40679.337939814817},1245,"Manually selected row number of the Event Starting Time.",null,null,null,null,null,null,null,null,null,null,null,null,null,null,null,null,null,null,null,"Manual"]
["Step 1.","Copy and Paste Event Data into the appropriate cells of the  \"Data\" worksheet.",null,{"$f":"Data!N4","v":40679.340624999997},1442,"Manually selected row number of the Event Ending Time."]
[null,"Maintain date and time format of mm/dd/yy hh:mm:ss."]
["Step 2.","Data must start at least 2 full minutes before the beginning of the event.",{"$f":"Data!N3","v":40679.337939814817}]
[null,"Collect the same amount of data for each event.  Suggest 2 to 3 minutes before to 15 minutes after (up to 60 minutes total).  Delete unused rows of data in the Data worksheet below your data, columns A through R.  You must also delete any un-used event detection formulas in columns N through R as well."]
["Step 3.","Enter your BA name in cell B1 of this worksheet."]
["Step 4.","Verify that the \"Auto\" Event Detection selected the correct event.  Verify time and delta Hz"]
[null,"by comparing time of event and delta Hz on graph to the right to that on Form 1 for this event.  If the wrong event was selected, in cell \"E4\" of this worksheet select \"Manual\" and manually select the beginning and ending row numbers of the desired event and enter these in cells \"E5\" and \"E6\".  Only rarely should you have to use the \"Manual\" process."]
["Step 5.","Verify that the \"Auto\" selection of T(0) is correct by observing \"Graph 20 to 52s\".",{"$f":"Data!N4","v":40679.340624999997}]
[null,"The very first frequency data point of the event on the graph"]
[null,"must not be included in the \"A Value\" average.  This is accomplished when the "]
[null,"first frequency data point of the event is dead center of the graph on the center"]
[null,"vertical grid line.  The Auto event detection will select the single largest event in the"]
[null,"data provided.  An adjustment for T(0) alignment is provided in Cell Q3 on the Graph 20 to 52s."]
["Step 6.","When T(0) is properly aligned.  Hit the big blue button to copy your data for pasting into FRS Form 1 \"BA Event Data\" worksheet."]
[]
[]
[]
[]
[]
[]
[]
[]
[]
[]
["Step 7.","Paste data into \"FRS Form 1\" in the appropriate row on the \"BA Event Data\" worksheet."]
[null,"Be sure to use the latest version of Form 1.  This is Form 2.9 so use Form 1.9."]
[]
["Step 8.","Save this workbook using the following file name in bold below:"]
[null,{"$f":"Evaluation!G2","v":"2011-05-16T08:06:38"},"Date yymmdd"]
[null,{"$f":"Evaluation!G2","v":40679.337939814817},"Time hh:ss of T(0)"]
[null,"Where \"MyBA\" = your BA mnemonic"]
[]
[null,{"$f":"$B$1&TEXT($B$34,\"\\_yymmdd\")&TEXT($B$35,\"\\_hhmm\")&\"_FRS_Form2.9.xlsm\"","v":"MyBA_110516_0806_FRS_Form2.9.xlsm"}]

{"sheet":"Evaluation","index":2,"n_rows":529,"n_cols":54,"rows_kept":529,"cut":false,"hidden":false,"merged":[]}
[null,2,"seconds",null,null,"Date:",{"$f":"G2","v":"2011-05-16T08:06:38"},null,null,null,"Balancing Authority",{"$f":"'Copy Results'!B1","v":"MyBA"},null,null,null,null,null,"A Point",{"$f":"$B$78","v":40679.337916666671},null,null,null,null,null,"Non-Conforming Load sign convention","+","(Data is positive for Load then enter \"+\" else \"-\"",null,null,null,null,null,null,null,null,null,null,null,"Date:",{"$f":"AN2","v":"2011-05-16T08:06:38"},null,null,null,"Frequency Response Initiative - Additional Primary Frequency Response Evaluation Points"]
[null,null,null,null,null,"Time of T(0)",{"$f":"'Copy Results'!C8","v":40679.337939814817},null,null,null,"Grid Nominal Frequency",60,"Hz",null,null,null,null,"FPointA",{"$f":"$C$78","v":60.001953125},{"$f":"$B$78","v":40679.337916666671},null,null,null,null,null,null,null,null,null,null,null,null,null,null,null,null,null,null,"Time of T(0)",{"$f":"$G2","v":40679.337939814817},null,null,null,"Frequency @ T(+46)",{"$f":"C102","v":59.900814056396484},"Hz"]
[null,null,null,null,null,"Time of Frequency Recovery to 60 Hz or Pre-Perturbation Hz",{"$f":"'Copy Results'!C13","v":40679.340624999997},null,null,null,null,null,null,null,null,null,null,"A Value",{"$f":"AVERAGE($C$71:$C$78)","v":59.998626708984375},null,null,null,null,null,null,null,null,null,null,null,null,null,null,null,null,null,null,null,"Time of Frequency Recovery to 60 Hz or Pre-Perturbation Hz",{"$f":"$G3","v":40679.340624999997},null,null,null,"Frequency @ T(+76)",{"$f":"C117","v":59.914699554443359},"Hz","Actual",null,"Load","Non-"]
[null,null,null,null,null,"Value A Pre-Perturbation Average Frequency [T(-2 ) to T(-16)]",{"$f":"AVERAGE($C$71:$C$78)","v":59.998626708984375},"Hz",null,null,"Droop Setting",0.05,{"$f":"L4*L2","v":3},"Hz",null,null,null,"C Value",{"$f":"IF($K$16=\"Low Hz\",MIN($C$79:$C$88),MAX($C$79:$C$88))","v":59.870113372802734},null,null,null,null,null,null,null,null,null,null,null,null,null,null,null,null,null,null,null,"Value A Pre-Perturbation Average Frequency [T(-2 ) to T(-16)]",{"$f":"AVERAGE($W$71:$W$78)","v":59.998626708984375},"Hz",null,null,"Frequency @ T(+106)",{"$f":"C132","v":59.944091796875},"Hz","Primary","Un-adjusted","Resources","Conforming",null,null,null,"Adjusted"]
[null,null,null,null,null,"Value B Post-Perturbation Average Frequency [T(+20 to T(+52)]",{"$f":"AVERAGE($C$89:$C$105)","v":59.897160922779754},"Hz",null,null,"Deadband Setting",0,"Hz",null,null,null,null,"Delta FC",null,null,null,null,null,null,null,null,null,null,null,null,null,null,null,null,null,null,null,null,"Value B Post-Perturbation Average Frequency [T(+20 to T(+52)]",{"$f":"AVERAGE($W$89:$W$105)","v":59.897160922779754},"Hz",null,null,"Frequency @ T(+136)",{"$f":"C147","v":59.9515380859375},"Hz","Freq Response","P.U.","Tripped","Load","Spare","Spare","Spare","P.U."]
[null,null,null,null,null,"Pre to Post Perturbation Delta Frequency Actual",{"$f":"G5-G4","v":-0.10146578620462066},"Hz",null,null,"Hz Span",{"$f":"M4-L5","v":3},"Hz",null,null,null,null,null,null,null,null,null,null,null,null,null,null,null,null,null,null,null,null,null,null,null,null,null,"Pre to Post Perturbation Delta Frequency Actual",{"$f":"AN5-AN4","v":-0.10146578620462066},"Hz",null,null,"Frequency @ T(+166)",{"$f":"C162","v":59.967376708984375},"Hz","MW/0.1 Hz","Performance","Adjustment","Adjustment","Adjustment","Adjustment","Adjustment","Performance"]
[null,null,null,null,null,"Value A Pre-Perturbation Average Contingent MW [T(-2 ) to T(-16)]",{"$f":"AVERAGE($D$71:$D$78)","v":471.08749389648437},"MW",null,null,null,null,null,null,null,null,null,null,null,null,null,null,null,null,null,null,null,null,null,null,null,null,null,null,null,null,null,null,"Value A Pre-Perturbation Contingency MW [T(-2 ) to T(-16)]",{"$f":"AVERAGE($D$71:$D$78)","v":471.08749389648437},"MW",null,null,"EPFR @ T(+46)",{"$f":"AE102","v":-653},"MW/0.1 Hz",{"$f":"((X102-AK$78)/((AS2-AN$4)*-10))","v":-481.6222456222456},{"$f":"AU7/AS7","v":0.73755320922242817},{"$f":"$Y102-$AN$15","v":0},{"$f":"$Z102-$AN$16","v":0},{"$f":"$AA102-$AN$17","v":0},{"$f":"$AC102*-10*(W102-$L$2)-$AN$19","v":0},{"$f":"$AD102-$AN$20","v":0},{"$f":"(AU7+SUM(AW7:AZ7))/AS7","v":0.73755320922242817}]
[null,null,null,null,null,"Value B Post-Perturbation Average Contingent MW [T(+20 to T(+52)]",{"$f":"AVERAGE($D$89:$D$105)","v":0},"MW",null,null,null,null,null,null,null,null,null,null,null,null,null,null,null,null,null,null,null,null,null,null,null,null,null,null,null,null,null,null,"Value B Post-Perturbation Average Contingency MW [T(+20 to T(+52)]",{"$f":"AVERAGE($D$89:$D$105)-AN28+AN20","v":0},"MW",null,null,"EPFR @ T(+76)",{"$f":"AE117","v":-653},"MW/0.1 Hz",{"$f":"((X117-AK$78)/((AS3-AN$4)*-10))","v":-561.30521339939094},{"$f":"AU8/AS8","v":0.85957919356721435},{"$f":"$Y117-$AN$15","v":0},{"$f":"$Z117-$AN$16","v":0},{"$f":"$AA117-$AN$17","v":0},{"$f":"$AC117*-10*(W117-$L$2)-$AN$19","v":0},{"$f":"$AD117-$AN$20","v":0},{"$f":"(AU8+SUM(AW8:AZ8))/AS8","v":0.85957919356721435}]
[null,null,null,null,null,"Pre to Post Perturbation Contingent Delta MW Actual",{"$f":"G8-G7-AN28+AN20","v":-471.08749389648437},"MW",null,null,null,null,null,null,null,null,null,null,null,null,null,null,null,null,null,null,null,null,null,null,null,null,null,null,null,null,null,null,"Pre to Post Perturbation Contingency Delta MW Actual",{"$f":"(AN8-AN7)*-1","v":471.08749389648437},"MW",null,null,"EPFR @ T(+106)",{"$f":"AE132","v":-653},"MW/0.1 Hz",{"$f":"((X132-AK$78)/((AS4-AN$4)*-10))","v":-863.82736429770569},1.3228596696748938,{"$f":"$Y132-$AN$15","v":0},{"$f":"$Z132-$AN$16","v":0},{"$f":"$AA132-$AN$17","v":0},{"$f":"$AC132*-10*(W132-$L$2)-$AN$19","v":0},{"$f":"$AD132-$AN$20","v":0},{"$f":"(AU9+SUM(AW9:AZ9))/AS9","v":1.3228596696748938}]
[null,null,null,null,null,"Initial Performance Ramp Magnitude Adjustment",{"$f":"(D77-D49)*0.59","v":-5.9003601074218745E-2},"MW",null,null,null,null,null,null,null,null,null,null,null,null,null,null,null,null,null,null,null,null,null,null,null,null,null,null,null,null,null,null,null,null,null,null,null,"EPFR @ T(+136)",{"$f":"AE147","v":-653},"MW/0.1 Hz",{"$f":"((X147-AK$78)/((AS5-AN$4)*-10))","v":-1000.4274141283214},1.5320481073940604,{"$f":"$Y147-$AN$15","v":0},{"$f":"$Z147-$AN$16","v":0},{"$f":"$AA147-$AN$17","v":0},{"$f":"$AC147*-10*(W147-$L$2)-$AN$19","v":0},{"$f":"$AD147-$AN$20","v":0},{"$f":"(AU10+SUM(AW10:AZ10))/AS10","v":1.5320481073940604}]
[null,null,null,null,null,"EPFR Pre-Perturbation Average",{"$f":"AVERAGE(H71:H78)","v":8.96759033203125},"MW",null,null,null,null,null,null,null,null,null,null,null,null,null,null,null,null,null,null,null,null,null,null,null,null,null,null,null,null,null,null,"EPFR Pre-Perturbation Average",{"$f":"AVERAGE(AT71:AT78)","v":8.96759033203125},"MW",null,null,"EPFR @ T(+166)",{"$f":"AE162","v":-653},"MW/0.1 Hz",{"$f":"((X162-AK$78)/((AS6-AN$4)*-10))","v":-1507.47998046875},2.3085451462002298,{"$f":"$Y162-$AN$15","v":0},{"$f":"$Z162-$AN$16","v":0},{"$f":"$AA162-$AN$17","v":0},{"$f":"$AC162*-10*(W162-$L$2)-$AN$19","v":0},{"$f":"$AD162-$AN$20","v":0},{"$f":"(AU11+SUM(AW11:AZ11))/AS11","v":2.3085451462002298}]
[null,null,null,null,null,"EPFR Post-Perturbation Average",{"$f":"AVERAGE(H89:H105)","v":671.53917424819053},"MW",null,null,null,null,null,null,null,null,null,null,null,null,null,null,null,null,null,null,null,null,null,null,null,null,null,null,null,null,null,null,"EPFR Post-Perturbation Average",{"$f":"AVERAGE($AG89:$AG105)","v":671.53917424819053},"MW"]
[null,null,null,null,null,"EPFR Delta",{"$f":"G12-G11","v":662.57158391615928},"MW",null,null,"TC (frequency response filter constant)",0.35,"Time Constant for delayed delivery of PFR during Sustained Measure",null,null,null,null,null,null,null,null,null,null,null,null,null,null,null,null,null,null,null,null,null,null,null,null,null,"EPFR Unadjusted",{"$f":"AN12-AN11","v":662.57158391615928},"MW"]
[null,null,null,null,null,null,null,null,null,null,null,null,null,null,null,null,null,null,null,null,null,null,null,null,null,null,null,null,null,null,null,null,null,null,null,null,null,null,"EPFR  Adjusted",{"$f":"AN13+AN30","v":662.57158391615928},"MW",null,null,"T(20) to T(52) Evaluation"]
[null,null,null,null,null,null,null,null,null,null,null,null,null,null,null,null,null,null,null,null,null,null,null,null,null,null,null,null,null,null,null,null,null,null,null,null,null,null,"Pre Load Resources MW",{"$f":"AVERAGE($Y$71:$Y$78)","v":0},"MW",null,null,"Pre-Perturbation Bias Setting",{"$f":"AVERAGE($AE$71:$AE$78)","v":-653},"MW/0.1 Hz"]
[null,null,null,null,null,null,null,null,null,null,{"$f":"IF(G6<0,\"Low Hz\",\"High Hz\")","v":"Low Hz"},"Delta Hz Event",null,null,null,null,null,null,null,null,null,null,null,null,null,null,null,null,null,null,null,null,null,null,null,null,null,null,"Pre Non-Conforming Load MW",{"$f":"AVERAGE($Z$71:$Z$78)","v":0},"MW",null,null,"Post-Perturbation Bias Setting",{"$f":"AVERAGE($AE$89:$AE$105)","v":-653},"MW/0.1 Hz"]
[null,null,null,null,null,null,null,null,null,null,{"$f":"LOOKUP(G3,B43:B529,N43:N529)","v":0},"Actual Interchange MW Average during frequency recovery period",null,null,null,null,null,null,null,null,null,null,null,null,null,null,null,null,null,null,null,null,null,null,null,null,null,null,"Spare",{"$f":"AVERAGE($AA$71:$AA$78)","v":0},"MW",null,null,"EPFR for Bias Setting Pre-Perturbation Average",{"$f":"(AN4-$L$2)*10*AS15","v":8.96759033203125},"MW"]
[null,null,null,null,null,null,null,null,null,null,{"$f":"LOOKUP(G3,B43:B529,O43:O529)","v":617.52454627191787},"Target Interchange MW Average during frequency recovery period",null,null,null,null,null,null,null,null,null,null,null,null,null,null,null,null,null,null,null,null,null,null,null,null,null,null,null,null,null,null,null,"EPFR for Bias Setting Post-Perturbation Average",{"$f":"(AN5-$L$2)*10*AS16","v":671.53917424820418},"MW"]
[null,null,null,"EPFR = Expected Primary Frequency Response",null,"EPFR(Final)",{"$f":"G13+G10","v":662.51258031508507},"MW",null,null,{"$f":"LOOKUP(G3,B49:B529,Q49:Q529)","v":226.51649603726088},"Interchange Average Ramp MW during frequency recovery period",null,null,null,null,null,null,null,null,null,null,null,null,null,null,null,null,null,null,null,null,null,null,null,null,null,null,"Spare",{"$f":"AVERAGE($AC$71:$AC$78)*-10*(AN4-$L$2)","v":0},"MW",null,null,"EPFR for Bias Setting Delta",{"$f":"AS18-AS17","v":662.57158391617293},"MW"]
[null,null,null,null,null,"MW Response in right direction for frequency delta",{"$f":"IF((G6*G9)>0,\"Yes\",\"No\")","v":"Yes"},null,null,null,{"$f":"D77","v":470.89999389648437},"Actual MW @ T(-4)",null,null,null,null,null,null,null,null,null,null,null,null,null,null,null,null,null,null,null,null,null,null,null,null,null,null,"Spare",{"$f":"AVERAGE($AD$71:$AD$78)","v":0},"MW",null,null,"Primary Frequency Response Delivery % of Bias",{"$f":"(AN9)/AS19","v":0.71099863823330722}]
[null,null,null,null,null,null,null,null,null,null,{"$f":"LOOKUP(G3,B43:B524,D43:D524)-D77+I77-LOOKUP(G3,B43:B524,I43:I524)-AN28+AN20","v":-494.5896370447943},"Starting and Ending Difference in Interchange MW during frequency recovery period (indicates ramp direction during recovery period)",null,null,null,null,null,null,null,null,null,null,null,null,null,null,null,null,null,null,null,null,null,null,null,null,null,null,"Sum of Pre Perturbation Adjustments",{"$f":"SUM(AN15:AN20)","v":0},"MW"]
[null,null,null,null,null,null,null,null,null,null,{"$f":"G3-G2","v":"00:03:52"},"Event Duration (h:mm:ss)"]
[null,null,null,null,null,null,null,null,null,null,{"$f":"IF(K18-K20<0,\"Yes\",\"No\")","v":"No"},"Target MW Average minus MW @ T(-4) less than zero",null,null,null,null,null,null,null,null,null,null,null,null,null,null,null,null,null,null,null,null,null,null,null,null,null,null,"Post Load Resources MW",{"$f":"AVERAGE($Y$89:$Y$105)","v":0},"MW",null,null,"Pre-Perturbation BA Load",{"$f":"AVERAGE($AF$71:$AF$78)","v":30202.7421875},"MW"]
[null,null,null,null,null,null,null,null,null,null,{"$f":"IF(K21>0,K18-K20,K18-(K20+K21))","v":641.21418942022774},"Interchange Target Relative Average Change - MW (Low Frequency Event)",null,null,null,null,null,null,null,null,null,null,null,null,null,null,null,null,null,null,null,null,null,null,null,null,null,null,"Post Non-Conforming Load MW",{"$f":"AVERAGE($Z$89:$Z$105)","v":0},"MW",null,null,"Post-Perturbation BA Load",{"$f":"AVERAGE($AF$89:$AF$105)","v":30136.76953125},"MW"]
[null,null,null,null,null,null,null,null,null,null,{"$f":"IF(K21>0,K17-K20,K17-(K20+K21))","v":23.689643148309926},"Interchange Actual Relative Average Change - MW (Low Frequency Event)",null,null,null,null,null,null,null,null,null,null,null,null,null,null,null,null,null,null,null,null,null,null,null,null,null,null,"Spare",{"$f":"AVERAGE($AA$89:$AA$105)","v":0},"MW",null,null,"Pre to Post Perturbation BA Load Change",{"$f":"AS24-AS23","v":-65.97265625},"MW"]
[null,null,null,null,null,null,null,null,null,null,{"$f":"IF(K17-K20<0,\"Yes\",\"No\")","v":"Yes"},"Interchange Actual Average minus MW @ T(-4) less than zero",null,null,null,null,null,null,null,null,null,null,null,null,null,null,null,null,null,null,null,null,null,null,null,null,null,null,null,null,null,null,null,"Load Dampening Frequency Response",{"$f":"AS25/(AN6*-10)","v":-65.019607808445357},"MW/0.1 Hz"]
[null,null,null,null,null,null,null,null,null,null,{"$f":"IF(K17-K20>0,\"Yes\",\"No\")","v":"No"},"Interchange Average MW minus MW @ T(-4) greater than zero",null,null,null,null,null,null,null,null,null,null,null,null,null,null,null,null,null,null,null,null,null,null,null,null,null,null,"Spare",{"$f":"AVERAGE($AC$89:$AC$105)*-10*(AN5-$L$2)","v":0},"MW",null,null,"Load Dampening % of Total BA Frequency Response",{"$f":"AS25/AN9*-1","v":0.14004331913870902}]
[null,null,null,null,null,null,null,null,null,null,{"$f":"IF(K18-K20>0,\"Yes\",\"No\")","v":"Yes"},"Interchange Target MW Average minus MW @ T(-4) greater than zero",null,null,null,null,null,null,null,null,null,null,null,null,null,null,null,null,null,null,null,null,null,null,null,null,null,null,"Spare",{"$f":"AVERAGE($AD$89:$AD$105)","v":0},"MW"]
[null,null,null,null,null,null,null,null,null,null,{"$f":"IF(K21>0,K18-(K20+K21),K18-K20)","v":146.6245523754335},"Interchange Target Relative Average Change - MW (High Frequency Event)",null,null,null,null,null,null,null,null,null,null,null,null,null,null,null,null,null,null,null,null,null,null,null,null,null,null,"Sum of Post Perturbation Adjustments",{"$f":"SUM(AN23:AN27)","v":0},"MW"]
[null,null,null,null,null,null,null,null,null,null,{"$f":"IF(K21>0,K17-(K20+K21),K17-K20)","v":-470.89999389648437},"Interchange Actual Relative Average Change - MW (High Frequency Event)",null,null,null,null,null,null,null,null,null,null,null,null,null,null,null,null,null,null,null,null,null,null,null,null,null,null,"Net Total Adjustments MW",{"$f":"AN29-AN21","v":0},"MW",null,null,"Average Bias Setting when Hz is greater than +/-0.036 Hz",{"$f":"AVERAGE(AY43:AY529)","v":-653},"MW/0.1 Hz"]
[null,null,null,null,null,null,null,null,null,null,{"$f":"IF(K21>=0,\"Up\",\"Down\")","v":"Down"},"Ramp Direction during frequency recovery period"]
[null,null,null,null,null,null,null,null,null,null,null,null,null,null,null,null,null,null,null,null,null,"Frequency, Actual Interchange, Adjustment Data, Bias and Load used in the evaluation",null,null,null,null,null,null,null,null,null,null,null,null,"20 to 52 second Average Period Evaluation"]
[null,null,null,null,null,"Initial Response P.U. Performance ",{"$f":"IF(G20=\"Yes\",G9/G19*-1,\" \")","v":0.71106196001959598},"P.U.",null,null,{"$f":"AV7","v":0.73755320922242817},"P.U.   Sustianed Response P.U. Performance",null,null,null,null,null,null,null,null,null,null,null,null,null,null,null,null,null,null,null,null,null,null,null,null,null,null,"Initial P.U. Performance for FRO",{"$f":"AN9/AN13","v":0.71099863823332188},"P.U."]
[null,null,null,null,null,null,null,null,null,null,null,null,null,null,null,null,null,null,null,null,null,null,null,null,null,null,null,null,null,null,null,null,null,null,null,null,null,null,"Initial P.U. Performance Adjusted for FRO",{"$f":"((AN8-AN7)*-1+AN30)/AN13","v":0.71099863823332188},"P.U."]
[null,null,null,null,null,null,null,null,null,null,"Initial",null,null,null,null,null,null,null,null,null,null,null,null,null,null,"Non-",null,null,null,null,null,null,null,null,null,null,null,null,"Non-",null,null,null,null,null,null,null,null,"Actual","Actual"]
[null,null,null,null,null,null,null,"Bias",null,null,"Measure",null,null,"Average","Average",null,"Average",null,null,null,null,null,null,"Contingent","Load","Conforming","Not","Not","Not","Not","BA","BA","Expected Primary",null,null,null,"Contingent","Load","Conforming","Not","Not","Not","Not","BA","BA",null,"Expected","Average","Primary"]
[null,null,null,null,null,null,null,"(EPFR)","(TC)",null,"Final",null,null,"Output","Target",null,"Ramp",null,null,null,null,null,null,"Resource","Resources","Load","Used","Used","Used","Used","Bias","Load","Freq Response",null,null,null,"Resource","Resources","Load","Used","Used","Used","Used","Bias","Load",null,"MW/0.1 Hz","Primary","Freq Response"]
[null,null,null,"Contingent","Value B",null,null,"Expected","Delayed",null,"Expected",null,"Recovery","During","During","Recovery","During",null,null,null,null,null,"Frequency","Lost","Tripped","Load (-)",null,null,null,null,"Setting",null,"Based on Bias Setting",null,null,"Frequency","Lost","Tripped","Load (-)",null,null,null,null,"Setting",null,"EPFR","Response","Freq Response","Beta"]
[null,null,null,"Resource","20 to 52 sec",null,null,"Primary","Delivery",null,"Primary","Average","Period","Recovery","Recovery","Period","Recovery",null,null,null,null,"T","Hz","MW","MW","MW","MW",null,"MW/0.1 Hz","MW","MW/0.1 Hz","MW","MW",null,"T","Hz","MW","MW","MW","MW",null,"MW/0.1 Hz","MW","MW/0.1 Hz","MW","MW","MW/0.1 Hz","MW/0.1 Hz","MW/0.1 Hz"]
[null,null,"Frequency","Lost","Average","Average",null,"Frequency","Frequency",null,"Frequency","Ramp","Target","Period","Period","Ramp","Period"]
[null,"T","Hz","MW","Frequency","MW",null,"Response","Response",null,"Response","MW/scan","MW","MW","MW","MW","MW"]
[]
["T-72 sec",{"$f":"B44-TIME(0,0,$B$1)","v":40679.337106481551},{"$f":"LOOKUP($B43,Data!$A$6:$A$1806,Data!$B$6:$B$1806)","v":59.98028564453125},{"$f":"LOOKUP(B43,Data!$A$6:$A$1806,Data!C$6:C$1806)","v":471},null,null,{"$f":"AE43*-M$4*10","v":19590},{"$f":"(IF((C43-L$2)>0,((C43-L$2-L$5)/((L$4*L$2)-L$5)*G43*-1),((C43-L$2+L$5)/((L$4*L$2)-L$5)*G43*-1)))","v":128.7347412109375},{"$f":"L$13*H43+(1-L$13)*I42","v":45.057159423828125},null,null,null,null,null,null,null,null,null,null,null,"T-72 sec",{"$f":"V44-TIME(0,0,$B$1)","v":40679.337106481551},{"$f":"LOOKUP($V43,Data!$A$6:$A$1806,Data!$B$6:$B$1806)","v":59.98028564453125},{"$f":"LOOKUP($V43,Data!$A$6:$A$1806,Data!$C$6:$C$1806)","v":471},{"$f":"LOOKUP($V43,Data!$A$6:$A$1806,Data!$D$6:$D$1806)","v":0},{"$f":"IF($Z$1=\"+\",LOOKUP($V43,Data!$A$6:$A$1806,Data!$E$6:$E$1806)*-1,LOOKUP($V43,Data!$A$6:$A$1806,Data!$E$6:$E$1806))","v":0},{"$f":"LOOKUP($V43,Data!$A$6:$A$1806,Data!$F$6:$F$1806)","v":0},null,{"$f":"LOOKUP($V43,Data!$A$6:$A$1806,Data!$H$6:$H$1806)","v":0},{"$f":"LOOKUP($V43,Data!$A$6:$A$1806,Data!$I$6:$I$1806)","v":0},{"$f":"IF(LOOKUP($V43,Data!$A$6:$A$1806,Data!$J$6:$J$1806)>0,(LOOKUP($V43,Data!$A$6:$A$1806,Data!$J$6:$J$1806)*-1),LOOKUP($V43,Data!$A$6:$A$1806,Data!$J$6:$J$1806))","v":-653},{"$f":"LOOKUP($V43,Data!$A$6:$A$1806,Data!$K$6:$K$1806)","v":30155.671875},{"$f":"(IF((W43-$L$2)>0,((W43-$L$2-$L$5)/(($L$4*$L$2)-$L$5)*G43*-1),((W43-$L$2+$L$5)/(($L$4*$L$2)-$L$5)*G43*-1)))","v":128.7347412109375},"T-72 sec",{"$f":"AI44-TIME(0,0,$B$1)","v":40679.337106481551},null,null,null,null,null,null,null,null,null,null,null,null,null,null,{"$f":"ABS(C43-60)","v":1.971435546875E-2},{"$f":"IF(AX43>0.036,AE43,\" \")","v":" "}]
["T-70 sec",40679.337129629697,{"$f":"LOOKUP(B44,Data!$A$6:$A$1806,Data!B$6:B$1806)","v":59.98223876953125},{"$f":"LOOKUP(B44,Data!$A$6:$A$1806,Data!C$6:C$1806)","v":471},null,null,{"$f":"AE44*-M$4*10","v":19590},{"$f":"(IF((C44-L$2)>0,((C44-L$2-L$5)/((L$4*L$2)-L$5)*G44*-1),((C44-L$2+L$5)/((L$4*L$2)-L$5)*G44*-1)))","v":115.9808349609375},69.880445861816412,null,null,null,null,null,null,null,null,null,null,null,"T-70 sec",40679.337129629697,{"$f":"LOOKUP($V44,Data!$A$6:$A$1806,Data!$B$6:$B$1806)","v":59.98223876953125},{"$f":"LOOKUP($V44,Data!$A$6:$A$1806,Data!$C$6:$C$1806)","v":471},{"$f":"LOOKUP($V44,Data!$A$6:$A$1806,Data!$D$6:$D$1806)","v":0},{"$f":"IF($Z$1=\"+\",LOOKUP($V44,Data!$A$6:$A$1806,Data!$E$6:$E$1806)*-1,LOOKUP($V44,Data!$A$6:$A$1806,Data!$E$6:$E$1806))","v":0},{"$f":"LOOKUP($V44,Data!$A$6:$A$1806,Data!$F$6:$F$1806)","v":0},null,{"$f":"LOOKUP($V44,Data!$A$6:$A$1806,Data!$H$6:$H$1806)","v":0},{"$f":"LOOKUP($V44,Data!$A$6:$A$1806,Data!$I$6:$I$1806)","v":0},{"$f":"IF(LOOKUP($V44,Data!$A$6:$A$1806,Data!$J$6:$J$1806)>0,(LOOKUP($V44,Data!$A$6:$A$1806,Data!$J$6:$J$1806)*-1),LOOKUP($V44,Data!$A$6:$A$1806,Data!$J$6:$J$1806))","v":-653},{"$f":"LOOKUP($V44,Data!$A$6:$A$1806,Data!$K$6:$K$1806)","v":30155.671875},{"$f":"(IF((W44-$L$2)>0,((W44-$L$2-$L$5)/(($L$4*$L$2)-$L$5)*G44*-1),((W44-$L$2+$L$5)/(($L$4*$L$2)-$L$5)*G44*-1)))","v":115.9808349609375},"T-70 sec",40679.337129629697,null,null,null,null,null,null,null,null,null,null,null,null,null,null,{"$f":"ABS(C44-60)","v":1.776123046875E-2},{"$f":"IF(AX44>0.036,AE44,\" \")","v":" "}]
["T-68 sec",40679.337152777844,{"$f":"LOOKUP(B45,Data!$A$6:$A$1806,Data!B$6:B$1806)","v":59.9835205078125},{"$f":"LOOKUP(B45,Data!$A$6:$A$1806,Data!C$6:C$1806)","v":471},null,null,19590,107.611083984375,83.086169204711922,null,null,null,null,null,null,null,null,null,null,null,"T-68 sec",40679.337152777844,{"$f":"LOOKUP($V45,Data!$A$6:$A$1806,Data!$B$6:$B$1806)","v":59.9835205078125},{"$f":"LOOKUP($V45,Data!$A$6:$A$1806,Data!$C$6:$C$1806)","v":471},{"$f":"LOOKUP($V45,Data!$A$6:$A$1806,Data!$D$6:$D$1806)","v":0},{"$f":"IF($Z$1=\"+\",LOOKUP($V45,Data!$A$6:$A$1806,Data!$E$6:$E$1806)*-1,LOOKUP($V45,Data!$A$6:$A$1806,Data!$E$6:$E$1806))","v":0},{"$f":"LOOKUP($V45,Data!$A$6:$A$1806,Data!$F$6:$F$1806)","v":0},null,{"$f":"LOOKUP($V45,Data!$A$6:$A$1806,Data!$H$6:$H$1806)","v":0},{"$f":"LOOKUP($V45,Data!$A$6:$A$1806,Data!$I$6:$I$1806)","v":0},{"$f":"IF(LOOKUP($V45,Data!$A$6:$A$1806,Data!$J$6:$J$1806)>0,(LOOKUP($V45,Data!$A$6:$A$1806,Data!$J$6:$J$1806)*-1),LOOKUP($V45,Data!$A$6:$A$1806,Data!$J$6:$J$1806))","v":-653},{"$f":"LOOKUP($V45,Data!$A$6:$A$1806,Data!$K$6:$K$1806)","v":30155.671875},107.611083984375,"T-68 sec",40679.337152777844,null,null,null,null,null,null,null,null,null,null,null,null,null,null,1.64794921875E-2," "]
["T-66 sec",{"$f":"B47-TIME(0,0,$B$1)","v":40679.33717592599},{"$f":"LOOKUP(B46,Data!$A$6:$A$1806,Data!B$6:B$1806)","v":59.98577880859375},{"$f":"LOOKUP(B46,Data!$A$6:$A$1806,Data!C$6:C$1806)","v":471},null,null,19590,92.8643798828125,86.508542942047129,null,null,null,null,null,null,null,null,null,null,null,"T-66 sec",40679.33717592599,{"$f":"LOOKUP($V46,Data!$A$6:$A$1806,Data!$B$6:$B$1806)","v":59.98577880859375},{"$f":"LOOKUP($V46,Data!$A$6:$A$1806,Data!$C$6:$C$1806)","v":471},{"$f":"LOOKUP($V46,Data!$A$6:$A$1806,Data!$D$6:$D$1806)","v":0},{"$f":"IF($Z$1=\"+\",LOOKUP($V46,Data!$A$6:$A$1806,Data!$E$6:$E$1806)*-1,LOOKUP($V46,Data!$A$6:$A$1806,Data!$E$6:$E$1806))","v":0},{"$f":"LOOKUP($V46,Data!$A$6:$A$1806,Data!$F$6:$F$1806)","v":0},null,{"$f":"LOOKUP($V46,Data!$A$6:$A$1806,Data!$H$6:$H$1806)","v":0},{"$f":"LOOKUP($V46,Data!$A$6:$A$1806,Data!$I$6:$I$1806)","v":0},{"$f":"IF(LOOKUP($V46,Data!$A$6:$A$1806,Data!$J$6:$J$1806)>0,(LOOKUP($V46,Data!$A$6:$A$1806,Data!$J$6:$J$1806)*-1),LOOKUP($V46,Data!$A$6:$A$1806,Data!$J$6:$J$1806))","v":-653},{"$f":"LOOKUP($V46,Data!$A$6:$A$1806,Data!$K$6:$K$1806)","v":30155.671875},92.8643798828125,"T-66 sec",40679.33717592599,null,null,null,null,null,null,null,null,null,null,null,null,null,null,1.422119140625E-2," "]
["T-64 sec",40679.337199074136,{"$f":"LOOKUP(B47,Data!$A$6:$A$1806,Data!B$6:B$1806)","v":59.987396240234375},{"$f":"LOOKUP(B47,Data!$A$6:$A$1806,Data!C$6:C$1806)","v":471},null,null,19590,82.30255126953125,85.036445856666575,null,null,null,null,null,null,null,null,null,null,null,"T-64 sec",40679.337199074136,{"$f":"LOOKUP($V47,Data!$A$6:$A$1806,Data!$B$6:$B$1806)","v":59.987396240234375},{"$f":"LOOKUP($V47,Data!$A$6:$A$1806,Data!$C$6:$C$1806)","v":471},{"$f":"LOOKUP($V47,Data!$A$6:$A$1806,Data!$D$6:$D$1806)","v":0},{"$f":"IF($Z$1=\"+\",LOOKUP($V47,Data!$A$6:$A$1806,Data!$E$6:$E$1806)*-1,LOOKUP($V47,Data!$A$6:$A$1806,Data!$E$6:$E$1806))","v":0},{"$f":"LOOKUP($V47,Data!$A$6:$A$1806,Data!$F$6:$F$1806)","v":0},null,{"$f":"LOOKUP($V47,Data!$A$6:$A$1806,Data!$H$6:$H$1806)","v":0},{"$f":"LOOKUP($V47,Data!$A$6:$A$1806,Data!$I$6:$I$1806)","v":0},{"$f":"IF(LOOKUP($V47,Data!$A$6:$A$1806,Data!$J$6:$J$1806)>0,(LOOKUP($V47,Data!$A$6:$A$1806,Data!$J$6:$J$1806)*-1),LOOKUP($V47,Data!$A$6:$A$1806,Data!$J$6:$J$1806))","v":-653},{"$f":"LOOKUP($V47,Data!$A$6:$A$1806,Data!$K$6:$K$1806)","v":30142.791015625},82.30255126953125,"T-64 sec",40679.337199074136,null,null,null,null,null,null,null,null,null,null,null,null,null,null,1.2603759765625E-2," "]
["T-62 sec",40679.337222222282,{"$f":"LOOKUP(B48,Data!$A$6:$A$1806,Data!B$6:B$1806)","v":59.988037109375},{"$f":"LOOKUP(B48,Data!$A$6:$A$1806,Data!C$6:C$1806)","v":471},null,null,19590,78.11767578125,82.614876330270775,null,null,null,null,null,null,null,null,null,null,null,"T-62 sec",40679.337222222282,{"$f":"LOOKUP($V48,Data!$A$6:$A$1806,Data!$B$6:$B$1806)","v":59.988037109375},{"$f":"LOOKUP($V48,Data!$A$6:$A$1806,Data!$C$6:$C$1806)","v":471},{"$f":"LOOKUP($V48,Data!$A$6:$A$1806,Data!$D$6:$D$1806)","v":0},{"$f":"IF($Z$1=\"+\",LOOKUP($V48,Data!$A$6:$A$1806,Data!$E$6:$E$1806)*-1,LOOKUP($V48,Data!$A$6:$A$1806,Data!$E$6:$E$1806))","v":0},{"$f":"LOOKUP($V48,Data!$A$6:$A$1806,Data!$F$6:$F$1806)","v":0},null,{"$f":"LOOKUP($V48,Data!$A$6:$A$1806,Data!$H$6:$H$1806)","v":0},{"$f":"LOOKUP($V48,Data!$A$6:$A$1806,Data!$I$6:$I$1806)","v":0},{"$f":"IF(LOOKUP($V48,Data!$A$6:$A$1806,Data!$J$6:$J$1806)>0,(LOOKUP($V48,Data!$A$6:$A$1806,Data!$J$6:$J$1806)*-1),LOOKUP($V48,Data!$A$6:$A$1806,Data!$J$6:$J$1806))","v":-653},{"$f":"LOOKUP($V48,Data!$A$6:$A$1806,Data!$K$6:$K$1806)","v":30142.791015625},78.11767578125,"T-62 sec",40679.337222222282,null,null,null,null,null,null,null,null,null,null,null,null,null,null,1.1962890625E-2," "]
["T-60 sec",40679.337245370429,{"$f":"LOOKUP(B49,Data!$A$6:$A$1806,Data!B$6:B$1806)","v":59.987396240234375},{"$f":"LOOKUP(B49,Data!$A$6:$A$1806,Data!C$6:C$1806)","v":471},null,null,19590,82.30255126953125,82.505562559011935,null,null,{"$f":"(D$78-D$49-I$78+I$49)/29","v":2.9468822525130669},{"$f":"M50-L49-(I50-I49)","v":470.99999999999932},null,null,null,null,null,null,null,"T-60 sec",40679.337245370429,{"$f":"LOOKUP($V49,Data!$A$6:$A$1806,Data!$B$6:$B$1806)","v":59.987396240234375},{"$f":"LOOKUP($V49,Data!$A$6:$A$1806,Data!$C$6:$C$1806)","v":471},{"$f":"LOOKUP($V49,Data!$A$6:$A$1806,Data!$D$6:$D$1806)","v":0},{"$f":"IF($Z$1=\"+\",LOOKUP($V49,Data!$A$6:$A$1806,Data!$E$6:$E$1806)*-1,LOOKUP($V49,Data!$A$6:$A$1806,Data!$E$6:$E$1806))","v":0},{"$f":"LOOKUP($V49,Data!$A$6:$A$1806,Data!$F$6:$F$1806)","v":0},null,{"$f":"LOOKUP($V49,Data!$A$6:$A$1806,Data!$H$6:$H$1806)","v":0},{"$f":"LOOKUP($V49,Data!$A$6:$A$1806,Data!$I$6:$I$1806)","v":0},{"$f":"IF(LOOKUP($V49,Data!$A$6:$A$1806,Data!$J$6:$J$1806)>0,(LOOKUP($V49,Data!$A$6:$A$1806,Data!$J$6:$J$1806)*-1),LOOKUP($V49,Data!$A$6:$A$1806,Data!$J$6:$J$1806))","v":-653},{"$f":"LOOKUP($V49,Data!$A$6:$A$1806,Data!$K$6:$K$1806)","v":30142.791015625},82.30255126953125,"T-60 sec",40679.337245370429,null,null,null,null,null,null,null,null,null,null,null,null,null,null,1.2603759765625E-2," "]
["T-58 sec",40679.337268518575,{"$f":"LOOKUP(B50,Data!$A$6:$A$1806,Data!B$6:B$1806)","v":59.986114501953125},{"$f":"LOOKUP(B50,Data!$A$6:$A$1806,Data!C$6:C$1806)","v":471},null,null,19590,90.67230224609375,85.363921449490562,null,null,2.9468822525130669,{"$f":"M51-L50-(I51-I50)","v":476.80524114299106},null,null,null,null,null,null,null,"T-58 sec",40679.337268518575,{"$f":"LOOKUP($V50,Data!$A$6:$A$1806,Data!$B$6:$B$1806)","v":59.986114501953125},{"$f":"LOOKUP($V50,Data!$A$6:$A$1806,Data!$C$6:$C$1806)","v":471},{"$f":"LOOKUP($V50,Data!$A$6:$A$1806,Data!$D$6:$D$1806)","v":0},{"$f":"IF($Z$1=\"+\",LOOKUP($V50,Data!$A$6:$A$1806,Data!$E$6:$E$1806)*-1,LOOKUP($V50,Data!$A$6:$A$1806,Data!$E$6:$E$1806))","v":0},{"$f":"LOOKUP($V50,Data!$A$6:$A$1806,Data!$F$6:$F$1806)","v":0},null,{"$f":"LOOKUP($V50,Data!$A$6:$A$1806,Data!$H$6:$H$1806)","v":0},{"$f":"LOOKUP($V50,Data!$A$6:$A$1806,Data!$I$6:$I$1806)","v":0},{"$f":"IF(LOOKUP($V50,Data!$A$6:$A$1806,Data!$J$6:$J$1806)>0,(LOOKUP($V50,Data!$A$6:$A$1806,Data!$J$6:$J$1806)*-1),LOOKUP($V50,Data!$A$6:$A$1806,Data!$J$6:$J$1806))","v":-653},{"$f":"LOOKUP($V50,Data!$A$6:$A$1806,Data!$K$6:$K$1806)","v":30142.791015625},90.67230224609375,"T-58 sec",40679.337268518575,null,null,null,null,null,null,null,null,null,null,null,null,null,null,1.3885498046875E-2," "]
["T-56 sec",40679.337291666721,{"$f":"LOOKUP(B51,Data!$A$6:$A$1806,Data!B$6:B$1806)","v":59.98480224609375},{"$f":"LOOKUP(B51,Data!$A$6:$A$1806,Data!C$6:C$1806)","v":471},null,null,19590,99.2413330078125,90.221015494903241,null,null,2.9468822525130669,484.60921744091684,null,null,null,null,null,null,null,"T-56 sec",40679.337291666721,{"$f":"LOOKUP($V51,Data!$A$6:$A$1806,Data!$B$6:$B$1806)","v":59.98480224609375},{"$f":"LOOKUP($V51,Data!$A$6:$A$1806,Data!$C$6:$C$1806)","v":471},{"$f":"LOOKUP($V51,Data!$A$6:$A$1806,Data!$D$6:$D$1806)","v":0},{"$f":"IF($Z$1=\"+\",LOOKUP($V51,Data!$A$6:$A$1806,Data!$E$6:$E$1806)*-1,LOOKUP($V51,Data!$A$6:$A$1806,Data!$E$6:$E$1806))","v":0},{"$f":"LOOKUP($V51,Data!$A$6:$A$1806,Data!$F$6:$F$1806)","v":0},null,{"$f":"LOOKUP($V51,Data!$A$6:$A$1806,Data!$H$6:$H$1806)","v":0},{"$f":"LOOKUP($V51,Data!$A$6:$A$1806,Data!$I$6:$I$1806)","v":0},{"$f":"IF(LOOKUP($V51,Data!$A$6:$A$1806,Data!$J$6:$J$1806)>0,(LOOKUP($V51,Data!$A$6:$A$1806,Data!$J$6:$J$1806)*-1),LOOKUP($V51,Data!$A$6:$A$1806,Data!$J$6:$J$1806))","v":-653},{"$f":"LOOKUP($V51,Data!$A$6:$A$1806,Data!$K$6:$K$1806)","v":30142.791015625},99.2413330078125,"T-56 sec",40679.337291666721,null,null,null,null,null,null,null,null,null,null,null,null,null,null,1.519775390625E-2," "]
["T-54 sec",40679.337314814868,{"$f":"LOOKUP(B52,Data!$A$6:$A$1806,Data!B$6:B$1806)","v":59.9835205078125},{"$f":"LOOKUP(B52,Data!$A$6:$A$1806,Data!C$6:C$1806)","v":471},null,null,19590,107.611083984375,96.307539466218358,null,null,2.9468822525130669,493.64262366474503,null,null,null,null,null,null,null,"T-54 sec",40679.337314814868,{"$f":"LOOKUP($V52,Data!$A$6:$A$1806,Data!$B$6:$B$1806)","v":59.9835205078125},{"$f":"LOOKUP($V52,Data!$A$6:$A$1806,Data!$C$6:$C$1806)","v":471},{"$f":"LOOKUP($V52,Data!$A$6:$A$1806,Data!$D$6:$D$1806)","v":0},{"$f":"IF($Z$1=\"+\",LOOKUP($V52,Data!$A$6:$A$1806,Data!$E$6:$E$1806)*-1,LOOKUP($V52,Data!$A$6:$A$1806,Data!$E$6:$E$1806))","v":0},{"$f":"LOOKUP($V52,Data!$A$6:$A$1806,Data!$F$6:$F$1806)","v":0},null,{"$f":"LOOKUP($V52,Data!$A$6:$A$1806,Data!$H$6:$H$1806)","v":0},{"$f":"LOOKUP($V52,Data!$A$6:$A$1806,Data!$I$6:$I$1806)","v":0},{"$f":"IF(LOOKUP($V52,Data!$A$6:$A$1806,Data!$J$6:$J$1806)>0,(LOOKUP($V52,Data!$A$6:$A$1806,Data!$J$6:$J$1806)*-1),LOOKUP($V52,Data!$A$6:$A$1806,Data!$J$6:$J$1806))","v":-653},{"$f":"LOOKUP($V52,Data!$A$6:$A$1806,Data!$K$6:$K$1806)","v":30154.666015625},107.611083984375,"T-54 sec",40679.337314814868,null,null,null,null,null,null,null,null,null,null,null,null,null,null,1.64794921875E-2," "]
["T-52 sec",40679.337337963014,{"$f":"LOOKUP(B53,Data!$A$6:$A$1806,Data!B$6:B$1806)","v":59.983184814453125},{"$f":"LOOKUP(B53,Data!$A$6:$A$1806,Data!C$6:C$1806)","v":471},null,null,19590,109.80316162109375,101.03100722042475,null,null,2.9468822525130669,501.31297367146453,null,null,null,null,null,null,null,"T-52 sec",40679.337337963014,{"$f":"LOOKUP($V53,Data!$A$6:$A$1806,Data!$B$6:$B$1806)","v":59.983184814453125},{"$f":"LOOKUP($V53,Data!$A$6:$A$1806,Data!$C$6:$C$1806)","v":471},{"$f":"LOOKUP($V53,Data!$A$6:$A$1806,Data!$D$6:$D$1806)","v":0},{"$f":"IF($Z$1=\"+\",LOOKUP($V53,Data!$A$6:$A$1806,Data!$E$6:$E$1806)*-1,LOOKUP($V53,Data!$A$6:$A$1806,Data!$E$6:$E$1806))","v":0},{"$f":"LOOKUP($V53,Data!$A$6:$A$1806,Data!$F$6:$F$1806)","v":0},null,{"$f":"LOOKUP($V53,Data!$A$6:$A$1806,Data!$H$6:$H$1806)","v":0},{"$f":"LOOKUP($V53,Data!$A$6:$A$1806,Data!$I$6:$I$1806)","v":0},{"$f":"IF(LOOKUP($V53,Data!$A$6:$A$1806,Data!$J$6:$J$1806)>0,(LOOKUP($V53,Data!$A$6:$A$1806,Data!$J$6:$J$1806)*-1),LOOKUP($V53,Data!$A$6:$A$1806,Data!$J$6:$J$1806))","v":-653},{"$f":"LOOKUP($V53,Data!$A$6:$A$1806,Data!$K$6:$K$1806)","v":30154.666015625},109.80316162109375,"T-52 sec",40679.337337963014,null,null,null,null,null,null,null,null,null,null,null,null,null,null,1.6815185546875E-2," "]
["T-50 sec",40679.33736111116,{"$f":"LOOKUP(B54,Data!$A$6:$A$1806,Data!B$6:B$1806)","v":59.9835205078125},{"$f":"LOOKUP(B54,Data!$A$6:$A$1806,Data!C$6:C$1806)","v":471},null,null,19590,107.611083984375,103.33403408780734,null,null,2.9468822525130669,506.56288279136021,null,null,null,null,null,null,null,"T-50 sec",40679.33736111116,{"$f":"LOOKUP($V54,Data!$A$6:$A$1806,Data!$B$6:$B$1806)","v":59.9835205078125},{"$f":"LOOKUP($V54,Data!$A$6:$A$1806,Data!$C$6:$C$1806)","v":471},{"$f":"LOOKUP($V54,Data!$A$6:$A$1806,Data!$D$6:$D$1806)","v":0},{"$f":"IF($Z$1=\"+\",LOOKUP($V54,Data!$A$6:$A$1806,Data!$E$6:$E$1806)*-1,LOOKUP($V54,Data!$A$6:$A$1806,Data!$E$6:$E$1806))","v":0},{"$f":"LOOKUP($V54,Data!$A$6:$A$1806,Data!$F$6:$F$1806)","v":0},null,{"$f":"LOOKUP($V54,Data!$A$6:$A$1806,Data!$H$6:$H$1806)","v":0},{"$f":"LOOKUP($V54,Data!$A$6:$A$1806,Data!$I$6:$I$1806)","v":0},{"$f":"IF(LOOKUP($V54,Data!$A$6:$A$1806,Data!$J$6:$J$1806)>0,(LOOKUP($V54,Data!$A$6:$A$1806,Data!$J$6:$J$1806)*-1),LOOKUP($V54,Data!$A$6:$A$1806,Data!$J$6:$J$1806))","v":-653},{"$f":"LOOKUP($V54,Data!$A$6:$A$1806,Data!$K$6:$K$1806)","v":30154.666015625},107.611083984375,"T-50 sec",40679.33736111116,null,null,null,null,null,null,null,null,null,null,null,null,null,null,1.64794921875E-2," "]
["T-48 sec",40679.337384259306,{"$f":"LOOKUP(B55,Data!$A$6:$A$1806,Data!B$6:B$1806)","v":59.984161376953125},{"$f":"LOOKUP(B55,Data!$A$6:$A$1806,Data!C$6:C$1806)","v":471.30001831054687},null,null,19590,103.42620849609375,103.36629513070758,null,null,2.9468822525130669,509.54202608677355,null,null,null,null,null,null,null,"T-48 sec",40679.337384259306,{"$f":"LOOKUP($V55,Data!$A$6:$A$1806,Data!$B$6:$B$1806)","v":59.984161376953125},{"$f":"LOOKUP($V55,Data!$A$6:$A$1806,Data!$C$6:$C$1806)","v":471.30001831054687},{"$f":"LOOKUP($V55,Data!$A$6:$A$1806,Data!$D$6:$D$1806)","v":0},{"$f":"IF($Z$1=\"+\",LOOKUP($V55,Data!$A$6:$A$1806,Data!$E$6:$E$1806)*-1,LOOKUP($V55,Data!$A$6:$A$1806,Data!$E$6:$E$1806))","v":0},{"$f":"LOOKUP($V55,Data!$A$6:$A$1806,Data!$F$6:$F$1806)","v":0},null,{"$f":"LOOKUP($V55,Data!$A$6:$A$1806,Data!$H$6:$H$1806)","v":0},{"$f":"LOOKUP($V55,Data!$A$6:$A$1806,Data!$I$6:$I$1806)","v":0},{"$f":"IF(LOOKUP($V55,Data!$A$6:$A$1806,Data!$J$6:$J$1806)>0,(LOOKUP($V55,Data!$A$6:$A$1806,Data!$J$6:$J$1806)*-1),LOOKUP($V55,Data!$A$6:$A$1806,Data!$J$6:$J$1806))","v":-653},{"$f":"LOOKUP($V55,Data!$A$6:$A$1806,Data!$K$6:$K$1806)","v":30150.34765625},103.42620849609375,"T-48 sec",40679.337384259306,null,null,null,null,null,null,null,null,null,null,null,null,null,null,1.5838623046875E-2," "]
["T-46 sec",40679.337407407453,{"$f":"LOOKUP(B56,Data!$A$6:$A$1806,Data!B$6:B$1806)","v":59.985137939453125},{"$f":"LOOKUP(B56,Data!$A$6:$A$1806,Data!C$6:C$1806)","v":471.30001831054687},null,null,19590,97.04925537109375,101.15533121484275,null,null,2.9468822525130669,510.27794442342179,null,null,null,null,null,null,null,"T-46 sec",40679.337407407453,{"$f":"LOOKUP($V56,Data!$A$6:$A$1806,Data!$B$6:$B$1806)","v":59.985137939453125},{"$f":"LOOKUP($V56,Data!$A$6:$A$1806,Data!$C$6:$C$1806)","v":471.30001831054687},{"$f":"LOOKUP($V56,Data!$A$6:$A$1806,Data!$D$6:$D$1806)","v":0},{"$f":"IF($Z$1=\"+\",LOOKUP($V56,Data!$A$6:$A$1806,Data!$E$6:$E$1806)*-1,LOOKUP($V56,Data!$A$6:$A$1806,Data!$E$6:$E$1806))","v":0},{"$f":"LOOKUP($V56,Data!$A$6:$A$1806,Data!$F$6:$F$1806)","v":0},null,{"$f":"LOOKUP($V56,Data!$A$6:$A$1806,Data!$H$6:$H$1806)","v":0},{"$f":"LOOKUP($V56,Data!$A$6:$A$1806,Data!$I$6:$I$1806)","v":0},{"$f":"IF(LOOKUP($V56,Data!$A$6:$A$1806,Data!$J$6:$J$1806)>0,(LOOKUP($V56,Data!$A$6:$A$1806,Data!$J$6:$J$1806)*-1),LOOKUP($V56,Data!$A$6:$A$1806,Data!$J$6:$J$1806))","v":-653},{"$f":"LOOKUP($V56,Data!$A$6:$A$1806,Data!$K$6:$K$1806)","v":30150.34765625},97.04925537109375,"T-46 sec",40679.337407407453,null,null,null,null,null,null,null,null,null,null,null,null,null,null,1.4862060546875E-2," "]
["T-44 sec",40679.337430555599,{"$f":"LOOKUP(B57,Data!$A$6:$A$1806,Data!B$6:B$1806)","v":59.9854736328125},{"$f":"LOOKUP(B57,Data!$A$6:$A$1806,Data!C$6:C$1806)","v":471.30001831054687},null,null,19590,94.857177734375,98.950977496679045,null,null,2.9468822525130669,511.02047295777118,null,null,null,null,null,null,null,"T-44 sec",40679.337430555599,{"$f":"LOOKUP($V57,Data!$A$6:$A$1806,Data!$B$6:$B$1806)","v":59.9854736328125},{"$f":"LOOKUP($V57,Data!$A$6:$A$1806,Data!$C$6:$C$1806)","v":471.30001831054687},{"$f":"LOOKUP($V57,Data!$A$6:$A$1806,Data!$D$6:$D$1806)","v":0},{"$f":"IF($Z$1=\"+\",LOOKUP($V57,Data!$A$6:$A$1806,Data!$E$6:$E$1806)*-1,LOOKUP($V57,Data!$A$6:$A$1806,Data!$E$6:$E$1806))","v":0},{"$f":"LOOKUP($V57,Data!$A$6:$A$1806,Data!$F$6:$F$1806)","v":0},null,{"$f":"LOOKUP($V57,Data!$A$6:$A$1806,Data!$H$6:$H$1806)","v":0},{"$f":"LOOKUP($V57,Data!$A$6:$A$1806,Data!$I$6:$I$1806)","v":0},{"$f":"IF(LOOKUP($V57,Data!$A$6:$A$1806,Data!$J$6:$J$1806)>0,(LOOKUP($V57,Data!$A$6:$A$1806,Data!$J$6:$J$1806)*-1),LOOKUP($V57,Data!$A$6:$A$1806,Data!$J$6:$J$1806))","v":-653},{"$f":"LOOKUP($V57,Data!$A$6:$A$1806,Data!$K$6:$K$1806)","v":30159.634765625},94.857177734375,"T-44 sec",40679.337430555599,null,null,null,null,null,null,null,null,null,null,null,null,null,null,1.45263671875E-2," "]
["T-42 sec",40679.337453703745,{"$f":"LOOKUP(B58,Data!$A$6:$A$1806,Data!B$6:B$1806)","v":59.986419677734375},{"$f":"LOOKUP(B58,Data!$A$6:$A$1806,Data!C$6:C$1806)","v":471.30001831054687},null,null,19590,88.67950439453125,95.35596191092732,null,null,2.9468822525130669,510.37233962453251,null,null,null,null,null,null,null,"T-42 sec",40679.337453703745,{"$f":"LOOKUP($V58,Data!$A$6:$A$1806,Data!$B$6:$B$1806)","v":59.986419677734375},{"$f":"LOOKUP($V58,Data!$A$6:$A$1806,Data!$C$6:$C$1806)","v":471.30001831054687},{"$f":"LOOKUP($V58,Data!$A$6:$A$1806,Data!$D$6:$D$1806)","v":0},{"$f":"IF($Z$1=\"+\",LOOKUP($V58,Data!$A$6:$A$1806,Data!$E$6:$E$1806)*-1,LOOKUP($V58,Data!$A$6:$A$1806,Data!$E$6:$E$1806))","v":0},{"$f":"LOOKUP($V58,Data!$A$6:$A$1806,Data!$F$6:$F$1806)","v":0},null,{"$f":"LOOKUP($V58,Data!$A$6:$A$1806,Data!$H$6:$H$1806)","v":0},{"$f":"LOOKUP($V58,Data!$A$6:$A$1806,Data!$I$6:$I$1806)","v":0},{"$f":"IF(LOOKUP($V58,Data!$A$6:$A$1806,Data!$J$6:$J$1806)>0,(LOOKUP($V58,Data!$A$6:$A$1806,Data!$J$6:$J$1806)*-1),LOOKUP($V58,Data!$A$6:$A$1806,Data!$J$6:$J$1806))","v":-653},{"$f":"LOOKUP($V58,Data!$A$6:$A$1806,Data!$K$6:$K$1806)","v":30159.634765625},88.67950439453125,"T-42 sec",40679.337453703745,null,null,null,null,null,null,null,null,null,null,null,null,null,null,1.3580322265625E-2," "]
["T-40 sec",40679.337476851892,{"$f":"LOOKUP(B59,Data!$A$6:$A$1806,Data!B$6:B$1806)","v":59.98675537109375},{"$f":"LOOKUP(B59,Data!$A$6:$A$1806,Data!C$6:C$1806)","v":471.89999389648437},null,null,19590,86.4874267578125,92.251974607337132,null,null,2.9468822525130669,510.2152345734554,null,null,null,null,null,null,null,"T-40 sec",40679.337476851892,{"$f":"LOOKUP($V59,Data!$A$6:$A$1806,Data!$B$6:$B$1806)","v":59.98675537109375},{"$f":"LOOKUP($V59,Data!$A$6:$A$1806,Data!$C$6:$C$1806)","v":471.89999389648437},{"$f":"LOOKUP($V59,Data!$A$6:$A$1806,Data!$D$6:$D$1806)","v":0},{"$f":"IF($Z$1=\"+\",LOOKUP($V59,Data!$A$6:$A$1806,Data!$E$6:$E$1806)*-1,LOOKUP($V59,Data!$A$6:$A$1806,Data!$E$6:$E$1806))","v":0},{"$f":"LOOKUP($V59,Data!$A$6:$A$1806,Data!$F$6:$F$1806)","v":0},null,{"$f":"LOOKUP($V59,Data!$A$6:$A$1806,Data!$H$6:$H$1806)","v":0},{"$f":"LOOKUP($V59,Data!$A$6:$A$1806,Data!$I$6:$I$1806)","v":0},{"$f":"IF(LOOKUP($V59,Data!$A$6:$A$1806,Data!$J$6:$J$1806)>0,(LOOKUP($V59,Data!$A$6:$A$1806,Data!$J$6:$J$1806)*-1),LOOKUP($V59,Data!$A$6:$A$1806,Data!$J$6:$J$1806))","v":-653},{"$f":"LOOKUP($V59,Data!$A$6:$A$1806,Data!$K$6:$K$1806)","v":30159.634765625},86.4874267578125,"T-40 sec",40679.337476851892,null,null,null,null,null,null,null,null,null,null,null,null,null,null,1.324462890625E-2," "]
["T-38 sec",40679.337500000038,{"$f":"LOOKUP(B60,Data!$A$6:$A$1806,Data!B$6:B$1806)","v":59.987396240234375},{"$f":"LOOKUP(B60,Data!$A$6:$A$1806,Data!C$6:C$1806)","v":471.89999389648437},null,null,19590,82.30255126953125,88.769676439105069,null,null,2.9468822525130669,509.67981865773646,null,null,null,null,null,null,null,"T-38 sec",40679.337500000038,{"$f":"LOOKUP($V60,Data!$A$6:$A$1806,Data!$B$6:$B$1806)","v":59.987396240234375},{"$f":"LOOKUP($V60,Data!$A$6:$A$1806,Data!$C$6:$C$1806)","v":471.89999389648437},{"$f":"LOOKUP($V60,Data!$A$6:$A$1806,Data!$D$6:$D$1806)","v":0},{"$f":"IF($Z$1=\"+\",LOOKUP($V60,Data!$A$6:$A$1806,Data!$E$6:$E$1806)*-1,LOOKUP($V60,Data!$A$6:$A$1806,Data!$E$6:$E$1806))","v":0},{"$f":"LOOKUP($V60,Data!$A$6:$A$1806,Data!$F$6:$F$1806)","v":0},null,{"$f":"LOOKUP($V60,Data!$A$6:$A$1806,Data!$H$6:$H$1806)","v":0},{"$f":"LOOKUP($V60,Data!$A$6:$A$1806,Data!$I$6:$I$1806)","v":0},{"$f":"IF(LOOKUP($V60,Data!$A$6:$A$1806,Data!$J$6:$J$1806)>0,(LOOKUP($V60,Data!$A$6:$A$1806,Data!$J$6:$J$1806)*-1),LOOKUP($V60,Data!$A$6:$A$1806,Data!$J$6:$J$1806))","v":-653},{"$f":"LOOKUP($V60,Data!$A$6:$A$1806,Data!$K$6:$K$1806)","v":30159.634765625},82.30255126953125,"T-38 sec",40679.337500000038,null,null,null,null,null,null,null,null,null,null,null,null,null,null,1.2603759765625E-2," "]
["T-36 sec",40679.337523148184,{"$f":"LOOKUP(B61,Data!$A$6:$A$1806,Data!B$6:B$1806)","v":59.98773193359375},{"$f":"LOOKUP(B61,Data!$A$6:$A$1806,Data!C$6:C$1806)","v":471.89999389648437},null,null,19590,80.1104736328125,85.738955456902673,null,null,2.9468822525130669,509.59597992804714,null,null,null,null,null,null,null,"T-36 sec",40679.337523148184,{"$f":"LOOKUP($V61,Data!$A$6:$A$1806,Data!$B$6:$B$1806)","v":59.98773193359375},{"$f":"LOOKUP($V61,Data!$A$6:$A$1806,Data!$C$6:$C$1806)","v":471.89999389648437},{"$f":"LOOKUP($V61,Data!$A$6:$A$1806,Data!$D$6:$D$1806)","v":0},{"$f":"IF($Z$1=\"+\",LOOKUP($V61,Data!$A$6:$A$1806,Data!$E$6:$E$1806)*-1,LOOKUP($V61,Data!$A$6:$A$1806,Data!$E$6:$E$1806))","v":0},{"$f":"LOOKUP($V61,Data!$A$6:$A$1806,Data!$F$6:$F$1806)","v":0},null,{"$f":"LOOKUP($V61,Data!$A$6:$A$1806,Data!$H$6:$H$1806)","v":0},{"$f":"LOOKUP($V61,Data!$A$6:$A$1806,Data!$I$6:$I$1806)","v":0},{"$f":"IF(LOOKUP($V61,Data!$A$6:$A$1806,Data!$J$6:$J$1806)>0,(LOOKUP($V61,Data!$A$6:$A$1806,Data!$J$6:$J$1806)*-1),LOOKUP($V61,Data!$A$6:$A$1806,Data!$J$6:$J$1806))","v":-653},{"$f":"LOOKUP($V61,Data!$A$6:$A$1806,Data!$K$6:$K$1806)","v":30151.416015625},80.1104736328125,"T-36 sec",40679.337523148184,null,null,null,null,null,null,null,null,null,null,null,null,null,null,1.226806640625E-2," "]
["T-34 sec",40679.33754629633,{"$f":"LOOKUP(B62,Data!$A$6:$A$1806,Data!B$6:B$1806)","v":59.989013671875},{"$f":"LOOKUP(B62,Data!$A$6:$A$1806,Data!C$6:C$1806)","v":471.89999389648437},null,null,19590,71.74072265625,80.839573976674245,null,null,2.9468822525130669,507.64348070033179,null,null,null,null,null,null,null,"T-34 sec",40679.33754629633,{"$f":"LOOKUP($V62,Data!$A$6:$A$1806,Data!$B$6:$B$1806)","v":59.989013671875},{"$f":"LOOKUP($V62,Data!$A$6:$A$1806,Data!$C$6:$C$1806)","v":471.89999389648437},{"$f":"LOOKUP($V62,Data!$A$6:$A$1806,Data!$D$6:$D$1806)","v":0},{"$f":"IF($Z$1=\"+\",LOOKUP($V62,Data!$A$6:$A$1806,Data!$E$6:$E$1806)*-1,LOOKUP($V62,Data!$A$6:$A$1806,Data!$E$6:$E$1806))","v":0},{"$f":"LOOKUP($V62,Data!$A$6:$A$1806,Data!$F$6:$F$1806)","v":0},null,{"$f":"LOOKUP($V62,Data!$A$6:$A$1806,Data!$H$6:$H$1806)","v":0},{"$f":"LOOKUP($V62,Data!$A$6:$A$1806,Data!$I$6:$I$1806)","v":0},{"$f":"IF(LOOKUP($V62,Data!$A$6:$A$1806,Data!$J$6:$J$1806)>0,(LOOKUP($V62,Data!$A$6:$A$1806,Data!$J$6:$J$1806)*-1),LOOKUP($V62,Data!$A$6:$A$1806,Data!$J$6:$J$1806))","v":-653},{"$f":"LOOKUP($V62,Data!$A$6:$A$1806,Data!$K$6:$K$1806)","v":30151.416015625},71.74072265625,"T-34 sec",40679.33754629633,null,null,null,null,null,null,null,null,null,null,null,null,null,null,1.0986328125E-2," "]
["T-32 sec",40679.337569444477,{"$f":"LOOKUP(B63,Data!$A$6:$A$1806,Data!B$6:B$1806)","v":59.989013671875},{"$f":"LOOKUP(B63,Data!$A$6:$A$1806,Data!C$6:C$1806)","v":471.89999389648437},null,null,19590,71.74072265625,77.654976014525758,null,null,2.9468822525130669,507.40576499069641,null,null,null,null,null,null,null,"T-32 sec",40679.337569444477,{"$f":"LOOKUP($V63,Data!$A$6:$A$1806,Data!$B$6:$B$1806)","v":59.989013671875},{"$f":"LOOKUP($V63,Data!$A$6:$A$1806,Data!$C$6:$C$1806)","v":471.89999389648437},{"$f":"LOOKUP($V63,Data!$A$6:$A$1806,Data!$D$6:$D$1806)","v":0},{"$f":"IF($Z$1=\"+\",LOOKUP($V63,Data!$A$6:$A$1806,Data!$E$6:$E$1806)*-1,LOOKUP($V63,Data!$A$6:$A$1806,Data!$E$6:$E$1806))","v":0},{"$f":"LOOKUP($V63,Data!$A$6:$A$1806,Data!$F$6:$F$1806)","v":0},null,{"$f":"LOOKUP($V63,Data!$A$6:$A$1806,Data!$H$6:$H$1806)","v":0},{"$f":"LOOKUP($V63,Data!$A$6:$A$1806,Data!$I$6:$I$1806)","v":0},{"$f":"IF(LOOKUP($V63,Data!$A$6:$A$1806,Data!$J$6:$J$1806)>0,(LOOKUP($V63,Data!$A$6:$A$1806,Data!$J$6:$J$1806)*-1),LOOKUP($V63,Data!$A$6:$A$1806,Data!$J$6:$J$1806))","v":-653},{"$f":"LOOKUP($V63,Data!$A$6:$A$1806,Data!$K$6:$K$1806)","v":30156.162109375},71.74072265625,"T-32 sec",40679.337569444477,null,null,null,null,null,null,null,null,null,null,null,null,null,null,1.0986328125E-2," "]
["T-30 sec",40679.337592592623,{"$f":"LOOKUP(B64,Data!$A$6:$A$1806,Data!B$6:B$1806)","v":59.988037109375},{"$f":"LOOKUP(B64,Data!$A$6:$A$1806,Data!C$6:C$1806)","v":471.39999389648437},null,null,19590,78.11767578125,77.816920932879242,null,null,2.9468822525130669,510.51459216156297,null,null,null,null,null,null,null,"T-30 sec",40679.337592592623,{"$f":"LOOKUP($V64,Data!$A$6:$A$1806,Data!$B$6:$B$1806)","v":59.988037109375},{"$f":"LOOKUP($V64,Data!$A$6:$A$1806,Data!$C$6:$C$1806)","v":471.39999389648437},{"$f":"LOOKUP($V64,Data!$A$6:$A$1806,Data!$D$6:$D$1806)","v":0},{"$f":"IF($Z$1=\"+\",LOOKUP($V64,Data!$A$6:$A$1806,Data!$E$6:$E$1806)*-1,LOOKUP($V64,Data!$A$6:$A$1806,Data!$E$6:$E$1806))","v":0},{"$f":"LOOKUP($V64,Data!$A$6:$A$1806,Data!$F$6:$F$1806)","v":0},null,{"$f":"LOOKUP($V64,Data!$A$6:$A$1806,Data!$H$6:$H$1806)","v":0},{"$f":"LOOKUP($V64,Data!$A$6:$A$1806,Data!$I$6:$I$1806)","v":0},{"$f":"IF(LOOKUP($V64,Data!$A$6:$A$1806,Data!$J$6:$J$1806)>0,(LOOKUP($V64,Data!$A$6:$A$1806,Data!$J$6:$J$1806)*-1),LOOKUP($V64,Data!$A$6:$A$1806,Data!$J$6:$J$1806))","v":-653},{"$f":"LOOKUP($V64,Data!$A$6:$A$1806,Data!$K$6:$K$1806)","v":30156.162109375},78.11767578125,"T-30 sec",40679.337592592623,null,null,null,null,null,null,null,null,null,null,null,null,null,null,1.1962890625E-2," "]
["T-28 sec",40679.337615740769,{"$f":"LOOKUP(B65,Data!$A$6:$A$1806,Data!B$6:B$1806)","v":59.986419677734375},{"$f":"LOOKUP(B65,Data!$A$6:$A$1806,Data!C$6:C$1806)","v":471.39999389648437},null,null,19590,88.67950439453125,81.618825144457446,null,null,2.9468822525130669,517.26337862565424,null,null,null,null,null,null,null,"T-28 sec",40679.337615740769,{"$f":"LOOKUP($V65,Data!$A$6:$A$1806,Data!$B$6:$B$1806)","v":59.986419677734375},{"$f":"LOOKUP($V65,Data!$A$6:$A$1806,Data!$C$6:$C$1806)","v":471.39999389648437},{"$f":"LOOKUP($V65,Data!$A$6:$A$1806,Data!$D$6:$D$1806)","v":0},{"$f":"IF($Z$1=\"+\",LOOKUP($V65,Data!$A$6:$A$1806,Data!$E$6:$E$1806)*-1,LOOKUP($V65,Data!$A$6:$A$1806,Data!$E$6:$E$1806))","v":0},{"$f":"LOOKUP($V65,Data!$A$6:$A$1806,Data!$F$6:$F$1806)","v":0},null,{"$f":"LOOKUP($V65,Data!$A$6:$A$1806,Data!$H$6:$H$1806)","v":0},{"$f":"LOOKUP($V65,Data!$A$6:$A$1806,Data!$I$6:$I$1806)","v":0},{"$f":"IF(LOOKUP($V65,Data!$A$6:$A$1806,Data!$J$6:$J$1806)>0,(LOOKUP($V65,Data!$A$6:$A$1806,Data!$J$6:$J$1806)*-1),LOOKUP($V65,Data!$A$6:$A$1806,Data!$J$6:$J$1806))","v":-653},{"$f":"LOOKUP($V65,Data!$A$6:$A$1806,Data!$K$6:$K$1806)","v":30156.162109375},88.67950439453125,"T-28 sec",40679.337615740769,null,null,null,null,null,null,null,null,null,null,null,null,null,null,1.3580322265625E-2," "]
["T-26 sec",40679.337638888916,{"$f":"LOOKUP(B66,Data!$A$6:$A$1806,Data!B$6:B$1806)","v":59.9854736328125},{"$f":"LOOKUP(B66,Data!$A$6:$A$1806,Data!C$6:C$1806)","v":471.39999389648437},null,null,19590,94.857177734375,86.252248550928584,null,null,2.9468822525130669,524.84368428463847,null,null,null,null,null,null,null,"T-26 sec",40679.337638888916,{"$f":"LOOKUP($V66,Data!$A$6:$A$1806,Data!$B$6:$B$1806)","v":59.9854736328125},{"$f":"LOOKUP($V66,Data!$A$6:$A$1806,Data!$C$6:$C$1806)","v":471.39999389648437},{"$f":"LOOKUP($V66,Data!$A$6:$A$1806,Data!$D$6:$D$1806)","v":0},{"$f":"IF($Z$1=\"+\",LOOKUP($V66,Data!$A$6:$A$1806,Data!$E$6:$E$1806)*-1,LOOKUP($V66,Data!$A$6:$A$1806,Data!$E$6:$E$1806))","v":0},{"$f":"LOOKUP($V66,Data!$A$6:$A$1806,Data!$F$6:$F$1806)","v":0},null,{"$f":"LOOKUP($V66,Data!$A$6:$A$1806,Data!$H$6:$H$1806)","v":0},{"$f":"LOOKUP($V66,Data!$A$6:$A$1806,Data!$I$6:$I$1806)","v":0},{"$f":"IF(LOOKUP($V66,Data!$A$6:$A$1806,Data!$J$6:$J$1806)>0,(LOOKUP($V66,Data!$A$6:$A$1806,Data!$J$6:$J$1806)*-1),LOOKUP($V66,Data!$A$6:$A$1806,Data!$J$6:$J$1806))","v":-653},{"$f":"LOOKUP($V66,Data!$A$6:$A$1806,Data!$K$6:$K$1806)","v":30156.162109375},94.857177734375,"T-26 sec",40679.337638888916,null,null,null,null,null,null,null,null,null,null,null,null,null,null,1.45263671875E-2," "]
["T-24 sec",40679.337662037062,{"$f":"LOOKUP(B67,Data!$A$6:$A$1806,Data!B$6:B$1806)","v":59.986419677734375},{"$f":"LOOKUP(B67,Data!$A$6:$A$1806,Data!C$6:C$1806)","v":471.39999389648437},null,null,19590,88.67950439453125,87.101788096189509,null,null,2.9468822525130669,528.64010608241244,null,null,null,null,null,null,null,"T-24 sec",40679.337662037062,{"$f":"LOOKUP($V67,Data!$A$6:$A$1806,Data!$B$6:$B$1806)","v":59.986419677734375},{"$f":"LOOKUP($V67,Data!$A$6:$A$1806,Data!$C$6:$C$1806)","v":471.39999389648437},{"$f":"LOOKUP($V67,Data!$A$6:$A$1806,Data!$D$6:$D$1806)","v":0},{"$f":"IF($Z$1=\"+\",LOOKUP($V67,Data!$A$6:$A$1806,Data!$E$6:$E$1806)*-1,LOOKUP($V67,Data!$A$6:$A$1806,Data!$E$6:$E$1806))","v":0},{"$f":"LOOKUP($V67,Data!$A$6:$A$1806,Data!$F$6:$F$1806)","v":0},null,{"$f":"LOOKUP($V67,Data!$A$6:$A$1806,Data!$H$6:$H$1806)","v":0},{"$f":"LOOKUP($V67,Data!$A$6:$A$1806,Data!$I$6:$I$1806)","v":0},{"$f":"IF(LOOKUP($V67,Data!$A$6:$A$1806,Data!$J$6:$J$1806)>0,(LOOKUP($V67,Data!$A$6:$A$1806,Data!$J$6:$J$1806)*-1),LOOKUP($V67,Data!$A$6:$A$1806,Data!$J$6:$J$1806))","v":-653},{"$f":"LOOKUP($V67,Data!$A$6:$A$1806,Data!$K$6:$K$1806)","v":30164.146484375},88.67950439453125,"T-24 sec",40679.337662037062,null,null,null,null,null,null,null,null,null,null,null,null,null,null,1.3580322265625E-2," "]
["T-22 sec",40679.337685185208,{"$f":"LOOKUP(B68,Data!$A$6:$A$1806,Data!B$6:B$1806)","v":59.989349365234375},{"$f":"LOOKUP(B68,Data!$A$6:$A$1806,Data!C$6:C$1806)","v":471.39999389648437},null,null,19590,69.54864501953125,80.958188019359113,null,null,2.9468822525130669,525.44338825809518,null,null,null,null,null,null,null,"T-22 sec",40679.337685185208,{"$f":"LOOKUP($V68,Data!$A$6:$A$1806,Data!$B$6:$B$1806)","v":59.989349365234375},{"$f":"LOOKUP($V68,Data!$A$6:$A$1806,Data!$C$6:$C$1806)","v":471.39999389648437},{"$f":"LOOKUP($V68,Data!$A$6:$A$1806,Data!$D$6:$D$1806)","v":0},{"$f":"IF($Z$1=\"+\",LOOKUP($V68,Data!$A$6:$A$1806,Data!$E$6:$E$1806)*-1,LOOKUP($V68,Data!$A$6:$A$1806,Data!$E$6:$E$1806))","v":0},{"$f":"LOOKUP($V68,Data!$A$6:$A$1806,Data!$F$6:$F$1806)","v":0},null,{"$f":"LOOKUP($V68,Data!$A$6:$A$1806,Data!$H$6:$H$1806)","v":0},{"$f":"LOOKUP($V68,Data!$A$6:$A$1806,Data!$I$6:$I$1806)","v":0},{"$f":"IF(LOOKUP($V68,Data!$A$6:$A$1806,Data!$J$6:$J$1806)>0,(LOOKUP($V68,Data!$A$6:$A$1806,Data!$J$6:$J$1806)*-1),LOOKUP($V68,Data!$A$6:$A$1806,Data!$J$6:$J$1806))","v":-653},{"$f":"LOOKUP($V68,Data!$A$6:$A$1806,Data!$K$6:$K$1806)","v":30164.146484375},69.54864501953125,"T-22 sec",40679.337685185208,null,null,null,null,null,null,null,null,null,null,null,null,null,null,1.0650634765625E-2," "]
["T-20 sec",40679.337708333354,{"$f":"LOOKUP(B69,Data!$A$6:$A$1806,Data!B$6:B$1806)","v":59.99224853515625},{"$f":"LOOKUP(B69,Data!$A$6:$A$1806,Data!C$6:C$1806)","v":471.39999389648437},null,null,19590,50.6170654296875,70.338795112974054,null,null,2.9468822525130669,517.77087760422319,null,null,null,null,null,null,null,"T-20 sec",40679.337708333354,{"$f":"LOOKUP($V69,Data!$A$6:$A$1806,Data!$B$6:$B$1806)","v":59.99224853515625},{"$f":"LOOKUP($V69,Data!$A$6:$A$1806,Data!$C$6:$C$1806)","v":471.39999389648437},{"$f":"LOOKUP($V69,Data!$A$6:$A$1806,Data!$D$6:$D$1806)","v":0},{"$f":"IF($Z$1=\"+\",LOOKUP($V69,Data!$A$6:$A$1806,Data!$E$6:$E$1806)*-1,LOOKUP($V69,Data!$A$6:$A$1806,Data!$E$6:$E$1806))","v":0},{"$f":"LOOKUP($V69,Data!$A$6:$A$1806,Data!$F$6:$F$1806)","v":0},null,{"$f":"LOOKUP($V69,Data!$A$6:$A$1806,Data!$H$6:$H$1806)","v":0},{"$f":"LOOKUP($V69,Data!$A$6:$A$1806,Data!$I$6:$I$1806)","v":0},{"$f":"IF(LOOKUP($V69,Data!$A$6:$A$1806,Data!$J$6:$J$1806)>0,(LOOKUP($V69,Data!$A$6:$A$1806,Data!$J$6:$J$1806)*-1),LOOKUP($V69,Data!$A$6:$A$1806,Data!$J$6:$J$1806))","v":-653},{"$f":"LOOKUP($V69,Data!$A$6:$A$1806,Data!$K$6:$K$1806)","v":30164.146484375},50.6170654296875,"T-20 sec",40679.337708333354,null,null,null,null,null,null,null,null,null,null,null,null,null,null,7.75146484375E-3," "]
["T-18 sec",40679.337731481501,{"$f":"LOOKUP(B70,Data!$A$6:$A$1806,Data!B$6:B$1806)","v":59.995147705078125},{"$f":"LOOKUP(B70,Data!$A$6:$A$1806,Data!C$6:C$1806)","v":471.39999389648437},null,null,19590,31.68548583984375,56.810136867378446,null,null,2.9468822525130669,507.1891016111407,null,null,null,null,null,null,null,"T-18 sec",40679.337731481501,{"$f":"LOOKUP($V70,Data!$A$6:$A$1806,Data!$B$6:$B$1806)","v":59.995147705078125},{"$f":"LOOKUP($V70,Data!$A$6:$A$1806,Data!$C$6:$C$1806)","v":471.39999389648437},{"$f":"LOOKUP($V70,Data!$A$6:$A$1806,Data!$D$6:$D$1806)","v":0},{"$f":"IF($Z$1=\"+\",LOOKUP($V70,Data!$A$6:$A$1806,Data!$E$6:$E$1806)*-1,LOOKUP($V70,Data!$A$6:$A$1806,Data!$E$6:$E$1806))","v":0},{"$f":"LOOKUP($V70,Data!$A$6:$A$1806,Data!$F$6:$F$1806)","v":0},null,{"$f":"LOOKUP($V70,Data!$A$6:$A$1806,Data!$H$6:$H$1806)","v":0},{"$f":"LOOKUP($V70,Data!$A$6:$A$1806,Data!$I$6:$I$1806)","v":0},{"$f":"IF(LOOKUP($V70,Data!$A$6:$A$1806,Data!$J$6:$J$1806)>0,(LOOKUP($V70,Data!$A$6:$A$1806,Data!$J$6:$J$1806)*-1),LOOKUP($V70,Data!$A$6:$A$1806,Data!$J$6:$J$1806))","v":-653},{"$f":"LOOKUP($V70,Data!$A$6:$A$1806,Data!$K$6:$K$1806)","v":30164.146484375},31.68548583984375,"T-18 sec",40679.337731481501,null,null,null,null,null,null,null,null,null,null,null,null,null,null,4.852294921875E-3," "]
["T-16 sec",40679.337754629647,{"$f":"LOOKUP(B71,Data!$A$6:$A$1806,Data!B$6:B$1806)","v":59.99578857421875},{"$f":"LOOKUP(B71,Data!$A$6:$A$1806,Data!C$6:C$1806)","v":471.39999389648437},{"$f":"AVERAGE($C$71:$C$78)","v":59.998626708984375},{"$f":"AVERAGE($D$71:$D$78)","v":471.08749389648437},19590,27.5006103515625,46.551802586842868,null,null,2.9468822525130669,499.87764958311823,null,null,null,null,null,null,null,"T-16 sec",40679.337754629647,{"$f":"LOOKUP($V71,Data!$A$6:$A$1806,Data!$B$6:$B$1806)","v":59.99578857421875},{"$f":"LOOKUP($V71,Data!$A$6:$A$1806,Data!$C$6:$C$1806)","v":471.39999389648437},{"$f":"LOOKUP($V71,Data!$A$6:$A$1806,Data!$D$6:$D$1806)","v":0},{"$f":"IF($Z$1=\"+\",LOOKUP($V71,Data!$A$6:$A$1806,Data!$E$6:$E$1806)*-1,LOOKUP($V71,Data!$A$6:$A$1806,Data!$E$6:$E$1806))","v":0},{"$f":"LOOKUP($V71,Data!$A$6:$A$1806,Data!$F$6:$F$1806)","v":0},null,{"$f":"LOOKUP($V71,Data!$A$6:$A$1806,Data!$H$6:$H$1806)","v":0},{"$f":"LOOKUP($V71,Data!$A$6:$A$1806,Data!$I$6:$I$1806)","v":0},{"$f":"IF(LOOKUP($V71,Data!$A$6:$A$1806,Data!$J$6:$J$1806)>0,(LOOKUP($V71,Data!$A$6:$A$1806,Data!$J$6:$J$1806)*-1),LOOKUP($V71,Data!$A$6:$A$1806,Data!$J$6:$J$1806))","v":-653},{"$f":"LOOKUP($V71,Data!$A$6:$A$1806,Data!$K$6:$K$1806)","v":30203.90625},27.5006103515625,"T-16 sec",40679.337754629647,{"$f":"AVERAGE($W$71:$W$78)","v":59.998626708984375},{"$f":"AVERAGE($X$71:$X$78)","v":471.08749389648437},{"$f":"AVERAGE($Y$71:$Y$78)","v":0},{"$f":"AVERAGE($Z$71:$Z$78)","v":0},{"$f":"AVERAGE($AA$71:$AA$78)","v":0},null,{"$f":"AVERAGE($AC$71:$AC$78)","v":0},{"$f":"AVERAGE($AD$71:$AD$78)","v":0},{"$f":"AVERAGE($AE$71:$AE$78)","v":-653},{"$f":"AVERAGE($AF$71:$AF$78)","v":30202.7421875},{"$f":"AVERAGE($AG$71:$AG$78)","v":8.96759033203125},null,null,null,4.21142578125E-3," "]
["T-14 sec",40679.337777777793,{"$f":"LOOKUP(B72,Data!$A$6:$A$1806,Data!B$6:B$1806)","v":59.995147705078125},{"$f":"LOOKUP(B72,Data!$A$6:$A$1806,Data!C$6:C$1806)","v":471.39999389648437},{"$f":"AVERAGE($C$71:$C$78)","v":59.998626708984375},{"$f":"AVERAGE($D$71:$D$78)","v":471.08749389648437},19590,31.68548583984375,41.348591725393177,null,null,2.9468822525130669,497.62132097418163,null,null,null,null,null,null,null,"T-14 sec",40679.337777777793,{"$f":"LOOKUP($V72,Data!$A$6:$A$1806,Data!$B$6:$B$1806)","v":59.995147705078125},{"$f":"LOOKUP($V72,Data!$A$6:$A$1806,Data!$C$6:$C$1806)","v":471.39999389648437},{"$f":"LOOKUP($V72,Data!$A$6:$A$1806,Data!$D$6:$D$1806)","v":0},{"$f":"IF($Z$1=\"+\",LOOKUP($V72,Data!$A$6:$A$1806,Data!$E$6:$E$1806)*-1,LOOKUP($V72,Data!$A$6:$A$1806,Data!$E$6:$E$1806))","v":0},{"$f":"LOOKUP($V72,Data!$A$6:$A$1806,Data!$F$6:$F$1806)","v":0},null,{"$f":"LOOKUP($V72,Data!$A$6:$A$1806,Data!$H$6:$H$1806)","v":0},{"$f":"LOOKUP($V72,Data!$A$6:$A$1806,Data!$I$6:$I$1806)","v":0},{"$f":"IF(LOOKUP($V72,Data!$A$6:$A$1806,Data!$J$6:$J$1806)>0,(LOOKUP($V72,Data!$A$6:$A$1806,Data!$J$6:$J$1806)*-1),LOOKUP($V72,Data!$A$6:$A$1806,Data!$J$6:$J$1806))","v":-653},{"$f":"LOOKUP($V72,Data!$A$6:$A$1806,Data!$K$6:$K$1806)","v":30203.90625},31.68548583984375,"T-14 sec",40679.337777777793,{"$f":"AVERAGE($W$71:$W$78)","v":59.998626708984375},{"$f":"AVERAGE($X$71:$X$78)","v":471.08749389648437},{"$f":"AVERAGE($Y$71:$Y$78)","v":0},{"$f":"AVERAGE($Z$71:$Z$78)","v":0},{"$f":"AVERAGE($AA$71:$AA$78)","v":0},null,{"$f":"AVERAGE($AC$71:$AC$78)","v":0},{"$f":"AVERAGE($AD$71:$AD$78)","v":0},{"$f":"AVERAGE($AE$71:$AE$78)","v":-653},{"$f":"AVERAGE($AF$71:$AF$78)","v":30202.7421875},{"$f":"AVERAGE($AG$71:$AG$78)","v":8.96759033203125},null,null,null,4.852294921875E-3," "]
["T-12 sec",40679.33780092594,{"$f":"LOOKUP(B73,Data!$A$6:$A$1806,Data!B$6:B$1806)","v":59.9954833984375},{"$f":"LOOKUP(B73,Data!$A$6:$A$1806,Data!C$6:C$1806)","v":471.39999389648437},59.998626708984375,471.08749389648437,19590,29.493408203125,37.199277492599315,null,null,2.9468822525130669,496.41888899390085,null,null,null,null,null,null,null,"T-12 sec",40679.33780092594,{"$f":"LOOKUP($V73,Data!$A$6:$A$1806,Data!$B$6:$B$1806)","v":59.9954833984375},{"$f":"LOOKUP($V73,Data!$A$6:$A$1806,Data!$C$6:$C$1806)","v":471.39999389648437},{"$f":"LOOKUP($V73,Data!$A$6:$A$1806,Data!$D$6:$D$1806)","v":0},{"$f":"IF($Z$1=\"+\",LOOKUP($V73,Data!$A$6:$A$1806,Data!$E$6:$E$1806)*-1,LOOKUP($V73,Data!$A$6:$A$1806,Data!$E$6:$E$1806))","v":0},{"$f":"LOOKUP($V73,Data!$A$6:$A$1806,Data!$F$6:$F$1806)","v":0},null,{"$f":"LOOKUP($V73,Data!$A$6:$A$1806,Data!$H$6:$H$1806)","v":0},{"$f":"LOOKUP($V73,Data!$A$6:$A$1806,Data!$I$6:$I$1806)","v":0},{"$f":"IF(LOOKUP($V73,Data!$A$6:$A$1806,Data!$J$6:$J$1806)>0,(LOOKUP($V73,Data!$A$6:$A$1806,Data!$J$6:$J$1806)*-1),LOOKUP($V73,Data!$A$6:$A$1806,Data!$J$6:$J$1806))","v":-653},{"$f":"LOOKUP($V73,Data!$A$6:$A$1806,Data!$K$6:$K$1806)","v":30203.728515625},29.493408203125,"T-12 sec",40679.33780092594,59.998626708984375,471.08749389648437,0,0,0,null,0,0,-653,30202.7421875,8.96759033203125,null,null,null,4.5166015625E-3," "]
["T-10 sec",40679.337824074086,{"$f":"LOOKUP(B74,Data!$A$6:$A$1806,Data!B$6:B$1806)","v":59.997406005859375},{"$f":"LOOKUP(B74,Data!$A$6:$A$1806,Data!C$6:C$1806)","v":470.89999389648437},59.998626708984375,471.08749389648437,19590,16.93878173828125,30.108103978587994,null,null,2.9468822525130669,492.27459773240264,null,null,null,null,null,null,null,"T-10 sec",40679.337824074086,{"$f":"LOOKUP($V74,Data!$A$6:$A$1806,Data!$B$6:$B$1806)","v":59.997406005859375},{"$f":"LOOKUP($V74,Data!$A$6:$A$1806,Data!$C$6:$C$1806)","v":470.89999389648437},{"$f":"LOOKUP($V74,Data!$A$6:$A$1806,Data!$D$6:$D$1806)","v":0},{"$f":"IF($Z$1=\"+\",LOOKUP($V74,Data!$A$6:$A$1806,Data!$E$6:$E$1806)*-1,LOOKUP($V74,Data!$A$6:$A$1806,Data!$E$6:$E$1806))","v":0},{"$f":"LOOKUP($V74,Data!$A$6:$A$1806,Data!$F$6:$F$1806)","v":0},null,{"$f":"LOOKUP($V74,Data!$A$6:$A$1806,Data!$H$6:$H$1806)","v":0},{"$f":"LOOKUP($V74,Data!$A$6:$A$1806,Data!$I$6:$I$1806)","v":0},{"$f":"IF(LOOKUP($V74,Data!$A$6:$A$1806,Data!$J$6:$J$1806)>0,(LOOKUP($V74,Data!$A$6:$A$1806,Data!$J$6:$J$1806)*-1),LOOKUP($V74,Data!$A$6:$A$1806,Data!$J$6:$J$1806))","v":-653},{"$f":"LOOKUP($V74,Data!$A$6:$A$1806,Data!$K$6:$K$1806)","v":30203.728515625},16.93878173828125,"T-10 sec",40679.337824074086,59.998626708984375,471.08749389648437,0,0,0,null,0,0,-653,30202.7421875,8.96759033203125,null,null,null,2.593994140625E-3," "]
["T-08 sec",40679.337847222232,{"$f":"LOOKUP(B75,Data!$A$6:$A$1806,Data!B$6:B$1806)","v":60},{"$f":"LOOKUP(B75,Data!$A$6:$A$1806,Data!C$6:C$1806)","v":470.89999389648437},59.998626708984375,471.08749389648437,19590,0,19.570267586082196,null,null,2.9468822525130669,484.68364359240991,null,null,null,null,null,null,null,"T-08 sec",40679.337847222232,{"$f":"LOOKUP($V75,Data!$A$6:$A$1806,Data!$B$6:$B$1806)","v":60},{"$f":"LOOKUP($V75,Data!$A$6:$A$1806,Data!$C$6:$C$1806)","v":470.89999389648437},{"$f":"LOOKUP($V75,Data!$A$6:$A$1806,Data!$D$6:$D$1806)","v":0},{"$f":"IF($Z$1=\"+\",LOOKUP($V75,Data!$A$6:$A$1806,Data!$E$6:$E$1806)*-1,LOOKUP($V75,Data!$A$6:$A$1806,Data!$E$6:$E$1806))","v":0},{"$f":"LOOKUP($V75,Data!$A$6:$A$1806,Data!$F$6:$F$1806)","v":0},null,{"$f":"LOOKUP($V75,Data!$A$6:$A$1806,Data!$H$6:$H$1806)","v":0},{"$f":"LOOKUP($V75,Data!$A$6:$A$1806,Data!$I$6:$I$1806)","v":0},{"$f":"IF(LOOKUP($V75,Data!$A$6:$A$1806,Data!$J$6:$J$1806)>0,(LOOKUP($V75,Data!$A$6:$A$1806,Data!$J$6:$J$1806)*-1),LOOKUP($V75,Data!$A$6:$A$1806,Data!$J$6:$J$1806))","v":-653},{"$f":"LOOKUP($V75,Data!$A$6:$A$1806,Data!$K$6:$K$1806)","v":30203.728515625},0,"T-08 sec",40679.337847222232,59.998626708984375,471.08749389648437,0,0,0,null,0,0,-653,30202.7421875,8.96759033203125,null,null,null,0," "]
["T-06 sec",40679.337870370378,{"$f":"LOOKUP(B76,Data!$A$6:$A$1806,Data!B$6:B$1806)","v":60.001617431640625},{"$f":"LOOKUP(B76,Data!$A$6:$A$1806,Data!C$6:C$1806)","v":470.89999389648437},59.998626708984375,471.08749389648437,19590,-10.56182861328125,9.0240339163049903,null,null,2.9468822525130669,477.08429217514578,null,null,null,null,null,null,null,"T-06 sec",40679.337870370378,{"$f":"LOOKUP($V76,Data!$A$6:$A$1806,Data!$B$6:$B$1806)","v":60.001617431640625},{"$f":"LOOKUP($V76,Data!$A$6:$A$1806,Data!$C$6:$C$1806)","v":470.89999389648437},{"$f":"LOOKUP($V76,Data!$A$6:$A$1806,Data!$D$6:$D$1806)","v":0},{"$f":"IF($Z$1=\"+\",LOOKUP($V76,Data!$A$6:$A$1806,Data!$E$6:$E$1806)*-1,LOOKUP($V76,Data!$A$6:$A$1806,Data!$E$6:$E$1806))","v":0},{"$f":"LOOKUP($V76,Data!$A$6:$A$1806,Data!$F$6:$F$1806)","v":0},null,{"$f":"LOOKUP($V76,Data!$A$6:$A$1806,Data!$H$6:$H$1806)","v":0},{"$f":"LOOKUP($V76,Data!$A$6:$A$1806,Data!$I$6:$I$1806)","v":0},{"$f":"IF(LOOKUP($V76,Data!$A$6:$A$1806,Data!$J$6:$J$1806)>0,(LOOKUP($V76,Data!$A$6:$A$1806,Data!$J$6:$J$1806)*-1),LOOKUP($V76,Data!$A$6:$A$1806,Data!$J$6:$J$1806))","v":-653},{"$f":"LOOKUP($V76,Data!$A$6:$A$1806,Data!$K$6:$K$1806)","v":30203.728515625},-10.56182861328125,"T-06 sec",40679.337870370378,59.998626708984375,471.08749389648437,0,0,0,null,0,0,-653,30202.7421875,8.96759033203125,null,null,null,1.617431640625E-3," "]
["T-04 sec",40679.337893518525,{"$f":"LOOKUP(B77,Data!$A$6:$A$1806,Data!B$6:B$1806)","v":60.001617431640625},{"$f":"LOOKUP(B77,Data!$A$6:$A$1806,Data!C$6:C$1806)","v":470.89999389648437},59.998626708984375,471.08749389648437,19590,-10.56182861328125,2.1689820309498065,null,null,2.9468822525130669,473.17612254230369,null,null,null,null,null,null,null,"T-04 sec",40679.337893518525,{"$f":"LOOKUP($V77,Data!$A$6:$A$1806,Data!$B$6:$B$1806)","v":60.001617431640625},{"$f":"LOOKUP($V77,Data!$A$6:$A$1806,Data!$C$6:$C$1806)","v":470.89999389648437},{"$f":"LOOKUP($V77,Data!$A$6:$A$1806,Data!$D$6:$D$1806)","v":0},{"$f":"IF($Z$1=\"+\",LOOKUP($V77,Data!$A$6:$A$1806,Data!$E$6:$E$1806)*-1,LOOKUP($V77,Data!$A$6:$A$1806,Data!$E$6:$E$1806))","v":0},{"$f":"LOOKUP($V77,Data!$A$6:$A$1806,Data!$F$6:$F$1806)","v":0},null,{"$f":"LOOKUP($V77,Data!$A$6:$A$1806,Data!$H$6:$H$1806)","v":0},{"$f":"LOOKUP($V77,Data!$A$6:$A$1806,Data!$I$6:$I$1806)","v":0},{"$f":"IF(LOOKUP($V77,Data!$A$6:$A$1806,Data!$J$6:$J$1806)>0,(LOOKUP($V77,Data!$A$6:$A$1806,Data!$J$6:$J$1806)*-1),LOOKUP($V77,Data!$A$6:$A$1806,Data!$J$6:$J$1806))","v":-653},{"$f":"LOOKUP($V77,Data!$A$6:$A$1806,Data!$K$6:$K$1806)","v":30199.60546875},-10.56182861328125,"T-04 sec",40679.337893518525,59.998626708984375,471.08749389648437,0,0,0,null,0,0,-653,30202.7421875,8.96759033203125,null,null,null,1.617431640625E-3," "]
["T-02 sec",{"$f":"B79-TIME(0,0,$B$1)","v":40679.337916666671},{"$f":"LOOKUP(B78,Data!$A$6:$A$1806,Data!B$6:B$1806)","v":60.001953125},{"$f":"LOOKUP(B78,Data!$A$6:$A$1806,Data!C$6:C$1806)","v":470.89999389648437},59.998626708984375,471.08749389648437,19590,-12.75390625,-3.0540288673826259,null,null,2.9468822525130669,{"$f":"D78","v":470.89999389648437},null,null,null,null,null,null,null,"T-02 sec",{"$f":"V79-TIME(0,0,$B$1)","v":40679.337916666671},{"$f":"LOOKUP($V78,Data!$A$6:$A$1806,Data!$B$6:$B$1806)","v":60.001953125},{"$f":"LOOKUP($V78,Data!$A$6:$A$1806,Data!$C$6:$C$1806)","v":470.89999389648437},{"$f":"LOOKUP($V78,Data!$A$6:$A$1806,Data!$D$6:$D$1806)","v":0},{"$f":"IF($Z$1=\"+\",LOOKUP($V78,Data!$A$6:$A$1806,Data!$E$6:$E$1806)*-1,LOOKUP($V78,Data!$A$6:$A$1806,Data!$E$6:$E$1806))","v":0},{"$f":"LOOKUP($V78,Data!$A$6:$A$1806,Data!$F$6:$F$1806)","v":0},null,{"$f":"LOOKUP($V78,Data!$A$6:$A$1806,Data!$H$6:$H$1806)","v":0},{"$f":"LOOKUP($V78,Data!$A$6:$A$1806,Data!$I$6:$I$1806)","v":0},{"$f":"IF(LOOKUP($V78,Data!$A$6:$A$1806,Data!$J$6:$J$1806)>0,(LOOKUP($V78,Data!$A$6:$A$1806,Data!$J$6:$J$1806)*-1),LOOKUP($V78,Data!$A$6:$A$1806,Data!$J$6:$J$1806))","v":-653},{"$f":"LOOKUP($V78,Data!$A$6:$A$1806,Data!$K$6:$K$1806)","v":30199.60546875},-12.75390625,"T-02 sec",{"$f":"AI79-TIME(0,0,$B$1)","v":40679.337916666671},59.998626708984375,471.08749389648437,0,0,0,null,0,0,-653,30202.7421875,8.96759033203125,null,null," ",1.953125E-3," "]
["T+0 sec",{"$f":"G2","v":40679.337939814817},{"$f":"LOOKUP(B79,Data!$A$6:$A$1806,Data!B$6:B$1806)","v":59.959625244140625},{"$f":"LOOKUP(B79,Data!$A$6:$A$1806,Data!C$6:C$1806)","v":0},null,null,19590,263.64715576171875,90.291385752802853,null,null,0,{"$f":"M78+L79+(I79-I78)","v":564.24540851666984},null,null,null,null,null,null,null,"T+0 sec",{"$f":"$G2","v":40679.337939814817},{"$f":"LOOKUP($V79,Data!$A$6:$A$1806,Data!$B$6:$B$1806)","v":59.959625244140625},{"$f":"LOOKUP($V79,Data!$A$6:$A$1806,Data!$C$6:$C$1806)","v":0},{"$f":"LOOKUP($V79,Data!$A$6:$A$1806,Data!$D$6:$D$1806)","v":0},{"$f":"IF($Z$1=\"+\",LOOKUP($V79,Data!$A$6:$A$1806,Data!$E$6:$E$1806)*-1,LOOKUP($V79,Data!$A$6:$A$1806,Data!$E$6:$E$1806))","v":0},{"$f":"LOOKUP($V79,Data!$A$6:$A$1806,Data!$F$6:$F$1806)","v":0},null,{"$f":"LOOKUP($V79,Data!$A$6:$A$1806,Data!$H$6:$H$1806)","v":0},{"$f":"LOOKUP($V79,Data!$A$6:$A$1806,Data!$I$6:$I$1806)","v":0},{"$f":"IF(LOOKUP($V79,Data!$A$6:$A$1806,Data!$J$6:$J$1806)>0,(LOOKUP($V79,Data!$A$6:$A$1806,Data!$J$6:$J$1806)*-1),LOOKUP($V79,Data!$A$6:$A$1806,Data!$J$6:$J$1806))","v":-653},{"$f":"LOOKUP($V79,Data!$A$6:$A$1806,Data!$K$6:$K$1806)","v":30199.60546875},263.64715576171875,"T+0 sec",{"$f":"$G2","v":40679.337939814817},null,null,null,null,null,null,null,null,null,null,null,null,null,null,4.0374755859375E-2,-653]
["T+02 sec",{"$f":"B79+TIME(0,0,$B$1)","v":40679.337962962964},{"$f":"LOOKUP(B80,Data!$A$6:$A$1806,Data!B$6:B$1806)","v":59.881435394287109},{"$f":"LOOKUP(B80,Data!$A$6:$A$1806,Data!C$6:C$1806)","v":0},null,null,19590,{"$f":"(IF((C80-L$2)>0,(IF(C80<'Copy Results'!$C$3,((C80-L$2-L$5)/((L$4*L$2)-L$5)*G80*-1),(('Copy Results'!$C$3-L$2-L$5)/((L$4*L$2)-L$5)*G80*-1))),IF(C80>'Copy Results'!$C$2,((C80-L$2+L$5)/((L$4*L$2)-L$5)*G80*-1),(('Copy Results'!$C$2-L$2+L$5)/((L$4*L$2)-L$5)*G80*-1))))","v":774.22687530517578},329.66880709613338,null,null,{"$f":"IF(B80>G$3,0,(K$21*0.000023148/K$22))","v":-4.2636764883614982},{"$f":"M79+L80+(I80-I79)+AD81","v":799.35915337163885},{"$f":"AVERAGE(D$79:D80)","v":0},{"$f":"AVERAGE(M$79:M80)","v":681.80228094415429},{"$f":"K20+L78-I77+AN28-AN20","v":471.67789411804767},{"$f":"AVERAGE(P$79:P80)","v":471.67789411804767},null,null,null,"T+02 sec",{"$f":"V79+TIME(0,0,$B$1)","v":40679.337962962964},{"$f":"LOOKUP($V80,Data!$A$6:$A$1806,Data!$B$6:$B$1806)","v":59.881435394287109},{"$f":"LOOKUP($V80,Data!$A$6:$A$1806,Data!$C$6:$C$1806)","v":0},{"$f":"LOOKUP($V80,Data!$A$6:$A$1806,Data!$D$6:$D$1806)","v":0},{"$f":"IF($Z$1=\"+\",LOOKUP($V80,Data!$A$6:$A$1806,Data!$E$6:$E$1806)*-1,LOOKUP($V80,Data!$A$6:$A$1806,Data!$E$6:$E$1806))","v":0},{"$f":"LOOKUP($V80,Data!$A$6:$A$1806,Data!$F$6:$F$1806)","v":0},null,{"$f":"LOOKUP($V80,Data!$A$6:$A$1806,Data!$H$6:$H$1806)","v":0},{"$f":"LOOKUP($V80,Data!$A$6:$A$1806,Data!$I$6:$I$1806)","v":0},{"$f":"IF(LOOKUP($V80,Data!$A$6:$A$1806,Data!$J$6:$J$1806)>0,(LOOKUP($V80,Data!$A$6:$A$1806,Data!$J$6:$J$1806)*-1),LOOKUP($V80,Data!$A$6:$A$1806,Data!$J$6:$J$1806))","v":-653},{"$f":"LOOKUP($V80,Data!$A$6:$A$1806,Data!$K$6:$K$1806)","v":30199.60546875},774.22687530517578,"T+02 sec",{"$f":"AI79+TIME(0,0,$B$1)","v":40679.337962962964},null,null,null,null,null,null,null,null,null,null,null,null,null,{"$f":"IF(((D80-F$78)/((C80-E$78)*10))<0,\" \",((D80-F$78)/((C80-E$78)*10)))","v":401.981576120569},0.11856460571289063,-653]
["T+04 sec",{"$f":"B80+TIME(0,0,$B$1)","v":40679.33798611111},{"$f":"LOOKUP(B81,Data!$A$6:$A$1806,Data!B$6:B$1806)","v":59.872371673583984},{"$f":"LOOKUP(B81,Data!$A$6:$A$1806,Data!C$6:C$1806)","v":0},null,null,19590,{"$f":"(IF((C81-L$2)>0,(IF(C81<'Copy Results'!$C$3,((C81-L$2-L$5)/((L$4*L$2)-L$5)*G81*-1),(('Copy Results'!$C$3-L$2-L$5)/((L$4*L$2)-L$5)*G81*-1))),IF(C81>'Copy Results'!$C$2,((C81-L$2+L$5)/((L$4*L$2)-L$5)*G81*-1),(('Copy Results'!$C$2-L$2+L$5)/((L$4*L$2)-L$5)*G81*-1))))","v":833.41297149658203},505.9792646362904,null,null,-4.2636764883614982,{"$f":"M80+L81+(I81-I80)","v":971.40593442343436},{"$f":"AVERAGE(D$79:D81)","v":0},{"$f":"AVERAGE(M$79:M81)","v":778.33683210391428},{"$f":"P80+L81","v":467.41421762968616},{"$f":"AVERAGE(P$79:P81)","v":469.54605587386692},null,null,null,"T+04 sec",{"$f":"V80+TIME(0,0,$B$1)","v":40679.33798611111},{"$f":"LOOKUP($V81,Data!$A$6:$A$1806,Data!$B$6:$B$1806)","v":59.872371673583984},{"$f":"LOOKUP($V81,Data!$A$6:$A$1806,Data!$C$6:$C$1806)","v":0},{"$f":"LOOKUP($V81,Data!$A$6:$A$1806,Data!$D$6:$D$1806)","v":0},{"$f":"IF($Z$1=\"+\",LOOKUP($V81,Data!$A$6:$A$1806,Data!$E$6:$E$1806)*-1,LOOKUP($V81,Data!$A$6:$A$1806,Data!$E$6:$E$1806))","v":0},{"$f":"LOOKUP($V81,Data!$A$6:$A$1806,Data!$F$6:$F$1806)","v":0},null,{"$f":"LOOKUP($V81,Data!$A$6:$A$1806,Data!$H$6:$H$1806)","v":0},{"$f":"LOOKUP($V81,Data!$A$6:$A$1806,Data!$I$6:$I$1806)","v":0},{"$f":"IF(LOOKUP($V81,Data!$A$6:$A$1806,Data!$J$6:$J$1806)>0,(LOOKUP($V81,Data!$A$6:$A$1806,Data!$J$6:$J$1806)*-1),LOOKUP($V81,Data!$A$6:$A$1806,Data!$J$6:$J$1806))","v":-653},{"$f":"LOOKUP($V81,Data!$A$6:$A$1806,Data!$K$6:$K$1806)","v":30086.109375},833.41297149658203,"T+04 sec",{"$f":"AI80+TIME(0,0,$B$1)","v":40679.33798611111},null,null,null,null,null,null,null,null,null,null,null,null,null,{"$f":"IF(((D81-F$78)/((C81-E$78)*10))<0,\" \",((D81-F$78)/((C81-E$78)*10)))","v":373.12372722603254},0.12762832641601563,-653]
["T+06 sec",40679.338009259256,{"$f":"LOOKUP(B82,Data!$A$6:$A$1806,Data!B$6:B$1806)","v":59.870113372802734},{"$f":"LOOKUP(B82,Data!$A$6:$A$1806,Data!C$6:C$1806)","v":0},null,null,19590,{"$f":"(IF((C82-L$2)>0,(IF(C82<'Copy Results'!$C$3,((C82-L$2-L$5)/((L$4*L$2)-L$5)*G82*-1),(('Copy Results'!$C$3-L$2-L$5)/((L$4*L$2)-L$5)*G82*-1))),IF(C82>'Copy Results'!$C$2,((C82-L$2+L$5)/((L$4*L$2)-L$5)*G82*-1),(('Copy Results'!$C$2-L$2+L$5)/((L$4*L$2)-L$5)*G82*-1))))","v":848.15967559814453},625.74240847293936,null,null,-4.2636764883614982,1086.9054017717217,{"$f":"AVERAGE(D$79:D82)","v":0},{"$f":"AVERAGE(M$79:M82)","v":855.47897452086613},{"$f":"P81+L82","v":463.15054114132465},{"$f":"AVERAGE(P$79:P82)","v":467.41421762968616},null,null,null,"T+06 sec",40679.338009259256,{"$f":"LOOKUP($V82,Data!$A$6:$A$1806,Data!$B$6:$B$1806)","v":59.870113372802734},{"$f":"LOOKUP($V82,Data!$A$6:$A$1806,Data!$C$6:$C$1806)","v":0},{"$f":"LOOKUP($V82,Data!$A$6:$A$1806,Data!$D$6:$D$1806)","v":0},{"$f":"IF($Z$1=\"+\",LOOKUP($V82,Data!$A$6:$A$1806,Data!$E$6:$E$1806)*-1,LOOKUP($V82,Data!$A$6:$A$1806,Data!$E$6:$E$1806))","v":0},{"$f":"LOOKUP($V82,Data!$A$6:$A$1806,Data!$F$6:$F$1806)","v":0},null,{"$f":"LOOKUP($V82,Data!$A$6:$A$1806,Data!$H$6:$H$1806)","v":0},{"$f":"LOOKUP($V82,Data!$A$6:$A$1806,Data!$I$6:$I$1806)","v":0},{"$f":"IF(LOOKUP($V82,Data!$A$6:$A$1806,Data!$J$6:$J$1806)>0,(LOOKUP($V82,Data!$A$6:$A$1806,Data!$J$6:$J$1806)*-1),LOOKUP($V82,Data!$A$6:$A$1806,Data!$J$6:$J$1806))","v":-653},{"$f":"LOOKUP($V82,Data!$A$6:$A$1806,Data!$K$6:$K$1806)","v":30086.109375},848.15967559814453,"T+06 sec",40679.338009259256,null,null,null,null,null,null,null,null,null,null,null,null,null,366.56701000326518,0.12988662719726563,-653]
["T+08 sec",40679.338032407402,{"$f":"LOOKUP(B83,Data!$A$6:$A$1806,Data!B$6:B$1806)","v":59.870113372802734},{"$f":"LOOKUP(B83,Data!$A$6:$A$1806,Data!C$6:C$1806)","v":0},null,null,19590,{"$f":"(IF((C83-L$2)>0,(IF(C83<'Copy Results'!$C$3,((C83-L$2-L$5)/((L$4*L$2)-L$5)*G83*-1),(('Copy Results'!$C$3-L$2-L$5)/((L$4*L$2)-L$5)*G83*-1))),IF(C83>'Copy Results'!$C$2,((C83-L$2+L$5)/((L$4*L$2)-L$5)*G83*-1),(('Copy Results'!$C$2-L$2+L$5)/((L$4*L$2)-L$5)*G83*-1))))","v":848.15967559814453},703.58845196676111,null,null,-4.2636764883614982,1160.4877687771821,{"$f":"AVERAGE(D$79:D83)","v":0},{"$f":"AVERAGE(M$79:M83)","v":916.48073337212941},458.88686465296314,{"$f":"AVERAGE(P$79:P83)","v":465.28237938550541},null,null,null,"T+08 sec",40679.338032407402,{"$f":"LOOKUP($V83,Data!$A$6:$A$1806,Data!$B$6:$B$1806)","v":59.870113372802734},{"$f":"LOOKUP($V83,Data!$A$6:$A$1806,Data!$C$6:$C$1806)","v":0},{"$f":"LOOKUP($V83,Data!$A$6:$A$1806,Data!$D$6:$D$1806)","v":0},{"$f":"IF($Z$1=\"+\",LOOKUP($V83,Data!$A$6:$A$1806,Data!$E$6:$E$1806)*-1,LOOKUP($V83,Data!$A$6:$A$1806,Data!$E$6:$E$1806))","v":0},{"$f":"LOOKUP($V83,Data!$A$6:$A$1806,Data!$F$6:$F$1806)","v":0},null,{"$f":"LOOKUP($V83,Data!$A$6:$A$1806,Data!$H$6:$H$1806)","v":0},{"$f":"LOOKUP($V83,Data!$A$6:$A$1806,Data!$I$6:$I$1806)","v":0},{"$f":"IF(LOOKUP($V83,Data!$A$6:$A$1806,Data!$J$6:$J$1806)>0,(LOOKUP($V83,Data!$A$6:$A$1806,Data!$J$6:$J$1806)*-1),LOOKUP($V83,Data!$A$6:$A$1806,Data!$J$6:$J$1806))","v":-653},{"$f":"LOOKUP($V83,Data!$A$6:$A$1806,Data!$K$6:$K$1806)","v":30086.109375},848.15967559814453,"T+08 sec",40679.338032407402,null,null,null,null,null,null,null,null,null,null,null,null,null,366.56701000326518,0.12988662719726563,-653]
["T+10 sec",40679.338055555549,{"$f":"LOOKUP(B84,Data!$A$6:$A$1806,Data!B$6:B$1806)","v":59.874324798583984},{"$f":"LOOKUP(B84,Data!$A$6:$A$1806,Data!C$6:C$1806)","v":0},null,null,19590,{"$f":"(IF((C84-L$2)>0,(IF(C84<'Copy Results'!$C$3,((C84-L$2-L$5)/((L$4*L$2)-L$5)*G84*-1),(('Copy Results'!$C$3-L$2-L$5)/((L$4*L$2)-L$5)*G84*-1))),IF(C84>'Copy Results'!$C$2,((C84-L$2+L$5)/((L$4*L$2)-L$5)*G84*-1),(('Copy Results'!$C$2-L$2+L$5)/((L$4*L$2)-L$5)*G84*-1))))","v":820.65906524658203},744.5631666146985,null,null,-4.2636764883614982,1197.198806936758,{"$f":"AVERAGE(D$79:D84)","v":0},{"$f":"AVERAGE(M$79:M84)","v":963.26707896623418},454.62318816460163,{"$f":"AVERAGE(P$79:P84)","v":463.15054114132465},null,null,null,"T+10 sec",40679.338055555549,{"$f":"LOOKUP($V84,Data!$A$6:$A$1806,Data!$B$6:$B$1806)","v":59.874324798583984},{"$f":"LOOKUP($V84,Data!$A$6:$A$1806,Data!$C$6:$C$1806)","v":0},{"$f":"LOOKUP($V84,Data!$A$6:$A$1806,Data!$D$6:$D$1806)","v":0},{"$f":"IF($Z$1=\"+\",LOOKUP($V84,Data!$A$6:$A$1806,Data!$E$6:$E$1806)*-1,LOOKUP($V84,Data!$A$6:$A$1806,Data!$E$6:$E$1806))","v":0},{"$f":"LOOKUP($V84,Data!$A$6:$A$1806,Data!$F$6:$F$1806)","v":0},null,{"$f":"LOOKUP($V84,Data!$A$6:$A$1806,Data!$H$6:$H$1806)","v":0},{"$f":"LOOKUP($V84,Data!$A$6:$A$1806,Data!$I$6:$I$1806)","v":0},{"$f":"IF(LOOKUP($V84,Data!$A$6:$A$1806,Data!$J$6:$J$1806)>0,(LOOKUP($V84,Data!$A$6:$A$1806,Data!$J$6:$J$1806)*-1),LOOKUP($V84,Data!$A$6:$A$1806,Data!$J$6:$J$1806))","v":-653},{"$f":"LOOKUP($V84,Data!$A$6:$A$1806,Data!$K$6:$K$1806)","v":30086.138671875},820.65906524658203,"T+10 sec",40679.338055555549,null,null,null,null,null,null,null,null,null,null,null,null,null,378.98652754334819,0.12567520141601563,-653]
["T+12 sec",40679.338078703695,{"$f":"LOOKUP(B85,Data!$A$6:$A$1806,Data!B$6:B$1806)","v":59.880764007568359},{"$f":"LOOKUP(B85,Data!$A$6:$A$1806,Data!C$6:C$1806)","v":0},null,null,19590,{"$f":"(IF((C85-L$2)>0,(IF(C85<'Copy Results'!$C$3,((C85-L$2-L$5)/((L$4*L$2)-L$5)*G85*-1),(('Copy Results'!$C$3-L$2-L$5)/((L$4*L$2)-L$5)*G85*-1))),IF(C85>'Copy Results'!$C$2,((C85-L$2+L$5)/((L$4*L$2)-L$5)*G85*-1),(('Copy Results'!$C$2-L$2+L$5)/((L$4*L$2)-L$5)*G85*-1))))","v":778.61103057861328},756.47991900206875,null,null,-4.2636764883614982,1204.8518828357669,{"$f":"AVERAGE(D$79:D85)","v":0},{"$f":"AVERAGE(M$79:M85)","v":997.77919380473884},450.35951167624012,{"$f":"AVERAGE(P$79:P85)","v":461.0187028971439},null,null,null,"T+12 sec",40679.338078703695,{"$f":"LOOKUP($V85,Data!$A$6:$A$1806,Data!$B$6:$B$1806)","v":59.880764007568359},{"$f":"LOOKUP($V85,Data!$A$6:$A$1806,Data!$C$6:$C$1806)","v":0},{"$f":"LOOKUP($V85,Data!$A$6:$A$1806,Data!$D$6:$D$1806)","v":0},{"$f":"IF($Z$1=\"+\",LOOKUP($V85,Data!$A$6:$A$1806,Data!$E$6:$E$1806)*-1,LOOKUP($V85,Data!$A$6:$A$1806,Data!$E$6:$E$1806))","v":0},{"$f":"LOOKUP($V85,Data!$A$6:$A$1806,Data!$F$6:$F$1806)","v":0},null,{"$f":"LOOKUP($V85,Data!$A$6:$A$1806,Data!$H$6:$H$1806)","v":0},{"$f":"LOOKUP($V85,Data!$A$6:$A$1806,Data!$I$6:$I$1806)","v":0},{"$f":"IF(LOOKUP($V85,Data!$A$6:$A$1806,Data!$J$6:$J$1806)>0,(LOOKUP($V85,Data!$A$6:$A$1806,Data!$J$6:$J$1806)*-1),LOOKUP($V85,Data!$A$6:$A$1806,Data!$J$6:$J$1806))","v":-653},{"$f":"LOOKUP($V85,Data!$A$6:$A$1806,Data!$K$6:$K$1806)","v":30086.138671875},778.61103057861328,"T+12 sec",40679.338078703695,null,null,null,null,null,null,null,null,null,null,null,null,null,399.69175000809139,0.11923599243164063,-653]
["T+14 sec",40679.338101851841,{"$f":"LOOKUP(B86,Data!$A$6:$A$1806,Data!B$6:B$1806)","v":59.885311126708984},{"$f":"LOOKUP(B86,Data!$A$6:$A$1806,Data!C$6:C$1806)","v":0},null,null,19590,{"$f":"(IF((C86-L$2)>0,(IF(C86<'Copy Results'!$C$3,((C86-L$2-L$5)/((L$4*L$2)-L$5)*G86*-1),(('Copy Results'!$C$3-L$2-L$5)/((L$4*L$2)-L$5)*G86*-1))),IF(C86>'Copy Results'!$C$2,((C86-L$2+L$5)/((L$4*L$2)-L$5)*G86*-1),(('Copy Results'!$C$2-L$2+L$5)/((L$4*L$2)-L$5)*G86*-1))))","v":748.91834259033203},753.83336725796084,null,null,-4.2636764883614982,1197.9416546032976,{"$f":"AVERAGE(D$79:D86)","v":0},{"$f":"AVERAGE(M$79:M86)","v":1022.7995014045587},446.09583518787861,{"$f":"AVERAGE(P$79:P86)","v":458.88686465296314},null,null,null,"T+14 sec",40679.338101851841,{"$f":"LOOKUP($V86,Data!$A$6:$A$1806,Data!$B$6:$B$1806)","v":59.885311126708984},{"$f":"LOOKUP($V86,Data!$A$6:$A$1806,Data!$C$6:$C$1806)","v":0},{"$f":"LOOKUP($V86,Data!$A$6:$A$1806,Data!$D$6:$D$1806)","v":0},{"$f":"IF($Z$1=\"+\",LOOKUP($V86,Data!$A$6:$A$1806,Data!$E$6:$E$1806)*-1,LOOKUP($V86,Data!$A$6:$A$1806,Data!$E$6:$E$1806))","v":0},{"$f":"LOOKUP($V86,Data!$A$6:$A$1806,Data!$F$6:$F$1806)","v":0},null,{"$f":"LOOKUP($V86,Data!$A$6:$A$1806,Data!$H$6:$H$1806)","v":0},{"$f":"LOOKUP($V86,Data!$A$6:$A$1806,Data!$I$6:$I$1806)","v":0},{"$f":"IF(LOOKUP($V86,Data!$A$6:$A$1806,Data!$J$6:$J$1806)>0,(LOOKUP($V86,Data!$A$6:$A$1806,Data!$J$6:$J$1806)*-1),LOOKUP($V86,Data!$A$6:$A$1806,Data!$J$6:$J$1806))","v":-653},{"$f":"LOOKUP($V86,Data!$A$6:$A$1806,Data!$K$6:$K$1806)","v":30086.138671875},748.91834259033203,"T+14 sec",40679.338101851841,null,null,null,null,null,null,null,null,null,null,null,null,null,415.73055041238848,0.11468887329101563,-653]
["T+16 sec",40679.338124999987,{"$f":"LOOKUP(B87,Data!$A$6:$A$1806,Data!B$6:B$1806)","v":59.887874603271484},{"$f":"LOOKUP(B87,Data!$A$6:$A$1806,Data!C$6:C$1806)","v":0},null,null,19590,{"$f":"(IF((C87-L$2)>0,(IF(C87<'Copy Results'!$C$3,((C87-L$2-L$5)/((L$4*L$2)-L$5)*G87*-1),(('Copy Results'!$C$3-L$2-L$5)/((L$4*L$2)-L$5)*G87*-1))),IF(C87>'Copy Results'!$C$2,((C87-L$2+L$5)/((L$4*L$2)-L$5)*G87*-1),(('Copy Results'!$C$2-L$2+L$5)/((L$4*L$2)-L$5)*G87*-1))))","v":732.17884063720703},746.25428294069707,null,null,-4.2636764883614982,1186.0988937976724,{"$f":"AVERAGE(D$79:D87)","v":0},{"$f":"AVERAGE(M$79:M87)","v":1040.943878337127},441.83215869951709,{"$f":"AVERAGE(P$79:P87)","v":456.75502640878238},null,null,null,"T+16 sec",40679.338124999987,{"$f":"LOOKUP($V87,Data!$A$6:$A$1806,Data!$B$6:$B$1806)","v":59.887874603271484},{"$f":"LOOKUP($V87,Data!$A$6:$A$1806,Data!$C$6:$C$1806)","v":0},{"$f":"LOOKUP($V87,Data!$A$6:$A$1806,Data!$D$6:$D$1806)","v":0},{"$f":"IF($Z$1=\"+\",LOOKUP($V87,Data!$A$6:$A$1806,Data!$E$6:$E$1806)*-1,LOOKUP($V87,Data!$A$6:$A$1806,Data!$E$6:$E$1806))","v":0},{"$f":"LOOKUP($V87,Data!$A$6:$A$1806,Data!$F$6:$F$1806)","v":0},null,{"$f":"LOOKUP($V87,Data!$A$6:$A$1806,Data!$H$6:$H$1806)","v":0},{"$f":"LOOKUP($V87,Data!$A$6:$A$1806,Data!$I$6:$I$1806)","v":0},{"$f":"IF(LOOKUP($V87,Data!$A$6:$A$1806,Data!$J$6:$J$1806)>0,(LOOKUP($V87,Data!$A$6:$A$1806,Data!$J$6:$J$1806)*-1),LOOKUP($V87,Data!$A$6:$A$1806,Data!$J$6:$J$1806))","v":-653},{"$f":"LOOKUP($V87,Data!$A$6:$A$1806,Data!$K$6:$K$1806)","v":30086.138671875},732.17884063720703,"T+16 sec",40679.338124999987,null,null,null,null,null,null,null,null,null,null,null,null,null,425.35308097681946,0.11212539672851563,-653]
["T+18 sec",40679.338148148134,{"$f":"LOOKUP(B88,Data!$A$6:$A$1806,Data!B$6:B$1806)","v":59.889492034912109},{"$f":"LOOKUP(B88,Data!$A$6:$A$1806,Data!C$6:C$1806)","v":0},null,null,19590,{"$f":"(IF((C88-L$2)>0,(IF(C88<'Copy Results'!$C$3,((C88-L$2-L$5)/((L$4*L$2)-L$5)*G88*-1),(('Copy Results'!$C$3-L$2-L$5)/((L$4*L$2)-L$5)*G88*-1))),IF(C88>'Copy Results'!$C$2,((C88-L$2+L$5)/((L$4*L$2)-L$5)*G88*-1),(('Copy Results'!$C$2-L$2+L$5)/((L$4*L$2)-L$5)*G88*-1))))","v":721.61701202392578},737.63123811982712,null,null,-4.2636764883614982,1173.212172488441,{"$f":"AVERAGE(D$79:D88)","v":0},{"$f":"AVERAGE(M$79:M88)","v":1054.1707077522583},437.56848221115558,{"$f":"AVERAGE(P$79:P88)","v":454.62318816460163},null,null,null,"T+18 sec",40679.338148148134,{"$f":"LOOKUP($V88,Data!$A$6:$A$1806,Data!$B$6:$B$1806)","v":59.889492034912109},{"$f":"LOOKUP($V88,Data!$A$6:$A$1806,Data!$C$6:$C$1806)","v":0},{"$f":"LOOKUP($V88,Data!$A$6:$A$1806,Data!$D$6:$D$1806)","v":0},{"$f":"IF($Z$1=\"+\",LOOKUP($V88,Data!$A$6:$A$1806,Data!$E$6:$E$1806)*-1,LOOKUP($V88,Data!$A$6:$A$1806,Data!$E$6:$E$1806))","v":0},{"$f":"LOOKUP($V88,Data!$A$6:$A$1806,Data!$F$6:$F$1806)","v":0},null,{"$f":"LOOKUP($V88,Data!$A$6:$A$1806,Data!$H$6:$H$1806)","v":0},{"$f":"LOOKUP($V88,Data!$A$6:$A$1806,Data!$I$6:$I$1806)","v":0},{"$f":"IF(LOOKUP($V88,Data!$A$6:$A$1806,Data!$J$6:$J$1806)>0,(LOOKUP($V88,Data!$A$6:$A$1806,Data!$J$6:$J$1806)*-1),LOOKUP($V88,Data!$A$6:$A$1806,Data!$J$6:$J$1806))","v":-653},{"$f":"LOOKUP($V88,Data!$A$6:$A$1806,Data!$K$6:$K$1806)","v":30094.42578125},721.61701202392578,"T+18 sec",40679.338148148134,null,null,null,null,null,null,null,null,null,null,null,null,null,431.65703100422945,0.11050796508789063,-653]
["T+20 sec",40679.33817129628,{"$f":"LOOKUP(B89,Data!$A$6:$A$1806,Data!B$6:B$1806)","v":59.890804290771484},{"$f":"LOOKUP(B89,Data!$A$6:$A$1806,Data!C$6:C$1806)","v":0},{"$f":"AVERAGE($C$89:$C$105)","v":59.897160922779754},{"$f":"AVERAGE($D$89:$D$105)","v":0},19590,{"$f":"(IF((C89-L$2)>0,(IF(C89<'Copy Results'!$C$3,((C89-L$2-L$5)/((L$4*L$2)-L$5)*G89*-1),(('Copy Results'!$C$3-L$2-L$5)/((L$4*L$2)-L$5)*G89*-1))),IF(C89>'Copy Results'!$C$2,((C89-L$2+L$5)/((L$4*L$2)-L$5)*G89*-1),(('Copy Results'!$C$2-L$2+L$5)/((L$4*L$2)-L$5)*G89*-1))))","v":713.04798126220703},729.02709821966005,null,{"$f":"AU89","v":653},-4.2636764883614982,1160.3443560999126,{"$f":"AVERAGE(D$79:D89)","v":0},{"$f":"AVERAGE(M$79:M89)","v":1063.8228576020451},433.30480572279407,{"$f":"AVERAGE(P$79:P89)","v":452.49134992042093},null,null,null,"T+20 sec",40679.33817129628,{"$f":"LOOKUP($V89,Data!$A$6:$A$1806,Data!$B$6:$B$1806)","v":59.890804290771484},{"$f":"LOOKUP($V89,Data!$A$6:$A$1806,Data!$C$6:$C$1806)","v":0},{"$f":"LOOKUP($V89,Data!$A$6:$A$1806,Data!$D$6:$D$1806)","v":0},{"$f":"IF($Z$1=\"+\",LOOKUP($V89,Data!$A$6:$A$1806,Data!$E$6:$E$1806)*-1,LOOKUP($V89,Data!$A$6:$A$1806,Data!$E$6:$E$1806))","v":0},{"$f":"LOOKUP($V89,Data!$A$6:$A$1806,Data!$F$6:$F$1806)","v":0},null,{"$f":"LOOKUP($V89,Data!$A$6:$A$1806,Data!$H$6:$H$1806)","v":0},{"$f":"LOOKUP($V89,Data!$A$6:$A$1806,Data!$I$6:$I$1806)","v":0},{"$f":"IF(LOOKUP($V89,Data!$A$6:$A$1806,Data!$J$6:$J$1806)>0,(LOOKUP($V89,Data!$A$6:$A$1806,Data!$J$6:$J$1806)*-1),LOOKUP($V89,Data!$A$6:$A$1806,Data!$J$6:$J$1806))","v":-653},{"$f":"LOOKUP($V89,Data!$A$6:$A$1806,Data!$K$6:$K$1806)","v":30094.42578125},713.04798126220703,"T+20 sec",40679.33817129628,{"$f":"AVERAGE($W$89:$W$105)","v":59.897160922779754},{"$f":"AVERAGE($X$89:$X$105)","v":0},{"$f":"AVERAGE($Y$89:$Y$105)","v":0},{"$f":"AVERAGE($Z$89:$Z$105)","v":0},{"$f":"AVERAGE($AA$89:$AA$105)","v":0},null,{"$f":"AVERAGE($AC$89:$AC$105)","v":0},{"$f":"AVERAGE($AD$89:$AD$105)","v":0},{"$f":"AVERAGE($AE$89:$AE$105)","v":-653},{"$f":"AVERAGE($AF$89:$AF$105)","v":30136.76953125},{"$f":"AVERAGE($AG$89:$AG$105)","v":671.53917424819053},{"$f":"AR89*-1","v":653},{"$f":"AVERAGE(AW$89:AW$105)","v":464.95405635298681},436.91052538475145,0.10919570922851563,-653]
["T+22 sec",40679.338194444426,{"$f":"LOOKUP(B90,Data!$A$6:$A$1806,Data!B$6:B$1806)","v":59.891750335693359},{"$f":"LOOKUP(B90,Data!$A$6:$A$1806,Data!C$6:C$1806)","v":0},{"$f":"AVERAGE($C$89:$C$105)","v":59.897160922779754},{"$f":"AVERAGE($D$89:$D$105)","v":0},19590,{"$f":"(IF((C90-L$2)>0,(IF(C90<'Copy Results'!$C$3,((C90-L$2-L$5)/((L$4*L$2)-L$5)*G90*-1),(('Copy Results'!$C$3-L$2-L$5)/((L$4*L$2)-L$5)*G90*-1))),IF(C90>'Copy Results'!$C$2,((C90-L$2+L$5)/((L$4*L$2)-L$5)*G90*-1),(('Copy Results'!$C$2-L$2+L$5)/((L$4*L$2)-L$5)*G90*-1))))","v":706.87030792236328},721.27222161560621,null,{"$f":"AU90","v":653},-4.2636764883614982,1148.3258030074974,{"$f":"AVERAGE(D$79:D90)","v":0},{"$f":"AVERAGE(M$79:M90)","v":1070.8647697191661},429.04112923443256,{"$f":"AVERAGE(P$79:P90)","v":450.35951167624012},null,null,null,"T+22 sec",40679.338194444426,{"$f":"LOOKUP($V90,Data!$A$6:$A$1806,Data!$B$6:$B$1806)","v":59.891750335693359},{"$f":"LOOKUP($V90,Data!$A$6:$A$1806,Data!$C$6:$C$1806)","v":0},{"$f":"LOOKUP($V90,Data!$A$6:$A$1806,Data!$D$6:$D$1806)","v":0},{"$f":"IF($Z$1=\"+\",LOOKUP($V90,Data!$A$6:$A$1806,Data!$E$6:$E$1806)*-1,LOOKUP($V90,Data!$A$6:$A$1806,Data!$E$6:$E$1806))","v":0},{"$f":"LOOKUP($V90,Data!$A$6:$A$1806,Data!$F$6:$F$1806)","v":0},null,{"$f":"LOOKUP($V90,Data!$A$6:$A$1806,Data!$H$6:$H$1806)","v":0},{"$f":"LOOKUP($V90,Data!$A$6:$A$1806,Data!$I$6:$I$1806)","v":0},{"$f":"IF(LOOKUP($V90,Data!$A$6:$A$1806,Data!$J$6:$J$1806)>0,(LOOKUP($V90,Data!$A$6:$A$1806,Data!$J$6:$J$1806)*-1),LOOKUP($V90,Data!$A$6:$A$1806,Data!$J$6:$J$1806))","v":-653},{"$f":"LOOKUP($V90,Data!$A$6:$A$1806,Data!$K$6:$K$1806)","v":30094.42578125},706.87030792236328,"T+22 sec",40679.338194444426,{"$f":"AVERAGE($W$89:$W$105)","v":59.897160922779754},{"$f":"AVERAGE($X$89:$X$105)","v":0},{"$f":"AVERAGE($Y$89:$Y$105)","v":0},{"$f":"AVERAGE($Z$89:$Z$105)","v":0},{"$f":"AVERAGE($AA$89:$AA$105)","v":0},null,{"$f":"AVERAGE($AC$89:$AC$105)","v":0},{"$f":"AVERAGE($AD$89:$AD$105)","v":0},{"$f":"AVERAGE($AE$89:$AE$105)","v":-653},{"$f":"AVERAGE($AF$89:$AF$105)","v":30136.76953125},{"$f":"AVERAGE($AG$89:$AG$105)","v":671.53917424819053},{"$f":"AR90*-1","v":653},{"$f":"AVERAGE(AW$89:AW$105)","v":464.95405635298681},440.77795624085377,0.10824966430664063,-653]
["T+24 sec",40679.338217592573,{"$f":"LOOKUP(B91,Data!$A$6:$A$1806,Data!B$6:B$1806)","v":59.892421722412109},{"$f":"LOOKUP(B91,Data!$A$6:$A$1806,Data!C$6:C$1806)","v":0},59.897160922779754,0,19590,{"$f":"(IF((C91-L$2)>0,(IF(C91<'Copy Results'!$C$3,((C91-L$2-L$5)/((L$4*L$2)-L$5)*G91*-1),(('Copy Results'!$C$3-L$2-L$5)/((L$4*L$2)-L$5)*G91*-1))),IF(C91>'Copy Results'!$C$2,((C91-L$2+L$5)/((L$4*L$2)-L$5)*G91*-1),(('Copy Results'!$C$2-L$2+L$5)/((L$4*L$2)-L$5)*G91*-1))))","v":702.48615264892578},714.69709747726802,null,653,-4.2636764883614982,1137.4870023807978,{"$f":"AVERAGE(D$79:D91)","v":0},{"$f":"AVERAGE(M$79:M91)","v":1075.989556846984},424.77745274607105,{"$f":"AVERAGE(P$79:P91)","v":448.22767343205942},null,null,null,"T+24 sec",40679.338217592573,{"$f":"LOOKUP($V91,Data!$A$6:$A$1806,Data!$B$6:$B$1806)","v":59.892421722412109},{"$f":"LOOKUP($V91,Data!$A$6:$A$1806,Data!$C$6:$C$1806)","v":0},{"$f":"LOOKUP($V91,Data!$A$6:$A$1806,Data!$D$6:$D$1806)","v":0},{"$f":"IF($Z$1=\"+\",LOOKUP($V91,Data!$A$6:$A$1806,Data!$E$6:$E$1806)*-1,LOOKUP($V91,Data!$A$6:$A$1806,Data!$E$6:$E$1806))","v":0},{"$f":"LOOKUP($V91,Data!$A$6:$A$1806,Data!$F$6:$F$1806)","v":0},null,{"$f":"LOOKUP($V91,Data!$A$6:$A$1806,Data!$H$6:$H$1806)","v":0},{"$f":"LOOKUP($V91,Data!$A$6:$A$1806,Data!$I$6:$I$1806)","v":0},{"$f":"IF(LOOKUP($V91,Data!$A$6:$A$1806,Data!$J$6:$J$1806)>0,(LOOKUP($V91,Data!$A$6:$A$1806,Data!$J$6:$J$1806)*-1),LOOKUP($V91,Data!$A$6:$A$1806,Data!$J$6:$J$1806))","v":-653},{"$f":"LOOKUP($V91,Data!$A$6:$A$1806,Data!$K$6:$K$1806)","v":30094.42578125},702.48615264892578,"T+24 sec",40679.338217592573,59.897160922779754,0,0,0,0,null,0,0,-653,30136.76953125,671.53917424819053,653,464.95405635298681,443.56438346323768,0.10757827758789063,-653]
["T+26 sec",40679.338240740719,{"$f":"LOOKUP(B92,Data!$A$6:$A$1806,Data!B$6:B$1806)","v":59.893062591552734},{"$f":"LOOKUP(B92,Data!$A$6:$A$1806,Data!C$6:C$1806)","v":0},59.897160922779754,0,19590,{"$f":"(IF((C92-L$2)>0,(IF(C92<'Copy Results'!$C$3,((C92-L$2-L$5)/((L$4*L$2)-L$5)*G92*-1),(('Copy Results'!$C$3-L$2-L$5)/((L$4*L$2)-L$5)*G92*-1))),IF(C92>'Copy Results'!$C$2,((C92-L$2+L$5)/((L$4*L$2)-L$5)*G92*-1),(('Copy Results'!$C$2-L$2+L$5)/((L$4*L$2)-L$5)*G92*-1))))","v":698.30127716064453},708.95856036644977,null,653,-4.2636764883614982,1127.4847887816181,{"$f":"AVERAGE(D$79:D92)","v":0},{"$f":"AVERAGE(M$79:M92)","v":1079.6677876994579},420.51377625770954,{"$f":"AVERAGE(P$79:P92)","v":446.09583518787866},null,null,null,"T+26 sec",40679.338240740719,{"$f":"LOOKUP($V92,Data!$A$6:$A$1806,Data!$B$6:$B$1806)","v":59.893062591552734},{"$f":"LOOKUP($V92,Data!$A$6:$A$1806,Data!$C$6:$C$1806)","v":0},{"$f":"LOOKUP($V92,Data!$A$6:$A$1806,Data!$D$6:$D$1806)","v":0},{"$f":"IF($Z$1=\"+\",LOOKUP($V92,Data!$A$6:$A$1806,Data!$E$6:$E$1806)*-1,LOOKUP($V92,Data!$A$6:$A$1806,Data!$E$6:$E$1806))","v":0},{"$f":"LOOKUP($V92,Data!$A$6:$A$1806,Data!$F$6:$F$1806)","v":0},null,{"$f":"LOOKUP($V92,Data!$A$6:$A$1806,Data!$H$6:$H$1806)","v":0},{"$f":"LOOKUP($V92,Data!$A$6:$A$1806,Data!$I$6:$I$1806)","v":0},{"$f":"IF(LOOKUP($V92,Data!$A$6:$A$1806,Data!$J$6:$J$1806)>0,(LOOKUP($V92,Data!$A$6:$A$1806,Data!$J$6:$J$1806)*-1),LOOKUP($V92,Data!$A$6:$A$1806,Data!$J$6:$J$1806))","v":-653},{"$f":"LOOKUP($V92,Data!$A$6:$A$1806,Data!$K$6:$K$1806)","v":30139.486328125},698.30127716064453,"T+26 sec",40679.338240740719,59.897160922779754,0,0,0,0,null,0,0,-653,30136.76953125,671.53917424819053,653,464.95405635298681,446.2572182271528,0.10693740844726563,-653]
["T+28 sec",40679.338263888865,{"$f":"LOOKUP(B93,Data!$A$6:$A$1806,Data!B$6:B$1806)","v":59.893062591552734},{"$f":"LOOKUP(B93,Data!$A$6:$A$1806,Data!C$6:C$1806)","v":0},59.897160922779754,0,19590,{"$f":"(IF((C93-L$2)>0,(IF(C93<'Copy Results'!$C$3,((C93-L$2-L$5)/((L$4*L$2)-L$5)*G93*-1),(('Copy Results'!$C$3-L$2-L$5)/((L$4*L$2)-L$5)*G93*-1))),IF(C93>'Copy Results'!$C$2,((C93-L$2+L$5)/((L$4*L$2)-L$5)*G93*-1),(('Copy Results'!$C$2-L$2+L$5)/((L$4*L$2)-L$5)*G93*-1))))","v":698.30127716064453},705.22851124441797,null,653,-4.2636764883614982,1119.4910631712251,{"$f":"AVERAGE(D$79:D93)","v":0},{"$f":"AVERAGE(M$79:M93)","v":1082.3226727309091},416.25009976934803,{"$f":"AVERAGE(P$79:P93)","v":443.96399694369791},null,null,null,"T+28 sec",40679.338263888865,{"$f":"LOOKUP($V93,Data!$A$6:$A$1806,Data!$B$6:$B$1806)","v":59.893062591552734},{"$f":"LOOKUP($V93,Data!$A$6:$A$1806,Data!$C$6:$C$1806)","v":0},{"$f":"LOOKUP($V93,Data!$A$6:$A$1806,Data!$D$6:$D$1806)","v":0},{"$f":"IF($Z$1=\"+\",LOOKUP($V93,Data!$A$6:$A$1806,Data!$E$6:$E$1806)*-1,LOOKUP($V93,Data!$A$6:$A$1806,Data!$E$6:$E$1806))","v":0},{"$f":"LOOKUP($V93,Data!$A$6:$A$1806,Data!$F$6:$F$1806)","v":0},null,{"$f":"LOOKUP($V93,Data!$A$6:$A$1806,Data!$H$6:$H$1806)","v":0},{"$f":"LOOKUP($V93,Data!$A$6:$A$1806,Data!$I$6:$I$1806)","v":0},{"$f":"IF(LOOKUP($V93,Data!$A$6:$A$1806,Data!$J$6:$J$1806)>0,(LOOKUP($V93,Data!$A$6:$A$1806,Data!$J$6:$J$1806)*-1),LOOKUP($V93,Data!$A$6:$A$1806,Data!$J$6:$J$1806))","v":-653},{"$f":"LOOKUP($V93,Data!$A$6:$A$1806,Data!$K$6:$K$1806)","v":30139.486328125},698.30127716064453,"T+28 sec",40679.338263888865,59.897160922779754,0,0,0,0,null,0,0,-653,30136.76953125,671.53917424819053,653,464.95405635298681,446.2572182271528,0.10693740844726563,-653]
["T+30 sec",40679.338287037011,{"$f":"LOOKUP(B94,Data!$A$6:$A$1806,Data!B$6:B$1806)","v":59.893062591552734},{"$f":"LOOKUP(B94,Data!$A$6:$A$1806,Data!C$6:C$1806)","v":0},59.897160922779754,0,19590,{"$f":"(IF((C94-L$2)>0,(IF(C94<'Copy Results'!$C$3,((C94-L$2-L$5)/((L$4*L$2)-L$5)*G94*-1),(('Copy Results'!$C$3-L$2-L$5)/((L$4*L$2)-L$5)*G94*-1))),IF(C94>'Copy Results'!$C$2,((C94-L$2+L$5)/((L$4*L$2)-L$5)*G94*-1),(('Copy Results'!$C$2-L$2+L$5)/((L$4*L$2)-L$5)*G94*-1))))","v":698.30127716064453},702.80397931509731,null,653,-4.2636764883614982,1112.802854753543,{"$f":"AVERAGE(D$79:D94)","v":0},{"$f":"AVERAGE(M$79:M94)","v":1084.2276841073235},411.98642328098651,{"$f":"AVERAGE(P$79:P94)","v":441.83215869951715},null,null,null,"T+30 sec",40679.338287037011,{"$f":"LOOKUP($V94,Data!$A$6:$A$1806,Data!$B$6:$B$1806)","v":59.893062591552734},{"$f":"LOOKUP($V94,Data!$A$6:$A$1806,Data!$C$6:$C$1806)","v":0},{"$f":"LOOKUP($V94,Data!$A$6:$A$1806,Data!$D$6:$D$1806)","v":0},{"$f":"IF($Z$1=\"+\",LOOKUP($V94,Data!$A$6:$A$1806,Data!$E$6:$E$1806)*-1,LOOKUP($V94,Data!$A$6:$A$1806,Data!$E$6:$E$1806))","v":0},{"$f":"LOOKUP($V94,Data!$A$6:$A$1806,Data!$F$6:$F$1806)","v":0},null,{"$f":"LOOKUP($V94,Data!$A$6:$A$1806,Data!$H$6:$H$1806)","v":0},{"$f":"LOOKUP($V94,Data!$A$6:$A$1806,Data!$I$6:$I$1806)","v":0},{"$f":"IF(LOOKUP($V94,Data!$A$6:$A$1806,Data!$J$6:$J$1806)>0,(LOOKUP($V94,Data!$A$6:$A$1806,Data!$J$6:$J$1806)*-1),LOOKUP($V94,Data!$A$6:$A$1806,Data!$J$6:$J$1806))","v":-653},{"$f":"LOOKUP($V94,Data!$A$6:$A$1806,Data!$K$6:$K$1806)","v":30133.375},698.30127716064453,"T+30 sec",40679.338287037011,59.897160922779754,0,0,0,0,null,0,0,-653,30136.76953125,671.53917424819053,653,464.95405635298681,446.2572182271528,0.10693740844726563,-653]
["T+32 sec",40679.338310185158,{"$f":"LOOKUP(B95,Data!$A$6:$A$1806,Data!B$6:B$1806)","v":59.895320892333984},{"$f":"LOOKUP(B95,Data!$A$6:$A$1806,Data!C$6:C$1806)","v":0},59.897160922779754,0,19590,{"$f":"(IF((C95-L$2)>0,(IF(C95<'Copy Results'!$C$3,((C95-L$2-L$5)/((L$4*L$2)-L$5)*G95*-1),(('Copy Results'!$C$3-L$2-L$5)/((L$4*L$2)-L$5)*G95*-1))),IF(C95>'Copy Results'!$C$2,((C95-L$2+L$5)/((L$4*L$2)-L$5)*G95*-1),(('Copy Results'!$C$2-L$2+L$5)/((L$4*L$2)-L$5)*G95*-1))))","v":683.55457305908203},696.06668712549197,null,653,-4.2636764883614982,1101.8018860755762,{"$f":"AVERAGE(D$79:D95)","v":0},{"$f":"AVERAGE(M$79:M95)","v":1085.2614606936913},407.722746792625,{"$f":"AVERAGE(P$79:P95)","v":439.7003204553364},null,null,null,"T+32 sec",40679.338310185158,{"$f":"LOOKUP($V95,Data!$A$6:$A$1806,Data!$B$6:$B$1806)","v":59.895320892333984},{"$f":"LOOKUP($V95,Data!$A$6:$A$1806,Data!$C$6:$C$1806)","v":0},{"$f":"LOOKUP($V95,Data!$A$6:$A$1806,Data!$D$6:$D$1806)","v":0},{"$f":"IF($Z$1=\"+\",LOOKUP($V95,Data!$A$6:$A$1806,Data!$E$6:$E$1806)*-1,LOOKUP($V95,Data!$A$6:$A$1806,Data!$E$6:$E$1806))","v":0},{"$f":"LOOKUP($V95,Data!$A$6:$A$1806,Data!$F$6:$F$1806)","v":0},null,{"$f":"LOOKUP($V95,Data!$A$6:$A$1806,Data!$H$6:$H$1806)","v":0},{"$f":"LOOKUP($V95,Data!$A$6:$A$1806,Data!$I$6:$I$1806)","v":0},{"$f":"IF(LOOKUP($V95,Data!$A$6:$A$1806,Data!$J$6:$J$1806)>0,(LOOKUP($V95,Data!$A$6:$A$1806,Data!$J$6:$J$1806)*-1),LOOKUP($V95,Data!$A$6:$A$1806,Data!$J$6:$J$1806))","v":-653},{"$f":"LOOKUP($V95,Data!$A$6:$A$1806,Data!$K$6:$K$1806)","v":30133.375},683.55457305908203,"T+32 sec",40679.338310185158,59.897160922779754,0,0,0,0,null,0,0,-653,30136.76953125,671.53917424819053,653,464.95405635298681,456.01255492780916,0.10467910766601562,-653]
["T+34 sec",40679.338333333304,{"$f":"LOOKUP(B96,Data!$A$6:$A$1806,Data!B$6:B$1806)","v":59.897884368896484},{"$f":"LOOKUP(B96,Data!$A$6:$A$1806,Data!C$6:C$1806)","v":0},59.897160922779754,0,19590,{"$f":"(IF((C96-L$2)>0,(IF(C96<'Copy Results'!$C$3,((C96-L$2-L$5)/((L$4*L$2)-L$5)*G96*-1),(('Copy Results'!$C$3-L$2-L$5)/((L$4*L$2)-L$5)*G96*-1))),IF(C96>'Copy Results'!$C$2,((C96-L$2+L$5)/((L$4*L$2)-L$5)*G96*-1),(('Copy Results'!$C$2-L$2+L$5)/((L$4*L$2)-L$5)*G96*-1))))","v":666.81507110595703},685.8286215186547,null,653,-4.2636764883614982,1087.3001439803775,{"$f":"AVERAGE(D$79:D96)","v":0},{"$f":"AVERAGE(M$79:M96)","v":1085.374720876285},403.45907030426349,{"$f":"AVERAGE(P$79:P96)","v":437.56848221115564},null,null,null,"T+34 sec",40679.338333333304,{"$f":"LOOKUP($V96,Data!$A$6:$A$1806,Data!$B$6:$B$1806)","v":59.897884368896484},{"$f":"LOOKUP($V96,Data!$A$6:$A$1806,Data!$C$6:$C$1806)","v":0},{"$f":"LOOKUP($V96,Data!$A$6:$A$1806,Data!$D$6:$D$1806)","v":0},{"$f":"IF($Z$1=\"+\",LOOKUP($V96,Data!$A$6:$A$1806,Data!$E$6:$E$1806)*-1,LOOKUP($V96,Data!$A$6:$A$1806,Data!$E$6:$E$1806))","v":0},{"$f":"LOOKUP($V96,Data!$A$6:$A$1806,Data!$F$6:$F$1806)","v":0},null,{"$f":"LOOKUP($V96,Data!$A$6:$A$1806,Data!$H$6:$H$1806)","v":0},{"$f":"LOOKUP($V96,Data!$A$6:$A$1806,Data!$I$6:$I$1806)","v":0},{"$f":"IF(LOOKUP($V96,Data!$A$6:$A$1806,Data!$J$6:$J$1806)>0,(LOOKUP($V96,Data!$A$6:$A$1806,Data!$J$6:$J$1806)*-1),LOOKUP($V96,Data!$A$6:$A$1806,Data!$J$6:$J$1806))","v":-653},{"$f":"LOOKUP($V96,Data!$A$6:$A$1806,Data!$K$6:$K$1806)","v":30133.375},666.81507110595703,"T+34 sec",40679.338333333304,59.897160922779754,0,0,0,0,null,0,0,-653,30136.76953125,671.53917424819053,653,464.95405635298681,467.61619144988452,0.10211563110351562,-653]
["T+36 sec",40679.33835648145,{"$f":"LOOKUP(B97,Data!$A$6:$A$1806,Data!B$6:B$1806)","v":59.899501800537109},{"$f":"LOOKUP(B97,Data!$A$6:$A$1806,Data!C$6:C$1806)","v":0},59.897160922779754,0,19590,{"$f":"(IF((C97-L$2)>0,(IF(C97<'Copy Results'!$C$3,((C97-L$2-L$5)/((L$4*L$2)-L$5)*G97*-1),(('Copy Results'!$C$3-L$2-L$5)/((L$4*L$2)-L$5)*G97*-1))),IF(C97>'Copy Results'!$C$2,((C97-L$2+L$5)/((L$4*L$2)-L$5)*G97*-1),(('Copy Results'!$C$2-L$2+L$5)/((L$4*L$2)-L$5)*G97*-1))))","v":656.25324249267578},675.47723885956202,null,653,-4.2636764883614982,1072.6850848329234,{"$f":"AVERAGE(D$79:D97)","v":0},{"$f":"AVERAGE(M$79:M97)","v":1084.7068452950555},399.19539381590198,{"$f":"AVERAGE(P$79:P97)","v":435.43664396697488},null,null,null,"T+36 sec",40679.33835648145,{"$f":"LOOKUP($V97,Data!$A$6:$A$1806,Data!$B$6:$B$1806)","v":59.899501800537109},{"$f":"LOOKUP($V97,Data!$A$6:$A$1806,Data!$C$6:$C$1806)","v":0},{"$f":"LOOKUP($V97,Data!$A$6:$A$1806,Data!$D$6:$D$1806)","v":0},{"$f":"IF($Z$1=\"+\",LOOKUP($V97,Data!$A$6:$A$1806,Data!$E$6:$E$1806)*-1,LOOKUP($V97,Data!$A$6:$A$1806,Data!$E$6:$E$1806))","v":0},{"$f":"LOOKUP($V97,Data!$A$6:$A$1806,Data!$F$6:$F$1806)","v":0},null,{"$f":"LOOKUP($V97,Data!$A$6:$A$1806,Data!$H$6:$H$1806)","v":0},{"$f":"LOOKUP($V97,Data!$A$6:$A$1806,Data!$I$6:$I$1806)","v":0},{"$f":"IF(LOOKUP($V97,Data!$A$6:$A$1806,Data!$J$6:$J$1806)>0,(LOOKUP($V97,Data!$A$6:$A$1806,Data!$J$6:$J$1806)*-1),LOOKUP($V97,Data!$A$6:$A$1806,Data!$J$6:$J$1806))","v":-653},{"$f":"LOOKUP($V97,Data!$A$6:$A$1806,Data!$K$6:$K$1806)","v":30133.375},656.25324249267578,"T+36 sec",40679.33835648145,59.897160922779754,0,0,0,0,null,0,0,-653,30136.76953125,671.53917424819053,653,464.95405635298681,475.246334423706,0.10049819946289062,-653]
["T+38 sec",40679.338379629597,{"$f":"LOOKUP(B98,Data!$A$6:$A$1806,Data!B$6:B$1806)","v":59.900814056396484},{"$f":"LOOKUP(B98,Data!$A$6:$A$1806,Data!C$6:C$1806)","v":0},59.897160922779754,0,19590,{"$f":"(IF((C98-L$2)>0,(IF(C98<'Copy Results'!$C$3,((C98-L$2-L$5)/((L$4*L$2)-L$5)*G98*-1),(('Copy Results'!$C$3-L$2-L$5)/((L$4*L$2)-L$5)*G98*-1))),IF(C98>'Copy Results'!$C$2,((C98-L$2+L$5)/((L$4*L$2)-L$5)*G98*-1),(('Copy Results'!$C$2-L$2+L$5)/((L$4*L$2)-L$5)*G98*-1))))","v":647.68421173095703},665.74967936455027,null,653,-4.2636764883614982,1058.6938488495502,{"$f":"AVERAGE(D$79:D98)","v":0},{"$f":"AVERAGE(M$79:M98)","v":1083.4061954727802},394.93171732754047,{"$f":"AVERAGE(P$79:P98)","v":433.30480572279413},null,null,null,"T+38 sec",40679.338379629597,{"$f":"LOOKUP($V98,Data!$A$6:$A$1806,Data!$B$6:$B$1806)","v":59.900814056396484},{"$f":"LOOKUP($V98,Data!$A$6:$A$1806,Data!$C$6:$C$1806)","v":0},{"$f":"LOOKUP($V98,Data!$A$6:$A$1806,Data!$D$6:$D$1806)","v":0},{"$f":"IF($Z$1=\"+\",LOOKUP($V98,Data!$A$6:$A$1806,Data!$E$6:$E$1806)*-1,LOOKUP($V98,Data!$A$6:$A$1806,Data!$E$6:$E$1806))","v":0},{"$f":"LOOKUP($V98,Data!$A$6:$A$1806,Data!$F$6:$F$1806)","v":0},null,{"$f":"LOOKUP($V98,Data!$A$6:$A$1806,Data!$H$6:$H$1806)","v":0},{"$f":"LOOKUP($V98,Data!$A$6:$A$1806,Data!$I$6:$I$1806)","v":0},{"$f":"IF(LOOKUP($V98,Data!$A$6:$A$1806,Data!$J$6:$J$1806)>0,(LOOKUP($V98,Data!$A$6:$A$1806,Data!$J$6:$J$1806)*-1),LOOKUP($V98,Data!$A$6:$A$1806,Data!$J$6:$J$1806))","v":-653},{"$f":"LOOKUP($V98,Data!$A$6:$A$1806,Data!$K$6:$K$1806)","v":30137.263671875},647.68421173095703,"T+38 sec",40679.338379629597,59.897160922779754,0,0,0,0,null,0,0,-653,30136.76953125,671.53917424819053,653,464.95405635298681,481.6222456222456,9.9185943603515625E-2,-653]
["T+40 sec",40679.338402777743,{"$f":"LOOKUP(B99,Data!$A$6:$A$1806,Data!B$6:B$1806)","v":59.902095794677734},{"$f":"LOOKUP(B99,Data!$A$6:$A$1806,Data!C$6:C$1806)","v":0},59.897160922779754,0,19590,{"$f":"(IF((C99-L$2)>0,(IF(C99<'Copy Results'!$C$3,((C99-L$2-L$5)/((L$4*L$2)-L$5)*G99*-1),(('Copy Results'!$C$3-L$2-L$5)/((L$4*L$2)-L$5)*G99*-1))),IF(C99>'Copy Results'!$C$2,((C99-L$2+L$5)/((L$4*L$2)-L$5)*G99*-1),(('Copy Results'!$C$2-L$2+L$5)/((L$4*L$2)-L$5)*G99*-1))))","v":639.31446075439453},656.49735285099575,null,653,-4.2636764883614982,1045.1778458476342,{"$f":"AVERAGE(D$79:D99)","v":0},{"$f":"AVERAGE(M$79:M99)","v":1081.5857978715826},390.66804083917896,{"$f":"AVERAGE(P$79:P99)","v":431.17296747861337},null,null,null,"T+40 sec",40679.338402777743,{"$f":"LOOKUP($V99,Data!$A$6:$A$1806,Data!$B$6:$B$1806)","v":59.902095794677734},{"$f":"LOOKUP($V99,Data!$A$6:$A$1806,Data!$C$6:$C$1806)","v":0},{"$f":"LOOKUP($V99,Data!$A$6:$A$1806,Data!$D$6:$D$1806)","v":0},{"$f":"IF($Z$1=\"+\",LOOKUP($V99,Data!$A$6:$A$1806,Data!$E$6:$E$1806)*-1,LOOKUP($V99,Data!$A$6:$A$1806,Data!$E$6:$E$1806))","v":0},{"$f":"LOOKUP($V99,Data!$A$6:$A$1806,Data!$F$6:$F$1806)","v":0},null,{"$f":"LOOKUP($V99,Data!$A$6:$A$1806,Data!$H$6:$H$1806)","v":0},{"$f":"LOOKUP($V99,Data!$A$6:$A$1806,Data!$I$6:$I$1806)","v":0},{"$f":"IF(LOOKUP($V99,Data!$A$6:$A$1806,Data!$J$6:$J$1806)>0,(LOOKUP($V99,Data!$A$6:$A$1806,Data!$J$6:$J$1806)*-1),LOOKUP($V99,Data!$A$6:$A$1806,Data!$J$6:$J$1806))","v":-653},{"$f":"LOOKUP($V99,Data!$A$6:$A$1806,Data!$K$6:$K$1806)","v":30137.263671875},639.31446075439453,"T+40 sec",40679.338402777743,59.897160922779754,0,0,0,0,null,0,0,-653,30136.76953125,671.53917424819053,653,464.95405635298681,488.01722979648292,9.7904205322265625E-2,-653]
["T+42 sec",40679.338425925889,{"$f":"LOOKUP(B100,Data!$A$6:$A$1806,Data!B$6:B$1806)","v":59.901790618896484},{"$f":"LOOKUP(B100,Data!$A$6:$A$1806,Data!C$6:C$1806)","v":0},59.897160922779754,0,19590,{"$f":"(IF((C100-L$2)>0,(IF(C100<'Copy Results'!$C$3,((C100-L$2-L$5)/((L$4*L$2)-L$5)*G100*-1),(('Copy Results'!$C$3-L$2-L$5)/((L$4*L$2)-L$5)*G100*-1))),IF(C100>'Copy Results'!$C$2,((C100-L$2+L$5)/((L$4*L$2)-L$5)*G100*-1),(('Copy Results'!$C$2-L$2+L$5)/((L$4*L$2)-L$5)*G100*-1))))","v":641.30725860595703},651.18081986523214,null,653,-4.2636764883614982,1035.5976363735092,{"$f":"AVERAGE(D$79:D100)","v":0},{"$f":"AVERAGE(M$79:M100)","v":1079.4954268943975},386.40436435081745,{"$f":"AVERAGE(P$79:P100)","v":429.04112923443262},null,null,null,"T+42 sec",40679.338425925889,{"$f":"LOOKUP($V100,Data!$A$6:$A$1806,Data!$B$6:$B$1806)","v":59.901790618896484},{"$f":"LOOKUP($V100,Data!$A$6:$A$1806,Data!$C$6:$C$1806)","v":0},{"$f":"LOOKUP($V100,Data!$A$6:$A$1806,Data!$D$6:$D$1806)","v":0},{"$f":"IF($Z$1=\"+\",LOOKUP($V100,Data!$A$6:$A$1806,Data!$E$6:$E$1806)*-1,LOOKUP($V100,Data!$A$6:$A$1806,Data!$E$6:$E$1806))","v":0},{"$f":"LOOKUP($V100,Data!$A$6:$A$1806,Data!$F$6:$F$1806)","v":0},null,{"$f":"LOOKUP($V100,Data!$A$6:$A$1806,Data!$H$6:$H$1806)","v":0},{"$f":"LOOKUP($V100,Data!$A$6:$A$1806,Data!$I$6:$I$1806)","v":0},{"$f":"IF(LOOKUP($V100,Data!$A$6:$A$1806,Data!$J$6:$J$1806)>0,(LOOKUP($V100,Data!$A$6:$A$1806,Data!$J$6:$J$1806)*-1),LOOKUP($V100,Data!$A$6:$A$1806,Data!$J$6:$J$1806))","v":-653},{"$f":"LOOKUP($V100,Data!$A$6:$A$1806,Data!$K$6:$K$1806)","v":30137.263671875},641.30725860595703,"T+42 sec",40679.338425925889,59.897160922779754,0,0,0,0,null,0,0,-653,30136.76953125,671.53917424819053,653,464.95405635298681,486.47925940516052,9.8209381103515625E-2,-653]
["T+44 sec",40679.338449074035,{"$f":"LOOKUP(B101,Data!$A$6:$A$1806,Data!B$6:B$1806)","v":59.900814056396484},{"$f":"LOOKUP(B101,Data!$A$6:$A$1806,Data!C$6:C$1806)","v":0},59.897160922779754,0,19590,{"$f":"(IF((C101-L$2)>0,(IF(C101<'Copy Results'!$C$3,((C101-L$2-L$5)/((L$4*L$2)-L$5)*G101*-1),(('Copy Results'!$C$3-L$2-L$5)/((L$4*L$2)-L$5)*G101*-1))),IF(C101>'Copy Results'!$C$2,((C101-L$2+L$5)/((L$4*L$2)-L$5)*G101*-1),(('Copy Results'!$C$2-L$2+L$5)/((L$4*L$2)-L$5)*G101*-1))))","v":647.68421173095703},649.9570070182358,null,653,-4.2636764883614982,1030.1101470381514,{"$f":"AVERAGE(D$79:D101)","v":0},{"$f":"AVERAGE(M$79:M101)","v":1077.3482408136913},382.14068786245593,{"$f":"AVERAGE(P$79:P101)","v":426.90929099025192},null,null,null,"T+44 sec",40679.338449074035,{"$f":"LOOKUP($V101,Data!$A$6:$A$1806,Data!$B$6:$B$1806)","v":59.900814056396484},{"$f":"LOOKUP($V101,Data!$A$6:$A$1806,Data!$C$6:$C$1806)","v":0},{"$f":"LOOKUP($V101,Data!$A$6:$A$1806,Data!$D$6:$D$1806)","v":0},{"$f":"IF($Z$1=\"+\",LOOKUP($V101,Data!$A$6:$A$1806,Data!$E$6:$E$1806)*-1,LOOKUP($V101,Data!$A$6:$A$1806,Data!$E$6:$E$1806))","v":0},{"$f":"LOOKUP($V101,Data!$A$6:$A$1806,Data!$F$6:$F$1806)","v":0},null,{"$f":"LOOKUP($V101,Data!$A$6:$A$1806,Data!$H$6:$H$1806)","v":0},{"$f":"LOOKUP($V101,Data!$A$6:$A$1806,Data!$I$6:$I$1806)","v":0},{"$f":"IF(LOOKUP($V101,Data!$A$6:$A$1806,Data!$J$6:$J$1806)>0,(LOOKUP($V101,Data!$A$6:$A$1806,Data!$J$6:$J$1806)*-1),LOOKUP($V101,Data!$A$6:$A$1806,Data!$J$6:$J$1806))","v":-653},{"$f":"LOOKUP($V101,Data!$A$6:$A$1806,Data!$K$6:$K$1806)","v":30137.263671875},647.68421173095703,"T+44 sec",40679.338449074035,59.897160922779754,0,0,0,0,null,0,0,-653,30136.76953125,671.53917424819053,653,464.95405635298681,481.6222456222456,9.9185943603515625E-2,-653]
["T+46 sec",40679.338472222182,{"$f":"LOOKUP(B102,Data!$A$6:$A$1806,Data!B$6:B$1806)","v":59.900814056396484},{"$f":"LOOKUP(B102,Data!$A$6:$A$1806,Data!C$6:C$1806)","v":0},59.897160922779754,0,19590,{"$f":"(IF((C102-L$2)>0,(IF(C102<'Copy Results'!$C$3,((C102-L$2-L$5)/((L$4*L$2)-L$5)*G102*-1),(('Copy Results'!$C$3-L$2-L$5)/((L$4*L$2)-L$5)*G102*-1))),IF(C102>'Copy Results'!$C$2,((C102-L$2+L$5)/((L$4*L$2)-L$5)*G102*-1),(('Copy Results'!$C$2-L$2+L$5)/((L$4*L$2)-L$5)*G102*-1))))","v":647.68421173095703},649.16152866768823,null,653,-4.2636764883614982,1025.0509921992425,{"$f":"AVERAGE(D$79:D102)","v":0},{"$f":"AVERAGE(M$79:M102)","v":1075.1691887880891},377.87701137409442,{"$f":"AVERAGE(P$79:P102)","v":424.77745274607111},null,null,null,"T+46 sec",40679.338472222182,{"$f":"LOOKUP($V102,Data!$A$6:$A$1806,Data!$B$6:$B$1806)","v":59.900814056396484},{"$f":"LOOKUP($V102,Data!$A$6:$A$1806,Data!$C$6:$C$1806)","v":0},{"$f":"LOOKUP($V102,Data!$A$6:$A$1806,Data!$D$6:$D$1806)","v":0},{"$f":"IF($Z$1=\"+\",LOOKUP($V102,Data!$A$6:$A$1806,Data!$E$6:$E$1806)*-1,LOOKUP($V102,Data!$A$6:$A$1806,Data!$E$6:$E$1806))","v":0},{"$f":"LOOKUP($V102,Data!$A$6:$A$1806,Data!$F$6:$F$1806)","v":0},null,{"$f":"LOOKUP($V102,Data!$A$6:$A$1806,Data!$H$6:$H$1806)","v":0},{"$f":"LOOKUP($V102,Data!$A$6:$A$1806,Data!$I$6:$I$1806)","v":0},{"$f":"IF(LOOKUP($V102,Data!$A$6:$A$1806,Data!$J$6:$J$1806)>0,(LOOKUP($V102,Data!$A$6:$A$1806,Data!$J$6:$J$1806)*-1),LOOKUP($V102,Data!$A$6:$A$1806,Data!$J$6:$J$1806))","v":-653},{"$f":"LOOKUP($V102,Data!$A$6:$A$1806,Data!$K$6:$K$1806)","v":30171.375},647.68421173095703,"T+46 sec",40679.338472222182,59.897160922779754,0,0,0,0,null,0,0,-653,30136.76953125,671.53917424819053,653,464.95405635298681,481.6222456222456,9.9185943603515625E-2,-653]
["T+48 sec",40679.338495370328,{"$f":"LOOKUP(B103,Data!$A$6:$A$1806,Data!B$6:B$1806)","v":59.900478363037109},{"$f":"LOOKUP(B103,Data!$A$6:$A$1806,Data!C$6:C$1806)","v":0},59.897160922779754,0,19590,{"$f":"(IF((C103-L$2)>0,(IF(C103<'Copy Results'!$C$3,((C103-L$2-L$5)/((L$4*L$2)-L$5)*G103*-1),(('Copy Results'!$C$3-L$2-L$5)/((L$4*L$2)-L$5)*G103*-1))),IF(C103>'Copy Results'!$C$2,((C103-L$2+L$5)/((L$4*L$2)-L$5)*G103*-1),(('Copy Results'!$C$2-L$2+L$5)/((L$4*L$2)-L$5)*G103*-1))))","v":649.87628936767578},649.41169491268386,null,653,-4.2636764883614982,1021.0374819558766,{"$f":"AVERAGE(D$79:D103)","v":0},{"$f":"AVERAGE(M$79:M103)","v":1073.0039205148007},373.61333488573291,{"$f":"AVERAGE(P$79:P103)","v":422.64561450189035},null,null,null,"T+48 sec",40679.338495370328,{"$f":"LOOKUP($V103,Data!$A$6:$A$1806,Data!$B$6:$B$1806)","v":59.900478363037109},{"$f":"LOOKUP($V103,Data!$A$6:$A$1806,Data!$C$6:$C$1806)","v":0},{"$f":"LOOKUP($V103,Data!$A$6:$A$1806,Data!$D$6:$D$1806)","v":0},{"$f":"IF($Z$1=\"+\",LOOKUP($V103,Data!$A$6:$A$1806,Data!$E$6:$E$1806)*-1,LOOKUP($V103,Data!$A$6:$A$1806,Data!$E$6:$E$1806))","v":0},{"$f":"LOOKUP($V103,Data!$A$6:$A$1806,Data!$F$6:$F$1806)","v":0},null,{"$f":"LOOKUP($V103,Data!$A$6:$A$1806,Data!$H$6:$H$1806)","v":0},{"$f":"LOOKUP($V103,Data!$A$6:$A$1806,Data!$I$6:$I$1806)","v":0},{"$f":"IF(LOOKUP($V103,Data!$A$6:$A$1806,Data!$J$6:$J$1806)>0,(LOOKUP($V103,Data!$A$6:$A$1806,Data!$J$6:$J$1806)*-1),LOOKUP($V103,Data!$A$6:$A$1806,Data!$J$6:$J$1806))","v":-653},{"$f":"LOOKUP($V103,Data!$A$6:$A$1806,Data!$K$6:$K$1806)","v":30171.375},649.87628936767578,"T+48 sec",40679.338495370328,59.897160922779754,0,0,0,0,null,0,0,-653,30136.76953125,671.53917424819053,653,464.95405635298681,479.97496987834739,9.9521636962890625E-2,-653]
["T+50 sec",40679.338518518474,{"$f":"LOOKUP(B104,Data!$A$6:$A$1806,Data!B$6:B$1806)","v":59.899196624755859},{"$f":"LOOKUP(B104,Data!$A$6:$A$1806,Data!C$6:C$1806)","v":0},59.897160922779754,0,19590,{"$f":"(IF((C104-L$2)>0,(IF(C104<'Copy Results'!$C$3,((C104-L$2-L$5)/((L$4*L$2)-L$5)*G104*-1),(('Copy Results'!$C$3-L$2-L$5)/((L$4*L$2)-L$5)*G104*-1))),IF(C104>'Copy Results'!$C$2,((C104-L$2+L$5)/((L$4*L$2)-L$5)*G104*-1),(('Copy Results'!$C$2-L$2+L$5)/((L$4*L$2)-L$5)*G104*-1))))","v":658.24604034423828},652.50371581372792,null,653,-4.2636764883614982,1019.8658263685592,{"$f":"AVERAGE(D$79:D104)","v":0},{"$f":"AVERAGE(M$79:M104)","v":1070.9601476630221},369.3496583973714,{"$f":"AVERAGE(P$79:P104)","v":420.51377625770959},null,null,null,"T+50 sec",40679.338518518474,{"$f":"LOOKUP($V104,Data!$A$6:$A$1806,Data!$B$6:$B$1806)","v":59.899196624755859},{"$f":"LOOKUP($V104,Data!$A$6:$A$1806,Data!$C$6:$C$1806)","v":0},{"$f":"LOOKUP($V104,Data!$A$6:$A$1806,Data!$D$6:$D$1806)","v":0},{"$f":"IF($Z$1=\"+\",LOOKUP($V104,Data!$A$6:$A$1806,Data!$E$6:$E$1806)*-1,LOOKUP($V104,Data!$A$6:$A$1806,Data!$E$6:$E$1806))","v":0},{"$f":"LOOKUP($V104,Data!$A$6:$A$1806,Data!$F$6:$F$1806)","v":0},null,{"$f":"LOOKUP($V104,Data!$A$6:$A$1806,Data!$H$6:$H$1806)","v":0},{"$f":"LOOKUP($V104,Data!$A$6:$A$1806,Data!$I$6:$I$1806)","v":0},{"$f":"IF(LOOKUP($V104,Data!$A$6:$A$1806,Data!$J$6:$J$1806)>0,(LOOKUP($V104,Data!$A$6:$A$1806,Data!$J$6:$J$1806)*-1),LOOKUP($V104,Data!$A$6:$A$1806,Data!$J$6:$J$1806))","v":-653},{"$f":"LOOKUP($V104,Data!$A$6:$A$1806,Data!$K$6:$K$1806)","v":30168.763671875},658.24604034423828,"T+50 sec",40679.338518518474,59.897160922779754,0,0,0,0,null,0,0,-653,30136.76953125,671.53917424819053,653,464.95405635298681,473.78768463456743,0.10080337524414062,-653]
["T+52 sec",40679.338541666621,{"$f":"LOOKUP(B105,Data!$A$6:$A$1806,Data!B$6:B$1806)","v":59.898860931396484},{"$f":"LOOKUP(B105,Data!$A$6:$A$1806,Data!C$6:C$1806)","v":0},59.897160922779754,0,19590,{"$f":"(IF((C105-L$2)>0,(IF(C105<'Copy Results'!$C$3,((C105-L$2-L$5)/((L$4*L$2)-L$5)*G105*-1),(('Copy Results'!$C$3-L$2-L$5)/((L$4*L$2)-L$5)*G105*-1))),IF(C105>'Copy Results'!$C$2,((C105-L$2+L$5)/((L$4*L$2)-L$5)*G105*-1),(('Copy Results'!$C$2-L$2+L$5)/((L$4*L$2)-L$5)*G105*-1))))","v":660.43811798095703},655.28075657225804,null,653,-4.2636764883614982,1018.3791906387278,{"$f":"AVERAGE(D$79:D105)","v":0},{"$f":"AVERAGE(M$79:M105)","v":1069.0127048102704},365.08598190900989,{"$f":"AVERAGE(P$79:P105)","v":418.38193801352884},null,null,null,"T+52 sec",40679.338541666621,{"$f":"LOOKUP($V105,Data!$A$6:$A$1806,Data!$B$6:$B$1806)","v":59.898860931396484},{"$f":"LOOKUP($V105,Data!$A$6:$A$1806,Data!$C$6:$C$1806)","v":0},{"$f":"LOOKUP($V105,Data!$A$6:$A$1806,Data!$D$6:$D$1806)","v":0},{"$f":"IF($Z$1=\"+\",LOOKUP($V105,Data!$A$6:$A$1806,Data!$E$6:$E$1806)*-1,LOOKUP($V105,Data!$A$6:$A$1806,Data!$E$6:$E$1806))","v":0},{"$f":"LOOKUP($V105,Data!$A$6:$A$1806,Data!$F$6:$F$1806)","v":0},null,{"$f":"LOOKUP($V105,Data!$A$6:$A$1806,Data!$H$6:$H$1806)","v":0},{"$f":"LOOKUP($V105,Data!$A$6:$A$1806,Data!$I$6:$I$1806)","v":0},{"$f":"IF(LOOKUP($V105,Data!$A$6:$A$1806,Data!$J$6:$J$1806)>0,(LOOKUP($V105,Data!$A$6:$A$1806,Data!$J$6:$J$1806)*-1),LOOKUP($V105,Data!$A$6:$A$1806,Data!$J$6:$J$1806))","v":-653},{"$f":"LOOKUP($V105,Data!$A$6:$A$1806,Data!$K$6:$K$1806)","v":30168.763671875},660.43811798095703,"T+52 sec",40679.338541666621,59.897160922779754,0,0,0,0,null,0,0,-653,30136.76953125,671.53917424819053,653,464.95405635298681,472.19347684778035,0.10113906860351562,-653]
["T+54 sec",40679.338564814767,{"$f":"LOOKUP(B106,Data!$A$6:$A$1806,Data!B$6:B$1806)","v":59.898555755615234},{"$f":"LOOKUP(B106,Data!$A$6:$A$1806,Data!C$6:C$1806)","v":0},null,null,19590,{"$f":"(IF((C106-L$2)>0,(IF(C106<'Copy Results'!$C$3,((C106-L$2-L$5)/((L$4*L$2)-L$5)*G106*-1),(('Copy Results'!$C$3-L$2-L$5)/((L$4*L$2)-L$5)*G106*-1))),IF(C106>'Copy Results'!$C$2,((C106-L$2+L$5)/((L$4*L$2)-L$5)*G106*-1),(('Copy Results'!$C$2-L$2+L$5)/((L$4*L$2)-L$5)*G106*-1))))","v":662.43091583251953},657.7833123133496,null,null,-4.2636764883614982,1016.6180698914578,{"$f":"AVERAGE(D$79:D106)","v":0},{"$f":"AVERAGE(M$79:M106)","v":1067.1414678488843},360.82230542064838,{"$f":"AVERAGE(P$79:P106)","v":416.25009976934808},null,null,null,"T+54 sec",40679.338564814767,{"$f":"LOOKUP($V106,Data!$A$6:$A$1806,Data!$B$6:$B$1806)","v":59.898555755615234},{"$f":"LOOKUP($V106,Data!$A$6:$A$1806,Data!$C$6:$C$1806)","v":0},{"$f":"LOOKUP($V106,Data!$A$6:$A$1806,Data!$D$6:$D$1806)","v":0},{"$f":"IF($Z$1=\"+\",LOOKUP($V106,Data!$A$6:$A$1806,Data!$E$6:$E$1806)*-1,LOOKUP($V106,Data!$A$6:$A$1806,Data!$E$6:$E$1806))","v":0},{"$f":"LOOKUP($V106,Data!$A$6:$A$1806,Data!$F$6:$F$1806)","v":0},null,{"$f":"LOOKUP($V106,Data!$A$6:$A$1806,Data!$H$6:$H$1806)","v":0},{"$f":"LOOKUP($V106,Data!$A$6:$A$1806,Data!$I$6:$I$1806)","v":0},{"$f":"IF(LOOKUP($V106,Data!$A$6:$A$1806,Data!$J$6:$J$1806)>0,(LOOKUP($V106,Data!$A$6:$A$1806,Data!$J$6:$J$1806)*-1),LOOKUP($V106,Data!$A$6:$A$1806,Data!$J$6:$J$1806))","v":-653},{"$f":"LOOKUP($V106,Data!$A$6:$A$1806,Data!$K$6:$K$1806)","v":30168.763671875},662.43091583251953,"T+54 sec",40679.338564814767,null,null,null,null,null,null,null,null,null,null,null,null,null,470.75347844318225,0.10144424438476562,-653]
["T+56 sec",40679.338587962913,{"$f":"LOOKUP(B107,Data!$A$6:$A$1806,Data!B$6:B$1806)","v":59.900173187255859},{"$f":"LOOKUP(B107,Data!$A$6:$A$1806,Data!C$6:C$1806)","v":0},null,null,19590,{"$f":"(IF((C107-L$2)>0,(IF(C107<'Copy Results'!$C$3,((C107-L$2-L$5)/((L$4*L$2)-L$5)*G107*-1),(('Copy Results'!$C$3-L$2-L$5)/((L$4*L$2)-L$5)*G107*-1))),IF(C107>'Copy Results'!$C$2,((C107-L$2+L$5)/((L$4*L$2)-L$5)*G107*-1),(('Copy Results'!$C$2-L$2+L$5)/((L$4*L$2)-L$5)*G107*-1))))","v":651.86908721923828},{"$f":"L$13*H107+(1-L$13)*I106","v":655.71333353041064},null,null,-4.2636764883614982,1010.2844146201573,{"$f":"AVERAGE(D$79:D107)","v":0},{"$f":"AVERAGE(M$79:M107)","v":1065.1808798065144},356.55862893228687,{"$f":"AVERAGE(P$79:P107)","v":414.11826152516733},null,null,null,"T+56 sec",40679.338587962913,{"$f":"LOOKUP($V107,Data!$A$6:$A$1806,Data!$B$6:$B$1806)","v":59.900173187255859},{"$f":"LOOKUP($V107,Data!$A$6:$A$1806,Data!$C$6:$C$1806)","v":0},{"$f":"LOOKUP($V107,Data!$A$6:$A$1806,Data!$D$6:$D$1806)","v":0},{"$f":"IF($Z$1=\"+\",LOOKUP($V107,Data!$A$6:$A$1806,Data!$E$6:$E$1806)*-1,LOOKUP($V107,Data!$A$6:$A$1806,Data!$E$6:$E$1806))","v":0},{"$f":"LOOKUP($V107,Data!$A$6:$A$1806,Data!$F$6:$F$1806)","v":0},null,{"$f":"LOOKUP($V107,Data!$A$6:$A$1806,Data!$H$6:$H$1806)","v":0},{"$f":"LOOKUP($V107,Data!$A$6:$A$1806,Data!$I$6:$I$1806)","v":0},{"$f":"IF(LOOKUP($V107,Data!$A$6:$A$1806,Data!$J$6:$J$1806)>0,(LOOKUP($V107,Data!$A$6:$A$1806,Data!$J$6:$J$1806)*-1),LOOKUP($V107,Data!$A$6:$A$1806,Data!$J$6:$J$1806))","v":-653},{"$f":"LOOKUP($V107,Data!$A$6:$A$1806,Data!$K$6:$K$1806)","v":30168.763671875},651.86908721923828,"T+56 sec",40679.338587962913,null,null,null,null,null,null,null,null,null,null,null,null,null,478.48719438955402,9.9826812744140625E-2,-653]
["T+58 sec",40679.338611111059,{"$f":"LOOKUP(B108,Data!$A$6:$A$1806,Data!B$6:B$1806)","v":59.902431488037109},{"$f":"LOOKUP(B108,Data!$A$6:$A$1806,Data!C$6:C$1806)","v":0},null,null,{"$f":"AE108*-M$4*10","v":19590},{"$f":"(IF((C108-L$2)>0,(IF(C108<'Copy Results'!$C$3,((C108-L$2-L$5)/((L$4*L$2)-L$5)*G108*-1),(('Copy Results'!$C$3-L$2-L$5)/((L$4*L$2)-L$5)*G108*-1))),IF(C108>'Copy Results'!$C$2,((C108-L$2+L$5)/((L$4*L$2)-L$5)*G108*-1),(('Copy Results'!$C$2-L$2+L$5)/((L$4*L$2)-L$5)*G108*-1))))","v":637.12238311767578},649.20650088595346,null,null,-4.2636764883614982,999.51390548733866,{"$f":"AVERAGE(D$79:D108)","v":0},{"$f":"AVERAGE(M$79:M108)","v":1062.9919806625419},352.29495244392535,{"$f":"AVERAGE(P$79:P108)","v":411.98642328098651},null,null,null,"T+58 sec",40679.338611111059,{"$f":"LOOKUP($V108,Data!$A$6:$A$1806,Data!$B$6:$B$1806)","v":59.902431488037109},{"$f":"LOOKUP($V108,Data!$A$6:$A$1806,Data!$C$6:$C$1806)","v":0},{"$f":"LOOKUP($V108,Data!$A$6:$A$1806,Data!$D$6:$D$1806)","v":0},{"$f":"IF($Z$1=\"+\",LOOKUP($V108,Data!$A$6:$A$1806,Data!$E$6:$E$1806)*-1,LOOKUP($V108,Data!$A$6:$A$1806,Data!$E$6:$E$1806))","v":0},{"$f":"LOOKUP($V108,Data!$A$6:$A$1806,Data!$F$6:$F$1806)","v":0},null,{"$f":"LOOKUP($V108,Data!$A$6:$A$1806,Data!$H$6:$H$1806)","v":0},{"$f":"LOOKUP($V108,Data!$A$6:$A$1806,Data!$I$6:$I$1806)","v":0},{"$f":"IF(LOOKUP($V108,Data!$A$6:$A$1806,Data!$J$6:$J$1806)>0,(LOOKUP($V108,Data!$A$6:$A$1806,Data!$J$6:$J$1806)*-1),LOOKUP($V108,Data!$A$6:$A$1806,Data!$J$6:$J$1806))","v":-653},{"$f":"LOOKUP($V108,Data!$A$6:$A$1806,Data!$K$6:$K$1806)","v":30208.994140625},{"$f":"(IF((W108-$L$2)>0,((W108-$L$2-$L$5)/(($L$4*$L$2)-$L$5)*G108*-1),((W108-$L$2+$L$5)/(($L$4*$L$2)-$L$5)*G108*-1)))","v":637.12238311767578},"T+58 sec",40679.338611111059,null,null,null,null,null,null,null,null,null,null,null,null,null,489.72026807312528,{"$f":"ABS(C108-60)","v":9.7568511962890625E-2},{"$f":"IF(AX108>0.036,AE108,\" \")","v":-653}]
["T+60 sec",40679.338634259206,{"$f":"LOOKUP(B109,Data!$A$6:$A$1806,Data!B$6:B$1806)","v":59.904689788818359},{"$f":"LOOKUP(B109,Data!$A$6:$A$1806,Data!C$6:C$1806)","v":0},null,null,19590,{"$f":"(IF((C109-L$2)>0,(IF(C109<'Copy Results'!$C$3,((C109-L$2-L$5)/((L$4*L$2)-L$5)*G109*-1),(('Copy Results'!$C$3-L$2-L$5)/((L$4*L$2)-L$5)*G109*-1))),IF(C109>'Copy Results'!$C$2,((C109-L$2+L$5)/((L$4*L$2)-L$5)*G109*-1),(('Copy Results'!$C$2-L$2+L$5)/((L$4*L$2)-L$5)*G109*-1))))","v":622.37567901611328},639.81571323150933,null,null,-4.2636764883614982,985.85944134453302,{"$f":"AVERAGE(D$79:D109)","v":0},{"$f":"AVERAGE(M$79:M109)","v":1060.5038342329287},348.03127595556384,{"$f":"AVERAGE(P$79:P109)","v":409.85458503680576},null,null,null,"T+60 sec",40679.338634259206,{"$f":"LOOKUP($V109,Data!$A$6:$A$1806,Data!$B$6:$B$1806)","v":59.904689788818359},{"$f":"LOOKUP($V109,Data!$A$6:$A$1806,Data!$C$6:$C$1806)","v":0},{"$f":"LOOKUP($V109,Data!$A$6:$A$1806,Data!$D$6:$D$1806)","v":0},{"$f":"IF($Z$1=\"+\",LOOKUP($V109,Data!$A$6:$A$1806,Data!$E$6:$E$1806)*-1,LOOKUP($V109,Data!$A$6:$A$1806,Data!$E$6:$E$1806))","v":0},{"$f":"LOOKUP($V109,Data!$A$6:$A$1806,Data!$F$6:$F$1806)","v":0},null,{"$f":"LOOKUP($V109,Data!$A$6:$A$1806,Data!$H$6:$H$1806)","v":0},{"$f":"LOOKUP($V109,Data!$A$6:$A$1806,Data!$I$6:$I$1806)","v":0},{"$f":"IF(LOOKUP($V109,Data!$A$6:$A$1806,Data!$J$6:$J$1806)>0,(LOOKUP($V109,Data!$A$6:$A$1806,Data!$J$6:$J$1806)*-1),LOOKUP($V109,Data!$A$6:$A$1806,Data!$J$6:$J$1806))","v":-653},{"$f":"LOOKUP($V109,Data!$A$6:$A$1806,Data!$K$6:$K$1806)","v":30208.994140625},622.37567901611328,"T+60 sec",40679.338634259206,null,null,null,null,"         ",null,null,null,null,null,null,null,null,501.49344162436546,9.5310211181640625E-2,-653]
["T+62 sec",{"$f":"B109+TIME(0,0,$B$1)","v":40679.338657407352},{"$f":"LOOKUP(B110,Data!$A$6:$A$1806,Data!B$6:B$1806)","v":59.906948089599609},{"$f":"LOOKUP(B110,Data!$A$6:$A$1806,Data!C$6:C$1806)","v":0},null,null,19590,{"$f":"(IF((C110-L$2)>0,(IF(C110<'Copy Results'!$C$3,((C110-L$2-L$5)/((L$4*L$2)-L$5)*G110*-1),(('Copy Results'!$C$3-L$2-L$5)/((L$4*L$2)-L$5)*G110*-1))),IF(C110>'Copy Results'!$C$2,((C110-L$2+L$5)/((L$4*L$2)-L$5)*G110*-1),(('Copy Results'!$C$2-L$2+L$5)/((L$4*L$2)-L$5)*G110*-1))))","v":607.62897491455078},628.55035482057383,null,null,-4.2636764883614982,970.33040644523601,{"$f":"AVERAGE(D$79:D110)","v":0},{"$f":"AVERAGE(M$79:M110)","v":1057.6859146145634},343.76759946720233,{"$f":"AVERAGE(P$79:P110)","v":407.72274679262506},null,null,null,"T+62 sec",40679.338657407352,{"$f":"LOOKUP($V110,Data!$A$6:$A$1806,Data!$B$6:$B$1806)","v":59.906948089599609},{"$f":"LOOKUP($V110,Data!$A$6:$A$1806,Data!$C$6:$C$1806)","v":0},{"$f":"LOOKUP($V110,Data!$A$6:$A$1806,Data!$D$6:$D$1806)","v":0},{"$f":"IF($Z$1=\"+\",LOOKUP($V110,Data!$A$6:$A$1806,Data!$E$6:$E$1806)*-1,LOOKUP($V110,Data!$A$6:$A$1806,Data!$E$6:$E$1806))","v":0},{"$f":"LOOKUP($V110,Data!$A$6:$A$1806,Data!$F$6:$F$1806)","v":0},null,{"$f":"LOOKUP($V110,Data!$A$6:$A$1806,Data!$H$6:$H$1806)","v":0},{"$f":"LOOKUP($V110,Data!$A$6:$A$1806,Data!$I$6:$I$1806)","v":0},{"$f":"IF(LOOKUP($V110,Data!$A$6:$A$1806,Data!$J$6:$J$1806)>0,(LOOKUP($V110,Data!$A$6:$A$1806,Data!$J$6:$J$1806)*-1),LOOKUP($V110,Data!$A$6:$A$1806,Data!$J$6:$J$1806))","v":-653},{"$f":"LOOKUP($V110,Data!$A$6:$A$1806,Data!$K$6:$K$1806)","v":30208.994140625},607.62897491455078,"T+62 sec",40679.338657407352,null,null,null,null,null,null,null,null,null,null,null,null,null,513.84662755378019,9.3051910400390625E-2,-653]
["T+64 sec",40679.338680555498,{"$f":"LOOKUP(B111,Data!$A$6:$A$1806,Data!B$6:B$1806)","v":59.908870697021484},{"$f":"LOOKUP(B111,Data!$A$6:$A$1806,Data!C$6:C$1806)","v":0},null,null,19590,{"$f":"(IF((C111-L$2)>0,(IF(C111<'Copy Results'!$C$3,((C111-L$2-L$5)/((L$4*L$2)-L$5)*G111*-1),(('Copy Results'!$C$3-L$2-L$5)/((L$4*L$2)-L$5)*G111*-1))),IF(C111>'Copy Results'!$C$2,((C111-L$2+L$5)/((L$4*L$2)-L$5)*G111*-1),(('Copy Results'!$C$2-L$2+L$5)/((L$4*L$2)-L$5)*G111*-1))))","v":595.07434844970703},616.83375259077047,null,null,-4.2636764883614982,954.35012772707114,{"$f":"AVERAGE(D$79:D111)","v":0},{"$f":"AVERAGE(M$79:M111)","v":1054.5545271331243},339.50392297884082,{"$f":"AVERAGE(P$79:P111)","v":405.5909085484443},null,null,null,"T+64 sec",40679.338680555498,{"$f":"LOOKUP($V111,Data!$A$6:$A$1806,Data!$B$6:$B$1806)","v":59.908870697021484},{"$f":"LOOKUP($V111,Data!$A$6:$A$1806,Data!$C$6:$C$1806)","v":0},{"$f":"LOOKUP($V111,Data!$A$6:$A$1806,Data!$D$6:$D$1806)","v":0},{"$f":"IF($Z$1=\"+\",LOOKUP($V111,Data!$A$6:$A$1806,Data!$E$6:$E$1806)*-1,LOOKUP($V111,Data!$A$6:$A$1806,Data!$E$6:$E$1806))","v":0},{"$f":"LOOKUP($V111,Data!$A$6:$A$1806,Data!$F$6:$F$1806)","v":0},null,{"$f":"LOOKUP($V111,Data!$A$6:$A$1806,Data!$H$6:$H$1806)","v":0},{"$f":"LOOKUP($V111,Data!$A$6:$A$1806,Data!$I$6:$I$1806)","v":0},{"$f":"IF(LOOKUP($V111,Data!$A$6:$A$1806,Data!$J$6:$J$1806)>0,(LOOKUP($V111,Data!$A$6:$A$1806,Data!$J$6:$J$1806)*-1),LOOKUP($V111,Data!$A$6:$A$1806,Data!$J$6:$J$1806))","v":-653},{"$f":"LOOKUP($V111,Data!$A$6:$A$1806,Data!$K$6:$K$1806)","v":30208.994140625},595.07434844970703,"T+64 sec",40679.338680555498,null,null,null,null,null,null,null,null,null,null,null,null,null,524.8534149347613,9.1129302978515625E-2,-653]
["T+66 sec",40679.338703703645,{"$f":"LOOKUP(B112,Data!$A$6:$A$1806,Data!B$6:B$1806)","v":59.909206390380859},{"$f":"LOOKUP(B112,Data!$A$6:$A$1806,Data!C$6:C$1806)","v":0},null,null,19590,{"$f":"(IF((C112-L$2)>0,(IF(C112<'Copy Results'!$C$3,((C112-L$2-L$5)/((L$4*L$2)-L$5)*G112*-1),(('Copy Results'!$C$3-L$2-L$5)/((L$4*L$2)-L$5)*G112*-1))),IF(C112>'Copy Results'!$C$2,((C112-L$2+L$5)/((L$4*L$2)-L$5)*G112*-1),(('Copy Results'!$C$2-L$2+L$5)/((L$4*L$2)-L$5)*G112*-1))))","v":592.88227081298828},608.45073396854673,null,null,-4.2636764883614982,941.70343261648588,{"$f":"AVERAGE(D$79:D112)","v":0},{"$f":"AVERAGE(M$79:M112)","v":1051.2353772943995},335.24024649047931,{"$f":"AVERAGE(P$79:P112)","v":403.45907030426355},null,null,null,"T+66 sec",40679.338703703645,{"$f":"LOOKUP($V112,Data!$A$6:$A$1806,Data!$B$6:$B$1806)","v":59.909206390380859},{"$f":"LOOKUP($V112,Data!$A$6:$A$1806,Data!$C$6:$C$1806)","v":0},{"$f":"LOOKUP($V112,Data!$A$6:$A$1806,Data!$D$6:$D$1806)","v":0},{"$f":"IF($Z$1=\"+\",LOOKUP($V112,Data!$A$6:$A$1806,Data!$E$6:$E$1806)*-1,LOOKUP($V112,Data!$A$6:$A$1806,Data!$E$6:$E$1806))","v":0},{"$f":"LOOKUP($V112,Data!$A$6:$A$1806,Data!$F$6:$F$1806)","v":0},null,{"$f":"LOOKUP($V112,Data!$A$6:$A$1806,Data!$H$6:$H$1806)","v":0},{"$f":"LOOKUP($V112,Data!$A$6:$A$1806,Data!$I$6:$I$1806)","v":0},{"$f":"IF(LOOKUP($V112,Data!$A$6:$A$1806,Data!$J$6:$J$1806)>0,(LOOKUP($V112,Data!$A$6:$A$1806,Data!$J$6:$J$1806)*-1),LOOKUP($V112,Data!$A$6:$A$1806,Data!$J$6:$J$1806))","v":-653},{"$f":"LOOKUP($V112,Data!$A$6:$A$1806,Data!$K$6:$K$1806)","v":30205.6640625},592.88227081298828,"T+66 sec",40679.338703703645,null,null,null,null,null,null,null,null,null,null,null,null,null,526.82377031696603,9.0793609619140625E-2,-653]
["T+68 sec",40679.338726851791,{"$f":"LOOKUP(B113,Data!$A$6:$A$1806,Data!B$6:B$1806)","v":59.908565521240234},{"$f":"LOOKUP(B113,Data!$A$6:$A$1806,Data!C$6:C$1806)","v":0},null,null,19590,{"$f":"(IF((C113-L$2)>0,(IF(C113<'Copy Results'!$C$3,((C113-L$2-L$5)/((L$4*L$2)-L$5)*G113*-1),(('Copy Results'!$C$3-L$2-L$5)/((L$4*L$2)-L$5)*G113*-1))),IF(C113>'Copy Results'!$C$2,((C113-L$2+L$5)/((L$4*L$2)-L$5)*G113*-1),(('Copy Results'!$C$2-L$2+L$5)/((L$4*L$2)-L$5)*G113*-1))))","v":597.06714630126953},604.46647828499977,null,null,-4.2636764883614982,933.45550044457741,{"$f":"AVERAGE(D$79:D113)","v":0},{"$f":"AVERAGE(M$79:M113)","v":1047.8702379558333},330.9765700021178,{"$f":"AVERAGE(P$79:P113)","v":401.32723206008279},null,null,null,"T+68 sec",40679.338726851791,{"$f":"LOOKUP($V113,Data!$A$6:$A$1806,Data!$B$6:$B$1806)","v":59.908565521240234},{"$f":"LOOKUP($V113,Data!$A$6:$A$1806,Data!$C$6:$C$1806)","v":0},{"$f":"LOOKUP($V113,Data!$A$6:$A$1806,Data!$D$6:$D$1806)","v":0},{"$f":"IF($Z$1=\"+\",LOOKUP($V113,Data!$A$6:$A$1806,Data!$E$6:$E$1806)*-1,LOOKUP($V113,Data!$A$6:$A$1806,Data!$E$6:$E$1806))","v":0},{"$f":"LOOKUP($V113,Data!$A$6:$A$1806,Data!$F$6:$F$1806)","v":0},null,{"$f":"LOOKUP($V113,Data!$A$6:$A$1806,Data!$H$6:$H$1806)","v":0},{"$f":"LOOKUP($V113,Data!$A$6:$A$1806,Data!$I$6:$I$1806)","v":0},{"$f":"IF(LOOKUP($V113,Data!$A$6:$A$1806,Data!$J$6:$J$1806)>0,(LOOKUP($V113,Data!$A$6:$A$1806,Data!$J$6:$J$1806)*-1),LOOKUP($V113,Data!$A$6:$A$1806,Data!$J$6:$J$1806))","v":-653},{"$f":"LOOKUP($V113,Data!$A$6:$A$1806,Data!$K$6:$K$1806)","v":30205.6640625},597.06714630126953,"T+68 sec",40679.338726851791,null,null,null,null,null,null,null,null,null,null,null,null,null,523.07492905248,9.1434478759765625E-2,-653]
["T+70 sec",40679.338749999937,{"$f":"LOOKUP(B114,Data!$A$6:$A$1806,Data!B$6:B$1806)","v":59.908870697021484},{"$f":"LOOKUP(B114,Data!$A$6:$A$1806,Data!C$6:C$1806)","v":0},null,null,19590,{"$f":"(IF((C114-L$2)>0,(IF(C114<'Copy Results'!$C$3,((C114-L$2-L$5)/((L$4*L$2)-L$5)*G114*-1),(('Copy Results'!$C$3-L$2-L$5)/((L$4*L$2)-L$5)*G114*-1))),IF(C114>'Copy Results'!$C$2,((C114-L$2+L$5)/((L$4*L$2)-L$5)*G114*-1),(('Copy Results'!$C$2-L$2+L$5)/((L$4*L$2)-L$5)*G114*-1))))","v":595.07434844970703},601.17923284264725,null,null,-4.2636764883614982,925.90457851386338,{"$f":"AVERAGE(D$79:D114)","v":0},{"$f":"AVERAGE(M$79:M114)","v":1044.4823029713343},326.71289351375628,{"$f":"AVERAGE(P$79:P114)","v":399.19539381590204},null,null,null,"T+70 sec",40679.338749999937,{"$f":"LOOKUP($V114,Data!$A$6:$A$1806,Data!$B$6:$B$1806)","v":59.908870697021484},{"$f":"LOOKUP($V114,Data!$A$6:$A$1806,Data!$C$6:$C$1806)","v":0},{"$f":"LOOKUP($V114,Data!$A$6:$A$1806,Data!$D$6:$D$1806)","v":0},{"$f":"IF($Z$1=\"+\",LOOKUP($V114,Data!$A$6:$A$1806,Data!$E$6:$E$1806)*-1,LOOKUP($V114,Data!$A$6:$A$1806,Data!$E$6:$E$1806))","v":0},{"$f":"LOOKUP($V114,Data!$A$6:$A$1806,Data!$F$6:$F$1806)","v":0},null,{"$f":"LOOKUP($V114,Data!$A$6:$A$1806,Data!$H$6:$H$1806)","v":0},{"$f":"LOOKUP($V114,Data!$A$6:$A$1806,Data!$I$6:$I$1806)","v":0},{"$f":"IF(LOOKUP($V114,Data!$A$6:$A$1806,Data!$J$6:$J$1806)>0,(LOOKUP($V114,Data!$A$6:$A$1806,Data!$J$6:$J$1806)*-1),LOOKUP($V114,Data!$A$6:$A$1806,Data!$J$6:$J$1806))","v":-653},{"$f":"LOOKUP($V114,Data!$A$6:$A$1806,Data!$K$6:$K$1806)","v":30205.658203125},595.07434844970703,"T+70 sec",40679.338749999937,null,null,null,null,null,null,null,null,null,null,null,null,null,524.8534149347613,9.1129302978515625E-2,-653]
["T+72 sec",40679.338773148083,{"$f":"LOOKUP(B115,Data!$A$6:$A$1806,Data!B$6:B$1806)","v":59.910182952880859},{"$f":"LOOKUP(B115,Data!$A$6:$A$1806,Data!C$6:C$1806)","v":0},null,null,19590,{"$f":"(IF((C115-L$2)>0,(IF(C115<'Copy Results'!$C$3,((C115-L$2-L$5)/((L$4*L$2)-L$5)*G115*-1),(('Copy Results'!$C$3-L$2-L$5)/((L$4*L$2)-L$5)*G115*-1))),IF(C115>'Copy Results'!$C$2,((C115-L$2+L$5)/((L$4*L$2)-L$5)*G115*-1),(('Copy Results'!$C$2-L$2+L$5)/((L$4*L$2)-L$5)*G115*-1))))","v":586.50531768798828},596.0433625385167,null,null,-4.2636764883614982,916.50503172137132,{"$f":"AVERAGE(D$79:D115)","v":0},{"$f":"AVERAGE(M$79:M115)","v":1041.0234578024163},322.44921702539477,{"$f":"AVERAGE(P$79:P115)","v":397.06355557172128},null,null,null,"T+72 sec",40679.338773148083,{"$f":"LOOKUP($V115,Data!$A$6:$A$1806,Data!$B$6:$B$1806)","v":59.910182952880859},{"$f":"LOOKUP($V115,Data!$A$6:$A$1806,Data!$C$6:$C$1806)","v":0},{"$f":"LOOKUP($V115,Data!$A$6:$A$1806,Data!$D$6:$D$1806)","v":0},{"$f":"IF($Z$1=\"+\",LOOKUP($V115,Data!$A$6:$A$1806,Data!$E$6:$E$1806)*-1,LOOKUP($V115,Data!$A$6:$A$1806,Data!$E$6:$E$1806))","v":0},{"$f":"LOOKUP($V115,Data!$A$6:$A$1806,Data!$F$6:$F$1806)","v":0},null,{"$f":"LOOKUP($V115,Data!$A$6:$A$1806,Data!$H$6:$H$1806)","v":0},{"$f":"LOOKUP($V115,Data!$A$6:$A$1806,Data!$I$6:$I$1806)","v":0},{"$f":"IF(LOOKUP($V115,Data!$A$6:$A$1806,Data!$J$6:$J$1806)>0,(LOOKUP($V115,Data!$A$6:$A$1806,Data!$J$6:$J$1806)*-1),LOOKUP($V115,Data!$A$6:$A$1806,Data!$J$6:$J$1806))","v":-653},{"$f":"LOOKUP($V115,Data!$A$6:$A$1806,Data!$K$6:$K$1806)","v":30205.658203125},586.50531768798828,"T+72 sec",40679.338773148083,null,null,null,null,null,null,null,null,null,null,null,null,null,532.6407591114945,8.9817047119140625E-2,-653]
["T+74 sec",40679.33879629623,{"$f":"LOOKUP(B116,Data!$A$6:$A$1806,Data!B$6:B$1806)","v":59.912441253662109},{"$f":"LOOKUP(B116,Data!$A$6:$A$1806,Data!C$6:C$1806)","v":0},null,null,19590,{"$f":"(IF((C116-L$2)>0,(IF(C116<'Copy Results'!$C$3,((C116-L$2-L$5)/((L$4*L$2)-L$5)*G116*-1),(('Copy Results'!$C$3-L$2-L$5)/((L$4*L$2)-L$5)*G116*-1))),IF(C116>'Copy Results'!$C$2,((C116-L$2+L$5)/((L$4*L$2)-L$5)*G116*-1),(('Copy Results'!$C$2-L$2+L$5)/((L$4*L$2)-L$5)*G116*-1))))","v":571.75861358642578},587.54370040528488,null,null,-4.2636764883614982,903.74169309977799,{"$f":"AVERAGE(D$79:D116)","v":0},{"$f":"AVERAGE(M$79:M116)","v":1037.4107797839258},318.18554053703326,{"$f":"AVERAGE(P$79:P116)","v":394.93171732754053},null,null,null,"T+74 sec",40679.33879629623,{"$f":"LOOKUP($V116,Data!$A$6:$A$1806,Data!$B$6:$B$1806)","v":59.912441253662109},{"$f":"LOOKUP($V116,Data!$A$6:$A$1806,Data!$C$6:$C$1806)","v":0},{"$f":"LOOKUP($V116,Data!$A$6:$A$1806,Data!$D$6:$D$1806)","v":0},{"$f":"IF($Z$1=\"+\",LOOKUP($V116,Data!$A$6:$A$1806,Data!$E$6:$E$1806)*-1,LOOKUP($V116,Data!$A$6:$A$1806,Data!$E$6:$E$1806))","v":0},{"$f":"LOOKUP($V116,Data!$A$6:$A$1806,Data!$F$6:$F$1806)","v":0},null,{"$f":"LOOKUP($V116,Data!$A$6:$A$1806,Data!$H$6:$H$1806)","v":0},{"$f":"LOOKUP($V116,Data!$A$6:$A$1806,Data!$I$6:$I$1806)","v":0},{"$f":"IF(LOOKUP($V116,Data!$A$6:$A$1806,Data!$J$6:$J$1806)>0,(LOOKUP($V116,Data!$A$6:$A$1806,Data!$J$6:$J$1806)*-1),LOOKUP($V116,Data!$A$6:$A$1806,Data!$J$6:$J$1806))","v":-653},{"$f":"LOOKUP($V116,Data!$A$6:$A$1806,Data!$K$6:$K$1806)","v":30205.658203125},571.75861358642578,"T+74 sec",40679.33879629623,null,null,null,null,null,null,null,null,null,null,null,null,null,546.59744168547775,8.7558746337890625E-2,-653]
["T+76 sec",40679.338819444376,{"$f":"LOOKUP(B117,Data!$A$6:$A$1806,Data!B$6:B$1806)","v":59.914699554443359},{"$f":"LOOKUP(B117,Data!$A$6:$A$1806,Data!C$6:C$1806)","v":0},null,null,19590,{"$f":"(IF((C117-L$2)>0,(IF(C117<'Copy Results'!$C$3,((C117-L$2-L$5)/((L$4*L$2)-L$5)*G117*-1),(('Copy Results'!$C$3-L$2-L$5)/((L$4*L$2)-L$5)*G117*-1))),IF(C117>'Copy Results'!$C$2,((C117-L$2+L$5)/((L$4*L$2)-L$5)*G117*-1),(('Copy Results'!$C$2-L$2+L$5)/((L$4*L$2)-L$5)*G117*-1))))","v":557.01190948486328},576.85757358313731,null,null,-4.2636764883614982,888.79188978926891,{"$f":"AVERAGE(D$79:D117)","v":0},{"$f":"AVERAGE(M$79:M117)","v":1033.600039014832},313.92186404867175,{"$f":"AVERAGE(P$79:P117)","v":392.79987908335977},null,null,null,"T+76 sec",40679.338819444376,{"$f":"LOOKUP($V117,Data!$A$6:$A$1806,Data!$B$6:$B$1806)","v":59.914699554443359},{"$f":"LOOKUP($V117,Data!$A$6:$A$1806,Data!$C$6:$C$1806)","v":0},{"$f":"LOOKUP($V117,Data!$A$6:$A$1806,Data!$D$6:$D$1806)","v":0},{"$f":"IF($Z$1=\"+\",LOOKUP($V117,Data!$A$6:$A$1806,Data!$E$6:$E$1806)*-1,LOOKUP($V117,Data!$A$6:$A$1806,Data!$E$6:$E$1806))","v":0},{"$f":"LOOKUP($V117,Data!$A$6:$A$1806,Data!$F$6:$F$1806)","v":0},null,{"$f":"LOOKUP($V117,Data!$A$6:$A$1806,Data!$H$6:$H$1806)","v":0},{"$f":"LOOKUP($V117,Data!$A$6:$A$1806,Data!$I$6:$I$1806)","v":0},{"$f":"IF(LOOKUP($V117,Data!$A$6:$A$1806,Data!$J$6:$J$1806)>0,(LOOKUP($V117,Data!$A$6:$A$1806,Data!$J$6:$J$1806)*-1),LOOKUP($V117,Data!$A$6:$A$1806,Data!$J$6:$J$1806))","v":-653},{"$f":"LOOKUP($V117,Data!$A$6:$A$1806,Data!$K$6:$K$1806)","v":30205.658203125},557.01190948486328,"T+76 sec",40679.338819444376,null,null,null,null,null,null,null,null,null,null,null,null,null,561.30521339939094,8.5300445556640625E-2,-653]
["T+78 sec",40679.338842592522,{"$f":"LOOKUP(B118,Data!$A$6:$A$1806,Data!B$6:B$1806)","v":59.917598724365234},{"$f":"LOOKUP(B118,Data!$A$6:$A$1806,Data!C$6:C$1806)","v":0},null,null,19590,{"$f":"(IF((C118-L$2)>0,(IF(C118<'Copy Results'!$C$3,((C118-L$2-L$5)/((L$4*L$2)-L$5)*G118*-1),(('Copy Results'!$C$3-L$2-L$5)/((L$4*L$2)-L$5)*G118*-1))),IF(C118>'Copy Results'!$C$2,((C118-L$2+L$5)/((L$4*L$2)-L$5)*G118*-1),(('Copy Results'!$C$2-L$2+L$5)/((L$4*L$2)-L$5)*G118*-1))))","v":538.08032989501953},563.28553829229611,null,null,-4.2636764883614982,870.9561780100662,{"$f":"AVERAGE(D$79:D118)","v":0},{"$f":"AVERAGE(M$79:M118)","v":1029.5339424897127},309.65818756031024,{"$f":"AVERAGE(P$79:P118)","v":390.66804083917901},null,null,null,"T+78 sec",40679.338842592522,{"$f":"LOOKUP($V118,Data!$A$6:$A$1806,Data!$B$6:$B$1806)","v":59.917598724365234},{"$f":"LOOKUP($V118,Data!$A$6:$A$1806,Data!$C$6:$C$1806)","v":0},{"$f":"LOOKUP($V118,Data!$A$6:$A$1806,Data!$D$6:$D$1806)","v":0},{"$f":"IF($Z$1=\"+\",LOOKUP($V118,Data!$A$6:$A$1806,Data!$E$6:$E$1806)*-1,LOOKUP($V118,Data!$A$6:$A$1806,Data!$E$6:$E$1806))","v":0},{"$f":"LOOKUP($V118,Data!$A$6:$A$1806,Data!$F$6:$F$1806)","v":0},null,{"$f":"LOOKUP($V118,Data!$A$6:$A$1806,Data!$H$6:$H$1806)","v":0},{"$f":"LOOKUP($V118,Data!$A$6:$A$1806,Data!$I$6:$I$1806)","v":0},{"$f":"IF(LOOKUP($V118,Data!$A$6:$A$1806,Data!$J$6:$J$1806)>0,(LOOKUP($V118,Data!$A$6:$A$1806,Data!$J$6:$J$1806)*-1),LOOKUP($V118,Data!$A$6:$A$1806,Data!$J$6:$J$1806))","v":-653},{"$f":"LOOKUP($V118,Data!$A$6:$A$1806,Data!$K$6:$K$1806)","v":30211.75390625},538.08032989501953,"T+78 sec",40679.338842592522,null,null,null,null,null,null,null,null,null,null,null,null,null,581.38863518666733,8.2401275634765625E-2,-653]
["T+80 sec",40679.338865740669,{"$f":"LOOKUP(B119,Data!$A$6:$A$1806,Data!B$6:B$1806)","v":59.919216156005859},{"$f":"LOOKUP(B119,Data!$A$6:$A$1806,Data!C$6:C$1806)","v":0},null,null,19590,{"$f":"(IF((C119-L$2)>0,(IF(C119<'Copy Results'!$C$3,((C119-L$2-L$5)/((L$4*L$2)-L$5)*G119*-1),(('Copy Results'!$C$3-L$2-L$5)/((L$4*L$2)-L$5)*G119*-1))),IF(C119>'Copy Results'!$C$2,((C119-L$2+L$5)/((L$4*L$2)-L$5)*G119*-1),(('Copy Results'!$C$2-L$2+L$5)/((L$4*L$2)-L$5)*G119*-1))))","v":527.51850128173828},550.76707533860088,null,null,-4.2636764883614982,854.17403856800945,{"$f":"AVERAGE(D$79:D119)","v":0},{"$f":"AVERAGE(M$79:M119)","v":1025.2568716623541},305.39451107194873,{"$f":"AVERAGE(P$79:P119)","v":388.53620259499826},null,null,null,"T+80 sec",40679.338865740669,{"$f":"LOOKUP($V119,Data!$A$6:$A$1806,Data!$B$6:$B$1806)","v":59.919216156005859},{"$f":"LOOKUP($V119,Data!$A$6:$A$1806,Data!$C$6:$C$1806)","v":0},{"$f":"LOOKUP($V119,Data!$A$6:$A$1806,Data!$D$6:$D$1806)","v":0},{"$f":"IF($Z$1=\"+\",LOOKUP($V119,Data!$A$6:$A$1806,Data!$E$6:$E$1806)*-1,LOOKUP($V119,Data!$A$6:$A$1806,Data!$E$6:$E$1806))","v":0},{"$f":"LOOKUP($V119,Data!$A$6:$A$1806,Data!$F$6:$F$1806)","v":0},null,{"$f":"LOOKUP($V119,Data!$A$6:$A$1806,Data!$H$6:$H$1806)","v":0},{"$f":"LOOKUP($V119,Data!$A$6:$A$1806,Data!$I$6:$I$1806)","v":0},{"$f":"IF(LOOKUP($V119,Data!$A$6:$A$1806,Data!$J$6:$J$1806)>0,(LOOKUP($V119,Data!$A$6:$A$1806,Data!$J$6:$J$1806)*-1),LOOKUP($V119,Data!$A$6:$A$1806,Data!$J$6:$J$1806))","v":-653},{"$f":"LOOKUP($V119,Data!$A$6:$A$1806,Data!$K$6:$K$1806)","v":30211.75390625},527.51850128173828,"T+80 sec",40679.338865740669,null,null,null,null,null,null,null,null,null,null,null,null,null,593.23034058702024,8.0783843994140625E-2,-653]
["T+82 sec",40679.338888888815,{"$f":"LOOKUP(B120,Data!$A$6:$A$1806,Data!B$6:B$1806)","v":59.920833587646484},{"$f":"LOOKUP(B120,Data!$A$6:$A$1806,Data!C$6:C$1806)","v":0},null,null,19590,{"$f":"(IF((C120-L$2)>0,(IF(C120<'Copy Results'!$C$3,((C120-L$2-L$5)/((L$4*L$2)-L$5)*G120*-1),(('Copy Results'!$C$3-L$2-L$5)/((L$4*L$2)-L$5)*G120*-1))),IF(C120>'Copy Results'!$C$2,((C120-L$2+L$5)/((L$4*L$2)-L$5)*G120*-1),(('Copy Results'!$C$2-L$2+L$5)/((L$4*L$2)-L$5)*G120*-1))))","v":516.95667266845703},538.93343440405056,null,null,-4.2636764883614982,838.07672114509762,{"$f":"AVERAGE(D$79:D120)","v":0},{"$f":"AVERAGE(M$79:M120)","v":1020.8002014119431},301.13083458358722,{"$f":"AVERAGE(P$79:P120)","v":386.4043643508175},null,null,null,"T+82 sec",40679.338888888815,{"$f":"LOOKUP($V120,Data!$A$6:$A$1806,Data!$B$6:$B$1806)","v":59.920833587646484},{"$f":"LOOKUP($V120,Data!$A$6:$A$1806,Data!$C$6:$C$1806)","v":0},{"$f":"LOOKUP($V120,Data!$A$6:$A$1806,Data!$D$6:$D$1806)","v":0},{"$f":"IF($Z$1=\"+\",LOOKUP($V120,Data!$A$6:$A$1806,Data!$E$6:$E$1806)*-1,LOOKUP($V120,Data!$A$6:$A$1806,Data!$E$6:$E$1806))","v":0},{"$f":"LOOKUP($V120,Data!$A$6:$A$1806,Data!$F$6:$F$1806)","v":0},null,{"$f":"LOOKUP($V120,Data!$A$6:$A$1806,Data!$H$6:$H$1806)","v":0},{"$f":"LOOKUP($V120,Data!$A$6:$A$1806,Data!$I$6:$I$1806)","v":0},{"$f":"IF(LOOKUP($V120,Data!$A$6:$A$1806,Data!$J$6:$J$1806)>0,(LOOKUP($V120,Data!$A$6:$A$1806,Data!$J$6:$J$1806)*-1),LOOKUP($V120,Data!$A$6:$A$1806,Data!$J$6:$J$1806))","v":-653},{"$f":"LOOKUP($V120,Data!$A$6:$A$1806,Data!$K$6:$K$1806)","v":30211.75390625},516.95667266845703,"T+82 sec",40679.338888888815,null,null,null,null,null,null,null,null,null,null,null,null,null,605.56445839258572,7.9166412353515625E-2,-653]
["T+84 sec",40679.338912036961,{"$f":"LOOKUP(B121,Data!$A$6:$A$1806,Data!B$6:B$1806)","v":59.922145843505859},{"$f":"LOOKUP(B121,Data!$A$6:$A$1806,Data!C$6:C$1806)","v":0},null,null,19590,{"$f":"(IF((C121-L$2)>0,(IF(C121<'Copy Results'!$C$3,((C121-L$2-L$5)/((L$4*L$2)-L$5)*G121*-1),(('Copy Results'!$C$3-L$2-L$5)/((L$4*L$2)-L$5)*G121*-1))),IF(C121>'Copy Results'!$C$2,((C121-L$2+L$5)/((L$4*L$2)-L$5)*G121*-1),(('Copy Results'!$C$2-L$2+L$5)/((L$4*L$2)-L$5)*G121*-1))))","v":508.38764190673828},528.24240702999123,null,null,-4.2636764883614982,823.12201728267678,{"$f":"AVERAGE(D$79:D121)","v":0},{"$f":"AVERAGE(M$79:M121)","v":1016.2030343391696},296.8671580952257,{"$f":"AVERAGE(P$79:P121)","v":384.27252610663675},null,null,null,"T+84 sec",40679.338912036961,{"$f":"LOOKUP($V121,Data!$A$6:$A$1806,Data!$B$6:$B$1806)","v":59.922145843505859},{"$f":"LOOKUP($V121,Data!$A$6:$A$1806,Data!$C$6:$C$1806)","v":0},{"$f":"LOOKUP($V121,Data!$A$6:$A$1806,Data!$D$6:$D$1806)","v":0},{"$f":"IF($Z$1=\"+\",LOOKUP($V121,Data!$A$6:$A$1806,Data!$E$6:$E$1806)*-1,LOOKUP($V121,Data!$A$6:$A$1806,Data!$E$6:$E$1806))","v":0},{"$f":"LOOKUP($V121,Data!$A$6:$A$1806,Data!$F$6:$F$1806)","v":0},null,{"$f":"LOOKUP($V121,Data!$A$6:$A$1806,Data!$H$6:$H$1806)","v":0},{"$f":"LOOKUP($V121,Data!$A$6:$A$1806,Data!$I$6:$I$1806)","v":0},{"$f":"IF(LOOKUP($V121,Data!$A$6:$A$1806,Data!$J$6:$J$1806)>0,(LOOKUP($V121,Data!$A$6:$A$1806,Data!$J$6:$J$1806)*-1),LOOKUP($V121,Data!$A$6:$A$1806,Data!$J$6:$J$1806))","v":-653},{"$f":"LOOKUP($V121,Data!$A$6:$A$1806,Data!$K$6:$K$1806)","v":30211.75390625},508.38764190673828,"T+84 sec",40679.338912036961,null,null,null,null,null,null,null,null,null,null,null,null,null,615.95471095815253,7.7854156494140625E-2,-653]
["T+86 sec",40679.338935185107,{"$f":"LOOKUP(B122,Data!$A$6:$A$1806,Data!B$6:B$1806)","v":59.923091888427734},{"$f":"LOOKUP(B122,Data!$A$6:$A$1806,Data!C$6:C$1806)","v":0},null,null,19590,{"$f":"(IF((C122-L$2)>0,(IF(C122<'Copy Results'!$C$3,((C122-L$2-L$5)/((L$4*L$2)-L$5)*G122*-1),(('Copy Results'!$C$3-L$2-L$5)/((L$4*L$2)-L$5)*G122*-1))),IF(C122>'Copy Results'!$C$2,((C122-L$2+L$5)/((L$4*L$2)-L$5)*G122*-1),(('Copy Results'!$C$2-L$2+L$5)/((L$4*L$2)-L$5)*G122*-1))))","v":502.20996856689453},519.13105356790743,null,null,-4.2636764883614982,809.74698733223147,{"$f":"AVERAGE(D$79:D122)","v":0},{"$f":"AVERAGE(M$79:M122)","v":1011.5108514526484},292.60348160686419,{"$f":"AVERAGE(P$79:P122)","v":382.14068786245599},null,null,null,"T+86 sec",40679.338935185107,{"$f":"LOOKUP($V122,Data!$A$6:$A$1806,Data!$B$6:$B$1806)","v":59.923091888427734},{"$f":"LOOKUP($V122,Data!$A$6:$A$1806,Data!$C$6:$C$1806)","v":0},{"$f":"LOOKUP($V122,Data!$A$6:$A$1806,Data!$D$6:$D$1806)","v":0},{"$f":"IF($Z$1=\"+\",LOOKUP($V122,Data!$A$6:$A$1806,Data!$E$6:$E$1806)*-1,LOOKUP($V122,Data!$A$6:$A$1806,Data!$E$6:$E$1806))","v":0},{"$f":"LOOKUP($V122,Data!$A$6:$A$1806,Data!$F$6:$F$1806)","v":0},null,{"$f":"LOOKUP($V122,Data!$A$6:$A$1806,Data!$H$6:$H$1806)","v":0},{"$f":"LOOKUP($V122,Data!$A$6:$A$1806,Data!$I$6:$I$1806)","v":0},{"$f":"IF(LOOKUP($V122,Data!$A$6:$A$1806,Data!$J$6:$J$1806)>0,(LOOKUP($V122,Data!$A$6:$A$1806,Data!$J$6:$J$1806)*-1),LOOKUP($V122,Data!$A$6:$A$1806,Data!$J$6:$J$1806))","v":-653},{"$f":"LOOKUP($V122,Data!$A$6:$A$1806,Data!$K$6:$K$1806)","v":30217.548828125},502.20996856689453,"T+86 sec",40679.338935185107,null,null,null,null,null,null,null,null,null,null,null,null,null,623.66930963082677,7.6908111572265625E-2,-653]
["T+88 sec",40679.338958333254,{"$f":"LOOKUP(B123,Data!$A$6:$A$1806,Data!B$6:B$1806)","v":59.925045013427734},{"$f":"LOOKUP(B123,Data!$A$6:$A$1806,Data!C$6:C$1806)","v":0},null,null,19590,{"$f":"(IF((C123-L$2)>0,(IF(C123<'Copy Results'!$C$3,((C123-L$2-L$5)/((L$4*L$2)-L$5)*G123*-1),(('Copy Results'!$C$3-L$2-L$5)/((L$4*L$2)-L$5)*G123*-1))),IF(C123>'Copy Results'!$C$2,((C123-L$2+L$5)/((L$4*L$2)-L$5)*G123*-1),(('Copy Results'!$C$2-L$2+L$5)/((L$4*L$2)-L$5)*G123*-1))))","v":489.45606231689453},508.74480663005295,null,null,-4.2636764883614982,795.09706390601548,{"$f":"AVERAGE(D$79:D123)","v":0},{"$f":"AVERAGE(M$79:M123)","v":1006.7016561738343},288.33980511850268,{"$f":"AVERAGE(P$79:P123)","v":380.00884961827524},null,null,null,"T+88 sec",40679.338958333254,{"$f":"LOOKUP($V123,Data!$A$6:$A$1806,Data!$B$6:$B$1806)","v":59.925045013427734},{"$f":"LOOKUP($V123,Data!$A$6:$A$1806,Data!$C$6:$C$1806)","v":0},{"$f":"LOOKUP($V123,Data!$A$6:$A$1806,Data!$D$6:$D$1806)","v":0},{"$f":"IF($Z$1=\"+\",LOOKUP($V123,Data!$A$6:$A$1806,Data!$E$6:$E$1806)*-1,LOOKUP($V123,Data!$A$6:$A$1806,Data!$E$6:$E$1806))","v":0},{"$f":"LOOKUP($V123,Data!$A$6:$A$1806,Data!$F$6:$F$1806)","v":0},null,{"$f":"LOOKUP($V123,Data!$A$6:$A$1806,Data!$H$6:$H$1806)","v":0},{"$f":"LOOKUP($V123,Data!$A$6:$A$1806,Data!$I$6:$I$1806)","v":0},{"$f":"IF(LOOKUP($V123,Data!$A$6:$A$1806,Data!$J$6:$J$1806)>0,(LOOKUP($V123,Data!$A$6:$A$1806,Data!$J$6:$J$1806)*-1),LOOKUP($V123,Data!$A$6:$A$1806,Data!$J$6:$J$1806))","v":-653},{"$f":"LOOKUP($V123,Data!$A$6:$A$1806,Data!$K$6:$K$1806)","v":30217.548828125},489.45606231689453,"T+88 sec",40679.338958333254,null,null,null,null,null,null,null,null,null,null,null,null,null,640.22375447146044,7.4954986572265625E-2,-653]
["T+90 sec",40679.3389814814,{"$f":"LOOKUP(B124,Data!$A$6:$A$1806,Data!B$6:B$1806)","v":59.925045013427734},{"$f":"LOOKUP(B124,Data!$A$6:$A$1806,Data!C$6:C$1806)","v":0},null,null,19590,{"$f":"(IF((C124-L$2)>0,(IF(C124<'Copy Results'!$C$3,((C124-L$2-L$5)/((L$4*L$2)-L$5)*G124*-1),(('Copy Results'!$C$3-L$2-L$5)/((L$4*L$2)-L$5)*G124*-1))),IF(C124>'Copy Results'!$C$2,((C124-L$2+L$5)/((L$4*L$2)-L$5)*G124*-1),(('Copy Results'!$C$2-L$2+L$5)/((L$4*L$2)-L$5)*G124*-1))))","v":489.45606231689453},501.9937461204475,null,null,-4.2636764883614982,784.08232690804857,{"$f":"AVERAGE(D$79:D124)","v":0},{"$f":"AVERAGE(M$79:M124)","v":1001.8621055376216},284.07612863014117,{"$f":"AVERAGE(P$79:P124)","v":377.87701137409448},null,null,null,"T+90 sec",40679.3389814814,{"$f":"LOOKUP($V124,Data!$A$6:$A$1806,Data!$B$6:$B$1806)","v":59.925045013427734},{"$f":"LOOKUP($V124,Data!$A$6:$A$1806,Data!$C$6:$C$1806)","v":0},{"$f":"LOOKUP($V124,Data!$A$6:$A$1806,Data!$D$6:$D$1806)","v":0},{"$f":"IF($Z$1=\"+\",LOOKUP($V124,Data!$A$6:$A$1806,Data!$E$6:$E$1806)*-1,LOOKUP($V124,Data!$A$6:$A$1806,Data!$E$6:$E$1806))","v":0},{"$f":"LOOKUP($V124,Data!$A$6:$A$1806,Data!$F$6:$F$1806)","v":0},null,{"$f":"LOOKUP($V124,Data!$A$6:$A$1806,Data!$H$6:$H$1806)","v":0},{"$f":"LOOKUP($V124,Data!$A$6:$A$1806,Data!$I$6:$I$1806)","v":0},{"$f":"IF(LOOKUP($V124,Data!$A$6:$A$1806,Data!$J$6:$J$1806)>0,(LOOKUP($V124,Data!$A$6:$A$1806,Data!$J$6:$J$1806)*-1),LOOKUP($V124,Data!$A$6:$A$1806,Data!$J$6:$J$1806))","v":-653},{"$f":"LOOKUP($V124,Data!$A$6:$A$1806,Data!$K$6:$K$1806)","v":30217.56640625},489.45606231689453,"T+90 sec",40679.3389814814,null,null,null,null,null,null,null,null,null,null,null,null,null,640.22375447146044,7.4954986572265625E-2,-653]
["T+92 sec",40679.339004629546,{"$f":"LOOKUP(B125,Data!$A$6:$A$1806,Data!B$6:B$1806)","v":59.927303314208984},{"$f":"LOOKUP(B125,Data!$A$6:$A$1806,Data!C$6:C$1806)","v":0},null,null,19590,{"$f":"(IF((C125-L$2)>0,(IF(C125<'Copy Results'!$C$3,((C125-L$2-L$5)/((L$4*L$2)-L$5)*G125*-1),(('Copy Results'!$C$3-L$2-L$5)/((L$4*L$2)-L$5)*G125*-1))),IF(C125>'Copy Results'!$C$2,((C125-L$2+L$5)/((L$4*L$2)-L$5)*G125*-1),(('Copy Results'!$C$2-L$2+L$5)/((L$4*L$2)-L$5)*G125*-1))))","v":474.70935821533203},492.44421035365707,null,null,-4.2636764883614982,770.26911465289663,{"$f":"AVERAGE(D$79:D125)","v":0},{"$f":"AVERAGE(M$79:M125)","v":996.93459509326578},279.81245214177966,{"$f":"AVERAGE(P$79:P125)","v":375.74517312991378},null,null,null,"T+92 sec",40679.339004629546,{"$f":"LOOKUP($V125,Data!$A$6:$A$1806,Data!$B$6:$B$1806)","v":59.927303314208984},{"$f":"LOOKUP($V125,Data!$A$6:$A$1806,Data!$C$6:$C$1806)","v":0},{"$f":"LOOKUP($V125,Data!$A$6:$A$1806,Data!$D$6:$D$1806)","v":0},{"$f":"IF($Z$1=\"+\",LOOKUP($V125,Data!$A$6:$A$1806,Data!$E$6:$E$1806)*-1,LOOKUP($V125,Data!$A$6:$A$1806,Data!$E$6:$E$1806))","v":0},{"$f":"LOOKUP($V125,Data!$A$6:$A$1806,Data!$F$6:$F$1806)","v":0},null,{"$f":"LOOKUP($V125,Data!$A$6:$A$1806,Data!$H$6:$H$1806)","v":0},{"$f":"LOOKUP($V125,Data!$A$6:$A$1806,Data!$I$6:$I$1806)","v":0},{"$f":"IF(LOOKUP($V125,Data!$A$6:$A$1806,Data!$J$6:$J$1806)>0,(LOOKUP($V125,Data!$A$6:$A$1806,Data!$J$6:$J$1806)*-1),LOOKUP($V125,Data!$A$6:$A$1806,Data!$J$6:$J$1806))","v":-653},{"$f":"LOOKUP($V125,Data!$A$6:$A$1806,Data!$K$6:$K$1806)","v":30217.56640625},474.70935821533203,"T+92 sec",40679.339004629546,null,null,null,null,null,null,null,null,null,null,null,null,null,660.49505268224846,7.2696685791015625E-2,-653]
["T+94 sec",40679.339027777693,{"$f":"LOOKUP(B126,Data!$A$6:$A$1806,Data!B$6:B$1806)","v":59.932460784912109},{"$f":"LOOKUP(B126,Data!$A$6:$A$1806,Data!C$6:C$1806)","v":0},null,null,19590,{"$f":"(IF((C126-L$2)>0,(IF(C126<'Copy Results'!$C$3,((C126-L$2-L$5)/((L$4*L$2)-L$5)*G126*-1),(('Copy Results'!$C$3-L$2-L$5)/((L$4*L$2)-L$5)*G126*-1))),IF(C126>'Copy Results'!$C$2,((C126-L$2+L$5)/((L$4*L$2)-L$5)*G126*-1),(('Copy Results'!$C$2-L$2+L$5)/((L$4*L$2)-L$5)*G126*-1))))","v":441.03107452392578},474.44961281325112,null,null,-4.2636764883614982,748.01084062412917,{"$f":"AVERAGE(D$79:D126)","v":0},{"$f":"AVERAGE(M$79:M126)","v":991.74868354182536},275.54877565341815,{"$f":"AVERAGE(P$79:P126)","v":373.61333488573297},null,null,null,"T+94 sec",40679.339027777693,{"$f":"LOOKUP($V126,Data!$A$6:$A$1806,Data!$B$6:$B$1806)","v":59.932460784912109},{"$f":"LOOKUP($V126,Data!$A$6:$A$1806,Data!$C$6:$C$1806)","v":0},{"$f":"LOOKUP($V126,Data!$A$6:$A$1806,Data!$D$6:$D$1806)","v":0},{"$f":"IF($Z$1=\"+\",LOOKUP($V126,Data!$A$6:$A$1806,Data!$E$6:$E$1806)*-1,LOOKUP($V126,Data!$A$6:$A$1806,Data!$E$6:$E$1806))","v":0},{"$f":"LOOKUP($V126,Data!$A$6:$A$1806,Data!$F$6:$F$1806)","v":0},null,{"$f":"LOOKUP($V126,Data!$A$6:$A$1806,Data!$H$6:$H$1806)","v":0},{"$f":"LOOKUP($V126,Data!$A$6:$A$1806,Data!$I$6:$I$1806)","v":0},{"$f":"IF(LOOKUP($V126,Data!$A$6:$A$1806,Data!$J$6:$J$1806)>0,(LOOKUP($V126,Data!$A$6:$A$1806,Data!$J$6:$J$1806)*-1),LOOKUP($V126,Data!$A$6:$A$1806,Data!$J$6:$J$1806))","v":-653},{"$f":"LOOKUP($V126,Data!$A$6:$A$1806,Data!$K$6:$K$1806)","v":30217.56640625},441.03107452392578,"T+94 sec",40679.339027777693,null,null,null,null,null,null,null,null,null,null,null,null,null,711.97901412510805,6.7539215087890625E-2,-653]
["T+96 sec",40679.339050925839,{"$f":"LOOKUP(B127,Data!$A$6:$A$1806,Data!B$6:B$1806)","v":59.935054779052734},{"$f":"LOOKUP(B127,Data!$A$6:$A$1806,Data!C$6:C$1806)","v":0},null,null,19590,{"$f":"(IF((C127-L$2)>0,(IF(C127<'Copy Results'!$C$3,((C127-L$2-L$5)/((L$4*L$2)-L$5)*G127*-1),(('Copy Results'!$C$3-L$2-L$5)/((L$4*L$2)-L$5)*G127*-1))),IF(C127>'Copy Results'!$C$2,((C127-L$2+L$5)/((L$4*L$2)-L$5)*G127*-1),(('Copy Results'!$C$2-L$2+L$5)/((L$4*L$2)-L$5)*G127*-1))))","v":424.09229278564453},456.82455080358881,null,null,-4.2636764883614982,726.12210212610535,{"$f":"AVERAGE(D$79:D127)","v":0},{"$f":"AVERAGE(M$79:M127)","v":986.32773290068826},271.28509916505664,{"$f":"AVERAGE(P$79:P127)","v":371.48149664155221},null,null,null,"T+96 sec",40679.339050925839,{"$f":"LOOKUP($V127,Data!$A$6:$A$1806,Data!$B$6:$B$1806)","v":59.935054779052734},{"$f":"LOOKUP($V127,Data!$A$6:$A$1806,Data!$C$6:$C$1806)","v":0},{"$f":"LOOKUP($V127,Data!$A$6:$A$1806,Data!$D$6:$D$1806)","v":0},{"$f":"IF($Z$1=\"+\",LOOKUP($V127,Data!$A$6:$A$1806,Data!$E$6:$E$1806)*-1,LOOKUP($V127,Data!$A$6:$A$1806,Data!$E$6:$E$1806))","v":0},{"$f":"LOOKUP($V127,Data!$A$6:$A$1806,Data!$F$6:$F$1806)","v":0},null,{"$f":"LOOKUP($V127,Data!$A$6:$A$1806,Data!$H$6:$H$1806)","v":0},{"$f":"LOOKUP($V127,Data!$A$6:$A$1806,Data!$I$6:$I$1806)","v":0},{"$f":"IF(LOOKUP($V127,Data!$A$6:$A$1806,Data!$J$6:$J$1806)>0,(LOOKUP($V127,Data!$A$6:$A$1806,Data!$J$6:$J$1806)*-1),LOOKUP($V127,Data!$A$6:$A$1806,Data!$J$6:$J$1806))","v":-653},{"$f":"LOOKUP($V127,Data!$A$6:$A$1806,Data!$K$6:$K$1806)","v":30217.56640625},424.09229278564453,"T+96 sec",40679.339050925839,null,null,null,null,null,null,null,null,null,null,null,null,null,741.0306630663066,6.4945220947265625E-2,-653]
["T+98 sec",40679.339074073985,{"$f":"LOOKUP(B128,Data!$A$6:$A$1806,Data!B$6:B$1806)","v":59.937007904052734},{"$f":"LOOKUP(B128,Data!$A$6:$A$1806,Data!C$6:C$1806)","v":0},null,null,19590,{"$f":"(IF((C128-L$2)>0,(IF(C128<'Copy Results'!$C$3,((C128-L$2-L$5)/((L$4*L$2)-L$5)*G128*-1),(('Copy Results'!$C$3-L$2-L$5)/((L$4*L$2)-L$5)*G128*-1))),IF(C128>'Copy Results'!$C$2,((C128-L$2+L$5)/((L$4*L$2)-L$5)*G128*-1),(('Copy Results'!$C$2-L$2+L$5)/((L$4*L$2)-L$5)*G128*-1))))","v":411.33838653564453},440.90439330980831,null,null,-4.2636764883614982,705.93826814396334,{"$f":"AVERAGE(D$79:D128)","v":0},{"$f":"AVERAGE(M$79:M128)","v":980.71994360555368},267.02142267669512,{"$f":"AVERAGE(P$79:P128)","v":369.34965839737146},null,null,null,"T+98 sec",40679.339074073985,{"$f":"LOOKUP($V128,Data!$A$6:$A$1806,Data!$B$6:$B$1806)","v":59.937007904052734},{"$f":"LOOKUP($V128,Data!$A$6:$A$1806,Data!$C$6:$C$1806)","v":0},{"$f":"LOOKUP($V128,Data!$A$6:$A$1806,Data!$D$6:$D$1806)","v":0},{"$f":"IF($Z$1=\"+\",LOOKUP($V128,Data!$A$6:$A$1806,Data!$E$6:$E$1806)*-1,LOOKUP($V128,Data!$A$6:$A$1806,Data!$E$6:$E$1806))","v":0},{"$f":"LOOKUP($V128,Data!$A$6:$A$1806,Data!$F$6:$F$1806)","v":0},null,{"$f":"LOOKUP($V128,Data!$A$6:$A$1806,Data!$H$6:$H$1806)","v":0},{"$f":"LOOKUP($V128,Data!$A$6:$A$1806,Data!$I$6:$I$1806)","v":0},{"$f":"IF(LOOKUP($V128,Data!$A$6:$A$1806,Data!$J$6:$J$1806)>0,(LOOKUP($V128,Data!$A$6:$A$1806,Data!$J$6:$J$1806)*-1),LOOKUP($V128,Data!$A$6:$A$1806,Data!$J$6:$J$1806))","v":-653},{"$f":"LOOKUP($V128,Data!$A$6:$A$1806,Data!$K$6:$K$1806)","v":30217.59375},411.33838653564453,"T+98 sec",40679.339074073985,null,null,null,null,null,null,null,null,null,null,null,null,null,764.5190367114468,6.2992095947265625E-2,-653]
["T+100 sec",40679.339097222131,{"$f":"LOOKUP(B129,Data!$A$6:$A$1806,Data!B$6:B$1806)","v":59.937652587890625},{"$f":"LOOKUP(B129,Data!$A$6:$A$1806,Data!C$6:C$1806)","v":0},null,null,19590,{"$f":"(IF((C129-L$2)>0,(IF(C129<'Copy Results'!$C$3,((C129-L$2-L$5)/((L$4*L$2)-L$5)*G129*-1),(('Copy Results'!$C$3-L$2-L$5)/((L$4*L$2)-L$5)*G129*-1))),IF(C129>'Copy Results'!$C$2,((C129-L$2+L$5)/((L$4*L$2)-L$5)*G129*-1),(('Copy Results'!$C$2-L$2+L$5)/((L$4*L$2)-L$5)*G129*-1))))","v":407.12860107421875},429.082866027352,null,null,-4.2636764883614982,689.85306437314557,{"$f":"AVERAGE(D$79:D129)","v":0},{"$f":"AVERAGE(M$79:M129)","v":975.01667146374177},262.75774618833361,{"$f":"AVERAGE(P$79:P129)","v":367.2178201531907},null,null,null,"T+100 sec",40679.339097222131,{"$f":"LOOKUP($V129,Data!$A$6:$A$1806,Data!$B$6:$B$1806)","v":59.937652587890625},{"$f":"LOOKUP($V129,Data!$A$6:$A$1806,Data!$C$6:$C$1806)","v":0},{"$f":"LOOKUP($V129,Data!$A$6:$A$1806,Data!$D$6:$D$1806)","v":0},{"$f":"IF($Z$1=\"+\",LOOKUP($V129,Data!$A$6:$A$1806,Data!$E$6:$E$1806)*-1,LOOKUP($V129,Data!$A$6:$A$1806,Data!$E$6:$E$1806))","v":0},{"$f":"LOOKUP($V129,Data!$A$6:$A$1806,Data!$F$6:$F$1806)","v":0},null,{"$f":"LOOKUP($V129,Data!$A$6:$A$1806,Data!$H$6:$H$1806)","v":0},{"$f":"LOOKUP($V129,Data!$A$6:$A$1806,Data!$I$6:$I$1806)","v":0},{"$f":"IF(LOOKUP($V129,Data!$A$6:$A$1806,Data!$J$6:$J$1806)>0,(LOOKUP($V129,Data!$A$6:$A$1806,Data!$J$6:$J$1806)*-1),LOOKUP($V129,Data!$A$6:$A$1806,Data!$J$6:$J$1806))","v":-653},{"$f":"LOOKUP($V129,Data!$A$6:$A$1806,Data!$K$6:$K$1806)","v":30217.59375},407.12860107421875,"T+100 sec",40679.339097222131,null,null,null,null,null,null,null,null,null,null,null,null,null,772.60235235235234,6.2347412109375E-2,-653]
["T+102 sec",40679.339120370278,{"$f":"LOOKUP(B130,Data!$A$6:$A$1806,Data!B$6:B$1806)","v":59.93927001953125},{"$f":"LOOKUP(B130,Data!$A$6:$A$1806,Data!C$6:C$1806)","v":0},null,null,19590,{"$f":"(IF((C130-L$2)>0,(IF(C130<'Copy Results'!$C$3,((C130-L$2-L$5)/((L$4*L$2)-L$5)*G130*-1),(('Copy Results'!$C$3-L$2-L$5)/((L$4*L$2)-L$5)*G130*-1))),IF(C130>'Copy Results'!$C$2,((C130-L$2+L$5)/((L$4*L$2)-L$5)*G130*-1),(('Copy Results'!$C$2-L$2+L$5)/((L$4*L$2)-L$5)*G130*-1))))","v":396.5667724609375},417.70223327910691,null,null,-4.2636764883614982,674.20875513653891,{"$f":"AVERAGE(D$79:D130)","v":0},{"$f":"AVERAGE(M$79:M130)","v":969.23190384206475},258.4940696999721,{"$f":"AVERAGE(P$79:P130)","v":365.08598190900994},null,null,null,"T+102 sec",40679.339120370278,{"$f":"LOOKUP($V130,Data!$A$6:$A$1806,Data!$B$6:$B$1806)","v":59.93927001953125},{"$f":"LOOKUP($V130,Data!$A$6:$A$1806,Data!$C$6:$C$1806)","v":0},{"$f":"LOOKUP($V130,Data!$A$6:$A$1806,Data!$D$6:$D$1806)","v":0},{"$f":"IF($Z$1=\"+\",LOOKUP($V130,Data!$A$6:$A$1806,Data!$E$6:$E$1806)*-1,LOOKUP($V130,Data!$A$6:$A$1806,Data!$E$6:$E$1806))","v":0},{"$f":"LOOKUP($V130,Data!$A$6:$A$1806,Data!$F$6:$F$1806)","v":0},null,{"$f":"LOOKUP($V130,Data!$A$6:$A$1806,Data!$H$6:$H$1806)","v":0},{"$f":"LOOKUP($V130,Data!$A$6:$A$1806,Data!$I$6:$I$1806)","v":0},{"$f":"IF(LOOKUP($V130,Data!$A$6:$A$1806,Data!$J$6:$J$1806)>0,(LOOKUP($V130,Data!$A$6:$A$1806,Data!$J$6:$J$1806)*-1),LOOKUP($V130,Data!$A$6:$A$1806,Data!$J$6:$J$1806))","v":-653},{"$f":"LOOKUP($V130,Data!$A$6:$A$1806,Data!$K$6:$K$1806)","v":30217.59375},396.5667724609375,"T+102 sec",40679.339120370278,null,null,null,null,null,null,null,null,null,null,null,null,null,793.65526992287914,6.072998046875E-2,-653]
["T+104 sec",40679.339143518424,{"$f":"LOOKUP(B131,Data!$A$6:$A$1806,Data!B$6:B$1806)","v":59.94183349609375},{"$f":"LOOKUP(B131,Data!$A$6:$A$1806,Data!C$6:C$1806)","v":0},null,null,19590,{"$f":"(IF((C131-L$2)>0,(IF(C131<'Copy Results'!$C$3,((C131-L$2-L$5)/((L$4*L$2)-L$5)*G131*-1),(('Copy Results'!$C$3-L$2-L$5)/((L$4*L$2)-L$5)*G131*-1))),IF(C131>'Copy Results'!$C$2,((C131-L$2+L$5)/((L$4*L$2)-L$5)*G131*-1),(('Copy Results'!$C$2-L$2+L$5)/((L$4*L$2)-L$5)*G131*-1))))","v":379.8272705078125},404.44599630915388,null,null,-4.2636764883614982,656.68884167822443,{"$f":"AVERAGE(D$79:D131)","v":0},{"$f":"AVERAGE(M$79:M131)","v":963.33486493331304},254.23039321161059,{"$f":"AVERAGE(P$79:P131)","v":362.95414366482925},null,null,null,"T+104 sec",40679.339143518424,{"$f":"LOOKUP($V131,Data!$A$6:$A$1806,Data!$B$6:$B$1806)","v":59.94183349609375},{"$f":"LOOKUP($V131,Data!$A$6:$A$1806,Data!$C$6:$C$1806)","v":0},{"$f":"LOOKUP($V131,Data!$A$6:$A$1806,Data!$D$6:$D$1806)","v":0},{"$f":"IF($Z$1=\"+\",LOOKUP($V131,Data!$A$6:$A$1806,Data!$E$6:$E$1806)*-1,LOOKUP($V131,Data!$A$6:$A$1806,Data!$E$6:$E$1806))","v":0},{"$f":"LOOKUP($V131,Data!$A$6:$A$1806,Data!$F$6:$F$1806)","v":0},null,{"$f":"LOOKUP($V131,Data!$A$6:$A$1806,Data!$H$6:$H$1806)","v":0},{"$f":"LOOKUP($V131,Data!$A$6:$A$1806,Data!$I$6:$I$1806)","v":0},{"$f":"IF(LOOKUP($V131,Data!$A$6:$A$1806,Data!$J$6:$J$1806)>0,(LOOKUP($V131,Data!$A$6:$A$1806,Data!$J$6:$J$1806)*-1),LOOKUP($V131,Data!$A$6:$A$1806,Data!$J$6:$J$1806))","v":-653},{"$f":"LOOKUP($V131,Data!$A$6:$A$1806,Data!$K$6:$K$1806)","v":30217.59375},379.8272705078125,"T+104 sec",40679.339143518424,null,null,null,null,null,null,null,null,null,null,null,null,null,829.47850617947336,5.816650390625E-2,-653]
["T+106 sec",40679.33916666657,{"$f":"LOOKUP(B132,Data!$A$6:$A$1806,Data!B$6:B$1806)","v":59.944091796875},{"$f":"LOOKUP(B132,Data!$A$6:$A$1806,Data!C$6:C$1806)","v":0},null,null,19590,{"$f":"(IF((C132-L$2)>0,(IF(C132<'Copy Results'!$C$3,((C132-L$2-L$5)/((L$4*L$2)-L$5)*G132*-1),(('Copy Results'!$C$3-L$2-L$5)/((L$4*L$2)-L$5)*G132*-1))),IF(C132>'Copy Results'!$C$2,((C132-L$2+L$5)/((L$4*L$2)-L$5)*G132*-1),(('Copy Results'!$C$2-L$2+L$5)/((L$4*L$2)-L$5)*G132*-1))))","v":365.08056640625},390.66809584313751,null,null,-4.2636764883614982,638.64726472384655,{"$f":"AVERAGE(D$79:D132)","v":0},{"$f":"AVERAGE(M$79:M132)","v":957.3221315961008},249.96671672324908,{"$f":"AVERAGE(P$79:P132)","v":360.82230542064843},null,null,null,"T+106 sec",40679.33916666657,{"$f":"LOOKUP($V132,Data!$A$6:$A$1806,Data!$B$6:$B$1806)","v":59.944091796875},{"$f":"LOOKUP($V132,Data!$A$6:$A$1806,Data!$C$6:$C$1806)","v":0},{"$f":"LOOKUP($V132,Data!$A$6:$A$1806,Data!$D$6:$D$1806)","v":0},{"$f":"IF($Z$1=\"+\",LOOKUP($V132,Data!$A$6:$A$1806,Data!$E$6:$E$1806)*-1,LOOKUP($V132,Data!$A$6:$A$1806,Data!$E$6:$E$1806))","v":0},{"$f":"LOOKUP($V132,Data!$A$6:$A$1806,Data!$F$6:$F$1806)","v":0},null,{"$f":"LOOKUP($V132,Data!$A$6:$A$1806,Data!$H$6:$H$1806)","v":0},{"$f":"LOOKUP($V132,Data!$A$6:$A$1806,Data!$I$6:$I$1806)","v":0},{"$f":"IF(LOOKUP($V132,Data!$A$6:$A$1806,Data!$J$6:$J$1806)>0,(LOOKUP($V132,Data!$A$6:$A$1806,Data!$J$6:$J$1806)*-1),LOOKUP($V132,Data!$A$6:$A$1806,Data!$J$6:$J$1806))","v":-653},{"$f":"LOOKUP($V132,Data!$A$6:$A$1806,Data!$K$6:$K$1806)","v":30210.486328125},365.08056640625,"T+106 sec",40679.33916666657,null,null,null,null,null,null,null,null,null,null,null,null,null,863.82736429770569,5.5908203125E-2,-653]
["T+108 sec",40679.339189814717,{"$f":"LOOKUP(B133,Data!$A$6:$A$1806,Data!B$6:B$1806)","v":59.945709228515625},{"$f":"LOOKUP(B133,Data!$A$6:$A$1806,Data!C$6:C$1806)","v":0},null,null,19590,{"$f":"(IF((C133-L$2)>0,(IF(C133<'Copy Results'!$C$3,((C133-L$2-L$5)/((L$4*L$2)-L$5)*G133*-1),(('Copy Results'!$C$3-L$2-L$5)/((L$4*L$2)-L$5)*G133*-1))),IF(C133>'Copy Results'!$C$2,((C133-L$2+L$5)/((L$4*L$2)-L$5)*G133*-1),(('Copy Results'!$C$2-L$2+L$5)/((L$4*L$2)-L$5)*G133*-1))))","v":354.51873779296875},378.01582052557842,null,null,-4.2636764883614982,621.73131291792595,{"$f":"AVERAGE(D$79:D133)","v":0},{"$f":"AVERAGE(M$79:M133)","v":951.22048034740658},245.70304023488757,{"$f":"AVERAGE(P$79:P133)","v":358.69046717646768},null,null,null,"T+108 sec",40679.339189814717,{"$f":"LOOKUP($V133,Data!$A$6:$A$1806,Data!$B$6:$B$1806)","v":59.945709228515625},{"$f":"LOOKUP($V133,Data!$A$6:$A$1806,Data!$C$6:$C$1806)","v":0},{"$f":"LOOKUP($V133,Data!$A$6:$A$1806,Data!$D$6:$D$1806)","v":0},{"$f":"IF($Z$1=\"+\",LOOKUP($V133,Data!$A$6:$A$1806,Data!$E$6:$E$1806)*-1,LOOKUP($V133,Data!$A$6:$A$1806,Data!$E$6:$E$1806))","v":0},{"$f":"LOOKUP($V133,Data!$A$6:$A$1806,Data!$F$6:$F$1806)","v":0},null,{"$f":"LOOKUP($V133,Data!$A$6:$A$1806,Data!$H$6:$H$1806)","v":0},{"$f":"LOOKUP($V133,Data!$A$6:$A$1806,Data!$I$6:$I$1806)","v":0},{"$f":"IF(LOOKUP($V133,Data!$A$6:$A$1806,Data!$J$6:$J$1806)>0,(LOOKUP($V133,Data!$A$6:$A$1806,Data!$J$6:$J$1806)*-1),LOOKUP($V133,Data!$A$6:$A$1806,Data!$J$6:$J$1806))","v":-653},{"$f":"LOOKUP($V133,Data!$A$6:$A$1806,Data!$K$6:$K$1806)","v":30210.486328125},354.51873779296875,"T+108 sec",40679.339189814717,null,null,null,null,null,null,null,null,null,null,null,null,null,890.23039215686276,5.4290771484375E-2,-653]
["T+110 sec",40679.339212962863,{"$f":"LOOKUP(B134,Data!$A$6:$A$1806,Data!B$6:B$1806)","v":59.947967529296875},{"$f":"LOOKUP(B134,Data!$A$6:$A$1806,Data!C$6:C$1806)","v":0},null,null,19590,{"$f":"(IF((C134-L$2)>0,(IF(C134<'Copy Results'!$C$3,((C134-L$2-L$5)/((L$4*L$2)-L$5)*G134*-1),(('Copy Results'!$C$3-L$2-L$5)/((L$4*L$2)-L$5)*G134*-1))),IF(C134>'Copy Results'!$C$2,((C134-L$2+L$5)/((L$4*L$2)-L$5)*G134*-1),(('Copy Results'!$C$2-L$2+L$5)/((L$4*L$2)-L$5)*G134*-1))))","v":339.77203369140625},364.63049513361813,null,null,-4.2636764883614982,604.08231103760409,{"$f":"AVERAGE(D$79:D134)","v":0},{"$f":"AVERAGE(M$79:M134)","v":945.0215844668744},241.43936374652606,{"$f":"AVERAGE(P$79:P134)","v":356.55862893228687},null,null,null,"T+110 sec",40679.339212962863,{"$f":"LOOKUP($V134,Data!$A$6:$A$1806,Data!$B$6:$B$1806)","v":59.947967529296875},{"$f":"LOOKUP($V134,Data!$A$6:$A$1806,Data!$C$6:$C$1806)","v":0},{"$f":"LOOKUP($V134,Data!$A$6:$A$1806,Data!$D$6:$D$1806)","v":0},{"$f":"IF($Z$1=\"+\",LOOKUP($V134,Data!$A$6:$A$1806,Data!$E$6:$E$1806)*-1,LOOKUP($V134,Data!$A$6:$A$1806,Data!$E$6:$E$1806))","v":0},{"$f":"LOOKUP($V134,Data!$A$6:$A$1806,Data!$F$6:$F$1806)","v":0},null,{"$f":"LOOKUP($V134,Data!$A$6:$A$1806,Data!$H$6:$H$1806)","v":0},{"$f":"LOOKUP($V134,Data!$A$6:$A$1806,Data!$I$6:$I$1806)","v":0},{"$f":"IF(LOOKUP($V134,Data!$A$6:$A$1806,Data!$J$6:$J$1806)>0,(LOOKUP($V134,Data!$A$6:$A$1806,Data!$J$6:$J$1806)*-1),LOOKUP($V134,Data!$A$6:$A$1806,Data!$J$6:$J$1806))","v":-653},{"$f":"LOOKUP($V134,Data!$A$6:$A$1806,Data!$K$6:$K$1806)","v":30210.255859375},339.77203369140625,"T+110 sec",40679.339212962863,null,null,null,null,null,null,null,null,null,null,null,null,null,929.91536144578311,5.2032470703125E-2,-653]
["T+112 sec",40679.339236111009,{"$f":"LOOKUP(B135,Data!$A$6:$A$1806,Data!B$6:B$1806)","v":59.947662353515625},{"$f":"LOOKUP(B135,Data!$A$6:$A$1806,Data!C$6:C$1806)","v":0},null,null,19590,{"$f":"(IF((C135-L$2)>0,(IF(C135<'Copy Results'!$C$3,((C135-L$2-L$5)/((L$4*L$2)-L$5)*G135*-1),(('Copy Results'!$C$3-L$2-L$5)/((L$4*L$2)-L$5)*G135*-1))),IF(C135>'Copy Results'!$C$2,((C135-L$2+L$5)/((L$4*L$2)-L$5)*G135*-1),(('Copy Results'!$C$2-L$2+L$5)/((L$4*L$2)-L$5)*G135*-1))))","v":341.76483154296875},356.62751287689082,null,null,-4.2636764883614982,591.81565229251532,{"$f":"AVERAGE(D$79:D135)","v":0},{"$f":"AVERAGE(M$79:M135)","v":938.82498916556983},237.17568725816454,{"$f":"AVERAGE(P$79:P135)","v":354.42679068810611},null,null,null,"T+112 sec",40679.339236111009,{"$f":"LOOKUP($V135,Data!$A$6:$A$1806,Data!$B$6:$B$1806)","v":59.947662353515625},{"$f":"LOOKUP($V135,Data!$A$6:$A$1806,Data!$C$6:$C$1806)","v":0},{"$f":"LOOKUP($V135,Data!$A$6:$A$1806,Data!$D$6:$D$1806)","v":0},{"$f":"IF($Z$1=\"+\",LOOKUP($V135,Data!$A$6:$A$1806,Data!$E$6:$E$1806)*-1,LOOKUP($V135,Data!$A$6:$A$1806,Data!$E$6:$E$1806))","v":0},{"$f":"LOOKUP($V135,Data!$A$6:$A$1806,Data!$F$6:$F$1806)","v":0},null,{"$f":"LOOKUP($V135,Data!$A$6:$A$1806,Data!$H$6:$H$1806)","v":0},{"$f":"LOOKUP($V135,Data!$A$6:$A$1806,Data!$I$6:$I$1806)","v":0},{"$f":"IF(LOOKUP($V135,Data!$A$6:$A$1806,Data!$J$6:$J$1806)>0,(LOOKUP($V135,Data!$A$6:$A$1806,Data!$J$6:$J$1806)*-1),LOOKUP($V135,Data!$A$6:$A$1806,Data!$J$6:$J$1806))","v":-653},{"$f":"LOOKUP($V135,Data!$A$6:$A$1806,Data!$K$6:$K$1806)","v":30210.255859375},341.76483154296875,"T+112 sec",40679.339236111009,null,null,null,null,null,null,null,null,null,null,null,null,null,924.34700598802397,5.2337646484375E-2,-653]
["T+114 sec",40679.339259259155,{"$f":"LOOKUP(B136,Data!$A$6:$A$1806,Data!B$6:B$1806)","v":59.945404052734375},{"$f":"LOOKUP(B136,Data!$A$6:$A$1806,Data!C$6:C$1806)","v":0},null,null,19590,{"$f":"(IF((C136-L$2)>0,(IF(C136<'Copy Results'!$C$3,((C136-L$2-L$5)/((L$4*L$2)-L$5)*G136*-1),(('Copy Results'!$C$3-L$2-L$5)/((L$4*L$2)-L$5)*G136*-1))),IF(C136>'Copy Results'!$C$2,((C136-L$2+L$5)/((L$4*L$2)-L$5)*G136*-1),(('Copy Results'!$C$2-L$2+L$5)/((L$4*L$2)-L$5)*G136*-1))))","v":356.51153564453125},356.58692084556498,null,null,-4.2636764883614982,587.51138377282791,{"$f":"AVERAGE(D$79:D136)","v":0},{"$f":"AVERAGE(M$79:M136)","v":932.76785803810867},232.91201076980303,{"$f":"AVERAGE(P$79:P136)","v":352.29495244392541},null,null,null,"T+114 sec",40679.339259259155,{"$f":"LOOKUP($V136,Data!$A$6:$A$1806,Data!$B$6:$B$1806)","v":59.945404052734375},{"$f":"LOOKUP($V136,Data!$A$6:$A$1806,Data!$C$6:$C$1806)","v":0},{"$f":"LOOKUP($V136,Data!$A$6:$A$1806,Data!$D$6:$D$1806)","v":0},{"$f":"IF($Z$1=\"+\",LOOKUP($V136,Data!$A$6:$A$1806,Data!$E$6:$E$1806)*-1,LOOKUP($V136,Data!$A$6:$A$1806,Data!$E$6:$E$1806))","v":0},{"$f":"LOOKUP($V136,Data!$A$6:$A$1806,Data!$F$6:$F$1806)","v":0},null,{"$f":"LOOKUP($V136,Data!$A$6:$A$1806,Data!$H$6:$H$1806)","v":0},{"$f":"LOOKUP($V136,Data!$A$6:$A$1806,Data!$I$6:$I$1806)","v":0},{"$f":"IF(LOOKUP($V136,Data!$A$6:$A$1806,Data!$J$6:$J$1806)>0,(LOOKUP($V136,Data!$A$6:$A$1806,Data!$J$6:$J$1806)*-1),LOOKUP($V136,Data!$A$6:$A$1806,Data!$J$6:$J$1806))","v":-653},{"$f":"LOOKUP($V136,Data!$A$6:$A$1806,Data!$K$6:$K$1806)","v":30210.255859375},356.51153564453125,"T+114 sec",40679.339259259155,null,null,null,null,null,null,null,null,null,null,null,null,null,885.12586009174311,5.4595947265625E-2,-653]
["T+116 sec",40679.339282407302,{"$f":"LOOKUP(B137,Data!$A$6:$A$1806,Data!B$6:B$1806)","v":59.944427490234375},{"$f":"LOOKUP(B137,Data!$A$6:$A$1806,Data!C$6:C$1806)","v":0},null,null,19590,{"$f":"(IF((C137-L$2)>0,(IF(C137<'Copy Results'!$C$3,((C137-L$2-L$5)/((L$4*L$2)-L$5)*G137*-1),(('Copy Results'!$C$3-L$2-L$5)/((L$4*L$2)-L$5)*G137*-1))),IF(C137>'Copy Results'!$C$2,((C137-L$2+L$5)/((L$4*L$2)-L$5)*G137*-1),(('Copy Results'!$C$2-L$2+L$5)/((L$4*L$2)-L$5)*G137*-1))))","v":362.88848876953125},358.79246961895319,null,null,-4.2636764883614982,585.45325605785456,{"$f":"AVERAGE(D$79:D137)","v":0},{"$f":"AVERAGE(M$79:M137)","v":926.88116986895182},228.64833428144152,{"$f":"AVERAGE(P$79:P137)","v":350.16311419974465},null,null,null,"T+116 sec",40679.339282407302,{"$f":"LOOKUP($V137,Data!$A$6:$A$1806,Data!$B$6:$B$1806)","v":59.944427490234375},{"$f":"LOOKUP($V137,Data!$A$6:$A$1806,Data!$C$6:$C$1806)","v":0},{"$f":"LOOKUP($V137,Data!$A$6:$A$1806,Data!$D$6:$D$1806)","v":0},{"$f":"IF($Z$1=\"+\",LOOKUP($V137,Data!$A$6:$A$1806,Data!$E$6:$E$1806)*-1,LOOKUP($V137,Data!$A$6:$A$1806,Data!$E$6:$E$1806))","v":0},{"$f":"LOOKUP($V137,Data!$A$6:$A$1806,Data!$F$6:$F$1806)","v":0},null,{"$f":"LOOKUP($V137,Data!$A$6:$A$1806,Data!$H$6:$H$1806)","v":0},{"$f":"LOOKUP($V137,Data!$A$6:$A$1806,Data!$I$6:$I$1806)","v":0},{"$f":"IF(LOOKUP($V137,Data!$A$6:$A$1806,Data!$J$6:$J$1806)>0,(LOOKUP($V137,Data!$A$6:$A$1806,Data!$J$6:$J$1806)*-1),LOOKUP($V137,Data!$A$6:$A$1806,Data!$J$6:$J$1806))","v":-653},{"$f":"LOOKUP($V137,Data!$A$6:$A$1806,Data!$K$6:$K$1806)","v":30210.255859375},362.88848876953125,"T+116 sec",40679.339282407302,null,null,null,null,null,null,null,null,null,null,null,null,null,869.17764639639643,5.5572509765625E-2,-653]
["T+118 sec",40679.339305555448,{"$f":"LOOKUP(B138,Data!$A$6:$A$1806,Data!B$6:B$1806)","v":59.944091796875},{"$f":"LOOKUP(B138,Data!$A$6:$A$1806,Data!C$6:C$1806)","v":0},null,null,19590,{"$f":"(IF((C138-L$2)>0,(IF(C138<'Copy Results'!$C$3,((C138-L$2-L$5)/((L$4*L$2)-L$5)*G138*-1),(('Copy Results'!$C$3-L$2-L$5)/((L$4*L$2)-L$5)*G138*-1))),IF(C138>'Copy Results'!$C$2,((C138-L$2+L$5)/((L$4*L$2)-L$5)*G138*-1),(('Copy Results'!$C$2-L$2+L$5)/((L$4*L$2)-L$5)*G138*-1))))","v":365.08056640625},360.99330349450707,null,null,-4.2636764883614982,583.39041344504699,{"$f":"AVERAGE(D$79:D138)","v":0},{"$f":"AVERAGE(M$79:M138)","v":921.15632392855343},224.38465779308001,{"$f":"AVERAGE(P$79:P138)","v":348.0312759555639},null,null,null,"T+118 sec",40679.339305555448,{"$f":"LOOKUP($V138,Data!$A$6:$A$1806,Data!$B$6:$B$1806)","v":59.944091796875},{"$f":"LOOKUP($V138,Data!$A$6:$A$1806,Data!$C$6:$C$1806)","v":0},{"$f":"LOOKUP($V138,Data!$A$6:$A$1806,Data!$D$6:$D$1806)","v":0},{"$f":"IF($Z$1=\"+\",LOOKUP($V138,Data!$A$6:$A$1806,Data!$E$6:$E$1806)*-1,LOOKUP($V138,Data!$A$6:$A$1806,Data!$E$6:$E$1806))","v":0},{"$f":"LOOKUP($V138,Data!$A$6:$A$1806,Data!$F$6:$F$1806)","v":0},null,{"$f":"LOOKUP($V138,Data!$A$6:$A$1806,Data!$H$6:$H$1806)","v":0},{"$f":"LOOKUP($V138,Data!$A$6:$A$1806,Data!$I$6:$I$1806)","v":0},{"$f":"IF(LOOKUP($V138,Data!$A$6:$A$1806,Data!$J$6:$J$1806)>0,(LOOKUP($V138,Data!$A$6:$A$1806,Data!$J$6:$J$1806)*-1),LOOKUP($V138,Data!$A$6:$A$1806,Data!$J$6:$J$1806))","v":-653},{"$f":"LOOKUP($V138,Data!$A$6:$A$1806,Data!$K$6:$K$1806)","v":30234.5859375},365.08056640625,"T+118 sec",40679.339305555448,null,null,null,null,null,null,null,null,null,null,null,null,null,863.82736429770569,5.5908203125E-2,-653]
["T+120 sec",40679.339328703594,{"$f":"LOOKUP(B139,Data!$A$6:$A$1806,Data!B$6:B$1806)","v":59.945068359375},{"$f":"LOOKUP(B139,Data!$A$6:$A$1806,Data!C$6:C$1806)","v":0},null,null,19590,{"$f":"(IF((C139-L$2)>0,(IF(C139<'Copy Results'!$C$3,((C139-L$2-L$5)/((L$4*L$2)-L$5)*G139*-1),(('Copy Results'!$C$3-L$2-L$5)/((L$4*L$2)-L$5)*G139*-1))),IF(C139>'Copy Results'!$C$2,((C139-L$2+L$5)/((L$4*L$2)-L$5)*G139*-1),(('Copy Results'!$C$2-L$2+L$5)/((L$4*L$2)-L$5)*G139*-1))))","v":358.70361328125},360.1919119198671,null,null,-4.2636764883614982,578.3253453820455,{"$f":"AVERAGE(D$79:D139)","v":0},{"$f":"AVERAGE(M$79:M139)","v":915.53614395238117},220.1209813047185,{"$f":"AVERAGE(P$79:P139)","v":345.89943771138314},null,null,null,"T+120 sec",40679.339328703594,{"$f":"LOOKUP($V139,Data!$A$6:$A$1806,Data!$B$6:$B$1806)","v":59.945068359375},{"$f":"LOOKUP($V139,Data!$A$6:$A$1806,Data!$C$6:$C$1806)","v":0},{"$f":"LOOKUP($V139,Data!$A$6:$A$1806,Data!$D$6:$D$1806)","v":0},{"$f":"IF($Z$1=\"+\",LOOKUP($V139,Data!$A$6:$A$1806,Data!$E$6:$E$1806)*-1,LOOKUP($V139,Data!$A$6:$A$1806,Data!$E$6:$E$1806))","v":0},{"$f":"LOOKUP($V139,Data!$A$6:$A$1806,Data!$F$6:$F$1806)","v":0},null,{"$f":"LOOKUP($V139,Data!$A$6:$A$1806,Data!$H$6:$H$1806)","v":0},{"$f":"LOOKUP($V139,Data!$A$6:$A$1806,Data!$I$6:$I$1806)","v":0},{"$f":"IF(LOOKUP($V139,Data!$A$6:$A$1806,Data!$J$6:$J$1806)>0,(LOOKUP($V139,Data!$A$6:$A$1806,Data!$J$6:$J$1806)*-1),LOOKUP($V139,Data!$A$6:$A$1806,Data!$J$6:$J$1806))","v":-653},{"$f":"LOOKUP($V139,Data!$A$6:$A$1806,Data!$K$6:$K$1806)","v":30234.5859375},358.70361328125,"T+120 sec",40679.339328703594,null,null,null,null,null,null,null,null,null,null,null,null,null,879.57806267806268,5.4931640625E-2,-653]
["T+122 sec",40679.339351851741,{"$f":"LOOKUP(B140,Data!$A$6:$A$1806,Data!B$6:B$1806)","v":59.946044921875},{"$f":"LOOKUP(B140,Data!$A$6:$A$1806,Data!C$6:C$1806)","v":0},null,null,19590,{"$f":"(IF((C140-L$2)>0,(IF(C140<'Copy Results'!$C$3,((C140-L$2-L$5)/((L$4*L$2)-L$5)*G140*-1),(('Copy Results'!$C$3-L$2-L$5)/((L$4*L$2)-L$5)*G140*-1))),IF(C140>'Copy Results'!$C$2,((C140-L$2+L$5)/((L$4*L$2)-L$5)*G140*-1),(('Copy Results'!$C$2-L$2+L$5)/((L$4*L$2)-L$5)*G140*-1))))","v":352.32666015625},357.43907380260111,null,null,-4.2636764883614982,571.30883077641806,{"$f":"AVERAGE(D$79:D140)","v":0},{"$f":"AVERAGE(M$79:M140)","v":909.98409051405918},215.85730481635699,{"$f":"AVERAGE(P$79:P140)","v":343.76759946720239},null,null,null,"T+122 sec",40679.339351851741,{"$f":"LOOKUP($V140,Data!$A$6:$A$1806,Data!$B$6:$B$1806)","v":59.946044921875},{"$f":"LOOKUP($V140,Data!$A$6:$A$1806,Data!$C$6:$C$1806)","v":0},{"$f":"LOOKUP($V140,Data!$A$6:$A$1806,Data!$D$6:$D$1806)","v":0},{"$f":"IF($Z$1=\"+\",LOOKUP($V140,Data!$A$6:$A$1806,Data!$E$6:$E$1806)*-1,LOOKUP($V140,Data!$A$6:$A$1806,Data!$E$6:$E$1806))","v":0},{"$f":"LOOKUP($V140,Data!$A$6:$A$1806,Data!$F$6:$F$1806)","v":0},null,{"$f":"LOOKUP($V140,Data!$A$6:$A$1806,Data!$H$6:$H$1806)","v":0},{"$f":"LOOKUP($V140,Data!$A$6:$A$1806,Data!$I$6:$I$1806)","v":0},{"$f":"IF(LOOKUP($V140,Data!$A$6:$A$1806,Data!$J$6:$J$1806)>0,(LOOKUP($V140,Data!$A$6:$A$1806,Data!$J$6:$J$1806)*-1),LOOKUP($V140,Data!$A$6:$A$1806,Data!$J$6:$J$1806))","v":-653},{"$f":"LOOKUP($V140,Data!$A$6:$A$1806,Data!$K$6:$K$1806)","v":30234.5859375},352.32666015625,"T+122 sec",40679.339351851741,null,null,null,null,null,null,null,null,null,null,null,null,null,895.91381311665702,5.3955078125E-2,-653]
["T+124 sec",40679.339374999887,{"$f":"LOOKUP(B141,Data!$A$6:$A$1806,Data!B$6:B$1806)","v":59.946380615234375},{"$f":"LOOKUP(B141,Data!$A$6:$A$1806,Data!C$6:C$1806)","v":0},null,null,19590,{"$f":"(IF((C141-L$2)>0,(IF(C141<'Copy Results'!$C$3,((C141-L$2-L$5)/((L$4*L$2)-L$5)*G141*-1),(('Copy Results'!$C$3-L$2-L$5)/((L$4*L$2)-L$5)*G141*-1))),IF(C141>'Copy Results'!$C$2,((C141-L$2+L$5)/((L$4*L$2)-L$5)*G141*-1),(('Copy Results'!$C$2-L$2+L$5)/((L$4*L$2)-L$5)*G141*-1))))","v":350.13458251953125},354.88250185352666,null,null,-4.2636764883614982,564.48858233898204,{"$f":"AVERAGE(D$79:D141)","v":0},{"$f":"AVERAGE(M$79:M141)","v":904.50003482874058},211.59362832799548,{"$f":"AVERAGE(P$79:P141)","v":341.63576122302163},null,null,null,"T+124 sec",40679.339374999887,{"$f":"LOOKUP($V141,Data!$A$6:$A$1806,Data!$B$6:$B$1806)","v":59.946380615234375},{"$f":"LOOKUP($V141,Data!$A$6:$A$1806,Data!$C$6:$C$1806)","v":0},{"$f":"LOOKUP($V141,Data!$A$6:$A$1806,Data!$D$6:$D$1806)","v":0},{"$f":"IF($Z$1=\"+\",LOOKUP($V141,Data!$A$6:$A$1806,Data!$E$6:$E$1806)*-1,LOOKUP($V141,Data!$A$6:$A$1806,Data!$E$6:$E$1806))","v":0},{"$f":"LOOKUP($V141,Data!$A$6:$A$1806,Data!$F$6:$F$1806)","v":0},null,{"$f":"LOOKUP($V141,Data!$A$6:$A$1806,Data!$H$6:$H$1806)","v":0},{"$f":"LOOKUP($V141,Data!$A$6:$A$1806,Data!$I$6:$I$1806)","v":0},{"$f":"IF(LOOKUP($V141,Data!$A$6:$A$1806,Data!$J$6:$J$1806)>0,(LOOKUP($V141,Data!$A$6:$A$1806,Data!$J$6:$J$1806)*-1),LOOKUP($V141,Data!$A$6:$A$1806,Data!$J$6:$J$1806))","v":-653},{"$f":"LOOKUP($V141,Data!$A$6:$A$1806,Data!$K$6:$K$1806)","v":30234.5859375},350.13458251953125,"T+124 sec",40679.339374999887,null,null,null,null,null,null,null,null,null,null,null,null,null,901.67026869158883,5.3619384765625E-2,-653]
["T+126 sec",40679.339398148033,{"$f":"LOOKUP(B142,Data!$A$6:$A$1806,Data!B$6:B$1806)","v":59.94732666015625},{"$f":"LOOKUP(B142,Data!$A$6:$A$1806,Data!C$6:C$1806)","v":0},null,null,19590,{"$f":"(IF((C142-L$2)>0,(IF(C142<'Copy Results'!$C$3,((C142-L$2-L$5)/((L$4*L$2)-L$5)*G142*-1),(('Copy Results'!$C$3-L$2-L$5)/((L$4*L$2)-L$5)*G142*-1))),IF(C142>'Copy Results'!$C$2,((C142-L$2+L$5)/((L$4*L$2)-L$5)*G142*-1),(('Copy Results'!$C$2-L$2+L$5)/((L$4*L$2)-L$5)*G142*-1))))","v":343.9569091796875},351.05854441768292,null,null,-4.2636764883614982,556.40094841477685,{"$f":"AVERAGE(D$79:D142)","v":0},{"$f":"AVERAGE(M$79:M142)","v":899.06098660352234},207.32995183963396,{"$f":"AVERAGE(P$79:P142)","v":339.50392297884088},null,null,null,"T+126 sec",40679.339398148033,{"$f":"LOOKUP($V142,Data!$A$6:$A$1806,Data!$B$6:$B$1806)","v":59.94732666015625},{"$f":"LOOKUP($V142,Data!$A$6:$A$1806,Data!$C$6:$C$1806)","v":0},{"$f":"LOOKUP($V142,Data!$A$6:$A$1806,Data!$D$6:$D$1806)","v":0},{"$f":"IF($Z$1=\"+\",LOOKUP($V142,Data!$A$6:$A$1806,Data!$E$6:$E$1806)*-1,LOOKUP($V142,Data!$A$6:$A$1806,Data!$E$6:$E$1806))","v":0},{"$f":"LOOKUP($V142,Data!$A$6:$A$1806,Data!$F$6:$F$1806)","v":0},null,{"$f":"LOOKUP($V142,Data!$A$6:$A$1806,Data!$H$6:$H$1806)","v":0},{"$f":"LOOKUP($V142,Data!$A$6:$A$1806,Data!$I$6:$I$1806)","v":0},{"$f":"IF(LOOKUP($V142,Data!$A$6:$A$1806,Data!$J$6:$J$1806)>0,(LOOKUP($V142,Data!$A$6:$A$1806,Data!$J$6:$J$1806)*-1),LOOKUP($V142,Data!$A$6:$A$1806,Data!$J$6:$J$1806))","v":-653},{"$f":"LOOKUP($V142,Data!$A$6:$A$1806,Data!$K$6:$K$1806)","v":30223.599609375},343.9569091796875,"T+126 sec",40679.339398148033,null,null,null,null,null,null,null,null,null,null,null,null,null,918.29833432480666,5.267333984375E-2,-653]
["T+128 sec",40679.339421296179,{"$f":"LOOKUP(B143,Data!$A$6:$A$1806,Data!B$6:B$1806)","v":59.94830322265625},{"$f":"LOOKUP(B143,Data!$A$6:$A$1806,Data!C$6:C$1806)","v":0},null,null,19590,{"$f":"(IF((C143-L$2)>0,(IF(C143<'Copy Results'!$C$3,((C143-L$2-L$5)/((L$4*L$2)-L$5)*G143*-1),(('Copy Results'!$C$3-L$2-L$5)/((L$4*L$2)-L$5)*G143*-1))),IF(C143>'Copy Results'!$C$2,((C143-L$2+L$5)/((L$4*L$2)-L$5)*G143*-1),(('Copy Results'!$C$2-L$2+L$5)/((L$4*L$2)-L$5)*G143*-1))))","v":337.5799560546875},346.3410384906345,null,null,-4.2636764883614982,547.41976599936697,{"$f":"AVERAGE(D$79:D143)","v":0},{"$f":"AVERAGE(M$79:M143)","v":893.65112167115069},203.06627535127245,{"$f":"AVERAGE(P$79:P143)","v":337.37208473466012},null,null,null,"T+128 sec",40679.339421296179,{"$f":"LOOKUP($V143,Data!$A$6:$A$1806,Data!$B$6:$B$1806)","v":59.94830322265625},{"$f":"LOOKUP($V143,Data!$A$6:$A$1806,Data!$C$6:$C$1806)","v":0},{"$f":"LOOKUP($V143,Data!$A$6:$A$1806,Data!$D$6:$D$1806)","v":0},{"$f":"IF($Z$1=\"+\",LOOKUP($V143,Data!$A$6:$A$1806,Data!$E$6:$E$1806)*-1,LOOKUP($V143,Data!$A$6:$A$1806,Data!$E$6:$E$1806))","v":0},{"$f":"LOOKUP($V143,Data!$A$6:$A$1806,Data!$F$6:$F$1806)","v":0},null,{"$f":"LOOKUP($V143,Data!$A$6:$A$1806,Data!$H$6:$H$1806)","v":0},{"$f":"LOOKUP($V143,Data!$A$6:$A$1806,Data!$I$6:$I$1806)","v":0},{"$f":"IF(LOOKUP($V143,Data!$A$6:$A$1806,Data!$J$6:$J$1806)>0,(LOOKUP($V143,Data!$A$6:$A$1806,Data!$J$6:$J$1806)*-1),LOOKUP($V143,Data!$A$6:$A$1806,Data!$J$6:$J$1806))","v":-653},{"$f":"LOOKUP($V143,Data!$A$6:$A$1806,Data!$K$6:$K$1806)","v":30223.599609375},337.5799560546875,"T+128 sec",40679.339421296179,null,null,null,null,null,null,null,null,null,null,null,null,null,936.11855670103091,5.169677734375E-2,-653]
["T+130 sec",40679.339444444326,{"$f":"LOOKUP(B144,Data!$A$6:$A$1806,Data!B$6:B$1806)","v":59.948944091796875},{"$f":"LOOKUP(B144,Data!$A$6:$A$1806,Data!C$6:C$1806)","v":0},null,null,19590,{"$f":"(IF((C144-L$2)>0,(IF(C144<'Copy Results'!$C$3,((C144-L$2-L$5)/((L$4*L$2)-L$5)*G144*-1),(('Copy Results'!$C$3-L$2-L$5)/((L$4*L$2)-L$5)*G144*-1))),IF(C144>'Copy Results'!$C$2,((C144-L$2+L$5)/((L$4*L$2)-L$5)*G144*-1),(('Copy Results'!$C$2-L$2+L$5)/((L$4*L$2)-L$5)*G144*-1))))","v":333.39508056640625},341.8099532171546,null,null,{"$f":"IF(B144>G$3,0,(K$21*0.000023148/K$22))","v":-4.2636764883614982},{"$f":"M143+L144+(I144-I143)","v":538.62500423752556},{"$f":"AVERAGE(D$79:D144)","v":0},{"$f":"AVERAGE(M$79:M144)","v":888.27193807367155},198.80259886291094,{"$f":"AVERAGE(P$79:P144)","v":335.24024649047936},null,null,null,"T+130 sec",40679.339444444326,{"$f":"LOOKUP($V144,Data!$A$6:$A$1806,Data!$B$6:$B$1806)","v":59.948944091796875},{"$f":"LOOKUP($V144,Data!$A$6:$A$1806,Data!$C$6:$C$1806)","v":0},{"$f":"LOOKUP($V144,Data!$A$6:$A$1806,Data!$D$6:$D$1806)","v":0},{"$f":"IF($Z$1=\"+\",LOOKUP($V144,Data!$A$6:$A$1806,Data!$E$6:$E$1806)*-1,LOOKUP($V144,Data!$A$6:$A$1806,Data!$E$6:$E$1806))","v":0},{"$f":"LOOKUP($V144,Data!$A$6:$A$1806,Data!$F$6:$F$1806)","v":0},null,{"$f":"LOOKUP($V144,Data!$A$6:$A$1806,Data!$H$6:$H$1806)","v":0},{"$f":"LOOKUP($V144,Data!$A$6:$A$1806,Data!$I$6:$I$1806)","v":0},{"$f":"IF(LOOKUP($V144,Data!$A$6:$A$1806,Data!$J$6:$J$1806)>0,(LOOKUP($V144,Data!$A$6:$A$1806,Data!$J$6:$J$1806)*-1),LOOKUP($V144,Data!$A$6:$A$1806,Data!$J$6:$J$1806))","v":-653},{"$f":"LOOKUP($V144,Data!$A$6:$A$1806,Data!$K$6:$K$1806)","v":30223.73046875},333.39508056640625,"T+130 sec",40679.339444444326,null,null,null,null,null,null,null,null,null,null,null,null,null,948.19379606879602,5.1055908203125E-2,-653]
["T+132 sec",40679.339467592472,{"$f":"LOOKUP(B145,Data!$A$6:$A$1806,Data!B$6:B$1806)","v":59.949920654296875},{"$f":"LOOKUP(B145,Data!$A$6:$A$1806,Data!C$6:C$1806)","v":0},null,null,19590,{"$f":"(IF((C145-L$2)>0,(IF(C145<'Copy Results'!$C$3,((C145-L$2-L$5)/((L$4*L$2)-L$5)*G145*-1),(('Copy Results'!$C$3-L$2-L$5)/((L$4*L$2)-L$5)*G145*-1))),IF(C145>'Copy Results'!$C$2,((C145-L$2+L$5)/((L$4*L$2)-L$5)*G145*-1),(('Copy Results'!$C$2-L$2+L$5)/((L$4*L$2)-L$5)*G145*-1))))","v":327.01812744140625},336.63281419564265,null,null,-4.2636764883614982,529.1841887276521,{"$f":"AVERAGE(D$79:D145)","v":0},{"$f":"AVERAGE(M$79:M145)","v":882.91241942671604},194.53892237454943,{"$f":"AVERAGE(P$79:P145)","v":333.10840824629861},null,null,null,"T+132 sec",{"$f":"V144+TIME(0,0,$B$1)","v":40679.339467592472},{"$f":"LOOKUP($V145,Data!$A$6:$A$1806,Data!$B$6:$B$1806)","v":59.949920654296875},{"$f":"LOOKUP($V145,Data!$A$6:$A$1806,Data!$C$6:$C$1806)","v":0},{"$f":"LOOKUP($V145,Data!$A$6:$A$1806,Data!$D$6:$D$1806)","v":0},{"$f":"IF($Z$1=\"+\",LOOKUP($V145,Data!$A$6:$A$1806,Data!$E$6:$E$1806)*-1,LOOKUP($V145,Data!$A$6:$A$1806,Data!$E$6:$E$1806))","v":0},{"$f":"LOOKUP($V145,Data!$A$6:$A$1806,Data!$F$6:$F$1806)","v":0},null,{"$f":"LOOKUP($V145,Data!$A$6:$A$1806,Data!$H$6:$H$1806)","v":0},{"$f":"LOOKUP($V145,Data!$A$6:$A$1806,Data!$I$6:$I$1806)","v":0},{"$f":"IF(LOOKUP($V145,Data!$A$6:$A$1806,Data!$J$6:$J$1806)>0,(LOOKUP($V145,Data!$A$6:$A$1806,Data!$J$6:$J$1806)*-1),LOOKUP($V145,Data!$A$6:$A$1806,Data!$J$6:$J$1806))","v":-653},{"$f":"LOOKUP($V145,Data!$A$6:$A$1806,Data!$K$6:$K$1806)","v":30223.73046875},327.01812744140625,"T+132 sec",{"$f":"AI144+TIME(0,0,$B$1)","v":40679.339467592472},null,null,null,null,null,null,null,null,null,null,null,null,null,{"$f":"IF(((D145-F$78)/((C145-E$78)*10))<0,\" \",((D145-F$78)/((C145-E$78)*10)))","v":967.2052005012531},5.0079345703125E-2,-653]
["T+134 sec",40679.339490740618,{"$f":"LOOKUP(B146,Data!$A$6:$A$1806,Data!B$6:B$1806)","v":59.950897216796875},{"$f":"LOOKUP(B146,Data!$A$6:$A$1806,Data!C$6:C$1806)","v":0},null,null,19590,{"$f":"(IF((C146-L$2)>0,(IF(C146<'Copy Results'!$C$3,((C146-L$2-L$5)/((L$4*L$2)-L$5)*G146*-1),(('Copy Results'!$C$3-L$2-L$5)/((L$4*L$2)-L$5)*G146*-1))),IF(C146>'Copy Results'!$C$2,((C146-L$2+L$5)/((L$4*L$2)-L$5)*G146*-1),(('Copy Results'!$C$2-L$2+L$5)/((L$4*L$2)-L$5)*G146*-1))))","v":320.64117431640625},331.03574023790992,null,null,-4.2636764883614982,519.32343828155786,{"$f":"AVERAGE(D$79:D146)","v":0},{"$f":"AVERAGE(M$79:M146)","v":877.56552264516961},{"$f":"P145+L146","v":190.27524588618792},{"$f":"AVERAGE(P$79:P146)","v":330.97657000211785},null,null,null,"T+134 sec",40679.339490740618,{"$f":"LOOKUP($V146,Data!$A$6:$A$1806,Data!$B$6:$B$1806)","v":59.950897216796875},{"$f":"LOOKUP($V146,Data!$A$6:$A$1806,Data!$C$6:$C$1806)","v":0},{"$f":"LOOKUP($V146,Data!$A$6:$A$1806,Data!$D$6:$D$1806)","v":0},{"$f":"IF($Z$1=\"+\",LOOKUP($V146,Data!$A$6:$A$1806,Data!$E$6:$E$1806)*-1,LOOKUP($V146,Data!$A$6:$A$1806,Data!$E$6:$E$1806))","v":0},{"$f":"LOOKUP($V146,Data!$A$6:$A$1806,Data!$F$6:$F$1806)","v":0},null,{"$f":"LOOKUP($V146,Data!$A$6:$A$1806,Data!$H$6:$H$1806)","v":0},{"$f":"LOOKUP($V146,Data!$A$6:$A$1806,Data!$I$6:$I$1806)","v":0},{"$f":"IF(LOOKUP($V146,Data!$A$6:$A$1806,Data!$J$6:$J$1806)>0,(LOOKUP($V146,Data!$A$6:$A$1806,Data!$J$6:$J$1806)*-1),LOOKUP($V146,Data!$A$6:$A$1806,Data!$J$6:$J$1806))","v":-653},{"$f":"LOOKUP($V146,Data!$A$6:$A$1806,Data!$K$6:$K$1806)","v":30223.73046875},320.64117431640625,"T+134 sec",40679.339490740618,null,null,null,null,null,null,null,null,null,null,null,null,null,986.99456521739125,4.9102783203125E-2,-653]
["T+136 sec",40679.339513888764,{"$f":"LOOKUP(B147,Data!$A$6:$A$1806,Data!B$6:B$1806)","v":59.9515380859375},{"$f":"LOOKUP(B147,Data!$A$6:$A$1806,Data!C$6:C$1806)","v":0},null,null,19590,{"$f":"(IF((C147-L$2)>0,(IF(C147<'Copy Results'!$C$3,((C147-L$2-L$5)/((L$4*L$2)-L$5)*G147*-1),(('Copy Results'!$C$3-L$2-L$5)/((L$4*L$2)-L$5)*G147*-1))),IF(C147>'Copy Results'!$C$2,((C147-L$2+L$5)/((L$4*L$2)-L$5)*G147*-1),(('Copy Results'!$C$2-L$2+L$5)/((L$4*L$2)-L$5)*G147*-1))))","v":316.456298828125},325.93293574448523,null,null,-4.2636764883614982,509.95695729977166,{"$f":"AVERAGE(D$79:D147)","v":0},{"$f":"AVERAGE(M$79:M147)","v":872.23786227784501},186.01156939782641,{"$f":"AVERAGE(P$79:P147)","v":328.8447317579371},null,null,null,"T+136 sec",40679.339513888764,{"$f":"LOOKUP($V147,Data!$A$6:$A$1806,Data!$B$6:$B$1806)","v":59.9515380859375},{"$f":"LOOKUP($V147,Data!$A$6:$A$1806,Data!$C$6:$C$1806)","v":0},{"$f":"LOOKUP($V147,Data!$A$6:$A$1806,Data!$D$6:$D$1806)","v":0},{"$f":"IF($Z$1=\"+\",LOOKUP($V147,Data!$A$6:$A$1806,Data!$E$6:$E$1806)*-1,LOOKUP($V147,Data!$A$6:$A$1806,Data!$E$6:$E$1806))","v":0},{"$f":"LOOKUP($V147,Data!$A$6:$A$1806,Data!$F$6:$F$1806)","v":0},null,{"$f":"LOOKUP($V147,Data!$A$6:$A$1806,Data!$H$6:$H$1806)","v":0},{"$f":"LOOKUP($V147,Data!$A$6:$A$1806,Data!$I$6:$I$1806)","v":0},{"$f":"IF(LOOKUP($V147,Data!$A$6:$A$1806,Data!$J$6:$J$1806)>0,(LOOKUP($V147,Data!$A$6:$A$1806,Data!$J$6:$J$1806)*-1),LOOKUP($V147,Data!$A$6:$A$1806,Data!$J$6:$J$1806))","v":-653},{"$f":"LOOKUP($V147,Data!$A$6:$A$1806,Data!$K$6:$K$1806)","v":30223.73046875},316.456298828125,"T+136 sec",40679.339513888764,null,null,null,null,null,null,null,null,null,null,null,null,null,1000.4274141283214,4.84619140625E-2,-653]
["T+138 sec",40679.339537036911,{"$f":"LOOKUP(B148,Data!$A$6:$A$1806,Data!B$6:B$1806)","v":59.951873779296875},{"$f":"LOOKUP(B148,Data!$A$6:$A$1806,Data!C$6:C$1806)","v":0},null,null,19590,{"$f":"(IF((C148-L$2)>0,(IF(C148<'Copy Results'!$C$3,((C148-L$2-L$5)/((L$4*L$2)-L$5)*G148*-1),(('Copy Results'!$C$3-L$2-L$5)/((L$4*L$2)-L$5)*G148*-1))),IF(C148>'Copy Results'!$C$2,((C148-L$2+L$5)/((L$4*L$2)-L$5)*G148*-1),(('Copy Results'!$C$2-L$2+L$5)/((L$4*L$2)-L$5)*G148*-1))))","v":314.26422119140625},321.84888565090762,null,null,-4.2636764883614982,501.60923071783253,{"$f":"AVERAGE(D$79:D148)","v":0},{"$f":"AVERAGE(M$79:M148)","v":866.9431675412734},181.74789290946489,{"$f":"AVERAGE(P$79:P148)","v":326.71289351375634},null,null,null,"T+138 sec",40679.339537036911,{"$f":"LOOKUP($V148,Data!$A$6:$A$1806,Data!$B$6:$B$1806)","v":59.951873779296875},{"$f":"LOOKUP($V148,Data!$A$6:$A$1806,Data!$C$6:$C$1806)","v":0},{"$f":"LOOKUP($V148,Data!$A$6:$A$1806,Data!$D$6:$D$1806)","v":0},{"$f":"IF($Z$1=\"+\",LOOKUP($V148,Data!$A$6:$A$1806,Data!$E$6:$E$1806)*-1,LOOKUP($V148,Data!$A$6:$A$1806,Data!$E$6:$E$1806))","v":0},{"$f":"LOOKUP($V148,Data!$A$6:$A$1806,Data!$F$6:$F$1806)","v":0},null,{"$f":"LOOKUP($V148,Data!$A$6:$A$1806,Data!$H$6:$H$1806)","v":0},{"$f":"LOOKUP($V148,Data!$A$6:$A$1806,Data!$I$6:$I$1806)","v":0},{"$f":"IF(LOOKUP($V148,Data!$A$6:$A$1806,Data!$J$6:$J$1806)>0,(LOOKUP($V148,Data!$A$6:$A$1806,Data!$J$6:$J$1806)*-1),LOOKUP($V148,Data!$A$6:$A$1806,Data!$J$6:$J$1806))","v":-653},{"$f":"LOOKUP($V148,Data!$A$6:$A$1806,Data!$K$6:$K$1806)","v":30224.392578125},314.26422119140625,"T+138 sec",40679.339537036911,null,null,null,null,null,null,null,null,null,null,null,null,null,1007.6106396866841,4.8126220703125E-2,-653]
["T+140 sec",40679.339560185057,{"$f":"LOOKUP(B149,Data!$A$6:$A$1806,Data!B$6:B$1806)","v":59.953460693359375},{"$f":"LOOKUP(B149,Data!$A$6:$A$1806,Data!C$6:C$1806)","v":0},null,null,19590,{"$f":"(IF((C149-L$2)>0,(IF(C149<'Copy Results'!$C$3,((C149-L$2-L$5)/((L$4*L$2)-L$5)*G149*-1),(('Copy Results'!$C$3-L$2-L$5)/((L$4*L$2)-L$5)*G149*-1))),IF(C149>'Copy Results'!$C$2,((C149-L$2+L$5)/((L$4*L$2)-L$5)*G149*-1),(('Copy Results'!$C$2-L$2+L$5)/((L$4*L$2)-L$5)*G149*-1))))","v":303.90167236328125},315.56736100023841,null,null,-4.2636764883614982,491.06402957880181,{"$f":"AVERAGE(D$79:D149)","v":0},{"$f":"AVERAGE(M$79:M149)","v":861.64909517560477},177.48421642110338,{"$f":"AVERAGE(P$79:P149)","v":324.58105526957559},null,null,null,"T+140 sec",40679.339560185057,{"$f":"LOOKUP($V149,Data!$A$6:$A$1806,Data!$B$6:$B$1806)","v":59.953460693359375},{"$f":"LOOKUP($V149,Data!$A$6:$A$1806,Data!$C$6:$C$1806)","v":0},{"$f":"LOOKUP($V149,Data!$A$6:$A$1806,Data!$D$6:$D$1806)","v":0},{"$f":"IF($Z$1=\"+\",LOOKUP($V149,Data!$A$6:$A$1806,Data!$E$6:$E$1806)*-1,LOOKUP($V149,Data!$A$6:$A$1806,Data!$E$6:$E$1806))","v":0},{"$f":"LOOKUP($V149,Data!$A$6:$A$1806,Data!$F$6:$F$1806)","v":0},null,{"$f":"LOOKUP($V149,Data!$A$6:$A$1806,Data!$H$6:$H$1806)","v":0},{"$f":"LOOKUP($V149,Data!$A$6:$A$1806,Data!$I$6:$I$1806)","v":0},{"$f":"IF(LOOKUP($V149,Data!$A$6:$A$1806,Data!$J$6:$J$1806)>0,(LOOKUP($V149,Data!$A$6:$A$1806,Data!$J$6:$J$1806)*-1),LOOKUP($V149,Data!$A$6:$A$1806,Data!$J$6:$J$1806))","v":-653},{"$f":"LOOKUP($V149,Data!$A$6:$A$1806,Data!$K$6:$K$1806)","v":30224.392578125},303.90167236328125,"T+140 sec",40679.339560185057,null,null,null,null,null,null,null,null,null,null,null,null,null,1043.0131756756757,4.6539306640625E-2,-653]
["T+142 sec",40679.339583333203,{"$f":"LOOKUP(B150,Data!$A$6:$A$1806,Data!B$6:B$1806)","v":59.955078125},{"$f":"LOOKUP(B150,Data!$A$6:$A$1806,Data!C$6:C$1806)","v":0},null,null,19590,{"$f":"(IF((C150-L$2)>0,(IF(C150<'Copy Results'!$C$3,((C150-L$2-L$5)/((L$4*L$2)-L$5)*G150*-1),(('Copy Results'!$C$3-L$2-L$5)/((L$4*L$2)-L$5)*G150*-1))),IF(C150>'Copy Results'!$C$2,((C150-L$2+L$5)/((L$4*L$2)-L$5)*G150*-1),(('Copy Results'!$C$2-L$2+L$5)/((L$4*L$2)-L$5)*G150*-1))))","v":293.33984375},307.78772996265496,null,null,-4.2636764883614982,479.02072205285685,{"$f":"AVERAGE(D$79:D150)","v":0},{"$f":"AVERAGE(M$79:M150)","v":856.33481221556656},173.22053993274187,{"$f":"AVERAGE(P$79:P150)","v":322.44921702539483},null,null,null,"T+142 sec",40679.339583333203,{"$f":"LOOKUP($V150,Data!$A$6:$A$1806,Data!$B$6:$B$1806)","v":59.955078125},{"$f":"LOOKUP($V150,Data!$A$6:$A$1806,Data!$C$6:$C$1806)","v":0},{"$f":"LOOKUP($V150,Data!$A$6:$A$1806,Data!$D$6:$D$1806)","v":0},{"$f":"IF($Z$1=\"+\",LOOKUP($V150,Data!$A$6:$A$1806,Data!$E$6:$E$1806)*-1,LOOKUP($V150,Data!$A$6:$A$1806,Data!$E$6:$E$1806))","v":0},{"$f":"LOOKUP($V150,Data!$A$6:$A$1806,Data!$F$6:$F$1806)","v":0},null,{"$f":"LOOKUP($V150,Data!$A$6:$A$1806,Data!$H$6:$H$1806)","v":0},{"$f":"LOOKUP($V150,Data!$A$6:$A$1806,Data!$I$6:$I$1806)","v":0},{"$f":"IF(LOOKUP($V150,Data!$A$6:$A$1806,Data!$J$6:$J$1806)>0,(LOOKUP($V150,Data!$A$6:$A$1806,Data!$J$6:$J$1806)*-1),LOOKUP($V150,Data!$A$6:$A$1806,Data!$J$6:$J$1806))","v":-653},{"$f":"LOOKUP($V150,Data!$A$6:$A$1806,Data!$K$6:$K$1806)","v":30224.392578125},293.33984375,"T+142 sec",40679.339583333203,null,null,null,null,null,null,null,null,null,null,null,null,null,1081.7515767344078,4.4921875E-2,-653]
["T+144 sec",40679.33960648135,{"$f":"LOOKUP(B151,Data!$A$6:$A$1806,Data!B$6:B$1806)","v":59.95574951171875},{"$f":"LOOKUP(B151,Data!$A$6:$A$1806,Data!C$6:C$1806)","v":0},null,null,19590,{"$f":"(IF((C151-L$2)>0,(IF(C151<'Copy Results'!$C$3,((C151-L$2-L$5)/((L$4*L$2)-L$5)*G151*-1),(('Copy Results'!$C$3-L$2-L$5)/((L$4*L$2)-L$5)*G151*-1))),IF(C151>'Copy Results'!$C$2,((C151-L$2+L$5)/((L$4*L$2)-L$5)*G151*-1),(('Copy Results'!$C$2-L$2+L$5)/((L$4*L$2)-L$5)*G151*-1))))","v":288.9556884765625},301.19651544252258,null,null,-4.2636764883614982,468.16583104436296,{"$f":"AVERAGE(D$79:D151)","v":0},{"$f":"AVERAGE(M$79:M151)","v":851.01742891185143},168.95686344438036,{"$f":"AVERAGE(P$79:P151)","v":320.31737878121407},null,null,null,"T+144 sec",40679.33960648135,{"$f":"LOOKUP($V151,Data!$A$6:$A$1806,Data!$B$6:$B$1806)","v":59.95574951171875},{"$f":"LOOKUP($V151,Data!$A$6:$A$1806,Data!$C$6:$C$1806)","v":0},{"$f":"LOOKUP($V151,Data!$A$6:$A$1806,Data!$D$6:$D$1806)","v":0},{"$f":"IF($Z$1=\"+\",LOOKUP($V151,Data!$A$6:$A$1806,Data!$E$6:$E$1806)*-1,LOOKUP($V151,Data!$A$6:$A$1806,Data!$E$6:$E$1806))","v":0},{"$f":"LOOKUP($V151,Data!$A$6:$A$1806,Data!$F$6:$F$1806)","v":0},null,{"$f":"LOOKUP($V151,Data!$A$6:$A$1806,Data!$H$6:$H$1806)","v":0},{"$f":"LOOKUP($V151,Data!$A$6:$A$1806,Data!$I$6:$I$1806)","v":0},{"$f":"IF(LOOKUP($V151,Data!$A$6:$A$1806,Data!$J$6:$J$1806)>0,(LOOKUP($V151,Data!$A$6:$A$1806,Data!$J$6:$J$1806)*-1),LOOKUP($V151,Data!$A$6:$A$1806,Data!$J$6:$J$1806))","v":-653},{"$f":"LOOKUP($V151,Data!$A$6:$A$1806,Data!$K$6:$K$1806)","v":30224.392578125},288.9556884765625,"T+144 sec",40679.33960648135,null,null,null,null,null,null,null,null,null,null,null,null,null,1098.6900355871885,4.425048828125E-2,-653]
["T+146 sec",40679.339629629496,{"$f":"LOOKUP(B152,Data!$A$6:$A$1806,Data!B$6:B$1806)","v":59.956390380859375},{"$f":"LOOKUP(B152,Data!$A$6:$A$1806,Data!C$6:C$1806)","v":0},null,null,19590,{"$f":"(IF((C152-L$2)>0,(IF(C152<'Copy Results'!$C$3,((C152-L$2-L$5)/((L$4*L$2)-L$5)*G152*-1),(('Copy Results'!$C$3-L$2-L$5)/((L$4*L$2)-L$5)*G152*-1))),IF(C152>'Copy Results'!$C$2,((C152-L$2+L$5)/((L$4*L$2)-L$5)*G152*-1),(('Copy Results'!$C$2-L$2+L$5)/((L$4*L$2)-L$5)*G152*-1))))","v":284.77081298828125},295.44751958353811,null,null,-4.2636764883614982,458.15315869701698,{"$f":"AVERAGE(D$79:D152)","v":0},{"$f":"AVERAGE(M$79:M152)","v":845.70845228732662},164.69318695601885,{"$f":"AVERAGE(P$79:P152)","v":318.18554053703326},null,null,null,"T+146 sec",40679.339629629496,{"$f":"LOOKUP($V152,Data!$A$6:$A$1806,Data!$B$6:$B$1806)","v":59.956390380859375},{"$f":"LOOKUP($V152,Data!$A$6:$A$1806,Data!$C$6:$C$1806)","v":0},{"$f":"LOOKUP($V152,Data!$A$6:$A$1806,Data!$D$6:$D$1806)","v":0},{"$f":"IF($Z$1=\"+\",LOOKUP($V152,Data!$A$6:$A$1806,Data!$E$6:$E$1806)*-1,LOOKUP($V152,Data!$A$6:$A$1806,Data!$E$6:$E$1806))","v":0},{"$f":"LOOKUP($V152,Data!$A$6:$A$1806,Data!$F$6:$F$1806)","v":0},null,{"$f":"LOOKUP($V152,Data!$A$6:$A$1806,Data!$H$6:$H$1806)","v":0},{"$f":"LOOKUP($V152,Data!$A$6:$A$1806,Data!$I$6:$I$1806)","v":0},{"$f":"IF(LOOKUP($V152,Data!$A$6:$A$1806,Data!$J$6:$J$1806)>0,(LOOKUP($V152,Data!$A$6:$A$1806,Data!$J$6:$J$1806)*-1),LOOKUP($V152,Data!$A$6:$A$1806,Data!$J$6:$J$1806))","v":-653},{"$f":"LOOKUP($V152,Data!$A$6:$A$1806,Data!$K$6:$K$1806)","v":30255.529296875},284.77081298828125,"T+146 sec",40679.339629629496,null,null,null,null,null,null,null,null,null,null,null,null,null,1115.3609104046243,4.3609619140625E-2,-653]
["T+148 sec",40679.339652777642,{"$f":"LOOKUP(B153,Data!$A$6:$A$1806,Data!B$6:B$1806)","v":59.9580078125},{"$f":"LOOKUP(B153,Data!$A$6:$A$1806,Data!C$6:C$1806)","v":0},null,null,19590,{"$f":"(IF((C153-L$2)>0,(IF(C153<'Copy Results'!$C$3,((C153-L$2-L$5)/((L$4*L$2)-L$5)*G153*-1),(('Copy Results'!$C$3-L$2-L$5)/((L$4*L$2)-L$5)*G153*-1))),IF(C153>'Copy Results'!$C$2,((C153-L$2+L$5)/((L$4*L$2)-L$5)*G153*-1),(('Copy Results'!$C$2-L$2+L$5)/((L$4*L$2)-L$5)*G153*-1))))","v":274.208984375},288.01403226054981,null,null,-4.2636764883614982,446.45599488566717,{"$f":"AVERAGE(D$79:D153)","v":0},{"$f":"AVERAGE(M$79:M153)","v":840.38508618863784},160.42951046765734,{"$f":"AVERAGE(P$79:P153)","v":316.05370229285251},null,null,null,"T+148 sec",40679.339652777642,{"$f":"LOOKUP($V153,Data!$A$6:$A$1806,Data!$B$6:$B$1806)","v":59.9580078125},{"$f":"LOOKUP($V153,Data!$A$6:$A$1806,Data!$C$6:$C$1806)","v":0},{"$f":"LOOKUP($V153,Data!$A$6:$A$1806,Data!$D$6:$D$1806)","v":0},{"$f":"IF($Z$1=\"+\",LOOKUP($V153,Data!$A$6:$A$1806,Data!$E$6:$E$1806)*-1,LOOKUP($V153,Data!$A$6:$A$1806,Data!$E$6:$E$1806))","v":0},{"$f":"LOOKUP($V153,Data!$A$6:$A$1806,Data!$F$6:$F$1806)","v":0},null,{"$f":"LOOKUP($V153,Data!$A$6:$A$1806,Data!$H$6:$H$1806)","v":0},{"$f":"LOOKUP($V153,Data!$A$6:$A$1806,Data!$I$6:$I$1806)","v":0},{"$f":"IF(LOOKUP($V153,Data!$A$6:$A$1806,Data!$J$6:$J$1806)>0,(LOOKUP($V153,Data!$A$6:$A$1806,Data!$J$6:$J$1806)*-1),LOOKUP($V153,Data!$A$6:$A$1806,Data!$J$6:$J$1806))","v":-653},{"$f":"LOOKUP($V153,Data!$A$6:$A$1806,Data!$K$6:$K$1806)","v":30255.529296875},274.208984375,"T+148 sec",40679.339652777642,null,null,null,null,null,null,null,null,null,null,null,null,null,1159.7742299023291,4.19921875E-2,-653]
["T+150 sec",40679.339675925788,{"$f":"LOOKUP(B154,Data!$A$6:$A$1806,Data!B$6:B$1806)","v":59.96124267578125},{"$f":"LOOKUP(B154,Data!$A$6:$A$1806,Data!C$6:C$1806)","v":0},null,null,19590,{"$f":"(IF((C154-L$2)>0,(IF(C154<'Copy Results'!$C$3,((C154-L$2-L$5)/((L$4*L$2)-L$5)*G154*-1),(('Copy Results'!$C$3-L$2-L$5)/((L$4*L$2)-L$5)*G154*-1))),IF(C154>'Copy Results'!$C$2,((C154-L$2+L$5)/((L$4*L$2)-L$5)*G154*-1),(('Copy Results'!$C$2-L$2+L$5)/((L$4*L$2)-L$5)*G154*-1))))","v":253.0853271484375},275.78898547131053,null,null,-4.2636764883614982,429.96727160806637,{"$f":"AVERAGE(D$79:D154)","v":0},{"$f":"AVERAGE(M$79:M154)","v":834.98485178626197},156.16583397929583,{"$f":"AVERAGE(P$79:P154)","v":313.92186404867175},null,null,null,"T+150 sec",40679.339675925788,{"$f":"LOOKUP($V154,Data!$A$6:$A$1806,Data!$B$6:$B$1806)","v":59.96124267578125},{"$f":"LOOKUP($V154,Data!$A$6:$A$1806,Data!$C$6:$C$1806)","v":0},{"$f":"LOOKUP($V154,Data!$A$6:$A$1806,Data!$D$6:$D$1806)","v":0},{"$f":"IF($Z$1=\"+\",LOOKUP($V154,Data!$A$6:$A$1806,Data!$E$6:$E$1806)*-1,LOOKUP($V154,Data!$A$6:$A$1806,Data!$E$6:$E$1806))","v":0},{"$f":"LOOKUP($V154,Data!$A$6:$A$1806,Data!$F$6:$F$1806)","v":0},null,{"$f":"LOOKUP($V154,Data!$A$6:$A$1806,Data!$H$6:$H$1806)","v":0},{"$f":"LOOKUP($V154,Data!$A$6:$A$1806,Data!$I$6:$I$1806)","v":0},{"$f":"IF(LOOKUP($V154,Data!$A$6:$A$1806,Data!$J$6:$J$1806)>0,(LOOKUP($V154,Data!$A$6:$A$1806,Data!$J$6:$J$1806)*-1),LOOKUP($V154,Data!$A$6:$A$1806,Data!$J$6:$J$1806))","v":-653},{"$f":"LOOKUP($V154,Data!$A$6:$A$1806,Data!$K$6:$K$1806)","v":30252.8671875},253.0853271484375,"T+150 sec",40679.339675925788,null,null,null,null,null,null,null,null,null,null,null,null,null,1260.1302040816327,3.875732421875E-2,-653]
["T+152 sec",40679.339699073935,{"$f":"LOOKUP(B155,Data!$A$6:$A$1806,Data!B$6:B$1806)","v":59.9625244140625},{"$f":"LOOKUP(B155,Data!$A$6:$A$1806,Data!C$6:C$1806)","v":0},null,null,19590,{"$f":"(IF((C155-L$2)>0,(IF(C155<'Copy Results'!$C$3,((C155-L$2-L$5)/((L$4*L$2)-L$5)*G155*-1),(('Copy Results'!$C$3-L$2-L$5)/((L$4*L$2)-L$5)*G155*-1))),IF(C155>'Copy Results'!$C$2,((C155-L$2+L$5)/((L$4*L$2)-L$5)*G155*-1),(('Copy Results'!$C$2-L$2+L$5)/((L$4*L$2)-L$5)*G155*-1))))","v":244.715576171875},264.91329221650813,null,null,-4.2636764883614982,414.82790186490246,{"$f":"AVERAGE(D$79:D155)","v":0},{"$f":"AVERAGE(M$79:M155)","v":829.52826802104948},151.90215749093431,{"$f":"AVERAGE(P$79:P155)","v":311.79002580449099},null,null,null,"T+152 sec",40679.339699073935,{"$f":"LOOKUP($V155,Data!$A$6:$A$1806,Data!$B$6:$B$1806)","v":59.9625244140625},{"$f":"LOOKUP($V155,Data!$A$6:$A$1806,Data!$C$6:$C$1806)","v":0},{"$f":"LOOKUP($V155,Data!$A$6:$A$1806,Data!$D$6:$D$1806)","v":0},{"$f":"IF($Z$1=\"+\",LOOKUP($V155,Data!$A$6:$A$1806,Data!$E$6:$E$1806)*-1,LOOKUP($V155,Data!$A$6:$A$1806,Data!$E$6:$E$1806))","v":0},{"$f":"LOOKUP($V155,Data!$A$6:$A$1806,Data!$F$6:$F$1806)","v":0},null,{"$f":"LOOKUP($V155,Data!$A$6:$A$1806,Data!$H$6:$H$1806)","v":0},{"$f":"LOOKUP($V155,Data!$A$6:$A$1806,Data!$I$6:$I$1806)","v":0},{"$f":"IF(LOOKUP($V155,Data!$A$6:$A$1806,Data!$J$6:$J$1806)>0,(LOOKUP($V155,Data!$A$6:$A$1806,Data!$J$6:$J$1806)*-1),LOOKUP($V155,Data!$A$6:$A$1806,Data!$J$6:$J$1806))","v":-653},{"$f":"LOOKUP($V155,Data!$A$6:$A$1806,Data!$K$6:$K$1806)","v":30252.8671875},244.715576171875,"T+152 sec",40679.339699073935,null,null,null,null,null,null,null,null,null,null,null,null,null,1304.8685545224007,3.74755859375E-2,-653]
["T+154 sec",40679.339722222081,{"$f":"LOOKUP(B156,Data!$A$6:$A$1806,Data!B$6:B$1806)","v":59.961883544921875},{"$f":"LOOKUP(B156,Data!$A$6:$A$1806,Data!C$6:C$1806)","v":0},null,null,19590,{"$f":"(IF((C156-L$2)>0,(IF(C156<'Copy Results'!$C$3,((C156-L$2-L$5)/((L$4*L$2)-L$5)*G156*-1),(('Copy Results'!$C$3-L$2-L$5)/((L$4*L$2)-L$5)*G156*-1))),IF(C156>'Copy Results'!$C$2,((C156-L$2+L$5)/((L$4*L$2)-L$5)*G156*-1),(('Copy Results'!$C$2-L$2+L$5)/((L$4*L$2)-L$5)*G156*-1))))","v":248.90045166015625},259.30879802178498,null,null,-4.2636764883614982,404.9597311818178,{"$f":"AVERAGE(D$79:D156)","v":0},{"$f":"AVERAGE(M$79:M156)","v":824.0850816513157},147.6384810025728,{"$f":"AVERAGE(P$79:P156)","v":309.65818756031024},null,null,null,"T+154 sec",40679.339722222081,{"$f":"LOOKUP($V156,Data!$A$6:$A$1806,Data!$B$6:$B$1806)","v":59.961883544921875},{"$f":"LOOKUP($V156,Data!$A$6:$A$1806,Data!$C$6:$C$1806)","v":0},{"$f":"LOOKUP($V156,Data!$A$6:$A$1806,Data!$D$6:$D$1806)","v":0},{"$f":"IF($Z$1=\"+\",LOOKUP($V156,Data!$A$6:$A$1806,Data!$E$6:$E$1806)*-1,LOOKUP($V156,Data!$A$6:$A$1806,Data!$E$6:$E$1806))","v":0},{"$f":"LOOKUP($V156,Data!$A$6:$A$1806,Data!$F$6:$F$1806)","v":0},null,{"$f":"LOOKUP($V156,Data!$A$6:$A$1806,Data!$H$6:$H$1806)","v":0},{"$f":"LOOKUP($V156,Data!$A$6:$A$1806,Data!$I$6:$I$1806)","v":0},{"$f":"IF(LOOKUP($V156,Data!$A$6:$A$1806,Data!$J$6:$J$1806)>0,(LOOKUP($V156,Data!$A$6:$A$1806,Data!$J$6:$J$1806)*-1),LOOKUP($V156,Data!$A$6:$A$1806,Data!$J$6:$J$1806))","v":-653},{"$f":"LOOKUP($V156,Data!$A$6:$A$1806,Data!$K$6:$K$1806)","v":30252.8671875},248.90045166015625,"T+154 sec",40679.339722222081,null,null,null,null,null,null,null,null,null,null,null,null,null,1282.1092192691031,3.8116455078125E-2,-653]
["T+156 sec",40679.339745370227,{"$f":"LOOKUP(B157,Data!$A$6:$A$1806,Data!B$6:B$1806)","v":59.96124267578125},{"$f":"LOOKUP(B157,Data!$A$6:$A$1806,Data!C$6:C$1806)","v":0},null,null,19590,{"$f":"(IF((C157-L$2)>0,(IF(C157<'Copy Results'!$C$3,((C157-L$2-L$5)/((L$4*L$2)-L$5)*G157*-1),(('Copy Results'!$C$3-L$2-L$5)/((L$4*L$2)-L$5)*G157*-1))),IF(C157>'Copy Results'!$C$2,((C157-L$2+L$5)/((L$4*L$2)-L$5)*G157*-1),(('Copy Results'!$C$2-L$2+L$5)/((L$4*L$2)-L$5)*G157*-1))))","v":253.0853271484375},257.13058321611334,null,null,-4.2636764883614982,398.51783988778465,{"$f":"AVERAGE(D$79:D157)","v":0},{"$f":"AVERAGE(M$79:M157)","v":818.69815454038496},143.37480451421129,{"$f":"AVERAGE(P$79:P157)","v":307.52634931612954},null,null,null,"T+156 sec",40679.339745370227,{"$f":"LOOKUP($V157,Data!$A$6:$A$1806,Data!$B$6:$B$1806)","v":59.96124267578125},{"$f":"LOOKUP($V157,Data!$A$6:$A$1806,Data!$C$6:$C$1806)","v":0},{"$f":"LOOKUP($V157,Data!$A$6:$A$1806,Data!$D$6:$D$1806)","v":0},{"$f":"IF($Z$1=\"+\",LOOKUP($V157,Data!$A$6:$A$1806,Data!$E$6:$E$1806)*-1,LOOKUP($V157,Data!$A$6:$A$1806,Data!$E$6:$E$1806))","v":0},{"$f":"LOOKUP($V157,Data!$A$6:$A$1806,Data!$F$6:$F$1806)","v":0},null,{"$f":"LOOKUP($V157,Data!$A$6:$A$1806,Data!$H$6:$H$1806)","v":0},{"$f":"LOOKUP($V157,Data!$A$6:$A$1806,Data!$I$6:$I$1806)","v":0},{"$f":"IF(LOOKUP($V157,Data!$A$6:$A$1806,Data!$J$6:$J$1806)>0,(LOOKUP($V157,Data!$A$6:$A$1806,Data!$J$6:$J$1806)*-1),LOOKUP($V157,Data!$A$6:$A$1806,Data!$J$6:$J$1806))","v":-653},{"$f":"LOOKUP($V157,Data!$A$6:$A$1806,Data!$K$6:$K$1806)","v":30252.8671875},253.0853271484375,"T+156 sec",40679.339745370227,null,null,null,null,null,null,null,null,null,null,null,null,null,1260.1302040816327,3.875732421875E-2,-653]
["T+158 sec",40679.339768518374,{"$f":"LOOKUP(B158,Data!$A$6:$A$1806,Data!B$6:B$1806)","v":59.96026611328125},{"$f":"LOOKUP(B158,Data!$A$6:$A$1806,Data!C$6:C$1806)","v":0},null,null,19590,{"$f":"(IF((C158-L$2)>0,(IF(C158<'Copy Results'!$C$3,((C158-L$2-L$5)/((L$4*L$2)-L$5)*G158*-1),(('Copy Results'!$C$3-L$2-L$5)/((L$4*L$2)-L$5)*G158*-1))),IF(C158>'Copy Results'!$C$2,((C158-L$2+L$5)/((L$4*L$2)-L$5)*G158*-1),(('Copy Results'!$C$2-L$2+L$5)/((L$4*L$2)-L$5)*G158*-1))))","v":259.4622802734375},257.94667718617677,null,null,-4.2636764883614982,395.07025736948657,{"$f":"AVERAGE(D$79:D158)","v":0},{"$f":"AVERAGE(M$79:M158)","v":813.40280582574871},139.11112802584978,{"$f":"AVERAGE(P$79:P158)","v":305.39451107194873},null,null,null,"T+158 sec",40679.339768518374,{"$f":"LOOKUP($V158,Data!$A$6:$A$1806,Data!$B$6:$B$1806)","v":59.96026611328125},{"$f":"LOOKUP($V158,Data!$A$6:$A$1806,Data!$C$6:$C$1806)","v":0},{"$f":"LOOKUP($V158,Data!$A$6:$A$1806,Data!$D$6:$D$1806)","v":0},{"$f":"IF($Z$1=\"+\",LOOKUP($V158,Data!$A$6:$A$1806,Data!$E$6:$E$1806)*-1,LOOKUP($V158,Data!$A$6:$A$1806,Data!$E$6:$E$1806))","v":0},{"$f":"LOOKUP($V158,Data!$A$6:$A$1806,Data!$F$6:$F$1806)","v":0},null,{"$f":"LOOKUP($V158,Data!$A$6:$A$1806,Data!$H$6:$H$1806)","v":0},{"$f":"LOOKUP($V158,Data!$A$6:$A$1806,Data!$I$6:$I$1806)","v":0},{"$f":"IF(LOOKUP($V158,Data!$A$6:$A$1806,Data!$J$6:$J$1806)>0,(LOOKUP($V158,Data!$A$6:$A$1806,Data!$J$6:$J$1806)*-1),LOOKUP($V158,Data!$A$6:$A$1806,Data!$J$6:$J$1806))","v":-653},{"$f":"LOOKUP($V158,Data!$A$6:$A$1806,Data!$K$6:$K$1806)","v":30232.44921875},259.4622802734375,"T+158 sec",40679.339768518374,null,null,null,null,null,null,null,null,null,null,null,null,null,1228.0505171042164,3.973388671875E-2,-653]
["T+160 sec",40679.33979166652,{"$f":"LOOKUP(B159,Data!$A$6:$A$1806,Data!B$6:B$1806)","v":59.9605712890625},{"$f":"LOOKUP(B159,Data!$A$6:$A$1806,Data!C$6:C$1806)","v":0},null,null,19590,{"$f":"(IF((C159-L$2)>0,(IF(C159<'Copy Results'!$C$3,((C159-L$2-L$5)/((L$4*L$2)-L$5)*G159*-1),(('Copy Results'!$C$3-L$2-L$5)/((L$4*L$2)-L$5)*G159*-1))),IF(C159>'Copy Results'!$C$2,((C159-L$2+L$5)/((L$4*L$2)-L$5)*G159*-1),(('Copy Results'!$C$2-L$2+L$5)/((L$4*L$2)-L$5)*G159*-1))))","v":257.469482421875},257.77965901867117,null,null,-4.2636764883614982,390.63956271361945,{"$f":"AVERAGE(D$79:D159)","v":0},{"$f":"AVERAGE(M$79:M159)","v":808.18350652806816},134.84745153748827,{"$f":"AVERAGE(P$79:P159)","v":303.26267282776797},null,null,null,"T+160 sec",40679.33979166652,{"$f":"LOOKUP($V159,Data!$A$6:$A$1806,Data!$B$6:$B$1806)","v":59.9605712890625},{"$f":"LOOKUP($V159,Data!$A$6:$A$1806,Data!$C$6:$C$1806)","v":0},{"$f":"LOOKUP($V159,Data!$A$6:$A$1806,Data!$D$6:$D$1806)","v":0},{"$f":"IF($Z$1=\"+\",LOOKUP($V159,Data!$A$6:$A$1806,Data!$E$6:$E$1806)*-1,LOOKUP($V159,Data!$A$6:$A$1806,Data!$E$6:$E$1806))","v":0},{"$f":"LOOKUP($V159,Data!$A$6:$A$1806,Data!$F$6:$F$1806)","v":0},null,{"$f":"LOOKUP($V159,Data!$A$6:$A$1806,Data!$H$6:$H$1806)","v":0},{"$f":"LOOKUP($V159,Data!$A$6:$A$1806,Data!$I$6:$I$1806)","v":0},{"$f":"IF(LOOKUP($V159,Data!$A$6:$A$1806,Data!$J$6:$J$1806)>0,(LOOKUP($V159,Data!$A$6:$A$1806,Data!$J$6:$J$1806)*-1),LOOKUP($V159,Data!$A$6:$A$1806,Data!$J$6:$J$1806))","v":-653},{"$f":"LOOKUP($V159,Data!$A$6:$A$1806,Data!$K$6:$K$1806)","v":30232.44921875},257.469482421875,"T+160 sec",40679.33979166652,null,null,null,null,null,null,null,null,null,null,null,null,null,1237.8985565356857,3.94287109375E-2,-653]
["T+162 sec",40679.339814814666,{"$f":"LOOKUP(B160,Data!$A$6:$A$1806,Data!B$6:B$1806)","v":59.962188720703125},{"$f":"LOOKUP(B160,Data!$A$6:$A$1806,Data!C$6:C$1806)","v":0},null,null,19590,{"$f":"(IF((C160-L$2)>0,(IF(C160<'Copy Results'!$C$3,((C160-L$2-L$5)/((L$4*L$2)-L$5)*G160*-1),(('Copy Results'!$C$3-L$2-L$5)/((L$4*L$2)-L$5)*G160*-1))),IF(C160>'Copy Results'!$C$2,((C160-L$2+L$5)/((L$4*L$2)-L$5)*G160*-1),(('Copy Results'!$C$2-L$2+L$5)/((L$4*L$2)-L$5)*G160*-1))))","v":246.90765380859375},253.97445719514408,null,null,-4.2636764883614982,382.57068440173089,{"$f":"AVERAGE(D$79:D160)","v":0},{"$f":"AVERAGE(M$79:M160)","v":802.99310625823466},130.58377504912676,{"$f":"AVERAGE(P$79:P160)","v":301.13083458358722},null,null,null,"T+162 sec",40679.339814814666,{"$f":"LOOKUP($V160,Data!$A$6:$A$1806,Data!$B$6:$B$1806)","v":59.962188720703125},{"$f":"LOOKUP($V160,Data!$A$6:$A$1806,Data!$C$6:$C$1806)","v":0},{"$f":"LOOKUP($V160,Data!$A$6:$A$1806,Data!$D$6:$D$1806)","v":0},{"$f":"IF($Z$1=\"+\",LOOKUP($V160,Data!$A$6:$A$1806,Data!$E$6:$E$1806)*-1,LOOKUP($V160,Data!$A$6:$A$1806,Data!$E$6:$E$1806))","v":0},{"$f":"LOOKUP($V160,Data!$A$6:$A$1806,Data!$F$6:$F$1806)","v":0},null,{"$f":"LOOKUP($V160,Data!$A$6:$A$1806,Data!$H$6:$H$1806)","v":0},{"$f":"LOOKUP($V160,Data!$A$6:$A$1806,Data!$I$6:$I$1806)","v":0},{"$f":"IF(LOOKUP($V160,Data!$A$6:$A$1806,Data!$J$6:$J$1806)>0,(LOOKUP($V160,Data!$A$6:$A$1806,Data!$J$6:$J$1806)*-1),LOOKUP($V160,Data!$A$6:$A$1806,Data!$J$6:$J$1806))","v":-653},{"$f":"LOOKUP($V160,Data!$A$6:$A$1806,Data!$K$6:$K$1806)","v":30232.44921875},246.90765380859375,"T+162 sec",40679.339814814666,null,null,null,null,null,null,null,null,null,null,null,null,null,1292.8471524288107,3.7811279296875E-2,-653]
["T+164 sec",40679.339837962812,{"$f":"LOOKUP(B161,Data!$A$6:$A$1806,Data!B$6:B$1806)","v":59.965118408203125},{"$f":"LOOKUP(B161,Data!$A$6:$A$1806,Data!C$6:C$1806)","v":0},null,null,19590,{"$f":"(IF((C161-L$2)>0,(IF(C161<'Copy Results'!$C$3,((C161-L$2-L$5)/((L$4*L$2)-L$5)*G161*-1),(('Copy Results'!$C$3-L$2-L$5)/((L$4*L$2)-L$5)*G161*-1))),IF(C161>'Copy Results'!$C$2,((C161-L$2+L$5)/((L$4*L$2)-L$5)*G161*-1),(('Copy Results'!$C$2-L$2+L$5)/((L$4*L$2)-L$5)*G161*-1))))","v":227.77679443359375},244.80527522860146,null,null,-4.2636764883614982,369.13782594682675,{"$f":"AVERAGE(D$79:D161)","v":0},{"$f":"AVERAGE(M$79:M161)","v":797.76593420629013},126.32009856076526,{"$f":"AVERAGE(P$79:P161)","v":298.99899633940646},null,null,null,"T+164 sec",40679.339837962812,{"$f":"LOOKUP($V161,Data!$A$6:$A$1806,Data!$B$6:$B$1806)","v":59.965118408203125},{"$f":"LOOKUP($V161,Data!$A$6:$A$1806,Data!$C$6:$C$1806)","v":0},{"$f":"LOOKUP($V161,Data!$A$6:$A$1806,Data!$D$6:$D$1806)","v":0},{"$f":"IF($Z$1=\"+\",LOOKUP($V161,Data!$A$6:$A$1806,Data!$E$6:$E$1806)*-1,LOOKUP($V161,Data!$A$6:$A$1806,Data!$E$6:$E$1806))","v":0},{"$f":"LOOKUP($V161,Data!$A$6:$A$1806,Data!$F$6:$F$1806)","v":0},null,{"$f":"LOOKUP($V161,Data!$A$6:$A$1806,Data!$H$6:$H$1806)","v":0},{"$f":"LOOKUP($V161,Data!$A$6:$A$1806,Data!$I$6:$I$1806)","v":0},{"$f":"IF(LOOKUP($V161,Data!$A$6:$A$1806,Data!$J$6:$J$1806)>0,(LOOKUP($V161,Data!$A$6:$A$1806,Data!$J$6:$J$1806)*-1),LOOKUP($V161,Data!$A$6:$A$1806,Data!$J$6:$J$1806))","v":-653},{"$f":"LOOKUP($V161,Data!$A$6:$A$1806,Data!$K$6:$K$1806)","v":30232.44921875},227.77679443359375,"T+164 sec",40679.339837962812,null,null,null,null,null,null,null,null,null,null,null,null,null,1405.8829690346083,3.4881591796875E-2," "]
["T+166 sec",40679.339861110959,{"$f":"LOOKUP(B162,Data!$A$6:$A$1806,Data!B$6:B$1806)","v":59.967376708984375},{"$f":"LOOKUP(B162,Data!$A$6:$A$1806,Data!C$6:C$1806)","v":0},null,null,19590,{"$f":"(IF((C162-L$2)>0,(IF(C162<'Copy Results'!$C$3,((C162-L$2-L$5)/((L$4*L$2)-L$5)*G162*-1),(('Copy Results'!$C$3-L$2-L$5)/((L$4*L$2)-L$5)*G162*-1))),IF(C162>'Copy Results'!$C$2,((C162-L$2+L$5)/((L$4*L$2)-L$5)*G162*-1),(('Copy Results'!$C$2-L$2+L$5)/((L$4*L$2)-L$5)*G162*-1))))","v":213.03009033203125},233.6839605148019,null,null,-4.2636764883614982,353.75283474466568,{"$f":"AVERAGE(D$79:D162)","v":0},{"$f":"AVERAGE(M$79:M162)","v":792.48006397460404},122.05642207240376,{"$f":"AVERAGE(P$79:P162)","v":296.8671580952257},null,null,null,"T+166 sec",40679.339861110959,{"$f":"LOOKUP($V162,Data!$A$6:$A$1806,Data!$B$6:$B$1806)","v":59.967376708984375},{"$f":"LOOKUP($V162,Data!$A$6:$A$1806,Data!$C$6:$C$1806)","v":0},{"$f":"LOOKUP($V162,Data!$A$6:$A$1806,Data!$D$6:$D$1806)","v":0},{"$f":"IF($Z$1=\"+\",LOOKUP($V162,Data!$A$6:$A$1806,Data!$E$6:$E$1806)*-1,LOOKUP($V162,Data!$A$6:$A$1806,Data!$E$6:$E$1806))","v":0},{"$f":"LOOKUP($V162,Data!$A$6:$A$1806,Data!$F$6:$F$1806)","v":0},null,{"$f":"LOOKUP($V162,Data!$A$6:$A$1806,Data!$H$6:$H$1806)","v":0},{"$f":"LOOKUP($V162,Data!$A$6:$A$1806,Data!$I$6:$I$1806)","v":0},{"$f":"IF(LOOKUP($V162,Data!$A$6:$A$1806,Data!$J$6:$J$1806)>0,(LOOKUP($V162,Data!$A$6:$A$1806,Data!$J$6:$J$1806)*-1),LOOKUP($V162,Data!$A$6:$A$1806,Data!$J$6:$J$1806))","v":-653},{"$f":"LOOKUP($V162,Data!$A$6:$A$1806,Data!$K$6:$K$1806)","v":30263.990234375},213.03009033203125,"T+166 sec",40679.339861110959,null,null,null,null,null,null,null,null,null,null,null,null,null,1507.47998046875,3.2623291015625E-2," "]
["T+168 sec",40679.339884259105,{"$f":"LOOKUP(B163,Data!$A$6:$A$1806,Data!B$6:B$1806)","v":59.968994140625},{"$f":"LOOKUP(B163,Data!$A$6:$A$1806,Data!C$6:C$1806)","v":0},null,null,19590,{"$f":"(IF((C163-L$2)>0,(IF(C163<'Copy Results'!$C$3,((C163-L$2-L$5)/((L$4*L$2)-L$5)*G163*-1),(('Copy Results'!$C$3-L$2-L$5)/((L$4*L$2)-L$5)*G163*-1))),IF(C163>'Copy Results'!$C$2,((C163-L$2+L$5)/((L$4*L$2)-L$5)*G163*-1),(('Copy Results'!$C$2-L$2+L$5)/((L$4*L$2)-L$5)*G163*-1))))","v":202.46826171875},222.75846593618374,null,null,-4.2636764883614982,338.56366367768601,{"$f":"AVERAGE(D$79:D163)","v":0},{"$f":"AVERAGE(M$79:M163)","v":787.13987102993451},117.79274558404227,{"$f":"AVERAGE(P$79:P163)","v":294.73531985104501},null,null,null,"T+168 sec",40679.339884259105,{"$f":"LOOKUP($V163,Data!$A$6:$A$1806,Data!$B$6:$B$1806)","v":59.968994140625},{"$f":"LOOKUP($V163,Data!$A$6:$A$1806,Data!$C$6:$C$1806)","v":0},{"$f":"LOOKUP($V163,Data!$A$6:$A$1806,Data!$D$6:$D$1806)","v":0},{"$f":"IF($Z$1=\"+\",LOOKUP($V163,Data!$A$6:$A$1806,Data!$E$6:$E$1806)*-1,LOOKUP($V163,Data!$A$6:$A$1806,Data!$E$6:$E$1806))","v":0},{"$f":"LOOKUP($V163,Data!$A$6:$A$1806,Data!$F$6:$F$1806)","v":0},null,{"$f":"LOOKUP($V163,Data!$A$6:$A$1806,Data!$H$6:$H$1806)","v":0},{"$f":"LOOKUP($V163,Data!$A$6:$A$1806,Data!$I$6:$I$1806)","v":0},{"$f":"IF(LOOKUP($V163,Data!$A$6:$A$1806,Data!$J$6:$J$1806)>0,(LOOKUP($V163,Data!$A$6:$A$1806,Data!$J$6:$J$1806)*-1),LOOKUP($V163,Data!$A$6:$A$1806,Data!$J$6:$J$1806))","v":-653},{"$f":"LOOKUP($V163,Data!$A$6:$A$1806,Data!$K$6:$K$1806)","v":30263.990234375},202.46826171875,"T+168 sec",40679.339884259105,null,null,null,null,null,null,null,null,null,null,null,null,null,1589.7626158599383,3.1005859375E-2," "]
["T+170 sec",40679.339907407251,{"$f":"LOOKUP(B164,Data!$A$6:$A$1806,Data!B$6:B$1806)","v":59.970611572265625},{"$f":"LOOKUP(B164,Data!$A$6:$A$1806,Data!C$6:C$1806)","v":0},null,null,19590,{"$f":"(IF((C164-L$2)>0,(IF(C164<'Copy Results'!$C$3,((C164-L$2-L$5)/((L$4*L$2)-L$5)*G164*-1),(('Copy Results'!$C$3-L$2-L$5)/((L$4*L$2)-L$5)*G164*-1))),IF(C164>'Copy Results'!$C$2,((C164-L$2+L$5)/((L$4*L$2)-L$5)*G164*-1),(('Copy Results'!$C$2-L$2+L$5)/((L$4*L$2)-L$5)*G164*-1))))","v":191.90643310546875},211.96025444543349,null,null,-4.2636764883614982,323.50177569857425,{"$f":"AVERAGE(D$79:D164)","v":0},{"$f":"AVERAGE(M$79:M164)","v":781.74873038654664},113.52906909568077,{"$f":"AVERAGE(P$79:P164)","v":292.60348160686419},null,null,null,"T+170 sec",40679.339907407251,{"$f":"LOOKUP($V164,Data!$A$6:$A$1806,Data!$B$6:$B$1806)","v":59.970611572265625},{"$f":"LOOKUP($V164,Data!$A$6:$A$1806,Data!$C$6:$C$1806)","v":0},{"$f":"LOOKUP($V164,Data!$A$6:$A$1806,Data!$D$6:$D$1806)","v":0},{"$f":"IF($Z$1=\"+\",LOOKUP($V164,Data!$A$6:$A$1806,Data!$E$6:$E$1806)*-1,LOOKUP($V164,Data!$A$6:$A$1806,Data!$E$6:$E$1806))","v":0},{"$f":"LOOKUP($V164,Data!$A$6:$A$1806,Data!$F$6:$F$1806)","v":0},null,{"$f":"LOOKUP($V164,Data!$A$6:$A$1806,Data!$H$6:$H$1806)","v":0},{"$f":"LOOKUP($V164,Data!$A$6:$A$1806,Data!$I$6:$I$1806)","v":0},{"$f":"IF(LOOKUP($V164,Data!$A$6:$A$1806,Data!$J$6:$J$1806)>0,(LOOKUP($V164,Data!$A$6:$A$1806,Data!$J$6:$J$1806)*-1),LOOKUP($V164,Data!$A$6:$A$1806,Data!$J$6:$J$1806))","v":-653},{"$f":"LOOKUP($V164,Data!$A$6:$A$1806,Data!$K$6:$K$1806)","v":30263.68359375},191.90643310546875,"T+170 sec",40679.339907407251,null,null,null,null,null,null,null,null,null,null,null,null,null,1681.5462962962963,2.9388427734375E-2," "]
["T+172 sec",40679.339930555398,{"$f":"LOOKUP(B165,Data!$A$6:$A$1806,Data!B$6:B$1806)","v":59.973175048828125},{"$f":"LOOKUP(B165,Data!$A$6:$A$1806,Data!C$6:C$1806)","v":0},null,null,19590,{"$f":"(IF((C165-L$2)>0,(IF(C165<'Copy Results'!$C$3,((C165-L$2-L$5)/((L$4*L$2)-L$5)*G165*-1),(('Copy Results'!$C$3-L$2-L$5)/((L$4*L$2)-L$5)*G165*-1))),IF(C165>'Copy Results'!$C$2,((C165-L$2+L$5)/((L$4*L$2)-L$5)*G165*-1),(('Copy Results'!$C$2-L$2+L$5)/((L$4*L$2)-L$5)*G165*-1))))","v":175.16693115234375},199.0825912928521,null,null,-4.2636764883614982,306.36043605763132,{"$f":"AVERAGE(D$79:D165)","v":0},{"$f":"AVERAGE(M$79:M165)","v":776.28449711839812},109.26539260731927,{"$f":"AVERAGE(P$79:P165)","v":290.47164336268344},null,null,null,"T+172 sec",40679.339930555398,{"$f":"LOOKUP($V165,Data!$A$6:$A$1806,Data!$B$6:$B$1806)","v":59.973175048828125},{"$f":"LOOKUP($V165,Data!$A$6:$A$1806,Data!$C$6:$C$1806)","v":0},{"$f":"LOOKUP($V165,Data!$A$6:$A$1806,Data!$D$6:$D$1806)","v":0},{"$f":"IF($Z$1=\"+\",LOOKUP($V165,Data!$A$6:$A$1806,Data!$E$6:$E$1806)*-1,LOOKUP($V165,Data!$A$6:$A$1806,Data!$E$6:$E$1806))","v":0},{"$f":"LOOKUP($V165,Data!$A$6:$A$1806,Data!$F$6:$F$1806)","v":0},null,{"$f":"LOOKUP($V165,Data!$A$6:$A$1806,Data!$H$6:$H$1806)","v":0},{"$f":"LOOKUP($V165,Data!$A$6:$A$1806,Data!$I$6:$I$1806)","v":0},{"$f":"IF(LOOKUP($V165,Data!$A$6:$A$1806,Data!$J$6:$J$1806)>0,(LOOKUP($V165,Data!$A$6:$A$1806,Data!$J$6:$J$1806)*-1),LOOKUP($V165,Data!$A$6:$A$1806,Data!$J$6:$J$1806))","v":-653},{"$f":"LOOKUP($V165,Data!$A$6:$A$1806,Data!$K$6:$K$1806)","v":30263.68359375},175.16693115234375,"T+172 sec",40679.339930555398,null,null,null,null,null,null,null,null,null,null,null,null,null,1850.9106714628297,2.6824951171875E-2," "]
["T+174 sec",40679.339953703544,{"$f":"LOOKUP(B166,Data!$A$6:$A$1806,Data!B$6:B$1806)","v":59.9735107421875},{"$f":"LOOKUP(B166,Data!$A$6:$A$1806,Data!C$6:C$1806)","v":0},null,null,19590,{"$f":"(IF((C166-L$2)>0,(IF(C166<'Copy Results'!$C$3,((C166-L$2-L$5)/((L$4*L$2)-L$5)*G166*-1),(('Copy Results'!$C$3-L$2-L$5)/((L$4*L$2)-L$5)*G166*-1))),IF(C166>'Copy Results'!$C$2,((C166-L$2+L$5)/((L$4*L$2)-L$5)*G166*-1),(('Copy Results'!$C$2-L$2+L$5)/((L$4*L$2)-L$5)*G166*-1))))","v":172.974853515625},189.94488307082261,null,null,-4.2636764883614982,292.95905134724035,{"$f":"AVERAGE(D$79:D166)","v":0},{"$f":"AVERAGE(M$79:M166)","v":770.79216250736215},105.00171611895777,{"$f":"AVERAGE(P$79:P166)","v":288.33980511850268},null,null,null,"T+174 sec",40679.339953703544,{"$f":"LOOKUP($V166,Data!$A$6:$A$1806,Data!$B$6:$B$1806)","v":59.9735107421875},{"$f":"LOOKUP($V166,Data!$A$6:$A$1806,Data!$C$6:$C$1806)","v":0},{"$f":"LOOKUP($V166,Data!$A$6:$A$1806,Data!$D$6:$D$1806)","v":0},{"$f":"IF($Z$1=\"+\",LOOKUP($V166,Data!$A$6:$A$1806,Data!$E$6:$E$1806)*-1,LOOKUP($V166,Data!$A$6:$A$1806,Data!$E$6:$E$1806))","v":0},{"$f":"LOOKUP($V166,Data!$A$6:$A$1806,Data!$F$6:$F$1806)","v":0},null,{"$f":"LOOKUP($V166,Data!$A$6:$A$1806,Data!$H$6:$H$1806)","v":0},{"$f":"LOOKUP($V166,Data!$A$6:$A$1806,Data!$I$6:$I$1806)","v":0},{"$f":"IF(LOOKUP($V166,Data!$A$6:$A$1806,Data!$J$6:$J$1806)>0,(LOOKUP($V166,Data!$A$6:$A$1806,Data!$J$6:$J$1806)*-1),LOOKUP($V166,Data!$A$6:$A$1806,Data!$J$6:$J$1806))","v":-653},{"$f":"LOOKUP($V166,Data!$A$6:$A$1806,Data!$K$6:$K$1806)","v":30263.68359375},172.974853515625,"T+174 sec",40679.339953703544,null,null,null,null,null,null,null,null,null,null,null,null,null,1875.6494532199272,2.64892578125E-2," "]
["T+176 sec",40679.33997685169,{"$f":"LOOKUP(B167,Data!$A$6:$A$1806,Data!B$6:B$1806)","v":59.972869873046875},{"$f":"LOOKUP(B167,Data!$A$6:$A$1806,Data!C$6:C$1806)","v":0},null,null,19590,{"$f":"(IF((C167-L$2)>0,(IF(C167<'Copy Results'!$C$3,((C167-L$2-L$5)/((L$4*L$2)-L$5)*G167*-1),(('Copy Results'!$C$3-L$2-L$5)/((L$4*L$2)-L$5)*G167*-1))),IF(C167>'Copy Results'!$C$2,((C167-L$2+L$5)/((L$4*L$2)-L$5)*G167*-1),(('Copy Results'!$C$2-L$2+L$5)/((L$4*L$2)-L$5)*G167*-1))))","v":177.15972900390625},185.47007914740189,null,null,-4.2636764883614982,284.22057093545811,{"$f":"AVERAGE(D$79:D167)","v":0},{"$f":"AVERAGE(M$79:M167)","v":765.32506597284646},100.73803963059628,{"$f":"AVERAGE(P$79:P167)","v":286.20796687432193},null,null,null,"T+176 sec",40679.33997685169,{"$f":"LOOKUP($V167,Data!$A$6:$A$1806,Data!$B$6:$B$1806)","v":59.972869873046875},{"$f":"LOOKUP($V167,Data!$A$6:$A$1806,Data!$C$6:$C$1806)","v":0},{"$f":"LOOKUP($V167,Data!$A$6:$A$1806,Data!$D$6:$D$1806)","v":0},{"$f":"IF($Z$1=\"+\",LOOKUP($V167,Data!$A$6:$A$1806,Data!$E$6:$E$1806)*-1,LOOKUP($V167,Data!$A$6:$A$1806,Data!$E$6:$E$1806))","v":0},{"$f":"LOOKUP($V167,Data!$A$6:$A$1806,Data!$F$6:$F$1806)","v":0},null,{"$f":"LOOKUP($V167,Data!$A$6:$A$1806,Data!$H$6:$H$1806)","v":0},{"$f":"LOOKUP($V167,Data!$A$6:$A$1806,Data!$I$6:$I$1806)","v":0},{"$f":"IF(LOOKUP($V167,Data!$A$6:$A$1806,Data!$J$6:$J$1806)>0,(LOOKUP($V167,Data!$A$6:$A$1806,Data!$J$6:$J$1806)*-1),LOOKUP($V167,Data!$A$6:$A$1806,Data!$J$6:$J$1806))","v":-653},{"$f":"LOOKUP($V167,Data!$A$6:$A$1806,Data!$K$6:$K$1806)","v":30263.68359375},177.15972900390625,"T+176 sec",40679.33997685169,null,null,null,null,null,null,null,null,null,null,null,null,null,1828.9804502369668,2.7130126953125E-2," "]
["T+178 sec",40679.339999999836,{"$f":"LOOKUP(B168,Data!$A$6:$A$1806,Data!B$6:B$1806)","v":59.9725341796875},{"$f":"LOOKUP(B168,Data!$A$6:$A$1806,Data!C$6:C$1806)","v":0},null,null,19590,{"$f":"(IF((C168-L$2)>0,(IF(C168<'Copy Results'!$C$3,((C168-L$2-L$5)/((L$4*L$2)-L$5)*G168*-1),(('Copy Results'!$C$3-L$2-L$5)/((L$4*L$2)-L$5)*G168*-1))),IF(C168>'Copy Results'!$C$2,((C168-L$2+L$5)/((L$4*L$2)-L$5)*G168*-1),(('Copy Results'!$C$2-L$2+L$5)/((L$4*L$2)-L$5)*G168*-1))))","v":179.351806640625},183.32868377002998,null,null,-4.2636764883614982,277.81549906972469,{"$f":"AVERAGE(D$79:D168)","v":0},{"$f":"AVERAGE(M$79:M168)","v":759.90829300725613},96.474363142234779,{"$f":"AVERAGE(P$79:P168)","v":284.07612863014117},null,null,null,"T+178 sec",40679.339999999836,{"$f":"LOOKUP($V168,Data!$A$6:$A$1806,Data!$B$6:$B$1806)","v":59.9725341796875},{"$f":"LOOKUP($V168,Data!$A$6:$A$1806,Data!$C$6:$C$1806)","v":0},{"$f":"LOOKUP($V168,Data!$A$6:$A$1806,Data!$D$6:$D$1806)","v":0},{"$f":"IF($Z$1=\"+\",LOOKUP($V168,Data!$A$6:$A$1806,Data!$E$6:$E$1806)*-1,LOOKUP($V168,Data!$A$6:$A$1806,Data!$E$6:$E$1806))","v":0},{"$f":"LOOKUP($V168,Data!$A$6:$A$1806,Data!$F$6:$F$1806)","v":0},null,{"$f":"LOOKUP($V168,Data!$A$6:$A$1806,Data!$H$6:$H$1806)","v":0},{"$f":"LOOKUP($V168,Data!$A$6:$A$1806,Data!$I$6:$I$1806)","v":0},{"$f":"IF(LOOKUP($V168,Data!$A$6:$A$1806,Data!$J$6:$J$1806)>0,(LOOKUP($V168,Data!$A$6:$A$1806,Data!$J$6:$J$1806)*-1),LOOKUP($V168,Data!$A$6:$A$1806,Data!$J$6:$J$1806))","v":-653},{"$f":"LOOKUP($V168,Data!$A$6:$A$1806,Data!$K$6:$K$1806)","v":30264.9609375},179.351806640625,"T+178 sec",40679.339999999836,null,null,null,null,null,null,null,null,null,null,null,null,null,1805.4497076023392,2.74658203125E-2," "]
["T+180 sec",40679.340023147983,{"$f":"LOOKUP(B169,Data!$A$6:$A$1806,Data!B$6:B$1806)","v":59.973175048828125},{"$f":"LOOKUP(B169,Data!$A$6:$A$1806,Data!C$6:C$1806)","v":0},null,null,19590,{"$f":"(IF((C169-L$2)>0,(IF(C169<'Copy Results'!$C$3,((C169-L$2-L$5)/((L$4*L$2)-L$5)*G169*-1),(('Copy Results'!$C$3-L$2-L$5)/((L$4*L$2)-L$5)*G169*-1))),IF(C169>'Copy Results'!$C$2,((C169-L$2+L$5)/((L$4*L$2)-L$5)*G169*-1),(('Copy Results'!$C$2-L$2+L$5)/((L$4*L$2)-L$5)*G169*-1))))","v":175.16693115234375},180.4720703538398,null,null,-4.2636764883614982,270.69520916517297,{"$f":"AVERAGE(D$79:D169)","v":0},{"$f":"AVERAGE(M$79:M169)","v":754.53232505294761},92.210686653873282,{"$f":"AVERAGE(P$79:P169)","v":281.94429038596041},null,null,null,"T+180 sec",40679.340023147983,{"$f":"LOOKUP($V169,Data!$A$6:$A$1806,Data!$B$6:$B$1806)","v":59.973175048828125},{"$f":"LOOKUP($V169,Data!$A$6:$A$1806,Data!$C$6:$C$1806)","v":0},{"$f":"LOOKUP($V169,Data!$A$6:$A$1806,Data!$D$6:$D$1806)","v":0},{"$f":"IF($Z$1=\"+\",LOOKUP($V169,Data!$A$6:$A$1806,Data!$E$6:$E$1806)*-1,LOOKUP($V169,Data!$A$6:$A$1806,Data!$E$6:$E$1806))","v":0},{"$f":"LOOKUP($V169,Data!$A$6:$A$1806,Data!$F$6:$F$1806)","v":0},null,{"$f":"LOOKUP($V169,Data!$A$6:$A$1806,Data!$H$6:$H$1806)","v":0},{"$f":"LOOKUP($V169,Data!$A$6:$A$1806,Data!$I$6:$I$1806)","v":0},{"$f":"IF(LOOKUP($V169,Data!$A$6:$A$1806,Data!$J$6:$J$1806)>0,(LOOKUP($V169,Data!$A$6:$A$1806,Data!$J$6:$J$1806)*-1),LOOKUP($V169,Data!$A$6:$A$1806,Data!$J$6:$J$1806))","v":-653},{"$f":"LOOKUP($V169,Data!$A$6:$A$1806,Data!$K$6:$K$1806)","v":30264.9609375},175.16693115234375,"T+180 sec",40679.340023147983,null,null,null,null,null,null,null,null,null,null,null,null,null,1850.9106714628297,2.6824951171875E-2," "]
[null,40679.340046296129,{"$f":"LOOKUP(B170,Data!$A$6:$A$1806,Data!B$6:B$1806)","v":59.974151611328125},{"$f":"LOOKUP(B170,Data!$A$6:$A$1806,Data!C$6:C$1806)","v":0},null,null,19590,{"$f":"(IF((C170-L$2)>0,(IF(C170<'Copy Results'!$C$3,((C170-L$2-L$5)/((L$4*L$2)-L$5)*G170*-1),(('Copy Results'!$C$3-L$2-L$5)/((L$4*L$2)-L$5)*G170*-1))),IF(C170>'Copy Results'!$C$2,((C170-L$2+L$5)/((L$4*L$2)-L$5)*G170*-1),(('Copy Results'!$C$2-L$2+L$5)/((L$4*L$2)-L$5)*G170*-1))))","v":168.78997802734375},176.38333803956618,null,null,-4.2636764883614982,262.34280036253784,{"$f":"AVERAGE(D$79:D170)","v":0},{"$f":"AVERAGE(M$79:M170)","v":749.18243891500845},87.947010165511784,{"$f":"AVERAGE(P$79:P170)","v":279.81245214177972},null,null,null,null,40679.340046296129,{"$f":"LOOKUP($V170,Data!$A$6:$A$1806,Data!$B$6:$B$1806)","v":59.974151611328125},{"$f":"LOOKUP($V170,Data!$A$6:$A$1806,Data!$C$6:$C$1806)","v":0},{"$f":"LOOKUP($V170,Data!$A$6:$A$1806,Data!$D$6:$D$1806)","v":0},{"$f":"IF($Z$1=\"+\",LOOKUP($V170,Data!$A$6:$A$1806,Data!$E$6:$E$1806)*-1,LOOKUP($V170,Data!$A$6:$A$1806,Data!$E$6:$E$1806))","v":0},{"$f":"LOOKUP($V170,Data!$A$6:$A$1806,Data!$F$6:$F$1806)","v":0},null,{"$f":"LOOKUP($V170,Data!$A$6:$A$1806,Data!$H$6:$H$1806)","v":0},{"$f":"LOOKUP($V170,Data!$A$6:$A$1806,Data!$I$6:$I$1806)","v":0},{"$f":"IF(LOOKUP($V170,Data!$A$6:$A$1806,Data!$J$6:$J$1806)>0,(LOOKUP($V170,Data!$A$6:$A$1806,Data!$J$6:$J$1806)*-1),LOOKUP($V170,Data!$A$6:$A$1806,Data!$J$6:$J$1806))","v":-653},{"$f":"LOOKUP($V170,Data!$A$6:$A$1806,Data!$K$6:$K$1806)","v":30264.9609375},168.78997802734375,null,null,null,null,null,null,null,null,null,null,null,null,null,null,null,1924.7624688279302,2.5848388671875E-2," "]
[null,40679.340069444275,{"$f":"LOOKUP(B171,Data!$A$6:$A$1806,Data!B$6:B$1806)","v":59.975433349609375},{"$f":"LOOKUP(B171,Data!$A$6:$A$1806,Data!C$6:C$1806)","v":0},null,null,19590,{"$f":"(IF((C171-L$2)>0,(IF(C171<'Copy Results'!$C$3,((C171-L$2-L$5)/((L$4*L$2)-L$5)*G171*-1),(('Copy Results'!$C$3-L$2-L$5)/((L$4*L$2)-L$5)*G171*-1))),IF(C171>'Copy Results'!$C$2,((C171-L$2+L$5)/((L$4*L$2)-L$5)*G171*-1),(('Copy Results'!$C$2-L$2+L$5)/((L$4*L$2)-L$5)*G171*-1))))","v":160.42022705078125},{"$f":"L$13*H171+(1-L$13)*I170","v":170.79624919349146},null,null,-4.2636764883614982,252.49203502810161,{"$f":"AVERAGE(D$79:D171)","v":0},{"$f":"AVERAGE(M$79:M171)","v":743.84168188396643},83.683333677150287,{"$f":"AVERAGE(P$79:P171)","v":277.6806138975989},null,null,null,null,40679.340069444275,{"$f":"LOOKUP($V171,Data!$A$6:$A$1806,Data!$B$6:$B$1806)","v":59.975433349609375},{"$f":"LOOKUP($V171,Data!$A$6:$A$1806,Data!$C$6:$C$1806)","v":0},{"$f":"LOOKUP($V171,Data!$A$6:$A$1806,Data!$D$6:$D$1806)","v":0},{"$f":"IF($Z$1=\"+\",LOOKUP($V171,Data!$A$6:$A$1806,Data!$E$6:$E$1806)*-1,LOOKUP($V171,Data!$A$6:$A$1806,Data!$E$6:$E$1806))","v":0},{"$f":"LOOKUP($V171,Data!$A$6:$A$1806,Data!$F$6:$F$1806)","v":0},null,{"$f":"LOOKUP($V171,Data!$A$6:$A$1806,Data!$H$6:$H$1806)","v":0},{"$f":"LOOKUP($V171,Data!$A$6:$A$1806,Data!$I$6:$I$1806)","v":0},{"$f":"IF(LOOKUP($V171,Data!$A$6:$A$1806,Data!$J$6:$J$1806)>0,(LOOKUP($V171,Data!$A$6:$A$1806,Data!$J$6:$J$1806)*-1),LOOKUP($V171,Data!$A$6:$A$1806,Data!$J$6:$J$1806))","v":-653},{"$f":"LOOKUP($V171,Data!$A$6:$A$1806,Data!$K$6:$K$1806)","v":30264.9609375},160.42022705078125,null,null,null,null,null,null,null,null,null,null,null,null,null,null,null,2031.1309210526315,2.4566650390625E-2," "]
[null,40679.340092592422,{"$f":"LOOKUP(B172,Data!$A$6:$A$1806,Data!B$6:B$1806)","v":59.97576904296875},{"$f":"LOOKUP(B172,Data!$A$6:$A$1806,Data!C$6:C$1806)","v":0},null,null,{"$f":"AE172*-M$4*10","v":19590},{"$f":"(IF((C172-L$2)>0,(IF(C172<'Copy Results'!$C$3,((C172-L$2-L$5)/((L$4*L$2)-L$5)*G172*-1),(('Copy Results'!$C$3-L$2-L$5)/((L$4*L$2)-L$5)*G172*-1))),IF(C172>'Copy Results'!$C$2,((C172-L$2+L$5)/((L$4*L$2)-L$5)*G172*-1),(('Copy Results'!$C$2-L$2+L$5)/((L$4*L$2)-L$5)*G172*-1))))","v":158.2281494140625},166.39741427069134,null,null,-4.2636764883614982,243.82952361693998,{"$f":"AVERAGE(D$79:D172)","v":0},{"$f":"AVERAGE(M$79:M172)","v":738.52240360452993},79.41965718878879,{"$f":"AVERAGE(P$79:P172)","v":275.54877565341815},null,null,null,null,40679.340092592422,{"$f":"LOOKUP($V172,Data!$A$6:$A$1806,Data!$B$6:$B$1806)","v":59.97576904296875},{"$f":"LOOKUP($V172,Data!$A$6:$A$1806,Data!$C$6:$C$1806)","v":0},{"$f":"LOOKUP($V172,Data!$A$6:$A$1806,Data!$D$6:$D$1806)","v":0},{"$f":"IF($Z$1=\"+\",LOOKUP($V172,Data!$A$6:$A$1806,Data!$E$6:$E$1806)*-1,LOOKUP($V172,Data!$A$6:$A$1806,Data!$E$6:$E$1806))","v":0},{"$f":"LOOKUP($V172,Data!$A$6:$A$1806,Data!$F$6:$F$1806)","v":0},null,{"$f":"LOOKUP($V172,Data!$A$6:$A$1806,Data!$H$6:$H$1806)","v":0},{"$f":"LOOKUP($V172,Data!$A$6:$A$1806,Data!$I$6:$I$1806)","v":0},{"$f":"IF(LOOKUP($V172,Data!$A$6:$A$1806,Data!$J$6:$J$1806)>0,(LOOKUP($V172,Data!$A$6:$A$1806,Data!$J$6:$J$1806)*-1),LOOKUP($V172,Data!$A$6:$A$1806,Data!$J$6:$J$1806))","v":-653},{"$f":"LOOKUP($V172,Data!$A$6:$A$1806,Data!$K$6:$K$1806)","v":30263.625},{"$f":"(IF((W172-$L$2)>0,((W172-$L$2-$L$5)/(($L$4*$L$2)-$L$5)*G172*-1),((W172-$L$2+$L$5)/(($L$4*$L$2)-$L$5)*G172*-1)))","v":158.2281494140625},null,null,null,null,null,null,null,null,null,null,null,null,null,null,null,2060.9606141522031,{"$f":"ABS(C172-60)","v":2.423095703125E-2},{"$f":"IF(AX172>0.036,AE172,\" \")","v":" "}]
[null,40679.340115740568,{"$f":"LOOKUP(B173,Data!$A$6:$A$1806,Data!B$6:B$1806)","v":59.976104736328125},{"$f":"LOOKUP(B173,Data!$A$6:$A$1806,Data!C$6:C$1806)","v":0},null,null,19590,{"$f":"(IF((C173-L$2)>0,(IF(C173<'Copy Results'!$C$3,((C173-L$2-L$5)/((L$4*L$2)-L$5)*G173*-1),(('Copy Results'!$C$3-L$2-L$5)/((L$4*L$2)-L$5)*G173*-1))),IF(C173>'Copy Results'!$C$2,((C173-L$2+L$5)/((L$4*L$2)-L$5)*G173*-1),(('Copy Results'!$C$2-L$2+L$5)/((L$4*L$2)-L$5)*G173*-1))))","v":156.03607177734375},162.77094439801971,null,null,-4.2636764883614982,235.93937725590683,{"$f":"AVERAGE(D$79:D173)","v":0},{"$f":"AVERAGE(M$79:M173)","v":733.23205595875504},75.155980700427293,{"$f":"AVERAGE(P$79:P173)","v":273.41693740923739},null,null,null,null,40679.340115740568,{"$f":"LOOKUP($V173,Data!$A$6:$A$1806,Data!$B$6:$B$1806)","v":59.976104736328125},{"$f":"LOOKUP($V173,Data!$A$6:$A$1806,Data!$C$6:$C$1806)","v":0},{"$f":"LOOKUP($V173,Data!$A$6:$A$1806,Data!$D$6:$D$1806)","v":0},{"$f":"IF($Z$1=\"+\",LOOKUP($V173,Data!$A$6:$A$1806,Data!$E$6:$E$1806)*-1,LOOKUP($V173,Data!$A$6:$A$1806,Data!$E$6:$E$1806))","v":0},{"$f":"LOOKUP($V173,Data!$A$6:$A$1806,Data!$F$6:$F$1806)","v":0},null,{"$f":"LOOKUP($V173,Data!$A$6:$A$1806,Data!$H$6:$H$1806)","v":0},{"$f":"LOOKUP($V173,Data!$A$6:$A$1806,Data!$I$6:$I$1806)","v":0},{"$f":"IF(LOOKUP($V173,Data!$A$6:$A$1806,Data!$J$6:$J$1806)>0,(LOOKUP($V173,Data!$A$6:$A$1806,Data!$J$6:$J$1806)*-1),LOOKUP($V173,Data!$A$6:$A$1806,Data!$J$6:$J$1806))","v":-653},{"$f":"LOOKUP($V173,Data!$A$6:$A$1806,Data!$K$6:$K$1806)","v":30263.625},156.03607177734375,null,null,null,null,null,null,null,null,null,null,null,null,null,null,null,2091.6795392953932,2.3895263671875E-2," "]
[null,{"$f":"B173+TIME(0,0,$B$1)","v":40679.340138888714},{"$f":"LOOKUP(B174,Data!$A$6:$A$1806,Data!B$6:B$1806)","v":59.97674560546875},{"$f":"LOOKUP(B174,Data!$A$6:$A$1806,Data!C$6:C$1806)","v":0},null,null,19590,{"$f":"(IF((C174-L$2)>0,(IF(C174<'Copy Results'!$C$3,((C174-L$2-L$5)/((L$4*L$2)-L$5)*G174*-1),(('Copy Results'!$C$3-L$2-L$5)/((L$4*L$2)-L$5)*G174*-1))),IF(C174>'Copy Results'!$C$2,((C174-L$2+L$5)/((L$4*L$2)-L$5)*G174*-1),(('Copy Results'!$C$2-L$2+L$5)/((L$4*L$2)-L$5)*G174*-1))))","v":151.8511962890625},158.9490325598847,null,null,-4.2636764883614982,227.85378892941031,{"$f":"AVERAGE(D$79:D174)","v":0},{"$f":"AVERAGE(M$79:M174)","v":727.96769901053267},70.892304212065795,{"$f":"AVERAGE(P$79:P174)","v":271.28509916505664},null,null,null,null,40679.340138888714,{"$f":"LOOKUP($V174,Data!$A$6:$A$1806,Data!$B$6:$B$1806)","v":59.97674560546875},{"$f":"LOOKUP($V174,Data!$A$6:$A$1806,Data!$C$6:$C$1806)","v":0},{"$f":"LOOKUP($V174,Data!$A$6:$A$1806,Data!$D$6:$D$1806)","v":0},{"$f":"IF($Z$1=\"+\",LOOKUP($V174,Data!$A$6:$A$1806,Data!$E$6:$E$1806)*-1,LOOKUP($V174,Data!$A$6:$A$1806,Data!$E$6:$E$1806))","v":0},{"$f":"LOOKUP($V174,Data!$A$6:$A$1806,Data!$F$6:$F$1806)","v":0},null,{"$f":"LOOKUP($V174,Data!$A$6:$A$1806,Data!$H$6:$H$1806)","v":0},{"$f":"LOOKUP($V174,Data!$A$6:$A$1806,Data!$I$6:$I$1806)","v":0},{"$f":"IF(LOOKUP($V174,Data!$A$6:$A$1806,Data!$J$6:$J$1806)>0,(LOOKUP($V174,Data!$A$6:$A$1806,Data!$J$6:$J$1806)*-1),LOOKUP($V174,Data!$A$6:$A$1806,Data!$J$6:$J$1806))","v":-653},{"$f":"LOOKUP($V174,Data!$A$6:$A$1806,Data!$K$6:$K$1806)","v":30279.388671875},151.8511962890625,null,null,null,null,null,null,null,null,null,null,null,null,null,null,null,2152.9421199442122,2.325439453125E-2," "]
[null,40679.34016203686,{"$f":"LOOKUP(B175,Data!$A$6:$A$1806,Data!B$6:B$1806)","v":59.97802734375},{"$f":"LOOKUP(B175,Data!$A$6:$A$1806,Data!C$6:C$1806)","v":0},null,null,19590,{"$f":"(IF((C175-L$2)>0,(IF(C175<'Copy Results'!$C$3,((C175-L$2-L$5)/((L$4*L$2)-L$5)*G175*-1),(('Copy Results'!$C$3-L$2-L$5)/((L$4*L$2)-L$5)*G175*-1))),IF(C175>'Copy Results'!$C$2,((C175-L$2+L$5)/((L$4*L$2)-L$5)*G175*-1),(('Copy Results'!$C$2-L$2+L$5)/((L$4*L$2)-L$5)*G175*-1))))","v":143.4814453125},153.53537702330004,null,null,-4.2636764883614982,218.17645690446415,{"$f":"AVERAGE(D$79:D175)","v":0},{"$f":"AVERAGE(M$79:M175)","v":722.71211919500615},66.628627723704298,{"$f":"AVERAGE(P$79:P175)","v":269.15326092087588},null,null,null,null,40679.34016203686,{"$f":"LOOKUP($V175,Data!$A$6:$A$1806,Data!$B$6:$B$1806)","v":59.97802734375},{"$f":"LOOKUP($V175,Data!$A$6:$A$1806,Data!$C$6:$C$1806)","v":0},{"$f":"LOOKUP($V175,Data!$A$6:$A$1806,Data!$D$6:$D$1806)","v":0},{"$f":"IF($Z$1=\"+\",LOOKUP($V175,Data!$A$6:$A$1806,Data!$E$6:$E$1806)*-1,LOOKUP($V175,Data!$A$6:$A$1806,Data!$E$6:$E$1806))","v":0},{"$f":"LOOKUP($V175,Data!$A$6:$A$1806,Data!$F$6:$F$1806)","v":0},null,{"$f":"LOOKUP($V175,Data!$A$6:$A$1806,Data!$H$6:$H$1806)","v":0},{"$f":"LOOKUP($V175,Data!$A$6:$A$1806,Data!$I$6:$I$1806)","v":0},{"$f":"IF(LOOKUP($V175,Data!$A$6:$A$1806,Data!$J$6:$J$1806)>0,(LOOKUP($V175,Data!$A$6:$A$1806,Data!$J$6:$J$1806)*-1),LOOKUP($V175,Data!$A$6:$A$1806,Data!$J$6:$J$1806))","v":-653},{"$f":"LOOKUP($V175,Data!$A$6:$A$1806,Data!$K$6:$K$1806)","v":30279.388671875},143.4814453125,null,null,null,null,null,null,null,null,null,null,null,null,null,null,null,2286.9029629629631,2.197265625E-2," "]
[null,40679.340185185007,{"$f":"LOOKUP(B176,Data!$A$6:$A$1806,Data!B$6:B$1806)","v":59.97930908203125},{"$f":"LOOKUP(B176,Data!$A$6:$A$1806,Data!C$6:C$1806)","v":0},null,null,19590,{"$f":"(IF((C176-L$2)>0,(IF(C176<'Copy Results'!$C$3,((C176-L$2-L$5)/((L$4*L$2)-L$5)*G176*-1),(('Copy Results'!$C$3-L$2-L$5)/((L$4*L$2)-L$5)*G176*-1))),IF(C176>'Copy Results'!$C$2,((C176-L$2+L$5)/((L$4*L$2)-L$5)*G176*-1),(('Copy Results'!$C$2-L$2+L$5)/((L$4*L$2)-L$5)*G176*-1))))","v":135.1116943359375},147.08708808272314,null,null,-4.2636764883614982,207.46449147552573,{"$f":"AVERAGE(D$79:D176)","v":0},{"$f":"AVERAGE(M$79:M176)","v":717.45449034072567},62.364951235342801,{"$f":"AVERAGE(P$79:P176)","v":267.02142267669518},null,null,null,null,40679.340185185007,{"$f":"LOOKUP($V176,Data!$A$6:$A$1806,Data!$B$6:$B$1806)","v":59.97930908203125},{"$f":"LOOKUP($V176,Data!$A$6:$A$1806,Data!$C$6:$C$1806)","v":0},{"$f":"LOOKUP($V176,Data!$A$6:$A$1806,Data!$D$6:$D$1806)","v":0},{"$f":"IF($Z$1=\"+\",LOOKUP($V176,Data!$A$6:$A$1806,Data!$E$6:$E$1806)*-1,LOOKUP($V176,Data!$A$6:$A$1806,Data!$E$6:$E$1806))","v":0},{"$f":"LOOKUP($V176,Data!$A$6:$A$1806,Data!$F$6:$F$1806)","v":0},null,{"$f":"LOOKUP($V176,Data!$A$6:$A$1806,Data!$H$6:$H$1806)","v":0},{"$f":"LOOKUP($V176,Data!$A$6:$A$1806,Data!$I$6:$I$1806)","v":0},{"$f":"IF(LOOKUP($V176,Data!$A$6:$A$1806,Data!$J$6:$J$1806)>0,(LOOKUP($V176,Data!$A$6:$A$1806,Data!$J$6:$J$1806)*-1),LOOKUP($V176,Data!$A$6:$A$1806,Data!$J$6:$J$1806))","v":-653},{"$f":"LOOKUP($V176,Data!$A$6:$A$1806,Data!$K$6:$K$1806)","v":30279.388671875},135.1116943359375,null,null,null,null,null,null,null,null,null,null,null,null,null,null,null,2438.6406003159559,2.069091796875E-2," "]
[null,40679.340208333153,{"$f":"LOOKUP(B177,Data!$A$6:$A$1806,Data!B$6:B$1806)","v":59.97998046875},{"$f":"LOOKUP(B177,Data!$A$6:$A$1806,Data!C$6:C$1806)","v":0},null,null,19590,{"$f":"(IF((C177-L$2)>0,(IF(C177<'Copy Results'!$C$3,((C177-L$2-L$5)/((L$4*L$2)-L$5)*G177*-1),(('Copy Results'!$C$3-L$2-L$5)/((L$4*L$2)-L$5)*G177*-1))),IF(C177>'Copy Results'!$C$2,((C177-L$2+L$5)/((L$4*L$2)-L$5)*G177*-1),(('Copy Results'!$C$2-L$2+L$5)/((L$4*L$2)-L$5)*G177*-1))))","v":130.7275390625},141.36124592564505,null,null,-4.2636764883614982,197.47497283008613,{"$f":"AVERAGE(D$79:D177)","v":0},{"$f":"AVERAGE(M$79:M177)","v":712.20217198203227},58.101274746981304,{"$f":"AVERAGE(P$79:P177)","v":264.88958443251443},null,null,null,null,40679.340208333153,{"$f":"LOOKUP($V177,Data!$A$6:$A$1806,Data!$B$6:$B$1806)","v":59.97998046875},{"$f":"LOOKUP($V177,Data!$A$6:$A$1806,Data!$C$6:$C$1806)","v":0},{"$f":"LOOKUP($V177,Data!$A$6:$A$1806,Data!$D$6:$D$1806)","v":0},{"$f":"IF($Z$1=\"+\",LOOKUP($V177,Data!$A$6:$A$1806,Data!$E$6:$E$1806)*-1,LOOKUP($V177,Data!$A$6:$A$1806,Data!$E$6:$E$1806))","v":0},{"$f":"LOOKUP($V177,Data!$A$6:$A$1806,Data!$F$6:$F$1806)","v":0},null,{"$f":"LOOKUP($V177,Data!$A$6:$A$1806,Data!$H$6:$H$1806)","v":0},{"$f":"LOOKUP($V177,Data!$A$6:$A$1806,Data!$I$6:$I$1806)","v":0},{"$f":"IF(LOOKUP($V177,Data!$A$6:$A$1806,Data!$J$6:$J$1806)>0,(LOOKUP($V177,Data!$A$6:$A$1806,Data!$J$6:$J$1806)*-1),LOOKUP($V177,Data!$A$6:$A$1806,Data!$J$6:$J$1806))","v":-653},{"$f":"LOOKUP($V177,Data!$A$6:$A$1806,Data!$K$6:$K$1806)","v":30279.388671875},130.7275390625,null,null,null,null,null,null,null,null,null,null,null,null,null,null,null,2526.4476268412441,2.001953125E-2," "]
[null,40679.340231481299,{"$f":"LOOKUP(B178,Data!$A$6:$A$1806,Data!B$6:B$1806)","v":59.979644775390625},{"$f":"LOOKUP(B178,Data!$A$6:$A$1806,Data!C$6:C$1806)","v":0},null,null,19590,{"$f":"(IF((C178-L$2)>0,(IF(C178<'Copy Results'!$C$3,((C178-L$2-L$5)/((L$4*L$2)-L$5)*G178*-1),(('Copy Results'!$C$3-L$2-L$5)/((L$4*L$2)-L$5)*G178*-1))),IF(C178>'Copy Results'!$C$2,((C178-L$2+L$5)/((L$4*L$2)-L$5)*G178*-1),(('Copy Results'!$C$2-L$2+L$5)/((L$4*L$2)-L$5)*G178*-1))))","v":132.91961669921875},138.40667569639584,null,null,-4.2636764883614982,190.25672611247541,{"$f":"AVERAGE(D$79:D178)","v":0},{"$f":"AVERAGE(M$79:M178)","v":706.98271752333676},53.837598258619806,{"$f":"AVERAGE(P$79:P178)","v":262.75774618833367},null,null,null,null,40679.340231481299,{"$f":"LOOKUP($V178,Data!$A$6:$A$1806,Data!$B$6:$B$1806)","v":59.979644775390625},{"$f":"LOOKUP($V178,Data!$A$6:$A$1806,Data!$C$6:$C$1806)","v":0},{"$f":"LOOKUP($V178,Data!$A$6:$A$1806,Data!$D$6:$D$1806)","v":0},{"$f":"IF($Z$1=\"+\",LOOKUP($V178,Data!$A$6:$A$1806,Data!$E$6:$E$1806)*-1,LOOKUP($V178,Data!$A$6:$A$1806,Data!$E$6:$E$1806))","v":0},{"$f":"LOOKUP($V178,Data!$A$6:$A$1806,Data!$F$6:$F$1806)","v":0},null,{"$f":"LOOKUP($V178,Data!$A$6:$A$1806,Data!$H$6:$H$1806)","v":0},{"$f":"LOOKUP($V178,Data!$A$6:$A$1806,Data!$I$6:$I$1806)","v":0},{"$f":"IF(LOOKUP($V178,Data!$A$6:$A$1806,Data!$J$6:$J$1806)>0,(LOOKUP($V178,Data!$A$6:$A$1806,Data!$J$6:$J$1806)*-1),LOOKUP($V178,Data!$A$6:$A$1806,Data!$J$6:$J$1806))","v":-653},{"$f":"LOOKUP($V178,Data!$A$6:$A$1806,Data!$K$6:$K$1806)","v":30255.318359375},132.91961669921875,null,null,null,null,null,null,null,null,null,null,null,null,null,null,null,2481.7676848874598,2.0355224609375E-2," "]
[null,40679.340254629446,{"$f":"LOOKUP(B179,Data!$A$6:$A$1806,Data!B$6:B$1806)","v":59.97900390625},{"$f":"LOOKUP(B179,Data!$A$6:$A$1806,Data!C$6:C$1806)","v":0},null,null,19590,{"$f":"(IF((C179-L$2)>0,(IF(C179<'Copy Results'!$C$3,((C179-L$2-L$5)/((L$4*L$2)-L$5)*G179*-1),(('Copy Results'!$C$3-L$2-L$5)/((L$4*L$2)-L$5)*G179*-1))),IF(C179>'Copy Results'!$C$2,((C179-L$2+L$5)/((L$4*L$2)-L$5)*G179*-1),(('Copy Results'!$C$2-L$2+L$5)/((L$4*L$2)-L$5)*G179*-1))))","v":137.1044921875},137.9509114682823,null,null,-4.2636764883614982,185.53728539600036,{"$f":"AVERAGE(D$79:D179)","v":0},{"$f":"AVERAGE(M$79:M179)","v":701.81989146267006},49.573921770258309,{"$f":"AVERAGE(P$79:P179)","v":260.62590794415291},null,null,null,null,40679.340254629446,{"$f":"LOOKUP($V179,Data!$A$6:$A$1806,Data!$B$6:$B$1806)","v":59.97900390625},{"$f":"LOOKUP($V179,Data!$A$6:$A$1806,Data!$C$6:$C$1806)","v":0},{"$f":"LOOKUP($V179,Data!$A$6:$A$1806,Data!$D$6:$D$1806)","v":0},{"$f":"IF($Z$1=\"+\",LOOKUP($V179,Data!$A$6:$A$1806,Data!$E$6:$E$1806)*-1,LOOKUP($V179,Data!$A$6:$A$1806,Data!$E$6:$E$1806))","v":0},{"$f":"LOOKUP($V179,Data!$A$6:$A$1806,Data!$F$6:$F$1806)","v":0},null,{"$f":"LOOKUP($V179,Data!$A$6:$A$1806,Data!$H$6:$H$1806)","v":0},{"$f":"LOOKUP($V179,Data!$A$6:$A$1806,Data!$I$6:$I$1806)","v":0},{"$f":"IF(LOOKUP($V179,Data!$A$6:$A$1806,Data!$J$6:$J$1806)>0,(LOOKUP($V179,Data!$A$6:$A$1806,Data!$J$6:$J$1806)*-1),LOOKUP($V179,Data!$A$6:$A$1806,Data!$J$6:$J$1806))","v":-653},{"$f":"LOOKUP($V179,Data!$A$6:$A$1806,Data!$K$6:$K$1806)","v":30255.318359375},137.1044921875,null,null,null,null,null,null,null,null,null,null,null,null,null,null,null,2400.7146189735613,2.099609375E-2," "]
[null,40679.340277777592,{"$f":"LOOKUP(B180,Data!$A$6:$A$1806,Data!B$6:B$1806)","v":59.979644775390625},{"$f":"LOOKUP(B180,Data!$A$6:$A$1806,Data!C$6:C$1806)","v":0},null,null,19590,{"$f":"(IF((C180-L$2)>0,(IF(C180<'Copy Results'!$C$3,((C180-L$2-L$5)/((L$4*L$2)-L$5)*G180*-1),(('Copy Results'!$C$3-L$2-L$5)/((L$4*L$2)-L$5)*G180*-1))),IF(C180>'Copy Results'!$C$2,((C180-L$2+L$5)/((L$4*L$2)-L$5)*G180*-1),(('Copy Results'!$C$2-L$2+L$5)/((L$4*L$2)-L$5)*G180*-1))))","v":132.91961669921875},136.18995829911006,null,null,-4.2636764883614982,179.51265573846661,{"$f":"AVERAGE(D$79:D180)","v":0},{"$f":"AVERAGE(M$79:M180)","v":696.69923228890332},45.310245281896812,{"$f":"AVERAGE(P$79:P180)","v":258.49406969997216},null,null,null,null,40679.340277777592,{"$f":"LOOKUP($V180,Data!$A$6:$A$1806,Data!$B$6:$B$1806)","v":59.979644775390625},{"$f":"LOOKUP($V180,Data!$A$6:$A$1806,Data!$C$6:$C$1806)","v":0},{"$f":"LOOKUP($V180,Data!$A$6:$A$1806,Data!$D$6:$D$1806)","v":0},{"$f":"IF($Z$1=\"+\",LOOKUP($V180,Data!$A$6:$A$1806,Data!$E$6:$E$1806)*-1,LOOKUP($V180,Data!$A$6:$A$1806,Data!$E$6:$E$1806))","v":0},{"$f":"LOOKUP($V180,Data!$A$6:$A$1806,Data!$F$6:$F$1806)","v":0},null,{"$f":"LOOKUP($V180,Data!$A$6:$A$1806,Data!$H$6:$H$1806)","v":0},{"$f":"LOOKUP($V180,Data!$A$6:$A$1806,Data!$I$6:$I$1806)","v":0},{"$f":"IF(LOOKUP($V180,Data!$A$6:$A$1806,Data!$J$6:$J$1806)>0,(LOOKUP($V180,Data!$A$6:$A$1806,Data!$J$6:$J$1806)*-1),LOOKUP($V180,Data!$A$6:$A$1806,Data!$J$6:$J$1806))","v":-653},{"$f":"LOOKUP($V180,Data!$A$6:$A$1806,Data!$K$6:$K$1806)","v":30255.318359375},132.91961669921875,null,null,null,null,null,null,null,null,null,null,null,null,null,null,null,2481.7676848874598,2.0355224609375E-2," "]
[null,40679.340300925738,{"$f":"LOOKUP(B181,Data!$A$6:$A$1806,Data!B$6:B$1806)","v":59.980926513671875},{"$f":"LOOKUP(B181,Data!$A$6:$A$1806,Data!C$6:C$1806)","v":0},null,null,19590,{"$f":"(IF((C181-L$2)>0,(IF(C181<'Copy Results'!$C$3,((C181-L$2-L$5)/((L$4*L$2)-L$5)*G181*-1),(('Copy Results'!$C$3-L$2-L$5)/((L$4*L$2)-L$5)*G181*-1))),IF(C181>'Copy Results'!$C$2,((C181-L$2+L$5)/((L$4*L$2)-L$5)*G181*-1),(('Copy Results'!$C$2-L$2+L$5)/((L$4*L$2)-L$5)*G181*-1))))","v":124.54986572265625},132.11592589735125,null,null,-4.2636764883614982,171.17494684834628,{"$f":"AVERAGE(D$79:D181)","v":0},{"$f":"AVERAGE(M$79:M181)","v":691.59705476035424},41.046568793535315,{"$f":"AVERAGE(P$79:P181)","v":256.3622314557914},null,null,null,null,40679.340300925738,{"$f":"LOOKUP($V181,Data!$A$6:$A$1806,Data!$B$6:$B$1806)","v":59.980926513671875},{"$f":"LOOKUP($V181,Data!$A$6:$A$1806,Data!$C$6:$C$1806)","v":0},{"$f":"LOOKUP($V181,Data!$A$6:$A$1806,Data!$D$6:$D$1806)","v":0},{"$f":"IF($Z$1=\"+\",LOOKUP($V181,Data!$A$6:$A$1806,Data!$E$6:$E$1806)*-1,LOOKUP($V181,Data!$A$6:$A$1806,Data!$E$6:$E$1806))","v":0},{"$f":"LOOKUP($V181,Data!$A$6:$A$1806,Data!$F$6:$F$1806)","v":0},null,{"$f":"LOOKUP($V181,Data!$A$6:$A$1806,Data!$H$6:$H$1806)","v":0},{"$f":"LOOKUP($V181,Data!$A$6:$A$1806,Data!$I$6:$I$1806)","v":0},{"$f":"IF(LOOKUP($V181,Data!$A$6:$A$1806,Data!$J$6:$J$1806)>0,(LOOKUP($V181,Data!$A$6:$A$1806,Data!$J$6:$J$1806)*-1),LOOKUP($V181,Data!$A$6:$A$1806,Data!$J$6:$J$1806))","v":-653},{"$f":"LOOKUP($V181,Data!$A$6:$A$1806,Data!$K$6:$K$1806)","v":30255.318359375},124.54986572265625,null,null,null,null,null,null,null,null,null,null,null,null,null,null,null,2661.4818965517243,1.9073486328125E-2," "]
[null,40679.340324073884,{"$f":"LOOKUP(B182,Data!$A$6:$A$1806,Data!B$6:B$1806)","v":59.98223876953125},{"$f":"LOOKUP(B182,Data!$A$6:$A$1806,Data!C$6:C$1806)","v":0},null,null,19590,{"$f":"(IF((C182-L$2)>0,(IF(C182<'Copy Results'!$C$3,((C182-L$2-L$5)/((L$4*L$2)-L$5)*G182*-1),(('Copy Results'!$C$3-L$2-L$5)/((L$4*L$2)-L$5)*G182*-1))),IF(C182>'Copy Results'!$C$2,((C182-L$2+L$5)/((L$4*L$2)-L$5)*G182*-1),(('Copy Results'!$C$2-L$2+L$5)/((L$4*L$2)-L$5)*G182*-1))))","v":115.9808349609375},126.46864406960644,null,null,-4.2636764883614982,161.26398853223998,{"$f":"AVERAGE(D$79:D182)","v":0},{"$f":"AVERAGE(M$79:M182)","v":686.49769835431471},36.782892305173817,{"$f":"AVERAGE(P$79:P182)","v":254.23039321161065},null,null,null,null,40679.340324073884,{"$f":"LOOKUP($V182,Data!$A$6:$A$1806,Data!$B$6:$B$1806)","v":59.98223876953125},{"$f":"LOOKUP($V182,Data!$A$6:$A$1806,Data!$C$6:$C$1806)","v":0},{"$f":"LOOKUP($V182,Data!$A$6:$A$1806,Data!$D$6:$D$1806)","v":0},{"$f":"IF($Z$1=\"+\",LOOKUP($V182,Data!$A$6:$A$1806,Data!$E$6:$E$1806)*-1,LOOKUP($V182,Data!$A$6:$A$1806,Data!$E$6:$E$1806))","v":0},{"$f":"LOOKUP($V182,Data!$A$6:$A$1806,Data!$F$6:$F$1806)","v":0},null,{"$f":"LOOKUP($V182,Data!$A$6:$A$1806,Data!$H$6:$H$1806)","v":0},{"$f":"LOOKUP($V182,Data!$A$6:$A$1806,Data!$I$6:$I$1806)","v":0},{"$f":"IF(LOOKUP($V182,Data!$A$6:$A$1806,Data!$J$6:$J$1806)>0,(LOOKUP($V182,Data!$A$6:$A$1806,Data!$J$6:$J$1806)*-1),LOOKUP($V182,Data!$A$6:$A$1806,Data!$J$6:$J$1806))","v":-653},{"$f":"LOOKUP($V182,Data!$A$6:$A$1806,Data!$K$6:$K$1806)","v":30260.673828125},115.9808349609375,null,null,null,null,null,null,null,null,null,null,null,null,null,null,null,2874.5986964618251,1.776123046875E-2," "]
[null,40679.340347222031,{"$f":"LOOKUP(B183,Data!$A$6:$A$1806,Data!B$6:B$1806)","v":59.983856201171875},{"$f":"LOOKUP(B183,Data!$A$6:$A$1806,Data!C$6:C$1806)","v":0},null,null,19590,{"$f":"(IF((C183-L$2)>0,(IF(C183<'Copy Results'!$C$3,((C183-L$2-L$5)/((L$4*L$2)-L$5)*G183*-1),(('Copy Results'!$C$3-L$2-L$5)/((L$4*L$2)-L$5)*G183*-1))),IF(C183>'Copy Results'!$C$2,((C183-L$2+L$5)/((L$4*L$2)-L$5)*G183*-1),(('Copy Results'!$C$2-L$2+L$5)/((L$4*L$2)-L$5)*G183*-1))))","v":105.41900634765625},119.10127086692388,null,null,-4.2636764883614982,149.63293884119591,{"$f":"AVERAGE(D$79:D183)","v":0},{"$f":"AVERAGE(M$79:M183)","v":681.38470064466594},32.51921581681232,{"$f":"AVERAGE(P$79:P183)","v":252.09855496742992},null,null,null,null,40679.340347222031,{"$f":"LOOKUP($V183,Data!$A$6:$A$1806,Data!$B$6:$B$1806)","v":59.983856201171875},{"$f":"LOOKUP($V183,Data!$A$6:$A$1806,Data!$C$6:$C$1806)","v":0},{"$f":"LOOKUP($V183,Data!$A$6:$A$1806,Data!$D$6:$D$1806)","v":0},{"$f":"IF($Z$1=\"+\",LOOKUP($V183,Data!$A$6:$A$1806,Data!$E$6:$E$1806)*-1,LOOKUP($V183,Data!$A$6:$A$1806,Data!$E$6:$E$1806))","v":0},{"$f":"LOOKUP($V183,Data!$A$6:$A$1806,Data!$F$6:$F$1806)","v":0},null,{"$f":"LOOKUP($V183,Data!$A$6:$A$1806,Data!$H$6:$H$1806)","v":0},{"$f":"LOOKUP($V183,Data!$A$6:$A$1806,Data!$I$6:$I$1806)","v":0},{"$f":"IF(LOOKUP($V183,Data!$A$6:$A$1806,Data!$J$6:$J$1806)>0,(LOOKUP($V183,Data!$A$6:$A$1806,Data!$J$6:$J$1806)*-1),LOOKUP($V183,Data!$A$6:$A$1806,Data!$J$6:$J$1806))","v":-653},{"$f":"LOOKUP($V183,Data!$A$6:$A$1806,Data!$K$6:$K$1806)","v":30260.673828125},105.41900634765625,null,null,null,null,null,null,null,null,null,null,null,null,null,null,null,3189.379132231405,1.6143798828125E-2," "]
[null,40679.340370370177,{"$f":"LOOKUP(B184,Data!$A$6:$A$1806,Data!B$6:B$1806)","v":59.985137939453125},{"$f":"LOOKUP(B184,Data!$A$6:$A$1806,Data!C$6:C$1806)","v":0},null,null,19590,{"$f":"(IF((C184-L$2)>0,(IF(C184<'Copy Results'!$C$3,((C184-L$2-L$5)/((L$4*L$2)-L$5)*G184*-1),(('Copy Results'!$C$3-L$2-L$5)/((L$4*L$2)-L$5)*G184*-1))),IF(C184>'Copy Results'!$C$2,((C184-L$2+L$5)/((L$4*L$2)-L$5)*G184*-1),(('Copy Results'!$C$2-L$2+L$5)/((L$4*L$2)-L$5)*G184*-1))))","v":97.04925537109375},111.38306544338334,null,null,-4.2636764883614982,137.65105692929387,{"$f":"AVERAGE(D$79:D184)","v":0},{"$f":"AVERAGE(M$79:M184)","v":676.25513796810583},28.255539328450823,{"$f":"AVERAGE(P$79:P184)","v":249.96671672324914},null,null,null,null,40679.340370370177,{"$f":"LOOKUP($V184,Data!$A$6:$A$1806,Data!$B$6:$B$1806)","v":59.985137939453125},{"$f":"LOOKUP($V184,Data!$A$6:$A$1806,Data!$C$6:$C$1806)","v":0},{"$f":"LOOKUP($V184,Data!$A$6:$A$1806,Data!$D$6:$D$1806)","v":0},{"$f":"IF($Z$1=\"+\",LOOKUP($V184,Data!$A$6:$A$1806,Data!$E$6:$E$1806)*-1,LOOKUP($V184,Data!$A$6:$A$1806,Data!$E$6:$E$1806))","v":0},{"$f":"LOOKUP($V184,Data!$A$6:$A$1806,Data!$F$6:$F$1806)","v":0},null,{"$f":"LOOKUP($V184,Data!$A$6:$A$1806,Data!$H$6:$H$1806)","v":0},{"$f":"LOOKUP($V184,Data!$A$6:$A$1806,Data!$I$6:$I$1806)","v":0},{"$f":"IF(LOOKUP($V184,Data!$A$6:$A$1806,Data!$J$6:$J$1806)>0,(LOOKUP($V184,Data!$A$6:$A$1806,Data!$J$6:$J$1806)*-1),LOOKUP($V184,Data!$A$6:$A$1806,Data!$J$6:$J$1806))","v":-653},{"$f":"LOOKUP($V184,Data!$A$6:$A$1806,Data!$K$6:$K$1806)","v":30259.9921875},97.04925537109375,null,null,null,null,null,null,null,null,null,null,null,null,null,null,null,3492.4423076923076,1.4862060546875E-2," "]
[null,40679.340393518323,{"$f":"LOOKUP(B185,Data!$A$6:$A$1806,Data!B$6:B$1806)","v":59.98773193359375},{"$f":"LOOKUP(B185,Data!$A$6:$A$1806,Data!C$6:C$1806)","v":0},null,null,19590,{"$f":"(IF((C185-L$2)>0,(IF(C185<'Copy Results'!$C$3,((C185-L$2-L$5)/((L$4*L$2)-L$5)*G185*-1),(('Copy Results'!$C$3-L$2-L$5)/((L$4*L$2)-L$5)*G185*-1))),IF(C185>'Copy Results'!$C$2,((C185-L$2+L$5)/((L$4*L$2)-L$5)*G185*-1),(('Copy Results'!$C$2-L$2+L$5)/((L$4*L$2)-L$5)*G185*-1))))","v":80.1104736328125},100.43765830968356,null,null,-4.2636764883614982,122.44197330723257,{"$f":"AVERAGE(D$79:D185)","v":0},{"$f":"AVERAGE(M$79:M185)","v":671.0793139993126},23.991862840089325,{"$f":"AVERAGE(P$79:P185)","v":247.83487847906838},null,null,null,null,40679.340393518323,{"$f":"LOOKUP($V185,Data!$A$6:$A$1806,Data!$B$6:$B$1806)","v":59.98773193359375},{"$f":"LOOKUP($V185,Data!$A$6:$A$1806,Data!$C$6:$C$1806)","v":0},{"$f":"LOOKUP($V185,Data!$A$6:$A$1806,Data!$D$6:$D$1806)","v":0},{"$f":"IF($Z$1=\"+\",LOOKUP($V185,Data!$A$6:$A$1806,Data!$E$6:$E$1806)*-1,LOOKUP($V185,Data!$A$6:$A$1806,Data!$E$6:$E$1806))","v":0},{"$f":"LOOKUP($V185,Data!$A$6:$A$1806,Data!$F$6:$F$1806)","v":0},null,{"$f":"LOOKUP($V185,Data!$A$6:$A$1806,Data!$H$6:$H$1806)","v":0},{"$f":"LOOKUP($V185,Data!$A$6:$A$1806,Data!$I$6:$I$1806)","v":0},{"$f":"IF(LOOKUP($V185,Data!$A$6:$A$1806,Data!$J$6:$J$1806)>0,(LOOKUP($V185,Data!$A$6:$A$1806,Data!$J$6:$J$1806)*-1),LOOKUP($V185,Data!$A$6:$A$1806,Data!$J$6:$J$1806))","v":-653},{"$f":"LOOKUP($V185,Data!$A$6:$A$1806,Data!$K$6:$K$1806)","v":30259.9921875},80.1104736328125,null,null,null,null,null,null,null,null,null,null,null,null,null,null,null,4323.9761904761908,1.226806640625E-2," "]
[null,40679.34041666647,{"$f":"LOOKUP(B186,Data!$A$6:$A$1806,Data!B$6:B$1806)","v":59.99029541015625},{"$f":"LOOKUP(B186,Data!$A$6:$A$1806,Data!C$6:C$1806)","v":0},null,null,19590,{"$f":"(IF((C186-L$2)>0,(IF(C186<'Copy Results'!$C$3,((C186-L$2-L$5)/((L$4*L$2)-L$5)*G186*-1),(('Copy Results'!$C$3-L$2-L$5)/((L$4*L$2)-L$5)*G186*-1))),IF(C186>'Copy Results'!$C$2,((C186-L$2+L$5)/((L$4*L$2)-L$5)*G186*-1),(('Copy Results'!$C$2-L$2+L$5)/((L$4*L$2)-L$5)*G186*-1))))","v":63.3709716796875},87.464317989184934,null,null,-4.2636764883614982,105.20495649837245,{"$f":"AVERAGE(D$79:D186)","v":0},{"$f":"AVERAGE(M$79:M186)","v":665.83973661504467},19.728186351727828,{"$f":"AVERAGE(P$79:P186)","v":245.70304023488762},null,null,null,null,40679.34041666647,{"$f":"LOOKUP($V186,Data!$A$6:$A$1806,Data!$B$6:$B$1806)","v":59.99029541015625},{"$f":"LOOKUP($V186,Data!$A$6:$A$1806,Data!$C$6:$C$1806)","v":0},{"$f":"LOOKUP($V186,Data!$A$6:$A$1806,Data!$D$6:$D$1806)","v":0},{"$f":"IF($Z$1=\"+\",LOOKUP($V186,Data!$A$6:$A$1806,Data!$E$6:$E$1806)*-1,LOOKUP($V186,Data!$A$6:$A$1806,Data!$E$6:$E$1806))","v":0},{"$f":"LOOKUP($V186,Data!$A$6:$A$1806,Data!$F$6:$F$1806)","v":0},null,{"$f":"LOOKUP($V186,Data!$A$6:$A$1806,Data!$H$6:$H$1806)","v":0},{"$f":"LOOKUP($V186,Data!$A$6:$A$1806,Data!$I$6:$I$1806)","v":0},{"$f":"IF(LOOKUP($V186,Data!$A$6:$A$1806,Data!$J$6:$J$1806)>0,(LOOKUP($V186,Data!$A$6:$A$1806,Data!$J$6:$J$1806)*-1),LOOKUP($V186,Data!$A$6:$A$1806,Data!$J$6:$J$1806))","v":-653},{"$f":"LOOKUP($V186,Data!$A$6:$A$1806,Data!$K$6:$K$1806)","v":30259.9921875},63.3709716796875,null,null,null,null,null,null,null,null,null,null,null,null,null,null,null,5654.430402930403,9.70458984375E-3," "]
[null,40679.340439814616,{"$f":"LOOKUP(B187,Data!$A$6:$A$1806,Data!B$6:B$1806)","v":59.992889404296875},{"$f":"LOOKUP(B187,Data!$A$6:$A$1806,Data!C$6:C$1806)","v":0},null,null,19590,{"$f":"(IF((C187-L$2)>0,(IF(C187<'Copy Results'!$C$3,((C187-L$2-L$5)/((L$4*L$2)-L$5)*G187*-1),(('Copy Results'!$C$3-L$2-L$5)/((L$4*L$2)-L$5)*G187*-1))),IF(C187>'Copy Results'!$C$2,((C187-L$2+L$5)/((L$4*L$2)-L$5)*G187*-1),(('Copy Results'!$C$2-L$2+L$5)/((L$4*L$2)-L$5)*G187*-1))))","v":46.43218994140625},73.103073172462388,null,null,-4.2636764883614982,86.58003519328841,{"$f":"AVERAGE(D$79:D187)","v":0},{"$f":"AVERAGE(M$79:M187)","v":660.52542742768901},15.464509863366331,{"$f":"AVERAGE(P$79:P187)","v":243.57120199070687},null,null,null,null,40679.340439814616,{"$f":"LOOKUP($V187,Data!$A$6:$A$1806,Data!$B$6:$B$1806)","v":59.992889404296875},{"$f":"LOOKUP($V187,Data!$A$6:$A$1806,Data!$C$6:$C$1806)","v":0},{"$f":"LOOKUP($V187,Data!$A$6:$A$1806,Data!$D$6:$D$1806)","v":0},{"$f":"IF($Z$1=\"+\",LOOKUP($V187,Data!$A$6:$A$1806,Data!$E$6:$E$1806)*-1,LOOKUP($V187,Data!$A$6:$A$1806,Data!$E$6:$E$1806))","v":0},{"$f":"LOOKUP($V187,Data!$A$6:$A$1806,Data!$F$6:$F$1806)","v":0},null,{"$f":"LOOKUP($V187,Data!$A$6:$A$1806,Data!$H$6:$H$1806)","v":0},{"$f":"LOOKUP($V187,Data!$A$6:$A$1806,Data!$I$6:$I$1806)","v":0},{"$f":"IF(LOOKUP($V187,Data!$A$6:$A$1806,Data!$J$6:$J$1806)>0,(LOOKUP($V187,Data!$A$6:$A$1806,Data!$J$6:$J$1806)*-1),LOOKUP($V187,Data!$A$6:$A$1806,Data!$J$6:$J$1806))","v":-653},{"$f":"LOOKUP($V187,Data!$A$6:$A$1806,Data!$K$6:$K$1806)","v":30259.9921875},46.43218994140625,null,null,null,null,null,null,null,null,null,null,null,null,null,null,null,8210.9547872340427,7.110595703125E-3," "]
[null,40679.340462962762,{"$f":"LOOKUP(B188,Data!$A$6:$A$1806,Data!B$6:B$1806)","v":59.99578857421875},{"$f":"LOOKUP(B188,Data!$A$6:$A$1806,Data!C$6:C$1806)","v":0},null,null,19590,{"$f":"(IF((C188-L$2)>0,(IF(C188<'Copy Results'!$C$3,((C188-L$2-L$5)/((L$4*L$2)-L$5)*G188*-1),(('Copy Results'!$C$3-L$2-L$5)/((L$4*L$2)-L$5)*G188*-1))),IF(C188>'Copy Results'!$C$2,((C188-L$2+L$5)/((L$4*L$2)-L$5)*G188*-1),(('Copy Results'!$C$2-L$2+L$5)/((L$4*L$2)-L$5)*G188*-1))))","v":27.5006103515625},57.142211185147431,null,null,-4.2636764883614982,66.355496717611956,{"$f":"AVERAGE(D$79:D188)","v":0},{"$f":"AVERAGE(M$79:M188)","v":655.12388260305204},11.200833375004834,{"$f":"AVERAGE(P$79:P188)","v":241.43936374652611},null,null,null,null,40679.340462962762,{"$f":"LOOKUP($V188,Data!$A$6:$A$1806,Data!$B$6:$B$1806)","v":59.99578857421875},{"$f":"LOOKUP($V188,Data!$A$6:$A$1806,Data!$C$6:$C$1806)","v":0},{"$f":"LOOKUP($V188,Data!$A$6:$A$1806,Data!$D$6:$D$1806)","v":0},{"$f":"IF($Z$1=\"+\",LOOKUP($V188,Data!$A$6:$A$1806,Data!$E$6:$E$1806)*-1,LOOKUP($V188,Data!$A$6:$A$1806,Data!$E$6:$E$1806))","v":0},{"$f":"LOOKUP($V188,Data!$A$6:$A$1806,Data!$F$6:$F$1806)","v":0},null,{"$f":"LOOKUP($V188,Data!$A$6:$A$1806,Data!$H$6:$H$1806)","v":0},{"$f":"LOOKUP($V188,Data!$A$6:$A$1806,Data!$I$6:$I$1806)","v":0},{"$f":"IF(LOOKUP($V188,Data!$A$6:$A$1806,Data!$J$6:$J$1806)>0,(LOOKUP($V188,Data!$A$6:$A$1806,Data!$J$6:$J$1806)*-1),LOOKUP($V188,Data!$A$6:$A$1806,Data!$J$6:$J$1806))","v":-653},{"$f":"LOOKUP($V188,Data!$A$6:$A$1806,Data!$K$6:$K$1806)","v":30274.080078125},27.5006103515625,null,null,null,null,null,null,null,null,null,null,null,null,null,null,null,16598.489247311827,4.21142578125E-3," "]
[null,40679.340486110908,{"$f":"LOOKUP(B189,Data!$A$6:$A$1806,Data!B$6:B$1806)","v":59.9964599609375},{"$f":"LOOKUP(B189,Data!$A$6:$A$1806,Data!C$6:C$1806)","v":0},null,null,19590,{"$f":"(IF((C189-L$2)>0,(IF(C189<'Copy Results'!$C$3,((C189-L$2-L$5)/((L$4*L$2)-L$5)*G189*-1),(('Copy Results'!$C$3-L$2-L$5)/((L$4*L$2)-L$5)*G189*-1))),IF(C189>'Copy Results'!$C$2,((C189-L$2+L$5)/((L$4*L$2)-L$5)*G189*-1),(('Copy Results'!$C$2-L$2+L$5)/((L$4*L$2)-L$5)*G189*-1))))","v":23.116455078125},45.23319654768958,null,null,-4.2636764883614982,50.182805591792608,{"$f":"AVERAGE(D$79:D189)","v":0},{"$f":"AVERAGE(M$79:M189)","v":649.67396299033794},6.9371568866433355,{"$f":"AVERAGE(P$79:P189)","v":239.30752550234538},null,null,null,null,40679.340486110908,{"$f":"LOOKUP($V189,Data!$A$6:$A$1806,Data!$B$6:$B$1806)","v":59.9964599609375},{"$f":"LOOKUP($V189,Data!$A$6:$A$1806,Data!$C$6:$C$1806)","v":0},{"$f":"LOOKUP($V189,Data!$A$6:$A$1806,Data!$D$6:$D$1806)","v":0},{"$f":"IF($Z$1=\"+\",LOOKUP($V189,Data!$A$6:$A$1806,Data!$E$6:$E$1806)*-1,LOOKUP($V189,Data!$A$6:$A$1806,Data!$E$6:$E$1806))","v":0},{"$f":"LOOKUP($V189,Data!$A$6:$A$1806,Data!$F$6:$F$1806)","v":0},null,{"$f":"LOOKUP($V189,Data!$A$6:$A$1806,Data!$H$6:$H$1806)","v":0},{"$f":"LOOKUP($V189,Data!$A$6:$A$1806,Data!$I$6:$I$1806)","v":0},{"$f":"IF(LOOKUP($V189,Data!$A$6:$A$1806,Data!$J$6:$J$1806)>0,(LOOKUP($V189,Data!$A$6:$A$1806,Data!$J$6:$J$1806)*-1),LOOKUP($V189,Data!$A$6:$A$1806,Data!$J$6:$J$1806))","v":-653},{"$f":"LOOKUP($V189,Data!$A$6:$A$1806,Data!$K$6:$K$1806)","v":30274.080078125},23.116455078125,null,null,null,null,null,null,null,null,null,null,null,null,null,null,null,21741.683098591548,3.5400390625E-3," "]
[null,40679.340509259055,{"$f":"LOOKUP(B190,Data!$A$6:$A$1806,Data!B$6:B$1806)","v":59.99578857421875},{"$f":"LOOKUP(B190,Data!$A$6:$A$1806,Data!C$6:C$1806)","v":0},null,null,19590,{"$f":"(IF((C190-L$2)>0,(IF(C190<'Copy Results'!$C$3,((C190-L$2-L$5)/((L$4*L$2)-L$5)*G190*-1),(('Copy Results'!$C$3-L$2-L$5)/((L$4*L$2)-L$5)*G190*-1))),IF(C190>'Copy Results'!$C$2,((C190-L$2+L$5)/((L$4*L$2)-L$5)*G190*-1),(('Copy Results'!$C$2-L$2+L$5)/((L$4*L$2)-L$5)*G190*-1))))","v":27.5006103515625},39.026791379045108,null,null,-4.2636764883614982,39.712723934786638,{"$f":"AVERAGE(D$79:D190)","v":0},{"$f":"AVERAGE(M$79:M190)","v":644.22788049877056},2.6734803982818374,{"$f":"AVERAGE(P$79:P190)","v":237.17568725816463},null,null,null,null,40679.340509259055,{"$f":"LOOKUP($V190,Data!$A$6:$A$1806,Data!$B$6:$B$1806)","v":59.99578857421875},{"$f":"LOOKUP($V190,Data!$A$6:$A$1806,Data!$C$6:$C$1806)","v":0},{"$f":"LOOKUP($V190,Data!$A$6:$A$1806,Data!$D$6:$D$1806)","v":0},{"$f":"IF($Z$1=\"+\",LOOKUP($V190,Data!$A$6:$A$1806,Data!$E$6:$E$1806)*-1,LOOKUP($V190,Data!$A$6:$A$1806,Data!$E$6:$E$1806))","v":0},{"$f":"LOOKUP($V190,Data!$A$6:$A$1806,Data!$F$6:$F$1806)","v":0},null,{"$f":"LOOKUP($V190,Data!$A$6:$A$1806,Data!$H$6:$H$1806)","v":0},{"$f":"LOOKUP($V190,Data!$A$6:$A$1806,Data!$I$6:$I$1806)","v":0},{"$f":"IF(LOOKUP($V190,Data!$A$6:$A$1806,Data!$J$6:$J$1806)>0,(LOOKUP($V190,Data!$A$6:$A$1806,Data!$J$6:$J$1806)*-1),LOOKUP($V190,Data!$A$6:$A$1806,Data!$J$6:$J$1806))","v":-653},{"$f":"LOOKUP($V190,Data!$A$6:$A$1806,Data!$K$6:$K$1806)","v":30274.080078125},27.5006103515625,null,null,null,null,null,null,null,null,null,null,null,null,null,null,null,16598.489247311827,4.21142578125E-3," "]
[null,40679.340532407201,{"$f":"LOOKUP(B191,Data!$A$6:$A$1806,Data!B$6:B$1806)","v":59.996124267578125},{"$f":"LOOKUP(B191,Data!$A$6:$A$1806,Data!C$6:C$1806)","v":0},null,null,19590,{"$f":"(IF((C191-L$2)>0,(IF(C191<'Copy Results'!$C$3,((C191-L$2-L$5)/((L$4*L$2)-L$5)*G191*-1),(('Copy Results'!$C$3-L$2-L$5)/((L$4*L$2)-L$5)*G191*-1))),IF(C191>'Copy Results'!$C$2,((C191-L$2+L$5)/((L$4*L$2)-L$5)*G191*-1),(('Copy Results'!$C$2-L$2+L$5)/((L$4*L$2)-L$5)*G191*-1))))","v":25.30853271484375},34.22540084657463,null,null,-4.2636764883614982,30.647656913954663,{"$f":"AVERAGE(D$79:D191)","v":0},{"$f":"AVERAGE(M$79:M191)","v":638.797967015719},-1.5901960900796608,{"$f":"AVERAGE(P$79:P191)","v":235.04384901398387},null,null,null,null,40679.340532407201,{"$f":"LOOKUP($V191,Data!$A$6:$A$1806,Data!$B$6:$B$1806)","v":59.996124267578125},{"$f":"LOOKUP($V191,Data!$A$6:$A$1806,Data!$C$6:$C$1806)","v":0},{"$f":"LOOKUP($V191,Data!$A$6:$A$1806,Data!$D$6:$D$1806)","v":0},{"$f":"IF($Z$1=\"+\",LOOKUP($V191,Data!$A$6:$A$1806,Data!$E$6:$E$1806)*-1,LOOKUP($V191,Data!$A$6:$A$1806,Data!$E$6:$E$1806))","v":0},{"$f":"LOOKUP($V191,Data!$A$6:$A$1806,Data!$F$6:$F$1806)","v":0},null,{"$f":"LOOKUP($V191,Data!$A$6:$A$1806,Data!$H$6:$H$1806)","v":0},{"$f":"LOOKUP($V191,Data!$A$6:$A$1806,Data!$I$6:$I$1806)","v":0},{"$f":"IF(LOOKUP($V191,Data!$A$6:$A$1806,Data!$J$6:$J$1806)>0,(LOOKUP($V191,Data!$A$6:$A$1806,Data!$J$6:$J$1806)*-1),LOOKUP($V191,Data!$A$6:$A$1806,Data!$J$6:$J$1806))","v":-653},{"$f":"LOOKUP($V191,Data!$A$6:$A$1806,Data!$K$6:$K$1806)","v":30274.080078125},25.30853271484375,null,null,null,null,null,null,null,null,null,null,null,null,null,null,null,18825.115853658535,3.875732421875E-3," "]
[null,40679.340555555347,{"$f":"LOOKUP(B192,Data!$A$6:$A$1806,Data!B$6:B$1806)","v":59.99578857421875},{"$f":"LOOKUP(B192,Data!$A$6:$A$1806,Data!C$6:C$1806)","v":0},null,null,19590,{"$f":"(IF((C192-L$2)>0,(IF(C192<'Copy Results'!$C$3,((C192-L$2-L$5)/((L$4*L$2)-L$5)*G192*-1),(('Copy Results'!$C$3-L$2-L$5)/((L$4*L$2)-L$5)*G192*-1))),IF(C192>'Copy Results'!$C$2,((C192-L$2+L$5)/((L$4*L$2)-L$5)*G192*-1),(('Copy Results'!$C$2-L$2+L$5)/((L$4*L$2)-L$5)*G192*-1))))","v":27.5006103515625},31.871724173320384,null,null,-4.2636764883614982,24.03030375233892,{"$f":"AVERAGE(D$79:D192)","v":0},{"$f":"AVERAGE(M$79:M192)","v":633.40526821516301},-5.8538725784411589,{"$f":"AVERAGE(P$79:P192)","v":232.91201076980312},null,null,null,null,40679.340555555347,{"$f":"LOOKUP($V192,Data!$A$6:$A$1806,Data!$B$6:$B$1806)","v":59.99578857421875},{"$f":"LOOKUP($V192,Data!$A$6:$A$1806,Data!$C$6:$C$1806)","v":0},{"$f":"LOOKUP($V192,Data!$A$6:$A$1806,Data!$D$6:$D$1806)","v":0},{"$f":"IF($Z$1=\"+\",LOOKUP($V192,Data!$A$6:$A$1806,Data!$E$6:$E$1806)*-1,LOOKUP($V192,Data!$A$6:$A$1806,Data!$E$6:$E$1806))","v":0},{"$f":"LOOKUP($V192,Data!$A$6:$A$1806,Data!$F$6:$F$1806)","v":0},null,{"$f":"LOOKUP($V192,Data!$A$6:$A$1806,Data!$H$6:$H$1806)","v":0},{"$f":"LOOKUP($V192,Data!$A$6:$A$1806,Data!$I$6:$I$1806)","v":0},{"$f":"IF(LOOKUP($V192,Data!$A$6:$A$1806,Data!$J$6:$J$1806)>0,(LOOKUP($V192,Data!$A$6:$A$1806,Data!$J$6:$J$1806)*-1),LOOKUP($V192,Data!$A$6:$A$1806,Data!$J$6:$J$1806))","v":-653},{"$f":"LOOKUP($V192,Data!$A$6:$A$1806,Data!$K$6:$K$1806)","v":30297.677734375},27.5006103515625,null,null,null,null,null,null,null,null,null,null,null,null,null,null,null,16598.489247311827,4.21142578125E-3," "]
[null,40679.340578703494,{"$f":"LOOKUP(B193,Data!$A$6:$A$1806,Data!B$6:B$1806)","v":59.994842529296875},{"$f":"LOOKUP(B193,Data!$A$6:$A$1806,Data!C$6:C$1806)","v":0},null,null,19590,{"$f":"(IF((C193-L$2)>0,(IF(C193<'Copy Results'!$C$3,((C193-L$2-L$5)/((L$4*L$2)-L$5)*G193*-1),(('Copy Results'!$C$3-L$2-L$5)/((L$4*L$2)-L$5)*G193*-1))),IF(C193>'Copy Results'!$C$2,((C193-L$2+L$5)/((L$4*L$2)-L$5)*G193*-1),(('Copy Results'!$C$2-L$2+L$5)/((L$4*L$2)-L$5)*G193*-1))))","v":33.67828369140625},32.504020004650442,null,null,-4.2636764883614982,20.398923095307481,{"$f":"AVERAGE(D$79:D193)","v":0},{"$f":"AVERAGE(M$79:M193)","v":628.07477825759906},-10.117549066802656,{"$f":"AVERAGE(P$79:P193)","v":230.78017252562236},null,null,null,null,40679.340578703494,{"$f":"LOOKUP($V193,Data!$A$6:$A$1806,Data!$B$6:$B$1806)","v":59.994842529296875},{"$f":"LOOKUP($V193,Data!$A$6:$A$1806,Data!$C$6:$C$1806)","v":0},{"$f":"LOOKUP($V193,Data!$A$6:$A$1806,Data!$D$6:$D$1806)","v":0},{"$f":"IF($Z$1=\"+\",LOOKUP($V193,Data!$A$6:$A$1806,Data!$E$6:$E$1806)*-1,LOOKUP($V193,Data!$A$6:$A$1806,Data!$E$6:$E$1806))","v":0},{"$f":"LOOKUP($V193,Data!$A$6:$A$1806,Data!$F$6:$F$1806)","v":0},null,{"$f":"LOOKUP($V193,Data!$A$6:$A$1806,Data!$H$6:$H$1806)","v":0},{"$f":"LOOKUP($V193,Data!$A$6:$A$1806,Data!$I$6:$I$1806)","v":0},{"$f":"IF(LOOKUP($V193,Data!$A$6:$A$1806,Data!$J$6:$J$1806)>0,(LOOKUP($V193,Data!$A$6:$A$1806,Data!$J$6:$J$1806)*-1),LOOKUP($V193,Data!$A$6:$A$1806,Data!$J$6:$J$1806))","v":-653},{"$f":"LOOKUP($V193,Data!$A$6:$A$1806,Data!$K$6:$K$1806)","v":30297.677734375},33.67828369140625,null,null,null,null,null,null,null,null,null,null,null,null,null,null,null,12448.866935483871,5.157470703125E-3," "]
[null,40679.34060185164,{"$f":"LOOKUP(B194,Data!$A$6:$A$1806,Data!B$6:B$1806)","v":59.994842529296875},{"$f":"LOOKUP(B194,Data!$A$6:$A$1806,Data!C$6:C$1806)","v":0},null,null,19590,{"$f":"(IF((C194-L$2)>0,(IF(C194<'Copy Results'!$C$3,((C194-L$2-L$5)/((L$4*L$2)-L$5)*G194*-1),(('Copy Results'!$C$3-L$2-L$5)/((L$4*L$2)-L$5)*G194*-1))),IF(C194>'Copy Results'!$C$2,((C194-L$2+L$5)/((L$4*L$2)-L$5)*G194*-1),(('Copy Results'!$C$2-L$2+L$5)/((L$4*L$2)-L$5)*G194*-1))))","v":33.67828369140625},32.915012295014975,null,null,-4.2636764883614982,16.546238897310516,{"$f":"AVERAGE(D$79:D194)","v":0},{"$f":"AVERAGE(M$79:M194)","v":622.80298050449312},-14.381225555164153,{"$f":"AVERAGE(P$79:P194)","v":228.64833428144161},null,null,null,null,40679.34060185164,{"$f":"LOOKUP($V194,Data!$A$6:$A$1806,Data!$B$6:$B$1806)","v":59.994842529296875},{"$f":"LOOKUP($V194,Data!$A$6:$A$1806,Data!$C$6:$C$1806)","v":0},{"$f":"LOOKUP($V194,Data!$A$6:$A$1806,Data!$D$6:$D$1806)","v":0},{"$f":"IF($Z$1=\"+\",LOOKUP($V194,Data!$A$6:$A$1806,Data!$E$6:$E$1806)*-1,LOOKUP($V194,Data!$A$6:$A$1806,Data!$E$6:$E$1806))","v":0},{"$f":"LOOKUP($V194,Data!$A$6:$A$1806,Data!$F$6:$F$1806)","v":0},null,{"$f":"LOOKUP($V194,Data!$A$6:$A$1806,Data!$H$6:$H$1806)","v":0},{"$f":"LOOKUP($V194,Data!$A$6:$A$1806,Data!$I$6:$I$1806)","v":0},{"$f":"IF(LOOKUP($V194,Data!$A$6:$A$1806,Data!$J$6:$J$1806)>0,(LOOKUP($V194,Data!$A$6:$A$1806,Data!$J$6:$J$1806)*-1),LOOKUP($V194,Data!$A$6:$A$1806,Data!$J$6:$J$1806))","v":-653},{"$f":"LOOKUP($V194,Data!$A$6:$A$1806,Data!$K$6:$K$1806)","v":30297.6484375},33.67828369140625,null,null,null,null,null,null,null,null,null,null,null,null,null,null,null,12448.866935483871,5.157470703125E-3," "]
[null,40679.340624999786,{"$f":"LOOKUP(B195,Data!$A$6:$A$1806,Data!B$6:B$1806)","v":59.998046875},{"$f":"LOOKUP(B195,Data!$A$6:$A$1806,Data!C$6:C$1806)","v":0},null,null,19590,{"$f":"(IF((C195-L$2)>0,(IF(C195<'Copy Results'!$C$3,((C195-L$2-L$5)/((L$4*L$2)-L$5)*G195*-1),(('Copy Results'!$C$3-L$2-L$5)/((L$4*L$2)-L$5)*G195*-1))),IF(C195>'Copy Results'!$C$2,((C195-L$2+L$5)/((L$4*L$2)-L$5)*G195*-1),(('Copy Results'!$C$2-L$2+L$5)/((L$4*L$2)-L$5)*G195*-1))))","v":12.75390625},25.858625179259736,null,null,-4.2636764883614982,5.2261752931937799,{"$f":"AVERAGE(D$79:D195)","v":0},{"$f":"AVERAGE(M$79:M195)","v":617.52454627191787},-18.644902043525651,{"$f":"AVERAGE(P$79:P195)","v":226.51649603726088},null,null,null,null,40679.340624999786,{"$f":"LOOKUP($V195,Data!$A$6:$A$1806,Data!$B$6:$B$1806)","v":59.998046875},{"$f":"LOOKUP($V195,Data!$A$6:$A$1806,Data!$C$6:$C$1806)","v":0},{"$f":"LOOKUP($V195,Data!$A$6:$A$1806,Data!$D$6:$D$1806)","v":0},{"$f":"IF($Z$1=\"+\",LOOKUP($V195,Data!$A$6:$A$1806,Data!$E$6:$E$1806)*-1,LOOKUP($V195,Data!$A$6:$A$1806,Data!$E$6:$E$1806))","v":0},{"$f":"LOOKUP($V195,Data!$A$6:$A$1806,Data!$F$6:$F$1806)","v":0},null,{"$f":"LOOKUP($V195,Data!$A$6:$A$1806,Data!$H$6:$H$1806)","v":0},{"$f":"LOOKUP($V195,Data!$A$6:$A$1806,Data!$I$6:$I$1806)","v":0},{"$f":"IF(LOOKUP($V195,Data!$A$6:$A$1806,Data!$J$6:$J$1806)>0,(LOOKUP($V195,Data!$A$6:$A$1806,Data!$J$6:$J$1806)*-1),LOOKUP($V195,Data!$A$6:$A$1806,Data!$J$6:$J$1806))","v":-653},{"$f":"LOOKUP($V195,Data!$A$6:$A$1806,Data!$K$6:$K$1806)","v":30297.6484375},12.75390625,null,null,null,null,null,null,null,null,null,null,null,null,null,null,null,81245.236842105267,1.953125E-3," "]
[null,40679.340648147932,{"$f":"LOOKUP(B196,Data!$A$6:$A$1806,Data!B$6:B$1806)","v":59.99871826171875},{"$f":"LOOKUP(B196,Data!$A$6:$A$1806,Data!C$6:C$1806)","v":0},null,null,19590,{"$f":"(IF((C196-L$2)>0,(IF(C196<'Copy Results'!$C$3,((C196-L$2-L$5)/((L$4*L$2)-L$5)*G196*-1),(('Copy Results'!$C$3-L$2-L$5)/((L$4*L$2)-L$5)*G196*-1))),IF(C196>'Copy Results'!$C$2,((C196-L$2+L$5)/((L$4*L$2)-L$5)*G196*-1),(('Copy Results'!$C$2-L$2+L$5)/((L$4*L$2)-L$5)*G196*-1))))","v":8.3697509765625},19.737519208315703,null,null,0,-0.89493067775025281,{"$f":"AVERAGE(D$79:D196)","v":0},{"$f":"AVERAGE(M$79:M196)","v":612.28370324692071},-18.644902043525651,{"$f":"AVERAGE(P$79:P196)","v":224.42109947246783},null,null,null,null,40679.340648147932,{"$f":"LOOKUP($V196,Data!$A$6:$A$1806,Data!$B$6:$B$1806)","v":59.99871826171875},{"$f":"LOOKUP($V196,Data!$A$6:$A$1806,Data!$C$6:$C$1806)","v":0},{"$f":"LOOKUP($V196,Data!$A$6:$A$1806,Data!$D$6:$D$1806)","v":0},{"$f":"IF($Z$1=\"+\",LOOKUP($V196,Data!$A$6:$A$1806,Data!$E$6:$E$1806)*-1,LOOKUP($V196,Data!$A$6:$A$1806,Data!$E$6:$E$1806))","v":0},{"$f":"LOOKUP($V196,Data!$A$6:$A$1806,Data!$F$6:$F$1806)","v":0},null,{"$f":"LOOKUP($V196,Data!$A$6:$A$1806,Data!$H$6:$H$1806)","v":0},{"$f":"LOOKUP($V196,Data!$A$6:$A$1806,Data!$I$6:$I$1806)","v":0},{"$f":"IF(LOOKUP($V196,Data!$A$6:$A$1806,Data!$J$6:$J$1806)>0,(LOOKUP($V196,Data!$A$6:$A$1806,Data!$J$6:$J$1806)*-1),LOOKUP($V196,Data!$A$6:$A$1806,Data!$J$6:$J$1806))","v":-653},{"$f":"LOOKUP($V196,Data!$A$6:$A$1806,Data!$K$6:$K$1806)","v":30297.6484375},8.3697509765625,null,null,null,null,null,null,null,null,null,null,null,null,null,null,null," ",1.28173828125E-3," "]
[null,40679.340671296079,{"$f":"LOOKUP(B197,Data!$A$6:$A$1806,Data!B$6:B$1806)","v":60.000335693359375},{"$f":"LOOKUP(B197,Data!$A$6:$A$1806,Data!C$6:C$1806)","v":0},null,null,19590,{"$f":"(IF((C197-L$2)>0,(IF(C197<'Copy Results'!$C$3,((C197-L$2-L$5)/((L$4*L$2)-L$5)*G197*-1),(('Copy Results'!$C$3-L$2-L$5)/((L$4*L$2)-L$5)*G197*-1))),IF(C197>'Copy Results'!$C$2,((C197-L$2+L$5)/((L$4*L$2)-L$5)*G197*-1),(('Copy Results'!$C$2-L$2+L$5)/((L$4*L$2)-L$5)*G197*-1))))","v":-2.19207763671875},12.062160312553646,null,null,0,-8.5702895735123104,{"$f":"AVERAGE(D$79:D197)","v":0},{"$f":"AVERAGE(M$79:M197)","v":607.06644280305147},-18.644902043525651,{"$f":"AVERAGE(P$79:P197)","v":222.36121810368823},null,null,null,null,40679.340671296079,{"$f":"LOOKUP($V197,Data!$A$6:$A$1806,Data!$B$6:$B$1806)","v":60.000335693359375},{"$f":"LOOKUP($V197,Data!$A$6:$A$1806,Data!$C$6:$C$1806)","v":0},{"$f":"LOOKUP($V197,Data!$A$6:$A$1806,Data!$D$6:$D$1806)","v":0},{"$f":"IF($Z$1=\"+\",LOOKUP($V197,Data!$A$6:$A$1806,Data!$E$6:$E$1806)*-1,LOOKUP($V197,Data!$A$6:$A$1806,Data!$E$6:$E$1806))","v":0},{"$f":"LOOKUP($V197,Data!$A$6:$A$1806,Data!$F$6:$F$1806)","v":0},null,{"$f":"LOOKUP($V197,Data!$A$6:$A$1806,Data!$H$6:$H$1806)","v":0},{"$f":"LOOKUP($V197,Data!$A$6:$A$1806,Data!$I$6:$I$1806)","v":0},{"$f":"IF(LOOKUP($V197,Data!$A$6:$A$1806,Data!$J$6:$J$1806)>0,(LOOKUP($V197,Data!$A$6:$A$1806,Data!$J$6:$J$1806)*-1),LOOKUP($V197,Data!$A$6:$A$1806,Data!$J$6:$J$1806))","v":-653},{"$f":"LOOKUP($V197,Data!$A$6:$A$1806,Data!$K$6:$K$1806)","v":30297.6484375},-2.19207763671875,null,null,null,null,null,null,null,null,null,null,null,null,null,null,null," ",3.35693359375E-4," "]
[null,40679.340694444225,{"$f":"LOOKUP(B198,Data!$A$6:$A$1806,Data!B$6:B$1806)","v":60.001953125},{"$f":"LOOKUP(B198,Data!$A$6:$A$1806,Data!C$6:C$1806)","v":0},null,null,19590,{"$f":"(IF((C198-L$2)>0,(IF(C198<'Copy Results'!$C$3,((C198-L$2-L$5)/((L$4*L$2)-L$5)*G198*-1),(('Copy Results'!$C$3-L$2-L$5)/((L$4*L$2)-L$5)*G198*-1))),IF(C198>'Copy Results'!$C$2,((C198-L$2+L$5)/((L$4*L$2)-L$5)*G198*-1),(('Copy Results'!$C$2-L$2+L$5)/((L$4*L$2)-L$5)*G198*-1))))","v":-12.75390625},3.3765370156598697,null,null,0,-17.255912870406085,{"$f":"AVERAGE(D$79:D198)","v":0},{"$f":"AVERAGE(M$79:M198)","v":601.8637565057727},-18.644902043525651,{"$f":"AVERAGE(P$79:P198)","v":220.33595658984609},null,null,null,null,40679.340694444225,{"$f":"LOOKUP($V198,Data!$A$6:$A$1806,Data!$B$6:$B$1806)","v":60.001953125},{"$f":"LOOKUP($V198,Data!$A$6:$A$1806,Data!$C$6:$C$1806)","v":0},{"$f":"LOOKUP($V198,Data!$A$6:$A$1806,Data!$D$6:$D$1806)","v":0},{"$f":"IF($Z$1=\"+\",LOOKUP($V198,Data!$A$6:$A$1806,Data!$E$6:$E$1806)*-1,LOOKUP($V198,Data!$A$6:$A$1806,Data!$E$6:$E$1806))","v":0},{"$f":"LOOKUP($V198,Data!$A$6:$A$1806,Data!$F$6:$F$1806)","v":0},null,{"$f":"LOOKUP($V198,Data!$A$6:$A$1806,Data!$H$6:$H$1806)","v":0},{"$f":"LOOKUP($V198,Data!$A$6:$A$1806,Data!$I$6:$I$1806)","v":0},{"$f":"IF(LOOKUP($V198,Data!$A$6:$A$1806,Data!$J$6:$J$1806)>0,(LOOKUP($V198,Data!$A$6:$A$1806,Data!$J$6:$J$1806)*-1),LOOKUP($V198,Data!$A$6:$A$1806,Data!$J$6:$J$1806))","v":-653},{"$f":"LOOKUP($V198,Data!$A$6:$A$1806,Data!$K$6:$K$1806)","v":30300.103515625},-12.75390625,null,null,null,null,null,null,null,null,null,null,null,null,null,null,null," ",1.953125E-3," "]
[null,40679.340717592371,{"$f":"LOOKUP(B199,Data!$A$6:$A$1806,Data!B$6:B$1806)","v":60.002593994140625},{"$f":"LOOKUP(B199,Data!$A$6:$A$1806,Data!C$6:C$1806)","v":0},null,null,19590,{"$f":"(IF((C199-L$2)>0,(IF(C199<'Copy Results'!$C$3,((C199-L$2-L$5)/((L$4*L$2)-L$5)*G199*-1),(('Copy Results'!$C$3-L$2-L$5)/((L$4*L$2)-L$5)*G199*-1))),IF(C199>'Copy Results'!$C$2,((C199-L$2+L$5)/((L$4*L$2)-L$5)*G199*-1),(('Copy Results'!$C$2-L$2+L$5)/((L$4*L$2)-L$5)*G199*-1))))","v":-16.93878173828125},-3.733824548219522,null,null,0,-24.366274434285479,{"$f":"AVERAGE(D$79:D199)","v":0},{"$f":"AVERAGE(M$79:M199)","v":596.68830170461524},-18.644902043525651,{"$f":"AVERAGE(P$79:P199)","v":218.34444943456802},null,null,null,null,40679.340717592371,{"$f":"LOOKUP($V199,Data!$A$6:$A$1806,Data!$B$6:$B$1806)","v":60.002593994140625},{"$f":"LOOKUP($V199,Data!$A$6:$A$1806,Data!$C$6:$C$1806)","v":0},{"$f":"LOOKUP($V199,Data!$A$6:$A$1806,Data!$D$6:$D$1806)","v":0},{"$f":"IF($Z$1=\"+\",LOOKUP($V199,Data!$A$6:$A$1806,Data!$E$6:$E$1806)*-1,LOOKUP($V199,Data!$A$6:$A$1806,Data!$E$6:$E$1806))","v":0},{"$f":"LOOKUP($V199,Data!$A$6:$A$1806,Data!$F$6:$F$1806)","v":0},null,{"$f":"LOOKUP($V199,Data!$A$6:$A$1806,Data!$H$6:$H$1806)","v":0},{"$f":"LOOKUP($V199,Data!$A$6:$A$1806,Data!$I$6:$I$1806)","v":0},{"$f":"IF(LOOKUP($V199,Data!$A$6:$A$1806,Data!$J$6:$J$1806)>0,(LOOKUP($V199,Data!$A$6:$A$1806,Data!$J$6:$J$1806)*-1),LOOKUP($V199,Data!$A$6:$A$1806,Data!$J$6:$J$1806))","v":-653},{"$f":"LOOKUP($V199,Data!$A$6:$A$1806,Data!$K$6:$K$1806)","v":30300.103515625},-16.93878173828125,null,null,null,null,null,null,null,null,null,null,null,null,null,null,null," ",2.593994140625E-3," "]
[null,40679.340740740518,{"$f":"LOOKUP(B200,Data!$A$6:$A$1806,Data!B$6:B$1806)","v":60.00225830078125},{"$f":"LOOKUP(B200,Data!$A$6:$A$1806,Data!C$6:C$1806)","v":0},null,null,19590,{"$f":"(IF((C200-L$2)>0,(IF(C200<'Copy Results'!$C$3,((C200-L$2-L$5)/((L$4*L$2)-L$5)*G200*-1),(('Copy Results'!$C$3-L$2-L$5)/((L$4*L$2)-L$5)*G200*-1))),IF(C200>'Copy Results'!$C$2,((C200-L$2+L$5)/((L$4*L$2)-L$5)*G200*-1),(('Copy Results'!$C$2-L$2+L$5)/((L$4*L$2)-L$5)*G200*-1))))","v":-14.7467041015625},-7.5883323918895638,null,null,0,-28.220782277955522,{"$f":"AVERAGE(D$79:D200)","v":0},{"$f":"AVERAGE(M$79:M200)","v":591.56609609820066},-18.644902043525651,{"$f":"AVERAGE(P$79:P200)","v":216.38585975293088},null,null,null,null,40679.340740740518,{"$f":"LOOKUP($V200,Data!$A$6:$A$1806,Data!$B$6:$B$1806)","v":60.00225830078125},{"$f":"LOOKUP($V200,Data!$A$6:$A$1806,Data!$C$6:$C$1806)","v":0},{"$f":"LOOKUP($V200,Data!$A$6:$A$1806,Data!$D$6:$D$1806)","v":0},{"$f":"IF($Z$1=\"+\",LOOKUP($V200,Data!$A$6:$A$1806,Data!$E$6:$E$1806)*-1,LOOKUP($V200,Data!$A$6:$A$1806,Data!$E$6:$E$1806))","v":0},{"$f":"LOOKUP($V200,Data!$A$6:$A$1806,Data!$F$6:$F$1806)","v":0},null,{"$f":"LOOKUP($V200,Data!$A$6:$A$1806,Data!$H$6:$H$1806)","v":0},{"$f":"LOOKUP($V200,Data!$A$6:$A$1806,Data!$I$6:$I$1806)","v":0},{"$f":"IF(LOOKUP($V200,Data!$A$6:$A$1806,Data!$J$6:$J$1806)>0,(LOOKUP($V200,Data!$A$6:$A$1806,Data!$J$6:$J$1806)*-1),LOOKUP($V200,Data!$A$6:$A$1806,Data!$J$6:$J$1806))","v":-653},{"$f":"LOOKUP($V200,Data!$A$6:$A$1806,Data!$K$6:$K$1806)","v":30300.103515625},-14.7467041015625,null,null,null,null,null,null,null,null,null,null,null,null,null,null,null," ",2.25830078125E-3," "]
[null,40679.340763888664,{"$f":"LOOKUP(B201,Data!$A$6:$A$1806,Data!B$6:B$1806)","v":60.001953125},{"$f":"LOOKUP(B201,Data!$A$6:$A$1806,Data!C$6:C$1806)","v":0},null,null,19590,{"$f":"(IF((C201-L$2)>0,(IF(C201<'Copy Results'!$C$3,((C201-L$2-L$5)/((L$4*L$2)-L$5)*G201*-1),(('Copy Results'!$C$3-L$2-L$5)/((L$4*L$2)-L$5)*G201*-1))),IF(C201>'Copy Results'!$C$2,((C201-L$2+L$5)/((L$4*L$2)-L$5)*G201*-1),(('Copy Results'!$C$2-L$2+L$5)/((L$4*L$2)-L$5)*G201*-1))))","v":-12.75390625},-9.3962832422282165,null,null,0,-30.028733128294174,{"$f":"AVERAGE(D$79:D201)","v":0},{"$f":"AVERAGE(M$79:M201)","v":586.51247960042429},-18.644902043525651,{"$f":"AVERAGE(P$79:P201)","v":214.45937809886158},null,null,null,null,40679.340763888664,{"$f":"LOOKUP($V201,Data!$A$6:$A$1806,Data!$B$6:$B$1806)","v":60.001953125},{"$f":"LOOKUP($V201,Data!$A$6:$A$1806,Data!$C$6:$C$1806)","v":0},{"$f":"LOOKUP($V201,Data!$A$6:$A$1806,Data!$D$6:$D$1806)","v":0},{"$f":"IF($Z$1=\"+\",LOOKUP($V201,Data!$A$6:$A$1806,Data!$E$6:$E$1806)*-1,LOOKUP($V201,Data!$A$6:$A$1806,Data!$E$6:$E$1806))","v":0},{"$f":"LOOKUP($V201,Data!$A$6:$A$1806,Data!$F$6:$F$1806)","v":0},null,{"$f":"LOOKUP($V201,Data!$A$6:$A$1806,Data!$H$6:$H$1806)","v":0},{"$f":"LOOKUP($V201,Data!$A$6:$A$1806,Data!$I$6:$I$1806)","v":0},{"$f":"IF(LOOKUP($V201,Data!$A$6:$A$1806,Data!$J$6:$J$1806)>0,(LOOKUP($V201,Data!$A$6:$A$1806,Data!$J$6:$J$1806)*-1),LOOKUP($V201,Data!$A$6:$A$1806,Data!$J$6:$J$1806))","v":-653},{"$f":"LOOKUP($V201,Data!$A$6:$A$1806,Data!$K$6:$K$1806)","v":30300.103515625},-12.75390625,null,null,null,null,null,null,null,null,null,null,null,null,null,null,null," ",1.953125E-3," "]
[null,40679.34078703681,{"$f":"LOOKUP(B202,Data!$A$6:$A$1806,Data!B$6:B$1806)","v":60.000640869140625},{"$f":"LOOKUP(B202,Data!$A$6:$A$1806,Data!C$6:C$1806)","v":0},null,null,19590,{"$f":"(IF((C202-L$2)>0,(IF(C202<'Copy Results'!$C$3,((C202-L$2-L$5)/((L$4*L$2)-L$5)*G202*-1),(('Copy Results'!$C$3-L$2-L$5)/((L$4*L$2)-L$5)*G202*-1))),IF(C202>'Copy Results'!$C$2,((C202-L$2+L$5)/((L$4*L$2)-L$5)*G202*-1),(('Copy Results'!$C$2-L$2+L$5)/((L$4*L$2)-L$5)*G202*-1))))","v":-4.18487548828125},-7.5722905283467785,null,null,0,-28.204740414412736,{"$f":"AVERAGE(D$79:D202)","v":0},{"$f":"AVERAGE(M$79:M202)","v":581.55508266482082},-18.644902043525651,{"$f":"AVERAGE(P$79:P202)","v":212.56422134973647},null,null,null,null,40679.34078703681,{"$f":"LOOKUP($V202,Data!$A$6:$A$1806,Data!$B$6:$B$1806)","v":60.000640869140625},{"$f":"LOOKUP($V202,Data!$A$6:$A$1806,Data!$C$6:$C$1806)","v":0},{"$f":"LOOKUP($V202,Data!$A$6:$A$1806,Data!$D$6:$D$1806)","v":0},{"$f":"IF($Z$1=\"+\",LOOKUP($V202,Data!$A$6:$A$1806,Data!$E$6:$E$1806)*-1,LOOKUP($V202,Data!$A$6:$A$1806,Data!$E$6:$E$1806))","v":0},{"$f":"LOOKUP($V202,Data!$A$6:$A$1806,Data!$F$6:$F$1806)","v":0},null,{"$f":"LOOKUP($V202,Data!$A$6:$A$1806,Data!$H$6:$H$1806)","v":0},{"$f":"LOOKUP($V202,Data!$A$6:$A$1806,Data!$I$6:$I$1806)","v":0},{"$f":"IF(LOOKUP($V202,Data!$A$6:$A$1806,Data!$J$6:$J$1806)>0,(LOOKUP($V202,Data!$A$6:$A$1806,Data!$J$6:$J$1806)*-1),LOOKUP($V202,Data!$A$6:$A$1806,Data!$J$6:$J$1806))","v":-653},{"$f":"LOOKUP($V202,Data!$A$6:$A$1806,Data!$K$6:$K$1806)","v":30314.837890625},-4.18487548828125,null,null,null,null,null,null,null,null,null,null,null,null,null,null,null," ",6.40869140625E-4," "]
[null,40679.340810184956,{"$f":"LOOKUP(B203,Data!$A$6:$A$1806,Data!B$6:B$1806)","v":59.9964599609375},{"$f":"LOOKUP(B203,Data!$A$6:$A$1806,Data!C$6:C$1806)","v":0},null,null,19590,{"$f":"(IF((C203-L$2)>0,(IF(C203<'Copy Results'!$C$3,((C203-L$2-L$5)/((L$4*L$2)-L$5)*G203*-1),(('Copy Results'!$C$3-L$2-L$5)/((L$4*L$2)-L$5)*G203*-1))),IF(C203>'Copy Results'!$C$2,((C203-L$2+L$5)/((L$4*L$2)-L$5)*G203*-1),(('Copy Results'!$C$2-L$2+L$5)/((L$4*L$2)-L$5)*G203*-1))))","v":23.116455078125},3.1687704339183442,null,null,0,-17.463679452147613,{"$f":"AVERAGE(D$79:D203)","v":0},{"$f":"AVERAGE(M$79:M203)","v":576.76293256788506},-18.644902043525651,{"$f":"AVERAGE(P$79:P203)","v":210.69963164495212},null,null,null,null,40679.340810184956,{"$f":"LOOKUP($V203,Data!$A$6:$A$1806,Data!$B$6:$B$1806)","v":59.9964599609375},{"$f":"LOOKUP($V203,Data!$A$6:$A$1806,Data!$C$6:$C$1806)","v":0},{"$f":"LOOKUP($V203,Data!$A$6:$A$1806,Data!$D$6:$D$1806)","v":0},{"$f":"IF($Z$1=\"+\",LOOKUP($V203,Data!$A$6:$A$1806,Data!$E$6:$E$1806)*-1,LOOKUP($V203,Data!$A$6:$A$1806,Data!$E$6:$E$1806))","v":0},{"$f":"LOOKUP($V203,Data!$A$6:$A$1806,Data!$F$6:$F$1806)","v":0},null,{"$f":"LOOKUP($V203,Data!$A$6:$A$1806,Data!$H$6:$H$1806)","v":0},{"$f":"LOOKUP($V203,Data!$A$6:$A$1806,Data!$I$6:$I$1806)","v":0},{"$f":"IF(LOOKUP($V203,Data!$A$6:$A$1806,Data!$J$6:$J$1806)>0,(LOOKUP($V203,Data!$A$6:$A$1806,Data!$J$6:$J$1806)*-1),LOOKUP($V203,Data!$A$6:$A$1806,Data!$J$6:$J$1806))","v":-653},{"$f":"LOOKUP($V203,Data!$A$6:$A$1806,Data!$K$6:$K$1806)","v":30314.837890625},23.116455078125,null,null,null,null,null,null,null,null,null,null,null,null,null,null,null,21741.683098591548,3.5400390625E-3," "]
[null,40679.340833333103,{"$f":"LOOKUP(B204,Data!$A$6:$A$1806,Data!B$6:B$1806)","v":59.991912841796875},{"$f":"LOOKUP(B204,Data!$A$6:$A$1806,Data!C$6:C$1806)","v":0},null,null,19590,{"$f":"(IF((C204-L$2)>0,(IF(C204<'Copy Results'!$C$3,((C204-L$2-L$5)/((L$4*L$2)-L$5)*G204*-1),(('Copy Results'!$C$3-L$2-L$5)/((L$4*L$2)-L$5)*G204*-1))),IF(C204>'Copy Results'!$C$2,((C204-L$2+L$5)/((L$4*L$2)-L$5)*G204*-1),(('Copy Results'!$C$2-L$2+L$5)/((L$4*L$2)-L$5)*G204*-1))))","v":52.80914306640625},20.542900855289112,null,null,0,-8.9549030776844063E-2,{"$f":"AVERAGE(D$79:D204)","v":0},{"$f":"AVERAGE(M$79:M204)","v":572.18473826948298},-18.644902043525651,{"$f":"AVERAGE(P$79:P204)","v":208.86487537544431},null,null,null,null,40679.340833333103,{"$f":"LOOKUP($V204,Data!$A$6:$A$1806,Data!$B$6:$B$1806)","v":59.991912841796875},{"$f":"LOOKUP($V204,Data!$A$6:$A$1806,Data!$C$6:$C$1806)","v":0},{"$f":"LOOKUP($V204,Data!$A$6:$A$1806,Data!$D$6:$D$1806)","v":0},{"$f":"IF($Z$1=\"+\",LOOKUP($V204,Data!$A$6:$A$1806,Data!$E$6:$E$1806)*-1,LOOKUP($V204,Data!$A$6:$A$1806,Data!$E$6:$E$1806))","v":0},{"$f":"LOOKUP($V204,Data!$A$6:$A$1806,Data!$F$6:$F$1806)","v":0},null,{"$f":"LOOKUP($V204,Data!$A$6:$A$1806,Data!$H$6:$H$1806)","v":0},{"$f":"LOOKUP($V204,Data!$A$6:$A$1806,Data!$I$6:$I$1806)","v":0},{"$f":"IF(LOOKUP($V204,Data!$A$6:$A$1806,Data!$J$6:$J$1806)>0,(LOOKUP($V204,Data!$A$6:$A$1806,Data!$J$6:$J$1806)*-1),LOOKUP($V204,Data!$A$6:$A$1806,Data!$J$6:$J$1806))","v":-653},{"$f":"LOOKUP($V204,Data!$A$6:$A$1806,Data!$K$6:$K$1806)","v":30309.708984375},52.80914306640625,null,null,null,null,null,null,null,null,null,null,null,null,null,null,null,7016.6340909090914,8.087158203125E-3," "]
[null,40679.340856481249,{"$f":"LOOKUP(B205,Data!$A$6:$A$1806,Data!B$6:B$1806)","v":59.989013671875},{"$f":"LOOKUP(B205,Data!$A$6:$A$1806,Data!C$6:C$1806)","v":0},null,null,19590,{"$f":"(IF((C205-L$2)>0,(IF(C205<'Copy Results'!$C$3,((C205-L$2-L$5)/((L$4*L$2)-L$5)*G205*-1),(('Copy Results'!$C$3-L$2-L$5)/((L$4*L$2)-L$5)*G205*-1))),IF(C205>'Copy Results'!$C$2,((C205-L$2+L$5)/((L$4*L$2)-L$5)*G205*-1),(('Copy Results'!$C$2-L$2+L$5)/((L$4*L$2)-L$5)*G205*-1))))","v":71.74072265625},38.462138485625424,null,null,0,17.829688599559468,{"$f":"AVERAGE(D$79:D205)","v":0},{"$f":"AVERAGE(M$79:M205)","v":567.81973787838126},-18.644902043525651,{"$f":"AVERAGE(P$79:P205)","v":207.05924222132549},null,null,null,null,40679.340856481249,{"$f":"LOOKUP($V205,Data!$A$6:$A$1806,Data!$B$6:$B$1806)","v":59.989013671875},{"$f":"LOOKUP($V205,Data!$A$6:$A$1806,Data!$C$6:$C$1806)","v":0},{"$f":"LOOKUP($V205,Data!$A$6:$A$1806,Data!$D$6:$D$1806)","v":0},{"$f":"IF($Z$1=\"+\",LOOKUP($V205,Data!$A$6:$A$1806,Data!$E$6:$E$1806)*-1,LOOKUP($V205,Data!$A$6:$A$1806,Data!$E$6:$E$1806))","v":0},{"$f":"LOOKUP($V205,Data!$A$6:$A$1806,Data!$F$6:$F$1806)","v":0},null,{"$f":"LOOKUP($V205,Data!$A$6:$A$1806,Data!$H$6:$H$1806)","v":0},{"$f":"LOOKUP($V205,Data!$A$6:$A$1806,Data!$I$6:$I$1806)","v":0},{"$f":"IF(LOOKUP($V205,Data!$A$6:$A$1806,Data!$J$6:$J$1806)>0,(LOOKUP($V205,Data!$A$6:$A$1806,Data!$J$6:$J$1806)*-1),LOOKUP($V205,Data!$A$6:$A$1806,Data!$J$6:$J$1806))","v":-653},{"$f":"LOOKUP($V205,Data!$A$6:$A$1806,Data!$K$6:$K$1806)","v":30309.708984375},71.74072265625,null,null,null,null,null,null,null,null,null,null,null,null,null,null,null,4900.5063492063491,1.0986328125E-2," "]
[null,40679.340879629395,{"$f":"LOOKUP(B206,Data!$A$6:$A$1806,Data!B$6:B$1806)","v":59.98773193359375},{"$f":"LOOKUP(B206,Data!$A$6:$A$1806,Data!C$6:C$1806)","v":0},null,null,19590,{"$f":"(IF((C206-L$2)>0,(IF(C206<'Copy Results'!$C$3,((C206-L$2-L$5)/((L$4*L$2)-L$5)*G206*-1),(('Copy Results'!$C$3-L$2-L$5)/((L$4*L$2)-L$5)*G206*-1))),IF(C206>'Copy Results'!$C$2,((C206-L$2+L$5)/((L$4*L$2)-L$5)*G206*-1),(('Copy Results'!$C$2-L$2+L$5)/((L$4*L$2)-L$5)*G206*-1))))","v":80.1104736328125},53.039055787140896,null,null,0,32.40660590107494,{"$f":"AVERAGE(D$79:D206)","v":0},{"$f":"AVERAGE(M$79:M206)","v":563.6368227848086},-18.644902043525651,{"$f":"AVERAGE(P$79:P206)","v":205.28204423498809},null,null,null,null,40679.340879629395,{"$f":"LOOKUP($V206,Data!$A$6:$A$1806,Data!$B$6:$B$1806)","v":59.98773193359375},{"$f":"LOOKUP($V206,Data!$A$6:$A$1806,Data!$C$6:$C$1806)","v":0},{"$f":"LOOKUP($V206,Data!$A$6:$A$1806,Data!$D$6:$D$1806)","v":0},{"$f":"IF($Z$1=\"+\",LOOKUP($V206,Data!$A$6:$A$1806,Data!$E$6:$E$1806)*-1,LOOKUP($V206,Data!$A$6:$A$1806,Data!$E$6:$E$1806))","v":0},{"$f":"LOOKUP($V206,Data!$A$6:$A$1806,Data!$F$6:$F$1806)","v":0},null,{"$f":"LOOKUP($V206,Data!$A$6:$A$1806,Data!$H$6:$H$1806)","v":0},{"$f":"LOOKUP($V206,Data!$A$6:$A$1806,Data!$I$6:$I$1806)","v":0},{"$f":"IF(LOOKUP($V206,Data!$A$6:$A$1806,Data!$J$6:$J$1806)>0,(LOOKUP($V206,Data!$A$6:$A$1806,Data!$J$6:$J$1806)*-1),LOOKUP($V206,Data!$A$6:$A$1806,Data!$J$6:$J$1806))","v":-653},{"$f":"LOOKUP($V206,Data!$A$6:$A$1806,Data!$K$6:$K$1806)","v":30309.708984375},80.1104736328125,null,null,null,null,null,null,null,null,null,null,null,null,null,null,null,4323.9761904761908,1.226806640625E-2," "]
[null,40679.340902777541,{"$f":"LOOKUP(B207,Data!$A$6:$A$1806,Data!B$6:B$1806)","v":59.989013671875},{"$f":"LOOKUP(B207,Data!$A$6:$A$1806,Data!C$6:C$1806)","v":0},null,null,19590,{"$f":"(IF((C207-L$2)>0,(IF(C207<'Copy Results'!$C$3,((C207-L$2-L$5)/((L$4*L$2)-L$5)*G207*-1),(('Copy Results'!$C$3-L$2-L$5)/((L$4*L$2)-L$5)*G207*-1))),IF(C207>'Copy Results'!$C$2,((C207-L$2+L$5)/((L$4*L$2)-L$5)*G207*-1),(('Copy Results'!$C$2-L$2+L$5)/((L$4*L$2)-L$5)*G207*-1))))","v":71.74072265625},59.584639191329082,null,null,0,38.952189305263126,{"$f":"AVERAGE(D$79:D207)","v":0},{"$f":"AVERAGE(M$79:M207)","v":559.56950004465705},-18.644902043525651,{"$f":"AVERAGE(P$79:P207)","v":203.53261496718721},null,null,null,null,40679.340902777541,{"$f":"LOOKUP($V207,Data!$A$6:$A$1806,Data!$B$6:$B$1806)","v":59.989013671875},{"$f":"LOOKUP($V207,Data!$A$6:$A$1806,Data!$C$6:$C$1806)","v":0},{"$f":"LOOKUP($V207,Data!$A$6:$A$1806,Data!$D$6:$D$1806)","v":0},{"$f":"IF($Z$1=\"+\",LOOKUP($V207,Data!$A$6:$A$1806,Data!$E$6:$E$1806)*-1,LOOKUP($V207,Data!$A$6:$A$1806,Data!$E$6:$E$1806))","v":0},{"$f":"LOOKUP($V207,Data!$A$6:$A$1806,Data!$F$6:$F$1806)","v":0},null,{"$f":"LOOKUP($V207,Data!$A$6:$A$1806,Data!$H$6:$H$1806)","v":0},{"$f":"LOOKUP($V207,Data!$A$6:$A$1806,Data!$I$6:$I$1806)","v":0},{"$f":"IF(LOOKUP($V207,Data!$A$6:$A$1806,Data!$J$6:$J$1806)>0,(LOOKUP($V207,Data!$A$6:$A$1806,Data!$J$6:$J$1806)*-1),LOOKUP($V207,Data!$A$6:$A$1806,Data!$J$6:$J$1806))","v":-653},{"$f":"LOOKUP($V207,Data!$A$6:$A$1806,Data!$K$6:$K$1806)","v":30309.708984375},71.74072265625,null,null,null,null,null,null,null,null,null,null,null,null,null,null,null,4900.5063492063491,1.0986328125E-2," "]
[null,40679.340925925688,{"$f":"LOOKUP(B208,Data!$A$6:$A$1806,Data!B$6:B$1806)","v":59.9925537109375},{"$f":"LOOKUP(B208,Data!$A$6:$A$1806,Data!C$6:C$1806)","v":0},null,null,19590,{"$f":"(IF((C208-L$2)>0,(IF(C208<'Copy Results'!$C$3,((C208-L$2-L$5)/((L$4*L$2)-L$5)*G208*-1),(('Copy Results'!$C$3-L$2-L$5)/((L$4*L$2)-L$5)*G208*-1))),IF(C208>'Copy Results'!$C$2,((C208-L$2+L$5)/((L$4*L$2)-L$5)*G208*-1),(('Copy Results'!$C$2-L$2+L$5)/((L$4*L$2)-L$5)*G208*-1))))","v":48.624267578125},55.748509126707653,null,null,{"$f":"IF(B208>G$3,0,(K$21*0.000023148/K$22))","v":0},{"$f":"M207+L208+(I208-I207)","v":35.116059240641697},{"$f":"AVERAGE(D$79:D208)","v":0},{"$f":"AVERAGE(M$79:M208)","v":555.53524280770307},-18.644902043525651,{"$f":"AVERAGE(P$79:P208)","v":201.81030863377083},null,null,null,null,40679.340925925688,{"$f":"LOOKUP($V208,Data!$A$6:$A$1806,Data!$B$6:$B$1806)","v":59.9925537109375},{"$f":"LOOKUP($V208,Data!$A$6:$A$1806,Data!$C$6:$C$1806)","v":0},{"$f":"LOOKUP($V208,Data!$A$6:$A$1806,Data!$D$6:$D$1806)","v":0},{"$f":"IF($Z$1=\"+\",LOOKUP($V208,Data!$A$6:$A$1806,Data!$E$6:$E$1806)*-1,LOOKUP($V208,Data!$A$6:$A$1806,Data!$E$6:$E$1806))","v":0},{"$f":"LOOKUP($V208,Data!$A$6:$A$1806,Data!$F$6:$F$1806)","v":0},null,{"$f":"LOOKUP($V208,Data!$A$6:$A$1806,Data!$H$6:$H$1806)","v":0},{"$f":"LOOKUP($V208,Data!$A$6:$A$1806,Data!$I$6:$I$1806)","v":0},{"$f":"IF(LOOKUP($V208,Data!$A$6:$A$1806,Data!$J$6:$J$1806)>0,(LOOKUP($V208,Data!$A$6:$A$1806,Data!$J$6:$J$1806)*-1),LOOKUP($V208,Data!$A$6:$A$1806,Data!$J$6:$J$1806))","v":-653},{"$f":"LOOKUP($V208,Data!$A$6:$A$1806,Data!$K$6:$K$1806)","v":30319.49609375},48.624267578125,null,null,null,null,null,null,null,null,null,null,null,null,null,null,null,7757.082914572864,7.4462890625E-3," "]
[null,40679.340949073834,{"$f":"LOOKUP(B209,Data!$A$6:$A$1806,Data!B$6:B$1806)","v":59.99578857421875},{"$f":"LOOKUP(B209,Data!$A$6:$A$1806,Data!C$6:C$1806)","v":0},null,null,19590,{"$f":"(IF((C209-L$2)>0,(IF(C209<'Copy Results'!$C$3,((C209-L$2-L$5)/((L$4*L$2)-L$5)*G209*-1),(('Copy Results'!$C$3-L$2-L$5)/((L$4*L$2)-L$5)*G209*-1))),IF(C209>'Copy Results'!$C$2,((C209-L$2+L$5)/((L$4*L$2)-L$5)*G209*-1),(('Copy Results'!$C$2-L$2+L$5)/((L$4*L$2)-L$5)*G209*-1))))","v":27.5006103515625},45.861744555406851,null,null,0,25.229294669340895,{"$f":"AVERAGE(D$79:D209)","v":0},{"$f":"AVERAGE(M$79:M209)","v":551.48710579901319},-18.644902043525651,{"$f":"AVERAGE(P$79:P209)","v":200.11449932086856},null,null,null,null,{"$f":"V208+TIME(0,0,$B$1)","v":40679.340949073834},{"$f":"LOOKUP($V209,Data!$A$6:$A$1806,Data!$B$6:$B$1806)","v":59.99578857421875},{"$f":"LOOKUP($V209,Data!$A$6:$A$1806,Data!$C$6:$C$1806)","v":0},{"$f":"LOOKUP($V209,Data!$A$6:$A$1806,Data!$D$6:$D$1806)","v":0},{"$f":"IF($Z$1=\"+\",LOOKUP($V209,Data!$A$6:$A$1806,Data!$E$6:$E$1806)*-1,LOOKUP($V209,Data!$A$6:$A$1806,Data!$E$6:$E$1806))","v":0},{"$f":"LOOKUP($V209,Data!$A$6:$A$1806,Data!$F$6:$F$1806)","v":0},null,{"$f":"LOOKUP($V209,Data!$A$6:$A$1806,Data!$H$6:$H$1806)","v":0},{"$f":"LOOKUP($V209,Data!$A$6:$A$1806,Data!$I$6:$I$1806)","v":0},{"$f":"IF(LOOKUP($V209,Data!$A$6:$A$1806,Data!$J$6:$J$1806)>0,(LOOKUP($V209,Data!$A$6:$A$1806,Data!$J$6:$J$1806)*-1),LOOKUP($V209,Data!$A$6:$A$1806,Data!$J$6:$J$1806))","v":-653},{"$f":"LOOKUP($V209,Data!$A$6:$A$1806,Data!$K$6:$K$1806)","v":30319.49609375},27.5006103515625,null,null,null,null,null,null,null,null,null,null,null,null,null,null,null,{"$f":"IF(((D209-F$78)/((C209-E$78)*10))<0,\" \",((D209-F$78)/((C209-E$78)*10)))","v":16598.489247311827},4.21142578125E-3," "]
[null,40679.34097222198,{"$f":"LOOKUP(B210,Data!$A$6:$A$1806,Data!B$6:B$1806)","v":59.9990234375},{"$f":"LOOKUP(B210,Data!$A$6:$A$1806,Data!C$6:C$1806)","v":0},null,null,19590,{"$f":"(IF((C210-L$2)>0,(IF(C210<'Copy Results'!$C$3,((C210-L$2-L$5)/((L$4*L$2)-L$5)*G210*-1),(('Copy Results'!$C$3-L$2-L$5)/((L$4*L$2)-L$5)*G210*-1))),IF(C210>'Copy Results'!$C$2,((C210-L$2+L$5)/((L$4*L$2)-L$5)*G210*-1),(('Copy Results'!$C$2-L$2+L$5)/((L$4*L$2)-L$5)*G210*-1))))","v":6.376953125},32.042067554764458,null,null,0,11.409617668698502,{"$f":"AVERAGE(D$79:D210)","v":0},{"$f":"AVERAGE(M$79:M210)","v":547.39560967681393},{"$f":"P209+L210","v":-18.644902043525651},{"$f":"AVERAGE(P$79:P210)","v":198.44458022648388},null,null,null,null,40679.34097222198,{"$f":"LOOKUP($V210,Data!$A$6:$A$1806,Data!$B$6:$B$1806)","v":59.9990234375},{"$f":"LOOKUP($V210,Data!$A$6:$A$1806,Data!$C$6:$C$1806)","v":0},{"$f":"LOOKUP($V210,Data!$A$6:$A$1806,Data!$D$6:$D$1806)","v":0},{"$f":"IF($Z$1=\"+\",LOOKUP($V210,Data!$A$6:$A$1806,Data!$E$6:$E$1806)*-1,LOOKUP($V210,Data!$A$6:$A$1806,Data!$E$6:$E$1806))","v":0},{"$f":"LOOKUP($V210,Data!$A$6:$A$1806,Data!$F$6:$F$1806)","v":0},null,{"$f":"LOOKUP($V210,Data!$A$6:$A$1806,Data!$H$6:$H$1806)","v":0},{"$f":"LOOKUP($V210,Data!$A$6:$A$1806,Data!$I$6:$I$1806)","v":0},{"$f":"IF(LOOKUP($V210,Data!$A$6:$A$1806,Data!$J$6:$J$1806)>0,(LOOKUP($V210,Data!$A$6:$A$1806,Data!$J$6:$J$1806)*-1),LOOKUP($V210,Data!$A$6:$A$1806,Data!$J$6:$J$1806))","v":-653},{"$f":"LOOKUP($V210,Data!$A$6:$A$1806,Data!$K$6:$K$1806)","v":30319.49609375},6.376953125,null,null,null,null,null,null,null,null,null,null,null,null,null,null,null," ",9.765625E-4," "]
[null,40679.340995370127,{"$f":"LOOKUP(B211,Data!$A$6:$A$1806,Data!B$6:B$1806)","v":60.001953125},{"$f":"LOOKUP(B211,Data!$A$6:$A$1806,Data!C$6:C$1806)","v":0},null,null,19590,{"$f":"(IF((C211-L$2)>0,(IF(C211<'Copy Results'!$C$3,((C211-L$2-L$5)/((L$4*L$2)-L$5)*G211*-1),(('Copy Results'!$C$3-L$2-L$5)/((L$4*L$2)-L$5)*G211*-1))),IF(C211>'Copy Results'!$C$2,((C211-L$2+L$5)/((L$4*L$2)-L$5)*G211*-1),(('Copy Results'!$C$2-L$2+L$5)/((L$4*L$2)-L$5)*G211*-1))))","v":-12.75390625},16.363476723096898,null,null,0,-4.2689731629690577,{"$f":"AVERAGE(D$79:D211)","v":0},{"$f":"AVERAGE(M$79:M211)","v":543.24775567049971},-18.644902043525651,{"$f":"AVERAGE(P$79:P211)","v":196.79996293655958},null,null,null,null,40679.340995370127,{"$f":"LOOKUP($V211,Data!$A$6:$A$1806,Data!$B$6:$B$1806)","v":60.001953125},{"$f":"LOOKUP($V211,Data!$A$6:$A$1806,Data!$C$6:$C$1806)","v":0},{"$f":"LOOKUP($V211,Data!$A$6:$A$1806,Data!$D$6:$D$1806)","v":0},{"$f":"IF($Z$1=\"+\",LOOKUP($V211,Data!$A$6:$A$1806,Data!$E$6:$E$1806)*-1,LOOKUP($V211,Data!$A$6:$A$1806,Data!$E$6:$E$1806))","v":0},{"$f":"LOOKUP($V211,Data!$A$6:$A$1806,Data!$F$6:$F$1806)","v":0},null,{"$f":"LOOKUP($V211,Data!$A$6:$A$1806,Data!$H$6:$H$1806)","v":0},{"$f":"LOOKUP($V211,Data!$A$6:$A$1806,Data!$I$6:$I$1806)","v":0},{"$f":"IF(LOOKUP($V211,Data!$A$6:$A$1806,Data!$J$6:$J$1806)>0,(LOOKUP($V211,Data!$A$6:$A$1806,Data!$J$6:$J$1806)*-1),LOOKUP($V211,Data!$A$6:$A$1806,Data!$J$6:$J$1806))","v":-653},{"$f":"LOOKUP($V211,Data!$A$6:$A$1806,Data!$K$6:$K$1806)","v":30319.49609375},-12.75390625,null,null,null,null,null,null,null,null,null,null,null,null,null,null,null," ",1.953125E-3," "]
[null,40679.341018518273,{"$f":"LOOKUP(B212,Data!$A$6:$A$1806,Data!B$6:B$1806)","v":60.004852294921875},{"$f":"LOOKUP(B212,Data!$A$6:$A$1806,Data!C$6:C$1806)","v":0},null,null,19590,{"$f":"(IF((C212-L$2)>0,(IF(C212<'Copy Results'!$C$3,((C212-L$2-L$5)/((L$4*L$2)-L$5)*G212*-1),(('Copy Results'!$C$3-L$2-L$5)/((L$4*L$2)-L$5)*G212*-1))),IF(C212>'Copy Results'!$C$2,((C212-L$2+L$5)/((L$4*L$2)-L$5)*G212*-1),(('Copy Results'!$C$2-L$2+L$5)/((L$4*L$2)-L$5)*G212*-1))))","v":-31.68548583984375},-0.45366017393232738,null,null,0,-21.086110059998283,{"$f":"AVERAGE(D$79:D212)","v":0},{"$f":"AVERAGE(M$79:M212)","v":539.03630891131695},-18.644902043525651,{"$f":"AVERAGE(P$79:P212)","v":195.18007673370181},null,null,null,null,40679.341018518273,{"$f":"LOOKUP($V212,Data!$A$6:$A$1806,Data!$B$6:$B$1806)","v":60.004852294921875},{"$f":"LOOKUP($V212,Data!$A$6:$A$1806,Data!$C$6:$C$1806)","v":0},{"$f":"LOOKUP($V212,Data!$A$6:$A$1806,Data!$D$6:$D$1806)","v":0},{"$f":"IF($Z$1=\"+\",LOOKUP($V212,Data!$A$6:$A$1806,Data!$E$6:$E$1806)*-1,LOOKUP($V212,Data!$A$6:$A$1806,Data!$E$6:$E$1806))","v":0},{"$f":"LOOKUP($V212,Data!$A$6:$A$1806,Data!$F$6:$F$1806)","v":0},null,{"$f":"LOOKUP($V212,Data!$A$6:$A$1806,Data!$H$6:$H$1806)","v":0},{"$f":"LOOKUP($V212,Data!$A$6:$A$1806,Data!$I$6:$I$1806)","v":0},{"$f":"IF(LOOKUP($V212,Data!$A$6:$A$1806,Data!$J$6:$J$1806)>0,(LOOKUP($V212,Data!$A$6:$A$1806,Data!$J$6:$J$1806)*-1),LOOKUP($V212,Data!$A$6:$A$1806,Data!$J$6:$J$1806))","v":-653},{"$f":"LOOKUP($V212,Data!$A$6:$A$1806,Data!$K$6:$K$1806)","v":30357.212890625},-31.68548583984375,null,null,null,null,null,null,null,null,null,null,null,null,null,null,null," ",4.852294921875E-3," "]
[null,40679.341041666419,{"$f":"LOOKUP(B213,Data!$A$6:$A$1806,Data!B$6:B$1806)","v":60.008087158203125},{"$f":"LOOKUP(B213,Data!$A$6:$A$1806,Data!C$6:C$1806)","v":0},null,null,19590,{"$f":"(IF((C213-L$2)>0,(IF(C213<'Copy Results'!$C$3,((C213-L$2-L$5)/((L$4*L$2)-L$5)*G213*-1),(('Copy Results'!$C$3-L$2-L$5)/((L$4*L$2)-L$5)*G213*-1))),IF(C213>'Copy Results'!$C$2,((C213-L$2+L$5)/((L$4*L$2)-L$5)*G213*-1),(('Copy Results'!$C$2-L$2+L$5)/((L$4*L$2)-L$5)*G213*-1))))","v":-52.80914306640625},-18.7780791862982,null,null,0,-39.410529072364156,{"$f":"AVERAGE(D$79:D213)","v":0},{"$f":"AVERAGE(M$79:M213)","v":534.75151751884516},-18.644902043525651,{"$f":"AVERAGE(P$79:P213)","v":193.58436793685684},null,null,null,null,40679.341041666419,{"$f":"LOOKUP($V213,Data!$A$6:$A$1806,Data!$B$6:$B$1806)","v":60.008087158203125},{"$f":"LOOKUP($V213,Data!$A$6:$A$1806,Data!$C$6:$C$1806)","v":0},{"$f":"LOOKUP($V213,Data!$A$6:$A$1806,Data!$D$6:$D$1806)","v":0},{"$f":"IF($Z$1=\"+\",LOOKUP($V213,Data!$A$6:$A$1806,Data!$E$6:$E$1806)*-1,LOOKUP($V213,Data!$A$6:$A$1806,Data!$E$6:$E$1806))","v":0},{"$f":"LOOKUP($V213,Data!$A$6:$A$1806,Data!$F$6:$F$1806)","v":0},null,{"$f":"LOOKUP($V213,Data!$A$6:$A$1806,Data!$H$6:$H$1806)","v":0},{"$f":"LOOKUP($V213,Data!$A$6:$A$1806,Data!$I$6:$I$1806)","v":0},{"$f":"IF(LOOKUP($V213,Data!$A$6:$A$1806,Data!$J$6:$J$1806)>0,(LOOKUP($V213,Data!$A$6:$A$1806,Data!$J$6:$J$1806)*-1),LOOKUP($V213,Data!$A$6:$A$1806,Data!$J$6:$J$1806))","v":-653},{"$f":"LOOKUP($V213,Data!$A$6:$A$1806,Data!$K$6:$K$1806)","v":30357.212890625},-52.80914306640625,null,null,null,null,null,null,null,null,null,null,null,null,null,null,null," ",8.087158203125E-3," "]
[null,40679.341064814565,{"$f":"LOOKUP(B214,Data!$A$6:$A$1806,Data!B$6:B$1806)","v":60.011627197265625},{"$f":"LOOKUP(B214,Data!$A$6:$A$1806,Data!C$6:C$1806)","v":0},null,null,19590,{"$f":"(IF((C214-L$2)>0,(IF(C214<'Copy Results'!$C$3,((C214-L$2-L$5)/((L$4*L$2)-L$5)*G214*-1),(('Copy Results'!$C$3-L$2-L$5)/((L$4*L$2)-L$5)*G214*-1))),IF(C214>'Copy Results'!$C$2,((C214-L$2+L$5)/((L$4*L$2)-L$5)*G214*-1),(('Copy Results'!$C$2-L$2+L$5)/((L$4*L$2)-L$5)*G214*-1))))","v":-75.92559814453125},-38.779710821679771,null,null,0,-59.412160707745727,{"$f":"AVERAGE(D$79:D214)","v":0},{"$f":"AVERAGE(M$79:M214)","v":530.38266694364972},-18.644902043525651,{"$f":"AVERAGE(P$79:P214)","v":192.01229927033549},null,null,null,null,40679.341064814565,{"$f":"LOOKUP($V214,Data!$A$6:$A$1806,Data!$B$6:$B$1806)","v":60.011627197265625},{"$f":"LOOKUP($V214,Data!$A$6:$A$1806,Data!$C$6:$C$1806)","v":0},{"$f":"LOOKUP($V214,Data!$A$6:$A$1806,Data!$D$6:$D$1806)","v":0},{"$f":"IF($Z$1=\"+\",LOOKUP($V214,Data!$A$6:$A$1806,Data!$E$6:$E$1806)*-1,LOOKUP($V214,Data!$A$6:$A$1806,Data!$E$6:$E$1806))","v":0},{"$f":"LOOKUP($V214,Data!$A$6:$A$1806,Data!$F$6:$F$1806)","v":0},null,{"$f":"LOOKUP($V214,Data!$A$6:$A$1806,Data!$H$6:$H$1806)","v":0},{"$f":"LOOKUP($V214,Data!$A$6:$A$1806,Data!$I$6:$I$1806)","v":0},{"$f":"IF(LOOKUP($V214,Data!$A$6:$A$1806,Data!$J$6:$J$1806)>0,(LOOKUP($V214,Data!$A$6:$A$1806,Data!$J$6:$J$1806)*-1),LOOKUP($V214,Data!$A$6:$A$1806,Data!$J$6:$J$1806))","v":-653},{"$f":"LOOKUP($V214,Data!$A$6:$A$1806,Data!$K$6:$K$1806)","v":30357.18359375},-75.92559814453125,null,null,null,null,null,null,null,null,null,null,null,null,null,null,null," ",1.1627197265625E-2," "]
[null,40679.341087962712,{"$f":"LOOKUP(B215,Data!$A$6:$A$1806,Data!B$6:B$1806)","v":60.01422119140625},{"$f":"LOOKUP(B215,Data!$A$6:$A$1806,Data!C$6:C$1806)","v":0},null,null,19590,{"$f":"(IF((C215-L$2)>0,(IF(C215<'Copy Results'!$C$3,((C215-L$2-L$5)/((L$4*L$2)-L$5)*G215*-1),(('Copy Results'!$C$3-L$2-L$5)/((L$4*L$2)-L$5)*G215*-1))),IF(C215>'Copy Results'!$C$2,((C215-L$2+L$5)/((L$4*L$2)-L$5)*G215*-1),(('Copy Results'!$C$2-L$2+L$5)/((L$4*L$2)-L$5)*G215*-1))))","v":-92.8643798828125},-57.709344993076229,null,null,0,-78.341794879142185,{"$f":"AVERAGE(D$79:D215)","v":0},{"$f":"AVERAGE(M$79:M215)","v":525.93942269676802},-18.644902043525651,{"$f":"AVERAGE(P$79:P215)","v":190.46334926067473},null,null,null,null,40679.341087962712,{"$f":"LOOKUP($V215,Data!$A$6:$A$1806,Data!$B$6:$B$1806)","v":60.01422119140625},{"$f":"LOOKUP($V215,Data!$A$6:$A$1806,Data!$C$6:$C$1806)","v":0},{"$f":"LOOKUP($V215,Data!$A$6:$A$1806,Data!$D$6:$D$1806)","v":0},{"$f":"IF($Z$1=\"+\",LOOKUP($V215,Data!$A$6:$A$1806,Data!$E$6:$E$1806)*-1,LOOKUP($V215,Data!$A$6:$A$1806,Data!$E$6:$E$1806))","v":0},{"$f":"LOOKUP($V215,Data!$A$6:$A$1806,Data!$F$6:$F$1806)","v":0},null,{"$f":"LOOKUP($V215,Data!$A$6:$A$1806,Data!$H$6:$H$1806)","v":0},{"$f":"LOOKUP($V215,Data!$A$6:$A$1806,Data!$I$6:$I$1806)","v":0},{"$f":"IF(LOOKUP($V215,Data!$A$6:$A$1806,Data!$J$6:$J$1806)>0,(LOOKUP($V215,Data!$A$6:$A$1806,Data!$J$6:$J$1806)*-1),LOOKUP($V215,Data!$A$6:$A$1806,Data!$J$6:$J$1806))","v":-653},{"$f":"LOOKUP($V215,Data!$A$6:$A$1806,Data!$K$6:$K$1806)","v":30357.18359375},-92.8643798828125,null,null,null,null,null,null,null,null,null,null,null,null,null,null,null," ",1.422119140625E-2," "]
[null,40679.341111110858,{"$f":"LOOKUP(B216,Data!$A$6:$A$1806,Data!B$6:B$1806)","v":60.01519775390625},{"$f":"LOOKUP(B216,Data!$A$6:$A$1806,Data!C$6:C$1806)","v":0},null,null,19590,{"$f":"(IF((C216-L$2)>0,(IF(C216<'Copy Results'!$C$3,((C216-L$2-L$5)/((L$4*L$2)-L$5)*G216*-1),(('Copy Results'!$C$3-L$2-L$5)/((L$4*L$2)-L$5)*G216*-1))),IF(C216>'Copy Results'!$C$2,((C216-L$2+L$5)/((L$4*L$2)-L$5)*G216*-1),(('Copy Results'!$C$2-L$2+L$5)/((L$4*L$2)-L$5)*G216*-1))))","v":-99.2413330078125},-72.245540798233918,null,null,0,-92.877990684299874,{"$f":"AVERAGE(D$79:D216)","v":0},{"$f":"AVERAGE(M$79:M216)","v":521.45523854183273},-18.644902043525651,{"$f":"AVERAGE(P$79:P216)","v":188.93701165991416},null,null,null,null,40679.341111110858,{"$f":"LOOKUP($V216,Data!$A$6:$A$1806,Data!$B$6:$B$1806)","v":60.01519775390625},{"$f":"LOOKUP($V216,Data!$A$6:$A$1806,Data!$C$6:$C$1806)","v":0},{"$f":"LOOKUP($V216,Data!$A$6:$A$1806,Data!$D$6:$D$1806)","v":0},{"$f":"IF($Z$1=\"+\",LOOKUP($V216,Data!$A$6:$A$1806,Data!$E$6:$E$1806)*-1,LOOKUP($V216,Data!$A$6:$A$1806,Data!$E$6:$E$1806))","v":0},{"$f":"LOOKUP($V216,Data!$A$6:$A$1806,Data!$F$6:$F$1806)","v":0},null,{"$f":"LOOKUP($V216,Data!$A$6:$A$1806,Data!$H$6:$H$1806)","v":0},{"$f":"LOOKUP($V216,Data!$A$6:$A$1806,Data!$I$6:$I$1806)","v":0},{"$f":"IF(LOOKUP($V216,Data!$A$6:$A$1806,Data!$J$6:$J$1806)>0,(LOOKUP($V216,Data!$A$6:$A$1806,Data!$J$6:$J$1806)*-1),LOOKUP($V216,Data!$A$6:$A$1806,Data!$J$6:$J$1806))","v":-653},{"$f":"LOOKUP($V216,Data!$A$6:$A$1806,Data!$K$6:$K$1806)","v":30357.18359375},-99.2413330078125,null,null,null,null,null,null,null,null,null,null,null,null,null,null,null," ",1.519775390625E-2," "]
[null,40679.341134259004,{"$f":"LOOKUP(B217,Data!$A$6:$A$1806,Data!B$6:B$1806)","v":60.0155029296875},{"$f":"LOOKUP(B217,Data!$A$6:$A$1806,Data!C$6:C$1806)","v":0},null,null,19590,{"$f":"(IF((C217-L$2)>0,(IF(C217<'Copy Results'!$C$3,((C217-L$2-L$5)/((L$4*L$2)-L$5)*G217*-1),(('Copy Results'!$C$3-L$2-L$5)/((L$4*L$2)-L$5)*G217*-1))),IF(C217>'Copy Results'!$C$2,((C217-L$2+L$5)/((L$4*L$2)-L$5)*G217*-1),(('Copy Results'!$C$2-L$2+L$5)/((L$4*L$2)-L$5)*G217*-1))))","v":-101.234130859375},-82.391547319633304,null,null,0,-103.02399720569926,{"$f":"AVERAGE(D$79:D217)","v":0},{"$f":"AVERAGE(M$79:M217)","v":516.96258216954834},-18.644902043525651,{"$f":"AVERAGE(P$79:P217)","v":187.4327948939472},null,null,null,null,40679.341134259004,{"$f":"LOOKUP($V217,Data!$A$6:$A$1806,Data!$B$6:$B$1806)","v":60.0155029296875},{"$f":"LOOKUP($V217,Data!$A$6:$A$1806,Data!$C$6:$C$1806)","v":0},{"$f":"LOOKUP($V217,Data!$A$6:$A$1806,Data!$D$6:$D$1806)","v":0},{"$f":"IF($Z$1=\"+\",LOOKUP($V217,Data!$A$6:$A$1806,Data!$E$6:$E$1806)*-1,LOOKUP($V217,Data!$A$6:$A$1806,Data!$E$6:$E$1806))","v":0},{"$f":"LOOKUP($V217,Data!$A$6:$A$1806,Data!$F$6:$F$1806)","v":0},null,{"$f":"LOOKUP($V217,Data!$A$6:$A$1806,Data!$H$6:$H$1806)","v":0},{"$f":"LOOKUP($V217,Data!$A$6:$A$1806,Data!$I$6:$I$1806)","v":0},{"$f":"IF(LOOKUP($V217,Data!$A$6:$A$1806,Data!$J$6:$J$1806)>0,(LOOKUP($V217,Data!$A$6:$A$1806,Data!$J$6:$J$1806)*-1),LOOKUP($V217,Data!$A$6:$A$1806,Data!$J$6:$J$1806))","v":-653},{"$f":"LOOKUP($V217,Data!$A$6:$A$1806,Data!$K$6:$K$1806)","v":30357.18359375},-101.234130859375,null,null,null,null,null,null,null,null,null,null,null,null,null,null,null," ",1.55029296875E-2," "]
[null,40679.341157407151,{"$f":"LOOKUP(B218,Data!$A$6:$A$1806,Data!B$6:B$1806)","v":60.0155029296875},{"$f":"LOOKUP(B218,Data!$A$6:$A$1806,Data!C$6:C$1806)","v":0},null,null,19590,{"$f":"(IF((C218-L$2)>0,(IF(C218<'Copy Results'!$C$3,((C218-L$2-L$5)/((L$4*L$2)-L$5)*G218*-1),(('Copy Results'!$C$3-L$2-L$5)/((L$4*L$2)-L$5)*G218*-1))),IF(C218>'Copy Results'!$C$2,((C218-L$2+L$5)/((L$4*L$2)-L$5)*G218*-1),(('Copy Results'!$C$2-L$2+L$5)/((L$4*L$2)-L$5)*G218*-1))))","v":-101.234130859375},-88.986451558542896,null,null,0,-109.61890144460885,{"$f":"AVERAGE(D$79:D218)","v":0},{"$f":"AVERAGE(M$79:M218)","v":512.48700014373287},-18.644902043525651,{"$f":"AVERAGE(P$79:P218)","v":185.95022153468483},null,null,null,null,40679.341157407151,{"$f":"LOOKUP($V218,Data!$A$6:$A$1806,Data!$B$6:$B$1806)","v":60.0155029296875},{"$f":"LOOKUP($V218,Data!$A$6:$A$1806,Data!$C$6:$C$1806)","v":0},{"$f":"LOOKUP($V218,Data!$A$6:$A$1806,Data!$D$6:$D$1806)","v":0},{"$f":"IF($Z$1=\"+\",LOOKUP($V218,Data!$A$6:$A$1806,Data!$E$6:$E$1806)*-1,LOOKUP($V218,Data!$A$6:$A$1806,Data!$E$6:$E$1806))","v":0},{"$f":"LOOKUP($V218,Data!$A$6:$A$1806,Data!$F$6:$F$1806)","v":0},null,{"$f":"LOOKUP($V218,Data!$A$6:$A$1806,Data!$H$6:$H$1806)","v":0},{"$f":"LOOKUP($V218,Data!$A$6:$A$1806,Data!$I$6:$I$1806)","v":0},{"$f":"IF(LOOKUP($V218,Data!$A$6:$A$1806,Data!$J$6:$J$1806)>0,(LOOKUP($V218,Data!$A$6:$A$1806,Data!$J$6:$J$1806)*-1),LOOKUP($V218,Data!$A$6:$A$1806,Data!$J$6:$J$1806))","v":-653},{"$f":"LOOKUP($V218,Data!$A$6:$A$1806,Data!$K$6:$K$1806)","v":30354.2578125},-101.234130859375,null,null,null,null,null,null,null,null,null,null,null,null,null,null,null," ",1.55029296875E-2," "]
[null,40679.341180555297,{"$f":"LOOKUP(B219,Data!$A$6:$A$1806,Data!B$6:B$1806)","v":60.016815185546875},{"$f":"LOOKUP(B219,Data!$A$6:$A$1806,Data!C$6:C$1806)","v":0},null,null,19590,{"$f":"(IF((C219-L$2)>0,(IF(C219<'Copy Results'!$C$3,((C219-L$2-L$5)/((L$4*L$2)-L$5)*G219*-1),(('Copy Results'!$C$3-L$2-L$5)/((L$4*L$2)-L$5)*G219*-1))),IF(C219>'Copy Results'!$C$2,((C219-L$2+L$5)/((L$4*L$2)-L$5)*G219*-1),(('Copy Results'!$C$2-L$2+L$5)/((L$4*L$2)-L$5)*G219*-1))))","v":-109.80316162109375},-96.272300080435699,null,null,0,-116.90474996650165,{"$f":"AVERAGE(D$79:D219)","v":0},{"$f":"AVERAGE(M$79:M219)","v":508.02322886635528},-18.644902043525651,{"$f":"AVERAGE(P$79:P219)","v":184.48882779484046},null,null,null,null,40679.341180555297,{"$f":"LOOKUP($V219,Data!$A$6:$A$1806,Data!$B$6:$B$1806)","v":60.016815185546875},{"$f":"LOOKUP($V219,Data!$A$6:$A$1806,Data!$C$6:$C$1806)","v":0},{"$f":"LOOKUP($V219,Data!$A$6:$A$1806,Data!$D$6:$D$1806)","v":0},{"$f":"IF($Z$1=\"+\",LOOKUP($V219,Data!$A$6:$A$1806,Data!$E$6:$E$1806)*-1,LOOKUP($V219,Data!$A$6:$A$1806,Data!$E$6:$E$1806))","v":0},{"$f":"LOOKUP($V219,Data!$A$6:$A$1806,Data!$F$6:$F$1806)","v":0},null,{"$f":"LOOKUP($V219,Data!$A$6:$A$1806,Data!$H$6:$H$1806)","v":0},{"$f":"LOOKUP($V219,Data!$A$6:$A$1806,Data!$I$6:$I$1806)","v":0},{"$f":"IF(LOOKUP($V219,Data!$A$6:$A$1806,Data!$J$6:$J$1806)>0,(LOOKUP($V219,Data!$A$6:$A$1806,Data!$J$6:$J$1806)*-1),LOOKUP($V219,Data!$A$6:$A$1806,Data!$J$6:$J$1806))","v":-653},{"$f":"LOOKUP($V219,Data!$A$6:$A$1806,Data!$K$6:$K$1806)","v":30354.2578125},-109.80316162109375,null,null,null,null,null,null,null,null,null,null,null,null,null,null,null," ",1.6815185546875E-2," "]
[null,40679.341203703443,{"$f":"LOOKUP(B220,Data!$A$6:$A$1806,Data!B$6:B$1806)","v":60.019073486328125},{"$f":"LOOKUP(B220,Data!$A$6:$A$1806,Data!C$6:C$1806)","v":0},null,null,19590,{"$f":"(IF((C220-L$2)>0,(IF(C220<'Copy Results'!$C$3,((C220-L$2-L$5)/((L$4*L$2)-L$5)*G220*-1),(('Copy Results'!$C$3-L$2-L$5)/((L$4*L$2)-L$5)*G220*-1))),IF(C220>'Copy Results'!$C$2,((C220-L$2+L$5)/((L$4*L$2)-L$5)*G220*-1),(('Copy Results'!$C$2-L$2+L$5)/((L$4*L$2)-L$5)*G220*-1))))","v":-124.54986572265625},-106.1694480552129,null,null,0,-126.80189794127885,{"$f":"AVERAGE(D$79:D220)","v":0},{"$f":"AVERAGE(M$79:M220)","v":503.55262938179453},-18.644902043525651,{"$f":"AVERAGE(P$79:P220)","v":183.04816304421377},null,null,null,null,40679.341203703443,{"$f":"LOOKUP($V220,Data!$A$6:$A$1806,Data!$B$6:$B$1806)","v":60.019073486328125},{"$f":"LOOKUP($V220,Data!$A$6:$A$1806,Data!$C$6:$C$1806)","v":0},{"$f":"LOOKUP($V220,Data!$A$6:$A$1806,Data!$D$6:$D$1806)","v":0},{"$f":"IF($Z$1=\"+\",LOOKUP($V220,Data!$A$6:$A$1806,Data!$E$6:$E$1806)*-1,LOOKUP($V220,Data!$A$6:$A$1806,Data!$E$6:$E$1806))","v":0},{"$f":"LOOKUP($V220,Data!$A$6:$A$1806,Data!$F$6:$F$1806)","v":0},null,{"$f":"LOOKUP($V220,Data!$A$6:$A$1806,Data!$H$6:$H$1806)","v":0},{"$f":"LOOKUP($V220,Data!$A$6:$A$1806,Data!$I$6:$I$1806)","v":0},{"$f":"IF(LOOKUP($V220,Data!$A$6:$A$1806,Data!$J$6:$J$1806)>0,(LOOKUP($V220,Data!$A$6:$A$1806,Data!$J$6:$J$1806)*-1),LOOKUP($V220,Data!$A$6:$A$1806,Data!$J$6:$J$1806))","v":-653},{"$f":"LOOKUP($V220,Data!$A$6:$A$1806,Data!$K$6:$K$1806)","v":30354.2578125},-124.54986572265625,null,null,null,null,null,null,null,null,null,null,null,null,null,null,null," ",1.9073486328125E-2," "]
[null,40679.341226851589,{"$f":"LOOKUP(B221,Data!$A$6:$A$1806,Data!B$6:B$1806)","v":60.02294921875},{"$f":"LOOKUP(B221,Data!$A$6:$A$1806,Data!C$6:C$1806)","v":0},null,null,19590,{"$f":"(IF((C221-L$2)>0,(IF(C221<'Copy Results'!$C$3,((C221-L$2-L$5)/((L$4*L$2)-L$5)*G221*-1),(('Copy Results'!$C$3-L$2-L$5)/((L$4*L$2)-L$5)*G221*-1))),IF(C221>'Copy Results'!$C$2,((C221-L$2+L$5)/((L$4*L$2)-L$5)*G221*-1),(('Copy Results'!$C$2-L$2+L$5)/((L$4*L$2)-L$5)*G221*-1))))","v":-149.8583984375},-121.46058068901338,null,null,0,-142.09303057507935,{"$f":"AVERAGE(D$79:D221)","v":0},{"$f":"AVERAGE(M$79:M221)","v":499.03762476671147},-18.644902043525651,{"$f":"AVERAGE(P$79:P221)","v":181.62778934641278},null,null,null,null,40679.341226851589,{"$f":"LOOKUP($V221,Data!$A$6:$A$1806,Data!$B$6:$B$1806)","v":60.02294921875},{"$f":"LOOKUP($V221,Data!$A$6:$A$1806,Data!$C$6:$C$1806)","v":0},{"$f":"LOOKUP($V221,Data!$A$6:$A$1806,Data!$D$6:$D$1806)","v":0},{"$f":"IF($Z$1=\"+\",LOOKUP($V221,Data!$A$6:$A$1806,Data!$E$6:$E$1806)*-1,LOOKUP($V221,Data!$A$6:$A$1806,Data!$E$6:$E$1806))","v":0},{"$f":"LOOKUP($V221,Data!$A$6:$A$1806,Data!$F$6:$F$1806)","v":0},null,{"$f":"LOOKUP($V221,Data!$A$6:$A$1806,Data!$H$6:$H$1806)","v":0},{"$f":"LOOKUP($V221,Data!$A$6:$A$1806,Data!$I$6:$I$1806)","v":0},{"$f":"IF(LOOKUP($V221,Data!$A$6:$A$1806,Data!$J$6:$J$1806)>0,(LOOKUP($V221,Data!$A$6:$A$1806,Data!$J$6:$J$1806)*-1),LOOKUP($V221,Data!$A$6:$A$1806,Data!$J$6:$J$1806))","v":-653},{"$f":"LOOKUP($V221,Data!$A$6:$A$1806,Data!$K$6:$K$1806)","v":30354.2578125},-149.8583984375,null,null,null,null,null,null,null,null,null,null,null,null,null,null,null," ",2.294921875E-2," "]
[null,40679.341249999736,{"$f":"LOOKUP(B222,Data!$A$6:$A$1806,Data!B$6:B$1806)","v":60.02618408203125},{"$f":"LOOKUP(B222,Data!$A$6:$A$1806,Data!C$6:C$1806)","v":0},null,null,19590,{"$f":"(IF((C222-L$2)>0,(IF(C222<'Copy Results'!$C$3,((C222-L$2-L$5)/((L$4*L$2)-L$5)*G222*-1),(('Copy Results'!$C$3-L$2-L$5)/((L$4*L$2)-L$5)*G222*-1))),IF(C222>'Copy Results'!$C$2,((C222-L$2+L$5)/((L$4*L$2)-L$5)*G222*-1),(('Copy Results'!$C$2-L$2+L$5)/((L$4*L$2)-L$5)*G222*-1))))","v":-170.9820556640625},-138.79309693028057,null,null,0,-159.42554681634653,{"$f":"AVERAGE(D$79:D222)","v":0},{"$f":"AVERAGE(M$79:M222)","v":494.46496385294023},-18.644902043525651,{"$f":"AVERAGE(P$79:P222)","v":180.22728101501463},null,null,null,null,40679.341249999736,{"$f":"LOOKUP($V222,Data!$A$6:$A$1806,Data!$B$6:$B$1806)","v":60.02618408203125},{"$f":"LOOKUP($V222,Data!$A$6:$A$1806,Data!$C$6:$C$1806)","v":0},{"$f":"LOOKUP($V222,Data!$A$6:$A$1806,Data!$D$6:$D$1806)","v":0},{"$f":"IF($Z$1=\"+\",LOOKUP($V222,Data!$A$6:$A$1806,Data!$E$6:$E$1806)*-1,LOOKUP($V222,Data!$A$6:$A$1806,Data!$E$6:$E$1806))","v":0},{"$f":"LOOKUP($V222,Data!$A$6:$A$1806,Data!$F$6:$F$1806)","v":0},null,{"$f":"LOOKUP($V222,Data!$A$6:$A$1806,Data!$H$6:$H$1806)","v":0},{"$f":"LOOKUP($V222,Data!$A$6:$A$1806,Data!$I$6:$I$1806)","v":0},{"$f":"IF(LOOKUP($V222,Data!$A$6:$A$1806,Data!$J$6:$J$1806)>0,(LOOKUP($V222,Data!$A$6:$A$1806,Data!$J$6:$J$1806)*-1),LOOKUP($V222,Data!$A$6:$A$1806,Data!$J$6:$J$1806))","v":-653},{"$f":"LOOKUP($V222,Data!$A$6:$A$1806,Data!$K$6:$K$1806)","v":30354.484375},-170.9820556640625,null,null,null,null,null,null,null,null,null,null,null,null,null,null,null," ",2.618408203125E-2," "]
[null,40679.341273147882,{"$f":"LOOKUP(B223,Data!$A$6:$A$1806,Data!B$6:B$1806)","v":60.02972412109375},{"$f":"LOOKUP(B223,Data!$A$6:$A$1806,Data!C$6:C$1806)","v":0},null,null,19590,{"$f":"(IF((C223-L$2)>0,(IF(C223<'Copy Results'!$C$3,((C223-L$2-L$5)/((L$4*L$2)-L$5)*G223*-1),(('Copy Results'!$C$3-L$2-L$5)/((L$4*L$2)-L$5)*G223*-1))),IF(C223>'Copy Results'!$C$2,((C223-L$2+L$5)/((L$4*L$2)-L$5)*G223*-1),(('Copy Results'!$C$2-L$2+L$5)/((L$4*L$2)-L$5)*G223*-1))))","v":-194.0985107421875},-158.149991764448,null,null,0,-178.78244165051396,{"$f":"AVERAGE(D$79:D223)","v":0},{"$f":"AVERAGE(M$79:M223)","v":489.82187829774398},-18.644902043525651,{"$f":"AVERAGE(P$79:P223)","v":178.84622418821922},null,null,null,null,40679.341273147882,{"$f":"LOOKUP($V223,Data!$A$6:$A$1806,Data!$B$6:$B$1806)","v":60.02972412109375},{"$f":"LOOKUP($V223,Data!$A$6:$A$1806,Data!$C$6:$C$1806)","v":0},{"$f":"LOOKUP($V223,Data!$A$6:$A$1806,Data!$D$6:$D$1806)","v":0},{"$f":"IF($Z$1=\"+\",LOOKUP($V223,Data!$A$6:$A$1806,Data!$E$6:$E$1806)*-1,LOOKUP($V223,Data!$A$6:$A$1806,Data!$E$6:$E$1806))","v":0},{"$f":"LOOKUP($V223,Data!$A$6:$A$1806,Data!$F$6:$F$1806)","v":0},null,{"$f":"LOOKUP($V223,Data!$A$6:$A$1806,Data!$H$6:$H$1806)","v":0},{"$f":"LOOKUP($V223,Data!$A$6:$A$1806,Data!$I$6:$I$1806)","v":0},{"$f":"IF(LOOKUP($V223,Data!$A$6:$A$1806,Data!$J$6:$J$1806)>0,(LOOKUP($V223,Data!$A$6:$A$1806,Data!$J$6:$J$1806)*-1),LOOKUP($V223,Data!$A$6:$A$1806,Data!$J$6:$J$1806))","v":-653},{"$f":"LOOKUP($V223,Data!$A$6:$A$1806,Data!$K$6:$K$1806)","v":30354.484375},-194.0985107421875,null,null,null,null,null,null,null,null,null,null,null,null,null,null,null," ",2.972412109375E-2," "]
[null,40679.341296296028,{"$f":"LOOKUP(B224,Data!$A$6:$A$1806,Data!B$6:B$1806)","v":60.032623291015625},{"$f":"LOOKUP(B224,Data!$A$6:$A$1806,Data!C$6:C$1806)","v":0},null,null,19590,{"$f":"(IF((C224-L$2)>0,(IF(C224<'Copy Results'!$C$3,((C224-L$2-L$5)/((L$4*L$2)-L$5)*G224*-1),(('Copy Results'!$C$3-L$2-L$5)/((L$4*L$2)-L$5)*G224*-1))),IF(C224>'Copy Results'!$C$2,((C224-L$2+L$5)/((L$4*L$2)-L$5)*G224*-1),(('Copy Results'!$C$2-L$2+L$5)/((L$4*L$2)-L$5)*G224*-1))))","v":-213.03009033203125},-177.35802626310215,null,null,0,-197.9904761491681,{"$f":"AVERAGE(D$79:D224)","v":0},{"$f":"AVERAGE(M$79:M224)","v":485.11083477413501},-18.644902043525651,{"$f":"AVERAGE(P$79:P224)","v":177.48421642110375},null,null,null,null,40679.341296296028,{"$f":"LOOKUP($V224,Data!$A$6:$A$1806,Data!$B$6:$B$1806)","v":60.032623291015625},{"$f":"LOOKUP($V224,Data!$A$6:$A$1806,Data!$C$6:$C$1806)","v":0},{"$f":"LOOKUP($V224,Data!$A$6:$A$1806,Data!$D$6:$D$1806)","v":0},{"$f":"IF($Z$1=\"+\",LOOKUP($V224,Data!$A$6:$A$1806,Data!$E$6:$E$1806)*-1,LOOKUP($V224,Data!$A$6:$A$1806,Data!$E$6:$E$1806))","v":0},{"$f":"LOOKUP($V224,Data!$A$6:$A$1806,Data!$F$6:$F$1806)","v":0},null,{"$f":"LOOKUP($V224,Data!$A$6:$A$1806,Data!$H$6:$H$1806)","v":0},{"$f":"LOOKUP($V224,Data!$A$6:$A$1806,Data!$I$6:$I$1806)","v":0},{"$f":"IF(LOOKUP($V224,Data!$A$6:$A$1806,Data!$J$6:$J$1806)>0,(LOOKUP($V224,Data!$A$6:$A$1806,Data!$J$6:$J$1806)*-1),LOOKUP($V224,Data!$A$6:$A$1806,Data!$J$6:$J$1806))","v":-653},{"$f":"LOOKUP($V224,Data!$A$6:$A$1806,Data!$K$6:$K$1806)","v":30353.83203125},-213.03009033203125,null,null,null,null,null,null,null,null,null,null,null,null,null,null,null," ",3.2623291015625E-2," "]
[null,40679.341319444175,{"$f":"LOOKUP(B225,Data!$A$6:$A$1806,Data!B$6:B$1806)","v":60.034576416015625},{"$f":"LOOKUP(B225,Data!$A$6:$A$1806,Data!C$6:C$1806)","v":0},null,null,19590,{"$f":"(IF((C225-L$2)>0,(IF(C225<'Copy Results'!$C$3,((C225-L$2-L$5)/((L$4*L$2)-L$5)*G225*-1),(('Copy Results'!$C$3-L$2-L$5)/((L$4*L$2)-L$5)*G225*-1))),IF(C225>'Copy Results'!$C$2,((C225-L$2+L$5)/((L$4*L$2)-L$5)*G225*-1),(('Copy Results'!$C$2-L$2+L$5)/((L$4*L$2)-L$5)*G225*-1))))","v":-225.78399658203125},-194.30711587472734,null,null,0,-214.9395657607933,{"$f":"AVERAGE(D$79:D225)","v":0},{"$f":"AVERAGE(M$79:M225)","v":480.34858715144844},-18.644902043525651,{"$f":"AVERAGE(P$79:P225)","v":176.14086629463367},null,null,null,null,40679.341319444175,{"$f":"LOOKUP($V225,Data!$A$6:$A$1806,Data!$B$6:$B$1806)","v":60.034576416015625},{"$f":"LOOKUP($V225,Data!$A$6:$A$1806,Data!$C$6:$C$1806)","v":0},{"$f":"LOOKUP($V225,Data!$A$6:$A$1806,Data!$D$6:$D$1806)","v":0},{"$f":"IF($Z$1=\"+\",LOOKUP($V225,Data!$A$6:$A$1806,Data!$E$6:$E$1806)*-1,LOOKUP($V225,Data!$A$6:$A$1806,Data!$E$6:$E$1806))","v":0},{"$f":"LOOKUP($V225,Data!$A$6:$A$1806,Data!$F$6:$F$1806)","v":0},null,{"$f":"LOOKUP($V225,Data!$A$6:$A$1806,Data!$H$6:$H$1806)","v":0},{"$f":"LOOKUP($V225,Data!$A$6:$A$1806,Data!$I$6:$I$1806)","v":0},{"$f":"IF(LOOKUP($V225,Data!$A$6:$A$1806,Data!$J$6:$J$1806)>0,(LOOKUP($V225,Data!$A$6:$A$1806,Data!$J$6:$J$1806)*-1),LOOKUP($V225,Data!$A$6:$A$1806,Data!$J$6:$J$1806))","v":-653},{"$f":"LOOKUP($V225,Data!$A$6:$A$1806,Data!$K$6:$K$1806)","v":30353.83203125},-225.78399658203125,null,null,null,null,null,null,null,null,null,null,null,null,null,null,null," ",3.4576416015625E-2," "]
[null,40679.341342592321,{"$f":"LOOKUP(B226,Data!$A$6:$A$1806,Data!B$6:B$1806)","v":60.03521728515625},{"$f":"LOOKUP(B226,Data!$A$6:$A$1806,Data!C$6:C$1806)","v":0},null,null,19590,{"$f":"(IF((C226-L$2)>0,(IF(C226<'Copy Results'!$C$3,((C226-L$2-L$5)/((L$4*L$2)-L$5)*G226*-1),(('Copy Results'!$C$3-L$2-L$5)/((L$4*L$2)-L$5)*G226*-1))),IF(C226>'Copy Results'!$C$2,((C226-L$2+L$5)/((L$4*L$2)-L$5)*G226*-1),(('Copy Results'!$C$2-L$2+L$5)/((L$4*L$2)-L$5)*G226*-1))))","v":-229.9688720703125},-206.78873054318217,null,null,0,-227.42118042924812,{"$f":"AVERAGE(D$79:D226)","v":0},{"$f":"AVERAGE(M$79:M226)","v":475.56635899211943},-18.644902043525651,{"$f":"AVERAGE(P$79:P226)","v":174.8157930406326},null,null,null,null,40679.341342592321,{"$f":"LOOKUP($V226,Data!$A$6:$A$1806,Data!$B$6:$B$1806)","v":60.03521728515625},{"$f":"LOOKUP($V226,Data!$A$6:$A$1806,Data!$C$6:$C$1806)","v":0},{"$f":"LOOKUP($V226,Data!$A$6:$A$1806,Data!$D$6:$D$1806)","v":0},{"$f":"IF($Z$1=\"+\",LOOKUP($V226,Data!$A$6:$A$1806,Data!$E$6:$E$1806)*-1,LOOKUP($V226,Data!$A$6:$A$1806,Data!$E$6:$E$1806))","v":0},{"$f":"LOOKUP($V226,Data!$A$6:$A$1806,Data!$F$6:$F$1806)","v":0},null,{"$f":"LOOKUP($V226,Data!$A$6:$A$1806,Data!$H$6:$H$1806)","v":0},{"$f":"LOOKUP($V226,Data!$A$6:$A$1806,Data!$I$6:$I$1806)","v":0},{"$f":"IF(LOOKUP($V226,Data!$A$6:$A$1806,Data!$J$6:$J$1806)>0,(LOOKUP($V226,Data!$A$6:$A$1806,Data!$J$6:$J$1806)*-1),LOOKUP($V226,Data!$A$6:$A$1806,Data!$J$6:$J$1806))","v":-653},{"$f":"LOOKUP($V226,Data!$A$6:$A$1806,Data!$K$6:$K$1806)","v":30353.83203125},-229.9688720703125,null,null,null,null,null,null,null,null,null,null,null,null,null,null,null," ",3.521728515625E-2," "]
[null,40679.341365740467,{"$f":"LOOKUP(B227,Data!$A$6:$A$1806,Data!B$6:B$1806)","v":60.03424072265625},{"$f":"LOOKUP(B227,Data!$A$6:$A$1806,Data!C$6:C$1806)","v":0},null,null,19590,{"$f":"(IF((C227-L$2)>0,(IF(C227<'Copy Results'!$C$3,((C227-L$2-L$5)/((L$4*L$2)-L$5)*G227*-1),(('Copy Results'!$C$3-L$2-L$5)/((L$4*L$2)-L$5)*G227*-1))),IF(C227>'Copy Results'!$C$2,((C227-L$2+L$5)/((L$4*L$2)-L$5)*G227*-1),(('Copy Results'!$C$2-L$2+L$5)/((L$4*L$2)-L$5)*G227*-1))))","v":-223.5919189453125},-212.66984648392778,null,null,0,-233.30229636999374,{"$f":"AVERAGE(D$79:D227)","v":0},{"$f":"AVERAGE(M$79:M227)","v":470.8088512380113},-18.644902043525651,{"$f":"AVERAGE(P$79:P227)","v":173.50862618195586},null,null,null,null,40679.341365740467,{"$f":"LOOKUP($V227,Data!$A$6:$A$1806,Data!$B$6:$B$1806)","v":60.03424072265625},{"$f":"LOOKUP($V227,Data!$A$6:$A$1806,Data!$C$6:$C$1806)","v":0},{"$f":"LOOKUP($V227,Data!$A$6:$A$1806,Data!$D$6:$D$1806)","v":0},{"$f":"IF($Z$1=\"+\",LOOKUP($V227,Data!$A$6:$A$1806,Data!$E$6:$E$1806)*-1,LOOKUP($V227,Data!$A$6:$A$1806,Data!$E$6:$E$1806))","v":0},{"$f":"LOOKUP($V227,Data!$A$6:$A$1806,Data!$F$6:$F$1806)","v":0},null,{"$f":"LOOKUP($V227,Data!$A$6:$A$1806,Data!$H$6:$H$1806)","v":0},{"$f":"LOOKUP($V227,Data!$A$6:$A$1806,Data!$I$6:$I$1806)","v":0},{"$f":"IF(LOOKUP($V227,Data!$A$6:$A$1806,Data!$J$6:$J$1806)>0,(LOOKUP($V227,Data!$A$6:$A$1806,Data!$J$6:$J$1806)*-1),LOOKUP($V227,Data!$A$6:$A$1806,Data!$J$6:$J$1806))","v":-653},{"$f":"LOOKUP($V227,Data!$A$6:$A$1806,Data!$K$6:$K$1806)","v":30353.83203125},-223.5919189453125,null,null,null,null,null,null,null,null,null,null,null,null,null,null,null," ",3.424072265625E-2," "]
[null,40679.341388888613,{"$f":"LOOKUP(B228,Data!$A$6:$A$1806,Data!B$6:B$1806)","v":60.033599853515625},{"$f":"LOOKUP(B228,Data!$A$6:$A$1806,Data!C$6:C$1806)","v":0},null,null,19590,{"$f":"(IF((C228-L$2)>0,(IF(C228<'Copy Results'!$C$3,((C228-L$2-L$5)/((L$4*L$2)-L$5)*G228*-1),(('Copy Results'!$C$3-L$2-L$5)/((L$4*L$2)-L$5)*G228*-1))),IF(C228>'Copy Results'!$C$2,((C228-L$2+L$5)/((L$4*L$2)-L$5)*G228*-1),(('Copy Results'!$C$2-L$2+L$5)/((L$4*L$2)-L$5)*G228*-1))))","v":-219.40704345703125},-215.027865424514,null,null,0,-235.66031531057996,{"$f":"AVERAGE(D$79:D228)","v":0},{"$f":"AVERAGE(M$79:M228)","v":466.099056794354},-18.644902043525651,{"$f":"AVERAGE(P$79:P228)","v":172.21900518715398},null,null,null,null,40679.341388888613,{"$f":"LOOKUP($V228,Data!$A$6:$A$1806,Data!$B$6:$B$1806)","v":60.033599853515625},{"$f":"LOOKUP($V228,Data!$A$6:$A$1806,Data!$C$6:$C$1806)","v":0},{"$f":"LOOKUP($V228,Data!$A$6:$A$1806,Data!$D$6:$D$1806)","v":0},{"$f":"IF($Z$1=\"+\",LOOKUP($V228,Data!$A$6:$A$1806,Data!$E$6:$E$1806)*-1,LOOKUP($V228,Data!$A$6:$A$1806,Data!$E$6:$E$1806))","v":0},{"$f":"LOOKUP($V228,Data!$A$6:$A$1806,Data!$F$6:$F$1806)","v":0},null,{"$f":"LOOKUP($V228,Data!$A$6:$A$1806,Data!$H$6:$H$1806)","v":0},{"$f":"LOOKUP($V228,Data!$A$6:$A$1806,Data!$I$6:$I$1806)","v":0},{"$f":"IF(LOOKUP($V228,Data!$A$6:$A$1806,Data!$J$6:$J$1806)>0,(LOOKUP($V228,Data!$A$6:$A$1806,Data!$J$6:$J$1806)*-1),LOOKUP($V228,Data!$A$6:$A$1806,Data!$J$6:$J$1806))","v":-653},{"$f":"LOOKUP($V228,Data!$A$6:$A$1806,Data!$K$6:$K$1806)","v":30370.4140625},-219.40704345703125,null,null,null,null,null,null,null,null,null,null,null,null,null,null,null," ",3.3599853515625E-2," "]
[null,40679.34141203676,{"$f":"LOOKUP(B229,Data!$A$6:$A$1806,Data!B$6:B$1806)","v":60.03521728515625},{"$f":"LOOKUP(B229,Data!$A$6:$A$1806,Data!C$6:C$1806)","v":0},null,null,19590,{"$f":"(IF((C229-L$2)>0,(IF(C229<'Copy Results'!$C$3,((C229-L$2-L$5)/((L$4*L$2)-L$5)*G229*-1),(('Copy Results'!$C$3-L$2-L$5)/((L$4*L$2)-L$5)*G229*-1))),IF(C229>'Copy Results'!$C$2,((C229-L$2+L$5)/((L$4*L$2)-L$5)*G229*-1),(('Copy Results'!$C$2-L$2+L$5)/((L$4*L$2)-L$5)*G229*-1))))","v":-229.9688720703125},-220.25721775054348,null,null,0,-240.88966763660943,{"$f":"AVERAGE(D$79:D229)","v":0},{"$f":"AVERAGE(M$79:M229)","v":461.41701226169863},-18.644902043525651,{"$f":"AVERAGE(P$79:P229)","v":170.94657913894946},null,null,null,null,40679.34141203676,{"$f":"LOOKUP($V229,Data!$A$6:$A$1806,Data!$B$6:$B$1806)","v":60.03521728515625},{"$f":"LOOKUP($V229,Data!$A$6:$A$1806,Data!$C$6:$C$1806)","v":0},{"$f":"LOOKUP($V229,Data!$A$6:$A$1806,Data!$D$6:$D$1806)","v":0},{"$f":"IF($Z$1=\"+\",LOOKUP($V229,Data!$A$6:$A$1806,Data!$E$6:$E$1806)*-1,LOOKUP($V229,Data!$A$6:$A$1806,Data!$E$6:$E$1806))","v":0},{"$f":"LOOKUP($V229,Data!$A$6:$A$1806,Data!$F$6:$F$1806)","v":0},null,{"$f":"LOOKUP($V229,Data!$A$6:$A$1806,Data!$H$6:$H$1806)","v":0},{"$f":"LOOKUP($V229,Data!$A$6:$A$1806,Data!$I$6:$I$1806)","v":0},{"$f":"IF(LOOKUP($V229,Data!$A$6:$A$1806,Data!$J$6:$J$1806)>0,(LOOKUP($V229,Data!$A$6:$A$1806,Data!$J$6:$J$1806)*-1),LOOKUP($V229,Data!$A$6:$A$1806,Data!$J$6:$J$1806))","v":-653},{"$f":"LOOKUP($V229,Data!$A$6:$A$1806,Data!$K$6:$K$1806)","v":30370.4140625},-229.9688720703125,null,null,null,null,null,null,null,null,null,null,null,null,null,null,null," ",3.521728515625E-2," "]
[null,40679.341435184906,{"$f":"LOOKUP(B230,Data!$A$6:$A$1806,Data!B$6:B$1806)","v":60.038116455078125},{"$f":"LOOKUP(B230,Data!$A$6:$A$1806,Data!C$6:C$1806)","v":0},null,null,19590,{"$f":"(IF((C230-L$2)>0,(IF(C230<'Copy Results'!$C$3,((C230-L$2-L$5)/((L$4*L$2)-L$5)*G230*-1),(('Copy Results'!$C$3-L$2-L$5)/((L$4*L$2)-L$5)*G230*-1))),IF(C230>'Copy Results'!$C$2,((C230-L$2+L$5)/((L$4*L$2)-L$5)*G230*-1),(('Copy Results'!$C$2-L$2+L$5)/((L$4*L$2)-L$5)*G230*-1))))","v":-248.90045166015625},-230.28234961890794,null,null,0,-250.9147995049739,{"$f":"AVERAGE(D$79:D230)","v":0},{"$f":"AVERAGE(M$79:M230)","v":456.73061876323368},-18.644902043525651,{"$f":"AVERAGE(P$79:P230)","v":169.6910064158867},null,null,null,null,40679.341435184906,{"$f":"LOOKUP($V230,Data!$A$6:$A$1806,Data!$B$6:$B$1806)","v":60.038116455078125},{"$f":"LOOKUP($V230,Data!$A$6:$A$1806,Data!$C$6:$C$1806)","v":0},{"$f":"LOOKUP($V230,Data!$A$6:$A$1806,Data!$D$6:$D$1806)","v":0},{"$f":"IF($Z$1=\"+\",LOOKUP($V230,Data!$A$6:$A$1806,Data!$E$6:$E$1806)*-1,LOOKUP($V230,Data!$A$6:$A$1806,Data!$E$6:$E$1806))","v":0},{"$f":"LOOKUP($V230,Data!$A$6:$A$1806,Data!$F$6:$F$1806)","v":0},null,{"$f":"LOOKUP($V230,Data!$A$6:$A$1806,Data!$H$6:$H$1806)","v":0},{"$f":"LOOKUP($V230,Data!$A$6:$A$1806,Data!$I$6:$I$1806)","v":0},{"$f":"IF(LOOKUP($V230,Data!$A$6:$A$1806,Data!$J$6:$J$1806)>0,(LOOKUP($V230,Data!$A$6:$A$1806,Data!$J$6:$J$1806)*-1),LOOKUP($V230,Data!$A$6:$A$1806,Data!$J$6:$J$1806))","v":-653},{"$f":"LOOKUP($V230,Data!$A$6:$A$1806,Data!$K$6:$K$1806)","v":30370.4140625},-248.90045166015625,null,null,null,null,null,null,null,null,null,null,null,null,null,null,null," ",3.8116455078125E-2,-653]
[null,40679.341458333052,{"$f":"LOOKUP(B231,Data!$A$6:$A$1806,Data!B$6:B$1806)","v":60.040374755859375},{"$f":"LOOKUP(B231,Data!$A$6:$A$1806,Data!C$6:C$1806)","v":0},null,null,19590,{"$f":"(IF((C231-L$2)>0,(IF(C231<'Copy Results'!$C$3,((C231-L$2-L$5)/((L$4*L$2)-L$5)*G231*-1),(('Copy Results'!$C$3-L$2-L$5)/((L$4*L$2)-L$5)*G231*-1))),IF(C231>'Copy Results'!$C$2,((C231-L$2+L$5)/((L$4*L$2)-L$5)*G231*-1),(('Copy Results'!$C$2-L$2+L$5)/((L$4*L$2)-L$5)*G231*-1))))","v":-263.64715576171875},-241.96003176889172,null,null,0,-262.59248165495768,{"$f":"AVERAGE(D$79:D231)","v":0},{"$f":"AVERAGE(M$79:M231)","v":452.02916059056577},-18.644902043525651,{"$f":"AVERAGE(P$79:P231)","v":168.45195438654846},null,null,null,null,40679.341458333052,{"$f":"LOOKUP($V231,Data!$A$6:$A$1806,Data!$B$6:$B$1806)","v":60.040374755859375},{"$f":"LOOKUP($V231,Data!$A$6:$A$1806,Data!$C$6:$C$1806)","v":0},{"$f":"LOOKUP($V231,Data!$A$6:$A$1806,Data!$D$6:$D$1806)","v":0},{"$f":"IF($Z$1=\"+\",LOOKUP($V231,Data!$A$6:$A$1806,Data!$E$6:$E$1806)*-1,LOOKUP($V231,Data!$A$6:$A$1806,Data!$E$6:$E$1806))","v":0},{"$f":"LOOKUP($V231,Data!$A$6:$A$1806,Data!$F$6:$F$1806)","v":0},null,{"$f":"LOOKUP($V231,Data!$A$6:$A$1806,Data!$H$6:$H$1806)","v":0},{"$f":"LOOKUP($V231,Data!$A$6:$A$1806,Data!$I$6:$I$1806)","v":0},{"$f":"IF(LOOKUP($V231,Data!$A$6:$A$1806,Data!$J$6:$J$1806)>0,(LOOKUP($V231,Data!$A$6:$A$1806,Data!$J$6:$J$1806)*-1),LOOKUP($V231,Data!$A$6:$A$1806,Data!$J$6:$J$1806))","v":-653},{"$f":"LOOKUP($V231,Data!$A$6:$A$1806,Data!$K$6:$K$1806)","v":30370.4140625},-263.64715576171875,null,null,null,null,null,null,null,null,null,null,null,null,null,null,null," ",4.0374755859375E-2,-653]
[null,40679.341481481199,{"$f":"LOOKUP(B232,Data!$A$6:$A$1806,Data!B$6:B$1806)","v":60.041046142578125},{"$f":"LOOKUP(B232,Data!$A$6:$A$1806,Data!C$6:C$1806)","v":0},null,null,19590,{"$f":"(IF((C232-L$2)>0,(IF(C232<'Copy Results'!$C$3,((C232-L$2-L$5)/((L$4*L$2)-L$5)*G232*-1),(('Copy Results'!$C$3-L$2-L$5)/((L$4*L$2)-L$5)*G232*-1))),IF(C232>'Copy Results'!$C$2,((C232-L$2+L$5)/((L$4*L$2)-L$5)*G232*-1),(('Copy Results'!$C$2-L$2+L$5)/((L$4*L$2)-L$5)*G232*-1))))","v":-268.03131103515625},-251.08497951208432,null,null,0,-271.71742939815027,{"$f":"AVERAGE(D$79:D232)","v":0},{"$f":"AVERAGE(M$79:M232)","v":447.32950740882086},-18.644902043525651,{"$f":"AVERAGE(P$79:P232)","v":167.22909911576369},null,null,null,null,40679.341481481199,{"$f":"LOOKUP($V232,Data!$A$6:$A$1806,Data!$B$6:$B$1806)","v":60.041046142578125},{"$f":"LOOKUP($V232,Data!$A$6:$A$1806,Data!$C$6:$C$1806)","v":0},{"$f":"LOOKUP($V232,Data!$A$6:$A$1806,Data!$D$6:$D$1806)","v":0},{"$f":"IF($Z$1=\"+\",LOOKUP($V232,Data!$A$6:$A$1806,Data!$E$6:$E$1806)*-1,LOOKUP($V232,Data!$A$6:$A$1806,Data!$E$6:$E$1806))","v":0},{"$f":"LOOKUP($V232,Data!$A$6:$A$1806,Data!$F$6:$F$1806)","v":0},null,{"$f":"LOOKUP($V232,Data!$A$6:$A$1806,Data!$H$6:$H$1806)","v":0},{"$f":"LOOKUP($V232,Data!$A$6:$A$1806,Data!$I$6:$I$1806)","v":0},{"$f":"IF(LOOKUP($V232,Data!$A$6:$A$1806,Data!$J$6:$J$1806)>0,(LOOKUP($V232,Data!$A$6:$A$1806,Data!$J$6:$J$1806)*-1),LOOKUP($V232,Data!$A$6:$A$1806,Data!$J$6:$J$1806))","v":-653},{"$f":"LOOKUP($V232,Data!$A$6:$A$1806,Data!$K$6:$K$1806)","v":30374.787109375},-268.03131103515625,null,null,null,null,null,null,null,null,null,null,null,null,null,null,null," ",4.1046142578125E-2,-653]
[null,40679.341504629345,{"$f":"LOOKUP(B233,Data!$A$6:$A$1806,Data!B$6:B$1806)","v":60.0419921875},{"$f":"LOOKUP(B233,Data!$A$6:$A$1806,Data!C$6:C$1806)","v":0},null,null,19590,{"$f":"(IF((C233-L$2)>0,(IF(C233<'Copy Results'!$C$3,((C233-L$2-L$5)/((L$4*L$2)-L$5)*G233*-1),(('Copy Results'!$C$3-L$2-L$5)/((L$4*L$2)-L$5)*G233*-1))),IF(C233>'Copy Results'!$C$2,((C233-L$2+L$5)/((L$4*L$2)-L$5)*G233*-1),(('Copy Results'!$C$2-L$2+L$5)/((L$4*L$2)-L$5)*G233*-1))))","v":-274.208984375},-259.17838121410477,null,null,0,-279.81083110017073,{"$f":"AVERAGE(D$79:D233)","v":0},{"$f":"AVERAGE(M$79:M233)","v":442.63827941844028},-18.644902043525651,{"$f":"AVERAGE(P$79:P233)","v":166.02212508226182},null,null,null,null,40679.341504629345,{"$f":"LOOKUP($V233,Data!$A$6:$A$1806,Data!$B$6:$B$1806)","v":60.0419921875},{"$f":"LOOKUP($V233,Data!$A$6:$A$1806,Data!$C$6:$C$1806)","v":0},{"$f":"LOOKUP($V233,Data!$A$6:$A$1806,Data!$D$6:$D$1806)","v":0},{"$f":"IF($Z$1=\"+\",LOOKUP($V233,Data!$A$6:$A$1806,Data!$E$6:$E$1806)*-1,LOOKUP($V233,Data!$A$6:$A$1806,Data!$E$6:$E$1806))","v":0},{"$f":"LOOKUP($V233,Data!$A$6:$A$1806,Data!$F$6:$F$1806)","v":0},null,{"$f":"LOOKUP($V233,Data!$A$6:$A$1806,Data!$H$6:$H$1806)","v":0},{"$f":"LOOKUP($V233,Data!$A$6:$A$1806,Data!$I$6:$I$1806)","v":0},{"$f":"IF(LOOKUP($V233,Data!$A$6:$A$1806,Data!$J$6:$J$1806)>0,(LOOKUP($V233,Data!$A$6:$A$1806,Data!$J$6:$J$1806)*-1),LOOKUP($V233,Data!$A$6:$A$1806,Data!$J$6:$J$1806))","v":-653},{"$f":"LOOKUP($V233,Data!$A$6:$A$1806,Data!$K$6:$K$1806)","v":30374.787109375},-274.208984375,null,null,null,null,null,null,null,null,null,null,null,null,null,null,null," ",4.19921875E-2,-653]
[null,40679.341527777491,{"$f":"LOOKUP(B234,Data!$A$6:$A$1806,Data!B$6:B$1806)","v":60.042327880859375},{"$f":"LOOKUP(B234,Data!$A$6:$A$1806,Data!C$6:C$1806)","v":0},null,null,19590,{"$f":"(IF((C234-L$2)>0,(IF(C234<'Copy Results'!$C$3,((C234-L$2-L$5)/((L$4*L$2)-L$5)*G234*-1),(('Copy Results'!$C$3-L$2-L$5)/((L$4*L$2)-L$5)*G234*-1))),IF(C234>'Copy Results'!$C$2,((C234-L$2+L$5)/((L$4*L$2)-L$5)*G234*-1),(('Copy Results'!$C$2-L$2+L$5)/((L$4*L$2)-L$5)*G234*-1))))","v":-276.40106201171875},-265.20631949326969,null,null,0,-285.83876937933564,{"$f":"AVERAGE(D$79:D234)","v":0},{"$f":"AVERAGE(M$79:M234)","v":437.96855474665966},-18.644902043525651,{"$f":"AVERAGE(P$79:P234)","v":164.83072490725675},null,null,null,null,40679.341527777491,{"$f":"LOOKUP($V234,Data!$A$6:$A$1806,Data!$B$6:$B$1806)","v":60.042327880859375},{"$f":"LOOKUP($V234,Data!$A$6:$A$1806,Data!$C$6:$C$1806)","v":0},{"$f":"LOOKUP($V234,Data!$A$6:$A$1806,Data!$D$6:$D$1806)","v":0},{"$f":"IF($Z$1=\"+\",LOOKUP($V234,Data!$A$6:$A$1806,Data!$E$6:$E$1806)*-1,LOOKUP($V234,Data!$A$6:$A$1806,Data!$E$6:$E$1806))","v":0},{"$f":"LOOKUP($V234,Data!$A$6:$A$1806,Data!$F$6:$F$1806)","v":0},null,{"$f":"LOOKUP($V234,Data!$A$6:$A$1806,Data!$H$6:$H$1806)","v":0},{"$f":"LOOKUP($V234,Data!$A$6:$A$1806,Data!$I$6:$I$1806)","v":0},{"$f":"IF(LOOKUP($V234,Data!$A$6:$A$1806,Data!$J$6:$J$1806)>0,(LOOKUP($V234,Data!$A$6:$A$1806,Data!$J$6:$J$1806)*-1),LOOKUP($V234,Data!$A$6:$A$1806,Data!$J$6:$J$1806))","v":-653},{"$f":"LOOKUP($V234,Data!$A$6:$A$1806,Data!$K$6:$K$1806)","v":30366.13671875},-276.40106201171875,null,null,null,null,null,null,null,null,null,null,null,null,null,null,null," ",4.2327880859375E-2,-653]
[null,40679.341550925637,{"$f":"LOOKUP(B235,Data!$A$6:$A$1806,Data!B$6:B$1806)","v":60.043304443359375},{"$f":"LOOKUP(B235,Data!$A$6:$A$1806,Data!C$6:C$1806)","v":0},null,null,19590,{"$f":"(IF((C235-L$2)>0,(IF(C235<'Copy Results'!$C$3,((C235-L$2-L$5)/((L$4*L$2)-L$5)*G235*-1),(('Copy Results'!$C$3-L$2-L$5)/((L$4*L$2)-L$5)*G235*-1))),IF(C235>'Copy Results'!$C$2,((C235-L$2+L$5)/((L$4*L$2)-L$5)*G235*-1),(('Copy Results'!$C$2-L$2+L$5)/((L$4*L$2)-L$5)*G235*-1))))","v":-282.77801513671875},{"$f":"L$13*H235+(1-L$13)*I234","v":-271.35641296847689},null,null,0,-291.98886285454284,{"$f":"AVERAGE(D$79:D235)","v":0},{"$f":"AVERAGE(M$79:M235)","v":433.31914444346728},-18.644902043525651,{"$f":"AVERAGE(P$79:P235)","v":163.65459909346967},null,null,null,null,40679.341550925637,{"$f":"LOOKUP($V235,Data!$A$6:$A$1806,Data!$B$6:$B$1806)","v":60.043304443359375},{"$f":"LOOKUP($V235,Data!$A$6:$A$1806,Data!$C$6:$C$1806)","v":0},{"$f":"LOOKUP($V235,Data!$A$6:$A$1806,Data!$D$6:$D$1806)","v":0},{"$f":"IF($Z$1=\"+\",LOOKUP($V235,Data!$A$6:$A$1806,Data!$E$6:$E$1806)*-1,LOOKUP($V235,Data!$A$6:$A$1806,Data!$E$6:$E$1806))","v":0},{"$f":"LOOKUP($V235,Data!$A$6:$A$1806,Data!$F$6:$F$1806)","v":0},null,{"$f":"LOOKUP($V235,Data!$A$6:$A$1806,Data!$H$6:$H$1806)","v":0},{"$f":"LOOKUP($V235,Data!$A$6:$A$1806,Data!$I$6:$I$1806)","v":0},{"$f":"IF(LOOKUP($V235,Data!$A$6:$A$1806,Data!$J$6:$J$1806)>0,(LOOKUP($V235,Data!$A$6:$A$1806,Data!$J$6:$J$1806)*-1),LOOKUP($V235,Data!$A$6:$A$1806,Data!$J$6:$J$1806))","v":-653},{"$f":"LOOKUP($V235,Data!$A$6:$A$1806,Data!$K$6:$K$1806)","v":30366.13671875},-282.77801513671875,null,null,null,null,null,null,null,null,null,null,null,null,null,null,null," ",4.3304443359375E-2,-653]
[null,40679.341574073784,{"$f":"LOOKUP(B236,Data!$A$6:$A$1806,Data!B$6:B$1806)","v":60.04425048828125},{"$f":"LOOKUP(B236,Data!$A$6:$A$1806,Data!C$6:C$1806)","v":0},null,null,{"$f":"AE236*-M$4*10","v":19590},{"$f":"(IF((C236-L$2)>0,(IF(C236<'Copy Results'!$C$3,((C236-L$2-L$5)/((L$4*L$2)-L$5)*G236*-1),(('Copy Results'!$C$3-L$2-L$5)/((L$4*L$2)-L$5)*G236*-1))),IF(C236>'Copy Results'!$C$2,((C236-L$2+L$5)/((L$4*L$2)-L$5)*G236*-1),(('Copy Results'!$C$2-L$2+L$5)/((L$4*L$2)-L$5)*G236*-1))))","v":-288.9556884765625},-277.51615939630688,null,null,0,-298.14860928237283,{"$f":"AVERAGE(D$79:D236)","v":0},{"$f":"AVERAGE(M$79:M236)","v":428.68960169836703},-18.644902043525651,{"$f":"AVERAGE(P$79:P236)","v":162.49345577412575},null,null,null,null,40679.341574073784,{"$f":"LOOKUP($V236,Data!$A$6:$A$1806,Data!$B$6:$B$1806)","v":60.04425048828125},{"$f":"LOOKUP($V236,Data!$A$6:$A$1806,Data!$C$6:$C$1806)","v":0},{"$f":"LOOKUP($V236,Data!$A$6:$A$1806,Data!$D$6:$D$1806)","v":0},{"$f":"IF($Z$1=\"+\",LOOKUP($V236,Data!$A$6:$A$1806,Data!$E$6:$E$1806)*-1,LOOKUP($V236,Data!$A$6:$A$1806,Data!$E$6:$E$1806))","v":0},{"$f":"LOOKUP($V236,Data!$A$6:$A$1806,Data!$F$6:$F$1806)","v":0},null,{"$f":"LOOKUP($V236,Data!$A$6:$A$1806,Data!$H$6:$H$1806)","v":0},{"$f":"LOOKUP($V236,Data!$A$6:$A$1806,Data!$I$6:$I$1806)","v":0},{"$f":"IF(LOOKUP($V236,Data!$A$6:$A$1806,Data!$J$6:$J$1806)>0,(LOOKUP($V236,Data!$A$6:$A$1806,Data!$J$6:$J$1806)*-1),LOOKUP($V236,Data!$A$6:$A$1806,Data!$J$6:$J$1806))","v":-653},{"$f":"LOOKUP($V236,Data!$A$6:$A$1806,Data!$K$6:$K$1806)","v":30366.13671875},{"$f":"(IF((W236-$L$2)>0,((W236-$L$2-$L$5)/(($L$4*$L$2)-$L$5)*G236*-1),((W236-$L$2+$L$5)/(($L$4*$L$2)-$L$5)*G236*-1)))","v":-288.9556884765625},null,null,null,null,null,null,null,null,null,null,null,null,null,null,null," ",{"$f":"ABS(C236-60)","v":4.425048828125E-2},{"$f":"IF(AX236>0.036,AE236,\" \")","v":-653}]
[null,40679.34159722193,{"$f":"LOOKUP(B237,Data!$A$6:$A$1806,Data!B$6:B$1806)","v":60.044921875},{"$f":"LOOKUP(B237,Data!$A$6:$A$1806,Data!C$6:C$1806)","v":0},null,null,19590,{"$f":"(IF((C237-L$2)>0,(IF(C237<'Copy Results'!$C$3,((C237-L$2-L$5)/((L$4*L$2)-L$5)*G237*-1),(('Copy Results'!$C$3-L$2-L$5)/((L$4*L$2)-L$5)*G237*-1))),IF(C237>'Copy Results'!$C$2,((C237-L$2+L$5)/((L$4*L$2)-L$5)*G237*-1),(('Copy Results'!$C$2-L$2+L$5)/((L$4*L$2)-L$5)*G237*-1))))","v":-293.33984375},-283.0544489200995,null,null,0,-303.68689880616546,{"$f":"AVERAGE(D$79:D237)","v":0},{"$f":"AVERAGE(M$79:M237)","v":424.08346018575992},-18.644902043525651,{"$f":"AVERAGE(P$79:P237)","v":161.34701047148241},null,null,null,null,40679.34159722193,{"$f":"LOOKUP($V237,Data!$A$6:$A$1806,Data!$B$6:$B$1806)","v":60.044921875},{"$f":"LOOKUP($V237,Data!$A$6:$A$1806,Data!$C$6:$C$1806)","v":0},{"$f":"LOOKUP($V237,Data!$A$6:$A$1806,Data!$D$6:$D$1806)","v":0},{"$f":"IF($Z$1=\"+\",LOOKUP($V237,Data!$A$6:$A$1806,Data!$E$6:$E$1806)*-1,LOOKUP($V237,Data!$A$6:$A$1806,Data!$E$6:$E$1806))","v":0},{"$f":"LOOKUP($V237,Data!$A$6:$A$1806,Data!$F$6:$F$1806)","v":0},null,{"$f":"LOOKUP($V237,Data!$A$6:$A$1806,Data!$H$6:$H$1806)","v":0},{"$f":"LOOKUP($V237,Data!$A$6:$A$1806,Data!$I$6:$I$1806)","v":0},{"$f":"IF(LOOKUP($V237,Data!$A$6:$A$1806,Data!$J$6:$J$1806)>0,(LOOKUP($V237,Data!$A$6:$A$1806,Data!$J$6:$J$1806)*-1),LOOKUP($V237,Data!$A$6:$A$1806,Data!$J$6:$J$1806))","v":-653},{"$f":"LOOKUP($V237,Data!$A$6:$A$1806,Data!$K$6:$K$1806)","v":30366.13671875},-293.33984375,null,null,null,null,null,null,null,null,null,null,null,null,null,null,null," ",4.4921875E-2,-653]
[null,{"$f":"B237+TIME(0,0,$B$1)","v":40679.341620370076},{"$f":"LOOKUP(B238,Data!$A$6:$A$1806,Data!B$6:B$1806)","v":60.045562744140625},{"$f":"LOOKUP(B238,Data!$A$6:$A$1806,Data!C$6:C$1806)","v":0},null,null,19590,{"$f":"(IF((C238-L$2)>0,(IF(C238<'Copy Results'!$C$3,((C238-L$2-L$5)/((L$4*L$2)-L$5)*G238*-1),(('Copy Results'!$C$3-L$2-L$5)/((L$4*L$2)-L$5)*G238*-1))),IF(C238>'Copy Results'!$C$2,((C238-L$2+L$5)/((L$4*L$2)-L$5)*G238*-1),(('Copy Results'!$C$2-L$2+L$5)/((L$4*L$2)-L$5)*G238*-1))))","v":-297.52471923828125},-288.11904353146315,null,null,0,-308.7514934175291,{"$f":"AVERAGE(D$79:D238)","v":0},{"$f":"AVERAGE(M$79:M238)","v":419.50324172573937},-18.644902043525651,{"$f":"AVERAGE(P$79:P238)","v":160.21498586446978},null,null,null,null,40679.341620370076,{"$f":"LOOKUP($V238,Data!$A$6:$A$1806,Data!$B$6:$B$1806)","v":60.045562744140625},{"$f":"LOOKUP($V238,Data!$A$6:$A$1806,Data!$C$6:$C$1806)","v":0},{"$f":"LOOKUP($V238,Data!$A$6:$A$1806,Data!$D$6:$D$1806)","v":0},{"$f":"IF($Z$1=\"+\",LOOKUP($V238,Data!$A$6:$A$1806,Data!$E$6:$E$1806)*-1,LOOKUP($V238,Data!$A$6:$A$1806,Data!$E$6:$E$1806))","v":0},{"$f":"LOOKUP($V238,Data!$A$6:$A$1806,Data!$F$6:$F$1806)","v":0},null,{"$f":"LOOKUP($V238,Data!$A$6:$A$1806,Data!$H$6:$H$1806)","v":0},{"$f":"LOOKUP($V238,Data!$A$6:$A$1806,Data!$I$6:$I$1806)","v":0},{"$f":"IF(LOOKUP($V238,Data!$A$6:$A$1806,Data!$J$6:$J$1806)>0,(LOOKUP($V238,Data!$A$6:$A$1806,Data!$J$6:$J$1806)*-1),LOOKUP($V238,Data!$A$6:$A$1806,Data!$J$6:$J$1806))","v":-653},{"$f":"LOOKUP($V238,Data!$A$6:$A$1806,Data!$K$6:$K$1806)","v":30373.533203125},-297.52471923828125,null,null,null,null,null,null,null,null,null,null,null,null,null,null,null," ",4.5562744140625E-2,-653]
[null,40679.341643518223,{"$f":"LOOKUP(B239,Data!$A$6:$A$1806,Data!B$6:B$1806)","v":60.045867919921875},{"$f":"LOOKUP(B239,Data!$A$6:$A$1806,Data!C$6:C$1806)","v":0},null,null,19590,{"$f":"(IF((C239-L$2)>0,(IF(C239<'Copy Results'!$C$3,((C239-L$2-L$5)/((L$4*L$2)-L$5)*G239*-1),(('Copy Results'!$C$3-L$2-L$5)/((L$4*L$2)-L$5)*G239*-1))),IF(C239>'Copy Results'!$C$2,((C239-L$2+L$5)/((L$4*L$2)-L$5)*G239*-1),(('Copy Results'!$C$2-L$2+L$5)/((L$4*L$2)-L$5)*G239*-1))))","v":-299.51751708984375},-292.10850927689637,null,null,0,-312.74095916296233,{"$f":"AVERAGE(D$79:D239)","v":0},{"$f":"AVERAGE(M$79:M239)","v":414.95514109910141},-18.644902043525651,{"$f":"AVERAGE(P$79:P239)","v":159.09711156504483},null,null,null,null,40679.341643518223,{"$f":"LOOKUP($V239,Data!$A$6:$A$1806,Data!$B$6:$B$1806)","v":60.045867919921875},{"$f":"LOOKUP($V239,Data!$A$6:$A$1806,Data!$C$6:$C$1806)","v":0},{"$f":"LOOKUP($V239,Data!$A$6:$A$1806,Data!$D$6:$D$1806)","v":0},{"$f":"IF($Z$1=\"+\",LOOKUP($V239,Data!$A$6:$A$1806,Data!$E$6:$E$1806)*-1,LOOKUP($V239,Data!$A$6:$A$1806,Data!$E$6:$E$1806))","v":0},{"$f":"LOOKUP($V239,Data!$A$6:$A$1806,Data!$F$6:$F$1806)","v":0},null,{"$f":"LOOKUP($V239,Data!$A$6:$A$1806,Data!$H$6:$H$1806)","v":0},{"$f":"LOOKUP($V239,Data!$A$6:$A$1806,Data!$I$6:$I$1806)","v":0},{"$f":"IF(LOOKUP($V239,Data!$A$6:$A$1806,Data!$J$6:$J$1806)>0,(LOOKUP($V239,Data!$A$6:$A$1806,Data!$J$6:$J$1806)*-1),LOOKUP($V239,Data!$A$6:$A$1806,Data!$J$6:$J$1806))","v":-653},{"$f":"LOOKUP($V239,Data!$A$6:$A$1806,Data!$K$6:$K$1806)","v":30373.533203125},-299.51751708984375,null,null,null,null,null,null,null,null,null,null,null,null,null,null,null," ",4.5867919921875E-2,-653]
[null,40679.341666666369,{"$f":"LOOKUP(B240,Data!$A$6:$A$1806,Data!B$6:B$1806)","v":60.046539306640625},{"$f":"LOOKUP(B240,Data!$A$6:$A$1806,Data!C$6:C$1806)","v":0},null,null,19590,{"$f":"(IF((C240-L$2)>0,(IF(C240<'Copy Results'!$C$3,((C240-L$2-L$5)/((L$4*L$2)-L$5)*G240*-1),(('Copy Results'!$C$3-L$2-L$5)/((L$4*L$2)-L$5)*G240*-1))),IF(C240>'Copy Results'!$C$2,((C240-L$2+L$5)/((L$4*L$2)-L$5)*G240*-1),(('Copy Results'!$C$2-L$2+L$5)/((L$4*L$2)-L$5)*G240*-1))))","v":-303.90167236328125},-296.2361163571311,null,null,0,-316.86856624319705,{"$f":"AVERAGE(D$79:D240)","v":0},{"$f":"AVERAGE(M$79:M240)","v":410.43771080686503},-18.644902043525651,{"$f":"AVERAGE(P$79:P240)","v":157.99312390287977},null,null,null,null,40679.341666666369,{"$f":"LOOKUP($V240,Data!$A$6:$A$1806,Data!$B$6:$B$1806)","v":60.046539306640625},{"$f":"LOOKUP($V240,Data!$A$6:$A$1806,Data!$C$6:$C$1806)","v":0},{"$f":"LOOKUP($V240,Data!$A$6:$A$1806,Data!$D$6:$D$1806)","v":0},{"$f":"IF($Z$1=\"+\",LOOKUP($V240,Data!$A$6:$A$1806,Data!$E$6:$E$1806)*-1,LOOKUP($V240,Data!$A$6:$A$1806,Data!$E$6:$E$1806))","v":0},{"$f":"LOOKUP($V240,Data!$A$6:$A$1806,Data!$F$6:$F$1806)","v":0},null,{"$f":"LOOKUP($V240,Data!$A$6:$A$1806,Data!$H$6:$H$1806)","v":0},{"$f":"LOOKUP($V240,Data!$A$6:$A$1806,Data!$I$6:$I$1806)","v":0},{"$f":"IF(LOOKUP($V240,Data!$A$6:$A$1806,Data!$J$6:$J$1806)>0,(LOOKUP($V240,Data!$A$6:$A$1806,Data!$J$6:$J$1806)*-1),LOOKUP($V240,Data!$A$6:$A$1806,Data!$J$6:$J$1806))","v":-653},{"$f":"LOOKUP($V240,Data!$A$6:$A$1806,Data!$K$6:$K$1806)","v":30373.533203125},-303.90167236328125,null,null,null,null,null,null,null,null,null,null,null,null,null,null,null," ",4.6539306640625E-2,-653]
[null,40679.341689814515,{"$f":"LOOKUP(B241,Data!$A$6:$A$1806,Data!B$6:B$1806)","v":60.048797607421875},{"$f":"LOOKUP(B241,Data!$A$6:$A$1806,Data!C$6:C$1806)","v":0},null,null,19590,{"$f":"(IF((C241-L$2)>0,(IF(C241<'Copy Results'!$C$3,((C241-L$2-L$5)/((L$4*L$2)-L$5)*G241*-1),(('Copy Results'!$C$3-L$2-L$5)/((L$4*L$2)-L$5)*G241*-1))),IF(C241>'Copy Results'!$C$2,((C241-L$2+L$5)/((L$4*L$2)-L$5)*G241*-1),(('Copy Results'!$C$2-L$2+L$5)/((L$4*L$2)-L$5)*G241*-1))))","v":-318.64837646484375},-304.08040739483056,null,null,0,-324.71285728089651,{"$f":"AVERAGE(D$79:D241)","v":0},{"$f":"AVERAGE(M$79:M241)","v":405.92758462227749},-18.644902043525651,{"$f":"AVERAGE(P$79:P241)","v":156.90276571802545},null,null,null,null,40679.341689814515,{"$f":"LOOKUP($V241,Data!$A$6:$A$1806,Data!$B$6:$B$1806)","v":60.048797607421875},{"$f":"LOOKUP($V241,Data!$A$6:$A$1806,Data!$C$6:$C$1806)","v":0},{"$f":"LOOKUP($V241,Data!$A$6:$A$1806,Data!$D$6:$D$1806)","v":0},{"$f":"IF($Z$1=\"+\",LOOKUP($V241,Data!$A$6:$A$1806,Data!$E$6:$E$1806)*-1,LOOKUP($V241,Data!$A$6:$A$1806,Data!$E$6:$E$1806))","v":0},{"$f":"LOOKUP($V241,Data!$A$6:$A$1806,Data!$F$6:$F$1806)","v":0},null,{"$f":"LOOKUP($V241,Data!$A$6:$A$1806,Data!$H$6:$H$1806)","v":0},{"$f":"LOOKUP($V241,Data!$A$6:$A$1806,Data!$I$6:$I$1806)","v":0},{"$f":"IF(LOOKUP($V241,Data!$A$6:$A$1806,Data!$J$6:$J$1806)>0,(LOOKUP($V241,Data!$A$6:$A$1806,Data!$J$6:$J$1806)*-1),LOOKUP($V241,Data!$A$6:$A$1806,Data!$J$6:$J$1806))","v":-653},{"$f":"LOOKUP($V241,Data!$A$6:$A$1806,Data!$K$6:$K$1806)","v":30373.533203125},-318.64837646484375,null,null,null,null,null,null,null,null,null,null,null,null,null,null,null," ",4.8797607421875E-2,-653]
[null,40679.341712962661,{"$f":"LOOKUP(B242,Data!$A$6:$A$1806,Data!B$6:B$1806)","v":60.04974365234375},{"$f":"LOOKUP(B242,Data!$A$6:$A$1806,Data!C$6:C$1806)","v":0},null,null,19590,{"$f":"(IF((C242-L$2)>0,(IF(C242<'Copy Results'!$C$3,((C242-L$2-L$5)/((L$4*L$2)-L$5)*G242*-1),(('Copy Results'!$C$3-L$2-L$5)/((L$4*L$2)-L$5)*G242*-1))),IF(C242>'Copy Results'!$C$2,((C242-L$2+L$5)/((L$4*L$2)-L$5)*G242*-1),(('Copy Results'!$C$2-L$2+L$5)/((L$4*L$2)-L$5)*G242*-1))))","v":-324.8260498046875},-311.34138223828046,null,null,0,-331.97383212434642,{"$f":"AVERAGE(D$79:D242)","v":0},{"$f":"AVERAGE(M$79:M242)","v":401.42818573967611},-18.644902043525651,{"$f":"AVERAGE(P$79:P242)","v":155.82578616120611},null,null,null,null,40679.341712962661,{"$f":"LOOKUP($V242,Data!$A$6:$A$1806,Data!$B$6:$B$1806)","v":60.04974365234375},{"$f":"LOOKUP($V242,Data!$A$6:$A$1806,Data!$C$6:$C$1806)","v":0},{"$f":"LOOKUP($V242,Data!$A$6:$A$1806,Data!$D$6:$D$1806)","v":0},{"$f":"IF($Z$1=\"+\",LOOKUP($V242,Data!$A$6:$A$1806,Data!$E$6:$E$1806)*-1,LOOKUP($V242,Data!$A$6:$A$1806,Data!$E$6:$E$1806))","v":0},{"$f":"LOOKUP($V242,Data!$A$6:$A$1806,Data!$F$6:$F$1806)","v":0},null,{"$f":"LOOKUP($V242,Data!$A$6:$A$1806,Data!$H$6:$H$1806)","v":0},{"$f":"LOOKUP($V242,Data!$A$6:$A$1806,Data!$I$6:$I$1806)","v":0},{"$f":"IF(LOOKUP($V242,Data!$A$6:$A$1806,Data!$J$6:$J$1806)>0,(LOOKUP($V242,Data!$A$6:$A$1806,Data!$J$6:$J$1806)*-1),LOOKUP($V242,Data!$A$6:$A$1806,Data!$J$6:$J$1806))","v":-653},{"$f":"LOOKUP($V242,Data!$A$6:$A$1806,Data!$K$6:$K$1806)","v":30343.46484375},-324.8260498046875,null,null,null,null,null,null,null,null,null,null,null,null,null,null,null," ",4.974365234375E-2,-653]
[null,40679.341736110808,{"$f":"LOOKUP(B243,Data!$A$6:$A$1806,Data!B$6:B$1806)","v":60.049102783203125},{"$f":"LOOKUP(B243,Data!$A$6:$A$1806,Data!C$6:C$1806)","v":0},null,null,19590,{"$f":"(IF((C243-L$2)>0,(IF(C243<'Copy Results'!$C$3,((C243-L$2-L$5)/((L$4*L$2)-L$5)*G243*-1),(('Copy Results'!$C$3-L$2-L$5)/((L$4*L$2)-L$5)*G243*-1))),IF(C243>'Copy Results'!$C$2,((C243-L$2+L$5)/((L$4*L$2)-L$5)*G243*-1),(('Copy Results'!$C$2-L$2+L$5)/((L$4*L$2)-L$5)*G243*-1))))","v":-320.64117431640625},-314.59630946562447,null,null,0,-335.22875935169043,{"$f":"AVERAGE(D$79:D243)","v":0},{"$f":"AVERAGE(M$79:M243)","v":396.96359819366785},-18.644902043525651,{"$f":"AVERAGE(P$79:P243)","v":154.76194050142118},null,null,null,null,40679.341736110808,{"$f":"LOOKUP($V243,Data!$A$6:$A$1806,Data!$B$6:$B$1806)","v":60.049102783203125},{"$f":"LOOKUP($V243,Data!$A$6:$A$1806,Data!$C$6:$C$1806)","v":0},{"$f":"LOOKUP($V243,Data!$A$6:$A$1806,Data!$D$6:$D$1806)","v":0},{"$f":"IF($Z$1=\"+\",LOOKUP($V243,Data!$A$6:$A$1806,Data!$E$6:$E$1806)*-1,LOOKUP($V243,Data!$A$6:$A$1806,Data!$E$6:$E$1806))","v":0},{"$f":"LOOKUP($V243,Data!$A$6:$A$1806,Data!$F$6:$F$1806)","v":0},null,{"$f":"LOOKUP($V243,Data!$A$6:$A$1806,Data!$H$6:$H$1806)","v":0},{"$f":"LOOKUP($V243,Data!$A$6:$A$1806,Data!$I$6:$I$1806)","v":0},{"$f":"IF(LOOKUP($V243,Data!$A$6:$A$1806,Data!$J$6:$J$1806)>0,(LOOKUP($V243,Data!$A$6:$A$1806,Data!$J$6:$J$1806)*-1),LOOKUP($V243,Data!$A$6:$A$1806,Data!$J$6:$J$1806))","v":-653},{"$f":"LOOKUP($V243,Data!$A$6:$A$1806,Data!$K$6:$K$1806)","v":30343.46484375},-320.64117431640625,null,null,null,null,null,null,null,null,null,null,null,null,null,null,null," ",4.9102783203125E-2,-653]
[null,40679.341759258954,{"$f":"LOOKUP(B244,Data!$A$6:$A$1806,Data!B$6:B$1806)","v":60.049102783203125},{"$f":"LOOKUP(B244,Data!$A$6:$A$1806,Data!C$6:C$1806)","v":0},null,null,19590,{"$f":"(IF((C244-L$2)>0,(IF(C244<'Copy Results'!$C$3,((C244-L$2-L$5)/((L$4*L$2)-L$5)*G244*-1),(('Copy Results'!$C$3-L$2-L$5)/((L$4*L$2)-L$5)*G244*-1))),IF(C244>'Copy Results'!$C$2,((C244-L$2+L$5)/((L$4*L$2)-L$5)*G244*-1),(('Copy Results'!$C$2-L$2+L$5)/((L$4*L$2)-L$5)*G244*-1))))","v":-320.64117431640625},-316.71201216339807,null,null,0,-337.34446204946403,{"$f":"AVERAGE(D$79:D244)","v":0},{"$f":"AVERAGE(M$79:M244)","v":392.54005566208269},-18.644902043525651,{"$f":"AVERAGE(P$79:P244)","v":153.7109899405427},null,null,null,null,40679.341759258954,{"$f":"LOOKUP($V244,Data!$A$6:$A$1806,Data!$B$6:$B$1806)","v":60.049102783203125},{"$f":"LOOKUP($V244,Data!$A$6:$A$1806,Data!$C$6:$C$1806)","v":0},{"$f":"LOOKUP($V244,Data!$A$6:$A$1806,Data!$D$6:$D$1806)","v":0},{"$f":"IF($Z$1=\"+\",LOOKUP($V244,Data!$A$6:$A$1806,Data!$E$6:$E$1806)*-1,LOOKUP($V244,Data!$A$6:$A$1806,Data!$E$6:$E$1806))","v":0},{"$f":"LOOKUP($V244,Data!$A$6:$A$1806,Data!$F$6:$F$1806)","v":0},null,{"$f":"LOOKUP($V244,Data!$A$6:$A$1806,Data!$H$6:$H$1806)","v":0},{"$f":"LOOKUP($V244,Data!$A$6:$A$1806,Data!$I$6:$I$1806)","v":0},{"$f":"IF(LOOKUP($V244,Data!$A$6:$A$1806,Data!$J$6:$J$1806)>0,(LOOKUP($V244,Data!$A$6:$A$1806,Data!$J$6:$J$1806)*-1),LOOKUP($V244,Data!$A$6:$A$1806,Data!$J$6:$J$1806))","v":-653},{"$f":"LOOKUP($V244,Data!$A$6:$A$1806,Data!$K$6:$K$1806)","v":30335.119140625},-320.64117431640625,null,null,null,null,null,null,null,null,null,null,null,null,null,null,null," ",4.9102783203125E-2,-653]
[null,40679.3417824071,{"$f":"LOOKUP(B245,Data!$A$6:$A$1806,Data!B$6:B$1806)","v":60.0504150390625},{"$f":"LOOKUP(B245,Data!$A$6:$A$1806,Data!C$6:C$1806)","v":0},null,null,19590,{"$f":"(IF((C245-L$2)>0,(IF(C245<'Copy Results'!$C$3,((C245-L$2-L$5)/((L$4*L$2)-L$5)*G245*-1),(('Copy Results'!$C$3-L$2-L$5)/((L$4*L$2)-L$5)*G245*-1))),IF(C245>'Copy Results'!$C$2,((C245-L$2+L$5)/((L$4*L$2)-L$5)*G245*-1),(('Copy Results'!$C$2-L$2+L$5)/((L$4*L$2)-L$5)*G245*-1))))","v":-329.210205078125},-321.08637968355248,null,null,0,-341.71882956961844,{"$f":"AVERAGE(D$79:D245)","v":0},{"$f":"AVERAGE(M$79:M245)","v":388.14329587027612},-18.644902043525651,{"$f":"AVERAGE(P$79:P245)","v":152.67270143461459},null,null,null,null,40679.3417824071,{"$f":"LOOKUP($V245,Data!$A$6:$A$1806,Data!$B$6:$B$1806)","v":60.0504150390625},{"$f":"LOOKUP($V245,Data!$A$6:$A$1806,Data!$C$6:$C$1806)","v":0},{"$f":"LOOKUP($V245,Data!$A$6:$A$1806,Data!$D$6:$D$1806)","v":0},{"$f":"IF($Z$1=\"+\",LOOKUP($V245,Data!$A$6:$A$1806,Data!$E$6:$E$1806)*-1,LOOKUP($V245,Data!$A$6:$A$1806,Data!$E$6:$E$1806))","v":0},{"$f":"LOOKUP($V245,Data!$A$6:$A$1806,Data!$F$6:$F$1806)","v":0},null,{"$f":"LOOKUP($V245,Data!$A$6:$A$1806,Data!$H$6:$H$1806)","v":0},{"$f":"LOOKUP($V245,Data!$A$6:$A$1806,Data!$I$6:$I$1806)","v":0},{"$f":"IF(LOOKUP($V245,Data!$A$6:$A$1806,Data!$J$6:$J$1806)>0,(LOOKUP($V245,Data!$A$6:$A$1806,Data!$J$6:$J$1806)*-1),LOOKUP($V245,Data!$A$6:$A$1806,Data!$J$6:$J$1806))","v":-653},{"$f":"LOOKUP($V245,Data!$A$6:$A$1806,Data!$K$6:$K$1806)","v":30335.119140625},-329.210205078125,null,null,null,null,null,null,null,null,null,null,null,null,null,null,null," ",5.04150390625E-2,-653]
[null,40679.341805555247,{"$f":"LOOKUP(B246,Data!$A$6:$A$1806,Data!B$6:B$1806)","v":60.04974365234375},{"$f":"LOOKUP(B246,Data!$A$6:$A$1806,Data!C$6:C$1806)","v":0},null,null,19590,{"$f":"(IF((C246-L$2)>0,(IF(C246<'Copy Results'!$C$3,((C246-L$2-L$5)/((L$4*L$2)-L$5)*G246*-1),(('Copy Results'!$C$3-L$2-L$5)/((L$4*L$2)-L$5)*G246*-1))),IF(C246>'Copy Results'!$C$2,((C246-L$2+L$5)/((L$4*L$2)-L$5)*G246*-1),(('Copy Results'!$C$2-L$2+L$5)/((L$4*L$2)-L$5)*G246*-1))))","v":-324.8260498046875},-322.39526422594975,null,null,0,-343.0277141120157,{"$f":"AVERAGE(D$79:D246)","v":0},{"$f":"AVERAGE(M$79:M246)","v":383.7910874775244},-18.644902043525651,{"$f":"AVERAGE(P$79:P246)","v":151.64684752157183},null,null,null,null,40679.341805555247,{"$f":"LOOKUP($V246,Data!$A$6:$A$1806,Data!$B$6:$B$1806)","v":60.04974365234375},{"$f":"LOOKUP($V246,Data!$A$6:$A$1806,Data!$C$6:$C$1806)","v":0},{"$f":"LOOKUP($V246,Data!$A$6:$A$1806,Data!$D$6:$D$1806)","v":0},{"$f":"IF($Z$1=\"+\",LOOKUP($V246,Data!$A$6:$A$1806,Data!$E$6:$E$1806)*-1,LOOKUP($V246,Data!$A$6:$A$1806,Data!$E$6:$E$1806))","v":0},{"$f":"LOOKUP($V246,Data!$A$6:$A$1806,Data!$F$6:$F$1806)","v":0},null,{"$f":"LOOKUP($V246,Data!$A$6:$A$1806,Data!$H$6:$H$1806)","v":0},{"$f":"LOOKUP($V246,Data!$A$6:$A$1806,Data!$I$6:$I$1806)","v":0},{"$f":"IF(LOOKUP($V246,Data!$A$6:$A$1806,Data!$J$6:$J$1806)>0,(LOOKUP($V246,Data!$A$6:$A$1806,Data!$J$6:$J$1806)*-1),LOOKUP($V246,Data!$A$6:$A$1806,Data!$J$6:$J$1806))","v":-653},{"$f":"LOOKUP($V246,Data!$A$6:$A$1806,Data!$K$6:$K$1806)","v":30335.119140625},-324.8260498046875,null,null,null,null,null,null,null,null,null,null,null,null,null,null,null," ",4.974365234375E-2,-653]
[null,40679.341828703393,{"$f":"LOOKUP(B247,Data!$A$6:$A$1806,Data!B$6:B$1806)","v":60.0484619140625},{"$f":"LOOKUP(B247,Data!$A$6:$A$1806,Data!C$6:C$1806)","v":0},null,null,19590,{"$f":"(IF((C247-L$2)>0,(IF(C247<'Copy Results'!$C$3,((C247-L$2-L$5)/((L$4*L$2)-L$5)*G247*-1),(('Copy Results'!$C$3-L$2-L$5)/((L$4*L$2)-L$5)*G247*-1))),IF(C247>'Copy Results'!$C$2,((C247-L$2+L$5)/((L$4*L$2)-L$5)*G247*-1),(('Copy Results'!$C$2-L$2+L$5)/((L$4*L$2)-L$5)*G247*-1))))","v":-316.456298828125},-320.31662633671112,null,null,0,-340.94907622277708,{"$f":"AVERAGE(D$79:D247)","v":0},{"$f":"AVERAGE(M$79:M247)","v":379.50268414201963},-18.644902043525651,{"$f":"AVERAGE(P$79:P247)","v":150.63320615511293},null,null,null,null,40679.341828703393,{"$f":"LOOKUP($V247,Data!$A$6:$A$1806,Data!$B$6:$B$1806)","v":60.0484619140625},{"$f":"LOOKUP($V247,Data!$A$6:$A$1806,Data!$C$6:$C$1806)","v":0},{"$f":"LOOKUP($V247,Data!$A$6:$A$1806,Data!$D$6:$D$1806)","v":0},{"$f":"IF($Z$1=\"+\",LOOKUP($V247,Data!$A$6:$A$1806,Data!$E$6:$E$1806)*-1,LOOKUP($V247,Data!$A$6:$A$1806,Data!$E$6:$E$1806))","v":0},{"$f":"LOOKUP($V247,Data!$A$6:$A$1806,Data!$F$6:$F$1806)","v":0},null,{"$f":"LOOKUP($V247,Data!$A$6:$A$1806,Data!$H$6:$H$1806)","v":0},{"$f":"LOOKUP($V247,Data!$A$6:$A$1806,Data!$I$6:$I$1806)","v":0},{"$f":"IF(LOOKUP($V247,Data!$A$6:$A$1806,Data!$J$6:$J$1806)>0,(LOOKUP($V247,Data!$A$6:$A$1806,Data!$J$6:$J$1806)*-1),LOOKUP($V247,Data!$A$6:$A$1806,Data!$J$6:$J$1806))","v":-653},{"$f":"LOOKUP($V247,Data!$A$6:$A$1806,Data!$K$6:$K$1806)","v":30335.119140625},-316.456298828125,null,null,null,null,null,null,null,null,null,null,null,null,null,null,null," ",4.84619140625E-2,-653]
[null,40679.341851851539,{"$f":"LOOKUP(B248,Data!$A$6:$A$1806,Data!B$6:B$1806)","v":60.04718017578125},{"$f":"LOOKUP(B248,Data!$A$6:$A$1806,Data!C$6:C$1806)","v":0},null,null,19590,{"$f":"(IF((C248-L$2)>0,(IF(C248<'Copy Results'!$C$3,((C248-L$2-L$5)/((L$4*L$2)-L$5)*G248*-1),(('Copy Results'!$C$3-L$2-L$5)/((L$4*L$2)-L$5)*G248*-1))),IF(C248>'Copy Results'!$C$2,((C248-L$2+L$5)/((L$4*L$2)-L$5)*G248*-1),(('Copy Results'!$C$2-L$2+L$5)/((L$4*L$2)-L$5)*G248*-1))))","v":-308.0865478515625},-316.03609886690913,null,null,0,-336.66854875297508,{"$f":"AVERAGE(D$79:D248)","v":0},{"$f":"AVERAGE(M$79:M248)","v":375.28991218381378},-18.644902043525651,{"$f":"AVERAGE(P$79:P248)","v":149.63156054447009},null,null,null,null,40679.341851851539,{"$f":"LOOKUP($V248,Data!$A$6:$A$1806,Data!$B$6:$B$1806)","v":60.04718017578125},{"$f":"LOOKUP($V248,Data!$A$6:$A$1806,Data!$C$6:$C$1806)","v":0},{"$f":"LOOKUP($V248,Data!$A$6:$A$1806,Data!$D$6:$D$1806)","v":0},{"$f":"IF($Z$1=\"+\",LOOKUP($V248,Data!$A$6:$A$1806,Data!$E$6:$E$1806)*-1,LOOKUP($V248,Data!$A$6:$A$1806,Data!$E$6:$E$1806))","v":0},{"$f":"LOOKUP($V248,Data!$A$6:$A$1806,Data!$F$6:$F$1806)","v":0},null,{"$f":"LOOKUP($V248,Data!$A$6:$A$1806,Data!$H$6:$H$1806)","v":0},{"$f":"LOOKUP($V248,Data!$A$6:$A$1806,Data!$I$6:$I$1806)","v":0},{"$f":"IF(LOOKUP($V248,Data!$A$6:$A$1806,Data!$J$6:$J$1806)>0,(LOOKUP($V248,Data!$A$6:$A$1806,Data!$J$6:$J$1806)*-1),LOOKUP($V248,Data!$A$6:$A$1806,Data!$J$6:$J$1806))","v":-653},{"$f":"LOOKUP($V248,Data!$A$6:$A$1806,Data!$K$6:$K$1806)","v":30337.28515625},-308.0865478515625,null,null,null,null,null,null,null,null,null,null,null,null,null,null,null," ",4.718017578125E-2,-653]
[null,40679.341874999685,{"$f":"LOOKUP(B249,Data!$A$6:$A$1806,Data!B$6:B$1806)","v":60.045867919921875},{"$f":"LOOKUP(B249,Data!$A$6:$A$1806,Data!C$6:C$1806)","v":0},null,null,19590,{"$f":"(IF((C249-L$2)>0,(IF(C249<'Copy Results'!$C$3,((C249-L$2-L$5)/((L$4*L$2)-L$5)*G249*-1),(('Copy Results'!$C$3-L$2-L$5)/((L$4*L$2)-L$5)*G249*-1))),IF(C249>'Copy Results'!$C$2,((C249-L$2+L$5)/((L$4*L$2)-L$5)*G249*-1),(('Copy Results'!$C$2-L$2+L$5)/((L$4*L$2)-L$5)*G249*-1))))","v":-299.51751708984375},-310.25459524493624,null,null,0,-330.8870451310022,{"$f":"AVERAGE(D$79:D249)","v":0},{"$f":"AVERAGE(M$79:M249)","v":371.1602223749552},-18.644902043525651,{"$f":"AVERAGE(P$79:P249)","v":148.64169899983483},null,null,null,null,40679.341874999685,{"$f":"LOOKUP($V249,Data!$A$6:$A$1806,Data!$B$6:$B$1806)","v":60.045867919921875},{"$f":"LOOKUP($V249,Data!$A$6:$A$1806,Data!$C$6:$C$1806)","v":0},{"$f":"LOOKUP($V249,Data!$A$6:$A$1806,Data!$D$6:$D$1806)","v":0},{"$f":"IF($Z$1=\"+\",LOOKUP($V249,Data!$A$6:$A$1806,Data!$E$6:$E$1806)*-1,LOOKUP($V249,Data!$A$6:$A$1806,Data!$E$6:$E$1806))","v":0},{"$f":"LOOKUP($V249,Data!$A$6:$A$1806,Data!$F$6:$F$1806)","v":0},null,{"$f":"LOOKUP($V249,Data!$A$6:$A$1806,Data!$H$6:$H$1806)","v":0},{"$f":"LOOKUP($V249,Data!$A$6:$A$1806,Data!$I$6:$I$1806)","v":0},{"$f":"IF(LOOKUP($V249,Data!$A$6:$A$1806,Data!$J$6:$J$1806)>0,(LOOKUP($V249,Data!$A$6:$A$1806,Data!$J$6:$J$1806)*-1),LOOKUP($V249,Data!$A$6:$A$1806,Data!$J$6:$J$1806))","v":-653},{"$f":"LOOKUP($V249,Data!$A$6:$A$1806,Data!$K$6:$K$1806)","v":30337.28515625},-299.51751708984375,null,null,null,null,null,null,null,null,null,null,null,null,null,null,null," ",4.5867919921875E-2,-653]
[null,40679.341898147832,{"$f":"LOOKUP(B250,Data!$A$6:$A$1806,Data!B$6:B$1806)","v":60.045867919921875},{"$f":"LOOKUP(B250,Data!$A$6:$A$1806,Data!C$6:C$1806)","v":0},null,null,19590,{"$f":"(IF((C250-L$2)>0,(IF(C250<'Copy Results'!$C$3,((C250-L$2-L$5)/((L$4*L$2)-L$5)*G250*-1),(('Copy Results'!$C$3-L$2-L$5)/((L$4*L$2)-L$5)*G250*-1))),IF(C250>'Copy Results'!$C$2,((C250-L$2+L$5)/((L$4*L$2)-L$5)*G250*-1),(('Copy Results'!$C$2-L$2+L$5)/((L$4*L$2)-L$5)*G250*-1))))","v":-299.51751708984375},-306.49661789065385,null,null,0,-327.12906777671981,{"$f":"AVERAGE(D$79:D250)","v":0},{"$f":"AVERAGE(M$79:M250)","v":367.100400920585},-18.644902043525651,{"$f":"AVERAGE(P$79:P250)","v":147.663414783207},null,null,null,null,40679.341898147832,{"$f":"LOOKUP($V250,Data!$A$6:$A$1806,Data!$B$6:$B$1806)","v":60.045867919921875},{"$f":"LOOKUP($V250,Data!$A$6:$A$1806,Data!$C$6:$C$1806)","v":0},{"$f":"LOOKUP($V250,Data!$A$6:$A$1806,Data!$D$6:$D$1806)","v":0},{"$f":"IF($Z$1=\"+\",LOOKUP($V250,Data!$A$6:$A$1806,Data!$E$6:$E$1806)*-1,LOOKUP($V250,Data!$A$6:$A$1806,Data!$E$6:$E$1806))","v":0},{"$f":"LOOKUP($V250,Data!$A$6:$A$1806,Data!$F$6:$F$1806)","v":0},null,{"$f":"LOOKUP($V250,Data!$A$6:$A$1806,Data!$H$6:$H$1806)","v":0},{"$f":"LOOKUP($V250,Data!$A$6:$A$1806,Data!$I$6:$I$1806)","v":0},{"$f":"IF(LOOKUP($V250,Data!$A$6:$A$1806,Data!$J$6:$J$1806)>0,(LOOKUP($V250,Data!$A$6:$A$1806,Data!$J$6:$J$1806)*-1),LOOKUP($V250,Data!$A$6:$A$1806,Data!$J$6:$J$1806))","v":-653},{"$f":"LOOKUP($V250,Data!$A$6:$A$1806,Data!$K$6:$K$1806)","v":30337.28515625},-299.51751708984375,null,null,null,null,null,null,null,null,null,null,null,null,null,null,null," ",4.5867919921875E-2,-653]
[null,40679.341921295978,{"$f":"LOOKUP(B251,Data!$A$6:$A$1806,Data!B$6:B$1806)","v":60.045562744140625},{"$f":"LOOKUP(B251,Data!$A$6:$A$1806,Data!C$6:C$1806)","v":0},null,null,19590,{"$f":"(IF((C251-L$2)>0,(IF(C251<'Copy Results'!$C$3,((C251-L$2-L$5)/((L$4*L$2)-L$5)*G251*-1),(('Copy Results'!$C$3-L$2-L$5)/((L$4*L$2)-L$5)*G251*-1))),IF(C251>'Copy Results'!$C$2,((C251-L$2+L$5)/((L$4*L$2)-L$5)*G251*-1),(('Copy Results'!$C$2-L$2+L$5)/((L$4*L$2)-L$5)*G251*-1))))","v":-297.52471923828125},-303.35645336232346,null,null,0,-323.98890324838942,{"$f":"AVERAGE(D$79:D251)","v":0},{"$f":"AVERAGE(M$79:M251)","v":363.10566505833663},-18.644902043525651,{"$f":"AVERAGE(P$79:P251)","v":146.69650596444694},null,null,null,null,40679.341921295978,{"$f":"LOOKUP($V251,Data!$A$6:$A$1806,Data!$B$6:$B$1806)","v":60.045562744140625},{"$f":"LOOKUP($V251,Data!$A$6:$A$1806,Data!$C$6:$C$1806)","v":0},{"$f":"LOOKUP($V251,Data!$A$6:$A$1806,Data!$D$6:$D$1806)","v":0},{"$f":"IF($Z$1=\"+\",LOOKUP($V251,Data!$A$6:$A$1806,Data!$E$6:$E$1806)*-1,LOOKUP($V251,Data!$A$6:$A$1806,Data!$E$6:$E$1806))","v":0},{"$f":"LOOKUP($V251,Data!$A$6:$A$1806,Data!$F$6:$F$1806)","v":0},null,{"$f":"LOOKUP($V251,Data!$A$6:$A$1806,Data!$H$6:$H$1806)","v":0},{"$f":"LOOKUP($V251,Data!$A$6:$A$1806,Data!$I$6:$I$1806)","v":0},{"$f":"IF(LOOKUP($V251,Data!$A$6:$A$1806,Data!$J$6:$J$1806)>0,(LOOKUP($V251,Data!$A$6:$A$1806,Data!$J$6:$J$1806)*-1),LOOKUP($V251,Data!$A$6:$A$1806,Data!$J$6:$J$1806))","v":-653},{"$f":"LOOKUP($V251,Data!$A$6:$A$1806,Data!$K$6:$K$1806)","v":30337.28515625},-297.52471923828125,null,null,null,null,null,null,null,null,null,null,null,null,null,null,null," ",4.5562744140625E-2,-653]
[null,40679.341944444124,{"$f":"LOOKUP(B252,Data!$A$6:$A$1806,Data!B$6:B$1806)","v":60.04425048828125},{"$f":"LOOKUP(B252,Data!$A$6:$A$1806,Data!C$6:C$1806)","v":0},null,null,19590,{"$f":"(IF((C252-L$2)>0,(IF(C252<'Copy Results'!$C$3,((C252-L$2-L$5)/((L$4*L$2)-L$5)*G252*-1),(('Copy Results'!$C$3-L$2-L$5)/((L$4*L$2)-L$5)*G252*-1))),IF(C252>'Copy Results'!$C$2,((C252-L$2+L$5)/((L$4*L$2)-L$5)*G252*-1),(('Copy Results'!$C$2-L$2+L$5)/((L$4*L$2)-L$5)*G252*-1))))","v":-288.9556884765625},-298.31618565230713,null,null,0,-318.94863553837308,{"$f":"AVERAGE(D$79:D252)","v":0},{"$f":"AVERAGE(M$79:M252)","v":359.18581275605669},-18.644902043525651,{"$f":"AVERAGE(P$79:P252)","v":145.74077528231993},null,null,null,null,40679.341944444124,{"$f":"LOOKUP($V252,Data!$A$6:$A$1806,Data!$B$6:$B$1806)","v":60.04425048828125},{"$f":"LOOKUP($V252,Data!$A$6:$A$1806,Data!$C$6:$C$1806)","v":0},{"$f":"LOOKUP($V252,Data!$A$6:$A$1806,Data!$D$6:$D$1806)","v":0},{"$f":"IF($Z$1=\"+\",LOOKUP($V252,Data!$A$6:$A$1806,Data!$E$6:$E$1806)*-1,LOOKUP($V252,Data!$A$6:$A$1806,Data!$E$6:$E$1806))","v":0},{"$f":"LOOKUP($V252,Data!$A$6:$A$1806,Data!$F$6:$F$1806)","v":0},null,{"$f":"LOOKUP($V252,Data!$A$6:$A$1806,Data!$H$6:$H$1806)","v":0},{"$f":"LOOKUP($V252,Data!$A$6:$A$1806,Data!$I$6:$I$1806)","v":0},{"$f":"IF(LOOKUP($V252,Data!$A$6:$A$1806,Data!$J$6:$J$1806)>0,(LOOKUP($V252,Data!$A$6:$A$1806,Data!$J$6:$J$1806)*-1),LOOKUP($V252,Data!$A$6:$A$1806,Data!$J$6:$J$1806))","v":-653},{"$f":"LOOKUP($V252,Data!$A$6:$A$1806,Data!$K$6:$K$1806)","v":30350.197265625},-288.9556884765625,null,null,null,null,null,null,null,null,null,null,null,null,null,null,null," ",4.425048828125E-2,-653]
[null,40679.341967592271,{"$f":"LOOKUP(B253,Data!$A$6:$A$1806,Data!B$6:B$1806)","v":60.04296875},{"$f":"LOOKUP(B253,Data!$A$6:$A$1806,Data!C$6:C$1806)","v":0},null,null,19590,{"$f":"(IF((C253-L$2)>0,(IF(C253<'Copy Results'!$C$3,((C253-L$2-L$5)/((L$4*L$2)-L$5)*G253*-1),(('Copy Results'!$C$3-L$2-L$5)/((L$4*L$2)-L$5)*G253*-1))),IF(C253>'Copy Results'!$C$2,((C253-L$2+L$5)/((L$4*L$2)-L$5)*G253*-1),(('Copy Results'!$C$2-L$2+L$5)/((L$4*L$2)-L$5)*G253*-1))))","v":-280.5859375},-292.1105987989996,null,null,0,-312.74304868506556,{"$f":"AVERAGE(D$79:D253)","v":0},{"$f":"AVERAGE(M$79:M253)","v":355.34621926210741},-18.644902043525651,{"$f":"AVERAGE(P$79:P253)","v":144.79603001033232},null,null,null,null,40679.341967592271,{"$f":"LOOKUP($V253,Data!$A$6:$A$1806,Data!$B$6:$B$1806)","v":60.04296875},{"$f":"LOOKUP($V253,Data!$A$6:$A$1806,Data!$C$6:$C$1806)","v":0},{"$f":"LOOKUP($V253,Data!$A$6:$A$1806,Data!$D$6:$D$1806)","v":0},{"$f":"IF($Z$1=\"+\",LOOKUP($V253,Data!$A$6:$A$1806,Data!$E$6:$E$1806)*-1,LOOKUP($V253,Data!$A$6:$A$1806,Data!$E$6:$E$1806))","v":0},{"$f":"LOOKUP($V253,Data!$A$6:$A$1806,Data!$F$6:$F$1806)","v":0},null,{"$f":"LOOKUP($V253,Data!$A$6:$A$1806,Data!$H$6:$H$1806)","v":0},{"$f":"LOOKUP($V253,Data!$A$6:$A$1806,Data!$I$6:$I$1806)","v":0},{"$f":"IF(LOOKUP($V253,Data!$A$6:$A$1806,Data!$J$6:$J$1806)>0,(LOOKUP($V253,Data!$A$6:$A$1806,Data!$J$6:$J$1806)*-1),LOOKUP($V253,Data!$A$6:$A$1806,Data!$J$6:$J$1806))","v":-653},{"$f":"LOOKUP($V253,Data!$A$6:$A$1806,Data!$K$6:$K$1806)","v":30350.197265625},-280.5859375,null,null,null,null,null,null,null,null,null,null,null,null,null,null,null," ",4.296875E-2,-653]
[null,40679.341990740417,{"$f":"LOOKUP(B254,Data!$A$6:$A$1806,Data!B$6:B$1806)","v":60.04168701171875},{"$f":"LOOKUP(B254,Data!$A$6:$A$1806,Data!C$6:C$1806)","v":0},null,null,19590,{"$f":"(IF((C254-L$2)>0,(IF(C254<'Copy Results'!$C$3,((C254-L$2-L$5)/((L$4*L$2)-L$5)*G254*-1),(('Copy Results'!$C$3-L$2-L$5)/((L$4*L$2)-L$5)*G254*-1))),IF(C254>'Copy Results'!$C$2,((C254-L$2+L$5)/((L$4*L$2)-L$5)*G254*-1),(('Copy Results'!$C$2-L$2+L$5)/((L$4*L$2)-L$5)*G254*-1))))","v":-272.2161865234375},-285.14755450255291,null,null,0,-305.78000438861886,{"$f":"AVERAGE(D$79:D254)","v":0},{"$f":"AVERAGE(M$79:M254)","v":351.58982026409194},-18.644902043525651,{"$f":"AVERAGE(P$79:P254)","v":143.86208182716743},null,null,null,null,40679.341990740417,{"$f":"LOOKUP($V254,Data!$A$6:$A$1806,Data!$B$6:$B$1806)","v":60.04168701171875},{"$f":"LOOKUP($V254,Data!$A$6:$A$1806,Data!$C$6:$C$1806)","v":0},{"$f":"LOOKUP($V254,Data!$A$6:$A$1806,Data!$D$6:$D$1806)","v":0},{"$f":"IF($Z$1=\"+\",LOOKUP($V254,Data!$A$6:$A$1806,Data!$E$6:$E$1806)*-1,LOOKUP($V254,Data!$A$6:$A$1806,Data!$E$6:$E$1806))","v":0},{"$f":"LOOKUP($V254,Data!$A$6:$A$1806,Data!$F$6:$F$1806)","v":0},null,{"$f":"LOOKUP($V254,Data!$A$6:$A$1806,Data!$H$6:$H$1806)","v":0},{"$f":"LOOKUP($V254,Data!$A$6:$A$1806,Data!$I$6:$I$1806)","v":0},{"$f":"IF(LOOKUP($V254,Data!$A$6:$A$1806,Data!$J$6:$J$1806)>0,(LOOKUP($V254,Data!$A$6:$A$1806,Data!$J$6:$J$1806)*-1),LOOKUP($V254,Data!$A$6:$A$1806,Data!$J$6:$J$1806))","v":-653},{"$f":"LOOKUP($V254,Data!$A$6:$A$1806,Data!$K$6:$K$1806)","v":30350.06640625},-272.2161865234375,null,null,null,null,null,null,null,null,null,null,null,null,null,null,null," ",4.168701171875E-2,-653]
[null,40679.342013888563,{"$f":"LOOKUP(B255,Data!$A$6:$A$1806,Data!B$6:B$1806)","v":60.042327880859375},{"$f":"LOOKUP(B255,Data!$A$6:$A$1806,Data!C$6:C$1806)","v":0},null,null,19590,{"$f":"(IF((C255-L$2)>0,(IF(C255<'Copy Results'!$C$3,((C255-L$2-L$5)/((L$4*L$2)-L$5)*G255*-1),(('Copy Results'!$C$3-L$2-L$5)/((L$4*L$2)-L$5)*G255*-1))),IF(C255>'Copy Results'!$C$2,((C255-L$2+L$5)/((L$4*L$2)-L$5)*G255*-1),(('Copy Results'!$C$2-L$2+L$5)/((L$4*L$2)-L$5)*G255*-1))))","v":-276.40106201171875},-282.08628213076099,null,null,0,-302.71873201682695,{"$f":"AVERAGE(D$79:D255)","v":0},{"$f":"AVERAGE(M$79:M255)","v":347.89316177662909},-18.644902043525651,{"$f":"AVERAGE(P$79:P255)","v":142.93874669153848},null,null,null,null,40679.342013888563,{"$f":"LOOKUP($V255,Data!$A$6:$A$1806,Data!$B$6:$B$1806)","v":60.042327880859375},{"$f":"LOOKUP($V255,Data!$A$6:$A$1806,Data!$C$6:$C$1806)","v":0},{"$f":"LOOKUP($V255,Data!$A$6:$A$1806,Data!$D$6:$D$1806)","v":0},{"$f":"IF($Z$1=\"+\",LOOKUP($V255,Data!$A$6:$A$1806,Data!$E$6:$E$1806)*-1,LOOKUP($V255,Data!$A$6:$A$1806,Data!$E$6:$E$1806))","v":0},{"$f":"LOOKUP($V255,Data!$A$6:$A$1806,Data!$F$6:$F$1806)","v":0},null,{"$f":"LOOKUP($V255,Data!$A$6:$A$1806,Data!$H$6:$H$1806)","v":0},{"$f":"LOOKUP($V255,Data!$A$6:$A$1806,Data!$I$6:$I$1806)","v":0},{"$f":"IF(LOOKUP($V255,Data!$A$6:$A$1806,Data!$J$6:$J$1806)>0,(LOOKUP($V255,Data!$A$6:$A$1806,Data!$J$6:$J$1806)*-1),LOOKUP($V255,Data!$A$6:$A$1806,Data!$J$6:$J$1806))","v":-653},{"$f":"LOOKUP($V255,Data!$A$6:$A$1806,Data!$K$6:$K$1806)","v":30350.06640625},-276.40106201171875,null,null,null,null,null,null,null,null,null,null,null,null,null,null,null," ",4.2327880859375E-2,-653]
[null,40679.342037036709,{"$f":"LOOKUP(B256,Data!$A$6:$A$1806,Data!B$6:B$1806)","v":60.044586181640625},{"$f":"LOOKUP(B256,Data!$A$6:$A$1806,Data!C$6:C$1806)","v":0},null,null,19590,{"$f":"(IF((C256-L$2)>0,(IF(C256<'Copy Results'!$C$3,((C256-L$2-L$5)/((L$4*L$2)-L$5)*G256*-1),(('Copy Results'!$C$3-L$2-L$5)/((L$4*L$2)-L$5)*G256*-1))),IF(C256>'Copy Results'!$C$2,((C256-L$2+L$5)/((L$4*L$2)-L$5)*G256*-1),(('Copy Results'!$C$2-L$2+L$5)/((L$4*L$2)-L$5)*G256*-1))))","v":-291.14776611328125},-285.25780152464313,null,null,0,-305.89025141070908,{"$f":"AVERAGE(D$79:D256)","v":0},{"$f":"AVERAGE(M$79:M256)","v":344.22022125310474},-18.644902043525651,{"$f":"AVERAGE(P$79:P256)","v":142.0258447212839},null,null,null,null,40679.342037036709,{"$f":"LOOKUP($V256,Data!$A$6:$A$1806,Data!$B$6:$B$1806)","v":60.044586181640625},{"$f":"LOOKUP($V256,Data!$A$6:$A$1806,Data!$C$6:$C$1806)","v":0},{"$f":"LOOKUP($V256,Data!$A$6:$A$1806,Data!$D$6:$D$1806)","v":0},{"$f":"IF($Z$1=\"+\",LOOKUP($V256,Data!$A$6:$A$1806,Data!$E$6:$E$1806)*-1,LOOKUP($V256,Data!$A$6:$A$1806,Data!$E$6:$E$1806))","v":0},{"$f":"LOOKUP($V256,Data!$A$6:$A$1806,Data!$F$6:$F$1806)","v":0},null,{"$f":"LOOKUP($V256,Data!$A$6:$A$1806,Data!$H$6:$H$1806)","v":0},{"$f":"LOOKUP($V256,Data!$A$6:$A$1806,Data!$I$6:$I$1806)","v":0},{"$f":"IF(LOOKUP($V256,Data!$A$6:$A$1806,Data!$J$6:$J$1806)>0,(LOOKUP($V256,Data!$A$6:$A$1806,Data!$J$6:$J$1806)*-1),LOOKUP($V256,Data!$A$6:$A$1806,Data!$J$6:$J$1806))","v":-653},{"$f":"LOOKUP($V256,Data!$A$6:$A$1806,Data!$K$6:$K$1806)","v":30350.06640625},-291.14776611328125,null,null,null,null,null,null,null,null,null,null,null,null,null,null,null," ",4.4586181640625E-2,-653]
[null,40679.342060184856,{"$f":"LOOKUP(B257,Data!$A$6:$A$1806,Data!B$6:B$1806)","v":60.046539306640625},{"$f":"LOOKUP(B257,Data!$A$6:$A$1806,Data!C$6:C$1806)","v":0},null,null,19590,{"$f":"(IF((C257-L$2)>0,(IF(C257<'Copy Results'!$C$3,((C257-L$2-L$5)/((L$4*L$2)-L$5)*G257*-1),(('Copy Results'!$C$3-L$2-L$5)/((L$4*L$2)-L$5)*G257*-1))),IF(C257>'Copy Results'!$C$2,((C257-L$2+L$5)/((L$4*L$2)-L$5)*G257*-1),(('Copy Results'!$C$2-L$2+L$5)/((L$4*L$2)-L$5)*G257*-1))))","v":-303.90167236328125},-291.78315631816645,null,null,0,-312.4156062042324,{"$f":"AVERAGE(D$79:D257)","v":0},{"$f":"AVERAGE(M$79:M257)","v":340.55186467513079},-18.644902043525651,{"$f":"AVERAGE(P$79:P257)","v":141.12320007653778},null,null,null,null,40679.342060184856,{"$f":"LOOKUP($V257,Data!$A$6:$A$1806,Data!$B$6:$B$1806)","v":60.046539306640625},{"$f":"LOOKUP($V257,Data!$A$6:$A$1806,Data!$C$6:$C$1806)","v":0},{"$f":"LOOKUP($V257,Data!$A$6:$A$1806,Data!$D$6:$D$1806)","v":0},{"$f":"IF($Z$1=\"+\",LOOKUP($V257,Data!$A$6:$A$1806,Data!$E$6:$E$1806)*-1,LOOKUP($V257,Data!$A$6:$A$1806,Data!$E$6:$E$1806))","v":0},{"$f":"LOOKUP($V257,Data!$A$6:$A$1806,Data!$F$6:$F$1806)","v":0},null,{"$f":"LOOKUP($V257,Data!$A$6:$A$1806,Data!$H$6:$H$1806)","v":0},{"$f":"LOOKUP($V257,Data!$A$6:$A$1806,Data!$I$6:$I$1806)","v":0},{"$f":"IF(LOOKUP($V257,Data!$A$6:$A$1806,Data!$J$6:$J$1806)>0,(LOOKUP($V257,Data!$A$6:$A$1806,Data!$J$6:$J$1806)*-1),LOOKUP($V257,Data!$A$6:$A$1806,Data!$J$6:$J$1806))","v":-653},{"$f":"LOOKUP($V257,Data!$A$6:$A$1806,Data!$K$6:$K$1806)","v":30350.06640625},-303.90167236328125,null,null,null,null,null,null,null,null,null,null,null,null,null,null,null," ",4.6539306640625E-2,-653]
[null,40679.342083333002,{"$f":"LOOKUP(B258,Data!$A$6:$A$1806,Data!B$6:B$1806)","v":60.04718017578125},{"$f":"LOOKUP(B258,Data!$A$6:$A$1806,Data!C$6:C$1806)","v":0},null,null,19590,{"$f":"(IF((C258-L$2)>0,(IF(C258<'Copy Results'!$C$3,((C258-L$2-L$5)/((L$4*L$2)-L$5)*G258*-1),(('Copy Results'!$C$3-L$2-L$5)/((L$4*L$2)-L$5)*G258*-1))),IF(C258>'Copy Results'!$C$2,((C258-L$2+L$5)/((L$4*L$2)-L$5)*G258*-1),(('Copy Results'!$C$2-L$2+L$5)/((L$4*L$2)-L$5)*G258*-1))))","v":-308.0865478515625},-297.48934335485507,null,null,0,-318.12179324092102,{"$f":"AVERAGE(D$79:D258)","v":0},{"$f":"AVERAGE(M$79:M258)","v":336.89256657559719},-18.644902043525651,{"$f":"AVERAGE(P$79:P258)","v":140.23064084681675},null,null,null,null,40679.342083333002,{"$f":"LOOKUP($V258,Data!$A$6:$A$1806,Data!$B$6:$B$1806)","v":60.04718017578125},{"$f":"LOOKUP($V258,Data!$A$6:$A$1806,Data!$C$6:$C$1806)","v":0},{"$f":"LOOKUP($V258,Data!$A$6:$A$1806,Data!$D$6:$D$1806)","v":0},{"$f":"IF($Z$1=\"+\",LOOKUP($V258,Data!$A$6:$A$1806,Data!$E$6:$E$1806)*-1,LOOKUP($V258,Data!$A$6:$A$1806,Data!$E$6:$E$1806))","v":0},{"$f":"LOOKUP($V258,Data!$A$6:$A$1806,Data!$F$6:$F$1806)","v":0},null,{"$f":"LOOKUP($V258,Data!$A$6:$A$1806,Data!$H$6:$H$1806)","v":0},{"$f":"LOOKUP($V258,Data!$A$6:$A$1806,Data!$I$6:$I$1806)","v":0},{"$f":"IF(LOOKUP($V258,Data!$A$6:$A$1806,Data!$J$6:$J$1806)>0,(LOOKUP($V258,Data!$A$6:$A$1806,Data!$J$6:$J$1806)*-1),LOOKUP($V258,Data!$A$6:$A$1806,Data!$J$6:$J$1806))","v":-653},{"$f":"LOOKUP($V258,Data!$A$6:$A$1806,Data!$K$6:$K$1806)","v":30354.7734375},-308.0865478515625,null,null,null,null,null,null,null,null,null,null,null,null,null,null,null," ",4.718017578125E-2,-653]
[null,40679.342106481148,{"$f":"LOOKUP(B259,Data!$A$6:$A$1806,Data!B$6:B$1806)","v":60.04620361328125},{"$f":"LOOKUP(B259,Data!$A$6:$A$1806,Data!C$6:C$1806)","v":0},null,null,19590,{"$f":"(IF((C259-L$2)>0,(IF(C259<'Copy Results'!$C$3,((C259-L$2-L$5)/((L$4*L$2)-L$5)*G259*-1),(('Copy Results'!$C$3-L$2-L$5)/((L$4*L$2)-L$5)*G259*-1))),IF(C259>'Copy Results'!$C$2,((C259-L$2+L$5)/((L$4*L$2)-L$5)*G259*-1),(('Copy Results'!$C$2-L$2+L$5)/((L$4*L$2)-L$5)*G259*-1))))","v":-301.7095947265625},-298.96643133495269,null,null,0,-319.59888122101864,{"$f":"AVERAGE(D$79:D259)","v":0},{"$f":"AVERAGE(M$79:M259)","v":333.26554200213519},-18.644902043525651,{"$f":"AVERAGE(P$79:P259)","v":139.34799894187043},null,null,null,null,40679.342106481148,{"$f":"LOOKUP($V259,Data!$A$6:$A$1806,Data!$B$6:$B$1806)","v":60.04620361328125},{"$f":"LOOKUP($V259,Data!$A$6:$A$1806,Data!$C$6:$C$1806)","v":0},{"$f":"LOOKUP($V259,Data!$A$6:$A$1806,Data!$D$6:$D$1806)","v":0},{"$f":"IF($Z$1=\"+\",LOOKUP($V259,Data!$A$6:$A$1806,Data!$E$6:$E$1806)*-1,LOOKUP($V259,Data!$A$6:$A$1806,Data!$E$6:$E$1806))","v":0},{"$f":"LOOKUP($V259,Data!$A$6:$A$1806,Data!$F$6:$F$1806)","v":0},null,{"$f":"LOOKUP($V259,Data!$A$6:$A$1806,Data!$H$6:$H$1806)","v":0},{"$f":"LOOKUP($V259,Data!$A$6:$A$1806,Data!$I$6:$I$1806)","v":0},{"$f":"IF(LOOKUP($V259,Data!$A$6:$A$1806,Data!$J$6:$J$1806)>0,(LOOKUP($V259,Data!$A$6:$A$1806,Data!$J$6:$J$1806)*-1),LOOKUP($V259,Data!$A$6:$A$1806,Data!$J$6:$J$1806))","v":-653},{"$f":"LOOKUP($V259,Data!$A$6:$A$1806,Data!$K$6:$K$1806)","v":30354.7734375},-301.7095947265625,null,null,null,null,null,null,null,null,null,null,null,null,null,null,null," ",4.620361328125E-2,-653]
[null,40679.342129629295,{"$f":"LOOKUP(B260,Data!$A$6:$A$1806,Data!B$6:B$1806)","v":60.04425048828125},{"$f":"LOOKUP(B260,Data!$A$6:$A$1806,Data!C$6:C$1806)","v":0},null,null,19590,{"$f":"(IF((C260-L$2)>0,(IF(C260<'Copy Results'!$C$3,((C260-L$2-L$5)/((L$4*L$2)-L$5)*G260*-1),(('Copy Results'!$C$3-L$2-L$5)/((L$4*L$2)-L$5)*G260*-1))),IF(C260>'Copy Results'!$C$2,((C260-L$2+L$5)/((L$4*L$2)-L$5)*G260*-1),(('Copy Results'!$C$2-L$2+L$5)/((L$4*L$2)-L$5)*G260*-1))))","v":-288.9556884765625},-295.46267133451613,null,null,0,-316.09512122058209,{"$f":"AVERAGE(D$79:D260)","v":0},{"$f":"AVERAGE(M$79:M260)","v":329.69762627014222},-18.644902043525651,{"$f":"AVERAGE(P$79:P260)","v":138.47510998614999},null,null,null,null,40679.342129629295,{"$f":"LOOKUP($V260,Data!$A$6:$A$1806,Data!$B$6:$B$1806)","v":60.04425048828125},{"$f":"LOOKUP($V260,Data!$A$6:$A$1806,Data!$C$6:$C$1806)","v":0},{"$f":"LOOKUP($V260,Data!$A$6:$A$1806,Data!$D$6:$D$1806)","v":0},{"$f":"IF($Z$1=\"+\",LOOKUP($V260,Data!$A$6:$A$1806,Data!$E$6:$E$1806)*-1,LOOKUP($V260,Data!$A$6:$A$1806,Data!$E$6:$E$1806))","v":0},{"$f":"LOOKUP($V260,Data!$A$6:$A$1806,Data!$F$6:$F$1806)","v":0},null,{"$f":"LOOKUP($V260,Data!$A$6:$A$1806,Data!$H$6:$H$1806)","v":0},{"$f":"LOOKUP($V260,Data!$A$6:$A$1806,Data!$I$6:$I$1806)","v":0},{"$f":"IF(LOOKUP($V260,Data!$A$6:$A$1806,Data!$J$6:$J$1806)>0,(LOOKUP($V260,Data!$A$6:$A$1806,Data!$J$6:$J$1806)*-1),LOOKUP($V260,Data!$A$6:$A$1806,Data!$J$6:$J$1806))","v":-653},{"$f":"LOOKUP($V260,Data!$A$6:$A$1806,Data!$K$6:$K$1806)","v":30354.7734375},-288.9556884765625,null,null,null,null,null,null,null,null,null,null,null,null,null,null,null," ",4.425048828125E-2,-653]
[null,40679.342152777441,{"$f":"LOOKUP(B261,Data!$A$6:$A$1806,Data!B$6:B$1806)","v":60.044921875},{"$f":"LOOKUP(B261,Data!$A$6:$A$1806,Data!C$6:C$1806)","v":0},null,null,19590,{"$f":"(IF((C261-L$2)>0,(IF(C261<'Copy Results'!$C$3,((C261-L$2-L$5)/((L$4*L$2)-L$5)*G261*-1),(('Copy Results'!$C$3-L$2-L$5)/((L$4*L$2)-L$5)*G261*-1))),IF(C261>'Copy Results'!$C$2,((C261-L$2+L$5)/((L$4*L$2)-L$5)*G261*-1),(('Copy Results'!$C$2-L$2+L$5)/((L$4*L$2)-L$5)*G261*-1))))","v":-293.33984375},-294.71968167993549,null,null,0,-315.35213156600145,{"$f":"AVERAGE(D$79:D261)","v":0},{"$f":"AVERAGE(M$79:M261)","v":326.17276420546386},-18.644902043525651,{"$f":"AVERAGE(P$79:P261)","v":137.61181321675619},null,null,null,null,40679.342152777441,{"$f":"LOOKUP($V261,Data!$A$6:$A$1806,Data!$B$6:$B$1806)","v":60.044921875},{"$f":"LOOKUP($V261,Data!$A$6:$A$1806,Data!$C$6:$C$1806)","v":0},{"$f":"LOOKUP($V261,Data!$A$6:$A$1806,Data!$D$6:$D$1806)","v":0},{"$f":"IF($Z$1=\"+\",LOOKUP($V261,Data!$A$6:$A$1806,Data!$E$6:$E$1806)*-1,LOOKUP($V261,Data!$A$6:$A$1806,Data!$E$6:$E$1806))","v":0},{"$f":"LOOKUP($V261,Data!$A$6:$A$1806,Data!$F$6:$F$1806)","v":0},null,{"$f":"LOOKUP($V261,Data!$A$6:$A$1806,Data!$H$6:$H$1806)","v":0},{"$f":"LOOKUP($V261,Data!$A$6:$A$1806,Data!$I$6:$I$1806)","v":0},{"$f":"IF(LOOKUP($V261,Data!$A$6:$A$1806,Data!$J$6:$J$1806)>0,(LOOKUP($V261,Data!$A$6:$A$1806,Data!$J$6:$J$1806)*-1),LOOKUP($V261,Data!$A$6:$A$1806,Data!$J$6:$J$1806))","v":-653},{"$f":"LOOKUP($V261,Data!$A$6:$A$1806,Data!$K$6:$K$1806)","v":30354.7734375},-293.33984375,null,null,null,null,null,null,null,null,null,null,null,null,null,null,null," ",4.4921875E-2,-653]
[null,40679.342175925587,{"$f":"LOOKUP(B262,Data!$A$6:$A$1806,Data!B$6:B$1806)","v":60.04522705078125},{"$f":"LOOKUP(B262,Data!$A$6:$A$1806,Data!C$6:C$1806)","v":0},null,null,19590,{"$f":"(IF((C262-L$2)>0,(IF(C262<'Copy Results'!$C$3,((C262-L$2-L$5)/((L$4*L$2)-L$5)*G262*-1),(('Copy Results'!$C$3-L$2-L$5)/((L$4*L$2)-L$5)*G262*-1))),IF(C262>'Copy Results'!$C$2,((C262-L$2+L$5)/((L$4*L$2)-L$5)*G262*-1),(('Copy Results'!$C$2-L$2+L$5)/((L$4*L$2)-L$5)*G262*-1))))","v":-295.3326416015625},-294.93421765250491,null,null,0,-315.56666753857087,{"$f":"AVERAGE(D$79:D262)","v":0},{"$f":"AVERAGE(M$79:M262)","v":322.6850499025071},-18.644902043525651,{"$f":"AVERAGE(P$79:P262)","v":136.75795138473279},null,null,null,null,40679.342175925587,{"$f":"LOOKUP($V262,Data!$A$6:$A$1806,Data!$B$6:$B$1806)","v":60.04522705078125},{"$f":"LOOKUP($V262,Data!$A$6:$A$1806,Data!$C$6:$C$1806)","v":0},{"$f":"LOOKUP($V262,Data!$A$6:$A$1806,Data!$D$6:$D$1806)","v":0},{"$f":"IF($Z$1=\"+\",LOOKUP($V262,Data!$A$6:$A$1806,Data!$E$6:$E$1806)*-1,LOOKUP($V262,Data!$A$6:$A$1806,Data!$E$6:$E$1806))","v":0},{"$f":"LOOKUP($V262,Data!$A$6:$A$1806,Data!$F$6:$F$1806)","v":0},null,{"$f":"LOOKUP($V262,Data!$A$6:$A$1806,Data!$H$6:$H$1806)","v":0},{"$f":"LOOKUP($V262,Data!$A$6:$A$1806,Data!$I$6:$I$1806)","v":0},{"$f":"IF(LOOKUP($V262,Data!$A$6:$A$1806,Data!$J$6:$J$1806)>0,(LOOKUP($V262,Data!$A$6:$A$1806,Data!$J$6:$J$1806)*-1),LOOKUP($V262,Data!$A$6:$A$1806,Data!$J$6:$J$1806))","v":-653},{"$f":"LOOKUP($V262,Data!$A$6:$A$1806,Data!$K$6:$K$1806)","v":30372.384765625},-295.3326416015625,null,null,null,null,null,null,null,null,null,null,null,null,null,null,null," ",4.522705078125E-2,-653]
[null,40679.342199073733,{"$f":"LOOKUP(B263,Data!$A$6:$A$1806,Data!B$6:B$1806)","v":60.04522705078125},{"$f":"LOOKUP(B263,Data!$A$6:$A$1806,Data!C$6:C$1806)","v":0},null,null,19590,{"$f":"(IF((C263-L$2)>0,(IF(C263<'Copy Results'!$C$3,((C263-L$2-L$5)/((L$4*L$2)-L$5)*G263*-1),(('Copy Results'!$C$3-L$2-L$5)/((L$4*L$2)-L$5)*G263*-1))),IF(C263>'Copy Results'!$C$2,((C263-L$2+L$5)/((L$4*L$2)-L$5)*G263*-1),(('Copy Results'!$C$2-L$2+L$5)/((L$4*L$2)-L$5)*G263*-1))))","v":-295.3326416015625},-295.07366603467506,null,null,0,-315.70611592074101,{"$f":"AVERAGE(D$79:D263)","v":0},{"$f":"AVERAGE(M$79:M263)","v":319.23428684400307},-18.644902043525651,{"$f":"AVERAGE(P$79:P263)","v":135.91337065957921},null,null,null,null,40679.342199073733,{"$f":"LOOKUP($V263,Data!$A$6:$A$1806,Data!$B$6:$B$1806)","v":60.04522705078125},{"$f":"LOOKUP($V263,Data!$A$6:$A$1806,Data!$C$6:$C$1806)","v":0},{"$f":"LOOKUP($V263,Data!$A$6:$A$1806,Data!$D$6:$D$1806)","v":0},{"$f":"IF($Z$1=\"+\",LOOKUP($V263,Data!$A$6:$A$1806,Data!$E$6:$E$1806)*-1,LOOKUP($V263,Data!$A$6:$A$1806,Data!$E$6:$E$1806))","v":0},{"$f":"LOOKUP($V263,Data!$A$6:$A$1806,Data!$F$6:$F$1806)","v":0},null,{"$f":"LOOKUP($V263,Data!$A$6:$A$1806,Data!$H$6:$H$1806)","v":0},{"$f":"LOOKUP($V263,Data!$A$6:$A$1806,Data!$I$6:$I$1806)","v":0},{"$f":"IF(LOOKUP($V263,Data!$A$6:$A$1806,Data!$J$6:$J$1806)>0,(LOOKUP($V263,Data!$A$6:$A$1806,Data!$J$6:$J$1806)*-1),LOOKUP($V263,Data!$A$6:$A$1806,Data!$J$6:$J$1806))","v":-653},{"$f":"LOOKUP($V263,Data!$A$6:$A$1806,Data!$K$6:$K$1806)","v":30372.384765625},-295.3326416015625,null,null,null,null,null,null,null,null,null,null,null,null,null,null,null," ",4.522705078125E-2,-653]
[null,40679.34222222188,{"$f":"LOOKUP(B264,Data!$A$6:$A$1806,Data!B$6:B$1806)","v":60.045562744140625},{"$f":"LOOKUP(B264,Data!$A$6:$A$1806,Data!C$6:C$1806)","v":0},null,null,19590,{"$f":"(IF((C264-L$2)>0,(IF(C264<'Copy Results'!$C$3,((C264-L$2-L$5)/((L$4*L$2)-L$5)*G264*-1),(('Copy Results'!$C$3-L$2-L$5)/((L$4*L$2)-L$5)*G264*-1))),IF(C264>'Copy Results'!$C$2,((C264-L$2+L$5)/((L$4*L$2)-L$5)*G264*-1),(('Copy Results'!$C$2-L$2+L$5)/((L$4*L$2)-L$5)*G264*-1))))","v":-297.52471923828125},-295.93153465593724,null,null,0,-316.5639845420032,{"$f":"AVERAGE(D$79:D264)","v":0},{"$f":"AVERAGE(M$79:M264)","v":315.81601656773421},-18.644902043525651,{"$f":"AVERAGE(P$79:P264)","v":135.07792053685972},null,null,null,null,40679.34222222188,{"$f":"LOOKUP($V264,Data!$A$6:$A$1806,Data!$B$6:$B$1806)","v":60.045562744140625},{"$f":"LOOKUP($V264,Data!$A$6:$A$1806,Data!$C$6:$C$1806)","v":0},{"$f":"LOOKUP($V264,Data!$A$6:$A$1806,Data!$D$6:$D$1806)","v":0},{"$f":"IF($Z$1=\"+\",LOOKUP($V264,Data!$A$6:$A$1806,Data!$E$6:$E$1806)*-1,LOOKUP($V264,Data!$A$6:$A$1806,Data!$E$6:$E$1806))","v":0},{"$f":"LOOKUP($V264,Data!$A$6:$A$1806,Data!$F$6:$F$1806)","v":0},null,{"$f":"LOOKUP($V264,Data!$A$6:$A$1806,Data!$H$6:$H$1806)","v":0},{"$f":"LOOKUP($V264,Data!$A$6:$A$1806,Data!$I$6:$I$1806)","v":0},{"$f":"IF(LOOKUP($V264,Data!$A$6:$A$1806,Data!$J$6:$J$1806)>0,(LOOKUP($V264,Data!$A$6:$A$1806,Data!$J$6:$J$1806)*-1),LOOKUP($V264,Data!$A$6:$A$1806,Data!$J$6:$J$1806))","v":-653},{"$f":"LOOKUP($V264,Data!$A$6:$A$1806,Data!$K$6:$K$1806)","v":30372.384765625},-297.52471923828125,null,null,null,null,null,null,null,null,null,null,null,null,null,null,null," ",4.5562744140625E-2,-653]
[null,40679.342245370026,{"$f":"LOOKUP(B265,Data!$A$6:$A$1806,Data!B$6:B$1806)","v":60.04620361328125},{"$f":"LOOKUP(B265,Data!$A$6:$A$1806,Data!C$6:C$1806)","v":0},null,null,19590,{"$f":"(IF((C265-L$2)>0,(IF(C265<'Copy Results'!$C$3,((C265-L$2-L$5)/((L$4*L$2)-L$5)*G265*-1),(('Copy Results'!$C$3-L$2-L$5)/((L$4*L$2)-L$5)*G265*-1))),IF(C265>'Copy Results'!$C$2,((C265-L$2+L$5)/((L$4*L$2)-L$5)*G265*-1),(('Copy Results'!$C$2-L$2+L$5)/((L$4*L$2)-L$5)*G265*-1))))","v":-301.7095947265625},-297.95385568065609,null,null,0,-318.58630556672205,{"$f":"AVERAGE(D$79:D265)","v":0},{"$f":"AVERAGE(M$79:M265)","v":312.42349078091894},-18.644902043525651,{"$f":"AVERAGE(P$79:P265)","v":134.25145374879315},null,null,null,null,40679.342245370026,{"$f":"LOOKUP($V265,Data!$A$6:$A$1806,Data!$B$6:$B$1806)","v":60.04620361328125},{"$f":"LOOKUP($V265,Data!$A$6:$A$1806,Data!$C$6:$C$1806)","v":0},{"$f":"LOOKUP($V265,Data!$A$6:$A$1806,Data!$D$6:$D$1806)","v":0},{"$f":"IF($Z$1=\"+\",LOOKUP($V265,Data!$A$6:$A$1806,Data!$E$6:$E$1806)*-1,LOOKUP($V265,Data!$A$6:$A$1806,Data!$E$6:$E$1806))","v":0},{"$f":"LOOKUP($V265,Data!$A$6:$A$1806,Data!$F$6:$F$1806)","v":0},null,{"$f":"LOOKUP($V265,Data!$A$6:$A$1806,Data!$H$6:$H$1806)","v":0},{"$f":"LOOKUP($V265,Data!$A$6:$A$1806,Data!$I$6:$I$1806)","v":0},{"$f":"IF(LOOKUP($V265,Data!$A$6:$A$1806,Data!$J$6:$J$1806)>0,(LOOKUP($V265,Data!$A$6:$A$1806,Data!$J$6:$J$1806)*-1),LOOKUP($V265,Data!$A$6:$A$1806,Data!$J$6:$J$1806))","v":-653},{"$f":"LOOKUP($V265,Data!$A$6:$A$1806,Data!$K$6:$K$1806)","v":30372.384765625},-301.7095947265625,null,null,null,null,null,null,null,null,null,null,null,null,null,null,null," ",4.620361328125E-2,-653]
[null,40679.342268518172,{"$f":"LOOKUP(B266,Data!$A$6:$A$1806,Data!B$6:B$1806)","v":60.046539306640625},{"$f":"LOOKUP(B266,Data!$A$6:$A$1806,Data!C$6:C$1806)","v":0},null,null,19590,{"$f":"(IF((C266-L$2)>0,(IF(C266<'Copy Results'!$C$3,((C266-L$2-L$5)/((L$4*L$2)-L$5)*G266*-1),(('Copy Results'!$C$3-L$2-L$5)/((L$4*L$2)-L$5)*G266*-1))),IF(C266>'Copy Results'!$C$2,((C266-L$2+L$5)/((L$4*L$2)-L$5)*G266*-1),(('Copy Results'!$C$2-L$2+L$5)/((L$4*L$2)-L$5)*G266*-1))))","v":-303.90167236328125},-300.03559151957489,null,null,0,-320.66804140564085,{"$f":"AVERAGE(D$79:D266)","v":0},{"$f":"AVERAGE(M$79:M266)","v":309.05598263099046},-18.644902043525651,{"$f":"AVERAGE(P$79:P266)","v":133.43382617771124},null,null,null,null,40679.342268518172,{"$f":"LOOKUP($V266,Data!$A$6:$A$1806,Data!$B$6:$B$1806)","v":60.046539306640625},{"$f":"LOOKUP($V266,Data!$A$6:$A$1806,Data!$C$6:$C$1806)","v":0},{"$f":"LOOKUP($V266,Data!$A$6:$A$1806,Data!$D$6:$D$1806)","v":0},{"$f":"IF($Z$1=\"+\",LOOKUP($V266,Data!$A$6:$A$1806,Data!$E$6:$E$1806)*-1,LOOKUP($V266,Data!$A$6:$A$1806,Data!$E$6:$E$1806))","v":0},{"$f":"LOOKUP($V266,Data!$A$6:$A$1806,Data!$F$6:$F$1806)","v":0},null,{"$f":"LOOKUP($V266,Data!$A$6:$A$1806,Data!$H$6:$H$1806)","v":0},{"$f":"LOOKUP($V266,Data!$A$6:$A$1806,Data!$I$6:$I$1806)","v":0},{"$f":"IF(LOOKUP($V266,Data!$A$6:$A$1806,Data!$J$6:$J$1806)>0,(LOOKUP($V266,Data!$A$6:$A$1806,Data!$J$6:$J$1806)*-1),LOOKUP($V266,Data!$A$6:$A$1806,Data!$J$6:$J$1806))","v":-653},{"$f":"LOOKUP($V266,Data!$A$6:$A$1806,Data!$K$6:$K$1806)","v":30372.384765625},-303.90167236328125,null,null,null,null,null,null,null,null,null,null,null,null,null,null,null," ",4.6539306640625E-2,-653]
[null,40679.342291666318,{"$f":"LOOKUP(B267,Data!$A$6:$A$1806,Data!B$6:B$1806)","v":60.046539306640625},{"$f":"LOOKUP(B267,Data!$A$6:$A$1806,Data!C$6:C$1806)","v":0},null,null,19590,{"$f":"(IF((C267-L$2)>0,(IF(C267<'Copy Results'!$C$3,((C267-L$2-L$5)/((L$4*L$2)-L$5)*G267*-1),(('Copy Results'!$C$3-L$2-L$5)/((L$4*L$2)-L$5)*G267*-1))),IF(C267>'Copy Results'!$C$2,((C267-L$2+L$5)/((L$4*L$2)-L$5)*G267*-1),(('Copy Results'!$C$2-L$2+L$5)/((L$4*L$2)-L$5)*G267*-1))))","v":-303.90167236328125},-301.38871981487216,null,null,0,-322.02116970093812,{"$f":"AVERAGE(D$79:D267)","v":0},{"$f":"AVERAGE(M$79:M267)","v":305.71695007896966},-18.644902043525651,{"$f":"AVERAGE(P$79:P267)","v":132.62489677227913},null,null,null,null,40679.342291666318,{"$f":"LOOKUP($V267,Data!$A$6:$A$1806,Data!$B$6:$B$1806)","v":60.046539306640625},{"$f":"LOOKUP($V267,Data!$A$6:$A$1806,Data!$C$6:$C$1806)","v":0},{"$f":"LOOKUP($V267,Data!$A$6:$A$1806,Data!$D$6:$D$1806)","v":0},{"$f":"IF($Z$1=\"+\",LOOKUP($V267,Data!$A$6:$A$1806,Data!$E$6:$E$1806)*-1,LOOKUP($V267,Data!$A$6:$A$1806,Data!$E$6:$E$1806))","v":0},{"$f":"LOOKUP($V267,Data!$A$6:$A$1806,Data!$F$6:$F$1806)","v":0},null,{"$f":"LOOKUP($V267,Data!$A$6:$A$1806,Data!$H$6:$H$1806)","v":0},{"$f":"LOOKUP($V267,Data!$A$6:$A$1806,Data!$I$6:$I$1806)","v":0},{"$f":"IF(LOOKUP($V267,Data!$A$6:$A$1806,Data!$J$6:$J$1806)>0,(LOOKUP($V267,Data!$A$6:$A$1806,Data!$J$6:$J$1806)*-1),LOOKUP($V267,Data!$A$6:$A$1806,Data!$J$6:$J$1806))","v":-653},{"$f":"LOOKUP($V267,Data!$A$6:$A$1806,Data!$K$6:$K$1806)","v":30372.384765625},-303.90167236328125,null,null,null,null,null,null,null,null,null,null,null,null,null,null,null," ",4.6539306640625E-2,-653]
[null,40679.342314814465,{"$f":"LOOKUP(B268,Data!$A$6:$A$1806,Data!B$6:B$1806)","v":60.04522705078125},{"$f":"LOOKUP(B268,Data!$A$6:$A$1806,Data!C$6:C$1806)","v":0},null,null,19590,{"$f":"(IF((C268-L$2)>0,(IF(C268<'Copy Results'!$C$3,((C268-L$2-L$5)/((L$4*L$2)-L$5)*G268*-1),(('Copy Results'!$C$3-L$2-L$5)/((L$4*L$2)-L$5)*G268*-1))),IF(C268>'Copy Results'!$C$2,((C268-L$2+L$5)/((L$4*L$2)-L$5)*G268*-1),(('Copy Results'!$C$2-L$2+L$5)/((L$4*L$2)-L$5)*G268*-1))))","v":-295.3326416015625},-299.2690924402138,null,null,0,-319.90154232627975,{"$f":"AVERAGE(D$79:D268)","v":0},{"$f":"AVERAGE(M$79:M268)","v":302.42422117157361},-18.644902043525651,{"$f":"AVERAGE(P$79:P268)","v":131.8245274663754},null,null,null,null,40679.342314814465,{"$f":"LOOKUP($V268,Data!$A$6:$A$1806,Data!$B$6:$B$1806)","v":60.04522705078125},{"$f":"LOOKUP($V268,Data!$A$6:$A$1806,Data!$C$6:$C$1806)","v":0},{"$f":"LOOKUP($V268,Data!$A$6:$A$1806,Data!$D$6:$D$1806)","v":0},{"$f":"IF($Z$1=\"+\",LOOKUP($V268,Data!$A$6:$A$1806,Data!$E$6:$E$1806)*-1,LOOKUP($V268,Data!$A$6:$A$1806,Data!$E$6:$E$1806))","v":0},{"$f":"LOOKUP($V268,Data!$A$6:$A$1806,Data!$F$6:$F$1806)","v":0},null,{"$f":"LOOKUP($V268,Data!$A$6:$A$1806,Data!$H$6:$H$1806)","v":0},{"$f":"LOOKUP($V268,Data!$A$6:$A$1806,Data!$I$6:$I$1806)","v":0},{"$f":"IF(LOOKUP($V268,Data!$A$6:$A$1806,Data!$J$6:$J$1806)>0,(LOOKUP($V268,Data!$A$6:$A$1806,Data!$J$6:$J$1806)*-1),LOOKUP($V268,Data!$A$6:$A$1806,Data!$J$6:$J$1806))","v":-653},{"$f":"LOOKUP($V268,Data!$A$6:$A$1806,Data!$K$6:$K$1806)","v":30349.09765625},-295.3326416015625,null,null,null,null,null,null,null,null,null,null,null,null,null,null,null," ",4.522705078125E-2,-653]
[null,40679.342337962611,{"$f":"LOOKUP(B269,Data!$A$6:$A$1806,Data!B$6:B$1806)","v":60.043609619140625},{"$f":"LOOKUP(B269,Data!$A$6:$A$1806,Data!C$6:C$1806)","v":0},null,null,19590,{"$f":"(IF((C269-L$2)>0,(IF(C269<'Copy Results'!$C$3,((C269-L$2-L$5)/((L$4*L$2)-L$5)*G269*-1),(('Copy Results'!$C$3-L$2-L$5)/((L$4*L$2)-L$5)*G269*-1))),IF(C269>'Copy Results'!$C$2,((C269-L$2+L$5)/((L$4*L$2)-L$5)*G269*-1),(('Copy Results'!$C$2-L$2+L$5)/((L$4*L$2)-L$5)*G269*-1))))","v":-284.77081298828125},-294.19469463203745,null,null,0,-314.82714451810341,{"$f":"AVERAGE(D$79:D269)","v":0},{"$f":"AVERAGE(M$79:M269)","v":299.19253862869573},-18.644902043525651,{"$f":"AVERAGE(P$79:P269)","v":131.03258310053383},null,null,null,null,40679.342337962611,{"$f":"LOOKUP($V269,Data!$A$6:$A$1806,Data!$B$6:$B$1806)","v":60.043609619140625},{"$f":"LOOKUP($V269,Data!$A$6:$A$1806,Data!$C$6:$C$1806)","v":0},{"$f":"LOOKUP($V269,Data!$A$6:$A$1806,Data!$D$6:$D$1806)","v":0},{"$f":"IF($Z$1=\"+\",LOOKUP($V269,Data!$A$6:$A$1806,Data!$E$6:$E$1806)*-1,LOOKUP($V269,Data!$A$6:$A$1806,Data!$E$6:$E$1806))","v":0},{"$f":"LOOKUP($V269,Data!$A$6:$A$1806,Data!$F$6:$F$1806)","v":0},null,{"$f":"LOOKUP($V269,Data!$A$6:$A$1806,Data!$H$6:$H$1806)","v":0},{"$f":"LOOKUP($V269,Data!$A$6:$A$1806,Data!$I$6:$I$1806)","v":0},{"$f":"IF(LOOKUP($V269,Data!$A$6:$A$1806,Data!$J$6:$J$1806)>0,(LOOKUP($V269,Data!$A$6:$A$1806,Data!$J$6:$J$1806)*-1),LOOKUP($V269,Data!$A$6:$A$1806,Data!$J$6:$J$1806))","v":-653},{"$f":"LOOKUP($V269,Data!$A$6:$A$1806,Data!$K$6:$K$1806)","v":30349.09765625},-284.77081298828125,null,null,null,null,null,null,null,null,null,null,null,null,null,null,null," ",4.3609619140625E-2,-653]
[null,40679.342361110757,{"$f":"LOOKUP(B270,Data!$A$6:$A$1806,Data!B$6:B$1806)","v":60.0419921875},{"$f":"LOOKUP(B270,Data!$A$6:$A$1806,Data!C$6:C$1806)","v":0},null,null,19590,{"$f":"(IF((C270-L$2)>0,(IF(C270<'Copy Results'!$C$3,((C270-L$2-L$5)/((L$4*L$2)-L$5)*G270*-1),(('Copy Results'!$C$3-L$2-L$5)/((L$4*L$2)-L$5)*G270*-1))),IF(C270>'Copy Results'!$C$2,((C270-L$2+L$5)/((L$4*L$2)-L$5)*G270*-1),(('Copy Results'!$C$2-L$2+L$5)/((L$4*L$2)-L$5)*G270*-1))))","v":-274.208984375},-287.19969604207438,null,null,0,-307.83214592814033,{"$f":"AVERAGE(D$79:D270)","v":0},{"$f":"AVERAGE(M$79:M270)","v":296.03095172996217},-18.644902043525651,{"$f":"AVERAGE(P$79:P270)","v":130.2489313458529},null,null,null,null,40679.342361110757,{"$f":"LOOKUP($V270,Data!$A$6:$A$1806,Data!$B$6:$B$1806)","v":60.0419921875},{"$f":"LOOKUP($V270,Data!$A$6:$A$1806,Data!$C$6:$C$1806)","v":0},{"$f":"LOOKUP($V270,Data!$A$6:$A$1806,Data!$D$6:$D$1806)","v":0},{"$f":"IF($Z$1=\"+\",LOOKUP($V270,Data!$A$6:$A$1806,Data!$E$6:$E$1806)*-1,LOOKUP($V270,Data!$A$6:$A$1806,Data!$E$6:$E$1806))","v":0},{"$f":"LOOKUP($V270,Data!$A$6:$A$1806,Data!$F$6:$F$1806)","v":0},null,{"$f":"LOOKUP($V270,Data!$A$6:$A$1806,Data!$H$6:$H$1806)","v":0},{"$f":"LOOKUP($V270,Data!$A$6:$A$1806,Data!$I$6:$I$1806)","v":0},{"$f":"IF(LOOKUP($V270,Data!$A$6:$A$1806,Data!$J$6:$J$1806)>0,(LOOKUP($V270,Data!$A$6:$A$1806,Data!$J$6:$J$1806)*-1),LOOKUP($V270,Data!$A$6:$A$1806,Data!$J$6:$J$1806))","v":-653},{"$f":"LOOKUP($V270,Data!$A$6:$A$1806,Data!$K$6:$K$1806)","v":30349.09765625},-274.208984375,null,null,null,null,null,null,null,null,null,null,null,null,null,null,null," ",4.19921875E-2,-653]
[null,40679.342384258904,{"$f":"LOOKUP(B271,Data!$A$6:$A$1806,Data!B$6:B$1806)","v":60.04071044921875},{"$f":"LOOKUP(B271,Data!$A$6:$A$1806,Data!C$6:C$1806)","v":0},null,null,19590,{"$f":"(IF((C271-L$2)>0,(IF(C271<'Copy Results'!$C$3,((C271-L$2-L$5)/((L$4*L$2)-L$5)*G271*-1),(('Copy Results'!$C$3-L$2-L$5)/((L$4*L$2)-L$5)*G271*-1))),IF(C271>'Copy Results'!$C$2,((C271-L$2+L$5)/((L$4*L$2)-L$5)*G271*-1),(('Copy Results'!$C$2-L$2+L$5)/((L$4*L$2)-L$5)*G271*-1))))","v":-265.8392333984375},-279.72353411680149,null,null,0,-300.35598400286744,{"$f":"AVERAGE(D$79:D271)","v":0},{"$f":"AVERAGE(M$79:M271)","v":292.94086398005118},-18.644902043525651,{"$f":"AVERAGE(P$79:P271)","v":129.47344263028322},null,null,null,null,40679.342384258904,{"$f":"LOOKUP($V271,Data!$A$6:$A$1806,Data!$B$6:$B$1806)","v":60.04071044921875},{"$f":"LOOKUP($V271,Data!$A$6:$A$1806,Data!$C$6:$C$1806)","v":0},{"$f":"LOOKUP($V271,Data!$A$6:$A$1806,Data!$D$6:$D$1806)","v":0},{"$f":"IF($Z$1=\"+\",LOOKUP($V271,Data!$A$6:$A$1806,Data!$E$6:$E$1806)*-1,LOOKUP($V271,Data!$A$6:$A$1806,Data!$E$6:$E$1806))","v":0},{"$f":"LOOKUP($V271,Data!$A$6:$A$1806,Data!$F$6:$F$1806)","v":0},null,{"$f":"LOOKUP($V271,Data!$A$6:$A$1806,Data!$H$6:$H$1806)","v":0},{"$f":"LOOKUP($V271,Data!$A$6:$A$1806,Data!$I$6:$I$1806)","v":0},{"$f":"IF(LOOKUP($V271,Data!$A$6:$A$1806,Data!$J$6:$J$1806)>0,(LOOKUP($V271,Data!$A$6:$A$1806,Data!$J$6:$J$1806)*-1),LOOKUP($V271,Data!$A$6:$A$1806,Data!$J$6:$J$1806))","v":-653},{"$f":"LOOKUP($V271,Data!$A$6:$A$1806,Data!$K$6:$K$1806)","v":30349.09765625},-265.8392333984375,null,null,null,null,null,null,null,null,null,null,null,null,null,null,null," ",4.071044921875E-2,-653]
[null,40679.34240740705,{"$f":"LOOKUP(B272,Data!$A$6:$A$1806,Data!B$6:B$1806)","v":60.03875732421875},{"$f":"LOOKUP(B272,Data!$A$6:$A$1806,Data!C$6:C$1806)","v":0},null,null,19590,{"$f":"(IF((C272-L$2)>0,(IF(C272<'Copy Results'!$C$3,((C272-L$2-L$5)/((L$4*L$2)-L$5)*G272*-1),(('Copy Results'!$C$3-L$2-L$5)/((L$4*L$2)-L$5)*G272*-1))),IF(C272>'Copy Results'!$C$2,((C272-L$2+L$5)/((L$4*L$2)-L$5)*G272*-1),(('Copy Results'!$C$2-L$2+L$5)/((L$4*L$2)-L$5)*G272*-1))))","v":-253.0853271484375},-270.40016167787411,null,null,{"$f":"IF(B272>G$3,0,(K$21*0.000023148/K$22))","v":0},{"$f":"M271+L272+(I272-I271)","v":-291.03261156394007},{"$f":"AVERAGE(D$79:D272)","v":0},{"$f":"AVERAGE(M$79:M272)","v":289.93069142570067},-18.644902043525651,{"$f":"AVERAGE(P$79:P272)","v":128.7059900672065},null,null,null,null,40679.34240740705,{"$f":"LOOKUP($V272,Data!$A$6:$A$1806,Data!$B$6:$B$1806)","v":60.03875732421875},{"$f":"LOOKUP($V272,Data!$A$6:$A$1806,Data!$C$6:$C$1806)","v":0},{"$f":"LOOKUP($V272,Data!$A$6:$A$1806,Data!$D$6:$D$1806)","v":0},{"$f":"IF($Z$1=\"+\",LOOKUP($V272,Data!$A$6:$A$1806,Data!$E$6:$E$1806)*-1,LOOKUP($V272,Data!$A$6:$A$1806,Data!$E$6:$E$1806))","v":0},{"$f":"LOOKUP($V272,Data!$A$6:$A$1806,Data!$F$6:$F$1806)","v":0},null,{"$f":"LOOKUP($V272,Data!$A$6:$A$1806,Data!$H$6:$H$1806)","v":0},{"$f":"LOOKUP($V272,Data!$A$6:$A$1806,Data!$I$6:$I$1806)","v":0},{"$f":"IF(LOOKUP($V272,Data!$A$6:$A$1806,Data!$J$6:$J$1806)>0,(LOOKUP($V272,Data!$A$6:$A$1806,Data!$J$6:$J$1806)*-1),LOOKUP($V272,Data!$A$6:$A$1806,Data!$J$6:$J$1806))","v":-653},{"$f":"LOOKUP($V272,Data!$A$6:$A$1806,Data!$K$6:$K$1806)","v":30363.6484375},-253.0853271484375,null,null,null,null,null,null,null,null,null,null,null,null,null,null,null," ",3.875732421875E-2,-653]
[null,40679.342430555196,{"$f":"LOOKUP(B273,Data!$A$6:$A$1806,Data!B$6:B$1806)","v":60.035858154296875},{"$f":"LOOKUP(B273,Data!$A$6:$A$1806,Data!C$6:C$1806)","v":0},null,null,19590,{"$f":"(IF((C273-L$2)>0,(IF(C273<'Copy Results'!$C$3,((C273-L$2-L$5)/((L$4*L$2)-L$5)*G273*-1),(('Copy Results'!$C$3-L$2-L$5)/((L$4*L$2)-L$5)*G273*-1))),IF(C273>'Copy Results'!$C$2,((C273-L$2+L$5)/((L$4*L$2)-L$5)*G273*-1),(('Copy Results'!$C$2-L$2+L$5)/((L$4*L$2)-L$5)*G273*-1))))","v":-234.15374755859375},-257.71391673612595,null,null,0,-278.34636662219191,{"$f":"AVERAGE(D$79:D273)","v":0},{"$f":"AVERAGE(M$79:M273)","v":287.01645010237814},-18.644902043525651,{"$f":"AVERAGE(P$79:P273)","v":127.94644938622334},null,null,null,null,{"$f":"V272+TIME(0,0,$B$1)","v":40679.342430555196},{"$f":"LOOKUP($V273,Data!$A$6:$A$1806,Data!$B$6:$B$1806)","v":60.035858154296875},{"$f":"LOOKUP($V273,Data!$A$6:$A$1806,Data!$C$6:$C$1806)","v":0},{"$f":"LOOKUP($V273,Data!$A$6:$A$1806,Data!$D$6:$D$1806)","v":0},{"$f":"IF($Z$1=\"+\",LOOKUP($V273,Data!$A$6:$A$1806,Data!$E$6:$E$1806)*-1,LOOKUP($V273,Data!$A$6:$A$1806,Data!$E$6:$E$1806))","v":0},{"$f":"LOOKUP($V273,Data!$A$6:$A$1806,Data!$F$6:$F$1806)","v":0},null,{"$f":"LOOKUP($V273,Data!$A$6:$A$1806,Data!$H$6:$H$1806)","v":0},{"$f":"LOOKUP($V273,Data!$A$6:$A$1806,Data!$I$6:$I$1806)","v":0},{"$f":"IF(LOOKUP($V273,Data!$A$6:$A$1806,Data!$J$6:$J$1806)>0,(LOOKUP($V273,Data!$A$6:$A$1806,Data!$J$6:$J$1806)*-1),LOOKUP($V273,Data!$A$6:$A$1806,Data!$J$6:$J$1806))","v":-653},{"$f":"LOOKUP($V273,Data!$A$6:$A$1806,Data!$K$6:$K$1806)","v":30363.6484375},-234.15374755859375,null,null,null,null,null,null,null,null,null,null,null,null,null,null,null,{"$f":"IF(((D273-F$78)/((C273-E$78)*10))<0,\" \",((D273-F$78)/((C273-E$78)*10)))","v":" "},3.5858154296875E-2," "]
[null,40679.342453703342,{"$f":"LOOKUP(B274,Data!$A$6:$A$1806,Data!B$6:B$1806)","v":60.033935546875},{"$f":"LOOKUP(B274,Data!$A$6:$A$1806,Data!C$6:C$1806)","v":0},null,null,19590,{"$f":"(IF((C274-L$2)>0,(IF(C274<'Copy Results'!$C$3,((C274-L$2-L$5)/((L$4*L$2)-L$5)*G274*-1),(('Copy Results'!$C$3-L$2-L$5)/((L$4*L$2)-L$5)*G274*-1))),IF(C274>'Copy Results'!$C$2,((C274-L$2+L$5)/((L$4*L$2)-L$5)*G274*-1),(('Copy Results'!$C$2-L$2+L$5)/((L$4*L$2)-L$5)*G274*-1))))","v":-221.59912109375},-245.07373826129438,null,null,0,-265.70618814736031,{"$f":"AVERAGE(D$79:D274)","v":0},{"$f":"AVERAGE(M$79:M274)","v":284.19643664192029},{"$f":"P273+L274","v":-18.644902043525651},{"$f":"AVERAGE(P$79:P274)","v":127.19469886607078},null,null,null,null,40679.342453703342,{"$f":"LOOKUP($V274,Data!$A$6:$A$1806,Data!$B$6:$B$1806)","v":60.033935546875},{"$f":"LOOKUP($V274,Data!$A$6:$A$1806,Data!$C$6:$C$1806)","v":0},{"$f":"LOOKUP($V274,Data!$A$6:$A$1806,Data!$D$6:$D$1806)","v":0},{"$f":"IF($Z$1=\"+\",LOOKUP($V274,Data!$A$6:$A$1806,Data!$E$6:$E$1806)*-1,LOOKUP($V274,Data!$A$6:$A$1806,Data!$E$6:$E$1806))","v":0},{"$f":"LOOKUP($V274,Data!$A$6:$A$1806,Data!$F$6:$F$1806)","v":0},null,{"$f":"LOOKUP($V274,Data!$A$6:$A$1806,Data!$H$6:$H$1806)","v":0},{"$f":"LOOKUP($V274,Data!$A$6:$A$1806,Data!$I$6:$I$1806)","v":0},{"$f":"IF(LOOKUP($V274,Data!$A$6:$A$1806,Data!$J$6:$J$1806)>0,(LOOKUP($V274,Data!$A$6:$A$1806,Data!$J$6:$J$1806)*-1),LOOKUP($V274,Data!$A$6:$A$1806,Data!$J$6:$J$1806))","v":-653},{"$f":"LOOKUP($V274,Data!$A$6:$A$1806,Data!$K$6:$K$1806)","v":30363.87890625},-221.59912109375,null,null,null,null,null,null,null,null,null,null,null,null,null,null,null," ",3.3935546875E-2," "]
[null,40679.342476851489,{"$f":"LOOKUP(B275,Data!$A$6:$A$1806,Data!B$6:B$1806)","v":60.033599853515625},{"$f":"LOOKUP(B275,Data!$A$6:$A$1806,Data!C$6:C$1806)","v":0},null,null,19590,{"$f":"(IF((C275-L$2)>0,(IF(C275<'Copy Results'!$C$3,((C275-L$2-L$5)/((L$4*L$2)-L$5)*G275*-1),(('Copy Results'!$C$3-L$2-L$5)/((L$4*L$2)-L$5)*G275*-1))),IF(C275>'Copy Results'!$C$2,((C275-L$2+L$5)/((L$4*L$2)-L$5)*G275*-1),(('Copy Results'!$C$2-L$2+L$5)/((L$4*L$2)-L$5)*G275*-1))))","v":-219.40704345703125},-236.09039507980228,null,null,0,-256.72284496586821,{"$f":"AVERAGE(D$79:D275)","v":0},{"$f":"AVERAGE(M$79:M275)","v":281.45065348655078},-18.644902043525651,{"$f":"AVERAGE(P$79:P275)","v":126.45061926959326},null,null,null,null,40679.342476851489,{"$f":"LOOKUP($V275,Data!$A$6:$A$1806,Data!$B$6:$B$1806)","v":60.033599853515625},{"$f":"LOOKUP($V275,Data!$A$6:$A$1806,Data!$C$6:$C$1806)","v":0},{"$f":"LOOKUP($V275,Data!$A$6:$A$1806,Data!$D$6:$D$1806)","v":0},{"$f":"IF($Z$1=\"+\",LOOKUP($V275,Data!$A$6:$A$1806,Data!$E$6:$E$1806)*-1,LOOKUP($V275,Data!$A$6:$A$1806,Data!$E$6:$E$1806))","v":0},{"$f":"LOOKUP($V275,Data!$A$6:$A$1806,Data!$F$6:$F$1806)","v":0},null,{"$f":"LOOKUP($V275,Data!$A$6:$A$1806,Data!$H$6:$H$1806)","v":0},{"$f":"LOOKUP($V275,Data!$A$6:$A$1806,Data!$I$6:$I$1806)","v":0},{"$f":"IF(LOOKUP($V275,Data!$A$6:$A$1806,Data!$J$6:$J$1806)>0,(LOOKUP($V275,Data!$A$6:$A$1806,Data!$J$6:$J$1806)*-1),LOOKUP($V275,Data!$A$6:$A$1806,Data!$J$6:$J$1806))","v":-653},{"$f":"LOOKUP($V275,Data!$A$6:$A$1806,Data!$K$6:$K$1806)","v":30363.87890625},-219.40704345703125,null,null,null,null,null,null,null,null,null,null,null,null,null,null,null," ",3.3599853515625E-2," "]
[null,40679.342499999635,{"$f":"LOOKUP(B276,Data!$A$6:$A$1806,Data!B$6:B$1806)","v":60.032623291015625},{"$f":"LOOKUP(B276,Data!$A$6:$A$1806,Data!C$6:C$1806)","v":0},null,null,19590,{"$f":"(IF((C276-L$2)>0,(IF(C276<'Copy Results'!$C$3,((C276-L$2-L$5)/((L$4*L$2)-L$5)*G276*-1),(('Copy Results'!$C$3-L$2-L$5)/((L$4*L$2)-L$5)*G276*-1))),IF(C276>'Copy Results'!$C$2,((C276-L$2+L$5)/((L$4*L$2)-L$5)*G276*-1),(('Copy Results'!$C$2-L$2+L$5)/((L$4*L$2)-L$5)*G276*-1))))","v":-213.03009033203125},-228.01928841808243,null,null,0,-248.65173830414835,{"$f":"AVERAGE(D$79:D276)","v":0},{"$f":"AVERAGE(M$79:M276)","v":278.77336867952704},-18.644902043525651,{"$f":"AVERAGE(P$79:P276)","v":125.71409378069418},null,null,null,null,40679.342499999635,{"$f":"LOOKUP($V276,Data!$A$6:$A$1806,Data!$B$6:$B$1806)","v":60.032623291015625},{"$f":"LOOKUP($V276,Data!$A$6:$A$1806,Data!$C$6:$C$1806)","v":0},{"$f":"LOOKUP($V276,Data!$A$6:$A$1806,Data!$D$6:$D$1806)","v":0},{"$f":"IF($Z$1=\"+\",LOOKUP($V276,Data!$A$6:$A$1806,Data!$E$6:$E$1806)*-1,LOOKUP($V276,Data!$A$6:$A$1806,Data!$E$6:$E$1806))","v":0},{"$f":"LOOKUP($V276,Data!$A$6:$A$1806,Data!$F$6:$F$1806)","v":0},null,{"$f":"LOOKUP($V276,Data!$A$6:$A$1806,Data!$H$6:$H$1806)","v":0},{"$f":"LOOKUP($V276,Data!$A$6:$A$1806,Data!$I$6:$I$1806)","v":0},{"$f":"IF(LOOKUP($V276,Data!$A$6:$A$1806,Data!$J$6:$J$1806)>0,(LOOKUP($V276,Data!$A$6:$A$1806,Data!$J$6:$J$1806)*-1),LOOKUP($V276,Data!$A$6:$A$1806,Data!$J$6:$J$1806))","v":-653},{"$f":"LOOKUP($V276,Data!$A$6:$A$1806,Data!$K$6:$K$1806)","v":30363.87890625},-213.03009033203125,null,null,null,null,null,null,null,null,null,null,null,null,null,null,null," ",3.2623291015625E-2," "]
[null,40679.342523147781,{"$f":"LOOKUP(B277,Data!$A$6:$A$1806,Data!B$6:B$1806)","v":60.030059814453125},{"$f":"LOOKUP(B277,Data!$A$6:$A$1806,Data!C$6:C$1806)","v":0},null,null,19590,{"$f":"(IF((C277-L$2)>0,(IF(C277<'Copy Results'!$C$3,((C277-L$2-L$5)/((L$4*L$2)-L$5)*G277*-1),(('Copy Results'!$C$3-L$2-L$5)/((L$4*L$2)-L$5)*G277*-1))),IF(C277>'Copy Results'!$C$2,((C277-L$2+L$5)/((L$4*L$2)-L$5)*G277*-1),(('Copy Results'!$C$2-L$2+L$5)/((L$4*L$2)-L$5)*G277*-1))))","v":-196.29058837890625},-216.91424340437078,null,null,0,-237.54669329043671,{"$f":"AVERAGE(D$79:D277)","v":0},{"$f":"AVERAGE(M$79:M277)","v":276.1787955037986},-18.644902043525651,{"$f":"AVERAGE(P$79:P277)","v":124.98500794319813},null,null,null,null,40679.342523147781,{"$f":"LOOKUP($V277,Data!$A$6:$A$1806,Data!$B$6:$B$1806)","v":60.030059814453125},{"$f":"LOOKUP($V277,Data!$A$6:$A$1806,Data!$C$6:$C$1806)","v":0},{"$f":"LOOKUP($V277,Data!$A$6:$A$1806,Data!$D$6:$D$1806)","v":0},{"$f":"IF($Z$1=\"+\",LOOKUP($V277,Data!$A$6:$A$1806,Data!$E$6:$E$1806)*-1,LOOKUP($V277,Data!$A$6:$A$1806,Data!$E$6:$E$1806))","v":0},{"$f":"LOOKUP($V277,Data!$A$6:$A$1806,Data!$F$6:$F$1806)","v":0},null,{"$f":"LOOKUP($V277,Data!$A$6:$A$1806,Data!$H$6:$H$1806)","v":0},{"$f":"LOOKUP($V277,Data!$A$6:$A$1806,Data!$I$6:$I$1806)","v":0},{"$f":"IF(LOOKUP($V277,Data!$A$6:$A$1806,Data!$J$6:$J$1806)>0,(LOOKUP($V277,Data!$A$6:$A$1806,Data!$J$6:$J$1806)*-1),LOOKUP($V277,Data!$A$6:$A$1806,Data!$J$6:$J$1806))","v":-653},{"$f":"LOOKUP($V277,Data!$A$6:$A$1806,Data!$K$6:$K$1806)","v":30363.87890625},-196.29058837890625,null,null,null,null,null,null,null,null,null,null,null,null,null,null,null," ",3.0059814453125E-2," "]
[null,40679.342546295928,{"$f":"LOOKUP(B278,Data!$A$6:$A$1806,Data!B$6:B$1806)","v":60.0274658203125},{"$f":"LOOKUP(B278,Data!$A$6:$A$1806,Data!C$6:C$1806)","v":0},null,null,19590,{"$f":"(IF((C278-L$2)>0,(IF(C278<'Copy Results'!$C$3,((C278-L$2-L$5)/((L$4*L$2)-L$5)*G278*-1),(('Copy Results'!$C$3-L$2-L$5)/((L$4*L$2)-L$5)*G278*-1))),IF(C278>'Copy Results'!$C$2,((C278-L$2+L$5)/((L$4*L$2)-L$5)*G278*-1),(('Copy Results'!$C$2-L$2+L$5)/((L$4*L$2)-L$5)*G278*-1))))","v":-179.351806640625},-203.76739053705975,null,null,0,-224.39984042312568,{"$f":"AVERAGE(D$79:D278)","v":0},{"$f":"AVERAGE(M$79:M278)","v":273.67590232416399},-18.644902043525651,{"$f":"AVERAGE(P$79:P278)","v":124.2632496015563},null,null,null,null,40679.342546295928,{"$f":"LOOKUP($V278,Data!$A$6:$A$1806,Data!$B$6:$B$1806)","v":60.0274658203125},{"$f":"LOOKUP($V278,Data!$A$6:$A$1806,Data!$C$6:$C$1806)","v":0},{"$f":"LOOKUP($V278,Data!$A$6:$A$1806,Data!$D$6:$D$1806)","v":0},{"$f":"IF($Z$1=\"+\",LOOKUP($V278,Data!$A$6:$A$1806,Data!$E$6:$E$1806)*-1,LOOKUP($V278,Data!$A$6:$A$1806,Data!$E$6:$E$1806))","v":0},{"$f":"LOOKUP($V278,Data!$A$6:$A$1806,Data!$F$6:$F$1806)","v":0},null,{"$f":"LOOKUP($V278,Data!$A$6:$A$1806,Data!$H$6:$H$1806)","v":0},{"$f":"LOOKUP($V278,Data!$A$6:$A$1806,Data!$I$6:$I$1806)","v":0},{"$f":"IF(LOOKUP($V278,Data!$A$6:$A$1806,Data!$J$6:$J$1806)>0,(LOOKUP($V278,Data!$A$6:$A$1806,Data!$J$6:$J$1806)*-1),LOOKUP($V278,Data!$A$6:$A$1806,Data!$J$6:$J$1806))","v":-653},{"$f":"LOOKUP($V278,Data!$A$6:$A$1806,Data!$K$6:$K$1806)","v":30364.767578125},-179.351806640625,null,null,null,null,null,null,null,null,null,null,null,null,null,null,null," ",2.74658203125E-2," "]
[null,40679.342569444074,{"$f":"LOOKUP(B279,Data!$A$6:$A$1806,Data!B$6:B$1806)","v":60.026824951171875},{"$f":"LOOKUP(B279,Data!$A$6:$A$1806,Data!C$6:C$1806)","v":0},null,null,19590,{"$f":"(IF((C279-L$2)>0,(IF(C279<'Copy Results'!$C$3,((C279-L$2-L$5)/((L$4*L$2)-L$5)*G279*-1),(('Copy Results'!$C$3-L$2-L$5)/((L$4*L$2)-L$5)*G279*-1))),IF(C279>'Copy Results'!$C$2,((C279-L$2+L$5)/((L$4*L$2)-L$5)*G279*-1),(('Copy Results'!$C$2-L$2+L$5)/((L$4*L$2)-L$5)*G279*-1))))","v":-175.16693115234375},-193.75722975240916,null,null,0,-214.38967963847509,{"$f":"AVERAGE(D$79:D279)","v":0},{"$f":"AVERAGE(M$79:M279)","v":271.24771534922547},-18.644902043525651,{"$f":"AVERAGE(P$79:P279)","v":123.5487088433309},null,null,null,null,40679.342569444074,{"$f":"LOOKUP($V279,Data!$A$6:$A$1806,Data!$B$6:$B$1806)","v":60.026824951171875},{"$f":"LOOKUP($V279,Data!$A$6:$A$1806,Data!$C$6:$C$1806)","v":0},{"$f":"LOOKUP($V279,Data!$A$6:$A$1806,Data!$D$6:$D$1806)","v":0},{"$f":"IF($Z$1=\"+\",LOOKUP($V279,Data!$A$6:$A$1806,Data!$E$6:$E$1806)*-1,LOOKUP($V279,Data!$A$6:$A$1806,Data!$E$6:$E$1806))","v":0},{"$f":"LOOKUP($V279,Data!$A$6:$A$1806,Data!$F$6:$F$1806)","v":0},null,{"$f":"LOOKUP($V279,Data!$A$6:$A$1806,Data!$H$6:$H$1806)","v":0},{"$f":"LOOKUP($V279,Data!$A$6:$A$1806,Data!$I$6:$I$1806)","v":0},{"$f":"IF(LOOKUP($V279,Data!$A$6:$A$1806,Data!$J$6:$J$1806)>0,(LOOKUP($V279,Data!$A$6:$A$1806,Data!$J$6:$J$1806)*-1),LOOKUP($V279,Data!$A$6:$A$1806,Data!$J$6:$J$1806))","v":-653},{"$f":"LOOKUP($V279,Data!$A$6:$A$1806,Data!$K$6:$K$1806)","v":30364.767578125},-175.16693115234375,null,null,null,null,null,null,null,null,null,null,null,null,null,null,null," ",2.6824951171875E-2," "]
[null,40679.34259259222,{"$f":"LOOKUP(B280,Data!$A$6:$A$1806,Data!B$6:B$1806)","v":60.025848388671875},{"$f":"LOOKUP(B280,Data!$A$6:$A$1806,Data!C$6:C$1806)","v":0},null,null,19590,{"$f":"(IF((C280-L$2)>0,(IF(C280<'Copy Results'!$C$3,((C280-L$2-L$5)/((L$4*L$2)-L$5)*G280*-1),(('Copy Results'!$C$3-L$2-L$5)/((L$4*L$2)-L$5)*G280*-1))),IF(C280>'Copy Results'!$C$2,((C280-L$2+L$5)/((L$4*L$2)-L$5)*G280*-1),(('Copy Results'!$C$2-L$2+L$5)/((L$4*L$2)-L$5)*G280*-1))))","v":-168.78997802734375},-185.01869164863626,null,null,0,-205.65114153470219,{"$f":"AVERAGE(D$79:D280)","v":0},{"$f":"AVERAGE(M$79:M280)","v":268.88682991910702},-18.644902043525651,{"$f":"AVERAGE(P$79:P280)","v":122.84127794339629},null,null,null,null,40679.34259259222,{"$f":"LOOKUP($V280,Data!$A$6:$A$1806,Data!$B$6:$B$1806)","v":60.025848388671875},{"$f":"LOOKUP($V280,Data!$A$6:$A$1806,Data!$C$6:$C$1806)","v":0},{"$f":"LOOKUP($V280,Data!$A$6:$A$1806,Data!$D$6:$D$1806)","v":0},{"$f":"IF($Z$1=\"+\",LOOKUP($V280,Data!$A$6:$A$1806,Data!$E$6:$E$1806)*-1,LOOKUP($V280,Data!$A$6:$A$1806,Data!$E$6:$E$1806))","v":0},{"$f":"LOOKUP($V280,Data!$A$6:$A$1806,Data!$F$6:$F$1806)","v":0},null,{"$f":"LOOKUP($V280,Data!$A$6:$A$1806,Data!$H$6:$H$1806)","v":0},{"$f":"LOOKUP($V280,Data!$A$6:$A$1806,Data!$I$6:$I$1806)","v":0},{"$f":"IF(LOOKUP($V280,Data!$A$6:$A$1806,Data!$J$6:$J$1806)>0,(LOOKUP($V280,Data!$A$6:$A$1806,Data!$J$6:$J$1806)*-1),LOOKUP($V280,Data!$A$6:$A$1806,Data!$J$6:$J$1806))","v":-653},{"$f":"LOOKUP($V280,Data!$A$6:$A$1806,Data!$K$6:$K$1806)","v":30364.767578125},-168.78997802734375,null,null,null,null,null,null,null,null,null,null,null,null,null,null,null," ",2.5848388671875E-2," "]
[null,40679.342615740366,{"$f":"LOOKUP(B281,Data!$A$6:$A$1806,Data!B$6:B$1806)","v":60.023590087890625},{"$f":"LOOKUP(B281,Data!$A$6:$A$1806,Data!C$6:C$1806)","v":0},null,null,19590,{"$f":"(IF((C281-L$2)>0,(IF(C281<'Copy Results'!$C$3,((C281-L$2-L$5)/((L$4*L$2)-L$5)*G281*-1),(('Copy Results'!$C$3-L$2-L$5)/((L$4*L$2)-L$5)*G281*-1))),IF(C281>'Copy Results'!$C$2,((C281-L$2+L$5)/((L$4*L$2)-L$5)*G281*-1),(('Copy Results'!$C$2-L$2+L$5)/((L$4*L$2)-L$5)*G281*-1))))","v":-154.04327392578125},-174.17729544563701,null,null,0,-194.80974533170294,{"$f":"AVERAGE(D$79:D281)","v":0},{"$f":"AVERAGE(M$79:M281)","v":266.60261033659071},-18.644902043525651,{"$f":"AVERAGE(P$79:P281)","v":122.14085130979767},null,null,null,null,40679.342615740366,{"$f":"LOOKUP($V281,Data!$A$6:$A$1806,Data!$B$6:$B$1806)","v":60.023590087890625},{"$f":"LOOKUP($V281,Data!$A$6:$A$1806,Data!$C$6:$C$1806)","v":0},{"$f":"LOOKUP($V281,Data!$A$6:$A$1806,Data!$D$6:$D$1806)","v":0},{"$f":"IF($Z$1=\"+\",LOOKUP($V281,Data!$A$6:$A$1806,Data!$E$6:$E$1806)*-1,LOOKUP($V281,Data!$A$6:$A$1806,Data!$E$6:$E$1806))","v":0},{"$f":"LOOKUP($V281,Data!$A$6:$A$1806,Data!$F$6:$F$1806)","v":0},null,{"$f":"LOOKUP($V281,Data!$A$6:$A$1806,Data!$H$6:$H$1806)","v":0},{"$f":"LOOKUP($V281,Data!$A$6:$A$1806,Data!$I$6:$I$1806)","v":0},{"$f":"IF(LOOKUP($V281,Data!$A$6:$A$1806,Data!$J$6:$J$1806)>0,(LOOKUP($V281,Data!$A$6:$A$1806,Data!$J$6:$J$1806)*-1),LOOKUP($V281,Data!$A$6:$A$1806,Data!$J$6:$J$1806))","v":-653},{"$f":"LOOKUP($V281,Data!$A$6:$A$1806,Data!$K$6:$K$1806)","v":30364.767578125},-154.04327392578125,null,null,null,null,null,null,null,null,null,null,null,null,null,null,null," ",2.3590087890625E-2," "]
[null,40679.342638888513,{"$f":"LOOKUP(B282,Data!$A$6:$A$1806,Data!B$6:B$1806)","v":60.02197265625},{"$f":"LOOKUP(B282,Data!$A$6:$A$1806,Data!C$6:C$1806)","v":0},null,null,19590,{"$f":"(IF((C282-L$2)>0,(IF(C282<'Copy Results'!$C$3,((C282-L$2-L$5)/((L$4*L$2)-L$5)*G282*-1),(('Copy Results'!$C$3-L$2-L$5)/((L$4*L$2)-L$5)*G282*-1))),IF(C282>'Copy Results'!$C$2,((C282-L$2+L$5)/((L$4*L$2)-L$5)*G282*-1),(('Copy Results'!$C$2-L$2+L$5)/((L$4*L$2)-L$5)*G282*-1))))","v":-143.4814453125},-163.43374789903908,null,null,0,-184.066197785105,{"$f":"AVERAGE(D$79:D282)","v":0},{"$f":"AVERAGE(M$79:M282)","v":264.39344951246477},-18.644902043525651,{"$f":"AVERAGE(P$79:P282)","v":121.44732543120988},null,null,null,null,40679.342638888513,{"$f":"LOOKUP($V282,Data!$A$6:$A$1806,Data!$B$6:$B$1806)","v":60.02197265625},{"$f":"LOOKUP($V282,Data!$A$6:$A$1806,Data!$C$6:$C$1806)","v":0},{"$f":"LOOKUP($V282,Data!$A$6:$A$1806,Data!$D$6:$D$1806)","v":0},{"$f":"IF($Z$1=\"+\",LOOKUP($V282,Data!$A$6:$A$1806,Data!$E$6:$E$1806)*-1,LOOKUP($V282,Data!$A$6:$A$1806,Data!$E$6:$E$1806))","v":0},{"$f":"LOOKUP($V282,Data!$A$6:$A$1806,Data!$F$6:$F$1806)","v":0},null,{"$f":"LOOKUP($V282,Data!$A$6:$A$1806,Data!$H$6:$H$1806)","v":0},{"$f":"LOOKUP($V282,Data!$A$6:$A$1806,Data!$I$6:$I$1806)","v":0},{"$f":"IF(LOOKUP($V282,Data!$A$6:$A$1806,Data!$J$6:$J$1806)>0,(LOOKUP($V282,Data!$A$6:$A$1806,Data!$J$6:$J$1806)*-1),LOOKUP($V282,Data!$A$6:$A$1806,Data!$J$6:$J$1806))","v":-653},{"$f":"LOOKUP($V282,Data!$A$6:$A$1806,Data!$K$6:$K$1806)","v":30374.33203125},-143.4814453125,null,null,null,null,null,null,null,null,null,null,null,null,null,null,null," ",2.197265625E-2," "]
[null,40679.342662036659,{"$f":"LOOKUP(B283,Data!$A$6:$A$1806,Data!B$6:B$1806)","v":60.021636962890625},{"$f":"LOOKUP(B283,Data!$A$6:$A$1806,Data!C$6:C$1806)","v":0},null,null,19590,{"$f":"(IF((C283-L$2)>0,(IF(C283<'Copy Results'!$C$3,((C283-L$2-L$5)/((L$4*L$2)-L$5)*G283*-1),(('Copy Results'!$C$3-L$2-L$5)/((L$4*L$2)-L$5)*G283*-1))),IF(C283>'Copy Results'!$C$2,((C283-L$2+L$5)/((L$4*L$2)-L$5)*G283*-1),(('Copy Results'!$C$2-L$2+L$5)/((L$4*L$2)-L$5)*G283*-1))))","v":-141.28936767578125},-155.68321482089885,null,null,0,-176.31566470696478,{"$f":"AVERAGE(D$79:D283)","v":0},{"$f":"AVERAGE(M$79:M283)","v":262.24364895529681},-18.644902043525651,{"$f":"AVERAGE(P$79:P283)","v":120.76059882594157},null,null,null,null,40679.342662036659,{"$f":"LOOKUP($V283,Data!$A$6:$A$1806,Data!$B$6:$B$1806)","v":60.021636962890625},{"$f":"LOOKUP($V283,Data!$A$6:$A$1806,Data!$C$6:$C$1806)","v":0},{"$f":"LOOKUP($V283,Data!$A$6:$A$1806,Data!$D$6:$D$1806)","v":0},{"$f":"IF($Z$1=\"+\",LOOKUP($V283,Data!$A$6:$A$1806,Data!$E$6:$E$1806)*-1,LOOKUP($V283,Data!$A$6:$A$1806,Data!$E$6:$E$1806))","v":0},{"$f":"LOOKUP($V283,Data!$A$6:$A$1806,Data!$F$6:$F$1806)","v":0},null,{"$f":"LOOKUP($V283,Data!$A$6:$A$1806,Data!$H$6:$H$1806)","v":0},{"$f":"LOOKUP($V283,Data!$A$6:$A$1806,Data!$I$6:$I$1806)","v":0},{"$f":"IF(LOOKUP($V283,Data!$A$6:$A$1806,Data!$J$6:$J$1806)>0,(LOOKUP($V283,Data!$A$6:$A$1806,Data!$J$6:$J$1806)*-1),LOOKUP($V283,Data!$A$6:$A$1806,Data!$J$6:$J$1806))","v":-653},{"$f":"LOOKUP($V283,Data!$A$6:$A$1806,Data!$K$6:$K$1806)","v":30374.33203125},-141.28936767578125,null,null,null,null,null,null,null,null,null,null,null,null,null,null,null," ",2.1636962890625E-2," "]
[null,40679.342685184805,{"$f":"LOOKUP(B284,Data!$A$6:$A$1806,Data!B$6:B$1806)","v":60.022308349609375},{"$f":"LOOKUP(B284,Data!$A$6:$A$1806,Data!C$6:C$1806)","v":0},null,null,19590,{"$f":"(IF((C284-L$2)>0,(IF(C284<'Copy Results'!$C$3,((C284-L$2-L$5)/((L$4*L$2)-L$5)*G284*-1),(('Copy Results'!$C$3-L$2-L$5)/((L$4*L$2)-L$5)*G284*-1))),IF(C284>'Copy Results'!$C$2,((C284-L$2+L$5)/((L$4*L$2)-L$5)*G284*-1),(('Copy Results'!$C$2-L$2+L$5)/((L$4*L$2)-L$5)*G284*-1))))","v":-145.67352294921875},-152.17982266581083,null,null,0,-172.81227255187676,{"$f":"AVERAGE(D$79:D284)","v":0},{"$f":"AVERAGE(M$79:M284)","v":260.13172700623289},-18.644902043525651,{"$f":"AVERAGE(P$79:P284)","v":120.08057199243197},null,null,null,null,40679.342685184805,{"$f":"LOOKUP($V284,Data!$A$6:$A$1806,Data!$B$6:$B$1806)","v":60.022308349609375},{"$f":"LOOKUP($V284,Data!$A$6:$A$1806,Data!$C$6:$C$1806)","v":0},{"$f":"LOOKUP($V284,Data!$A$6:$A$1806,Data!$D$6:$D$1806)","v":0},{"$f":"IF($Z$1=\"+\",LOOKUP($V284,Data!$A$6:$A$1806,Data!$E$6:$E$1806)*-1,LOOKUP($V284,Data!$A$6:$A$1806,Data!$E$6:$E$1806))","v":0},{"$f":"LOOKUP($V284,Data!$A$6:$A$1806,Data!$F$6:$F$1806)","v":0},null,{"$f":"LOOKUP($V284,Data!$A$6:$A$1806,Data!$H$6:$H$1806)","v":0},{"$f":"LOOKUP($V284,Data!$A$6:$A$1806,Data!$I$6:$I$1806)","v":0},{"$f":"IF(LOOKUP($V284,Data!$A$6:$A$1806,Data!$J$6:$J$1806)>0,(LOOKUP($V284,Data!$A$6:$A$1806,Data!$J$6:$J$1806)*-1),LOOKUP($V284,Data!$A$6:$A$1806,Data!$J$6:$J$1806))","v":-653},{"$f":"LOOKUP($V284,Data!$A$6:$A$1806,Data!$K$6:$K$1806)","v":30364.673828125},-145.67352294921875,null,null,null,null,null,null,null,null,null,null,null,null,null,null,null," ",2.2308349609375E-2," "]
[null,40679.342708332952,{"$f":"LOOKUP(B285,Data!$A$6:$A$1806,Data!B$6:B$1806)","v":60.021331787109375},{"$f":"LOOKUP(B285,Data!$A$6:$A$1806,Data!C$6:C$1806)","v":0},null,null,19590,{"$f":"(IF((C285-L$2)>0,(IF(C285<'Copy Results'!$C$3,((C285-L$2-L$5)/((L$4*L$2)-L$5)*G285*-1),(('Copy Results'!$C$3-L$2-L$5)/((L$4*L$2)-L$5)*G285*-1))),IF(C285>'Copy Results'!$C$2,((C285-L$2+L$5)/((L$4*L$2)-L$5)*G285*-1),(('Copy Results'!$C$2-L$2+L$5)/((L$4*L$2)-L$5)*G285*-1))))","v":-139.29656982421875},-147.67068417125361,null,null,0,-168.30313405731954,{"$f":"AVERAGE(D$79:D285)","v":0},{"$f":"AVERAGE(M$79:M285)","v":258.0619933779065},-18.644902043525651,{"$f":"AVERAGE(P$79:P285)","v":119.40714736118947},null,null,null,null,40679.342708332952,{"$f":"LOOKUP($V285,Data!$A$6:$A$1806,Data!$B$6:$B$1806)","v":60.021331787109375},{"$f":"LOOKUP($V285,Data!$A$6:$A$1806,Data!$C$6:$C$1806)","v":0},{"$f":"LOOKUP($V285,Data!$A$6:$A$1806,Data!$D$6:$D$1806)","v":0},{"$f":"IF($Z$1=\"+\",LOOKUP($V285,Data!$A$6:$A$1806,Data!$E$6:$E$1806)*-1,LOOKUP($V285,Data!$A$6:$A$1806,Data!$E$6:$E$1806))","v":0},{"$f":"LOOKUP($V285,Data!$A$6:$A$1806,Data!$F$6:$F$1806)","v":0},null,{"$f":"LOOKUP($V285,Data!$A$6:$A$1806,Data!$H$6:$H$1806)","v":0},{"$f":"LOOKUP($V285,Data!$A$6:$A$1806,Data!$I$6:$I$1806)","v":0},{"$f":"IF(LOOKUP($V285,Data!$A$6:$A$1806,Data!$J$6:$J$1806)>0,(LOOKUP($V285,Data!$A$6:$A$1806,Data!$J$6:$J$1806)*-1),LOOKUP($V285,Data!$A$6:$A$1806,Data!$J$6:$J$1806))","v":-653},{"$f":"LOOKUP($V285,Data!$A$6:$A$1806,Data!$K$6:$K$1806)","v":30364.673828125},-139.29656982421875,null,null,null,null,null,null,null,null,null,null,null,null,null,null,null," ",2.1331787109375E-2," "]
[null,40679.342731481098,{"$f":"LOOKUP(B286,Data!$A$6:$A$1806,Data!B$6:B$1806)","v":60.021331787109375},{"$f":"LOOKUP(B286,Data!$A$6:$A$1806,Data!C$6:C$1806)","v":0},null,null,19590,{"$f":"(IF((C286-L$2)>0,(IF(C286<'Copy Results'!$C$3,((C286-L$2-L$5)/((L$4*L$2)-L$5)*G286*-1),(('Copy Results'!$C$3-L$2-L$5)/((L$4*L$2)-L$5)*G286*-1))),IF(C286>'Copy Results'!$C$2,((C286-L$2+L$5)/((L$4*L$2)-L$5)*G286*-1),(('Copy Results'!$C$2-L$2+L$5)/((L$4*L$2)-L$5)*G286*-1))))","v":-139.29656982421875},-144.73974414979142,null,null,0,-165.37219403585735,{"$f":"AVERAGE(D$79:D286)","v":0},{"$f":"AVERAGE(M$79:M286)","v":256.02625209226341},-18.644902043525651,{"$f":"AVERAGE(P$79:P286)","v":118.74022924812321},null,null,null,null,40679.342731481098,{"$f":"LOOKUP($V286,Data!$A$6:$A$1806,Data!$B$6:$B$1806)","v":60.021331787109375},{"$f":"LOOKUP($V286,Data!$A$6:$A$1806,Data!$C$6:$C$1806)","v":0},{"$f":"LOOKUP($V286,Data!$A$6:$A$1806,Data!$D$6:$D$1806)","v":0},{"$f":"IF($Z$1=\"+\",LOOKUP($V286,Data!$A$6:$A$1806,Data!$E$6:$E$1806)*-1,LOOKUP($V286,Data!$A$6:$A$1806,Data!$E$6:$E$1806))","v":0},{"$f":"LOOKUP($V286,Data!$A$6:$A$1806,Data!$F$6:$F$1806)","v":0},null,{"$f":"LOOKUP($V286,Data!$A$6:$A$1806,Data!$H$6:$H$1806)","v":0},{"$f":"LOOKUP($V286,Data!$A$6:$A$1806,Data!$I$6:$I$1806)","v":0},{"$f":"IF(LOOKUP($V286,Data!$A$6:$A$1806,Data!$J$6:$J$1806)>0,(LOOKUP($V286,Data!$A$6:$A$1806,Data!$J$6:$J$1806)*-1),LOOKUP($V286,Data!$A$6:$A$1806,Data!$J$6:$J$1806))","v":-653},{"$f":"LOOKUP($V286,Data!$A$6:$A$1806,Data!$K$6:$K$1806)","v":30364.673828125},-139.29656982421875,null,null,null,null,null,null,null,null,null,null,null,null,null,null,null," ",2.1331787109375E-2," "]
[null,40679.342754629244,{"$f":"LOOKUP(B287,Data!$A$6:$A$1806,Data!B$6:B$1806)","v":60.02001953125},{"$f":"LOOKUP(B287,Data!$A$6:$A$1806,Data!C$6:C$1806)","v":0},null,null,19590,{"$f":"(IF((C287-L$2)>0,(IF(C287<'Copy Results'!$C$3,((C287-L$2-L$5)/((L$4*L$2)-L$5)*G287*-1),(('Copy Results'!$C$3-L$2-L$5)/((L$4*L$2)-L$5)*G287*-1))),IF(C287>'Copy Results'!$C$2,((C287-L$2+L$5)/((L$4*L$2)-L$5)*G287*-1),(('Copy Results'!$C$2-L$2+L$5)/((L$4*L$2)-L$5)*G287*-1))))","v":-130.7275390625},-139.83547236923943,null,null,0,-160.46792225530535,{"$f":"AVERAGE(D$79:D287)","v":0},{"$f":"AVERAGE(M$79:M287)","v":254.03345699969134},-18.644902043525651,{"$f":"AVERAGE(P$79:P287)","v":118.07972380922106},null,null,null,null,40679.342754629244,{"$f":"LOOKUP($V287,Data!$A$6:$A$1806,Data!$B$6:$B$1806)","v":60.02001953125},{"$f":"LOOKUP($V287,Data!$A$6:$A$1806,Data!$C$6:$C$1806)","v":0},{"$f":"LOOKUP($V287,Data!$A$6:$A$1806,Data!$D$6:$D$1806)","v":0},{"$f":"IF($Z$1=\"+\",LOOKUP($V287,Data!$A$6:$A$1806,Data!$E$6:$E$1806)*-1,LOOKUP($V287,Data!$A$6:$A$1806,Data!$E$6:$E$1806))","v":0},{"$f":"LOOKUP($V287,Data!$A$6:$A$1806,Data!$F$6:$F$1806)","v":0},null,{"$f":"LOOKUP($V287,Data!$A$6:$A$1806,Data!$H$6:$H$1806)","v":0},{"$f":"LOOKUP($V287,Data!$A$6:$A$1806,Data!$I$6:$I$1806)","v":0},{"$f":"IF(LOOKUP($V287,Data!$A$6:$A$1806,Data!$J$6:$J$1806)>0,(LOOKUP($V287,Data!$A$6:$A$1806,Data!$J$6:$J$1806)*-1),LOOKUP($V287,Data!$A$6:$A$1806,Data!$J$6:$J$1806))","v":-653},{"$f":"LOOKUP($V287,Data!$A$6:$A$1806,Data!$K$6:$K$1806)","v":30364.673828125},-130.7275390625,null,null,null,null,null,null,null,null,null,null,null,null,null,null,null," ",2.001953125E-2," "]
[null,40679.34277777739,{"$f":"LOOKUP(B288,Data!$A$6:$A$1806,Data!B$6:B$1806)","v":60.01776123046875},{"$f":"LOOKUP(B288,Data!$A$6:$A$1806,Data!C$6:C$1806)","v":0},null,null,19590,{"$f":"(IF((C288-L$2)>0,(IF(C288<'Copy Results'!$C$3,((C288-L$2-L$5)/((L$4*L$2)-L$5)*G288*-1),(('Copy Results'!$C$3-L$2-L$5)/((L$4*L$2)-L$5)*G288*-1))),IF(C288>'Copy Results'!$C$2,((C288-L$2+L$5)/((L$4*L$2)-L$5)*G288*-1),(('Copy Results'!$C$2-L$2+L$5)/((L$4*L$2)-L$5)*G288*-1))))","v":-115.9808349609375},-131.48634927633375,null,null,0,-152.11879916239968,{"$f":"AVERAGE(D$79:D288)","v":0},{"$f":"AVERAGE(M$79:M288)","v":252.0993986370147},-18.644902043525651,{"$f":"AVERAGE(P$79:P288)","v":117.4255389965285},null,null,null,null,40679.34277777739,{"$f":"LOOKUP($V288,Data!$A$6:$A$1806,Data!$B$6:$B$1806)","v":60.01776123046875},{"$f":"LOOKUP($V288,Data!$A$6:$A$1806,Data!$C$6:$C$1806)","v":0},{"$f":"LOOKUP($V288,Data!$A$6:$A$1806,Data!$D$6:$D$1806)","v":0},{"$f":"IF($Z$1=\"+\",LOOKUP($V288,Data!$A$6:$A$1806,Data!$E$6:$E$1806)*-1,LOOKUP($V288,Data!$A$6:$A$1806,Data!$E$6:$E$1806))","v":0},{"$f":"LOOKUP($V288,Data!$A$6:$A$1806,Data!$F$6:$F$1806)","v":0},null,{"$f":"LOOKUP($V288,Data!$A$6:$A$1806,Data!$H$6:$H$1806)","v":0},{"$f":"LOOKUP($V288,Data!$A$6:$A$1806,Data!$I$6:$I$1806)","v":0},{"$f":"IF(LOOKUP($V288,Data!$A$6:$A$1806,Data!$J$6:$J$1806)>0,(LOOKUP($V288,Data!$A$6:$A$1806,Data!$J$6:$J$1806)*-1),LOOKUP($V288,Data!$A$6:$A$1806,Data!$J$6:$J$1806))","v":-653},{"$f":"LOOKUP($V288,Data!$A$6:$A$1806,Data!$K$6:$K$1806)","v":30361.55859375},-115.9808349609375,null,null,null,null,null,null,null,null,null,null,null,null,null,null,null," ",1.776123046875E-2," "]
[null,40679.342800925537,{"$f":"LOOKUP(B289,Data!$A$6:$A$1806,Data!B$6:B$1806)","v":60.015838623046875},{"$f":"LOOKUP(B289,Data!$A$6:$A$1806,Data!C$6:C$1806)","v":0},null,null,19590,{"$f":"(IF((C289-L$2)>0,(IF(C289<'Copy Results'!$C$3,((C289-L$2-L$5)/((L$4*L$2)-L$5)*G289*-1),(('Copy Results'!$C$3-L$2-L$5)/((L$4*L$2)-L$5)*G289*-1))),IF(C289>'Copy Results'!$C$2,((C289-L$2+L$5)/((L$4*L$2)-L$5)*G289*-1),(('Copy Results'!$C$2-L$2+L$5)/((L$4*L$2)-L$5)*G289*-1))))","v":-103.42620849609375},-121.66530000324975,null,null,0,-142.2977498893157,{"$f":"AVERAGE(D$79:D289)","v":0},{"$f":"AVERAGE(M$79:M289)","v":250.23021783831172},-18.644902043525651,{"$f":"AVERAGE(P$79:P289)","v":116.77758451538539},null,null,null,null,40679.342800925537,{"$f":"LOOKUP($V289,Data!$A$6:$A$1806,Data!$B$6:$B$1806)","v":60.015838623046875},{"$f":"LOOKUP($V289,Data!$A$6:$A$1806,Data!$C$6:$C$1806)","v":0},{"$f":"LOOKUP($V289,Data!$A$6:$A$1806,Data!$D$6:$D$1806)","v":0},{"$f":"IF($Z$1=\"+\",LOOKUP($V289,Data!$A$6:$A$1806,Data!$E$6:$E$1806)*-1,LOOKUP($V289,Data!$A$6:$A$1806,Data!$E$6:$E$1806))","v":0},{"$f":"LOOKUP($V289,Data!$A$6:$A$1806,Data!$F$6:$F$1806)","v":0},null,{"$f":"LOOKUP($V289,Data!$A$6:$A$1806,Data!$H$6:$H$1806)","v":0},{"$f":"LOOKUP($V289,Data!$A$6:$A$1806,Data!$I$6:$I$1806)","v":0},{"$f":"IF(LOOKUP($V289,Data!$A$6:$A$1806,Data!$J$6:$J$1806)>0,(LOOKUP($V289,Data!$A$6:$A$1806,Data!$J$6:$J$1806)*-1),LOOKUP($V289,Data!$A$6:$A$1806,Data!$J$6:$J$1806))","v":-653},{"$f":"LOOKUP($V289,Data!$A$6:$A$1806,Data!$K$6:$K$1806)","v":30361.55859375},-103.42620849609375,null,null,null,null,null,null,null,null,null,null,null,null,null,null,null," ",1.5838623046875E-2," "]
[null,40679.342824073683,{"$f":"LOOKUP(B290,Data!$A$6:$A$1806,Data!B$6:B$1806)","v":60.012908935546875},{"$f":"LOOKUP(B290,Data!$A$6:$A$1806,Data!C$6:C$1806)","v":0},null,null,19590,{"$f":"(IF((C290-L$2)>0,(IF(C290<'Copy Results'!$C$3,((C290-L$2-L$5)/((L$4*L$2)-L$5)*G290*-1),(('Copy Results'!$C$3-L$2-L$5)/((L$4*L$2)-L$5)*G290*-1))),IF(C290>'Copy Results'!$C$2,((C290-L$2+L$5)/((L$4*L$2)-L$5)*G290*-1),(('Copy Results'!$C$2-L$2+L$5)/((L$4*L$2)-L$5)*G290*-1))))","v":-84.29534912109375},-108.58581719449515,null,null,0,-129.21826708056108,{"$f":"AVERAGE(D$79:D290)","v":0},{"$f":"AVERAGE(M$79:M290)","v":248.44036649435475},-18.644902043525651,{"$f":"AVERAGE(P$79:P290)","v":116.13577178287871},null,null,null,null,40679.342824073683,{"$f":"LOOKUP($V290,Data!$A$6:$A$1806,Data!$B$6:$B$1806)","v":60.012908935546875},{"$f":"LOOKUP($V290,Data!$A$6:$A$1806,Data!$C$6:$C$1806)","v":0},{"$f":"LOOKUP($V290,Data!$A$6:$A$1806,Data!$D$6:$D$1806)","v":0},{"$f":"IF($Z$1=\"+\",LOOKUP($V290,Data!$A$6:$A$1806,Data!$E$6:$E$1806)*-1,LOOKUP($V290,Data!$A$6:$A$1806,Data!$E$6:$E$1806))","v":0},{"$f":"LOOKUP($V290,Data!$A$6:$A$1806,Data!$F$6:$F$1806)","v":0},null,{"$f":"LOOKUP($V290,Data!$A$6:$A$1806,Data!$H$6:$H$1806)","v":0},{"$f":"LOOKUP($V290,Data!$A$6:$A$1806,Data!$I$6:$I$1806)","v":0},{"$f":"IF(LOOKUP($V290,Data!$A$6:$A$1806,Data!$J$6:$J$1806)>0,(LOOKUP($V290,Data!$A$6:$A$1806,Data!$J$6:$J$1806)*-1),LOOKUP($V290,Data!$A$6:$A$1806,Data!$J$6:$J$1806))","v":-653},{"$f":"LOOKUP($V290,Data!$A$6:$A$1806,Data!$K$6:$K$1806)","v":30361.55859375},-84.29534912109375,null,null,null,null,null,null,null,null,null,null,null,null,null,null,null," ",1.2908935546875E-2," "]
[null,40679.342847221829,{"$f":"LOOKUP(B291,Data!$A$6:$A$1806,Data!B$6:B$1806)","v":60.011322021484375},{"$f":"LOOKUP(B291,Data!$A$6:$A$1806,Data!C$6:C$1806)","v":0},null,null,19590,{"$f":"(IF((C291-L$2)>0,(IF(C291<'Copy Results'!$C$3,((C291-L$2-L$5)/((L$4*L$2)-L$5)*G291*-1),(('Copy Results'!$C$3-L$2-L$5)/((L$4*L$2)-L$5)*G291*-1))),IF(C291>'Copy Results'!$C$2,((C291-L$2+L$5)/((L$4*L$2)-L$5)*G291*-1),(('Copy Results'!$C$2-L$2+L$5)/((L$4*L$2)-L$5)*G291*-1))))","v":-73.93280029296875},-96.457261278960914,null,null,0,-117.08971116502684,{"$f":"AVERAGE(D$79:D291)","v":0},{"$f":"AVERAGE(M$79:M291)","v":246.72426284337175},-18.644902043525651,{"$f":"AVERAGE(P$79:P291)","v":115.50001388747114},null,null,null,null,40679.342847221829,{"$f":"LOOKUP($V291,Data!$A$6:$A$1806,Data!$B$6:$B$1806)","v":60.011322021484375},{"$f":"LOOKUP($V291,Data!$A$6:$A$1806,Data!$C$6:$C$1806)","v":0},{"$f":"LOOKUP($V291,Data!$A$6:$A$1806,Data!$D$6:$D$1806)","v":0},{"$f":"IF($Z$1=\"+\",LOOKUP($V291,Data!$A$6:$A$1806,Data!$E$6:$E$1806)*-1,LOOKUP($V291,Data!$A$6:$A$1806,Data!$E$6:$E$1806))","v":0},{"$f":"LOOKUP($V291,Data!$A$6:$A$1806,Data!$F$6:$F$1806)","v":0},null,{"$f":"LOOKUP($V291,Data!$A$6:$A$1806,Data!$H$6:$H$1806)","v":0},{"$f":"LOOKUP($V291,Data!$A$6:$A$1806,Data!$I$6:$I$1806)","v":0},{"$f":"IF(LOOKUP($V291,Data!$A$6:$A$1806,Data!$J$6:$J$1806)>0,(LOOKUP($V291,Data!$A$6:$A$1806,Data!$J$6:$J$1806)*-1),LOOKUP($V291,Data!$A$6:$A$1806,Data!$J$6:$J$1806))","v":-653},{"$f":"LOOKUP($V291,Data!$A$6:$A$1806,Data!$K$6:$K$1806)","v":30361.55859375},-73.93280029296875,null,null,null,null,null,null,null,null,null,null,null,null,null,null,null," ",1.1322021484375E-2," "]
[null,40679.342870369976,{"$f":"LOOKUP(B292,Data!$A$6:$A$1806,Data!B$6:B$1806)","v":60.010009765625},{"$f":"LOOKUP(B292,Data!$A$6:$A$1806,Data!C$6:C$1806)","v":0},null,null,19590,{"$f":"(IF((C292-L$2)>0,(IF(C292<'Copy Results'!$C$3,((C292-L$2-L$5)/((L$4*L$2)-L$5)*G292*-1),(('Copy Results'!$C$3-L$2-L$5)/((L$4*L$2)-L$5)*G292*-1))),IF(C292>'Copy Results'!$C$2,((C292-L$2+L$5)/((L$4*L$2)-L$5)*G292*-1),(('Copy Results'!$C$2-L$2+L$5)/((L$4*L$2)-L$5)*G292*-1))))","v":-65.36376953125},-85.574539167262088,null,null,0,-106.20698905332802,{"$f":"AVERAGE(D$79:D292)","v":0},{"$f":"AVERAGE(M$79:M292)","v":245.07505138591051},-18.644902043525651,{"$f":"AVERAGE(P$79:P292)","v":114.87022554976693},null,null,null,null,40679.342870369976,{"$f":"LOOKUP($V292,Data!$A$6:$A$1806,Data!$B$6:$B$1806)","v":60.010009765625},{"$f":"LOOKUP($V292,Data!$A$6:$A$1806,Data!$C$6:$C$1806)","v":0},{"$f":"LOOKUP($V292,Data!$A$6:$A$1806,Data!$D$6:$D$1806)","v":0},{"$f":"IF($Z$1=\"+\",LOOKUP($V292,Data!$A$6:$A$1806,Data!$E$6:$E$1806)*-1,LOOKUP($V292,Data!$A$6:$A$1806,Data!$E$6:$E$1806))","v":0},{"$f":"LOOKUP($V292,Data!$A$6:$A$1806,Data!$F$6:$F$1806)","v":0},null,{"$f":"LOOKUP($V292,Data!$A$6:$A$1806,Data!$H$6:$H$1806)","v":0},{"$f":"LOOKUP($V292,Data!$A$6:$A$1806,Data!$I$6:$I$1806)","v":0},{"$f":"IF(LOOKUP($V292,Data!$A$6:$A$1806,Data!$J$6:$J$1806)>0,(LOOKUP($V292,Data!$A$6:$A$1806,Data!$J$6:$J$1806)*-1),LOOKUP($V292,Data!$A$6:$A$1806,Data!$J$6:$J$1806))","v":-653},{"$f":"LOOKUP($V292,Data!$A$6:$A$1806,Data!$K$6:$K$1806)","v":30350.6875},-65.36376953125,null,null,null,null,null,null,null,null,null,null,null,null,null,null,null," ",1.0009765625E-2," "]
[null,40679.342893518122,{"$f":"LOOKUP(B293,Data!$A$6:$A$1806,Data!B$6:B$1806)","v":60.009368896484375},{"$f":"LOOKUP(B293,Data!$A$6:$A$1806,Data!C$6:C$1806)","v":0},null,null,19590,{"$f":"(IF((C293-L$2)>0,(IF(C293<'Copy Results'!$C$3,((C293-L$2-L$5)/((L$4*L$2)-L$5)*G293*-1),(('Copy Results'!$C$3-L$2-L$5)/((L$4*L$2)-L$5)*G293*-1))),IF(C293>'Copy Results'!$C$2,((C293-L$2+L$5)/((L$4*L$2)-L$5)*G293*-1),(('Copy Results'!$C$2-L$2+L$5)/((L$4*L$2)-L$5)*G293*-1))))","v":-61.17889404296875},-77.036063373759418,null,null,0,-97.668513259825346,{"$f":"AVERAGE(D$79:D293)","v":0},{"$f":"AVERAGE(M$79:M293)","v":243.48089527127917},-18.644902043525651,{"$f":"AVERAGE(P$79:P293)","v":114.24632308437772},null,null,null,null,40679.342893518122,{"$f":"LOOKUP($V293,Data!$A$6:$A$1806,Data!$B$6:$B$1806)","v":60.009368896484375},{"$f":"LOOKUP($V293,Data!$A$6:$A$1806,Data!$C$6:$C$1806)","v":0},{"$f":"LOOKUP($V293,Data!$A$6:$A$1806,Data!$D$6:$D$1806)","v":0},{"$f":"IF($Z$1=\"+\",LOOKUP($V293,Data!$A$6:$A$1806,Data!$E$6:$E$1806)*-1,LOOKUP($V293,Data!$A$6:$A$1806,Data!$E$6:$E$1806))","v":0},{"$f":"LOOKUP($V293,Data!$A$6:$A$1806,Data!$F$6:$F$1806)","v":0},null,{"$f":"LOOKUP($V293,Data!$A$6:$A$1806,Data!$H$6:$H$1806)","v":0},{"$f":"LOOKUP($V293,Data!$A$6:$A$1806,Data!$I$6:$I$1806)","v":0},{"$f":"IF(LOOKUP($V293,Data!$A$6:$A$1806,Data!$J$6:$J$1806)>0,(LOOKUP($V293,Data!$A$6:$A$1806,Data!$J$6:$J$1806)*-1),LOOKUP($V293,Data!$A$6:$A$1806,Data!$J$6:$J$1806))","v":-653},{"$f":"LOOKUP($V293,Data!$A$6:$A$1806,Data!$K$6:$K$1806)","v":30350.6875},-61.17889404296875,null,null,null,null,null,null,null,null,null,null,null,null,null,null,null," ",9.368896484375E-3," "]
[null,40679.342916666268,{"$f":"LOOKUP(B294,Data!$A$6:$A$1806,Data!B$6:B$1806)","v":60.00775146484375},{"$f":"LOOKUP(B294,Data!$A$6:$A$1806,Data!C$6:C$1806)","v":0},null,null,19590,{"$f":"(IF((C294-L$2)>0,(IF(C294<'Copy Results'!$C$3,((C294-L$2-L$5)/((L$4*L$2)-L$5)*G294*-1),(('Copy Results'!$C$3-L$2-L$5)/((L$4*L$2)-L$5)*G294*-1))),IF(C294>'Copy Results'!$C$2,((C294-L$2+L$5)/((L$4*L$2)-L$5)*G294*-1),(('Copy Results'!$C$2-L$2+L$5)/((L$4*L$2)-L$5)*G294*-1))))","v":-50.6170654296875},-67.789414093334244,null,null,0,-88.421863979400172,{"$f":"AVERAGE(D$79:D294)","v":0},{"$f":"AVERAGE(M$79:M294)","v":241.9443084228964},-18.644902043525651,{"$f":"AVERAGE(P$79:P294)","v":113.62822436285259},null,null,null,null,40679.342916666268,{"$f":"LOOKUP($V294,Data!$A$6:$A$1806,Data!$B$6:$B$1806)","v":60.00775146484375},{"$f":"LOOKUP($V294,Data!$A$6:$A$1806,Data!$C$6:$C$1806)","v":0},{"$f":"LOOKUP($V294,Data!$A$6:$A$1806,Data!$D$6:$D$1806)","v":0},{"$f":"IF($Z$1=\"+\",LOOKUP($V294,Data!$A$6:$A$1806,Data!$E$6:$E$1806)*-1,LOOKUP($V294,Data!$A$6:$A$1806,Data!$E$6:$E$1806))","v":0},{"$f":"LOOKUP($V294,Data!$A$6:$A$1806,Data!$F$6:$F$1806)","v":0},null,{"$f":"LOOKUP($V294,Data!$A$6:$A$1806,Data!$H$6:$H$1806)","v":0},{"$f":"LOOKUP($V294,Data!$A$6:$A$1806,Data!$I$6:$I$1806)","v":0},{"$f":"IF(LOOKUP($V294,Data!$A$6:$A$1806,Data!$J$6:$J$1806)>0,(LOOKUP($V294,Data!$A$6:$A$1806,Data!$J$6:$J$1806)*-1),LOOKUP($V294,Data!$A$6:$A$1806,Data!$J$6:$J$1806))","v":-653},{"$f":"LOOKUP($V294,Data!$A$6:$A$1806,Data!$K$6:$K$1806)","v":30344.5234375},-50.6170654296875,null,null,null,null,null,null,null,null,null,null,null,null,null,null,null," ",7.75146484375E-3," "]
[null,40679.342939814414,{"$f":"LOOKUP(B295,Data!$A$6:$A$1806,Data!B$6:B$1806)","v":60.005157470703125},{"$f":"LOOKUP(B295,Data!$A$6:$A$1806,Data!C$6:C$1806)","v":0},null,null,19590,{"$f":"(IF((C295-L$2)>0,(IF(C295<'Copy Results'!$C$3,((C295-L$2-L$5)/((L$4*L$2)-L$5)*G295*-1),(('Copy Results'!$C$3-L$2-L$5)/((L$4*L$2)-L$5)*G295*-1))),IF(C295>'Copy Results'!$C$2,((C295-L$2+L$5)/((L$4*L$2)-L$5)*G295*-1),(('Copy Results'!$C$2-L$2+L$5)/((L$4*L$2)-L$5)*G295*-1))))","v":-33.67828369140625},-55.85051845265945,null,null,0,-76.482968338725385,{"$f":"AVERAGE(D$79:D295)","v":0},{"$f":"AVERAGE(M$79:M295)","v":240.47690161754329},-18.644902043525651,{"$f":"AVERAGE(P$79:P295)","v":113.01584877763788},null,null,null,null,40679.342939814414,{"$f":"LOOKUP($V295,Data!$A$6:$A$1806,Data!$B$6:$B$1806)","v":60.005157470703125},{"$f":"LOOKUP($V295,Data!$A$6:$A$1806,Data!$C$6:$C$1806)","v":0},{"$f":"LOOKUP($V295,Data!$A$6:$A$1806,Data!$D$6:$D$1806)","v":0},{"$f":"IF($Z$1=\"+\",LOOKUP($V295,Data!$A$6:$A$1806,Data!$E$6:$E$1806)*-1,LOOKUP($V295,Data!$A$6:$A$1806,Data!$E$6:$E$1806))","v":0},{"$f":"LOOKUP($V295,Data!$A$6:$A$1806,Data!$F$6:$F$1806)","v":0},null,{"$f":"LOOKUP($V295,Data!$A$6:$A$1806,Data!$H$6:$H$1806)","v":0},{"$f":"LOOKUP($V295,Data!$A$6:$A$1806,Data!$I$6:$I$1806)","v":0},{"$f":"IF(LOOKUP($V295,Data!$A$6:$A$1806,Data!$J$6:$J$1806)>0,(LOOKUP($V295,Data!$A$6:$A$1806,Data!$J$6:$J$1806)*-1),LOOKUP($V295,Data!$A$6:$A$1806,Data!$J$6:$J$1806))","v":-653},{"$f":"LOOKUP($V295,Data!$A$6:$A$1806,Data!$K$6:$K$1806)","v":30344.5234375},-33.67828369140625,null,null,null,null,null,null,null,null,null,null,null,null,null,null,null," ",5.157470703125E-3," "]
[null,40679.342962962561,{"$f":"LOOKUP(B296,Data!$A$6:$A$1806,Data!B$6:B$1806)","v":60.0045166015625},{"$f":"LOOKUP(B296,Data!$A$6:$A$1806,Data!C$6:C$1806)","v":0},null,null,19590,{"$f":"(IF((C296-L$2)>0,(IF(C296<'Copy Results'!$C$3,((C296-L$2-L$5)/((L$4*L$2)-L$5)*G296*-1),(('Copy Results'!$C$3-L$2-L$5)/((L$4*L$2)-L$5)*G296*-1))),IF(C296>'Copy Results'!$C$2,((C296-L$2+L$5)/((L$4*L$2)-L$5)*G296*-1),(('Copy Results'!$C$2-L$2+L$5)/((L$4*L$2)-L$5)*G296*-1))))","v":-29.493408203125},-46.625529865322392,null,null,0,-67.257979751388319,{"$f":"AVERAGE(D$79:D296)","v":0},{"$f":"AVERAGE(M$79:M296)","v":239.06527372135551},-18.644902043525651,{"$f":"AVERAGE(P$79:P296)","v":112.40911720703345},null,null,null,null,40679.342962962561,{"$f":"LOOKUP($V296,Data!$A$6:$A$1806,Data!$B$6:$B$1806)","v":60.0045166015625},{"$f":"LOOKUP($V296,Data!$A$6:$A$1806,Data!$C$6:$C$1806)","v":0},{"$f":"LOOKUP($V296,Data!$A$6:$A$1806,Data!$D$6:$D$1806)","v":0},{"$f":"IF($Z$1=\"+\",LOOKUP($V296,Data!$A$6:$A$1806,Data!$E$6:$E$1806)*-1,LOOKUP($V296,Data!$A$6:$A$1806,Data!$E$6:$E$1806))","v":0},{"$f":"LOOKUP($V296,Data!$A$6:$A$1806,Data!$F$6:$F$1806)","v":0},null,{"$f":"LOOKUP($V296,Data!$A$6:$A$1806,Data!$H$6:$H$1806)","v":0},{"$f":"LOOKUP($V296,Data!$A$6:$A$1806,Data!$I$6:$I$1806)","v":0},{"$f":"IF(LOOKUP($V296,Data!$A$6:$A$1806,Data!$J$6:$J$1806)>0,(LOOKUP($V296,Data!$A$6:$A$1806,Data!$J$6:$J$1806)*-1),LOOKUP($V296,Data!$A$6:$A$1806,Data!$J$6:$J$1806))","v":-653},{"$f":"LOOKUP($V296,Data!$A$6:$A$1806,Data!$K$6:$K$1806)","v":30344.5234375},-29.493408203125,null,null,null,null,null,null,null,null,null,null,null,null,null,null,null," ",4.5166015625E-3," "]
[null,40679.342986110707,{"$f":"LOOKUP(B297,Data!$A$6:$A$1806,Data!B$6:B$1806)","v":60.006134033203125},{"$f":"LOOKUP(B297,Data!$A$6:$A$1806,Data!C$6:C$1806)","v":0},null,null,19590,{"$f":"(IF((C297-L$2)>0,(IF(C297<'Copy Results'!$C$3,((C297-L$2-L$5)/((L$4*L$2)-L$5)*G297*-1),(('Copy Results'!$C$3-L$2-L$5)/((L$4*L$2)-L$5)*G297*-1))),IF(C297>'Copy Results'!$C$2,((C297-L$2+L$5)/((L$4*L$2)-L$5)*G297*-1),(('Copy Results'!$C$2-L$2+L$5)/((L$4*L$2)-L$5)*G297*-1))))","v":-40.05523681640625},-44.325927298201741,null,null,0,-64.958377184267675,{"$f":"AVERAGE(D$79:D297)","v":0},{"$f":"AVERAGE(M$79:M297)","v":237.6770378724714},-18.644902043525651,{"$f":"AVERAGE(P$79:P297)","v":111.80795198111346},null,null,null,null,40679.342986110707,{"$f":"LOOKUP($V297,Data!$A$6:$A$1806,Data!$B$6:$B$1806)","v":60.006134033203125},{"$f":"LOOKUP($V297,Data!$A$6:$A$1806,Data!$C$6:$C$1806)","v":0},{"$f":"LOOKUP($V297,Data!$A$6:$A$1806,Data!$D$6:$D$1806)","v":0},{"$f":"IF($Z$1=\"+\",LOOKUP($V297,Data!$A$6:$A$1806,Data!$E$6:$E$1806)*-1,LOOKUP($V297,Data!$A$6:$A$1806,Data!$E$6:$E$1806))","v":0},{"$f":"LOOKUP($V297,Data!$A$6:$A$1806,Data!$F$6:$F$1806)","v":0},null,{"$f":"LOOKUP($V297,Data!$A$6:$A$1806,Data!$H$6:$H$1806)","v":0},{"$f":"LOOKUP($V297,Data!$A$6:$A$1806,Data!$I$6:$I$1806)","v":0},{"$f":"IF(LOOKUP($V297,Data!$A$6:$A$1806,Data!$J$6:$J$1806)>0,(LOOKUP($V297,Data!$A$6:$A$1806,Data!$J$6:$J$1806)*-1),LOOKUP($V297,Data!$A$6:$A$1806,Data!$J$6:$J$1806))","v":-653},{"$f":"LOOKUP($V297,Data!$A$6:$A$1806,Data!$K$6:$K$1806)","v":30344.5234375},-40.05523681640625,null,null,null,null,null,null,null,null,null,null,null,null,null,null,null," ",6.134033203125E-3," "]
[null,40679.343009258853,{"$f":"LOOKUP(B298,Data!$A$6:$A$1806,Data!B$6:B$1806)","v":60.006134033203125},{"$f":"LOOKUP(B298,Data!$A$6:$A$1806,Data!C$6:C$1806)","v":0},null,null,19590,{"$f":"(IF((C298-L$2)>0,(IF(C298<'Copy Results'!$C$3,((C298-L$2-L$5)/((L$4*L$2)-L$5)*G298*-1),(('Copy Results'!$C$3-L$2-L$5)/((L$4*L$2)-L$5)*G298*-1))),IF(C298>'Copy Results'!$C$2,((C298-L$2+L$5)/((L$4*L$2)-L$5)*G298*-1),(('Copy Results'!$C$2-L$2+L$5)/((L$4*L$2)-L$5)*G298*-1))))","v":-40.05523681640625},-42.831185629573319,null,null,0,-63.463635515639254,{"$f":"AVERAGE(D$79:D298)","v":0},{"$f":"AVERAGE(M$79:M298)","v":236.30821662979818},-18.644902043525651,{"$f":"AVERAGE(P$79:P298)","v":111.21227684858086},null,null,null,null,40679.343009258853,{"$f":"LOOKUP($V298,Data!$A$6:$A$1806,Data!$B$6:$B$1806)","v":60.006134033203125},{"$f":"LOOKUP($V298,Data!$A$6:$A$1806,Data!$C$6:$C$1806)","v":0},{"$f":"LOOKUP($V298,Data!$A$6:$A$1806,Data!$D$6:$D$1806)","v":0},{"$f":"IF($Z$1=\"+\",LOOKUP($V298,Data!$A$6:$A$1806,Data!$E$6:$E$1806)*-1,LOOKUP($V298,Data!$A$6:$A$1806,Data!$E$6:$E$1806))","v":0},{"$f":"LOOKUP($V298,Data!$A$6:$A$1806,Data!$F$6:$F$1806)","v":0},null,{"$f":"LOOKUP($V298,Data!$A$6:$A$1806,Data!$H$6:$H$1806)","v":0},{"$f":"LOOKUP($V298,Data!$A$6:$A$1806,Data!$I$6:$I$1806)","v":0},{"$f":"IF(LOOKUP($V298,Data!$A$6:$A$1806,Data!$J$6:$J$1806)>0,(LOOKUP($V298,Data!$A$6:$A$1806,Data!$J$6:$J$1806)*-1),LOOKUP($V298,Data!$A$6:$A$1806,Data!$J$6:$J$1806))","v":-653},{"$f":"LOOKUP($V298,Data!$A$6:$A$1806,Data!$K$6:$K$1806)","v":30354.365234375},-40.05523681640625,null,null,null,null,null,null,null,null,null,null,null,null,null,null,null," ",6.134033203125E-3," "]
[null,40679.343032407,{"$f":"LOOKUP(B299,Data!$A$6:$A$1806,Data!B$6:B$1806)","v":60.0054931640625},{"$f":"LOOKUP(B299,Data!$A$6:$A$1806,Data!C$6:C$1806)","v":0},null,null,19590,{"$f":"(IF((C299-L$2)>0,(IF(C299<'Copy Results'!$C$3,((C299-L$2-L$5)/((L$4*L$2)-L$5)*G299*-1),(('Copy Results'!$C$3-L$2-L$5)/((L$4*L$2)-L$5)*G299*-1))),IF(C299>'Copy Results'!$C$2,((C299-L$2+L$5)/((L$4*L$2)-L$5)*G299*-1),(('Copy Results'!$C$2-L$2+L$5)/((L$4*L$2)-L$5)*G299*-1))))","v":-35.870361328125},{"$f":"L$13*H299+(1-L$13)*I298","v":-40.394897124066404},null,null,0,-61.027347010132338,{"$f":"AVERAGE(D$79:D299)","v":0},{"$f":"AVERAGE(M$79:M299)","v":234.96280683957224},-18.644902043525651,{"$f":"AVERAGE(P$79:P299)","v":110.62201694452584},null,null,null,null,40679.343032407,{"$f":"LOOKUP($V299,Data!$A$6:$A$1806,Data!$B$6:$B$1806)","v":60.0054931640625},{"$f":"LOOKUP($V299,Data!$A$6:$A$1806,Data!$C$6:$C$1806)","v":0},{"$f":"LOOKUP($V299,Data!$A$6:$A$1806,Data!$D$6:$D$1806)","v":0},{"$f":"IF($Z$1=\"+\",LOOKUP($V299,Data!$A$6:$A$1806,Data!$E$6:$E$1806)*-1,LOOKUP($V299,Data!$A$6:$A$1806,Data!$E$6:$E$1806))","v":0},{"$f":"LOOKUP($V299,Data!$A$6:$A$1806,Data!$F$6:$F$1806)","v":0},null,{"$f":"LOOKUP($V299,Data!$A$6:$A$1806,Data!$H$6:$H$1806)","v":0},{"$f":"LOOKUP($V299,Data!$A$6:$A$1806,Data!$I$6:$I$1806)","v":0},{"$f":"IF(LOOKUP($V299,Data!$A$6:$A$1806,Data!$J$6:$J$1806)>0,(LOOKUP($V299,Data!$A$6:$A$1806,Data!$J$6:$J$1806)*-1),LOOKUP($V299,Data!$A$6:$A$1806,Data!$J$6:$J$1806))","v":-653},{"$f":"LOOKUP($V299,Data!$A$6:$A$1806,Data!$K$6:$K$1806)","v":30354.365234375},-35.870361328125,null,null,null,null,null,null,null,null,null,null,null,null,null,null,null," ",5.4931640625E-3," "]
[null,40679.343055555146,{"$f":"LOOKUP(B300,Data!$A$6:$A$1806,Data!B$6:B$1806)","v":60.005157470703125},{"$f":"LOOKUP(B300,Data!$A$6:$A$1806,Data!C$6:C$1806)","v":0},null,null,{"$f":"AE300*-M$4*10","v":19590},{"$f":"(IF((C300-L$2)>0,(IF(C300<'Copy Results'!$C$3,((C300-L$2-L$5)/((L$4*L$2)-L$5)*G300*-1),(('Copy Results'!$C$3-L$2-L$5)/((L$4*L$2)-L$5)*G300*-1))),IF(C300>'Copy Results'!$C$2,((C300-L$2+L$5)/((L$4*L$2)-L$5)*G300*-1),(('Copy Results'!$C$2-L$2+L$5)/((L$4*L$2)-L$5)*G300*-1))))","v":-33.67828369140625},-38.044082422635356,null,null,0,-58.67653230870129,{"$f":"AVERAGE(D$79:D300)","v":0},{"$f":"AVERAGE(M$79:M300)","v":233.64010711367911},-18.644902043525651,{"$f":"AVERAGE(P$79:P300)","v":110.03709875905955},null,null,null,null,40679.343055555146,{"$f":"LOOKUP($V300,Data!$A$6:$A$1806,Data!$B$6:$B$1806)","v":60.005157470703125},{"$f":"LOOKUP($V300,Data!$A$6:$A$1806,Data!$C$6:$C$1806)","v":0},{"$f":"LOOKUP($V300,Data!$A$6:$A$1806,Data!$D$6:$D$1806)","v":0},{"$f":"IF($Z$1=\"+\",LOOKUP($V300,Data!$A$6:$A$1806,Data!$E$6:$E$1806)*-1,LOOKUP($V300,Data!$A$6:$A$1806,Data!$E$6:$E$1806))","v":0},{"$f":"LOOKUP($V300,Data!$A$6:$A$1806,Data!$F$6:$F$1806)","v":0},null,{"$f":"LOOKUP($V300,Data!$A$6:$A$1806,Data!$H$6:$H$1806)","v":0},{"$f":"LOOKUP($V300,Data!$A$6:$A$1806,Data!$I$6:$I$1806)","v":0},{"$f":"IF(LOOKUP($V300,Data!$A$6:$A$1806,Data!$J$6:$J$1806)>0,(LOOKUP($V300,Data!$A$6:$A$1806,Data!$J$6:$J$1806)*-1),LOOKUP($V300,Data!$A$6:$A$1806,Data!$J$6:$J$1806))","v":-653},{"$f":"LOOKUP($V300,Data!$A$6:$A$1806,Data!$K$6:$K$1806)","v":30354.365234375},{"$f":"(IF((W300-$L$2)>0,((W300-$L$2-$L$5)/(($L$4*$L$2)-$L$5)*G300*-1),((W300-$L$2+$L$5)/(($L$4*$L$2)-$L$5)*G300*-1)))","v":-33.67828369140625},null,null,null,null,null,null,null,null,null,null,null,null,null,null,null," ",{"$f":"ABS(C300-60)","v":5.157470703125E-3},{"$f":"IF(AX300>0.036,AE300,\" \")","v":" "}]
[null,40679.343078703292,{"$f":"LOOKUP(B301,Data!$A$6:$A$1806,Data!B$6:B$1806)","v":60.003875732421875},{"$f":"LOOKUP(B301,Data!$A$6:$A$1806,Data!C$6:C$1806)","v":0},null,null,19590,{"$f":"(IF((C301-L$2)>0,(IF(C301<'Copy Results'!$C$3,((C301-L$2-L$5)/((L$4*L$2)-L$5)*G301*-1),(('Copy Results'!$C$3-L$2-L$5)/((L$4*L$2)-L$5)*G301*-1))),IF(C301>'Copy Results'!$C$2,((C301-L$2+L$5)/((L$4*L$2)-L$5)*G301*-1),(('Copy Results'!$C$2-L$2+L$5)/((L$4*L$2)-L$5)*G301*-1))))","v":-25.30853271484375},-33.586640024908291,null,null,0,-54.219089910974226,{"$f":"AVERAGE(D$79:D301)","v":0},{"$f":"AVERAGE(M$79:M301)","v":232.34925869652818},-18.644902043525651,{"$f":"AVERAGE(P$79:P301)","v":109.45745010679565},null,null,null,null,40679.343078703292,{"$f":"LOOKUP($V301,Data!$A$6:$A$1806,Data!$B$6:$B$1806)","v":60.003875732421875},{"$f":"LOOKUP($V301,Data!$A$6:$A$1806,Data!$C$6:$C$1806)","v":0},{"$f":"LOOKUP($V301,Data!$A$6:$A$1806,Data!$D$6:$D$1806)","v":0},{"$f":"IF($Z$1=\"+\",LOOKUP($V301,Data!$A$6:$A$1806,Data!$E$6:$E$1806)*-1,LOOKUP($V301,Data!$A$6:$A$1806,Data!$E$6:$E$1806))","v":0},{"$f":"LOOKUP($V301,Data!$A$6:$A$1806,Data!$F$6:$F$1806)","v":0},null,{"$f":"LOOKUP($V301,Data!$A$6:$A$1806,Data!$H$6:$H$1806)","v":0},{"$f":"LOOKUP($V301,Data!$A$6:$A$1806,Data!$I$6:$I$1806)","v":0},{"$f":"IF(LOOKUP($V301,Data!$A$6:$A$1806,Data!$J$6:$J$1806)>0,(LOOKUP($V301,Data!$A$6:$A$1806,Data!$J$6:$J$1806)*-1),LOOKUP($V301,Data!$A$6:$A$1806,Data!$J$6:$J$1806))","v":-653},{"$f":"LOOKUP($V301,Data!$A$6:$A$1806,Data!$K$6:$K$1806)","v":30354.365234375},-25.30853271484375,null,null,null,null,null,null,null,null,null,null,null,null,null,null,null," ",3.875732421875E-3," "]
[null,{"$f":"B301+TIME(0,0,$B$1)","v":40679.343101851438},{"$f":"LOOKUP(B302,Data!$A$6:$A$1806,Data!B$6:B$1806)","v":60.002593994140625},{"$f":"LOOKUP(B302,Data!$A$6:$A$1806,Data!C$6:C$1806)","v":0},null,null,19590,{"$f":"(IF((C302-L$2)>0,(IF(C302<'Copy Results'!$C$3,((C302-L$2-L$5)/((L$4*L$2)-L$5)*G302*-1),(('Copy Results'!$C$3-L$2-L$5)/((L$4*L$2)-L$5)*G302*-1))),IF(C302>'Copy Results'!$C$2,((C302-L$2+L$5)/((L$4*L$2)-L$5)*G302*-1),(('Copy Results'!$C$2-L$2+L$5)/((L$4*L$2)-L$5)*G302*-1))))","v":-16.93878173828125},-27.759889624588826,null,null,0,-48.392339510654764,{"$f":"AVERAGE(D$79:D302)","v":0},{"$f":"AVERAGE(M$79:M302)","v":231.09594799024612},-18.644902043525651,{"$f":"AVERAGE(P$79:P302)","v":108.88300009715296},null,null,null,null,40679.343101851438,{"$f":"LOOKUP($V302,Data!$A$6:$A$1806,Data!$B$6:$B$1806)","v":60.002593994140625},{"$f":"LOOKUP($V302,Data!$A$6:$A$1806,Data!$C$6:$C$1806)","v":0},{"$f":"LOOKUP($V302,Data!$A$6:$A$1806,Data!$D$6:$D$1806)","v":0},{"$f":"IF($Z$1=\"+\",LOOKUP($V302,Data!$A$6:$A$1806,Data!$E$6:$E$1806)*-1,LOOKUP($V302,Data!$A$6:$A$1806,Data!$E$6:$E$1806))","v":0},{"$f":"LOOKUP($V302,Data!$A$6:$A$1806,Data!$F$6:$F$1806)","v":0},null,{"$f":"LOOKUP($V302,Data!$A$6:$A$1806,Data!$H$6:$H$1806)","v":0},{"$f":"LOOKUP($V302,Data!$A$6:$A$1806,Data!$I$6:$I$1806)","v":0},{"$f":"IF(LOOKUP($V302,Data!$A$6:$A$1806,Data!$J$6:$J$1806)>0,(LOOKUP($V302,Data!$A$6:$A$1806,Data!$J$6:$J$1806)*-1),LOOKUP($V302,Data!$A$6:$A$1806,Data!$J$6:$J$1806))","v":-653},{"$f":"LOOKUP($V302,Data!$A$6:$A$1806,Data!$K$6:$K$1806)","v":30373.306640625},-16.93878173828125,null,null,null,null,null,null,null,null,null,null,null,null,null,null,null," ",2.593994140625E-3," "]
[null,40679.343124999585,{"$f":"LOOKUP(B303,Data!$A$6:$A$1806,Data!B$6:B$1806)","v":60.00128173828125},{"$f":"LOOKUP(B303,Data!$A$6:$A$1806,Data!C$6:C$1806)","v":0},null,null,19590,{"$f":"(IF((C303-L$2)>0,(IF(C303<'Copy Results'!$C$3,((C303-L$2-L$5)/((L$4*L$2)-L$5)*G303*-1),(('Copy Results'!$C$3-L$2-L$5)/((L$4*L$2)-L$5)*G303*-1))),IF(C303>'Copy Results'!$C$2,((C303-L$2+L$5)/((L$4*L$2)-L$5)*G303*-1),(('Copy Results'!$C$2-L$2+L$5)/((L$4*L$2)-L$5)*G303*-1))))","v":-8.3697509765625},-20.973341097779613,null,null,0,-41.605790983845552,{"$f":"AVERAGE(D$79:D303)","v":0},{"$f":"AVERAGE(M$79:M303)","v":229.88394026147236},-18.644902043525651,{"$f":"AVERAGE(P$79:P303)","v":108.3136791054535},null,null,null,null,40679.343124999585,{"$f":"LOOKUP($V303,Data!$A$6:$A$1806,Data!$B$6:$B$1806)","v":60.00128173828125},{"$f":"LOOKUP($V303,Data!$A$6:$A$1806,Data!$C$6:$C$1806)","v":0},{"$f":"LOOKUP($V303,Data!$A$6:$A$1806,Data!$D$6:$D$1806)","v":0},{"$f":"IF($Z$1=\"+\",LOOKUP($V303,Data!$A$6:$A$1806,Data!$E$6:$E$1806)*-1,LOOKUP($V303,Data!$A$6:$A$1806,Data!$E$6:$E$1806))","v":0},{"$f":"LOOKUP($V303,Data!$A$6:$A$1806,Data!$F$6:$F$1806)","v":0},null,{"$f":"LOOKUP($V303,Data!$A$6:$A$1806,Data!$H$6:$H$1806)","v":0},{"$f":"LOOKUP($V303,Data!$A$6:$A$1806,Data!$I$6:$I$1806)","v":0},{"$f":"IF(LOOKUP($V303,Data!$A$6:$A$1806,Data!$J$6:$J$1806)>0,(LOOKUP($V303,Data!$A$6:$A$1806,Data!$J$6:$J$1806)*-1),LOOKUP($V303,Data!$A$6:$A$1806,Data!$J$6:$J$1806))","v":-653},{"$f":"LOOKUP($V303,Data!$A$6:$A$1806,Data!$K$6:$K$1806)","v":30373.306640625},-8.3697509765625,null,null,null,null,null,null,null,null,null,null,null,null,null,null,null," ",1.28173828125E-3," "]
[null,40679.343148147731,{"$f":"LOOKUP(B304,Data!$A$6:$A$1806,Data!B$6:B$1806)","v":60.00128173828125},{"$f":"LOOKUP(B304,Data!$A$6:$A$1806,Data!C$6:C$1806)","v":0},null,null,19590,{"$f":"(IF((C304-L$2)>0,(IF(C304<'Copy Results'!$C$3,((C304-L$2-L$5)/((L$4*L$2)-L$5)*G304*-1),(('Copy Results'!$C$3-L$2-L$5)/((L$4*L$2)-L$5)*G304*-1))),IF(C304>'Copy Results'!$C$2,((C304-L$2+L$5)/((L$4*L$2)-L$5)*G304*-1),(('Copy Results'!$C$2-L$2+L$5)/((L$4*L$2)-L$5)*G304*-1))))","v":-8.3697509765625},-16.562084555353625,null,null,0,-37.194534441419563,{"$f":"AVERAGE(D$79:D304)","v":0},{"$f":"AVERAGE(M$79:M304)","v":228.70217709907018},-18.644902043525651,{"$f":"AVERAGE(P$79:P304)","v":107.74941874479137},null,null,null,null,40679.343148147731,{"$f":"LOOKUP($V304,Data!$A$6:$A$1806,Data!$B$6:$B$1806)","v":60.00128173828125},{"$f":"LOOKUP($V304,Data!$A$6:$A$1806,Data!$C$6:$C$1806)","v":0},{"$f":"LOOKUP($V304,Data!$A$6:$A$1806,Data!$D$6:$D$1806)","v":0},{"$f":"IF($Z$1=\"+\",LOOKUP($V304,Data!$A$6:$A$1806,Data!$E$6:$E$1806)*-1,LOOKUP($V304,Data!$A$6:$A$1806,Data!$E$6:$E$1806))","v":0},{"$f":"LOOKUP($V304,Data!$A$6:$A$1806,Data!$F$6:$F$1806)","v":0},null,{"$f":"LOOKUP($V304,Data!$A$6:$A$1806,Data!$H$6:$H$1806)","v":0},{"$f":"LOOKUP($V304,Data!$A$6:$A$1806,Data!$I$6:$I$1806)","v":0},{"$f":"IF(LOOKUP($V304,Data!$A$6:$A$1806,Data!$J$6:$J$1806)>0,(LOOKUP($V304,Data!$A$6:$A$1806,Data!$J$6:$J$1806)*-1),LOOKUP($V304,Data!$A$6:$A$1806,Data!$J$6:$J$1806))","v":-653},{"$f":"LOOKUP($V304,Data!$A$6:$A$1806,Data!$K$6:$K$1806)","v":30373.779296875},-8.3697509765625,null,null,null,null,null,null,null,null,null,null,null,null,null,null,null," ",1.28173828125E-3," "]
[null,40679.343171295877,{"$f":"LOOKUP(B305,Data!$A$6:$A$1806,Data!B$6:B$1806)","v":60.000640869140625},{"$f":"LOOKUP(B305,Data!$A$6:$A$1806,Data!C$6:C$1806)","v":0},null,null,19590,{"$f":"(IF((C305-L$2)>0,(IF(C305<'Copy Results'!$C$3,((C305-L$2-L$5)/((L$4*L$2)-L$5)*G305*-1),(('Copy Results'!$C$3-L$2-L$5)/((L$4*L$2)-L$5)*G305*-1))),IF(C305>'Copy Results'!$C$2,((C305-L$2+L$5)/((L$4*L$2)-L$5)*G305*-1),(('Copy Results'!$C$2-L$2+L$5)/((L$4*L$2)-L$5)*G305*-1))))","v":-4.18487548828125},-12.230061381878294,null,null,0,-32.862511267944228,{"$f":"AVERAGE(D$79:D305)","v":0},{"$f":"AVERAGE(M$79:M305)","v":227.54990974943578},-18.644902043525651,{"$f":"AVERAGE(P$79:P305)","v":107.19015183864839},null,null,null,null,40679.343171295877,{"$f":"LOOKUP($V305,Data!$A$6:$A$1806,Data!$B$6:$B$1806)","v":60.000640869140625},{"$f":"LOOKUP($V305,Data!$A$6:$A$1806,Data!$C$6:$C$1806)","v":0},{"$f":"LOOKUP($V305,Data!$A$6:$A$1806,Data!$D$6:$D$1806)","v":0},{"$f":"IF($Z$1=\"+\",LOOKUP($V305,Data!$A$6:$A$1806,Data!$E$6:$E$1806)*-1,LOOKUP($V305,Data!$A$6:$A$1806,Data!$E$6:$E$1806))","v":0},{"$f":"LOOKUP($V305,Data!$A$6:$A$1806,Data!$F$6:$F$1806)","v":0},null,{"$f":"LOOKUP($V305,Data!$A$6:$A$1806,Data!$H$6:$H$1806)","v":0},{"$f":"LOOKUP($V305,Data!$A$6:$A$1806,Data!$I$6:$I$1806)","v":0},{"$f":"IF(LOOKUP($V305,Data!$A$6:$A$1806,Data!$J$6:$J$1806)>0,(LOOKUP($V305,Data!$A$6:$A$1806,Data!$J$6:$J$1806)*-1),LOOKUP($V305,Data!$A$6:$A$1806,Data!$J$6:$J$1806))","v":-653},{"$f":"LOOKUP($V305,Data!$A$6:$A$1806,Data!$K$6:$K$1806)","v":30373.779296875},-4.18487548828125,null,null,null,null,null,null,null,null,null,null,null,null,null,null,null," ",6.40869140625E-4," "]
[null,40679.343194444024,{"$f":"LOOKUP(B306,Data!$A$6:$A$1806,Data!B$6:B$1806)","v":60.000335693359375},{"$f":"LOOKUP(B306,Data!$A$6:$A$1806,Data!C$6:C$1806)","v":0},null,null,19590,{"$f":"(IF((C306-L$2)>0,(IF(C306<'Copy Results'!$C$3,((C306-L$2-L$5)/((L$4*L$2)-L$5)*G306*-1),(('Copy Results'!$C$3-L$2-L$5)/((L$4*L$2)-L$5)*G306*-1))),IF(C306>'Copy Results'!$C$2,((C306-L$2+L$5)/((L$4*L$2)-L$5)*G306*-1),(('Copy Results'!$C$2-L$2+L$5)/((L$4*L$2)-L$5)*G306*-1))))","v":-2.19207763671875},-8.7167670710724536,null,null,0,-29.349216957138388,{"$f":"AVERAGE(D$79:D306)","v":0},{"$f":"AVERAGE(M$79:M306)","v":226.42315919370517},-18.644902043525651,{"$f":"AVERAGE(P$79:P306)","v":106.63581239423353},null,null,null,null,40679.343194444024,{"$f":"LOOKUP($V306,Data!$A$6:$A$1806,Data!$B$6:$B$1806)","v":60.000335693359375},{"$f":"LOOKUP($V306,Data!$A$6:$A$1806,Data!$C$6:$C$1806)","v":0},{"$f":"LOOKUP($V306,Data!$A$6:$A$1806,Data!$D$6:$D$1806)","v":0},{"$f":"IF($Z$1=\"+\",LOOKUP($V306,Data!$A$6:$A$1806,Data!$E$6:$E$1806)*-1,LOOKUP($V306,Data!$A$6:$A$1806,Data!$E$6:$E$1806))","v":0},{"$f":"LOOKUP($V306,Data!$A$6:$A$1806,Data!$F$6:$F$1806)","v":0},null,{"$f":"LOOKUP($V306,Data!$A$6:$A$1806,Data!$H$6:$H$1806)","v":0},{"$f":"LOOKUP($V306,Data!$A$6:$A$1806,Data!$I$6:$I$1806)","v":0},{"$f":"IF(LOOKUP($V306,Data!$A$6:$A$1806,Data!$J$6:$J$1806)>0,(LOOKUP($V306,Data!$A$6:$A$1806,Data!$J$6:$J$1806)*-1),LOOKUP($V306,Data!$A$6:$A$1806,Data!$J$6:$J$1806))","v":-653},{"$f":"LOOKUP($V306,Data!$A$6:$A$1806,Data!$K$6:$K$1806)","v":30373.779296875},-2.19207763671875,null,null,null,null,null,null,null,null,null,null,null,null,null,null,null," ",3.35693359375E-4," "]
[null,40679.34321759217,{"$f":"LOOKUP(B307,Data!$A$6:$A$1806,Data!B$6:B$1806)","v":60.00225830078125},{"$f":"LOOKUP(B307,Data!$A$6:$A$1806,Data!C$6:C$1806)","v":0},null,null,19590,{"$f":"(IF((C307-L$2)>0,(IF(C307<'Copy Results'!$C$3,((C307-L$2-L$5)/((L$4*L$2)-L$5)*G307*-1),(('Copy Results'!$C$3-L$2-L$5)/((L$4*L$2)-L$5)*G307*-1))),IF(C307>'Copy Results'!$C$2,((C307-L$2+L$5)/((L$4*L$2)-L$5)*G307*-1),(('Copy Results'!$C$2-L$2+L$5)/((L$4*L$2)-L$5)*G307*-1))))","v":-14.7467041015625},-10.827245031743971,null,null,0,-31.459694917809905,{"$f":"AVERAGE(D$79:D307)","v":0},{"$f":"AVERAGE(M$79:M307)","v":225.29703319321823},-18.644902043525651,{"$f":"AVERAGE(P$79:P307)","v":106.08633557652406},null,null,null,null,40679.34321759217,{"$f":"LOOKUP($V307,Data!$A$6:$A$1806,Data!$B$6:$B$1806)","v":60.00225830078125},{"$f":"LOOKUP($V307,Data!$A$6:$A$1806,Data!$C$6:$C$1806)","v":0},{"$f":"LOOKUP($V307,Data!$A$6:$A$1806,Data!$D$6:$D$1806)","v":0},{"$f":"IF($Z$1=\"+\",LOOKUP($V307,Data!$A$6:$A$1806,Data!$E$6:$E$1806)*-1,LOOKUP($V307,Data!$A$6:$A$1806,Data!$E$6:$E$1806))","v":0},{"$f":"LOOKUP($V307,Data!$A$6:$A$1806,Data!$F$6:$F$1806)","v":0},null,{"$f":"LOOKUP($V307,Data!$A$6:$A$1806,Data!$H$6:$H$1806)","v":0},{"$f":"LOOKUP($V307,Data!$A$6:$A$1806,Data!$I$6:$I$1806)","v":0},{"$f":"IF(LOOKUP($V307,Data!$A$6:$A$1806,Data!$J$6:$J$1806)>0,(LOOKUP($V307,Data!$A$6:$A$1806,Data!$J$6:$J$1806)*-1),LOOKUP($V307,Data!$A$6:$A$1806,Data!$J$6:$J$1806))","v":-653},{"$f":"LOOKUP($V307,Data!$A$6:$A$1806,Data!$K$6:$K$1806)","v":30373.779296875},-14.7467041015625,null,null,null,null,null,null,null,null,null,null,null,null,null,null,null," ",2.25830078125E-3," "]
[null,40679.343240740316,{"$f":"LOOKUP(B308,Data!$A$6:$A$1806,Data!B$6:B$1806)","v":60.00421142578125},{"$f":"LOOKUP(B308,Data!$A$6:$A$1806,Data!C$6:C$1806)","v":0},null,null,19590,{"$f":"(IF((C308-L$2)>0,(IF(C308<'Copy Results'!$C$3,((C308-L$2-L$5)/((L$4*L$2)-L$5)*G308*-1),(('Copy Results'!$C$3-L$2-L$5)/((L$4*L$2)-L$5)*G308*-1))),IF(C308>'Copy Results'!$C$2,((C308-L$2+L$5)/((L$4*L$2)-L$5)*G308*-1),(('Copy Results'!$C$2-L$2+L$5)/((L$4*L$2)-L$5)*G308*-1))))","v":-27.5006103515625},-16.662922893680456,null,null,0,-37.295372779746387,{"$f":"AVERAGE(D$79:D308)","v":0},{"$f":"AVERAGE(M$79:M308)","v":224.1553270802923},-18.644902043525651,{"$f":"AVERAGE(P$79:P308)","v":105.54165768298672},null,null,null,null,40679.343240740316,{"$f":"LOOKUP($V308,Data!$A$6:$A$1806,Data!$B$6:$B$1806)","v":60.00421142578125},{"$f":"LOOKUP($V308,Data!$A$6:$A$1806,Data!$C$6:$C$1806)","v":0},{"$f":"LOOKUP($V308,Data!$A$6:$A$1806,Data!$D$6:$D$1806)","v":0},{"$f":"IF($Z$1=\"+\",LOOKUP($V308,Data!$A$6:$A$1806,Data!$E$6:$E$1806)*-1,LOOKUP($V308,Data!$A$6:$A$1806,Data!$E$6:$E$1806))","v":0},{"$f":"LOOKUP($V308,Data!$A$6:$A$1806,Data!$F$6:$F$1806)","v":0},null,{"$f":"LOOKUP($V308,Data!$A$6:$A$1806,Data!$H$6:$H$1806)","v":0},{"$f":"LOOKUP($V308,Data!$A$6:$A$1806,Data!$I$6:$I$1806)","v":0},{"$f":"IF(LOOKUP($V308,Data!$A$6:$A$1806,Data!$J$6:$J$1806)>0,(LOOKUP($V308,Data!$A$6:$A$1806,Data!$J$6:$J$1806)*-1),LOOKUP($V308,Data!$A$6:$A$1806,Data!$J$6:$J$1806))","v":-653},{"$f":"LOOKUP($V308,Data!$A$6:$A$1806,Data!$K$6:$K$1806)","v":30366.333984375},-27.5006103515625,null,null,null,null,null,null,null,null,null,null,null,null,null,null,null," ",4.21142578125E-3," "]
[null,40679.343263888462,{"$f":"LOOKUP(B309,Data!$A$6:$A$1806,Data!B$6:B$1806)","v":60.00677490234375},{"$f":"LOOKUP(B309,Data!$A$6:$A$1806,Data!C$6:C$1806)","v":0},null,null,19590,{"$f":"(IF((C309-L$2)>0,(IF(C309<'Copy Results'!$C$3,((C309-L$2-L$5)/((L$4*L$2)-L$5)*G309*-1),(('Copy Results'!$C$3-L$2-L$5)/((L$4*L$2)-L$5)*G309*-1))),IF(C309>'Copy Results'!$C$2,((C309-L$2+L$5)/((L$4*L$2)-L$5)*G309*-1),(('Copy Results'!$C$2-L$2+L$5)/((L$4*L$2)-L$5)*G309*-1))))","v":-44.2401123046875},-26.314939187532921,null,null,0,-46.947389073598856,{"$f":"AVERAGE(D$79:D309)","v":0},{"$f":"AVERAGE(M$79:M309)","v":222.98172224845729},-18.644902043525651,{"$f":"AVERAGE(P$79:P309)","v":105.00171611895841},null,null,null,null,40679.343263888462,{"$f":"LOOKUP($V309,Data!$A$6:$A$1806,Data!$B$6:$B$1806)","v":60.00677490234375},{"$f":"LOOKUP($V309,Data!$A$6:$A$1806,Data!$C$6:$C$1806)","v":0},{"$f":"LOOKUP($V309,Data!$A$6:$A$1806,Data!$D$6:$D$1806)","v":0},{"$f":"IF($Z$1=\"+\",LOOKUP($V309,Data!$A$6:$A$1806,Data!$E$6:$E$1806)*-1,LOOKUP($V309,Data!$A$6:$A$1806,Data!$E$6:$E$1806))","v":0},{"$f":"LOOKUP($V309,Data!$A$6:$A$1806,Data!$F$6:$F$1806)","v":0},null,{"$f":"LOOKUP($V309,Data!$A$6:$A$1806,Data!$H$6:$H$1806)","v":0},{"$f":"LOOKUP($V309,Data!$A$6:$A$1806,Data!$I$6:$I$1806)","v":0},{"$f":"IF(LOOKUP($V309,Data!$A$6:$A$1806,Data!$J$6:$J$1806)>0,(LOOKUP($V309,Data!$A$6:$A$1806,Data!$J$6:$J$1806)*-1),LOOKUP($V309,Data!$A$6:$A$1806,Data!$J$6:$J$1806))","v":-653},{"$f":"LOOKUP($V309,Data!$A$6:$A$1806,Data!$K$6:$K$1806)","v":30366.333984375},-44.2401123046875,null,null,null,null,null,null,null,null,null,null,null,null,null,null,null," ",6.77490234375E-3," "]
[null,40679.343287036609,{"$f":"LOOKUP(B310,Data!$A$6:$A$1806,Data!B$6:B$1806)","v":60.009033203125},{"$f":"LOOKUP(B310,Data!$A$6:$A$1806,Data!C$6:C$1806)","v":0},null,null,19590,{"$f":"(IF((C310-L$2)>0,(IF(C310<'Copy Results'!$C$3,((C310-L$2-L$5)/((L$4*L$2)-L$5)*G310*-1),(('Copy Results'!$C$3-L$2-L$5)/((L$4*L$2)-L$5)*G310*-1))),IF(C310>'Copy Results'!$C$2,((C310-L$2+L$5)/((L$4*L$2)-L$5)*G310*-1),(('Copy Results'!$C$2-L$2+L$5)/((L$4*L$2)-L$5)*G310*-1))))","v":-58.98681640625},-37.750096214083896,null,null,0,-58.382546100149831,{"$f":"AVERAGE(D$79:D310)","v":0},{"$f":"AVERAGE(M$79:M310)","v":221.7689452297133},-18.644902043525651,{"$f":"AVERAGE(P$79:P310)","v":104.46644937366628},null,null,null,null,40679.343287036609,{"$f":"LOOKUP($V310,Data!$A$6:$A$1806,Data!$B$6:$B$1806)","v":60.009033203125},{"$f":"LOOKUP($V310,Data!$A$6:$A$1806,Data!$C$6:$C$1806)","v":0},{"$f":"LOOKUP($V310,Data!$A$6:$A$1806,Data!$D$6:$D$1806)","v":0},{"$f":"IF($Z$1=\"+\",LOOKUP($V310,Data!$A$6:$A$1806,Data!$E$6:$E$1806)*-1,LOOKUP($V310,Data!$A$6:$A$1806,Data!$E$6:$E$1806))","v":0},{"$f":"LOOKUP($V310,Data!$A$6:$A$1806,Data!$F$6:$F$1806)","v":0},null,{"$f":"LOOKUP($V310,Data!$A$6:$A$1806,Data!$H$6:$H$1806)","v":0},{"$f":"LOOKUP($V310,Data!$A$6:$A$1806,Data!$I$6:$I$1806)","v":0},{"$f":"IF(LOOKUP($V310,Data!$A$6:$A$1806,Data!$J$6:$J$1806)>0,(LOOKUP($V310,Data!$A$6:$A$1806,Data!$J$6:$J$1806)*-1),LOOKUP($V310,Data!$A$6:$A$1806,Data!$J$6:$J$1806))","v":-653},{"$f":"LOOKUP($V310,Data!$A$6:$A$1806,Data!$K$6:$K$1806)","v":30366.333984375},-58.98681640625,null,null,null,null,null,null,null,null,null,null,null,null,null,null,null," ",9.033203125E-3," "]
[null,40679.343310184755,{"$f":"LOOKUP(B311,Data!$A$6:$A$1806,Data!B$6:B$1806)","v":60.012908935546875},{"$f":"LOOKUP(B311,Data!$A$6:$A$1806,Data!C$6:C$1806)","v":0},null,null,19590,{"$f":"(IF((C311-L$2)>0,(IF(C311<'Copy Results'!$C$3,((C311-L$2-L$5)/((L$4*L$2)-L$5)*G311*-1),(('Copy Results'!$C$3-L$2-L$5)/((L$4*L$2)-L$5)*G311*-1))),IF(C311>'Copy Results'!$C$2,((C311-L$2+L$5)/((L$4*L$2)-L$5)*G311*-1),(('Copy Results'!$C$2-L$2+L$5)/((L$4*L$2)-L$5)*G311*-1))))","v":-84.29534912109375},-54.040934731537341,null,null,0,-74.673384617603276,{"$f":"AVERAGE(D$79:D311)","v":0},{"$f":"AVERAGE(M$79:M311)","v":220.496660552257},-18.644902043525651,{"$f":"AVERAGE(P$79:P311)","v":103.93579699686805},null,null,null,null,40679.343310184755,{"$f":"LOOKUP($V311,Data!$A$6:$A$1806,Data!$B$6:$B$1806)","v":60.012908935546875},{"$f":"LOOKUP($V311,Data!$A$6:$A$1806,Data!$C$6:$C$1806)","v":0},{"$f":"LOOKUP($V311,Data!$A$6:$A$1806,Data!$D$6:$D$1806)","v":0},{"$f":"IF($Z$1=\"+\",LOOKUP($V311,Data!$A$6:$A$1806,Data!$E$6:$E$1806)*-1,LOOKUP($V311,Data!$A$6:$A$1806,Data!$E$6:$E$1806))","v":0},{"$f":"LOOKUP($V311,Data!$A$6:$A$1806,Data!$F$6:$F$1806)","v":0},null,{"$f":"LOOKUP($V311,Data!$A$6:$A$1806,Data!$H$6:$H$1806)","v":0},{"$f":"LOOKUP($V311,Data!$A$6:$A$1806,Data!$I$6:$I$1806)","v":0},{"$f":"IF(LOOKUP($V311,Data!$A$6:$A$1806,Data!$J$6:$J$1806)>0,(LOOKUP($V311,Data!$A$6:$A$1806,Data!$J$6:$J$1806)*-1),LOOKUP($V311,Data!$A$6:$A$1806,Data!$J$6:$J$1806))","v":-653},{"$f":"LOOKUP($V311,Data!$A$6:$A$1806,Data!$K$6:$K$1806)","v":30366.333984375},-84.29534912109375,null,null,null,null,null,null,null,null,null,null,null,null,null,null,null," ",1.2908935546875E-2," "]
[null,40679.343333332901,{"$f":"LOOKUP(B312,Data!$A$6:$A$1806,Data!B$6:B$1806)","v":60.014862060546875},{"$f":"LOOKUP(B312,Data!$A$6:$A$1806,Data!C$6:C$1806)","v":0},null,null,19590,{"$f":"(IF((C312-L$2)>0,(IF(C312<'Copy Results'!$C$3,((C312-L$2-L$5)/((L$4*L$2)-L$5)*G312*-1),(('Copy Results'!$C$3-L$2-L$5)/((L$4*L$2)-L$5)*G312*-1))),IF(C312>'Copy Results'!$C$2,((C312-L$2+L$5)/((L$4*L$2)-L$5)*G312*-1),(('Copy Results'!$C$2-L$2+L$5)/((L$4*L$2)-L$5)*G312*-1))))","v":-97.04925537109375},-69.093846955382077,null,null,0,-89.726296841448004,{"$f":"AVERAGE(D$79:D312)","v":0},{"$f":"AVERAGE(M$79:M312)","v":219.17092141809584},-18.644902043525651,{"$f":"AVERAGE(P$79:P312)","v":103.40969957609383},null,null,null,null,40679.343333332901,{"$f":"LOOKUP($V312,Data!$A$6:$A$1806,Data!$B$6:$B$1806)","v":60.014862060546875},{"$f":"LOOKUP($V312,Data!$A$6:$A$1806,Data!$C$6:$C$1806)","v":0},{"$f":"LOOKUP($V312,Data!$A$6:$A$1806,Data!$D$6:$D$1806)","v":0},{"$f":"IF($Z$1=\"+\",LOOKUP($V312,Data!$A$6:$A$1806,Data!$E$6:$E$1806)*-1,LOOKUP($V312,Data!$A$6:$A$1806,Data!$E$6:$E$1806))","v":0},{"$f":"LOOKUP($V312,Data!$A$6:$A$1806,Data!$F$6:$F$1806)","v":0},null,{"$f":"LOOKUP($V312,Data!$A$6:$A$1806,Data!$H$6:$H$1806)","v":0},{"$f":"LOOKUP($V312,Data!$A$6:$A$1806,Data!$I$6:$I$1806)","v":0},{"$f":"IF(LOOKUP($V312,Data!$A$6:$A$1806,Data!$J$6:$J$1806)>0,(LOOKUP($V312,Data!$A$6:$A$1806,Data!$J$6:$J$1806)*-1),LOOKUP($V312,Data!$A$6:$A$1806,Data!$J$6:$J$1806))","v":-653},{"$f":"LOOKUP($V312,Data!$A$6:$A$1806,Data!$K$6:$K$1806)","v":30373.845703125},-97.04925537109375,null,null,null,null,null,null,null,null,null,null,null,null,null,null,null," ",1.4862060546875E-2," "]
[null,40679.343356481048,{"$f":"LOOKUP(B313,Data!$A$6:$A$1806,Data!B$6:B$1806)","v":60.0145263671875},{"$f":"LOOKUP(B313,Data!$A$6:$A$1806,Data!C$6:C$1806)","v":0},null,null,19590,{"$f":"(IF((C313-L$2)>0,(IF(C313<'Copy Results'!$C$3,((C313-L$2-L$5)/((L$4*L$2)-L$5)*G313*-1),(('Copy Results'!$C$3-L$2-L$5)/((L$4*L$2)-L$5)*G313*-1))),IF(C313>'Copy Results'!$C$2,((C313-L$2+L$5)/((L$4*L$2)-L$5)*G313*-1),(('Copy Results'!$C$2-L$2+L$5)/((L$4*L$2)-L$5)*G313*-1))))","v":-94.857177734375},-78.111012728029607,null,null,0,-98.743462614095534,{"$f":"AVERAGE(D$79:D313)","v":0},{"$f":"AVERAGE(M$79:M313)","v":217.8180942520014},-18.644902043525651,{"$f":"AVERAGE(P$79:P313)","v":102.88809871447152},null,null,null,null,40679.343356481048,{"$f":"LOOKUP($V313,Data!$A$6:$A$1806,Data!$B$6:$B$1806)","v":60.0145263671875},{"$f":"LOOKUP($V313,Data!$A$6:$A$1806,Data!$C$6:$C$1806)","v":0},{"$f":"LOOKUP($V313,Data!$A$6:$A$1806,Data!$D$6:$D$1806)","v":0},{"$f":"IF($Z$1=\"+\",LOOKUP($V313,Data!$A$6:$A$1806,Data!$E$6:$E$1806)*-1,LOOKUP($V313,Data!$A$6:$A$1806,Data!$E$6:$E$1806))","v":0},{"$f":"LOOKUP($V313,Data!$A$6:$A$1806,Data!$F$6:$F$1806)","v":0},null,{"$f":"LOOKUP($V313,Data!$A$6:$A$1806,Data!$H$6:$H$1806)","v":0},{"$f":"LOOKUP($V313,Data!$A$6:$A$1806,Data!$I$6:$I$1806)","v":0},{"$f":"IF(LOOKUP($V313,Data!$A$6:$A$1806,Data!$J$6:$J$1806)>0,(LOOKUP($V313,Data!$A$6:$A$1806,Data!$J$6:$J$1806)*-1),LOOKUP($V313,Data!$A$6:$A$1806,Data!$J$6:$J$1806))","v":-653},{"$f":"LOOKUP($V313,Data!$A$6:$A$1806,Data!$K$6:$K$1806)","v":30373.845703125},-94.857177734375,null,null,null,null,null,null,null,null,null,null,null,null,null,null,null," ",1.45263671875E-2," "]
[null,40679.343379629194,{"$f":"LOOKUP(B314,Data!$A$6:$A$1806,Data!B$6:B$1806)","v":60.01422119140625},{"$f":"LOOKUP(B314,Data!$A$6:$A$1806,Data!C$6:C$1806)","v":0},null,null,19590,{"$f":"(IF((C314-L$2)>0,(IF(C314<'Copy Results'!$C$3,((C314-L$2-L$5)/((L$4*L$2)-L$5)*G314*-1),(('Copy Results'!$C$3-L$2-L$5)/((L$4*L$2)-L$5)*G314*-1))),IF(C314>'Copy Results'!$C$2,((C314-L$2+L$5)/((L$4*L$2)-L$5)*G314*-1),(('Copy Results'!$C$2-L$2+L$5)/((L$4*L$2)-L$5)*G314*-1))))","v":-92.8643798828125},-83.274691232203622,null,null,0,-103.90714111826955,{"$f":"AVERAGE(D$79:D314)","v":0},{"$f":"AVERAGE(M$79:M314)","v":216.45485172924603},-18.644902043525651,{"$f":"AVERAGE(P$79:P314)","v":102.37093700911835},null,null,null,null,40679.343379629194,{"$f":"LOOKUP($V314,Data!$A$6:$A$1806,Data!$B$6:$B$1806)","v":60.01422119140625},{"$f":"LOOKUP($V314,Data!$A$6:$A$1806,Data!$C$6:$C$1806)","v":0},{"$f":"LOOKUP($V314,Data!$A$6:$A$1806,Data!$D$6:$D$1806)","v":0},{"$f":"IF($Z$1=\"+\",LOOKUP($V314,Data!$A$6:$A$1806,Data!$E$6:$E$1806)*-1,LOOKUP($V314,Data!$A$6:$A$1806,Data!$E$6:$E$1806))","v":0},{"$f":"LOOKUP($V314,Data!$A$6:$A$1806,Data!$F$6:$F$1806)","v":0},null,{"$f":"LOOKUP($V314,Data!$A$6:$A$1806,Data!$H$6:$H$1806)","v":0},{"$f":"LOOKUP($V314,Data!$A$6:$A$1806,Data!$I$6:$I$1806)","v":0},{"$f":"IF(LOOKUP($V314,Data!$A$6:$A$1806,Data!$J$6:$J$1806)>0,(LOOKUP($V314,Data!$A$6:$A$1806,Data!$J$6:$J$1806)*-1),LOOKUP($V314,Data!$A$6:$A$1806,Data!$J$6:$J$1806))","v":-653},{"$f":"LOOKUP($V314,Data!$A$6:$A$1806,Data!$K$6:$K$1806)","v":30373.046875},-92.8643798828125,null,null,null,null,null,null,null,null,null,null,null,null,null,null,null," ",1.422119140625E-2," "]
[null,40679.34340277734,{"$f":"LOOKUP(B315,Data!$A$6:$A$1806,Data!B$6:B$1806)","v":60.01519775390625},{"$f":"LOOKUP(B315,Data!$A$6:$A$1806,Data!C$6:C$1806)","v":0},null,null,19590,{"$f":"(IF((C315-L$2)>0,(IF(C315<'Copy Results'!$C$3,((C315-L$2-L$5)/((L$4*L$2)-L$5)*G315*-1),(('Copy Results'!$C$3-L$2-L$5)/((L$4*L$2)-L$5)*G315*-1))),IF(C315>'Copy Results'!$C$2,((C315-L$2+L$5)/((L$4*L$2)-L$5)*G315*-1),(('Copy Results'!$C$2-L$2+L$5)/((L$4*L$2)-L$5)*G315*-1))))","v":-99.2413330078125},-88.863015853666724,null,null,0,-109.49546573973265,{"$f":"AVERAGE(D$79:D315)","v":0},{"$f":"AVERAGE(M$79:M315)","v":215.07953393401829},-18.644902043525651,{"$f":"AVERAGE(P$79:P315)","v":101.85815803008173},null,null,null,null,40679.34340277734,{"$f":"LOOKUP($V315,Data!$A$6:$A$1806,Data!$B$6:$B$1806)","v":60.01519775390625},{"$f":"LOOKUP($V315,Data!$A$6:$A$1806,Data!$C$6:$C$1806)","v":0},{"$f":"LOOKUP($V315,Data!$A$6:$A$1806,Data!$D$6:$D$1806)","v":0},{"$f":"IF($Z$1=\"+\",LOOKUP($V315,Data!$A$6:$A$1806,Data!$E$6:$E$1806)*-1,LOOKUP($V315,Data!$A$6:$A$1806,Data!$E$6:$E$1806))","v":0},{"$f":"LOOKUP($V315,Data!$A$6:$A$1806,Data!$F$6:$F$1806)","v":0},null,{"$f":"LOOKUP($V315,Data!$A$6:$A$1806,Data!$H$6:$H$1806)","v":0},{"$f":"LOOKUP($V315,Data!$A$6:$A$1806,Data!$I$6:$I$1806)","v":0},{"$f":"IF(LOOKUP($V315,Data!$A$6:$A$1806,Data!$J$6:$J$1806)>0,(LOOKUP($V315,Data!$A$6:$A$1806,Data!$J$6:$J$1806)*-1),LOOKUP($V315,Data!$A$6:$A$1806,Data!$J$6:$J$1806))","v":-653},{"$f":"LOOKUP($V315,Data!$A$6:$A$1806,Data!$K$6:$K$1806)","v":30373.046875},-99.2413330078125,null,null,null,null,null,null,null,null,null,null,null,null,null,null,null," ",1.519775390625E-2," "]
[null,40679.343425925486,{"$f":"LOOKUP(B316,Data!$A$6:$A$1806,Data!B$6:B$1806)","v":60.016143798828125},{"$f":"LOOKUP(B316,Data!$A$6:$A$1806,Data!C$6:C$1806)","v":0},null,null,19590,{"$f":"(IF((C316-L$2)>0,(IF(C316<'Copy Results'!$C$3,((C316-L$2-L$5)/((L$4*L$2)-L$5)*G316*-1),(('Copy Results'!$C$3-L$2-L$5)/((L$4*L$2)-L$5)*G316*-1))),IF(C316>'Copy Results'!$C$2,((C316-L$2+L$5)/((L$4*L$2)-L$5)*G316*-1),(('Copy Results'!$C$2-L$2+L$5)/((L$4*L$2)-L$5)*G316*-1))))","v":-105.41900634765625},-94.657612526563057,null,null,0,-115.29006241262898,{"$f":"AVERAGE(D$79:D316)","v":0},{"$f":"AVERAGE(M$79:M316)","v":213.6914263863433},-18.644902043525651,{"$f":"AVERAGE(P$79:P316)","v":101.34970629981335},null,null,null,null,40679.343425925486,{"$f":"LOOKUP($V316,Data!$A$6:$A$1806,Data!$B$6:$B$1806)","v":60.016143798828125},{"$f":"LOOKUP($V316,Data!$A$6:$A$1806,Data!$C$6:$C$1806)","v":0},{"$f":"LOOKUP($V316,Data!$A$6:$A$1806,Data!$D$6:$D$1806)","v":0},{"$f":"IF($Z$1=\"+\",LOOKUP($V316,Data!$A$6:$A$1806,Data!$E$6:$E$1806)*-1,LOOKUP($V316,Data!$A$6:$A$1806,Data!$E$6:$E$1806))","v":0},{"$f":"LOOKUP($V316,Data!$A$6:$A$1806,Data!$F$6:$F$1806)","v":0},null,{"$f":"LOOKUP($V316,Data!$A$6:$A$1806,Data!$H$6:$H$1806)","v":0},{"$f":"LOOKUP($V316,Data!$A$6:$A$1806,Data!$I$6:$I$1806)","v":0},{"$f":"IF(LOOKUP($V316,Data!$A$6:$A$1806,Data!$J$6:$J$1806)>0,(LOOKUP($V316,Data!$A$6:$A$1806,Data!$J$6:$J$1806)*-1),LOOKUP($V316,Data!$A$6:$A$1806,Data!$J$6:$J$1806))","v":-653},{"$f":"LOOKUP($V316,Data!$A$6:$A$1806,Data!$K$6:$K$1806)","v":30373.046875},-105.41900634765625,null,null,null,null,null,null,null,null,null,null,null,null,null,null,null," ",1.6143798828125E-2," "]
[null,40679.343449073633,{"$f":"LOOKUP(B317,Data!$A$6:$A$1806,Data!B$6:B$1806)","v":60.016815185546875},{"$f":"LOOKUP(B317,Data!$A$6:$A$1806,Data!C$6:C$1806)","v":0},null,null,19590,{"$f":"(IF((C317-L$2)>0,(IF(C317<'Copy Results'!$C$3,((C317-L$2-L$5)/((L$4*L$2)-L$5)*G317*-1),(('Copy Results'!$C$3-L$2-L$5)/((L$4*L$2)-L$5)*G317*-1))),IF(C317>'Copy Results'!$C$2,((C317-L$2+L$5)/((L$4*L$2)-L$5)*G317*-1),(('Copy Results'!$C$2-L$2+L$5)/((L$4*L$2)-L$5)*G317*-1))))","v":-109.80316162109375},-99.958554709648809,null,null,0,-120.59100459571474,{"$f":"AVERAGE(D$79:D317)","v":0},{"$f":"AVERAGE(M$79:M317)","v":212.29275512700414},-18.644902043525651,{"$f":"AVERAGE(P$79:P317)","v":100.84552727316066},null,null,null,null,40679.343449073633,{"$f":"LOOKUP($V317,Data!$A$6:$A$1806,Data!$B$6:$B$1806)","v":60.016815185546875},{"$f":"LOOKUP($V317,Data!$A$6:$A$1806,Data!$C$6:$C$1806)","v":0},{"$f":"LOOKUP($V317,Data!$A$6:$A$1806,Data!$D$6:$D$1806)","v":0},{"$f":"IF($Z$1=\"+\",LOOKUP($V317,Data!$A$6:$A$1806,Data!$E$6:$E$1806)*-1,LOOKUP($V317,Data!$A$6:$A$1806,Data!$E$6:$E$1806))","v":0},{"$f":"LOOKUP($V317,Data!$A$6:$A$1806,Data!$F$6:$F$1806)","v":0},null,{"$f":"LOOKUP($V317,Data!$A$6:$A$1806,Data!$H$6:$H$1806)","v":0},{"$f":"LOOKUP($V317,Data!$A$6:$A$1806,Data!$I$6:$I$1806)","v":0},{"$f":"IF(LOOKUP($V317,Data!$A$6:$A$1806,Data!$J$6:$J$1806)>0,(LOOKUP($V317,Data!$A$6:$A$1806,Data!$J$6:$J$1806)*-1),LOOKUP($V317,Data!$A$6:$A$1806,Data!$J$6:$J$1806))","v":-653},{"$f":"LOOKUP($V317,Data!$A$6:$A$1806,Data!$K$6:$K$1806)","v":30373.046875},-109.80316162109375,null,null,null,null,null,null,null,null,null,null,null,null,null,null,null," ",1.6815185546875E-2," "]
[null,40679.343472221779,{"$f":"LOOKUP(B318,Data!$A$6:$A$1806,Data!B$6:B$1806)","v":60.0174560546875},{"$f":"LOOKUP(B318,Data!$A$6:$A$1806,Data!C$6:C$1806)","v":0},null,null,19590,{"$f":"(IF((C318-L$2)>0,(IF(C318<'Copy Results'!$C$3,((C318-L$2-L$5)/((L$4*L$2)-L$5)*G318*-1),(('Copy Results'!$C$3-L$2-L$5)/((L$4*L$2)-L$5)*G318*-1))),IF(C318>'Copy Results'!$C$2,((C318-L$2+L$5)/((L$4*L$2)-L$5)*G318*-1),(('Copy Results'!$C$2-L$2+L$5)/((L$4*L$2)-L$5)*G318*-1))))","v":-113.988037109375},-104.86887354955297,null,null,0,-125.5013234356189,{"$f":"AVERAGE(D$79:D318)","v":0},{"$f":"AVERAGE(M$79:M318)","v":210.88527979965991},-18.644902043525651,{"$f":"AVERAGE(P$79:P318)","v":100.34556731786073},null,null,null,null,40679.343472221779,{"$f":"LOOKUP($V318,Data!$A$6:$A$1806,Data!$B$6:$B$1806)","v":60.0174560546875},{"$f":"LOOKUP($V318,Data!$A$6:$A$1806,Data!$C$6:$C$1806)","v":0},{"$f":"LOOKUP($V318,Data!$A$6:$A$1806,Data!$D$6:$D$1806)","v":0},{"$f":"IF($Z$1=\"+\",LOOKUP($V318,Data!$A$6:$A$1806,Data!$E$6:$E$1806)*-1,LOOKUP($V318,Data!$A$6:$A$1806,Data!$E$6:$E$1806))","v":0},{"$f":"LOOKUP($V318,Data!$A$6:$A$1806,Data!$F$6:$F$1806)","v":0},null,{"$f":"LOOKUP($V318,Data!$A$6:$A$1806,Data!$H$6:$H$1806)","v":0},{"$f":"LOOKUP($V318,Data!$A$6:$A$1806,Data!$I$6:$I$1806)","v":0},{"$f":"IF(LOOKUP($V318,Data!$A$6:$A$1806,Data!$J$6:$J$1806)>0,(LOOKUP($V318,Data!$A$6:$A$1806,Data!$J$6:$J$1806)*-1),LOOKUP($V318,Data!$A$6:$A$1806,Data!$J$6:$J$1806))","v":-653},{"$f":"LOOKUP($V318,Data!$A$6:$A$1806,Data!$K$6:$K$1806)","v":30369.76953125},-113.988037109375,null,null,null,null,null,null,null,null,null,null,null,null,null,null,null," ",1.74560546875E-2," "]
[null,40679.343495369925,{"$f":"LOOKUP(B319,Data!$A$6:$A$1806,Data!B$6:B$1806)","v":60.017120361328125},{"$f":"LOOKUP(B319,Data!$A$6:$A$1806,Data!C$6:C$1806)","v":0},null,null,19590,{"$f":"(IF((C319-L$2)>0,(IF(C319<'Copy Results'!$C$3,((C319-L$2-L$5)/((L$4*L$2)-L$5)*G319*-1),(('Copy Results'!$C$3-L$2-L$5)/((L$4*L$2)-L$5)*G319*-1))),IF(C319>'Copy Results'!$C$2,((C319-L$2+L$5)/((L$4*L$2)-L$5)*G319*-1),(('Copy Results'!$C$2-L$2+L$5)/((L$4*L$2)-L$5)*G319*-1))))","v":-111.79595947265625},-107.29335362263912,null,null,0,-127.92580350870504,{"$f":"AVERAGE(D$79:D319)","v":0},{"$f":"AVERAGE(M$79:M319)","v":209.47942468219782},-18.644902043525651,{"$f":"AVERAGE(P$79:P319)","v":99.84977369552162},null,null,null,null,40679.343495369925,{"$f":"LOOKUP($V319,Data!$A$6:$A$1806,Data!$B$6:$B$1806)","v":60.017120361328125},{"$f":"LOOKUP($V319,Data!$A$6:$A$1806,Data!$C$6:$C$1806)","v":0},{"$f":"LOOKUP($V319,Data!$A$6:$A$1806,Data!$D$6:$D$1806)","v":0},{"$f":"IF($Z$1=\"+\",LOOKUP($V319,Data!$A$6:$A$1806,Data!$E$6:$E$1806)*-1,LOOKUP($V319,Data!$A$6:$A$1806,Data!$E$6:$E$1806))","v":0},{"$f":"LOOKUP($V319,Data!$A$6:$A$1806,Data!$F$6:$F$1806)","v":0},null,{"$f":"LOOKUP($V319,Data!$A$6:$A$1806,Data!$H$6:$H$1806)","v":0},{"$f":"LOOKUP($V319,Data!$A$6:$A$1806,Data!$I$6:$I$1806)","v":0},{"$f":"IF(LOOKUP($V319,Data!$A$6:$A$1806,Data!$J$6:$J$1806)>0,(LOOKUP($V319,Data!$A$6:$A$1806,Data!$J$6:$J$1806)*-1),LOOKUP($V319,Data!$A$6:$A$1806,Data!$J$6:$J$1806))","v":-653},{"$f":"LOOKUP($V319,Data!$A$6:$A$1806,Data!$K$6:$K$1806)","v":30369.76953125},-111.79595947265625,null,null,null,null,null,null,null,null,null,null,null,null,null,null,null," ",1.7120361328125E-2," "]
[null,40679.343518518072,{"$f":"LOOKUP(B320,Data!$A$6:$A$1806,Data!B$6:B$1806)","v":60.016815185546875},{"$f":"LOOKUP(B320,Data!$A$6:$A$1806,Data!C$6:C$1806)","v":0},null,null,19590,{"$f":"(IF((C320-L$2)>0,(IF(C320<'Copy Results'!$C$3,((C320-L$2-L$5)/((L$4*L$2)-L$5)*G320*-1),(('Copy Results'!$C$3-L$2-L$5)/((L$4*L$2)-L$5)*G320*-1))),IF(C320>'Copy Results'!$C$2,((C320-L$2+L$5)/((L$4*L$2)-L$5)*G320*-1),(('Copy Results'!$C$2-L$2+L$5)/((L$4*L$2)-L$5)*G320*-1))))","v":-109.80316162109375},-108.17178642209824,null,null,0,-128.80423630816415,{"$f":"AVERAGE(D$79:D320)","v":0},{"$f":"AVERAGE(M$79:M320)","v":208.08155831446905},-18.644902043525651,{"$f":"AVERAGE(P$79:P320)","v":99.358094543077442},null,null,null,null,40679.343518518072,{"$f":"LOOKUP($V320,Data!$A$6:$A$1806,Data!$B$6:$B$1806)","v":60.016815185546875},{"$f":"LOOKUP($V320,Data!$A$6:$A$1806,Data!$C$6:$C$1806)","v":0},{"$f":"LOOKUP($V320,Data!$A$6:$A$1806,Data!$D$6:$D$1806)","v":0},{"$f":"IF($Z$1=\"+\",LOOKUP($V320,Data!$A$6:$A$1806,Data!$E$6:$E$1806)*-1,LOOKUP($V320,Data!$A$6:$A$1806,Data!$E$6:$E$1806))","v":0},{"$f":"LOOKUP($V320,Data!$A$6:$A$1806,Data!$F$6:$F$1806)","v":0},null,{"$f":"LOOKUP($V320,Data!$A$6:$A$1806,Data!$H$6:$H$1806)","v":0},{"$f":"LOOKUP($V320,Data!$A$6:$A$1806,Data!$I$6:$I$1806)","v":0},{"$f":"IF(LOOKUP($V320,Data!$A$6:$A$1806,Data!$J$6:$J$1806)>0,(LOOKUP($V320,Data!$A$6:$A$1806,Data!$J$6:$J$1806)*-1),LOOKUP($V320,Data!$A$6:$A$1806,Data!$J$6:$J$1806))","v":-653},{"$f":"LOOKUP($V320,Data!$A$6:$A$1806,Data!$K$6:$K$1806)","v":30369.76953125},-109.80316162109375,null,null,null,null,null,null,null,null,null,null,null,null,null,null,null," ",1.6815185546875E-2," "]
[null,40679.343541666218,{"$f":"LOOKUP(B321,Data!$A$6:$A$1806,Data!B$6:B$1806)","v":60.0164794921875},{"$f":"LOOKUP(B321,Data!$A$6:$A$1806,Data!C$6:C$1806)","v":0},null,null,19590,{"$f":"(IF((C321-L$2)>0,(IF(C321<'Copy Results'!$C$3,((C321-L$2-L$5)/((L$4*L$2)-L$5)*G321*-1),(('Copy Results'!$C$3-L$2-L$5)/((L$4*L$2)-L$5)*G321*-1))),IF(C321>'Copy Results'!$C$2,((C321-L$2+L$5)/((L$4*L$2)-L$5)*G321*-1),(('Copy Results'!$C$2-L$2+L$5)/((L$4*L$2)-L$5)*G321*-1))))","v":-107.611083984375},-107.97554056889511,null,null,0,-128.60799045496103,{"$f":"AVERAGE(D$79:D321)","v":0},{"$f":"AVERAGE(M$79:M321)","v":206.69600461582942},-18.644902043525651,{"$f":"AVERAGE(P$79:P321)","v":98.870478854703052},null,null,null,null,40679.343541666218,{"$f":"LOOKUP($V321,Data!$A$6:$A$1806,Data!$B$6:$B$1806)","v":60.0164794921875},{"$f":"LOOKUP($V321,Data!$A$6:$A$1806,Data!$C$6:$C$1806)","v":0},{"$f":"LOOKUP($V321,Data!$A$6:$A$1806,Data!$D$6:$D$1806)","v":0},{"$f":"IF($Z$1=\"+\",LOOKUP($V321,Data!$A$6:$A$1806,Data!$E$6:$E$1806)*-1,LOOKUP($V321,Data!$A$6:$A$1806,Data!$E$6:$E$1806))","v":0},{"$f":"LOOKUP($V321,Data!$A$6:$A$1806,Data!$F$6:$F$1806)","v":0},null,{"$f":"LOOKUP($V321,Data!$A$6:$A$1806,Data!$H$6:$H$1806)","v":0},{"$f":"LOOKUP($V321,Data!$A$6:$A$1806,Data!$I$6:$I$1806)","v":0},{"$f":"IF(LOOKUP($V321,Data!$A$6:$A$1806,Data!$J$6:$J$1806)>0,(LOOKUP($V321,Data!$A$6:$A$1806,Data!$J$6:$J$1806)*-1),LOOKUP($V321,Data!$A$6:$A$1806,Data!$J$6:$J$1806))","v":-653},{"$f":"LOOKUP($V321,Data!$A$6:$A$1806,Data!$K$6:$K$1806)","v":30369.76953125},-107.611083984375,null,null,null,null,null,null,null,null,null,null,null,null,null,null,null," ",1.64794921875E-2," "]
[null,40679.343564814364,{"$f":"LOOKUP(B322,Data!$A$6:$A$1806,Data!B$6:B$1806)","v":60.016143798828125},{"$f":"LOOKUP(B322,Data!$A$6:$A$1806,Data!C$6:C$1806)","v":0},null,null,19590,{"$f":"(IF((C322-L$2)>0,(IF(C322<'Copy Results'!$C$3,((C322-L$2-L$5)/((L$4*L$2)-L$5)*G322*-1),(('Copy Results'!$C$3-L$2-L$5)/((L$4*L$2)-L$5)*G322*-1))),IF(C322>'Copy Results'!$C$2,((C322-L$2+L$5)/((L$4*L$2)-L$5)*G322*-1),(('Copy Results'!$C$2-L$2+L$5)/((L$4*L$2)-L$5)*G322*-1))))","v":-105.41900634765625},-107.08075359146152,null,null,0,-127.71320347752743,{"$f":"AVERAGE(D$79:D322)","v":0},{"$f":"AVERAGE(M$79:M322)","v":205.32547507446318},-18.644902043525651,{"$f":"AVERAGE(P$79:P322)","v":98.386876464175359},null,null,null,null,40679.343564814364,{"$f":"LOOKUP($V322,Data!$A$6:$A$1806,Data!$B$6:$B$1806)","v":60.016143798828125},{"$f":"LOOKUP($V322,Data!$A$6:$A$1806,Data!$C$6:$C$1806)","v":0},{"$f":"LOOKUP($V322,Data!$A$6:$A$1806,Data!$D$6:$D$1806)","v":0},{"$f":"IF($Z$1=\"+\",LOOKUP($V322,Data!$A$6:$A$1806,Data!$E$6:$E$1806)*-1,LOOKUP($V322,Data!$A$6:$A$1806,Data!$E$6:$E$1806))","v":0},{"$f":"LOOKUP($V322,Data!$A$6:$A$1806,Data!$F$6:$F$1806)","v":0},null,{"$f":"LOOKUP($V322,Data!$A$6:$A$1806,Data!$H$6:$H$1806)","v":0},{"$f":"LOOKUP($V322,Data!$A$6:$A$1806,Data!$I$6:$I$1806)","v":0},{"$f":"IF(LOOKUP($V322,Data!$A$6:$A$1806,Data!$J$6:$J$1806)>0,(LOOKUP($V322,Data!$A$6:$A$1806,Data!$J$6:$J$1806)*-1),LOOKUP($V322,Data!$A$6:$A$1806,Data!$J$6:$J$1806))","v":-653},{"$f":"LOOKUP($V322,Data!$A$6:$A$1806,Data!$K$6:$K$1806)","v":30388.994140625},-105.41900634765625,null,null,null,null,null,null,null,null,null,null,null,null,null,null,null," ",1.6143798828125E-2," "]
[null,40679.34358796251,{"$f":"LOOKUP(B323,Data!$A$6:$A$1806,Data!B$6:B$1806)","v":60.0174560546875},{"$f":"LOOKUP(B323,Data!$A$6:$A$1806,Data!C$6:C$1806)","v":0},null,null,19590,{"$f":"(IF((C323-L$2)>0,(IF(C323<'Copy Results'!$C$3,((C323-L$2-L$5)/((L$4*L$2)-L$5)*G323*-1),(('Copy Results'!$C$3-L$2-L$5)/((L$4*L$2)-L$5)*G323*-1))),IF(C323>'Copy Results'!$C$2,((C323-L$2+L$5)/((L$4*L$2)-L$5)*G323*-1),(('Copy Results'!$C$2-L$2+L$5)/((L$4*L$2)-L$5)*G323*-1))))","v":-113.988037109375},-109.49830282273123,null,null,0,-130.13075270879716,{"$f":"AVERAGE(D$79:D323)","v":0},{"$f":"AVERAGE(M$79:M323)","v":203.9562659814703},-18.644902043525651,{"$f":"AVERAGE(P$79:P323)","v":97.907238027668399},null,null,null,null,40679.34358796251,{"$f":"LOOKUP($V323,Data!$A$6:$A$1806,Data!$B$6:$B$1806)","v":60.0174560546875},{"$f":"LOOKUP($V323,Data!$A$6:$A$1806,Data!$C$6:$C$1806)","v":0},{"$f":"LOOKUP($V323,Data!$A$6:$A$1806,Data!$D$6:$D$1806)","v":0},{"$f":"IF($Z$1=\"+\",LOOKUP($V323,Data!$A$6:$A$1806,Data!$E$6:$E$1806)*-1,LOOKUP($V323,Data!$A$6:$A$1806,Data!$E$6:$E$1806))","v":0},{"$f":"LOOKUP($V323,Data!$A$6:$A$1806,Data!$F$6:$F$1806)","v":0},null,{"$f":"LOOKUP($V323,Data!$A$6:$A$1806,Data!$H$6:$H$1806)","v":0},{"$f":"LOOKUP($V323,Data!$A$6:$A$1806,Data!$I$6:$I$1806)","v":0},{"$f":"IF(LOOKUP($V323,Data!$A$6:$A$1806,Data!$J$6:$J$1806)>0,(LOOKUP($V323,Data!$A$6:$A$1806,Data!$J$6:$J$1806)*-1),LOOKUP($V323,Data!$A$6:$A$1806,Data!$J$6:$J$1806))","v":-653},{"$f":"LOOKUP($V323,Data!$A$6:$A$1806,Data!$K$6:$K$1806)","v":30388.994140625},-113.988037109375,null,null,null,null,null,null,null,null,null,null,null,null,null,null,null," ",1.74560546875E-2," "]
[null,40679.343611110657,{"$f":"LOOKUP(B324,Data!$A$6:$A$1806,Data!B$6:B$1806)","v":60.01776123046875},{"$f":"LOOKUP(B324,Data!$A$6:$A$1806,Data!C$6:C$1806)","v":0},null,null,19590,{"$f":"(IF((C324-L$2)>0,(IF(C324<'Copy Results'!$C$3,((C324-L$2-L$5)/((L$4*L$2)-L$5)*G324*-1),(('Copy Results'!$C$3-L$2-L$5)/((L$4*L$2)-L$5)*G324*-1))),IF(C324>'Copy Results'!$C$2,((C324-L$2+L$5)/((L$4*L$2)-L$5)*G324*-1),(('Copy Results'!$C$2-L$2+L$5)/((L$4*L$2)-L$5)*G324*-1))))","v":-115.9808349609375},-111.76718907110343,null,null,0,-132.39963895716937,{"$f":"AVERAGE(D$79:D324)","v":0},{"$f":"AVERAGE(M$79:M324)","v":202.58896555489045},-18.644902043525651,{"$f":"AVERAGE(P$79:P324)","v":97.431515006969647},null,null,null,null,40679.343611110657,{"$f":"LOOKUP($V324,Data!$A$6:$A$1806,Data!$B$6:$B$1806)","v":60.01776123046875},{"$f":"LOOKUP($V324,Data!$A$6:$A$1806,Data!$C$6:$C$1806)","v":0},{"$f":"LOOKUP($V324,Data!$A$6:$A$1806,Data!$D$6:$D$1806)","v":0},{"$f":"IF($Z$1=\"+\",LOOKUP($V324,Data!$A$6:$A$1806,Data!$E$6:$E$1806)*-1,LOOKUP($V324,Data!$A$6:$A$1806,Data!$E$6:$E$1806))","v":0},{"$f":"LOOKUP($V324,Data!$A$6:$A$1806,Data!$F$6:$F$1806)","v":0},null,{"$f":"LOOKUP($V324,Data!$A$6:$A$1806,Data!$H$6:$H$1806)","v":0},{"$f":"LOOKUP($V324,Data!$A$6:$A$1806,Data!$I$6:$I$1806)","v":0},{"$f":"IF(LOOKUP($V324,Data!$A$6:$A$1806,Data!$J$6:$J$1806)>0,(LOOKUP($V324,Data!$A$6:$A$1806,Data!$J$6:$J$1806)*-1),LOOKUP($V324,Data!$A$6:$A$1806,Data!$J$6:$J$1806))","v":-653},{"$f":"LOOKUP($V324,Data!$A$6:$A$1806,Data!$K$6:$K$1806)","v":30388.158203125},-115.9808349609375,null,null,null,null,null,null,null,null,null,null,null,null,null,null,null," ",1.776123046875E-2," "]
[null,40679.343634258803,{"$f":"LOOKUP(B325,Data!$A$6:$A$1806,Data!B$6:B$1806)","v":60.01776123046875},{"$f":"LOOKUP(B325,Data!$A$6:$A$1806,Data!C$6:C$1806)","v":0},null,null,19590,{"$f":"(IF((C325-L$2)>0,(IF(C325<'Copy Results'!$C$3,((C325-L$2-L$5)/((L$4*L$2)-L$5)*G325*-1),(('Copy Results'!$C$3-L$2-L$5)/((L$4*L$2)-L$5)*G325*-1))),IF(C325>'Copy Results'!$C$2,((C325-L$2+L$5)/((L$4*L$2)-L$5)*G325*-1),(('Copy Results'!$C$2-L$2+L$5)/((L$4*L$2)-L$5)*G325*-1))))","v":-115.9808349609375},-113.24196513254536,null,null,0,-133.8744150186113,{"$f":"AVERAGE(D$79:D325)","v":0},{"$f":"AVERAGE(M$79:M325)","v":201.22676563354025},-18.644902043525651,{"$f":"AVERAGE(P$79:P325)","v":96.959659653105845},null,null,null,null,40679.343634258803,{"$f":"LOOKUP($V325,Data!$A$6:$A$1806,Data!$B$6:$B$1806)","v":60.01776123046875},{"$f":"LOOKUP($V325,Data!$A$6:$A$1806,Data!$C$6:$C$1806)","v":0},{"$f":"LOOKUP($V325,Data!$A$6:$A$1806,Data!$D$6:$D$1806)","v":0},{"$f":"IF($Z$1=\"+\",LOOKUP($V325,Data!$A$6:$A$1806,Data!$E$6:$E$1806)*-1,LOOKUP($V325,Data!$A$6:$A$1806,Data!$E$6:$E$1806))","v":0},{"$f":"LOOKUP($V325,Data!$A$6:$A$1806,Data!$F$6:$F$1806)","v":0},null,{"$f":"LOOKUP($V325,Data!$A$6:$A$1806,Data!$H$6:$H$1806)","v":0},{"$f":"LOOKUP($V325,Data!$A$6:$A$1806,Data!$I$6:$I$1806)","v":0},{"$f":"IF(LOOKUP($V325,Data!$A$6:$A$1806,Data!$J$6:$J$1806)>0,(LOOKUP($V325,Data!$A$6:$A$1806,Data!$J$6:$J$1806)*-1),LOOKUP($V325,Data!$A$6:$A$1806,Data!$J$6:$J$1806))","v":-653},{"$f":"LOOKUP($V325,Data!$A$6:$A$1806,Data!$K$6:$K$1806)","v":30388.158203125},-115.9808349609375,null,null,null,null,null,null,null,null,null,null,null,null,null,null,null," ",1.776123046875E-2," "]
[null,40679.343657406949,{"$f":"LOOKUP(B326,Data!$A$6:$A$1806,Data!B$6:B$1806)","v":60.0164794921875},{"$f":"LOOKUP(B326,Data!$A$6:$A$1806,Data!C$6:C$1806)","v":0},null,null,19590,{"$f":"(IF((C326-L$2)>0,(IF(C326<'Copy Results'!$C$3,((C326-L$2-L$5)/((L$4*L$2)-L$5)*G326*-1),(('Copy Results'!$C$3-L$2-L$5)/((L$4*L$2)-L$5)*G326*-1))),IF(C326>'Copy Results'!$C$2,((C326-L$2+L$5)/((L$4*L$2)-L$5)*G326*-1),(('Copy Results'!$C$2-L$2+L$5)/((L$4*L$2)-L$5)*G326*-1))))","v":-107.611083984375},-111.27115673068573,null,null,0,-131.90360661675169,{"$f":"AVERAGE(D$79:D326)","v":0},{"$f":"AVERAGE(M$79:M326)","v":199.88349800349874},-18.644902043525651,{"$f":"AVERAGE(P$79:P326)","v":96.491624990366461},null,null,null,null,40679.343657406949,{"$f":"LOOKUP($V326,Data!$A$6:$A$1806,Data!$B$6:$B$1806)","v":60.0164794921875},{"$f":"LOOKUP($V326,Data!$A$6:$A$1806,Data!$C$6:$C$1806)","v":0},{"$f":"LOOKUP($V326,Data!$A$6:$A$1806,Data!$D$6:$D$1806)","v":0},{"$f":"IF($Z$1=\"+\",LOOKUP($V326,Data!$A$6:$A$1806,Data!$E$6:$E$1806)*-1,LOOKUP($V326,Data!$A$6:$A$1806,Data!$E$6:$E$1806))","v":0},{"$f":"LOOKUP($V326,Data!$A$6:$A$1806,Data!$F$6:$F$1806)","v":0},null,{"$f":"LOOKUP($V326,Data!$A$6:$A$1806,Data!$H$6:$H$1806)","v":0},{"$f":"LOOKUP($V326,Data!$A$6:$A$1806,Data!$I$6:$I$1806)","v":0},{"$f":"IF(LOOKUP($V326,Data!$A$6:$A$1806,Data!$J$6:$J$1806)>0,(LOOKUP($V326,Data!$A$6:$A$1806,Data!$J$6:$J$1806)*-1),LOOKUP($V326,Data!$A$6:$A$1806,Data!$J$6:$J$1806))","v":-653},{"$f":"LOOKUP($V326,Data!$A$6:$A$1806,Data!$K$6:$K$1806)","v":30388.158203125},-107.611083984375,null,null,null,null,null,null,null,null,null,null,null,null,null,null,null," ",1.64794921875E-2," "]
[null,40679.343680555095,{"$f":"LOOKUP(B327,Data!$A$6:$A$1806,Data!B$6:B$1806)","v":60.015838623046875},{"$f":"LOOKUP(B327,Data!$A$6:$A$1806,Data!C$6:C$1806)","v":0},null,null,19590,{"$f":"(IF((C327-L$2)>0,(IF(C327<'Copy Results'!$C$3,((C327-L$2-L$5)/((L$4*L$2)-L$5)*G327*-1),(('Copy Results'!$C$3-L$2-L$5)/((L$4*L$2)-L$5)*G327*-1))),IF(C327>'Copy Results'!$C$2,((C327-L$2+L$5)/((L$4*L$2)-L$5)*G327*-1),(('Copy Results'!$C$2-L$2+L$5)/((L$4*L$2)-L$5)*G327*-1))))","v":-103.42620849609375},-108.52542484857854,null,null,0,-129.15787473464451,{"$f":"AVERAGE(D$79:D327)","v":0},{"$f":"AVERAGE(M$79:M327)","v":198.56204670736162},-18.644902043525651,{"$f":"AVERAGE(P$79:P327)","v":96.02736480071367},null,null,null,null,40679.343680555095,{"$f":"LOOKUP($V327,Data!$A$6:$A$1806,Data!$B$6:$B$1806)","v":60.015838623046875},{"$f":"LOOKUP($V327,Data!$A$6:$A$1806,Data!$C$6:$C$1806)","v":0},{"$f":"LOOKUP($V327,Data!$A$6:$A$1806,Data!$D$6:$D$1806)","v":0},{"$f":"IF($Z$1=\"+\",LOOKUP($V327,Data!$A$6:$A$1806,Data!$E$6:$E$1806)*-1,LOOKUP($V327,Data!$A$6:$A$1806,Data!$E$6:$E$1806))","v":0},{"$f":"LOOKUP($V327,Data!$A$6:$A$1806,Data!$F$6:$F$1806)","v":0},null,{"$f":"LOOKUP($V327,Data!$A$6:$A$1806,Data!$H$6:$H$1806)","v":0},{"$f":"LOOKUP($V327,Data!$A$6:$A$1806,Data!$I$6:$I$1806)","v":0},{"$f":"IF(LOOKUP($V327,Data!$A$6:$A$1806,Data!$J$6:$J$1806)>0,(LOOKUP($V327,Data!$A$6:$A$1806,Data!$J$6:$J$1806)*-1),LOOKUP($V327,Data!$A$6:$A$1806,Data!$J$6:$J$1806))","v":-653},{"$f":"LOOKUP($V327,Data!$A$6:$A$1806,Data!$K$6:$K$1806)","v":30388.158203125},-103.42620849609375,null,null,null,null,null,null,null,null,null,null,null,null,null,null,null," ",1.5838623046875E-2," "]
[null,40679.343703703242,{"$f":"LOOKUP(B328,Data!$A$6:$A$1806,Data!B$6:B$1806)","v":60.0164794921875},{"$f":"LOOKUP(B328,Data!$A$6:$A$1806,Data!C$6:C$1806)","v":0},null,null,19590,{"$f":"(IF((C328-L$2)>0,(IF(C328<'Copy Results'!$C$3,((C328-L$2-L$5)/((L$4*L$2)-L$5)*G328*-1),(('Copy Results'!$C$3-L$2-L$5)/((L$4*L$2)-L$5)*G328*-1))),IF(C328>'Copy Results'!$C$2,((C328-L$2+L$5)/((L$4*L$2)-L$5)*G328*-1),(('Copy Results'!$C$2-L$2+L$5)/((L$4*L$2)-L$5)*G328*-1))))","v":-107.611083984375},-108.2054055461073,null,null,0,-128.83785543217328,{"$f":"AVERAGE(D$79:D328)","v":0},{"$f":"AVERAGE(M$79:M328)","v":197.25244709880349},-18.644902043525651,{"$f":"AVERAGE(P$79:P328)","v":95.566833608568132},null,null,null,null,40679.343703703242,{"$f":"LOOKUP($V328,Data!$A$6:$A$1806,Data!$B$6:$B$1806)","v":60.0164794921875},{"$f":"LOOKUP($V328,Data!$A$6:$A$1806,Data!$C$6:$C$1806)","v":0},{"$f":"LOOKUP($V328,Data!$A$6:$A$1806,Data!$D$6:$D$1806)","v":0},{"$f":"IF($Z$1=\"+\",LOOKUP($V328,Data!$A$6:$A$1806,Data!$E$6:$E$1806)*-1,LOOKUP($V328,Data!$A$6:$A$1806,Data!$E$6:$E$1806))","v":0},{"$f":"LOOKUP($V328,Data!$A$6:$A$1806,Data!$F$6:$F$1806)","v":0},null,{"$f":"LOOKUP($V328,Data!$A$6:$A$1806,Data!$H$6:$H$1806)","v":0},{"$f":"LOOKUP($V328,Data!$A$6:$A$1806,Data!$I$6:$I$1806)","v":0},{"$f":"IF(LOOKUP($V328,Data!$A$6:$A$1806,Data!$J$6:$J$1806)>0,(LOOKUP($V328,Data!$A$6:$A$1806,Data!$J$6:$J$1806)*-1),LOOKUP($V328,Data!$A$6:$A$1806,Data!$J$6:$J$1806))","v":-653},{"$f":"LOOKUP($V328,Data!$A$6:$A$1806,Data!$K$6:$K$1806)","v":30376.9375},-107.611083984375,null,null,null,null,null,null,null,null,null,null,null,null,null,null,null," ",1.64794921875E-2," "]
[null,40679.343726851388,{"$f":"LOOKUP(B329,Data!$A$6:$A$1806,Data!B$6:B$1806)","v":60.015838623046875},{"$f":"LOOKUP(B329,Data!$A$6:$A$1806,Data!C$6:C$1806)","v":0},null,null,19590,{"$f":"(IF((C329-L$2)>0,(IF(C329<'Copy Results'!$C$3,((C329-L$2-L$5)/((L$4*L$2)-L$5)*G329*-1),(('Copy Results'!$C$3-L$2-L$5)/((L$4*L$2)-L$5)*G329*-1))),IF(C329>'Copy Results'!$C$2,((C329-L$2+L$5)/((L$4*L$2)-L$5)*G329*-1),(('Copy Results'!$C$2-L$2+L$5)/((L$4*L$2)-L$5)*G329*-1))))","v":-103.42620849609375},-106.53268657860256,null,null,0,-127.16513646466855,{"$f":"AVERAGE(D$79:D329)","v":0},{"$f":"AVERAGE(M$79:M329)","v":195.95994676588128},-18.644902043525651,{"$f":"AVERAGE(P$79:P329)","v":95.109986665959767},null,null,null,null,40679.343726851388,{"$f":"LOOKUP($V329,Data!$A$6:$A$1806,Data!$B$6:$B$1806)","v":60.015838623046875},{"$f":"LOOKUP($V329,Data!$A$6:$A$1806,Data!$C$6:$C$1806)","v":0},{"$f":"LOOKUP($V329,Data!$A$6:$A$1806,Data!$D$6:$D$1806)","v":0},{"$f":"IF($Z$1=\"+\",LOOKUP($V329,Data!$A$6:$A$1806,Data!$E$6:$E$1806)*-1,LOOKUP($V329,Data!$A$6:$A$1806,Data!$E$6:$E$1806))","v":0},{"$f":"LOOKUP($V329,Data!$A$6:$A$1806,Data!$F$6:$F$1806)","v":0},null,{"$f":"LOOKUP($V329,Data!$A$6:$A$1806,Data!$H$6:$H$1806)","v":0},{"$f":"LOOKUP($V329,Data!$A$6:$A$1806,Data!$I$6:$I$1806)","v":0},{"$f":"IF(LOOKUP($V329,Data!$A$6:$A$1806,Data!$J$6:$J$1806)>0,(LOOKUP($V329,Data!$A$6:$A$1806,Data!$J$6:$J$1806)*-1),LOOKUP($V329,Data!$A$6:$A$1806,Data!$J$6:$J$1806))","v":-653},{"$f":"LOOKUP($V329,Data!$A$6:$A$1806,Data!$K$6:$K$1806)","v":30376.9375},-103.42620849609375,null,null,null,null,null,null,null,null,null,null,null,null,null,null,null," ",1.5838623046875E-2," "]
[null,40679.343749999534,{"$f":"LOOKUP(B330,Data!$A$6:$A$1806,Data!B$6:B$1806)","v":60.013580322265625},{"$f":"LOOKUP(B330,Data!$A$6:$A$1806,Data!C$6:C$1806)","v":0},null,null,19590,{"$f":"(IF((C330-L$2)>0,(IF(C330<'Copy Results'!$C$3,((C330-L$2-L$5)/((L$4*L$2)-L$5)*G330*-1),(('Copy Results'!$C$3-L$2-L$5)/((L$4*L$2)-L$5)*G330*-1))),IF(C330>'Copy Results'!$C$2,((C330-L$2+L$5)/((L$4*L$2)-L$5)*G330*-1),(('Copy Results'!$C$2-L$2+L$5)/((L$4*L$2)-L$5)*G330*-1))))","v":-88.67950439453125},-100.28407281417761,null,null,0,-120.91652270024359,{"$f":"AVERAGE(D$79:D330)","v":0},{"$f":"AVERAGE(M$79:M330)","v":194.70250045847601},-18.644902043525651,{"$f":"AVERAGE(P$79:P330)","v":94.656779938033523},null,null,null,null,40679.343749999534,{"$f":"LOOKUP($V330,Data!$A$6:$A$1806,Data!$B$6:$B$1806)","v":60.013580322265625},{"$f":"LOOKUP($V330,Data!$A$6:$A$1806,Data!$C$6:$C$1806)","v":0},{"$f":"LOOKUP($V330,Data!$A$6:$A$1806,Data!$D$6:$D$1806)","v":0},{"$f":"IF($Z$1=\"+\",LOOKUP($V330,Data!$A$6:$A$1806,Data!$E$6:$E$1806)*-1,LOOKUP($V330,Data!$A$6:$A$1806,Data!$E$6:$E$1806))","v":0},{"$f":"LOOKUP($V330,Data!$A$6:$A$1806,Data!$F$6:$F$1806)","v":0},null,{"$f":"LOOKUP($V330,Data!$A$6:$A$1806,Data!$H$6:$H$1806)","v":0},{"$f":"LOOKUP($V330,Data!$A$6:$A$1806,Data!$I$6:$I$1806)","v":0},{"$f":"IF(LOOKUP($V330,Data!$A$6:$A$1806,Data!$J$6:$J$1806)>0,(LOOKUP($V330,Data!$A$6:$A$1806,Data!$J$6:$J$1806)*-1),LOOKUP($V330,Data!$A$6:$A$1806,Data!$J$6:$J$1806))","v":-653},{"$f":"LOOKUP($V330,Data!$A$6:$A$1806,Data!$K$6:$K$1806)","v":30376.9375},-88.67950439453125,null,null,null,null,null,null,null,null,null,null,null,null,null,null,null," ",1.3580322265625E-2," "]
[null,40679.343773147681,{"$f":"LOOKUP(B331,Data!$A$6:$A$1806,Data!B$6:B$1806)","v":60.011627197265625},{"$f":"LOOKUP(B331,Data!$A$6:$A$1806,Data!C$6:C$1806)","v":0},null,null,19590,{"$f":"(IF((C331-L$2)>0,(IF(C331<'Copy Results'!$C$3,((C331-L$2-L$5)/((L$4*L$2)-L$5)*G331*-1),(('Copy Results'!$C$3-L$2-L$5)/((L$4*L$2)-L$5)*G331*-1))),IF(C331>'Copy Results'!$C$2,((C331-L$2+L$5)/((L$4*L$2)-L$5)*G331*-1),(('Copy Results'!$C$2-L$2+L$5)/((L$4*L$2)-L$5)*G331*-1))))","v":-75.92559814453125},-91.758606679801389,null,null,0,-112.39105656586737,{"$f":"AVERAGE(D$79:D331)","v":0},{"$f":"AVERAGE(M$79:M331)","v":193.48869193268811},-18.644902043525651,{"$f":"AVERAGE(P$79:P331)","v":94.207170088900355},null,null,null,null,40679.343773147681,{"$f":"LOOKUP($V331,Data!$A$6:$A$1806,Data!$B$6:$B$1806)","v":60.011627197265625},{"$f":"LOOKUP($V331,Data!$A$6:$A$1806,Data!$C$6:$C$1806)","v":0},{"$f":"LOOKUP($V331,Data!$A$6:$A$1806,Data!$D$6:$D$1806)","v":0},{"$f":"IF($Z$1=\"+\",LOOKUP($V331,Data!$A$6:$A$1806,Data!$E$6:$E$1806)*-1,LOOKUP($V331,Data!$A$6:$A$1806,Data!$E$6:$E$1806))","v":0},{"$f":"LOOKUP($V331,Data!$A$6:$A$1806,Data!$F$6:$F$1806)","v":0},null,{"$f":"LOOKUP($V331,Data!$A$6:$A$1806,Data!$H$6:$H$1806)","v":0},{"$f":"LOOKUP($V331,Data!$A$6:$A$1806,Data!$I$6:$I$1806)","v":0},{"$f":"IF(LOOKUP($V331,Data!$A$6:$A$1806,Data!$J$6:$J$1806)>0,(LOOKUP($V331,Data!$A$6:$A$1806,Data!$J$6:$J$1806)*-1),LOOKUP($V331,Data!$A$6:$A$1806,Data!$J$6:$J$1806))","v":-653},{"$f":"LOOKUP($V331,Data!$A$6:$A$1806,Data!$K$6:$K$1806)","v":30376.9375},-75.92559814453125,null,null,null,null,null,null,null,null,null,null,null,null,null,null,null," ",1.1627197265625E-2," "]
[null,40679.343796295827,{"$f":"LOOKUP(B332,Data!$A$6:$A$1806,Data!B$6:B$1806)","v":60.011322021484375},{"$f":"LOOKUP(B332,Data!$A$6:$A$1806,Data!C$6:C$1806)","v":0},null,null,19590,{"$f":"(IF((C332-L$2)>0,(IF(C332<'Copy Results'!$C$3,((C332-L$2-L$5)/((L$4*L$2)-L$5)*G332*-1),(('Copy Results'!$C$3-L$2-L$5)/((L$4*L$2)-L$5)*G332*-1))),IF(C332>'Copy Results'!$C$2,((C332-L$2+L$5)/((L$4*L$2)-L$5)*G332*-1),(('Copy Results'!$C$2-L$2+L$5)/((L$4*L$2)-L$5)*G332*-1))))","v":-73.93280029296875},-85.519574444409969,null,null,0,-106.15202433047595,{"$f":"AVERAGE(D$79:D332)","v":0},{"$f":"AVERAGE(M$79:M332)","v":192.3090040733843},-18.644902043525651,{"$f":"AVERAGE(P$79:P332)","v":93.761114467823575},null,null,null,null,40679.343796295827,{"$f":"LOOKUP($V332,Data!$A$6:$A$1806,Data!$B$6:$B$1806)","v":60.011322021484375},{"$f":"LOOKUP($V332,Data!$A$6:$A$1806,Data!$C$6:$C$1806)","v":0},{"$f":"LOOKUP($V332,Data!$A$6:$A$1806,Data!$D$6:$D$1806)","v":0},{"$f":"IF($Z$1=\"+\",LOOKUP($V332,Data!$A$6:$A$1806,Data!$E$6:$E$1806)*-1,LOOKUP($V332,Data!$A$6:$A$1806,Data!$E$6:$E$1806))","v":0},{"$f":"LOOKUP($V332,Data!$A$6:$A$1806,Data!$F$6:$F$1806)","v":0},null,{"$f":"LOOKUP($V332,Data!$A$6:$A$1806,Data!$H$6:$H$1806)","v":0},{"$f":"LOOKUP($V332,Data!$A$6:$A$1806,Data!$I$6:$I$1806)","v":0},{"$f":"IF(LOOKUP($V332,Data!$A$6:$A$1806,Data!$J$6:$J$1806)>0,(LOOKUP($V332,Data!$A$6:$A$1806,Data!$J$6:$J$1806)*-1),LOOKUP($V332,Data!$A$6:$A$1806,Data!$J$6:$J$1806))","v":-653},{"$f":"LOOKUP($V332,Data!$A$6:$A$1806,Data!$K$6:$K$1806)","v":30371.8515625},-73.93280029296875,null,null,null,null,null,null,null,null,null,null,null,null,null,null,null," ",1.1322021484375E-2," "]
[null,40679.343819443973,{"$f":"LOOKUP(B333,Data!$A$6:$A$1806,Data!B$6:B$1806)","v":60.011322021484375},{"$f":"LOOKUP(B333,Data!$A$6:$A$1806,Data!C$6:C$1806)","v":0},null,null,19590,{"$f":"(IF((C333-L$2)>0,(IF(C333<'Copy Results'!$C$3,((C333-L$2-L$5)/((L$4*L$2)-L$5)*G333*-1),(('Copy Results'!$C$3-L$2-L$5)/((L$4*L$2)-L$5)*G333*-1))),IF(C333>'Copy Results'!$C$2,((C333-L$2+L$5)/((L$4*L$2)-L$5)*G333*-1),(('Copy Results'!$C$2-L$2+L$5)/((L$4*L$2)-L$5)*G333*-1))))","v":-73.93280029296875},-81.464203491405542,null,null,0,-102.09665337747153,{"$f":"AVERAGE(D$79:D333)","v":0},{"$f":"AVERAGE(M$79:M333)","v":191.15447208338097},-18.644902043525651,{"$f":"AVERAGE(P$79:P333)","v":93.318571095731656},null,null,null,null,40679.343819443973,{"$f":"LOOKUP($V333,Data!$A$6:$A$1806,Data!$B$6:$B$1806)","v":60.011322021484375},{"$f":"LOOKUP($V333,Data!$A$6:$A$1806,Data!$C$6:$C$1806)","v":0},{"$f":"LOOKUP($V333,Data!$A$6:$A$1806,Data!$D$6:$D$1806)","v":0},{"$f":"IF($Z$1=\"+\",LOOKUP($V333,Data!$A$6:$A$1806,Data!$E$6:$E$1806)*-1,LOOKUP($V333,Data!$A$6:$A$1806,Data!$E$6:$E$1806))","v":0},{"$f":"LOOKUP($V333,Data!$A$6:$A$1806,Data!$F$6:$F$1806)","v":0},null,{"$f":"LOOKUP($V333,Data!$A$6:$A$1806,Data!$H$6:$H$1806)","v":0},{"$f":"LOOKUP($V333,Data!$A$6:$A$1806,Data!$I$6:$I$1806)","v":0},{"$f":"IF(LOOKUP($V333,Data!$A$6:$A$1806,Data!$J$6:$J$1806)>0,(LOOKUP($V333,Data!$A$6:$A$1806,Data!$J$6:$J$1806)*-1),LOOKUP($V333,Data!$A$6:$A$1806,Data!$J$6:$J$1806))","v":-653},{"$f":"LOOKUP($V333,Data!$A$6:$A$1806,Data!$K$6:$K$1806)","v":30371.8515625},-73.93280029296875,null,null,null,null,null,null,null,null,null,null,null,null,null,null,null," ",1.1322021484375E-2," "]
[null,40679.343842592119,{"$f":"LOOKUP(B334,Data!$A$6:$A$1806,Data!B$6:B$1806)","v":60.010986328125},{"$f":"LOOKUP(B334,Data!$A$6:$A$1806,Data!C$6:C$1806)","v":0},null,null,19590,{"$f":"(IF((C334-L$2)>0,(IF(C334<'Copy Results'!$C$3,((C334-L$2-L$5)/((L$4*L$2)-L$5)*G334*-1),(('Copy Results'!$C$3-L$2-L$5)/((L$4*L$2)-L$5)*G334*-1))),IF(C334>'Copy Results'!$C$2,((C334-L$2+L$5)/((L$4*L$2)-L$5)*G334*-1),(('Copy Results'!$C$2-L$2+L$5)/((L$4*L$2)-L$5)*G334*-1))))","v":-71.74072265625},-78.060985199101111,null,null,0,-98.693435085167096,{"$f":"AVERAGE(D$79:D334)","v":0},{"$f":"AVERAGE(M$79:M334)","v":190.02225369600382},-18.644902043525651,{"$f":"AVERAGE(P$79:P334)","v":92.879498652048298},null,null,null,null,40679.343842592119,{"$f":"LOOKUP($V334,Data!$A$6:$A$1806,Data!$B$6:$B$1806)","v":60.010986328125},{"$f":"LOOKUP($V334,Data!$A$6:$A$1806,Data!$C$6:$C$1806)","v":0},{"$f":"LOOKUP($V334,Data!$A$6:$A$1806,Data!$D$6:$D$1806)","v":0},{"$f":"IF($Z$1=\"+\",LOOKUP($V334,Data!$A$6:$A$1806,Data!$E$6:$E$1806)*-1,LOOKUP($V334,Data!$A$6:$A$1806,Data!$E$6:$E$1806))","v":0},{"$f":"LOOKUP($V334,Data!$A$6:$A$1806,Data!$F$6:$F$1806)","v":0},null,{"$f":"LOOKUP($V334,Data!$A$6:$A$1806,Data!$H$6:$H$1806)","v":0},{"$f":"LOOKUP($V334,Data!$A$6:$A$1806,Data!$I$6:$I$1806)","v":0},{"$f":"IF(LOOKUP($V334,Data!$A$6:$A$1806,Data!$J$6:$J$1806)>0,(LOOKUP($V334,Data!$A$6:$A$1806,Data!$J$6:$J$1806)*-1),LOOKUP($V334,Data!$A$6:$A$1806,Data!$J$6:$J$1806))","v":-653},{"$f":"LOOKUP($V334,Data!$A$6:$A$1806,Data!$K$6:$K$1806)","v":30362.65234375},-71.74072265625,null,null,null,null,null,null,null,null,null,null,null,null,null,null,null," ",1.0986328125E-2," "]
[null,40679.343865740266,{"$f":"LOOKUP(B335,Data!$A$6:$A$1806,Data!B$6:B$1806)","v":60.010986328125},{"$f":"LOOKUP(B335,Data!$A$6:$A$1806,Data!C$6:C$1806)","v":0},null,null,19590,{"$f":"(IF((C335-L$2)>0,(IF(C335<'Copy Results'!$C$3,((C335-L$2-L$5)/((L$4*L$2)-L$5)*G335*-1),(('Copy Results'!$C$3-L$2-L$5)/((L$4*L$2)-L$5)*G335*-1))),IF(C335>'Copy Results'!$C$2,((C335-L$2+L$5)/((L$4*L$2)-L$5)*G335*-1),(('Copy Results'!$C$2-L$2+L$5)/((L$4*L$2)-L$5)*G335*-1))))","v":-71.74072265625},-75.848893309103232,null,null,0,-96.481343195169217,{"$f":"AVERAGE(D$79:D335)","v":0},{"$f":"AVERAGE(M$79:M335)","v":188.90745370810041},-18.644902043525651,{"$f":"AVERAGE(P$79:P335)","v":92.443856461831217},null,null,null,null,40679.343865740266,{"$f":"LOOKUP($V335,Data!$A$6:$A$1806,Data!$B$6:$B$1806)","v":60.010986328125},{"$f":"LOOKUP($V335,Data!$A$6:$A$1806,Data!$C$6:$C$1806)","v":0},{"$f":"LOOKUP($V335,Data!$A$6:$A$1806,Data!$D$6:$D$1806)","v":0},{"$f":"IF($Z$1=\"+\",LOOKUP($V335,Data!$A$6:$A$1806,Data!$E$6:$E$1806)*-1,LOOKUP($V335,Data!$A$6:$A$1806,Data!$E$6:$E$1806))","v":0},{"$f":"LOOKUP($V335,Data!$A$6:$A$1806,Data!$F$6:$F$1806)","v":0},null,{"$f":"LOOKUP($V335,Data!$A$6:$A$1806,Data!$H$6:$H$1806)","v":0},{"$f":"LOOKUP($V335,Data!$A$6:$A$1806,Data!$I$6:$I$1806)","v":0},{"$f":"IF(LOOKUP($V335,Data!$A$6:$A$1806,Data!$J$6:$J$1806)>0,(LOOKUP($V335,Data!$A$6:$A$1806,Data!$J$6:$J$1806)*-1),LOOKUP($V335,Data!$A$6:$A$1806,Data!$J$6:$J$1806))","v":-653},{"$f":"LOOKUP($V335,Data!$A$6:$A$1806,Data!$K$6:$K$1806)","v":30362.65234375},-71.74072265625,null,null,null,null,null,null,null,null,null,null,null,null,null,null,null," ",1.0986328125E-2," "]
[null,40679.343888888412,{"$f":"LOOKUP(B336,Data!$A$6:$A$1806,Data!B$6:B$1806)","v":60.012908935546875},{"$f":"LOOKUP(B336,Data!$A$6:$A$1806,Data!C$6:C$1806)","v":0},null,null,19590,{"$f":"(IF((C336-L$2)>0,(IF(C336<'Copy Results'!$C$3,((C336-L$2-L$5)/((L$4*L$2)-L$5)*G336*-1),(('Copy Results'!$C$3-L$2-L$5)/((L$4*L$2)-L$5)*G336*-1))),IF(C336>'Copy Results'!$C$2,((C336-L$2+L$5)/((L$4*L$2)-L$5)*G336*-1),(('Copy Results'!$C$2-L$2+L$5)/((L$4*L$2)-L$5)*G336*-1))))","v":-84.29534912109375},-78.805152843299908,null,null,{"$f":"IF(B336>G$3,0,(K$21*0.000023148/K$22))","v":0},{"$f":"M335+L336+(I336-I335)","v":-99.437602729365892},{"$f":"AVERAGE(D$79:D336)","v":0},{"$f":"AVERAGE(M$79:M336)","v":187.78983721028078},-18.644902043525651,{"$f":"AVERAGE(P$79:P336)","v":92.011604483211158},null,null,null,null,40679.343888888412,{"$f":"LOOKUP($V336,Data!$A$6:$A$1806,Data!$B$6:$B$1806)","v":60.012908935546875},{"$f":"LOOKUP($V336,Data!$A$6:$A$1806,Data!$C$6:$C$1806)","v":0},{"$f":"LOOKUP($V336,Data!$A$6:$A$1806,Data!$D$6:$D$1806)","v":0},{"$f":"IF($Z$1=\"+\",LOOKUP($V336,Data!$A$6:$A$1806,Data!$E$6:$E$1806)*-1,LOOKUP($V336,Data!$A$6:$A$1806,Data!$E$6:$E$1806))","v":0},{"$f":"LOOKUP($V336,Data!$A$6:$A$1806,Data!$F$6:$F$1806)","v":0},null,{"$f":"LOOKUP($V336,Data!$A$6:$A$1806,Data!$H$6:$H$1806)","v":0},{"$f":"LOOKUP($V336,Data!$A$6:$A$1806,Data!$I$6:$I$1806)","v":0},{"$f":"IF(LOOKUP($V336,Data!$A$6:$A$1806,Data!$J$6:$J$1806)>0,(LOOKUP($V336,Data!$A$6:$A$1806,Data!$J$6:$J$1806)*-1),LOOKUP($V336,Data!$A$6:$A$1806,Data!$J$6:$J$1806))","v":-653},{"$f":"LOOKUP($V336,Data!$A$6:$A$1806,Data!$K$6:$K$1806)","v":30362.65234375},-84.29534912109375,null,null,null,null,null,null,null,null,null,null,null,null,null,null,null," ",1.2908935546875E-2," "]
[null,40679.343912036558,{"$f":"LOOKUP(B337,Data!$A$6:$A$1806,Data!B$6:B$1806)","v":60.014862060546875},{"$f":"LOOKUP(B337,Data!$A$6:$A$1806,Data!C$6:C$1806)","v":0},null,null,19590,{"$f":"(IF((C337-L$2)>0,(IF(C337<'Copy Results'!$C$3,((C337-L$2-L$5)/((L$4*L$2)-L$5)*G337*-1),(('Copy Results'!$C$3-L$2-L$5)/((L$4*L$2)-L$5)*G337*-1))),IF(C337>'Copy Results'!$C$2,((C337-L$2+L$5)/((L$4*L$2)-L$5)*G337*-1),(('Copy Results'!$C$2-L$2+L$5)/((L$4*L$2)-L$5)*G337*-1))))","v":-97.04925537109375},-85.190588728027762,null,null,0,-105.82303861409375,{"$f":"AVERAGE(D$79:D337)","v":0},{"$f":"AVERAGE(M$79:M337)","v":186.65619676308242},-18.644902043525651,{"$f":"AVERAGE(P$79:P337)","v":91.582703295123025},null,null,null,null,{"$f":"V336+TIME(0,0,$B$1)","v":40679.343912036558},{"$f":"LOOKUP($V337,Data!$A$6:$A$1806,Data!$B$6:$B$1806)","v":60.014862060546875},{"$f":"LOOKUP($V337,Data!$A$6:$A$1806,Data!$C$6:$C$1806)","v":0},{"$f":"LOOKUP($V337,Data!$A$6:$A$1806,Data!$D$6:$D$1806)","v":0},{"$f":"IF($Z$1=\"+\",LOOKUP($V337,Data!$A$6:$A$1806,Data!$E$6:$E$1806)*-1,LOOKUP($V337,Data!$A$6:$A$1806,Data!$E$6:$E$1806))","v":0},{"$f":"LOOKUP($V337,Data!$A$6:$A$1806,Data!$F$6:$F$1806)","v":0},null,{"$f":"LOOKUP($V337,Data!$A$6:$A$1806,Data!$H$6:$H$1806)","v":0},{"$f":"LOOKUP($V337,Data!$A$6:$A$1806,Data!$I$6:$I$1806)","v":0},{"$f":"IF(LOOKUP($V337,Data!$A$6:$A$1806,Data!$J$6:$J$1806)>0,(LOOKUP($V337,Data!$A$6:$A$1806,Data!$J$6:$J$1806)*-1),LOOKUP($V337,Data!$A$6:$A$1806,Data!$J$6:$J$1806))","v":-653},{"$f":"LOOKUP($V337,Data!$A$6:$A$1806,Data!$K$6:$K$1806)","v":30362.65234375},-97.04925537109375,null,null,null,null,null,null,null,null,null,null,null,null,null,null,null,{"$f":"IF(((D337-F$78)/((C337-E$78)*10))<0,\" \",((D337-F$78)/((C337-E$78)*10)))","v":" "},1.4862060546875E-2," "]
[null,40679.343935184705,{"$f":"LOOKUP(B338,Data!$A$6:$A$1806,Data!B$6:B$1806)","v":60.01776123046875},{"$f":"LOOKUP(B338,Data!$A$6:$A$1806,Data!C$6:C$1806)","v":0},null,null,19590,{"$f":"(IF((C338-L$2)>0,(IF(C338<'Copy Results'!$C$3,((C338-L$2-L$5)/((L$4*L$2)-L$5)*G338*-1),(('Copy Results'!$C$3-L$2-L$5)/((L$4*L$2)-L$5)*G338*-1))),IF(C338>'Copy Results'!$C$2,((C338-L$2+L$5)/((L$4*L$2)-L$5)*G338*-1),(('Copy Results'!$C$2-L$2+L$5)/((L$4*L$2)-L$5)*G338*-1))))","v":-115.9808349609375},-95.967174909546173,null,null,0,-116.59962479561216,{"$f":"AVERAGE(D$79:D338)","v":0},{"$f":"AVERAGE(M$79:M338)","v":185.48982821862589},{"$f":"P337+L338","v":-18.644902043525651},{"$f":"AVERAGE(P$79:P338)","v":91.157114085321297},null,null,null,null,40679.343935184705,{"$f":"LOOKUP($V338,Data!$A$6:$A$1806,Data!$B$6:$B$1806)","v":60.01776123046875},{"$f":"LOOKUP($V338,Data!$A$6:$A$1806,Data!$C$6:$C$1806)","v":0},{"$f":"LOOKUP($V338,Data!$A$6:$A$1806,Data!$D$6:$D$1806)","v":0},{"$f":"IF($Z$1=\"+\",LOOKUP($V338,Data!$A$6:$A$1806,Data!$E$6:$E$1806)*-1,LOOKUP($V338,Data!$A$6:$A$1806,Data!$E$6:$E$1806))","v":0},{"$f":"LOOKUP($V338,Data!$A$6:$A$1806,Data!$F$6:$F$1806)","v":0},null,{"$f":"LOOKUP($V338,Data!$A$6:$A$1806,Data!$H$6:$H$1806)","v":0},{"$f":"LOOKUP($V338,Data!$A$6:$A$1806,Data!$I$6:$I$1806)","v":0},{"$f":"IF(LOOKUP($V338,Data!$A$6:$A$1806,Data!$J$6:$J$1806)>0,(LOOKUP($V338,Data!$A$6:$A$1806,Data!$J$6:$J$1806)*-1),LOOKUP($V338,Data!$A$6:$A$1806,Data!$J$6:$J$1806))","v":-653},{"$f":"LOOKUP($V338,Data!$A$6:$A$1806,Data!$K$6:$K$1806)","v":30395.46484375},-115.9808349609375,null,null,null,null,null,null,null,null,null,null,null,null,null,null,null," ",1.776123046875E-2," "]
[null,40679.343958332851,{"$f":"LOOKUP(B339,Data!$A$6:$A$1806,Data!B$6:B$1806)","v":60.01776123046875},{"$f":"LOOKUP(B339,Data!$A$6:$A$1806,Data!C$6:C$1806)","v":0},null,null,19590,{"$f":"(IF((C339-L$2)>0,(IF(C339<'Copy Results'!$C$3,((C339-L$2-L$5)/((L$4*L$2)-L$5)*G339*-1),(('Copy Results'!$C$3-L$2-L$5)/((L$4*L$2)-L$5)*G339*-1))),IF(C339>'Copy Results'!$C$2,((C339-L$2+L$5)/((L$4*L$2)-L$5)*G339*-1),(('Copy Results'!$C$2-L$2+L$5)/((L$4*L$2)-L$5)*G339*-1))))","v":-115.9808349609375},-102.97195592753314,null,null,0,-123.60440581359913,{"$f":"AVERAGE(D$79:D339)","v":0},{"$f":"AVERAGE(M$79:M339)","v":184.305559122717},-18.644902043525651,{"$f":"AVERAGE(P$79:P339)","v":90.73479863867189},null,null,null,null,40679.343958332851,{"$f":"LOOKUP($V339,Data!$A$6:$A$1806,Data!$B$6:$B$1806)","v":60.01776123046875},{"$f":"LOOKUP($V339,Data!$A$6:$A$1806,Data!$C$6:$C$1806)","v":0},{"$f":"LOOKUP($V339,Data!$A$6:$A$1806,Data!$D$6:$D$1806)","v":0},{"$f":"IF($Z$1=\"+\",LOOKUP($V339,Data!$A$6:$A$1806,Data!$E$6:$E$1806)*-1,LOOKUP($V339,Data!$A$6:$A$1806,Data!$E$6:$E$1806))","v":0},{"$f":"LOOKUP($V339,Data!$A$6:$A$1806,Data!$F$6:$F$1806)","v":0},null,{"$f":"LOOKUP($V339,Data!$A$6:$A$1806,Data!$H$6:$H$1806)","v":0},{"$f":"LOOKUP($V339,Data!$A$6:$A$1806,Data!$I$6:$I$1806)","v":0},{"$f":"IF(LOOKUP($V339,Data!$A$6:$A$1806,Data!$J$6:$J$1806)>0,(LOOKUP($V339,Data!$A$6:$A$1806,Data!$J$6:$J$1806)*-1),LOOKUP($V339,Data!$A$6:$A$1806,Data!$J$6:$J$1806))","v":-653},{"$f":"LOOKUP($V339,Data!$A$6:$A$1806,Data!$K$6:$K$1806)","v":30395.46484375},-115.9808349609375,null,null,null,null,null,null,null,null,null,null,null,null,null,null,null," ",1.776123046875E-2," "]
[null,40679.343981480997,{"$f":"LOOKUP(B340,Data!$A$6:$A$1806,Data!B$6:B$1806)","v":60.018402099609375},{"$f":"LOOKUP(B340,Data!$A$6:$A$1806,Data!C$6:C$1806)","v":0},null,null,19590,{"$f":"(IF((C340-L$2)>0,(IF(C340<'Copy Results'!$C$3,((C340-L$2-L$5)/((L$4*L$2)-L$5)*G340*-1),(('Copy Results'!$C$3-L$2-L$5)/((L$4*L$2)-L$5)*G340*-1))),IF(C340>'Copy Results'!$C$2,((C340-L$2+L$5)/((L$4*L$2)-L$5)*G340*-1),(('Copy Results'!$C$2-L$2+L$5)/((L$4*L$2)-L$5)*G340*-1))))","v":-120.16571044921875},-108.98977001012311,null,null,0,-129.62221989618911,{"$f":"AVERAGE(D$79:D340)","v":0},{"$f":"AVERAGE(M$79:M340)","v":183.10736149287382},-18.644902043525651,{"$f":"AVERAGE(P$79:P340)","v":90.315719325713289},null,null,null,null,40679.343981480997,{"$f":"LOOKUP($V340,Data!$A$6:$A$1806,Data!$B$6:$B$1806)","v":60.018402099609375},{"$f":"LOOKUP($V340,Data!$A$6:$A$1806,Data!$C$6:$C$1806)","v":0},{"$f":"LOOKUP($V340,Data!$A$6:$A$1806,Data!$D$6:$D$1806)","v":0},{"$f":"IF($Z$1=\"+\",LOOKUP($V340,Data!$A$6:$A$1806,Data!$E$6:$E$1806)*-1,LOOKUP($V340,Data!$A$6:$A$1806,Data!$E$6:$E$1806))","v":0},{"$f":"LOOKUP($V340,Data!$A$6:$A$1806,Data!$F$6:$F$1806)","v":0},null,{"$f":"LOOKUP($V340,Data!$A$6:$A$1806,Data!$H$6:$H$1806)","v":0},{"$f":"LOOKUP($V340,Data!$A$6:$A$1806,Data!$I$6:$I$1806)","v":0},{"$f":"IF(LOOKUP($V340,Data!$A$6:$A$1806,Data!$J$6:$J$1806)>0,(LOOKUP($V340,Data!$A$6:$A$1806,Data!$J$6:$J$1806)*-1),LOOKUP($V340,Data!$A$6:$A$1806,Data!$J$6:$J$1806))","v":-653},{"$f":"LOOKUP($V340,Data!$A$6:$A$1806,Data!$K$6:$K$1806)","v":30395.46484375},-120.16571044921875,null,null,null,null,null,null,null,null,null,null,null,null,null,null,null," ",1.8402099609375E-2," "]
[null,40679.344004629143,{"$f":"LOOKUP(B341,Data!$A$6:$A$1806,Data!B$6:B$1806)","v":60.018096923828125},{"$f":"LOOKUP(B341,Data!$A$6:$A$1806,Data!C$6:C$1806)","v":0},null,null,19590,{"$f":"(IF((C341-L$2)>0,(IF(C341<'Copy Results'!$C$3,((C341-L$2-L$5)/((L$4*L$2)-L$5)*G341*-1),(('Copy Results'!$C$3-L$2-L$5)/((L$4*L$2)-L$5)*G341*-1))),IF(C341>'Copy Results'!$C$2,((C341-L$2+L$5)/((L$4*L$2)-L$5)*G341*-1),(('Copy Results'!$C$2-L$2+L$5)/((L$4*L$2)-L$5)*G341*-1))))","v":-118.17291259765625},-112.20386991575971,null,null,0,-132.83631980182571,{"$f":"AVERAGE(D$79:D341)","v":0},{"$f":"AVERAGE(M$79:M341)","v":181.90605471989016},-18.644902043525651,{"$f":"AVERAGE(P$79:P341)","v":89.899839091479549},null,null,null,null,40679.344004629143,{"$f":"LOOKUP($V341,Data!$A$6:$A$1806,Data!$B$6:$B$1806)","v":60.018096923828125},{"$f":"LOOKUP($V341,Data!$A$6:$A$1806,Data!$C$6:$C$1806)","v":0},{"$f":"LOOKUP($V341,Data!$A$6:$A$1806,Data!$D$6:$D$1806)","v":0},{"$f":"IF($Z$1=\"+\",LOOKUP($V341,Data!$A$6:$A$1806,Data!$E$6:$E$1806)*-1,LOOKUP($V341,Data!$A$6:$A$1806,Data!$E$6:$E$1806))","v":0},{"$f":"LOOKUP($V341,Data!$A$6:$A$1806,Data!$F$6:$F$1806)","v":0},null,{"$f":"LOOKUP($V341,Data!$A$6:$A$1806,Data!$H$6:$H$1806)","v":0},{"$f":"LOOKUP($V341,Data!$A$6:$A$1806,Data!$I$6:$I$1806)","v":0},{"$f":"IF(LOOKUP($V341,Data!$A$6:$A$1806,Data!$J$6:$J$1806)>0,(LOOKUP($V341,Data!$A$6:$A$1806,Data!$J$6:$J$1806)*-1),LOOKUP($V341,Data!$A$6:$A$1806,Data!$J$6:$J$1806))","v":-653},{"$f":"LOOKUP($V341,Data!$A$6:$A$1806,Data!$K$6:$K$1806)","v":30395.46484375},-118.17291259765625,null,null,null,null,null,null,null,null,null,null,null,null,null,null,null," ",1.8096923828125E-2," "]
[null,40679.34402777729,{"$f":"LOOKUP(B342,Data!$A$6:$A$1806,Data!B$6:B$1806)","v":60.0174560546875},{"$f":"LOOKUP(B342,Data!$A$6:$A$1806,Data!C$6:C$1806)","v":0},null,null,19590,{"$f":"(IF((C342-L$2)>0,(IF(C342<'Copy Results'!$C$3,((C342-L$2-L$5)/((L$4*L$2)-L$5)*G342*-1),(('Copy Results'!$C$3-L$2-L$5)/((L$4*L$2)-L$5)*G342*-1))),IF(C342>'Copy Results'!$C$2,((C342-L$2+L$5)/((L$4*L$2)-L$5)*G342*-1),(('Copy Results'!$C$2-L$2+L$5)/((L$4*L$2)-L$5)*G342*-1))))","v":-113.988037109375},-112.82832843352506,null,null,0,-133.46077831959104,{"$f":"AVERAGE(D$79:D342)","v":0},{"$f":"AVERAGE(M$79:M342)","v":180.71148338261943},-18.644902043525651,{"$f":"AVERAGE(P$79:P342)","v":89.487121444578392},null,null,null,null,40679.34402777729,{"$f":"LOOKUP($V342,Data!$A$6:$A$1806,Data!$B$6:$B$1806)","v":60.0174560546875},{"$f":"LOOKUP($V342,Data!$A$6:$A$1806,Data!$C$6:$C$1806)","v":0},{"$f":"LOOKUP($V342,Data!$A$6:$A$1806,Data!$D$6:$D$1806)","v":0},{"$f":"IF($Z$1=\"+\",LOOKUP($V342,Data!$A$6:$A$1806,Data!$E$6:$E$1806)*-1,LOOKUP($V342,Data!$A$6:$A$1806,Data!$E$6:$E$1806))","v":0},{"$f":"LOOKUP($V342,Data!$A$6:$A$1806,Data!$F$6:$F$1806)","v":0},null,{"$f":"LOOKUP($V342,Data!$A$6:$A$1806,Data!$H$6:$H$1806)","v":0},{"$f":"LOOKUP($V342,Data!$A$6:$A$1806,Data!$I$6:$I$1806)","v":0},{"$f":"IF(LOOKUP($V342,Data!$A$6:$A$1806,Data!$J$6:$J$1806)>0,(LOOKUP($V342,Data!$A$6:$A$1806,Data!$J$6:$J$1806)*-1),LOOKUP($V342,Data!$A$6:$A$1806,Data!$J$6:$J$1806))","v":-653},{"$f":"LOOKUP($V342,Data!$A$6:$A$1806,Data!$K$6:$K$1806)","v":30397.025390625},-113.988037109375,null,null,null,null,null,null,null,null,null,null,null,null,null,null,null," ",1.74560546875E-2," "]
[null,40679.344050925436,{"$f":"LOOKUP(B343,Data!$A$6:$A$1806,Data!B$6:B$1806)","v":60.01519775390625},{"$f":"LOOKUP(B343,Data!$A$6:$A$1806,Data!C$6:C$1806)","v":0},null,null,19590,{"$f":"(IF((C343-L$2)>0,(IF(C343<'Copy Results'!$C$3,((C343-L$2-L$5)/((L$4*L$2)-L$5)*G343*-1),(('Copy Results'!$C$3-L$2-L$5)/((L$4*L$2)-L$5)*G343*-1))),IF(C343>'Copy Results'!$C$2,((C343-L$2+L$5)/((L$4*L$2)-L$5)*G343*-1),(('Copy Results'!$C$2-L$2+L$5)/((L$4*L$2)-L$5)*G343*-1))))","v":-99.2413330078125},-108.07288003452567,null,null,0,-128.70532992059165,{"$f":"AVERAGE(D$79:D343)","v":0},{"$f":"AVERAGE(M$79:M343)","v":179.54387276638087},-18.644902043525651,{"$f":"AVERAGE(P$79:P343)","v":89.0775304465174},null,null,null,null,40679.344050925436,{"$f":"LOOKUP($V343,Data!$A$6:$A$1806,Data!$B$6:$B$1806)","v":60.01519775390625},{"$f":"LOOKUP($V343,Data!$A$6:$A$1806,Data!$C$6:$C$1806)","v":0},{"$f":"LOOKUP($V343,Data!$A$6:$A$1806,Data!$D$6:$D$1806)","v":0},{"$f":"IF($Z$1=\"+\",LOOKUP($V343,Data!$A$6:$A$1806,Data!$E$6:$E$1806)*-1,LOOKUP($V343,Data!$A$6:$A$1806,Data!$E$6:$E$1806))","v":0},{"$f":"LOOKUP($V343,Data!$A$6:$A$1806,Data!$F$6:$F$1806)","v":0},null,{"$f":"LOOKUP($V343,Data!$A$6:$A$1806,Data!$H$6:$H$1806)","v":0},{"$f":"LOOKUP($V343,Data!$A$6:$A$1806,Data!$I$6:$I$1806)","v":0},{"$f":"IF(LOOKUP($V343,Data!$A$6:$A$1806,Data!$J$6:$J$1806)>0,(LOOKUP($V343,Data!$A$6:$A$1806,Data!$J$6:$J$1806)*-1),LOOKUP($V343,Data!$A$6:$A$1806,Data!$J$6:$J$1806))","v":-653},{"$f":"LOOKUP($V343,Data!$A$6:$A$1806,Data!$K$6:$K$1806)","v":30397.025390625},-99.2413330078125,null,null,null,null,null,null,null,null,null,null,null,null,null,null,null," ",1.519775390625E-2," "]
[null,40679.344074073582,{"$f":"LOOKUP(B344,Data!$A$6:$A$1806,Data!B$6:B$1806)","v":60.01519775390625},{"$f":"LOOKUP(B344,Data!$A$6:$A$1806,Data!C$6:C$1806)","v":0},null,null,19590,{"$f":"(IF((C344-L$2)>0,(IF(C344<'Copy Results'!$C$3,((C344-L$2-L$5)/((L$4*L$2)-L$5)*G344*-1),(('Copy Results'!$C$3-L$2-L$5)/((L$4*L$2)-L$5)*G344*-1))),IF(C344>'Copy Results'!$C$2,((C344-L$2+L$5)/((L$4*L$2)-L$5)*G344*-1),(('Copy Results'!$C$2-L$2+L$5)/((L$4*L$2)-L$5)*G344*-1))))","v":-99.2413330078125},-104.98183857517606,null,null,0,-125.61428846124204,{"$f":"AVERAGE(D$79:D344)","v":0},{"$f":"AVERAGE(M$79:M344)","v":178.3966616339462},-18.644902043525651,{"$f":"AVERAGE(P$79:P344)","v":88.67103070127196},null,null,null,null,40679.344074073582,{"$f":"LOOKUP($V344,Data!$A$6:$A$1806,Data!$B$6:$B$1806)","v":60.01519775390625},{"$f":"LOOKUP($V344,Data!$A$6:$A$1806,Data!$C$6:$C$1806)","v":0},{"$f":"LOOKUP($V344,Data!$A$6:$A$1806,Data!$D$6:$D$1806)","v":0},{"$f":"IF($Z$1=\"+\",LOOKUP($V344,Data!$A$6:$A$1806,Data!$E$6:$E$1806)*-1,LOOKUP($V344,Data!$A$6:$A$1806,Data!$E$6:$E$1806))","v":0},{"$f":"LOOKUP($V344,Data!$A$6:$A$1806,Data!$F$6:$F$1806)","v":0},null,{"$f":"LOOKUP($V344,Data!$A$6:$A$1806,Data!$H$6:$H$1806)","v":0},{"$f":"LOOKUP($V344,Data!$A$6:$A$1806,Data!$I$6:$I$1806)","v":0},{"$f":"IF(LOOKUP($V344,Data!$A$6:$A$1806,Data!$J$6:$J$1806)>0,(LOOKUP($V344,Data!$A$6:$A$1806,Data!$J$6:$J$1806)*-1),LOOKUP($V344,Data!$A$6:$A$1806,Data!$J$6:$J$1806))","v":-653},{"$f":"LOOKUP($V344,Data!$A$6:$A$1806,Data!$K$6:$K$1806)","v":30396.666015625},-99.2413330078125,null,null,null,null,null,null,null,null,null,null,null,null,null,null,null," ",1.519775390625E-2," "]
[null,40679.344097221729,{"$f":"LOOKUP(B345,Data!$A$6:$A$1806,Data!B$6:B$1806)","v":60.013885498046875},{"$f":"LOOKUP(B345,Data!$A$6:$A$1806,Data!C$6:C$1806)","v":0},null,null,19590,{"$f":"(IF((C345-L$2)>0,(IF(C345<'Copy Results'!$C$3,((C345-L$2-L$5)/((L$4*L$2)-L$5)*G345*-1),(('Copy Results'!$C$3-L$2-L$5)/((L$4*L$2)-L$5)*G345*-1))),IF(C345>'Copy Results'!$C$2,((C345-L$2+L$5)/((L$4*L$2)-L$5)*G345*-1),(('Copy Results'!$C$2-L$2+L$5)/((L$4*L$2)-L$5)*G345*-1))))","v":-90.67230224609375},-99.973500859997245,null,null,0,-120.60595074606323,{"$f":"AVERAGE(D$79:D345)","v":0},{"$f":"AVERAGE(M$79:M345)","v":177.2768016624855},-18.644902043525651,{"$f":"AVERAGE(P$79:P345)","v":88.267587345088515},null,null,null,null,40679.344097221729,{"$f":"LOOKUP($V345,Data!$A$6:$A$1806,Data!$B$6:$B$1806)","v":60.013885498046875},{"$f":"LOOKUP($V345,Data!$A$6:$A$1806,Data!$C$6:$C$1806)","v":0},{"$f":"LOOKUP($V345,Data!$A$6:$A$1806,Data!$D$6:$D$1806)","v":0},{"$f":"IF($Z$1=\"+\",LOOKUP($V345,Data!$A$6:$A$1806,Data!$E$6:$E$1806)*-1,LOOKUP($V345,Data!$A$6:$A$1806,Data!$E$6:$E$1806))","v":0},{"$f":"LOOKUP($V345,Data!$A$6:$A$1806,Data!$F$6:$F$1806)","v":0},null,{"$f":"LOOKUP($V345,Data!$A$6:$A$1806,Data!$H$6:$H$1806)","v":0},{"$f":"LOOKUP($V345,Data!$A$6:$A$1806,Data!$I$6:$I$1806)","v":0},{"$f":"IF(LOOKUP($V345,Data!$A$6:$A$1806,Data!$J$6:$J$1806)>0,(LOOKUP($V345,Data!$A$6:$A$1806,Data!$J$6:$J$1806)*-1),LOOKUP($V345,Data!$A$6:$A$1806,Data!$J$6:$J$1806))","v":-653},{"$f":"LOOKUP($V345,Data!$A$6:$A$1806,Data!$K$6:$K$1806)","v":30396.666015625},-90.67230224609375,null,null,null,null,null,null,null,null,null,null,null,null,null,null,null," ",1.3885498046875E-2," "]
[null,40679.344120369875,{"$f":"LOOKUP(B346,Data!$A$6:$A$1806,Data!B$6:B$1806)","v":60.0174560546875},{"$f":"LOOKUP(B346,Data!$A$6:$A$1806,Data!C$6:C$1806)","v":0},null,null,19590,{"$f":"(IF((C346-L$2)>0,(IF(C346<'Copy Results'!$C$3,((C346-L$2-L$5)/((L$4*L$2)-L$5)*G346*-1),(('Copy Results'!$C$3-L$2-L$5)/((L$4*L$2)-L$5)*G346*-1))),IF(C346>'Copy Results'!$C$2,((C346-L$2+L$5)/((L$4*L$2)-L$5)*G346*-1),(('Copy Results'!$C$2-L$2+L$5)/((L$4*L$2)-L$5)*G346*-1))))","v":-113.988037109375},-104.87858854727946,null,null,0,-125.51103843334545,{"$f":"AVERAGE(D$79:D346)","v":0},{"$f":"AVERAGE(M$79:M346)","v":176.14699628899356},-18.644902043525651,{"$f":"AVERAGE(P$79:P346)","v":87.86716603651692},null,null,null,null,40679.344120369875,{"$f":"LOOKUP($V346,Data!$A$6:$A$1806,Data!$B$6:$B$1806)","v":60.0174560546875},{"$f":"LOOKUP($V346,Data!$A$6:$A$1806,Data!$C$6:$C$1806)","v":0},{"$f":"LOOKUP($V346,Data!$A$6:$A$1806,Data!$D$6:$D$1806)","v":0},{"$f":"IF($Z$1=\"+\",LOOKUP($V346,Data!$A$6:$A$1806,Data!$E$6:$E$1806)*-1,LOOKUP($V346,Data!$A$6:$A$1806,Data!$E$6:$E$1806))","v":0},{"$f":"LOOKUP($V346,Data!$A$6:$A$1806,Data!$F$6:$F$1806)","v":0},null,{"$f":"LOOKUP($V346,Data!$A$6:$A$1806,Data!$H$6:$H$1806)","v":0},{"$f":"LOOKUP($V346,Data!$A$6:$A$1806,Data!$I$6:$I$1806)","v":0},{"$f":"IF(LOOKUP($V346,Data!$A$6:$A$1806,Data!$J$6:$J$1806)>0,(LOOKUP($V346,Data!$A$6:$A$1806,Data!$J$6:$J$1806)*-1),LOOKUP($V346,Data!$A$6:$A$1806,Data!$J$6:$J$1806))","v":-653},{"$f":"LOOKUP($V346,Data!$A$6:$A$1806,Data!$K$6:$K$1806)","v":30396.666015625},-113.988037109375,null,null,null,null,null,null,null,null,null,null,null,null,null,null,null," ",1.74560546875E-2," "]
[null,40679.344143518021,{"$f":"LOOKUP(B347,Data!$A$6:$A$1806,Data!B$6:B$1806)","v":60.019073486328125},{"$f":"LOOKUP(B347,Data!$A$6:$A$1806,Data!C$6:C$1806)","v":0},null,null,19590,{"$f":"(IF((C347-L$2)>0,(IF(C347<'Copy Results'!$C$3,((C347-L$2-L$5)/((L$4*L$2)-L$5)*G347*-1),(('Copy Results'!$C$3-L$2-L$5)/((L$4*L$2)-L$5)*G347*-1))),IF(C347>'Copy Results'!$C$2,((C347-L$2+L$5)/((L$4*L$2)-L$5)*G347*-1),(('Copy Results'!$C$2-L$2+L$5)/((L$4*L$2)-L$5)*G347*-1))))","v":-124.54986572265625},-111.76353555866135,null,null,0,-132.39598544472733,{"$f":"AVERAGE(D$79:D347)","v":0},{"$f":"AVERAGE(M$79:M347)","v":174.99999635689798},-18.644902043525651,{"$f":"AVERAGE(P$79:P347)","v":87.469732946666028},null,null,null,null,40679.344143518021,{"$f":"LOOKUP($V347,Data!$A$6:$A$1806,Data!$B$6:$B$1806)","v":60.019073486328125},{"$f":"LOOKUP($V347,Data!$A$6:$A$1806,Data!$C$6:$C$1806)","v":0},{"$f":"LOOKUP($V347,Data!$A$6:$A$1806,Data!$D$6:$D$1806)","v":0},{"$f":"IF($Z$1=\"+\",LOOKUP($V347,Data!$A$6:$A$1806,Data!$E$6:$E$1806)*-1,LOOKUP($V347,Data!$A$6:$A$1806,Data!$E$6:$E$1806))","v":0},{"$f":"LOOKUP($V347,Data!$A$6:$A$1806,Data!$F$6:$F$1806)","v":0},null,{"$f":"LOOKUP($V347,Data!$A$6:$A$1806,Data!$H$6:$H$1806)","v":0},{"$f":"LOOKUP($V347,Data!$A$6:$A$1806,Data!$I$6:$I$1806)","v":0},{"$f":"IF(LOOKUP($V347,Data!$A$6:$A$1806,Data!$J$6:$J$1806)>0,(LOOKUP($V347,Data!$A$6:$A$1806,Data!$J$6:$J$1806)*-1),LOOKUP($V347,Data!$A$6:$A$1806,Data!$J$6:$J$1806))","v":-653},{"$f":"LOOKUP($V347,Data!$A$6:$A$1806,Data!$K$6:$K$1806)","v":30396.666015625},-124.54986572265625,null,null,null,null,null,null,null,null,null,null,null,null,null,null,null," ",1.9073486328125E-2," "]
[null,40679.344166666167,{"$f":"LOOKUP(B348,Data!$A$6:$A$1806,Data!B$6:B$1806)","v":60.019073486328125},{"$f":"LOOKUP(B348,Data!$A$6:$A$1806,Data!C$6:C$1806)","v":0},null,null,19590,{"$f":"(IF((C348-L$2)>0,(IF(C348<'Copy Results'!$C$3,((C348-L$2-L$5)/((L$4*L$2)-L$5)*G348*-1),(('Copy Results'!$C$3-L$2-L$5)/((L$4*L$2)-L$5)*G348*-1))),IF(C348>'Copy Results'!$C$2,((C348-L$2+L$5)/((L$4*L$2)-L$5)*G348*-1),(('Copy Results'!$C$2-L$2+L$5)/((L$4*L$2)-L$5)*G348*-1))))","v":-124.54986572265625},-116.23875111605956,null,null,0,-136.87120100212553,{"$f":"AVERAGE(D$79:D348)","v":0},{"$f":"AVERAGE(M$79:M348)","v":173.84491784816083},-18.644902043525651,{"$f":"AVERAGE(P$79:P348)","v":87.075254749676461},null,null,null,null,40679.344166666167,{"$f":"LOOKUP($V348,Data!$A$6:$A$1806,Data!$B$6:$B$1806)","v":60.019073486328125},{"$f":"LOOKUP($V348,Data!$A$6:$A$1806,Data!$C$6:$C$1806)","v":0},{"$f":"LOOKUP($V348,Data!$A$6:$A$1806,Data!$D$6:$D$1806)","v":0},{"$f":"IF($Z$1=\"+\",LOOKUP($V348,Data!$A$6:$A$1806,Data!$E$6:$E$1806)*-1,LOOKUP($V348,Data!$A$6:$A$1806,Data!$E$6:$E$1806))","v":0},{"$f":"LOOKUP($V348,Data!$A$6:$A$1806,Data!$F$6:$F$1806)","v":0},null,{"$f":"LOOKUP($V348,Data!$A$6:$A$1806,Data!$H$6:$H$1806)","v":0},{"$f":"LOOKUP($V348,Data!$A$6:$A$1806,Data!$I$6:$I$1806)","v":0},{"$f":"IF(LOOKUP($V348,Data!$A$6:$A$1806,Data!$J$6:$J$1806)>0,(LOOKUP($V348,Data!$A$6:$A$1806,Data!$J$6:$J$1806)*-1),LOOKUP($V348,Data!$A$6:$A$1806,Data!$J$6:$J$1806))","v":-653},{"$f":"LOOKUP($V348,Data!$A$6:$A$1806,Data!$K$6:$K$1806)","v":30388.615234375},-124.54986572265625,null,null,null,null,null,null,null,null,null,null,null,null,null,null,null," ",1.9073486328125E-2," "]
[null,40679.344189814314,{"$f":"LOOKUP(B349,Data!$A$6:$A$1806,Data!B$6:B$1806)","v":60.020355224609375},{"$f":"LOOKUP(B349,Data!$A$6:$A$1806,Data!C$6:C$1806)","v":0},null,null,19590,{"$f":"(IF((C349-L$2)>0,(IF(C349<'Copy Results'!$C$3,((C349-L$2-L$5)/((L$4*L$2)-L$5)*G349*-1),(('Copy Results'!$C$3-L$2-L$5)/((L$4*L$2)-L$5)*G349*-1))),IF(C349>'Copy Results'!$C$2,((C349-L$2+L$5)/((L$4*L$2)-L$5)*G349*-1),(('Copy Results'!$C$2-L$2+L$5)/((L$4*L$2)-L$5)*G349*-1))))","v":-132.91961669921875},-122.07705407016527,null,null,0,-142.70950395623123,{"$f":"AVERAGE(D$79:D349)","v":0},{"$f":"AVERAGE(M$79:M349)","v":172.67682035072767},-18.644902043525651,{"$f":"AVERAGE(P$79:P349)","v":86.683698613405355},null,null,null,null,40679.344189814314,{"$f":"LOOKUP($V349,Data!$A$6:$A$1806,Data!$B$6:$B$1806)","v":60.020355224609375},{"$f":"LOOKUP($V349,Data!$A$6:$A$1806,Data!$C$6:$C$1806)","v":0},{"$f":"LOOKUP($V349,Data!$A$6:$A$1806,Data!$D$6:$D$1806)","v":0},{"$f":"IF($Z$1=\"+\",LOOKUP($V349,Data!$A$6:$A$1806,Data!$E$6:$E$1806)*-1,LOOKUP($V349,Data!$A$6:$A$1806,Data!$E$6:$E$1806))","v":0},{"$f":"LOOKUP($V349,Data!$A$6:$A$1806,Data!$F$6:$F$1806)","v":0},null,{"$f":"LOOKUP($V349,Data!$A$6:$A$1806,Data!$H$6:$H$1806)","v":0},{"$f":"LOOKUP($V349,Data!$A$6:$A$1806,Data!$I$6:$I$1806)","v":0},{"$f":"IF(LOOKUP($V349,Data!$A$6:$A$1806,Data!$J$6:$J$1806)>0,(LOOKUP($V349,Data!$A$6:$A$1806,Data!$J$6:$J$1806)*-1),LOOKUP($V349,Data!$A$6:$A$1806,Data!$J$6:$J$1806))","v":-653},{"$f":"LOOKUP($V349,Data!$A$6:$A$1806,Data!$K$6:$K$1806)","v":30388.615234375},-132.91961669921875,null,null,null,null,null,null,null,null,null,null,null,null,null,null,null," ",2.0355224609375E-2," "]
[null,40679.34421296246,{"$f":"LOOKUP(B350,Data!$A$6:$A$1806,Data!B$6:B$1806)","v":60.01873779296875},{"$f":"LOOKUP(B350,Data!$A$6:$A$1806,Data!C$6:C$1806)","v":0},null,null,19590,{"$f":"(IF((C350-L$2)>0,(IF(C350<'Copy Results'!$C$3,((C350-L$2-L$5)/((L$4*L$2)-L$5)*G350*-1),(('Copy Results'!$C$3-L$2-L$5)/((L$4*L$2)-L$5)*G350*-1))),IF(C350>'Copy Results'!$C$2,((C350-L$2+L$5)/((L$4*L$2)-L$5)*G350*-1),(('Copy Results'!$C$2-L$2+L$5)/((L$4*L$2)-L$5)*G350*-1))))","v":-122.3577880859375},-122.17531097568556,null,null,0,-142.80776086175152,{"$f":"AVERAGE(D$79:D350)","v":0},{"$f":"AVERAGE(M$79:M350)","v":171.51695056685824},-18.644902043525651,{"$f":"AVERAGE(P$79:P350)","v":86.295032190317045},null,null,null,null,40679.34421296246,{"$f":"LOOKUP($V350,Data!$A$6:$A$1806,Data!$B$6:$B$1806)","v":60.01873779296875},{"$f":"LOOKUP($V350,Data!$A$6:$A$1806,Data!$C$6:$C$1806)","v":0},{"$f":"LOOKUP($V350,Data!$A$6:$A$1806,Data!$D$6:$D$1806)","v":0},{"$f":"IF($Z$1=\"+\",LOOKUP($V350,Data!$A$6:$A$1806,Data!$E$6:$E$1806)*-1,LOOKUP($V350,Data!$A$6:$A$1806,Data!$E$6:$E$1806))","v":0},{"$f":"LOOKUP($V350,Data!$A$6:$A$1806,Data!$F$6:$F$1806)","v":0},null,{"$f":"LOOKUP($V350,Data!$A$6:$A$1806,Data!$H$6:$H$1806)","v":0},{"$f":"LOOKUP($V350,Data!$A$6:$A$1806,Data!$I$6:$I$1806)","v":0},{"$f":"IF(LOOKUP($V350,Data!$A$6:$A$1806,Data!$J$6:$J$1806)>0,(LOOKUP($V350,Data!$A$6:$A$1806,Data!$J$6:$J$1806)*-1),LOOKUP($V350,Data!$A$6:$A$1806,Data!$J$6:$J$1806))","v":-653},{"$f":"LOOKUP($V350,Data!$A$6:$A$1806,Data!$K$6:$K$1806)","v":30388.615234375},-122.3577880859375,null,null,null,null,null,null,null,null,null,null,null,null,null,null,null," ",1.873779296875E-2," "]
[null,40679.344236110606,{"$f":"LOOKUP(B351,Data!$A$6:$A$1806,Data!B$6:B$1806)","v":60.01873779296875},{"$f":"LOOKUP(B351,Data!$A$6:$A$1806,Data!C$6:C$1806)","v":0},null,null,19590,{"$f":"(IF((C351-L$2)>0,(IF(C351<'Copy Results'!$C$3,((C351-L$2-L$5)/((L$4*L$2)-L$5)*G351*-1),(('Copy Results'!$C$3-L$2-L$5)/((L$4*L$2)-L$5)*G351*-1))),IF(C351>'Copy Results'!$C$2,((C351-L$2+L$5)/((L$4*L$2)-L$5)*G351*-1),(('Copy Results'!$C$2-L$2+L$5)/((L$4*L$2)-L$5)*G351*-1))))","v":-122.3577880859375},-122.23917796427374,null,null,0,-142.87162785033968,{"$f":"AVERAGE(D$79:D351)","v":0},{"$f":"AVERAGE(M$79:M351)","v":170.36534405250953},-18.644902043525651,{"$f":"AVERAGE(P$79:P351)","v":85.909223608574976},null,null,null,null,40679.344236110606,{"$f":"LOOKUP($V351,Data!$A$6:$A$1806,Data!$B$6:$B$1806)","v":60.01873779296875},{"$f":"LOOKUP($V351,Data!$A$6:$A$1806,Data!$C$6:$C$1806)","v":0},{"$f":"LOOKUP($V351,Data!$A$6:$A$1806,Data!$D$6:$D$1806)","v":0},{"$f":"IF($Z$1=\"+\",LOOKUP($V351,Data!$A$6:$A$1806,Data!$E$6:$E$1806)*-1,LOOKUP($V351,Data!$A$6:$A$1806,Data!$E$6:$E$1806))","v":0},{"$f":"LOOKUP($V351,Data!$A$6:$A$1806,Data!$F$6:$F$1806)","v":0},null,{"$f":"LOOKUP($V351,Data!$A$6:$A$1806,Data!$H$6:$H$1806)","v":0},{"$f":"LOOKUP($V351,Data!$A$6:$A$1806,Data!$I$6:$I$1806)","v":0},{"$f":"IF(LOOKUP($V351,Data!$A$6:$A$1806,Data!$J$6:$J$1806)>0,(LOOKUP($V351,Data!$A$6:$A$1806,Data!$J$6:$J$1806)*-1),LOOKUP($V351,Data!$A$6:$A$1806,Data!$J$6:$J$1806))","v":-653},{"$f":"LOOKUP($V351,Data!$A$6:$A$1806,Data!$K$6:$K$1806)","v":30388.615234375},-122.3577880859375,null,null,null,null,null,null,null,null,null,null,null,null,null,null,null," ",1.873779296875E-2," "]
[null,40679.344259258753,{"$f":"LOOKUP(B352,Data!$A$6:$A$1806,Data!B$6:B$1806)","v":60.01971435546875},{"$f":"LOOKUP(B352,Data!$A$6:$A$1806,Data!C$6:C$1806)","v":0},null,null,19590,{"$f":"(IF((C352-L$2)>0,(IF(C352<'Copy Results'!$C$3,((C352-L$2-L$5)/((L$4*L$2)-L$5)*G352*-1),(('Copy Results'!$C$3-L$2-L$5)/((L$4*L$2)-L$5)*G352*-1))),IF(C352>'Copy Results'!$C$2,((C352-L$2+L$5)/((L$4*L$2)-L$5)*G352*-1),(('Copy Results'!$C$2-L$2+L$5)/((L$4*L$2)-L$5)*G352*-1))))","v":-128.7347412109375},-124.51262510060606,null,null,0,-145.145074986672,{"$f":"AVERAGE(D$79:D352)","v":0},{"$f":"AVERAGE(M$79:M352)","v":169.21384617280449},-18.644902043525651,{"$f":"AVERAGE(P$79:P352)","v":85.5262414633292},null,null,null,null,40679.344259258753,{"$f":"LOOKUP($V352,Data!$A$6:$A$1806,Data!$B$6:$B$1806)","v":60.01971435546875},{"$f":"LOOKUP($V352,Data!$A$6:$A$1806,Data!$C$6:$C$1806)","v":0},{"$f":"LOOKUP($V352,Data!$A$6:$A$1806,Data!$D$6:$D$1806)","v":0},{"$f":"IF($Z$1=\"+\",LOOKUP($V352,Data!$A$6:$A$1806,Data!$E$6:$E$1806)*-1,LOOKUP($V352,Data!$A$6:$A$1806,Data!$E$6:$E$1806))","v":0},{"$f":"LOOKUP($V352,Data!$A$6:$A$1806,Data!$F$6:$F$1806)","v":0},null,{"$f":"LOOKUP($V352,Data!$A$6:$A$1806,Data!$H$6:$H$1806)","v":0},{"$f":"LOOKUP($V352,Data!$A$6:$A$1806,Data!$I$6:$I$1806)","v":0},{"$f":"IF(LOOKUP($V352,Data!$A$6:$A$1806,Data!$J$6:$J$1806)>0,(LOOKUP($V352,Data!$A$6:$A$1806,Data!$J$6:$J$1806)*-1),LOOKUP($V352,Data!$A$6:$A$1806,Data!$J$6:$J$1806))","v":-653},{"$f":"LOOKUP($V352,Data!$A$6:$A$1806,Data!$K$6:$K$1806)","v":30381.775390625},-128.7347412109375,null,null,null,null,null,null,null,null,null,null,null,null,null,null,null," ",1.971435546875E-2," "]
[null,40679.344282406899,{"$f":"LOOKUP(B353,Data!$A$6:$A$1806,Data!B$6:B$1806)","v":60.01971435546875},{"$f":"LOOKUP(B353,Data!$A$6:$A$1806,Data!C$6:C$1806)","v":0},null,null,19590,{"$f":"(IF((C353-L$2)>0,(IF(C353<'Copy Results'!$C$3,((C353-L$2-L$5)/((L$4*L$2)-L$5)*G353*-1),(('Copy Results'!$C$3-L$2-L$5)/((L$4*L$2)-L$5)*G353*-1))),IF(C353>'Copy Results'!$C$2,((C353-L$2+L$5)/((L$4*L$2)-L$5)*G353*-1),(('Copy Results'!$C$2-L$2+L$5)/((L$4*L$2)-L$5)*G353*-1))))","v":-128.7347412109375},-125.99036573922207,null,null,0,-146.62281562528801,{"$f":"AVERAGE(D$79:D353)","v":0},{"$f":"AVERAGE(M$79:M353)","v":168.06534922081141},-18.644902043525651,{"$f":"AVERAGE(P$79:P353)","v":85.146054808194691},null,null,null,null,40679.344282406899,{"$f":"LOOKUP($V353,Data!$A$6:$A$1806,Data!$B$6:$B$1806)","v":60.01971435546875},{"$f":"LOOKUP($V353,Data!$A$6:$A$1806,Data!$C$6:$C$1806)","v":0},{"$f":"LOOKUP($V353,Data!$A$6:$A$1806,Data!$D$6:$D$1806)","v":0},{"$f":"IF($Z$1=\"+\",LOOKUP($V353,Data!$A$6:$A$1806,Data!$E$6:$E$1806)*-1,LOOKUP($V353,Data!$A$6:$A$1806,Data!$E$6:$E$1806))","v":0},{"$f":"LOOKUP($V353,Data!$A$6:$A$1806,Data!$F$6:$F$1806)","v":0},null,{"$f":"LOOKUP($V353,Data!$A$6:$A$1806,Data!$H$6:$H$1806)","v":0},{"$f":"LOOKUP($V353,Data!$A$6:$A$1806,Data!$I$6:$I$1806)","v":0},{"$f":"IF(LOOKUP($V353,Data!$A$6:$A$1806,Data!$J$6:$J$1806)>0,(LOOKUP($V353,Data!$A$6:$A$1806,Data!$J$6:$J$1806)*-1),LOOKUP($V353,Data!$A$6:$A$1806,Data!$J$6:$J$1806))","v":-653},{"$f":"LOOKUP($V353,Data!$A$6:$A$1806,Data!$K$6:$K$1806)","v":30381.775390625},-128.7347412109375,null,null,null,null,null,null,null,null,null,null,null,null,null,null,null," ",1.971435546875E-2," "]
[null,40679.344305555045,{"$f":"LOOKUP(B354,Data!$A$6:$A$1806,Data!B$6:B$1806)","v":60.01971435546875},{"$f":"LOOKUP(B354,Data!$A$6:$A$1806,Data!C$6:C$1806)","v":0},null,null,19590,{"$f":"(IF((C354-L$2)>0,(IF(C354<'Copy Results'!$C$3,((C354-L$2-L$5)/((L$4*L$2)-L$5)*G354*-1),(('Copy Results'!$C$3-L$2-L$5)/((L$4*L$2)-L$5)*G354*-1))),IF(C354>'Copy Results'!$C$2,((C354-L$2+L$5)/((L$4*L$2)-L$5)*G354*-1),(('Copy Results'!$C$2-L$2+L$5)/((L$4*L$2)-L$5)*G354*-1))))","v":-128.7347412109375},-126.95089715432248,null,null,0,-147.58334704038842,{"$f":"AVERAGE(D$79:D354)","v":0},{"$f":"AVERAGE(M$79:M354)","v":166.92169452421285},-18.644902043525651,{"$f":"AVERAGE(P$79:P354)","v":84.768633146915718},null,null,null,null,40679.344305555045,{"$f":"LOOKUP($V354,Data!$A$6:$A$1806,Data!$B$6:$B$1806)","v":60.01971435546875},{"$f":"LOOKUP($V354,Data!$A$6:$A$1806,Data!$C$6:$C$1806)","v":0},{"$f":"LOOKUP($V354,Data!$A$6:$A$1806,Data!$D$6:$D$1806)","v":0},{"$f":"IF($Z$1=\"+\",LOOKUP($V354,Data!$A$6:$A$1806,Data!$E$6:$E$1806)*-1,LOOKUP($V354,Data!$A$6:$A$1806,Data!$E$6:$E$1806))","v":0},{"$f":"LOOKUP($V354,Data!$A$6:$A$1806,Data!$F$6:$F$1806)","v":0},null,{"$f":"LOOKUP($V354,Data!$A$6:$A$1806,Data!$H$6:$H$1806)","v":0},{"$f":"LOOKUP($V354,Data!$A$6:$A$1806,Data!$I$6:$I$1806)","v":0},{"$f":"IF(LOOKUP($V354,Data!$A$6:$A$1806,Data!$J$6:$J$1806)>0,(LOOKUP($V354,Data!$A$6:$A$1806,Data!$J$6:$J$1806)*-1),LOOKUP($V354,Data!$A$6:$A$1806,Data!$J$6:$J$1806))","v":-653},{"$f":"LOOKUP($V354,Data!$A$6:$A$1806,Data!$K$6:$K$1806)","v":30382.958984375},-128.7347412109375,null,null,null,null,null,null,null,null,null,null,null,null,null,null,null," ",1.971435546875E-2," "]
[null,40679.344328703191,{"$f":"LOOKUP(B355,Data!$A$6:$A$1806,Data!B$6:B$1806)","v":60.018402099609375},{"$f":"LOOKUP(B355,Data!$A$6:$A$1806,Data!C$6:C$1806)","v":0},null,null,19590,{"$f":"(IF((C355-L$2)>0,(IF(C355<'Copy Results'!$C$3,((C355-L$2-L$5)/((L$4*L$2)-L$5)*G355*-1),(('Copy Results'!$C$3-L$2-L$5)/((L$4*L$2)-L$5)*G355*-1))),IF(C355>'Copy Results'!$C$2,((C355-L$2+L$5)/((L$4*L$2)-L$5)*G355*-1),(('Copy Results'!$C$2-L$2+L$5)/((L$4*L$2)-L$5)*G355*-1))))","v":-120.16571044921875},-124.57608180753617,null,null,0,-145.20853169360211,{"$f":"AVERAGE(D$79:D355)","v":0},{"$f":"AVERAGE(M$79:M355)","v":165.79487060284893},-18.644902043525651,{"$f":"AVERAGE(P$79:P355)","v":84.393946425211212},null,null,null,null,40679.344328703191,{"$f":"LOOKUP($V355,Data!$A$6:$A$1806,Data!$B$6:$B$1806)","v":60.018402099609375},{"$f":"LOOKUP($V355,Data!$A$6:$A$1806,Data!$C$6:$C$1806)","v":0},{"$f":"LOOKUP($V355,Data!$A$6:$A$1806,Data!$D$6:$D$1806)","v":0},{"$f":"IF($Z$1=\"+\",LOOKUP($V355,Data!$A$6:$A$1806,Data!$E$6:$E$1806)*-1,LOOKUP($V355,Data!$A$6:$A$1806,Data!$E$6:$E$1806))","v":0},{"$f":"LOOKUP($V355,Data!$A$6:$A$1806,Data!$F$6:$F$1806)","v":0},null,{"$f":"LOOKUP($V355,Data!$A$6:$A$1806,Data!$H$6:$H$1806)","v":0},{"$f":"LOOKUP($V355,Data!$A$6:$A$1806,Data!$I$6:$I$1806)","v":0},{"$f":"IF(LOOKUP($V355,Data!$A$6:$A$1806,Data!$J$6:$J$1806)>0,(LOOKUP($V355,Data!$A$6:$A$1806,Data!$J$6:$J$1806)*-1),LOOKUP($V355,Data!$A$6:$A$1806,Data!$J$6:$J$1806))","v":-653},{"$f":"LOOKUP($V355,Data!$A$6:$A$1806,Data!$K$6:$K$1806)","v":30382.958984375},-120.16571044921875,null,null,null,null,null,null,null,null,null,null,null,null,null,null,null," ",1.8402099609375E-2," "]
[null,40679.344351851338,{"$f":"LOOKUP(B356,Data!$A$6:$A$1806,Data!B$6:B$1806)","v":60.014862060546875},{"$f":"LOOKUP(B356,Data!$A$6:$A$1806,Data!C$6:C$1806)","v":0},null,null,19590,{"$f":"(IF((C356-L$2)>0,(IF(C356<'Copy Results'!$C$3,((C356-L$2-L$5)/((L$4*L$2)-L$5)*G356*-1),(('Copy Results'!$C$3-L$2-L$5)/((L$4*L$2)-L$5)*G356*-1))),IF(C356>'Copy Results'!$C$2,((C356-L$2+L$5)/((L$4*L$2)-L$5)*G356*-1),(('Copy Results'!$C$2-L$2+L$5)/((L$4*L$2)-L$5)*G356*-1))))","v":-97.04925537109375},-114.94169255478133,null,null,0,-135.57414244084725,{"$f":"AVERAGE(D$79:D356)","v":0},{"$f":"AVERAGE(M$79:M356)","v":164.71080940485001},-18.644902043525651,{"$f":"AVERAGE(P$79:P356)","v":84.021965022797005},null,null,null,null,40679.344351851338,{"$f":"LOOKUP($V356,Data!$A$6:$A$1806,Data!$B$6:$B$1806)","v":60.014862060546875},{"$f":"LOOKUP($V356,Data!$A$6:$A$1806,Data!$C$6:$C$1806)","v":0},{"$f":"LOOKUP($V356,Data!$A$6:$A$1806,Data!$D$6:$D$1806)","v":0},{"$f":"IF($Z$1=\"+\",LOOKUP($V356,Data!$A$6:$A$1806,Data!$E$6:$E$1806)*-1,LOOKUP($V356,Data!$A$6:$A$1806,Data!$E$6:$E$1806))","v":0},{"$f":"LOOKUP($V356,Data!$A$6:$A$1806,Data!$F$6:$F$1806)","v":0},null,{"$f":"LOOKUP($V356,Data!$A$6:$A$1806,Data!$H$6:$H$1806)","v":0},{"$f":"LOOKUP($V356,Data!$A$6:$A$1806,Data!$I$6:$I$1806)","v":0},{"$f":"IF(LOOKUP($V356,Data!$A$6:$A$1806,Data!$J$6:$J$1806)>0,(LOOKUP($V356,Data!$A$6:$A$1806,Data!$J$6:$J$1806)*-1),LOOKUP($V356,Data!$A$6:$A$1806,Data!$J$6:$J$1806))","v":-653},{"$f":"LOOKUP($V356,Data!$A$6:$A$1806,Data!$K$6:$K$1806)","v":30382.958984375},-97.04925537109375,null,null,null,null,null,null,null,null,null,null,null,null,null,null,null," ",1.4862060546875E-2," "]
[null,40679.344374999484,{"$f":"LOOKUP(B357,Data!$A$6:$A$1806,Data!B$6:B$1806)","v":60.013580322265625},{"$f":"LOOKUP(B357,Data!$A$6:$A$1806,Data!C$6:C$1806)","v":0},null,null,19590,{"$f":"(IF((C357-L$2)>0,(IF(C357<'Copy Results'!$C$3,((C357-L$2-L$5)/((L$4*L$2)-L$5)*G357*-1),(('Copy Results'!$C$3-L$2-L$5)/((L$4*L$2)-L$5)*G357*-1))),IF(C357>'Copy Results'!$C$2,((C357-L$2+L$5)/((L$4*L$2)-L$5)*G357*-1),(('Copy Results'!$C$2-L$2+L$5)/((L$4*L$2)-L$5)*G357*-1))))","v":-88.67950439453125},-105.7499266986938,null,null,0,-126.38237658475973,{"$f":"AVERAGE(D$79:D357)","v":0},{"$f":"AVERAGE(M$79:M357)","v":163.66746465219907},-18.644902043525651,{"$f":"AVERAGE(P$79:P357)","v":83.652659745580024},null,null,null,null,40679.344374999484,{"$f":"LOOKUP($V357,Data!$A$6:$A$1806,Data!$B$6:$B$1806)","v":60.013580322265625},{"$f":"LOOKUP($V357,Data!$A$6:$A$1806,Data!$C$6:$C$1806)","v":0},{"$f":"LOOKUP($V357,Data!$A$6:$A$1806,Data!$D$6:$D$1806)","v":0},{"$f":"IF($Z$1=\"+\",LOOKUP($V357,Data!$A$6:$A$1806,Data!$E$6:$E$1806)*-1,LOOKUP($V357,Data!$A$6:$A$1806,Data!$E$6:$E$1806))","v":0},{"$f":"LOOKUP($V357,Data!$A$6:$A$1806,Data!$F$6:$F$1806)","v":0},null,{"$f":"LOOKUP($V357,Data!$A$6:$A$1806,Data!$H$6:$H$1806)","v":0},{"$f":"LOOKUP($V357,Data!$A$6:$A$1806,Data!$I$6:$I$1806)","v":0},{"$f":"IF(LOOKUP($V357,Data!$A$6:$A$1806,Data!$J$6:$J$1806)>0,(LOOKUP($V357,Data!$A$6:$A$1806,Data!$J$6:$J$1806)*-1),LOOKUP($V357,Data!$A$6:$A$1806,Data!$J$6:$J$1806))","v":-653},{"$f":"LOOKUP($V357,Data!$A$6:$A$1806,Data!$K$6:$K$1806)","v":30382.958984375},-88.67950439453125,null,null,null,null,null,null,null,null,null,null,null,null,null,null,null," ",1.3580322265625E-2," "]
[null,40679.34439814763,{"$f":"LOOKUP(B358,Data!$A$6:$A$1806,Data!B$6:B$1806)","v":60.013885498046875},{"$f":"LOOKUP(B358,Data!$A$6:$A$1806,Data!C$6:C$1806)","v":0},null,null,19590,{"$f":"(IF((C358-L$2)>0,(IF(C358<'Copy Results'!$C$3,((C358-L$2-L$5)/((L$4*L$2)-L$5)*G358*-1),(('Copy Results'!$C$3-L$2-L$5)/((L$4*L$2)-L$5)*G358*-1))),IF(C358>'Copy Results'!$C$2,((C358-L$2+L$5)/((L$4*L$2)-L$5)*G358*-1),(('Copy Results'!$C$2-L$2+L$5)/((L$4*L$2)-L$5)*G358*-1))))","v":-90.67230224609375},-100.47275814028379,null,null,0,-121.10520802634971,{"$f":"AVERAGE(D$79:D358)","v":0},{"$f":"AVERAGE(M$79:M358)","v":162.65041939263284},-18.644902043525651,{"$f":"AVERAGE(P$79:P358)","v":83.286001818020509},null,null,null,null,40679.34439814763,{"$f":"LOOKUP($V358,Data!$A$6:$A$1806,Data!$B$6:$B$1806)","v":60.013885498046875},{"$f":"LOOKUP($V358,Data!$A$6:$A$1806,Data!$C$6:$C$1806)","v":0},{"$f":"LOOKUP($V358,Data!$A$6:$A$1806,Data!$D$6:$D$1806)","v":0},{"$f":"IF($Z$1=\"+\",LOOKUP($V358,Data!$A$6:$A$1806,Data!$E$6:$E$1806)*-1,LOOKUP($V358,Data!$A$6:$A$1806,Data!$E$6:$E$1806))","v":0},{"$f":"LOOKUP($V358,Data!$A$6:$A$1806,Data!$F$6:$F$1806)","v":0},null,{"$f":"LOOKUP($V358,Data!$A$6:$A$1806,Data!$H$6:$H$1806)","v":0},{"$f":"LOOKUP($V358,Data!$A$6:$A$1806,Data!$I$6:$I$1806)","v":0},{"$f":"IF(LOOKUP($V358,Data!$A$6:$A$1806,Data!$J$6:$J$1806)>0,(LOOKUP($V358,Data!$A$6:$A$1806,Data!$J$6:$J$1806)*-1),LOOKUP($V358,Data!$A$6:$A$1806,Data!$J$6:$J$1806))","v":-653},{"$f":"LOOKUP($V358,Data!$A$6:$A$1806,Data!$K$6:$K$1806)","v":30381.482421875},-90.67230224609375,null,null,null,null,null,null,null,null,null,null,null,null,null,null,null," ",1.3885498046875E-2," "]
[null,40679.344421295777,{"$f":"LOOKUP(B359,Data!$A$6:$A$1806,Data!B$6:B$1806)","v":60.01226806640625},{"$f":"LOOKUP(B359,Data!$A$6:$A$1806,Data!C$6:C$1806)","v":0},null,null,19590,{"$f":"(IF((C359-L$2)>0,(IF(C359<'Copy Results'!$C$3,((C359-L$2-L$5)/((L$4*L$2)-L$5)*G359*-1),(('Copy Results'!$C$3-L$2-L$5)/((L$4*L$2)-L$5)*G359*-1))),IF(C359>'Copy Results'!$C$2,((C359-L$2+L$5)/((L$4*L$2)-L$5)*G359*-1),(('Copy Results'!$C$2-L$2+L$5)/((L$4*L$2)-L$5)*G359*-1))))","v":-80.1104736328125},-93.345958562668841,null,null,0,-113.97840844873477,{"$f":"AVERAGE(D$79:D359)","v":0},{"$f":"AVERAGE(M$79:M359)","v":161.66597516543936},-18.644902043525651,{"$f":"AVERAGE(P$79:P359)","v":82.92196287565784},null,null,null,null,40679.344421295777,{"$f":"LOOKUP($V359,Data!$A$6:$A$1806,Data!$B$6:$B$1806)","v":60.01226806640625},{"$f":"LOOKUP($V359,Data!$A$6:$A$1806,Data!$C$6:$C$1806)","v":0},{"$f":"LOOKUP($V359,Data!$A$6:$A$1806,Data!$D$6:$D$1806)","v":0},{"$f":"IF($Z$1=\"+\",LOOKUP($V359,Data!$A$6:$A$1806,Data!$E$6:$E$1806)*-1,LOOKUP($V359,Data!$A$6:$A$1806,Data!$E$6:$E$1806))","v":0},{"$f":"LOOKUP($V359,Data!$A$6:$A$1806,Data!$F$6:$F$1806)","v":0},null,{"$f":"LOOKUP($V359,Data!$A$6:$A$1806,Data!$H$6:$H$1806)","v":0},{"$f":"LOOKUP($V359,Data!$A$6:$A$1806,Data!$I$6:$I$1806)","v":0},{"$f":"IF(LOOKUP($V359,Data!$A$6:$A$1806,Data!$J$6:$J$1806)>0,(LOOKUP($V359,Data!$A$6:$A$1806,Data!$J$6:$J$1806)*-1),LOOKUP($V359,Data!$A$6:$A$1806,Data!$J$6:$J$1806))","v":-653},{"$f":"LOOKUP($V359,Data!$A$6:$A$1806,Data!$K$6:$K$1806)","v":30381.482421875},-80.1104736328125,null,null,null,null,null,null,null,null,null,null,null,null,null,null,null," ",1.226806640625E-2," "]
[null,40679.344444443923,{"$f":"LOOKUP(B360,Data!$A$6:$A$1806,Data!B$6:B$1806)","v":60.010009765625},{"$f":"LOOKUP(B360,Data!$A$6:$A$1806,Data!C$6:C$1806)","v":0},null,null,19590,{"$f":"(IF((C360-L$2)>0,(IF(C360<'Copy Results'!$C$3,((C360-L$2-L$5)/((L$4*L$2)-L$5)*G360*-1),(('Copy Results'!$C$3-L$2-L$5)/((L$4*L$2)-L$5)*G360*-1))),IF(C360>'Copy Results'!$C$2,((C360-L$2+L$5)/((L$4*L$2)-L$5)*G360*-1),(('Copy Results'!$C$2-L$2+L$5)/((L$4*L$2)-L$5)*G360*-1))))","v":-65.36376953125},-83.552192401672244,null,null,0,-104.18464228773817,{"$f":"AVERAGE(D$79:D360)","v":0},{"$f":"AVERAGE(M$79:M360)","v":160.72324247943519},-18.644902043525651,{"$f":"AVERAGE(P$79:P360)","v":82.560514957795988},null,null,null,null,40679.344444443923,{"$f":"LOOKUP($V360,Data!$A$6:$A$1806,Data!$B$6:$B$1806)","v":60.010009765625},{"$f":"LOOKUP($V360,Data!$A$6:$A$1806,Data!$C$6:$C$1806)","v":0},{"$f":"LOOKUP($V360,Data!$A$6:$A$1806,Data!$D$6:$D$1806)","v":0},{"$f":"IF($Z$1=\"+\",LOOKUP($V360,Data!$A$6:$A$1806,Data!$E$6:$E$1806)*-1,LOOKUP($V360,Data!$A$6:$A$1806,Data!$E$6:$E$1806))","v":0},{"$f":"LOOKUP($V360,Data!$A$6:$A$1806,Data!$F$6:$F$1806)","v":0},null,{"$f":"LOOKUP($V360,Data!$A$6:$A$1806,Data!$H$6:$H$1806)","v":0},{"$f":"LOOKUP($V360,Data!$A$6:$A$1806,Data!$I$6:$I$1806)","v":0},{"$f":"IF(LOOKUP($V360,Data!$A$6:$A$1806,Data!$J$6:$J$1806)>0,(LOOKUP($V360,Data!$A$6:$A$1806,Data!$J$6:$J$1806)*-1),LOOKUP($V360,Data!$A$6:$A$1806,Data!$J$6:$J$1806))","v":-653},{"$f":"LOOKUP($V360,Data!$A$6:$A$1806,Data!$K$6:$K$1806)","v":30381.482421875},-65.36376953125,null,null,null,null,null,null,null,null,null,null,null,null,null,null,null," ",1.0009765625E-2," "]
[null,40679.344467592069,{"$f":"LOOKUP(B361,Data!$A$6:$A$1806,Data!B$6:B$1806)","v":60.005828857421875},{"$f":"LOOKUP(B361,Data!$A$6:$A$1806,Data!C$6:C$1806)","v":0},null,null,19590,{"$f":"(IF((C361-L$2)>0,(IF(C361<'Copy Results'!$C$3,((C361-L$2-L$5)/((L$4*L$2)-L$5)*G361*-1),(('Copy Results'!$C$3-L$2-L$5)/((L$4*L$2)-L$5)*G361*-1))),IF(C361>'Copy Results'!$C$2,((C361-L$2+L$5)/((L$4*L$2)-L$5)*G361*-1),(('Copy Results'!$C$2-L$2+L$5)/((L$4*L$2)-L$5)*G361*-1))))","v":-38.06243896484375},-67.630778698782279,null,null,0,-88.263228584848207,{"$f":"AVERAGE(D$79:D361)","v":0},{"$f":"AVERAGE(M$79:M361)","v":159.84343162761795},-18.644902043525651,{"$f":"AVERAGE(P$79:P361)","v":82.201630500344493},null,null,null,null,40679.344467592069,{"$f":"LOOKUP($V361,Data!$A$6:$A$1806,Data!$B$6:$B$1806)","v":60.005828857421875},{"$f":"LOOKUP($V361,Data!$A$6:$A$1806,Data!$C$6:$C$1806)","v":0},{"$f":"LOOKUP($V361,Data!$A$6:$A$1806,Data!$D$6:$D$1806)","v":0},{"$f":"IF($Z$1=\"+\",LOOKUP($V361,Data!$A$6:$A$1806,Data!$E$6:$E$1806)*-1,LOOKUP($V361,Data!$A$6:$A$1806,Data!$E$6:$E$1806))","v":0},{"$f":"LOOKUP($V361,Data!$A$6:$A$1806,Data!$F$6:$F$1806)","v":0},null,{"$f":"LOOKUP($V361,Data!$A$6:$A$1806,Data!$H$6:$H$1806)","v":0},{"$f":"LOOKUP($V361,Data!$A$6:$A$1806,Data!$I$6:$I$1806)","v":0},{"$f":"IF(LOOKUP($V361,Data!$A$6:$A$1806,Data!$J$6:$J$1806)>0,(LOOKUP($V361,Data!$A$6:$A$1806,Data!$J$6:$J$1806)*-1),LOOKUP($V361,Data!$A$6:$A$1806,Data!$J$6:$J$1806))","v":-653},{"$f":"LOOKUP($V361,Data!$A$6:$A$1806,Data!$K$6:$K$1806)","v":30381.482421875},-38.06243896484375,null,null,null,null,null,null,null,null,null,null,null,null,null,null,null," ",5.828857421875E-3," "]
[null,40679.344490740215,{"$f":"LOOKUP(B362,Data!$A$6:$A$1806,Data!B$6:B$1806)","v":60.001617431640625},{"$f":"LOOKUP(B362,Data!$A$6:$A$1806,Data!C$6:C$1806)","v":0},null,null,19590,{"$f":"(IF((C362-L$2)>0,(IF(C362<'Copy Results'!$C$3,((C362-L$2-L$5)/((L$4*L$2)-L$5)*G362*-1),(('Copy Results'!$C$3-L$2-L$5)/((L$4*L$2)-L$5)*G362*-1))),IF(C362>'Copy Results'!$C$2,((C362-L$2+L$5)/((L$4*L$2)-L$5)*G362*-1),(('Copy Results'!$C$2-L$2+L$5)/((L$4*L$2)-L$5)*G362*-1))))","v":-10.56182861328125},-47.656646168856923,null,null,0,-68.289096054922851,{"$f":"AVERAGE(D$79:D362)","v":0},{"$f":"AVERAGE(M$79:M362)","v":159.04014807944},-18.644902043525651,{"$f":"AVERAGE(P$79:P362)","v":81.845282328811393},null,null,null,null,40679.344490740215,{"$f":"LOOKUP($V362,Data!$A$6:$A$1806,Data!$B$6:$B$1806)","v":60.001617431640625},{"$f":"LOOKUP($V362,Data!$A$6:$A$1806,Data!$C$6:$C$1806)","v":0},{"$f":"LOOKUP($V362,Data!$A$6:$A$1806,Data!$D$6:$D$1806)","v":0},{"$f":"IF($Z$1=\"+\",LOOKUP($V362,Data!$A$6:$A$1806,Data!$E$6:$E$1806)*-1,LOOKUP($V362,Data!$A$6:$A$1806,Data!$E$6:$E$1806))","v":0},{"$f":"LOOKUP($V362,Data!$A$6:$A$1806,Data!$F$6:$F$1806)","v":0},null,{"$f":"LOOKUP($V362,Data!$A$6:$A$1806,Data!$H$6:$H$1806)","v":0},{"$f":"LOOKUP($V362,Data!$A$6:$A$1806,Data!$I$6:$I$1806)","v":0},{"$f":"IF(LOOKUP($V362,Data!$A$6:$A$1806,Data!$J$6:$J$1806)>0,(LOOKUP($V362,Data!$A$6:$A$1806,Data!$J$6:$J$1806)*-1),LOOKUP($V362,Data!$A$6:$A$1806,Data!$J$6:$J$1806))","v":-653},{"$f":"LOOKUP($V362,Data!$A$6:$A$1806,Data!$K$6:$K$1806)","v":30394.029296875},-10.56182861328125,null,null,null,null,null,null,null,null,null,null,null,null,null,null,null," ",1.617431640625E-3," "]
[null,40679.344513888362,{"$f":"LOOKUP(B363,Data!$A$6:$A$1806,Data!B$6:B$1806)","v":60.001617431640625},{"$f":"LOOKUP(B363,Data!$A$6:$A$1806,Data!C$6:C$1806)","v":0},null,null,19590,{"$f":"(IF((C363-L$2)>0,(IF(C363<'Copy Results'!$C$3,((C363-L$2-L$5)/((L$4*L$2)-L$5)*G363*-1),(('Copy Results'!$C$3-L$2-L$5)/((L$4*L$2)-L$5)*G363*-1))),IF(C363>'Copy Results'!$C$2,((C363-L$2+L$5)/((L$4*L$2)-L$5)*G363*-1),(('Copy Results'!$C$2-L$2+L$5)/((L$4*L$2)-L$5)*G363*-1))))","v":-10.56182861328125},{"$f":"L$13*H363+(1-L$13)*I362","v":-34.673460024405436},null,null,0,-55.305909910471364,{"$f":"AVERAGE(D$79:D363)","v":0},{"$f":"AVERAGE(M$79:M363)","v":158.28805664789644},-18.644902043525651,{"$f":"AVERAGE(P$79:P363)","v":81.491443651444001},null,null,null,null,40679.344513888362,{"$f":"LOOKUP($V363,Data!$A$6:$A$1806,Data!$B$6:$B$1806)","v":60.001617431640625},{"$f":"LOOKUP($V363,Data!$A$6:$A$1806,Data!$C$6:$C$1806)","v":0},{"$f":"LOOKUP($V363,Data!$A$6:$A$1806,Data!$D$6:$D$1806)","v":0},{"$f":"IF($Z$1=\"+\",LOOKUP($V363,Data!$A$6:$A$1806,Data!$E$6:$E$1806)*-1,LOOKUP($V363,Data!$A$6:$A$1806,Data!$E$6:$E$1806))","v":0},{"$f":"LOOKUP($V363,Data!$A$6:$A$1806,Data!$F$6:$F$1806)","v":0},null,{"$f":"LOOKUP($V363,Data!$A$6:$A$1806,Data!$H$6:$H$1806)","v":0},{"$f":"LOOKUP($V363,Data!$A$6:$A$1806,Data!$I$6:$I$1806)","v":0},{"$f":"IF(LOOKUP($V363,Data!$A$6:$A$1806,Data!$J$6:$J$1806)>0,(LOOKUP($V363,Data!$A$6:$A$1806,Data!$J$6:$J$1806)*-1),LOOKUP($V363,Data!$A$6:$A$1806,Data!$J$6:$J$1806))","v":-653},{"$f":"LOOKUP($V363,Data!$A$6:$A$1806,Data!$K$6:$K$1806)","v":30394.029296875},-10.56182861328125,null,null,null,null,null,null,null,null,null,null,null,null,null,null,null," ",1.617431640625E-3," "]
[null,40679.344537036508,{"$f":"LOOKUP(B364,Data!$A$6:$A$1806,Data!B$6:B$1806)","v":59.998046875},{"$f":"LOOKUP(B364,Data!$A$6:$A$1806,Data!C$6:C$1806)","v":0},null,null,{"$f":"AE364*-M$4*10","v":19590},{"$f":"(IF((C364-L$2)>0,(IF(C364<'Copy Results'!$C$3,((C364-L$2-L$5)/((L$4*L$2)-L$5)*G364*-1),(('Copy Results'!$C$3-L$2-L$5)/((L$4*L$2)-L$5)*G364*-1))),IF(C364>'Copy Results'!$C$2,((C364-L$2+L$5)/((L$4*L$2)-L$5)*G364*-1),(('Copy Results'!$C$2-L$2+L$5)/((L$4*L$2)-L$5)*G364*-1))))","v":12.75390625},-18.073881828363536,null,null,0,-38.706331714429467,{"$f":"AVERAGE(D$79:D364)","v":0},{"$f":"AVERAGE(M$79:M364)","v":157.59926508019601},-18.644902043525651,{"$f":"AVERAGE(P$79:P364)","v":81.140088052514287},null,null,null,null,40679.344537036508,{"$f":"LOOKUP($V364,Data!$A$6:$A$1806,Data!$B$6:$B$1806)","v":59.998046875},{"$f":"LOOKUP($V364,Data!$A$6:$A$1806,Data!$C$6:$C$1806)","v":0},{"$f":"LOOKUP($V364,Data!$A$6:$A$1806,Data!$D$6:$D$1806)","v":0},{"$f":"IF($Z$1=\"+\",LOOKUP($V364,Data!$A$6:$A$1806,Data!$E$6:$E$1806)*-1,LOOKUP($V364,Data!$A$6:$A$1806,Data!$E$6:$E$1806))","v":0},{"$f":"LOOKUP($V364,Data!$A$6:$A$1806,Data!$F$6:$F$1806)","v":0},null,{"$f":"LOOKUP($V364,Data!$A$6:$A$1806,Data!$H$6:$H$1806)","v":0},{"$f":"LOOKUP($V364,Data!$A$6:$A$1806,Data!$I$6:$I$1806)","v":0},{"$f":"IF(LOOKUP($V364,Data!$A$6:$A$1806,Data!$J$6:$J$1806)>0,(LOOKUP($V364,Data!$A$6:$A$1806,Data!$J$6:$J$1806)*-1),LOOKUP($V364,Data!$A$6:$A$1806,Data!$J$6:$J$1806))","v":-653},{"$f":"LOOKUP($V364,Data!$A$6:$A$1806,Data!$K$6:$K$1806)","v":30394.0703125},{"$f":"(IF((W364-$L$2)>0,((W364-$L$2-$L$5)/(($L$4*$L$2)-$L$5)*G364*-1),((W364-$L$2+$L$5)/(($L$4*$L$2)-$L$5)*G364*-1)))","v":12.75390625},null,null,null,null,null,null,null,null,null,null,null,null,null,null,null,81245.236842105267,{"$f":"ABS(C364-60)","v":1.953125E-3},{"$f":"IF(AX364>0.036,AE364,\" \")","v":" "}]
[null,40679.344560184654,{"$f":"LOOKUP(B365,Data!$A$6:$A$1806,Data!B$6:B$1806)","v":59.9935302734375},{"$f":"LOOKUP(B365,Data!$A$6:$A$1806,Data!C$6:C$1806)","v":0},null,null,19590,{"$f":"(IF((C365-L$2)>0,(IF(C365<'Copy Results'!$C$3,((C365-L$2-L$5)/((L$4*L$2)-L$5)*G365*-1),(('Copy Results'!$C$3-L$2-L$5)/((L$4*L$2)-L$5)*G365*-1))),IF(C365>'Copy Results'!$C$2,((C365-L$2+L$5)/((L$4*L$2)-L$5)*G365*-1),(('Copy Results'!$C$2-L$2+L$5)/((L$4*L$2)-L$5)*G365*-1))))","v":42.247314453125},3.0385368701574489,null,null,0,-17.593913015908484,{"$f":"AVERAGE(D$79:D365)","v":0},{"$f":"AVERAGE(M$79:M365)","v":156.98883588822352},-18.644902043525651,{"$f":"AVERAGE(P$79:P365)","v":80.791189485744923},null,null,null,null,40679.344560184654,{"$f":"LOOKUP($V365,Data!$A$6:$A$1806,Data!$B$6:$B$1806)","v":59.9935302734375},{"$f":"LOOKUP($V365,Data!$A$6:$A$1806,Data!$C$6:$C$1806)","v":0},{"$f":"LOOKUP($V365,Data!$A$6:$A$1806,Data!$D$6:$D$1806)","v":0},{"$f":"IF($Z$1=\"+\",LOOKUP($V365,Data!$A$6:$A$1806,Data!$E$6:$E$1806)*-1,LOOKUP($V365,Data!$A$6:$A$1806,Data!$E$6:$E$1806))","v":0},{"$f":"LOOKUP($V365,Data!$A$6:$A$1806,Data!$F$6:$F$1806)","v":0},null,{"$f":"LOOKUP($V365,Data!$A$6:$A$1806,Data!$H$6:$H$1806)","v":0},{"$f":"LOOKUP($V365,Data!$A$6:$A$1806,Data!$I$6:$I$1806)","v":0},{"$f":"IF(LOOKUP($V365,Data!$A$6:$A$1806,Data!$J$6:$J$1806)>0,(LOOKUP($V365,Data!$A$6:$A$1806,Data!$J$6:$J$1806)*-1),LOOKUP($V365,Data!$A$6:$A$1806,Data!$J$6:$J$1806))","v":-653},{"$f":"LOOKUP($V365,Data!$A$6:$A$1806,Data!$K$6:$K$1806)","v":30394.0703125},42.247314453125,null,null,null,null,null,null,null,null,null,null,null,null,null,null,null,9243.4700598802392,6.4697265625E-3," "]
[null,{"$f":"B365+TIME(0,0,$B$1)","v":40679.344583332801},{"$f":"LOOKUP(B366,Data!$A$6:$A$1806,Data!B$6:B$1806)","v":59.9925537109375},{"$f":"LOOKUP(B366,Data!$A$6:$A$1806,Data!C$6:C$1806)","v":0},null,null,19590,{"$f":"(IF((C366-L$2)>0,(IF(C366<'Copy Results'!$C$3,((C366-L$2-L$5)/((L$4*L$2)-L$5)*G366*-1),(('Copy Results'!$C$3-L$2-L$5)/((L$4*L$2)-L$5)*G366*-1))),IF(C366>'Copy Results'!$C$2,((C366-L$2+L$5)/((L$4*L$2)-L$5)*G366*-1),(('Copy Results'!$C$2-L$2+L$5)/((L$4*L$2)-L$5)*G366*-1))))","v":48.624267578125},18.99354261794609,null,null,0,-1.6389072681198424,{"$f":"AVERAGE(D$79:D366)","v":0},{"$f":"AVERAGE(M$79:M366)","v":156.4380451133751},-18.644902043525651,{"$f":"AVERAGE(P$79:P366)","v":80.444722267872905},null,null,null,null,40679.344583332801,{"$f":"LOOKUP($V366,Data!$A$6:$A$1806,Data!$B$6:$B$1806)","v":59.9925537109375},{"$f":"LOOKUP($V366,Data!$A$6:$A$1806,Data!$C$6:$C$1806)","v":0},{"$f":"LOOKUP($V366,Data!$A$6:$A$1806,Data!$D$6:$D$1806)","v":0},{"$f":"IF($Z$1=\"+\",LOOKUP($V366,Data!$A$6:$A$1806,Data!$E$6:$E$1806)*-1,LOOKUP($V366,Data!$A$6:$A$1806,Data!$E$6:$E$1806))","v":0},{"$f":"LOOKUP($V366,Data!$A$6:$A$1806,Data!$F$6:$F$1806)","v":0},null,{"$f":"LOOKUP($V366,Data!$A$6:$A$1806,Data!$H$6:$H$1806)","v":0},{"$f":"LOOKUP($V366,Data!$A$6:$A$1806,Data!$I$6:$I$1806)","v":0},{"$f":"IF(LOOKUP($V366,Data!$A$6:$A$1806,Data!$J$6:$J$1806)>0,(LOOKUP($V366,Data!$A$6:$A$1806,Data!$J$6:$J$1806)*-1),LOOKUP($V366,Data!$A$6:$A$1806,Data!$J$6:$J$1806))","v":-653},{"$f":"LOOKUP($V366,Data!$A$6:$A$1806,Data!$K$6:$K$1806)","v":30394.0703125},48.624267578125,null,null,null,null,null,null,null,null,null,null,null,null,null,null,null,7757.082914572864,7.4462890625E-3," "]
[null,40679.344606480947,{"$f":"LOOKUP(B367,Data!$A$6:$A$1806,Data!B$6:B$1806)","v":59.99224853515625},{"$f":"LOOKUP(B367,Data!$A$6:$A$1806,Data!C$6:C$1806)","v":0},null,null,19590,{"$f":"(IF((C367-L$2)>0,(IF(C367<'Copy Results'!$C$3,((C367-L$2-L$5)/((L$4*L$2)-L$5)*G367*-1),(('Copy Results'!$C$3-L$2-L$5)/((L$4*L$2)-L$5)*G367*-1))),IF(C367>'Copy Results'!$C$2,((C367-L$2+L$5)/((L$4*L$2)-L$5)*G367*-1),(('Copy Results'!$C$2-L$2+L$5)/((L$4*L$2)-L$5)*G367*-1))))","v":50.6170654296875},30.061775602055583,null,null,0,9.4293257159896502,{"$f":"AVERAGE(D$79:D367)","v":0},{"$f":"AVERAGE(M$79:M367)","v":155.92936442341875},-18.644902043525651,{"$f":"AVERAGE(P$79:P367)","v":80.100661072347222},null,null,null,null,40679.344606480947,{"$f":"LOOKUP($V367,Data!$A$6:$A$1806,Data!$B$6:$B$1806)","v":59.99224853515625},{"$f":"LOOKUP($V367,Data!$A$6:$A$1806,Data!$C$6:$C$1806)","v":0},{"$f":"LOOKUP($V367,Data!$A$6:$A$1806,Data!$D$6:$D$1806)","v":0},{"$f":"IF($Z$1=\"+\",LOOKUP($V367,Data!$A$6:$A$1806,Data!$E$6:$E$1806)*-1,LOOKUP($V367,Data!$A$6:$A$1806,Data!$E$6:$E$1806))","v":0},{"$f":"LOOKUP($V367,Data!$A$6:$A$1806,Data!$F$6:$F$1806)","v":0},null,{"$f":"LOOKUP($V367,Data!$A$6:$A$1806,Data!$H$6:$H$1806)","v":0},{"$f":"LOOKUP($V367,Data!$A$6:$A$1806,Data!$I$6:$I$1806)","v":0},{"$f":"IF(LOOKUP($V367,Data!$A$6:$A$1806,Data!$J$6:$J$1806)>0,(LOOKUP($V367,Data!$A$6:$A$1806,Data!$J$6:$J$1806)*-1),LOOKUP($V367,Data!$A$6:$A$1806,Data!$J$6:$J$1806))","v":-653},{"$f":"LOOKUP($V367,Data!$A$6:$A$1806,Data!$K$6:$K$1806)","v":30394.0703125},50.6170654296875,null,null,null,null,null,null,null,null,null,null,null,null,null,null,null,7385.9306220095696,7.75146484375E-3," "]
[null,40679.344629629093,{"$f":"LOOKUP(B368,Data!$A$6:$A$1806,Data!B$6:B$1806)","v":59.989990234375},{"$f":"LOOKUP(B368,Data!$A$6:$A$1806,Data!C$6:C$1806)","v":0},null,null,19590,{"$f":"(IF((C368-L$2)>0,(IF(C368<'Copy Results'!$C$3,((C368-L$2-L$5)/((L$4*L$2)-L$5)*G368*-1),(('Copy Results'!$C$3-L$2-L$5)/((L$4*L$2)-L$5)*G368*-1))),IF(C368>'Copy Results'!$C$2,((C368-L$2+L$5)/((L$4*L$2)-L$5)*G368*-1),(('Copy Results'!$C$2-L$2+L$5)/((L$4*L$2)-L$5)*G368*-1))))","v":65.36376953125},42.417473477273631,null,null,0,21.785023591207697,{"$f":"AVERAGE(D$79:D368)","v":0},{"$f":"AVERAGE(M$79:M368)","v":155.46679773089389},-18.644902043525651,{"$f":"AVERAGE(P$79:P368)","v":79.758980923157353},null,null,null,null,40679.344629629093,{"$f":"LOOKUP($V368,Data!$A$6:$A$1806,Data!$B$6:$B$1806)","v":59.989990234375},{"$f":"LOOKUP($V368,Data!$A$6:$A$1806,Data!$C$6:$C$1806)","v":0},{"$f":"LOOKUP($V368,Data!$A$6:$A$1806,Data!$D$6:$D$1806)","v":0},{"$f":"IF($Z$1=\"+\",LOOKUP($V368,Data!$A$6:$A$1806,Data!$E$6:$E$1806)*-1,LOOKUP($V368,Data!$A$6:$A$1806,Data!$E$6:$E$1806))","v":0},{"$f":"LOOKUP($V368,Data!$A$6:$A$1806,Data!$F$6:$F$1806)","v":0},null,{"$f":"LOOKUP($V368,Data!$A$6:$A$1806,Data!$H$6:$H$1806)","v":0},{"$f":"LOOKUP($V368,Data!$A$6:$A$1806,Data!$I$6:$I$1806)","v":0},{"$f":"IF(LOOKUP($V368,Data!$A$6:$A$1806,Data!$J$6:$J$1806)>0,(LOOKUP($V368,Data!$A$6:$A$1806,Data!$J$6:$J$1806)*-1),LOOKUP($V368,Data!$A$6:$A$1806,Data!$J$6:$J$1806))","v":-653},{"$f":"LOOKUP($V368,Data!$A$6:$A$1806,Data!$K$6:$K$1806)","v":30376.91015625},65.36376953125,null,null,null,null,null,null,null,null,null,null,null,null,null,null,null,5454.6272084805651,1.0009765625E-2," "]
[null,40679.344652777239,{"$f":"LOOKUP(B369,Data!$A$6:$A$1806,Data!B$6:B$1806)","v":59.988372802734375},{"$f":"LOOKUP(B369,Data!$A$6:$A$1806,Data!C$6:C$1806)","v":0},null,null,19590,{"$f":"(IF((C369-L$2)>0,(IF(C369<'Copy Results'!$C$3,((C369-L$2-L$5)/((L$4*L$2)-L$5)*G369*-1),(('Copy Results'!$C$3-L$2-L$5)/((L$4*L$2)-L$5)*G369*-1))),IF(C369>'Copy Results'!$C$2,((C369-L$2+L$5)/((L$4*L$2)-L$5)*G369*-1),(('Copy Results'!$C$2-L$2+L$5)/((L$4*L$2)-L$5)*G369*-1))))","v":75.92559814453125},54.145317110813799,null,null,0,33.512867224747865,{"$f":"AVERAGE(D$79:D369)","v":0},{"$f":"AVERAGE(M$79:M369)","v":155.04771205905143},-18.644902043525651,{"$f":"AVERAGE(P$79:P369)","v":79.419657188789486},null,null,null,null,40679.344652777239,{"$f":"LOOKUP($V369,Data!$A$6:$A$1806,Data!$B$6:$B$1806)","v":59.988372802734375},{"$f":"LOOKUP($V369,Data!$A$6:$A$1806,Data!$C$6:$C$1806)","v":0},{"$f":"LOOKUP($V369,Data!$A$6:$A$1806,Data!$D$6:$D$1806)","v":0},{"$f":"IF($Z$1=\"+\",LOOKUP($V369,Data!$A$6:$A$1806,Data!$E$6:$E$1806)*-1,LOOKUP($V369,Data!$A$6:$A$1806,Data!$E$6:$E$1806))","v":0},{"$f":"LOOKUP($V369,Data!$A$6:$A$1806,Data!$F$6:$F$1806)","v":0},null,{"$f":"LOOKUP($V369,Data!$A$6:$A$1806,Data!$H$6:$H$1806)","v":0},{"$f":"LOOKUP($V369,Data!$A$6:$A$1806,Data!$I$6:$I$1806)","v":0},{"$f":"IF(LOOKUP($V369,Data!$A$6:$A$1806,Data!$J$6:$J$1806)>0,(LOOKUP($V369,Data!$A$6:$A$1806,Data!$J$6:$J$1806)*-1),LOOKUP($V369,Data!$A$6:$A$1806,Data!$J$6:$J$1806))","v":-653},{"$f":"LOOKUP($V369,Data!$A$6:$A$1806,Data!$K$6:$K$1806)","v":30376.91015625},75.92559814453125,null,null,null,null,null,null,null,null,null,null,null,null,null,null,null,4594.2247023809523,1.1627197265625E-2," "]
[null,40679.344675925386,{"$f":"LOOKUP(B370,Data!$A$6:$A$1806,Data!B$6:B$1806)","v":59.984161376953125},{"$f":"LOOKUP(B370,Data!$A$6:$A$1806,Data!C$6:C$1806)","v":0},null,null,19590,{"$f":"(IF((C370-L$2)>0,(IF(C370<'Copy Results'!$C$3,((C370-L$2-L$5)/((L$4*L$2)-L$5)*G370*-1),(('Copy Results'!$C$3-L$2-L$5)/((L$4*L$2)-L$5)*G370*-1))),IF(C370>'Copy Results'!$C$2,((C370-L$2+L$5)/((L$4*L$2)-L$5)*G370*-1),(('Copy Results'!$C$2-L$2+L$5)/((L$4*L$2)-L$5)*G370*-1))))","v":103.42620849609375},71.393629095661794,null,null,0,50.761179209595859,{"$f":"AVERAGE(D$79:D370)","v":0},{"$f":"AVERAGE(M$79:M370)","v":154.6905663986081},-18.644902043525651,{"$f":"AVERAGE(P$79:P370)","v":79.082665576307306},null,null,null,null,40679.344675925386,{"$f":"LOOKUP($V370,Data!$A$6:$A$1806,Data!$B$6:$B$1806)","v":59.984161376953125},{"$f":"LOOKUP($V370,Data!$A$6:$A$1806,Data!$C$6:$C$1806)","v":0},{"$f":"LOOKUP($V370,Data!$A$6:$A$1806,Data!$D$6:$D$1806)","v":0},{"$f":"IF($Z$1=\"+\",LOOKUP($V370,Data!$A$6:$A$1806,Data!$E$6:$E$1806)*-1,LOOKUP($V370,Data!$A$6:$A$1806,Data!$E$6:$E$1806))","v":0},{"$f":"LOOKUP($V370,Data!$A$6:$A$1806,Data!$F$6:$F$1806)","v":0},null,{"$f":"LOOKUP($V370,Data!$A$6:$A$1806,Data!$H$6:$H$1806)","v":0},{"$f":"LOOKUP($V370,Data!$A$6:$A$1806,Data!$I$6:$I$1806)","v":0},{"$f":"IF(LOOKUP($V370,Data!$A$6:$A$1806,Data!$J$6:$J$1806)>0,(LOOKUP($V370,Data!$A$6:$A$1806,Data!$J$6:$J$1806)*-1),LOOKUP($V370,Data!$A$6:$A$1806,Data!$J$6:$J$1806))","v":-653},{"$f":"LOOKUP($V370,Data!$A$6:$A$1806,Data!$K$6:$K$1806)","v":30376.91015625},103.42620849609375,null,null,null,null,null,null,null,null,null,null,null,null,null,null,null,3256.665611814346,1.5838623046875E-2," "]
[null,40679.344699073532,{"$f":"LOOKUP(B371,Data!$A$6:$A$1806,Data!B$6:B$1806)","v":59.981597900390625},{"$f":"LOOKUP(B371,Data!$A$6:$A$1806,Data!C$6:C$1806)","v":0},null,null,19590,{"$f":"(IF((C371-L$2)>0,(IF(C371<'Copy Results'!$C$3,((C371-L$2-L$5)/((L$4*L$2)-L$5)*G371*-1),(('Copy Results'!$C$3-L$2-L$5)/((L$4*L$2)-L$5)*G371*-1))),IF(C371>'Copy Results'!$C$2,((C371-L$2+L$5)/((L$4*L$2)-L$5)*G371*-1),(('Copy Results'!$C$2-L$2+L$5)/((L$4*L$2)-L$5)*G371*-1))))","v":120.16571044921875},88.463857569406727,null,null,0,67.831407683340785,{"$f":"AVERAGE(D$79:D371)","v":0},{"$f":"AVERAGE(M$79:M371)","v":154.39411875794164},-18.644902043525651,{"$f":"AVERAGE(P$79:P371)","v":78.747982125554444},null,null,null,null,40679.344699073532,{"$f":"LOOKUP($V371,Data!$A$6:$A$1806,Data!$B$6:$B$1806)","v":59.981597900390625},{"$f":"LOOKUP($V371,Data!$A$6:$A$1806,Data!$C$6:$C$1806)","v":0},{"$f":"LOOKUP($V371,Data!$A$6:$A$1806,Data!$D$6:$D$1806)","v":0},{"$f":"IF($Z$1=\"+\",LOOKUP($V371,Data!$A$6:$A$1806,Data!$E$6:$E$1806)*-1,LOOKUP($V371,Data!$A$6:$A$1806,Data!$E$6:$E$1806))","v":0},{"$f":"LOOKUP($V371,Data!$A$6:$A$1806,Data!$F$6:$F$1806)","v":0},null,{"$f":"LOOKUP($V371,Data!$A$6:$A$1806,Data!$H$6:$H$1806)","v":0},{"$f":"LOOKUP($V371,Data!$A$6:$A$1806,Data!$I$6:$I$1806)","v":0},{"$f":"IF(LOOKUP($V371,Data!$A$6:$A$1806,Data!$J$6:$J$1806)>0,(LOOKUP($V371,Data!$A$6:$A$1806,Data!$J$6:$J$1806)*-1),LOOKUP($V371,Data!$A$6:$A$1806,Data!$J$6:$J$1806))","v":-653},{"$f":"LOOKUP($V371,Data!$A$6:$A$1806,Data!$K$6:$K$1806)","v":30376.91015625},120.16571044921875,null,null,null,null,null,null,null,null,null,null,null,null,null,null,null,2766.4148745519715,1.8402099609375E-2," "]
[null,40679.344722221678,{"$f":"LOOKUP(B372,Data!$A$6:$A$1806,Data!B$6:B$1806)","v":59.980926513671875},{"$f":"LOOKUP(B372,Data!$A$6:$A$1806,Data!C$6:C$1806)","v":0},null,null,19590,{"$f":"(IF((C372-L$2)>0,(IF(C372<'Copy Results'!$C$3,((C372-L$2-L$5)/((L$4*L$2)-L$5)*G372*-1),(('Copy Results'!$C$3-L$2-L$5)/((L$4*L$2)-L$5)*G372*-1))),IF(C372>'Copy Results'!$C$2,((C372-L$2+L$5)/((L$4*L$2)-L$5)*G372*-1),(('Copy Results'!$C$2-L$2+L$5)/((L$4*L$2)-L$5)*G372*-1))))","v":124.54986572265625},101.09396042304405,null,null,0,80.461510536978111,{"$f":"AVERAGE(D$79:D372)","v":0},{"$f":"AVERAGE(M$79:M372)","v":154.14264730140778},-18.644902043525651,{"$f":"AVERAGE(P$79:P372)","v":78.415583203475677},null,null,null,null,40679.344722221678,{"$f":"LOOKUP($V372,Data!$A$6:$A$1806,Data!$B$6:$B$1806)","v":59.980926513671875},{"$f":"LOOKUP($V372,Data!$A$6:$A$1806,Data!$C$6:$C$1806)","v":0},{"$f":"LOOKUP($V372,Data!$A$6:$A$1806,Data!$D$6:$D$1806)","v":0},{"$f":"IF($Z$1=\"+\",LOOKUP($V372,Data!$A$6:$A$1806,Data!$E$6:$E$1806)*-1,LOOKUP($V372,Data!$A$6:$A$1806,Data!$E$6:$E$1806))","v":0},{"$f":"LOOKUP($V372,Data!$A$6:$A$1806,Data!$F$6:$F$1806)","v":0},null,{"$f":"LOOKUP($V372,Data!$A$6:$A$1806,Data!$H$6:$H$1806)","v":0},{"$f":"LOOKUP($V372,Data!$A$6:$A$1806,Data!$I$6:$I$1806)","v":0},{"$f":"IF(LOOKUP($V372,Data!$A$6:$A$1806,Data!$J$6:$J$1806)>0,(LOOKUP($V372,Data!$A$6:$A$1806,Data!$J$6:$J$1806)*-1),LOOKUP($V372,Data!$A$6:$A$1806,Data!$J$6:$J$1806))","v":-653},{"$f":"LOOKUP($V372,Data!$A$6:$A$1806,Data!$K$6:$K$1806)","v":30367.95703125},124.54986572265625,null,null,null,null,null,null,null,null,null,null,null,null,null,null,null,2661.4818965517243,1.9073486328125E-2," "]
[null,40679.344745369825,{"$f":"LOOKUP(B373,Data!$A$6:$A$1806,Data!B$6:B$1806)","v":59.98028564453125},{"$f":"LOOKUP(B373,Data!$A$6:$A$1806,Data!C$6:C$1806)","v":0},null,null,19590,{"$f":"(IF((C373-L$2)>0,(IF(C373<'Copy Results'!$C$3,((C373-L$2-L$5)/((L$4*L$2)-L$5)*G373*-1),(('Copy Results'!$C$3-L$2-L$5)/((L$4*L$2)-L$5)*G373*-1))),IF(C373>'Copy Results'!$C$2,((C373-L$2+L$5)/((L$4*L$2)-L$5)*G373*-1),(('Copy Results'!$C$2-L$2+L$5)/((L$4*L$2)-L$5)*G373*-1))))","v":128.7347412109375},110.76823369880677,null,null,0,90.135783812740826,{"$f":"AVERAGE(D$79:D373)","v":0},{"$f":"AVERAGE(M$79:M373)","v":153.92567488280213},-18.644902043525651,{"$f":"AVERAGE(P$79:P373)","v":78.085445498553909},null,null,null,null,40679.344745369825,{"$f":"LOOKUP($V373,Data!$A$6:$A$1806,Data!$B$6:$B$1806)","v":59.98028564453125},{"$f":"LOOKUP($V373,Data!$A$6:$A$1806,Data!$C$6:$C$1806)","v":0},{"$f":"LOOKUP($V373,Data!$A$6:$A$1806,Data!$D$6:$D$1806)","v":0},{"$f":"IF($Z$1=\"+\",LOOKUP($V373,Data!$A$6:$A$1806,Data!$E$6:$E$1806)*-1,LOOKUP($V373,Data!$A$6:$A$1806,Data!$E$6:$E$1806))","v":0},{"$f":"LOOKUP($V373,Data!$A$6:$A$1806,Data!$F$6:$F$1806)","v":0},null,{"$f":"LOOKUP($V373,Data!$A$6:$A$1806,Data!$H$6:$H$1806)","v":0},{"$f":"LOOKUP($V373,Data!$A$6:$A$1806,Data!$I$6:$I$1806)","v":0},{"$f":"IF(LOOKUP($V373,Data!$A$6:$A$1806,Data!$J$6:$J$1806)>0,(LOOKUP($V373,Data!$A$6:$A$1806,Data!$J$6:$J$1806)*-1),LOOKUP($V373,Data!$A$6:$A$1806,Data!$J$6:$J$1806))","v":-653},{"$f":"LOOKUP($V373,Data!$A$6:$A$1806,Data!$K$6:$K$1806)","v":30367.95703125},128.7347412109375,null,null,null,null,null,null,null,null,null,null,null,null,null,null,null,2568.4850249584028,1.971435546875E-2," "]
[null,40679.344768517971,{"$f":"LOOKUP(B374,Data!$A$6:$A$1806,Data!B$6:B$1806)","v":59.97998046875},{"$f":"LOOKUP(B374,Data!$A$6:$A$1806,Data!C$6:C$1806)","v":0},null,null,19590,{"$f":"(IF((C374-L$2)>0,(IF(C374<'Copy Results'!$C$3,((C374-L$2-L$5)/((L$4*L$2)-L$5)*G374*-1),(('Copy Results'!$C$3-L$2-L$5)/((L$4*L$2)-L$5)*G374*-1))),IF(C374>'Copy Results'!$C$2,((C374-L$2+L$5)/((L$4*L$2)-L$5)*G374*-1),(('Copy Results'!$C$2-L$2+L$5)/((L$4*L$2)-L$5)*G374*-1))))","v":130.7275390625},117.7539905760994,null,null,0,97.121540690033456,{"$f":"AVERAGE(D$79:D374)","v":0},{"$f":"AVERAGE(M$79:M374)","v":153.73376902404277},-18.644902043525651,{"$f":"AVERAGE(P$79:P374)","v":77.757546015360418},null,null,null,null,40679.344768517971,{"$f":"LOOKUP($V374,Data!$A$6:$A$1806,Data!$B$6:$B$1806)","v":59.97998046875},{"$f":"LOOKUP($V374,Data!$A$6:$A$1806,Data!$C$6:$C$1806)","v":0},{"$f":"LOOKUP($V374,Data!$A$6:$A$1806,Data!$D$6:$D$1806)","v":0},{"$f":"IF($Z$1=\"+\",LOOKUP($V374,Data!$A$6:$A$1806,Data!$E$6:$E$1806)*-1,LOOKUP($V374,Data!$A$6:$A$1806,Data!$E$6:$E$1806))","v":0},{"$f":"LOOKUP($V374,Data!$A$6:$A$1806,Data!$F$6:$F$1806)","v":0},null,{"$f":"LOOKUP($V374,Data!$A$6:$A$1806,Data!$H$6:$H$1806)","v":0},{"$f":"LOOKUP($V374,Data!$A$6:$A$1806,Data!$I$6:$I$1806)","v":0},{"$f":"IF(LOOKUP($V374,Data!$A$6:$A$1806,Data!$J$6:$J$1806)>0,(LOOKUP($V374,Data!$A$6:$A$1806,Data!$J$6:$J$1806)*-1),LOOKUP($V374,Data!$A$6:$A$1806,Data!$J$6:$J$1806))","v":-653},{"$f":"LOOKUP($V374,Data!$A$6:$A$1806,Data!$K$6:$K$1806)","v":30367.45703125},130.7275390625,null,null,null,null,null,null,null,null,null,null,null,null,null,null,null,2526.4476268412441,2.001953125E-2," "]
[null,40679.344791666117,{"$f":"LOOKUP(B375,Data!$A$6:$A$1806,Data!B$6:B$1806)","v":59.978363037109375},{"$f":"LOOKUP(B375,Data!$A$6:$A$1806,Data!C$6:C$1806)","v":0},null,null,19590,{"$f":"(IF((C375-L$2)>0,(IF(C375<'Copy Results'!$C$3,((C375-L$2-L$5)/((L$4*L$2)-L$5)*G375*-1),(('Copy Results'!$C$3-L$2-L$5)/((L$4*L$2)-L$5)*G375*-1))),IF(C375>'Copy Results'!$C$2,((C375-L$2+L$5)/((L$4*L$2)-L$5)*G375*-1),(('Copy Results'!$C$2-L$2+L$5)/((L$4*L$2)-L$5)*G375*-1))))","v":141.28936767578125},125.99137256098805,null,null,0,105.35892267492211,{"$f":"AVERAGE(D$79:D375)","v":0},{"$f":"AVERAGE(M$79:M375)","v":153.570890753507},-18.644902043525651,{"$f":"AVERAGE(P$79:P375)","v":77.431862069215541},null,null,null,null,40679.344791666117,{"$f":"LOOKUP($V375,Data!$A$6:$A$1806,Data!$B$6:$B$1806)","v":59.978363037109375},{"$f":"LOOKUP($V375,Data!$A$6:$A$1806,Data!$C$6:$C$1806)","v":0},{"$f":"LOOKUP($V375,Data!$A$6:$A$1806,Data!$D$6:$D$1806)","v":0},{"$f":"IF($Z$1=\"+\",LOOKUP($V375,Data!$A$6:$A$1806,Data!$E$6:$E$1806)*-1,LOOKUP($V375,Data!$A$6:$A$1806,Data!$E$6:$E$1806))","v":0},{"$f":"LOOKUP($V375,Data!$A$6:$A$1806,Data!$F$6:$F$1806)","v":0},null,{"$f":"LOOKUP($V375,Data!$A$6:$A$1806,Data!$H$6:$H$1806)","v":0},{"$f":"LOOKUP($V375,Data!$A$6:$A$1806,Data!$I$6:$I$1806)","v":0},{"$f":"IF(LOOKUP($V375,Data!$A$6:$A$1806,Data!$J$6:$J$1806)>0,(LOOKUP($V375,Data!$A$6:$A$1806,Data!$J$6:$J$1806)*-1),LOOKUP($V375,Data!$A$6:$A$1806,Data!$J$6:$J$1806))","v":-653},{"$f":"LOOKUP($V375,Data!$A$6:$A$1806,Data!$K$6:$K$1806)","v":30367.45703125},141.28936767578125,null,null,null,null,null,null,null,null,null,null,null,null,null,null,null,2324.7884036144578,2.1636962890625E-2," "]
[null,40679.344814814263,{"$f":"LOOKUP(B376,Data!$A$6:$A$1806,Data!B$6:B$1806)","v":59.975128173828125},{"$f":"LOOKUP(B376,Data!$A$6:$A$1806,Data!C$6:C$1806)","v":0},null,null,19590,{"$f":"(IF((C376-L$2)>0,(IF(C376<'Copy Results'!$C$3,((C376-L$2-L$5)/((L$4*L$2)-L$5)*G376*-1),(('Copy Results'!$C$3-L$2-L$5)/((L$4*L$2)-L$5)*G376*-1))),IF(C376>'Copy Results'!$C$2,((C376-L$2+L$5)/((L$4*L$2)-L$5)*G376*-1),(('Copy Results'!$C$2-L$2+L$5)/((L$4*L$2)-L$5)*G376*-1))))","v":162.41302490234375},138.73895088046254,null,null,0,118.1065009943966,{"$f":"AVERAGE(D$79:D376)","v":0},{"$f":"AVERAGE(M$79:M376)","v":153.45188273418114},-18.644902043525651,{"$f":"AVERAGE(P$79:P376)","v":77.108371280957158},null,null,null,null,40679.344814814263,{"$f":"LOOKUP($V376,Data!$A$6:$A$1806,Data!$B$6:$B$1806)","v":59.975128173828125},{"$f":"LOOKUP($V376,Data!$A$6:$A$1806,Data!$C$6:$C$1806)","v":0},{"$f":"LOOKUP($V376,Data!$A$6:$A$1806,Data!$D$6:$D$1806)","v":0},{"$f":"IF($Z$1=\"+\",LOOKUP($V376,Data!$A$6:$A$1806,Data!$E$6:$E$1806)*-1,LOOKUP($V376,Data!$A$6:$A$1806,Data!$E$6:$E$1806))","v":0},{"$f":"LOOKUP($V376,Data!$A$6:$A$1806,Data!$F$6:$F$1806)","v":0},null,{"$f":"LOOKUP($V376,Data!$A$6:$A$1806,Data!$H$6:$H$1806)","v":0},{"$f":"LOOKUP($V376,Data!$A$6:$A$1806,Data!$I$6:$I$1806)","v":0},{"$f":"IF(LOOKUP($V376,Data!$A$6:$A$1806,Data!$J$6:$J$1806)>0,(LOOKUP($V376,Data!$A$6:$A$1806,Data!$J$6:$J$1806)*-1),LOOKUP($V376,Data!$A$6:$A$1806,Data!$J$6:$J$1806))","v":-653},{"$f":"LOOKUP($V376,Data!$A$6:$A$1806,Data!$K$6:$K$1806)","v":30367.45703125},162.41302490234375,null,null,null,null,null,null,null,null,null,null,null,null,null,null,null,2004.7525974025973,2.4871826171875E-2," "]
[null,40679.34483796241,{"$f":"LOOKUP(B377,Data!$A$6:$A$1806,Data!B$6:B$1806)","v":59.972869873046875},{"$f":"LOOKUP(B377,Data!$A$6:$A$1806,Data!C$6:C$1806)","v":0},null,null,19590,{"$f":"(IF((C377-L$2)>0,(IF(C377<'Copy Results'!$C$3,((C377-L$2-L$5)/((L$4*L$2)-L$5)*G377*-1),(('Copy Results'!$C$3-L$2-L$5)/((L$4*L$2)-L$5)*G377*-1))),IF(C377>'Copy Results'!$C$2,((C377-L$2+L$5)/((L$4*L$2)-L$5)*G377*-1),(('Copy Results'!$C$2-L$2+L$5)/((L$4*L$2)-L$5)*G377*-1))))","v":177.15972900390625},152.18622322366784,null,null,0,131.55377333760191,{"$f":"AVERAGE(D$79:D377)","v":0},{"$f":"AVERAGE(M$79:M377)","v":153.37864491011231},-18.644902043525651,{"$f":"AVERAGE(P$79:P377)","v":76.787051571814601},null,null,null,null,40679.34483796241,{"$f":"LOOKUP($V377,Data!$A$6:$A$1806,Data!$B$6:$B$1806)","v":59.972869873046875},{"$f":"LOOKUP($V377,Data!$A$6:$A$1806,Data!$C$6:$C$1806)","v":0},{"$f":"LOOKUP($V377,Data!$A$6:$A$1806,Data!$D$6:$D$1806)","v":0},{"$f":"IF($Z$1=\"+\",LOOKUP($V377,Data!$A$6:$A$1806,Data!$E$6:$E$1806)*-1,LOOKUP($V377,Data!$A$6:$A$1806,Data!$E$6:$E$1806))","v":0},{"$f":"LOOKUP($V377,Data!$A$6:$A$1806,Data!$F$6:$F$1806)","v":0},null,{"$f":"LOOKUP($V377,Data!$A$6:$A$1806,Data!$H$6:$H$1806)","v":0},{"$f":"LOOKUP($V377,Data!$A$6:$A$1806,Data!$I$6:$I$1806)","v":0},{"$f":"IF(LOOKUP($V377,Data!$A$6:$A$1806,Data!$J$6:$J$1806)>0,(LOOKUP($V377,Data!$A$6:$A$1806,Data!$J$6:$J$1806)*-1),LOOKUP($V377,Data!$A$6:$A$1806,Data!$J$6:$J$1806))","v":-653},{"$f":"LOOKUP($V377,Data!$A$6:$A$1806,Data!$K$6:$K$1806)","v":30367.45703125},177.15972900390625,null,null,null,null,null,null,null,null,null,null,null,null,null,null,null,1828.9804502369668,2.7130126953125E-2," "]
[null,40679.344861110556,{"$f":"LOOKUP(B378,Data!$A$6:$A$1806,Data!B$6:B$1806)","v":59.971893310546875},{"$f":"LOOKUP(B378,Data!$A$6:$A$1806,Data!C$6:C$1806)","v":0},null,null,19590,{"$f":"(IF((C378-L$2)>0,(IF(C378<'Copy Results'!$C$3,((C378-L$2-L$5)/((L$4*L$2)-L$5)*G378*-1),(('Copy Results'!$C$3-L$2-L$5)/((L$4*L$2)-L$5)*G378*-1))),IF(C378>'Copy Results'!$C$2,((C378-L$2+L$5)/((L$4*L$2)-L$5)*G378*-1),(('Copy Results'!$C$2-L$2+L$5)/((L$4*L$2)-L$5)*G378*-1))))","v":183.53668212890625},163.15888384050129,null,null,0,142.52643395443536,{"$f":"AVERAGE(D$79:D378)","v":0},{"$f":"AVERAGE(M$79:M378)","v":153.34247087359341},-18.644902043525651,{"$f":"AVERAGE(P$79:P378)","v":76.467881158385367},null,null,null,null,40679.344861110556,{"$f":"LOOKUP($V378,Data!$A$6:$A$1806,Data!$B$6:$B$1806)","v":59.971893310546875},{"$f":"LOOKUP($V378,Data!$A$6:$A$1806,Data!$C$6:$C$1806)","v":0},{"$f":"LOOKUP($V378,Data!$A$6:$A$1806,Data!$D$6:$D$1806)","v":0},{"$f":"IF($Z$1=\"+\",LOOKUP($V378,Data!$A$6:$A$1806,Data!$E$6:$E$1806)*-1,LOOKUP($V378,Data!$A$6:$A$1806,Data!$E$6:$E$1806))","v":0},{"$f":"LOOKUP($V378,Data!$A$6:$A$1806,Data!$F$6:$F$1806)","v":0},null,{"$f":"LOOKUP($V378,Data!$A$6:$A$1806,Data!$H$6:$H$1806)","v":0},{"$f":"LOOKUP($V378,Data!$A$6:$A$1806,Data!$I$6:$I$1806)","v":0},{"$f":"IF(LOOKUP($V378,Data!$A$6:$A$1806,Data!$J$6:$J$1806)>0,(LOOKUP($V378,Data!$A$6:$A$1806,Data!$J$6:$J$1806)*-1),LOOKUP($V378,Data!$A$6:$A$1806,Data!$J$6:$J$1806))","v":-653},{"$f":"LOOKUP($V378,Data!$A$6:$A$1806,Data!$K$6:$K$1806)","v":30361.177734375},183.53668212890625,null,null,null,null,null,null,null,null,null,null,null,null,null,null,null,1762.1683789954338,2.8106689453125E-2," "]
[null,40679.344884258702,{"$f":"LOOKUP(B379,Data!$A$6:$A$1806,Data!B$6:B$1806)","v":59.9715576171875},{"$f":"LOOKUP(B379,Data!$A$6:$A$1806,Data!C$6:C$1806)","v":0},null,null,19590,{"$f":"(IF((C379-L$2)>0,(IF(C379<'Copy Results'!$C$3,((C379-L$2-L$5)/((L$4*L$2)-L$5)*G379*-1),(('Copy Results'!$C$3-L$2-L$5)/((L$4*L$2)-L$5)*G379*-1))),IF(C379>'Copy Results'!$C$2,((C379-L$2+L$5)/((L$4*L$2)-L$5)*G379*-1),(('Copy Results'!$C$2-L$2+L$5)/((L$4*L$2)-L$5)*G379*-1))))","v":185.728759765625},171.05834041429461,null,null,0,150.42589052822868,{"$f":"AVERAGE(D$79:D379)","v":0},{"$f":"AVERAGE(M$79:M379)","v":153.33278123789452},-18.644902043525651,{"$f":"AVERAGE(P$79:P379)","v":76.15083854771234},null,null,null,null,40679.344884258702,{"$f":"LOOKUP($V379,Data!$A$6:$A$1806,Data!$B$6:$B$1806)","v":59.9715576171875},{"$f":"LOOKUP($V379,Data!$A$6:$A$1806,Data!$C$6:$C$1806)","v":0},{"$f":"LOOKUP($V379,Data!$A$6:$A$1806,Data!$D$6:$D$1806)","v":0},{"$f":"IF($Z$1=\"+\",LOOKUP($V379,Data!$A$6:$A$1806,Data!$E$6:$E$1806)*-1,LOOKUP($V379,Data!$A$6:$A$1806,Data!$E$6:$E$1806))","v":0},{"$f":"LOOKUP($V379,Data!$A$6:$A$1806,Data!$F$6:$F$1806)","v":0},null,{"$f":"LOOKUP($V379,Data!$A$6:$A$1806,Data!$H$6:$H$1806)","v":0},{"$f":"LOOKUP($V379,Data!$A$6:$A$1806,Data!$I$6:$I$1806)","v":0},{"$f":"IF(LOOKUP($V379,Data!$A$6:$A$1806,Data!$J$6:$J$1806)>0,(LOOKUP($V379,Data!$A$6:$A$1806,Data!$J$6:$J$1806)*-1),LOOKUP($V379,Data!$A$6:$A$1806,Data!$J$6:$J$1806))","v":-653},{"$f":"LOOKUP($V379,Data!$A$6:$A$1806,Data!$K$6:$K$1806)","v":30361.177734375},185.728759765625,null,null,null,null,null,null,null,null,null,null,null,null,null,null,null,1740.3151071025929,2.84423828125E-2," "]
[null,40679.344907406849,{"$f":"LOOKUP(B380,Data!$A$6:$A$1806,Data!B$6:B$1806)","v":59.97381591796875},{"$f":"LOOKUP(B380,Data!$A$6:$A$1806,Data!C$6:C$1806)","v":0},null,null,19590,{"$f":"(IF((C380-L$2)>0,(IF(C380<'Copy Results'!$C$3,((C380-L$2-L$5)/((L$4*L$2)-L$5)*G380*-1),(('Copy Results'!$C$3-L$2-L$5)/((L$4*L$2)-L$5)*G380*-1))),IF(C380>'Copy Results'!$C$2,((C380-L$2+L$5)/((L$4*L$2)-L$5)*G380*-1),(('Copy Results'!$C$2-L$2+L$5)/((L$4*L$2)-L$5)*G380*-1))))","v":170.9820556640625},171.03164075171335,null,null,0,150.39919086564743,{"$f":"AVERAGE(D$79:D380)","v":0},{"$f":"AVERAGE(M$79:M380)","v":153.32306736248972},-18.644902043525651,{"$f":"AVERAGE(P$79:P380)","v":75.835902532459059},null,null,null,null,40679.344907406849,{"$f":"LOOKUP($V380,Data!$A$6:$A$1806,Data!$B$6:$B$1806)","v":59.97381591796875},{"$f":"LOOKUP($V380,Data!$A$6:$A$1806,Data!$C$6:$C$1806)","v":0},{"$f":"LOOKUP($V380,Data!$A$6:$A$1806,Data!$D$6:$D$1806)","v":0},{"$f":"IF($Z$1=\"+\",LOOKUP($V380,Data!$A$6:$A$1806,Data!$E$6:$E$1806)*-1,LOOKUP($V380,Data!$A$6:$A$1806,Data!$E$6:$E$1806))","v":0},{"$f":"LOOKUP($V380,Data!$A$6:$A$1806,Data!$F$6:$F$1806)","v":0},null,{"$f":"LOOKUP($V380,Data!$A$6:$A$1806,Data!$H$6:$H$1806)","v":0},{"$f":"LOOKUP($V380,Data!$A$6:$A$1806,Data!$I$6:$I$1806)","v":0},{"$f":"IF(LOOKUP($V380,Data!$A$6:$A$1806,Data!$J$6:$J$1806)>0,(LOOKUP($V380,Data!$A$6:$A$1806,Data!$J$6:$J$1806)*-1),LOOKUP($V380,Data!$A$6:$A$1806,Data!$J$6:$J$1806))","v":-653},{"$f":"LOOKUP($V380,Data!$A$6:$A$1806,Data!$K$6:$K$1806)","v":30361.177734375},170.9820556640625,null,null,null,null,null,null,null,null,null,null,null,null,null,null,null,1898.7201722017221,2.618408203125E-2," "]
[null,40679.344930554995,{"$f":"LOOKUP(B381,Data!$A$6:$A$1806,Data!B$6:B$1806)","v":59.976409912109375},{"$f":"LOOKUP(B381,Data!$A$6:$A$1806,Data!C$6:C$1806)","v":0},null,null,19590,{"$f":"(IF((C381-L$2)>0,(IF(C381<'Copy Results'!$C$3,((C381-L$2-L$5)/((L$4*L$2)-L$5)*G381*-1),(('Copy Results'!$C$3-L$2-L$5)/((L$4*L$2)-L$5)*G381*-1))),IF(C381>'Copy Results'!$C$2,((C381-L$2+L$5)/((L$4*L$2)-L$5)*G381*-1),(('Copy Results'!$C$2-L$2+L$5)/((L$4*L$2)-L$5)*G381*-1))))","v":154.04327392578125},165.08571236263714,null,null,0,144.45326247657121,{"$f":"AVERAGE(D$79:D381)","v":0},{"$f":"AVERAGE(M$79:M381)","v":153.29379407903784},-18.644902043525651,{"$f":"AVERAGE(P$79:P381)","v":75.523052186180962},null,null,null,null,40679.344930554995,{"$f":"LOOKUP($V381,Data!$A$6:$A$1806,Data!$B$6:$B$1806)","v":59.976409912109375},{"$f":"LOOKUP($V381,Data!$A$6:$A$1806,Data!$C$6:$C$1806)","v":0},{"$f":"LOOKUP($V381,Data!$A$6:$A$1806,Data!$D$6:$D$1806)","v":0},{"$f":"IF($Z$1=\"+\",LOOKUP($V381,Data!$A$6:$A$1806,Data!$E$6:$E$1806)*-1,LOOKUP($V381,Data!$A$6:$A$1806,Data!$E$6:$E$1806))","v":0},{"$f":"LOOKUP($V381,Data!$A$6:$A$1806,Data!$F$6:$F$1806)","v":0},null,{"$f":"LOOKUP($V381,Data!$A$6:$A$1806,Data!$H$6:$H$1806)","v":0},{"$f":"LOOKUP($V381,Data!$A$6:$A$1806,Data!$I$6:$I$1806)","v":0},{"$f":"IF(LOOKUP($V381,Data!$A$6:$A$1806,Data!$J$6:$J$1806)>0,(LOOKUP($V381,Data!$A$6:$A$1806,Data!$J$6:$J$1806)*-1),LOOKUP($V381,Data!$A$6:$A$1806,Data!$J$6:$J$1806))","v":-653},{"$f":"LOOKUP($V381,Data!$A$6:$A$1806,Data!$K$6:$K$1806)","v":30361.177734375},154.04327392578125,null,null,null,null,null,null,null,null,null,null,null,null,null,null,null,2120.411401098901,2.3590087890625E-2," "]
[null,40679.344953703141,{"$f":"LOOKUP(B382,Data!$A$6:$A$1806,Data!B$6:B$1806)","v":59.978363037109375},{"$f":"LOOKUP(B382,Data!$A$6:$A$1806,Data!C$6:C$1806)","v":0},null,null,19590,{"$f":"(IF((C382-L$2)>0,(IF(C382<'Copy Results'!$C$3,((C382-L$2-L$5)/((L$4*L$2)-L$5)*G382*-1),(('Copy Results'!$C$3-L$2-L$5)/((L$4*L$2)-L$5)*G382*-1))),IF(C382>'Copy Results'!$C$2,((C382-L$2+L$5)/((L$4*L$2)-L$5)*G382*-1),(('Copy Results'!$C$2-L$2+L$5)/((L$4*L$2)-L$5)*G382*-1))))","v":141.28936767578125},156.75699172223759,null,null,0,136.12454183617166,{"$f":"AVERAGE(D$79:D382)","v":0},{"$f":"AVERAGE(M$79:M382)","v":153.23731627560736},-18.644902043525651,{"$f":"AVERAGE(P$79:P382)","v":75.212266858690185},null,null,null,null,40679.344953703141,{"$f":"LOOKUP($V382,Data!$A$6:$A$1806,Data!$B$6:$B$1806)","v":59.978363037109375},{"$f":"LOOKUP($V382,Data!$A$6:$A$1806,Data!$C$6:$C$1806)","v":0},{"$f":"LOOKUP($V382,Data!$A$6:$A$1806,Data!$D$6:$D$1806)","v":0},{"$f":"IF($Z$1=\"+\",LOOKUP($V382,Data!$A$6:$A$1806,Data!$E$6:$E$1806)*-1,LOOKUP($V382,Data!$A$6:$A$1806,Data!$E$6:$E$1806))","v":0},{"$f":"LOOKUP($V382,Data!$A$6:$A$1806,Data!$F$6:$F$1806)","v":0},null,{"$f":"LOOKUP($V382,Data!$A$6:$A$1806,Data!$H$6:$H$1806)","v":0},{"$f":"LOOKUP($V382,Data!$A$6:$A$1806,Data!$I$6:$I$1806)","v":0},{"$f":"IF(LOOKUP($V382,Data!$A$6:$A$1806,Data!$J$6:$J$1806)>0,(LOOKUP($V382,Data!$A$6:$A$1806,Data!$J$6:$J$1806)*-1),LOOKUP($V382,Data!$A$6:$A$1806,Data!$J$6:$J$1806))","v":-653},{"$f":"LOOKUP($V382,Data!$A$6:$A$1806,Data!$K$6:$K$1806)","v":30365.591796875},141.28936767578125,null,null,null,null,null,null,null,null,null,null,null,null,null,null,null,2324.7884036144578,2.1636962890625E-2," "]
[null,40679.344976851287,{"$f":"LOOKUP(B383,Data!$A$6:$A$1806,Data!B$6:B$1806)","v":59.97705078125},{"$f":"LOOKUP(B383,Data!$A$6:$A$1806,Data!C$6:C$1806)","v":0},null,null,19590,{"$f":"(IF((C383-L$2)>0,(IF(C383<'Copy Results'!$C$3,((C383-L$2-L$5)/((L$4*L$2)-L$5)*G383*-1),(('Copy Results'!$C$3-L$2-L$5)/((L$4*L$2)-L$5)*G383*-1))),IF(C383>'Copy Results'!$C$2,((C383-L$2+L$5)/((L$4*L$2)-L$5)*G383*-1),(('Copy Results'!$C$2-L$2+L$5)/((L$4*L$2)-L$5)*G383*-1))))","v":149.8583984375},154.34248407257945,null,null,0,133.71003418651352,{"$f":"AVERAGE(D$79:D383)","v":0},{"$f":"AVERAGE(M$79:M383)","v":153.17329239990542},-18.644902043525651,{"$f":"AVERAGE(P$79:P383)","v":74.903526171511842},null,null,null,null,40679.344976851287,{"$f":"LOOKUP($V383,Data!$A$6:$A$1806,Data!$B$6:$B$1806)","v":59.97705078125},{"$f":"LOOKUP($V383,Data!$A$6:$A$1806,Data!$C$6:$C$1806)","v":0},{"$f":"LOOKUP($V383,Data!$A$6:$A$1806,Data!$D$6:$D$1806)","v":0},{"$f":"IF($Z$1=\"+\",LOOKUP($V383,Data!$A$6:$A$1806,Data!$E$6:$E$1806)*-1,LOOKUP($V383,Data!$A$6:$A$1806,Data!$E$6:$E$1806))","v":0},{"$f":"LOOKUP($V383,Data!$A$6:$A$1806,Data!$F$6:$F$1806)","v":0},null,{"$f":"LOOKUP($V383,Data!$A$6:$A$1806,Data!$H$6:$H$1806)","v":0},{"$f":"LOOKUP($V383,Data!$A$6:$A$1806,Data!$I$6:$I$1806)","v":0},{"$f":"IF(LOOKUP($V383,Data!$A$6:$A$1806,Data!$J$6:$J$1806)>0,(LOOKUP($V383,Data!$A$6:$A$1806,Data!$J$6:$J$1806)*-1),LOOKUP($V383,Data!$A$6:$A$1806,Data!$J$6:$J$1806))","v":-653},{"$f":"LOOKUP($V383,Data!$A$6:$A$1806,Data!$K$6:$K$1806)","v":30365.591796875},149.8583984375,null,null,null,null,null,null,null,null,null,null,null,null,null,null,null,2183.3939179632248,2.294921875E-2," "]
[null,40679.344999999434,{"$f":"LOOKUP(B384,Data!$A$6:$A$1806,Data!B$6:B$1806)","v":59.9744873046875},{"$f":"LOOKUP(B384,Data!$A$6:$A$1806,Data!C$6:C$1806)","v":0},null,null,19590,{"$f":"(IF((C384-L$2)>0,(IF(C384<'Copy Results'!$C$3,((C384-L$2-L$5)/((L$4*L$2)-L$5)*G384*-1),(('Copy Results'!$C$3-L$2-L$5)/((L$4*L$2)-L$5)*G384*-1))),IF(C384>'Copy Results'!$C$2,((C384-L$2+L$5)/((L$4*L$2)-L$5)*G384*-1),(('Copy Results'!$C$2-L$2+L$5)/((L$4*L$2)-L$5)*G384*-1))))","v":166.597900390625},158.63187978389539,null,null,0,137.99942989782946,{"$f":"AVERAGE(D$79:D384)","v":0},{"$f":"AVERAGE(M$79:M384)","v":153.12370461395091},-18.644902043525651,{"$f":"AVERAGE(P$79:P384)","v":74.59681001342976},null,null,null,null,40679.344999999434,{"$f":"LOOKUP($V384,Data!$A$6:$A$1806,Data!$B$6:$B$1806)","v":59.9744873046875},{"$f":"LOOKUP($V384,Data!$A$6:$A$1806,Data!$C$6:$C$1806)","v":0},{"$f":"LOOKUP($V384,Data!$A$6:$A$1806,Data!$D$6:$D$1806)","v":0},{"$f":"IF($Z$1=\"+\",LOOKUP($V384,Data!$A$6:$A$1806,Data!$E$6:$E$1806)*-1,LOOKUP($V384,Data!$A$6:$A$1806,Data!$E$6:$E$1806))","v":0},{"$f":"LOOKUP($V384,Data!$A$6:$A$1806,Data!$F$6:$F$1806)","v":0},null,{"$f":"LOOKUP($V384,Data!$A$6:$A$1806,Data!$H$6:$H$1806)","v":0},{"$f":"LOOKUP($V384,Data!$A$6:$A$1806,Data!$I$6:$I$1806)","v":0},{"$f":"IF(LOOKUP($V384,Data!$A$6:$A$1806,Data!$J$6:$J$1806)>0,(LOOKUP($V384,Data!$A$6:$A$1806,Data!$J$6:$J$1806)*-1),LOOKUP($V384,Data!$A$6:$A$1806,Data!$J$6:$J$1806))","v":-653},{"$f":"LOOKUP($V384,Data!$A$6:$A$1806,Data!$K$6:$K$1806)","v":30365.193359375},166.597900390625,null,null,null,null,null,null,null,null,null,null,null,null,null,null,null,1951.5290771175728,2.55126953125E-2," "]
[null,40679.34502314758,{"$f":"LOOKUP(B385,Data!$A$6:$A$1806,Data!B$6:B$1806)","v":59.97125244140625},{"$f":"LOOKUP(B385,Data!$A$6:$A$1806,Data!C$6:C$1806)","v":0},null,null,19590,{"$f":"(IF((C385-L$2)>0,(IF(C385<'Copy Results'!$C$3,((C385-L$2-L$5)/((L$4*L$2)-L$5)*G385*-1),(('Copy Results'!$C$3-L$2-L$5)/((L$4*L$2)-L$5)*G385*-1))),IF(C385>'Copy Results'!$C$2,((C385-L$2+L$5)/((L$4*L$2)-L$5)*G385*-1),(('Copy Results'!$C$2-L$2+L$5)/((L$4*L$2)-L$5)*G385*-1))))","v":187.7215576171875},168.81326702554765,null,null,0,148.18081713948172,{"$f":"AVERAGE(D$79:D385)","v":0},{"$f":"AVERAGE(M$79:M385)","v":153.10760400328488},-18.644902043525651,{"$f":"AVERAGE(P$79:P385)","v":74.292098536119454},null,null,null,null,40679.34502314758,{"$f":"LOOKUP($V385,Data!$A$6:$A$1806,Data!$B$6:$B$1806)","v":59.97125244140625},{"$f":"LOOKUP($V385,Data!$A$6:$A$1806,Data!$C$6:$C$1806)","v":0},{"$f":"LOOKUP($V385,Data!$A$6:$A$1806,Data!$D$6:$D$1806)","v":0},{"$f":"IF($Z$1=\"+\",LOOKUP($V385,Data!$A$6:$A$1806,Data!$E$6:$E$1806)*-1,LOOKUP($V385,Data!$A$6:$A$1806,Data!$E$6:$E$1806))","v":0},{"$f":"LOOKUP($V385,Data!$A$6:$A$1806,Data!$F$6:$F$1806)","v":0},null,{"$f":"LOOKUP($V385,Data!$A$6:$A$1806,Data!$H$6:$H$1806)","v":0},{"$f":"LOOKUP($V385,Data!$A$6:$A$1806,Data!$I$6:$I$1806)","v":0},{"$f":"IF(LOOKUP($V385,Data!$A$6:$A$1806,Data!$J$6:$J$1806)>0,(LOOKUP($V385,Data!$A$6:$A$1806,Data!$J$6:$J$1806)*-1),LOOKUP($V385,Data!$A$6:$A$1806,Data!$J$6:$J$1806))","v":-653},{"$f":"LOOKUP($V385,Data!$A$6:$A$1806,Data!$K$6:$K$1806)","v":30365.193359375},187.7215576171875,null,null,null,null,null,null,null,null,null,null,null,null,null,null,null,1720.9136008918617,2.874755859375E-2," "]
[null,40679.345046295726,{"$f":"LOOKUP(B386,Data!$A$6:$A$1806,Data!B$6:B$1806)","v":59.970916748046875},{"$f":"LOOKUP(B386,Data!$A$6:$A$1806,Data!C$6:C$1806)","v":0},null,null,19590,{"$f":"(IF((C386-L$2)>0,(IF(C386<'Copy Results'!$C$3,((C386-L$2-L$5)/((L$4*L$2)-L$5)*G386*-1),(('Copy Results'!$C$3-L$2-L$5)/((L$4*L$2)-L$5)*G386*-1))),IF(C386>'Copy Results'!$C$2,((C386-L$2+L$5)/((L$4*L$2)-L$5)*G386*-1),(('Copy Results'!$C$2-L$2+L$5)/((L$4*L$2)-L$5)*G386*-1))))","v":189.91363525390625},176.19839590547315,null,null,0,155.56594601940722,{"$f":"AVERAGE(D$79:D386)","v":0},{"$f":"AVERAGE(M$79:M386)","v":153.11558563320736},-18.644902043525651,{"$f":"AVERAGE(P$79:P386)","v":73.98937214986654},null,null,null,null,40679.345046295726,{"$f":"LOOKUP($V386,Data!$A$6:$A$1806,Data!$B$6:$B$1806)","v":59.970916748046875},{"$f":"LOOKUP($V386,Data!$A$6:$A$1806,Data!$C$6:$C$1806)","v":0},{"$f":"LOOKUP($V386,Data!$A$6:$A$1806,Data!$D$6:$D$1806)","v":0},{"$f":"IF($Z$1=\"+\",LOOKUP($V386,Data!$A$6:$A$1806,Data!$E$6:$E$1806)*-1,LOOKUP($V386,Data!$A$6:$A$1806,Data!$E$6:$E$1806))","v":0},{"$f":"LOOKUP($V386,Data!$A$6:$A$1806,Data!$F$6:$F$1806)","v":0},null,{"$f":"LOOKUP($V386,Data!$A$6:$A$1806,Data!$H$6:$H$1806)","v":0},{"$f":"LOOKUP($V386,Data!$A$6:$A$1806,Data!$I$6:$I$1806)","v":0},{"$f":"IF(LOOKUP($V386,Data!$A$6:$A$1806,Data!$J$6:$J$1806)>0,(LOOKUP($V386,Data!$A$6:$A$1806,Data!$J$6:$J$1806)*-1),LOOKUP($V386,Data!$A$6:$A$1806,Data!$J$6:$J$1806))","v":-653},{"$f":"LOOKUP($V386,Data!$A$6:$A$1806,Data!$K$6:$K$1806)","v":30365.193359375},189.91363525390625,null,null,null,null,null,null,null,null,null,null,null,null,null,null,null,1700.0655286343613,2.9083251953125E-2," "]
[null,40679.345069443872,{"$f":"LOOKUP(B387,Data!$A$6:$A$1806,Data!B$6:B$1806)","v":59.972869873046875},{"$f":"LOOKUP(B387,Data!$A$6:$A$1806,Data!C$6:C$1806)","v":0},null,null,19590,{"$f":"(IF((C387-L$2)>0,(IF(C387<'Copy Results'!$C$3,((C387-L$2-L$5)/((L$4*L$2)-L$5)*G387*-1),(('Copy Results'!$C$3-L$2-L$5)/((L$4*L$2)-L$5)*G387*-1))),IF(C387>'Copy Results'!$C$2,((C387-L$2+L$5)/((L$4*L$2)-L$5)*G387*-1),(('Copy Results'!$C$2-L$2+L$5)/((L$4*L$2)-L$5)*G387*-1))))","v":177.15972900390625},176.53486248992473,null,null,0,155.90241260385881,{"$f":"AVERAGE(D$79:D387)","v":0},{"$f":"AVERAGE(M$79:M387)","v":153.12460449071756},-18.644902043525651,{"$f":"AVERAGE(P$79:P387)","v":73.688611519368521},null,null,null,null,40679.345069443872,{"$f":"LOOKUP($V387,Data!$A$6:$A$1806,Data!$B$6:$B$1806)","v":59.972869873046875},{"$f":"LOOKUP($V387,Data!$A$6:$A$1806,Data!$C$6:$C$1806)","v":0},{"$f":"LOOKUP($V387,Data!$A$6:$A$1806,Data!$D$6:$D$1806)","v":0},{"$f":"IF($Z$1=\"+\",LOOKUP($V387,Data!$A$6:$A$1806,Data!$E$6:$E$1806)*-1,LOOKUP($V387,Data!$A$6:$A$1806,Data!$E$6:$E$1806))","v":0},{"$f":"LOOKUP($V387,Data!$A$6:$A$1806,Data!$F$6:$F$1806)","v":0},null,{"$f":"LOOKUP($V387,Data!$A$6:$A$1806,Data!$H$6:$H$1806)","v":0},{"$f":"LOOKUP($V387,Data!$A$6:$A$1806,Data!$I$6:$I$1806)","v":0},{"$f":"IF(LOOKUP($V387,Data!$A$6:$A$1806,Data!$J$6:$J$1806)>0,(LOOKUP($V387,Data!$A$6:$A$1806,Data!$J$6:$J$1806)*-1),LOOKUP($V387,Data!$A$6:$A$1806,Data!$J$6:$J$1806))","v":-653},{"$f":"LOOKUP($V387,Data!$A$6:$A$1806,Data!$K$6:$K$1806)","v":30365.193359375},177.15972900390625,null,null,null,null,null,null,null,null,null,null,null,null,null,null,null,1828.9804502369668,2.7130126953125E-2," "]
[null,40679.345092592019,{"$f":"LOOKUP(B388,Data!$A$6:$A$1806,Data!B$6:B$1806)","v":59.9744873046875},{"$f":"LOOKUP(B388,Data!$A$6:$A$1806,Data!C$6:C$1806)","v":0},null,null,19590,{"$f":"(IF((C388-L$2)>0,(IF(C388<'Copy Results'!$C$3,((C388-L$2-L$5)/((L$4*L$2)-L$5)*G388*-1),(('Copy Results'!$C$3-L$2-L$5)/((L$4*L$2)-L$5)*G388*-1))),IF(C388>'Copy Results'!$C$2,((C388-L$2+L$5)/((L$4*L$2)-L$5)*G388*-1),(('Copy Results'!$C$2-L$2+L$5)/((L$4*L$2)-L$5)*G388*-1))))","v":166.597900390625},173.05692575516983,null,null,0,152.4244758691039,{"$f":"AVERAGE(D$79:D388)","v":0},{"$f":"AVERAGE(M$79:M388)","v":153.12234601129299},-18.644902043525651,{"$f":"AVERAGE(P$79:P388)","v":73.389797559618046},null,null,null,null,40679.345092592019,{"$f":"LOOKUP($V388,Data!$A$6:$A$1806,Data!$B$6:$B$1806)","v":59.9744873046875},{"$f":"LOOKUP($V388,Data!$A$6:$A$1806,Data!$C$6:$C$1806)","v":0},{"$f":"LOOKUP($V388,Data!$A$6:$A$1806,Data!$D$6:$D$1806)","v":0},{"$f":"IF($Z$1=\"+\",LOOKUP($V388,Data!$A$6:$A$1806,Data!$E$6:$E$1806)*-1,LOOKUP($V388,Data!$A$6:$A$1806,Data!$E$6:$E$1806))","v":0},{"$f":"LOOKUP($V388,Data!$A$6:$A$1806,Data!$F$6:$F$1806)","v":0},null,{"$f":"LOOKUP($V388,Data!$A$6:$A$1806,Data!$H$6:$H$1806)","v":0},{"$f":"LOOKUP($V388,Data!$A$6:$A$1806,Data!$I$6:$I$1806)","v":0},{"$f":"IF(LOOKUP($V388,Data!$A$6:$A$1806,Data!$J$6:$J$1806)>0,(LOOKUP($V388,Data!$A$6:$A$1806,Data!$J$6:$J$1806)*-1),LOOKUP($V388,Data!$A$6:$A$1806,Data!$J$6:$J$1806))","v":-653},{"$f":"LOOKUP($V388,Data!$A$6:$A$1806,Data!$K$6:$K$1806)","v":30375.912109375},166.597900390625,null,null,null,null,null,null,null,null,null,null,null,null,null,null,null,1951.5290771175728,2.55126953125E-2," "]
[null,40679.345115740165,{"$f":"LOOKUP(B389,Data!$A$6:$A$1806,Data!B$6:B$1806)","v":59.97381591796875},{"$f":"LOOKUP(B389,Data!$A$6:$A$1806,Data!C$6:C$1806)","v":0},null,null,19590,{"$f":"(IF((C389-L$2)>0,(IF(C389<'Copy Results'!$C$3,((C389-L$2-L$5)/((L$4*L$2)-L$5)*G389*-1),(('Copy Results'!$C$3-L$2-L$5)/((L$4*L$2)-L$5)*G389*-1))),IF(C389>'Copy Results'!$C$2,((C389-L$2+L$5)/((L$4*L$2)-L$5)*G389*-1),(('Copy Results'!$C$2-L$2+L$5)/((L$4*L$2)-L$5)*G389*-1))))","v":170.9820556640625},172.33072122328227,null,null,0,151.69827133721634,{"$f":"AVERAGE(D$79:D389)","v":0},{"$f":"AVERAGE(M$79:M389)","v":153.11776699304841},-18.644902043525651,{"$f":"AVERAGE(P$79:P389)","v":73.092911431865986},null,null,null,null,40679.345115740165,{"$f":"LOOKUP($V389,Data!$A$6:$A$1806,Data!$B$6:$B$1806)","v":59.97381591796875},{"$f":"LOOKUP($V389,Data!$A$6:$A$1806,Data!$C$6:$C$1806)","v":0},{"$f":"LOOKUP($V389,Data!$A$6:$A$1806,Data!$D$6:$D$1806)","v":0},{"$f":"IF($Z$1=\"+\",LOOKUP($V389,Data!$A$6:$A$1806,Data!$E$6:$E$1806)*-1,LOOKUP($V389,Data!$A$6:$A$1806,Data!$E$6:$E$1806))","v":0},{"$f":"LOOKUP($V389,Data!$A$6:$A$1806,Data!$F$6:$F$1806)","v":0},null,{"$f":"LOOKUP($V389,Data!$A$6:$A$1806,Data!$H$6:$H$1806)","v":0},{"$f":"LOOKUP($V389,Data!$A$6:$A$1806,Data!$I$6:$I$1806)","v":0},{"$f":"IF(LOOKUP($V389,Data!$A$6:$A$1806,Data!$J$6:$J$1806)>0,(LOOKUP($V389,Data!$A$6:$A$1806,Data!$J$6:$J$1806)*-1),LOOKUP($V389,Data!$A$6:$A$1806,Data!$J$6:$J$1806))","v":-653},{"$f":"LOOKUP($V389,Data!$A$6:$A$1806,Data!$K$6:$K$1806)","v":30375.912109375},170.9820556640625,null,null,null,null,null,null,null,null,null,null,null,null,null,null,null,1898.7201722017221,2.618408203125E-2," "]
[null,40679.345138888311,{"$f":"LOOKUP(B390,Data!$A$6:$A$1806,Data!B$6:B$1806)","v":59.973175048828125},{"$f":"LOOKUP(B390,Data!$A$6:$A$1806,Data!C$6:C$1806)","v":0},null,null,19590,{"$f":"(IF((C390-L$2)>0,(IF(C390<'Copy Results'!$C$3,((C390-L$2-L$5)/((L$4*L$2)-L$5)*G390*-1),(('Copy Results'!$C$3-L$2-L$5)/((L$4*L$2)-L$5)*G390*-1))),IF(C390>'Copy Results'!$C$2,((C390-L$2+L$5)/((L$4*L$2)-L$5)*G390*-1),(('Copy Results'!$C$2-L$2+L$5)/((L$4*L$2)-L$5)*G390*-1))))","v":175.16693115234375},173.3233946984538,null,null,0,152.69094481238787,{"$f":"AVERAGE(D$79:D390)","v":0},{"$f":"AVERAGE(M$79:M390)","v":153.11639897323857},-18.644902043525651,{"$f":"AVERAGE(P$79:P390)","v":72.797934539662151},null,null,null,null,40679.345138888311,{"$f":"LOOKUP($V390,Data!$A$6:$A$1806,Data!$B$6:$B$1806)","v":59.973175048828125},{"$f":"LOOKUP($V390,Data!$A$6:$A$1806,Data!$C$6:$C$1806)","v":0},{"$f":"LOOKUP($V390,Data!$A$6:$A$1806,Data!$D$6:$D$1806)","v":0},{"$f":"IF($Z$1=\"+\",LOOKUP($V390,Data!$A$6:$A$1806,Data!$E$6:$E$1806)*-1,LOOKUP($V390,Data!$A$6:$A$1806,Data!$E$6:$E$1806))","v":0},{"$f":"LOOKUP($V390,Data!$A$6:$A$1806,Data!$F$6:$F$1806)","v":0},null,{"$f":"LOOKUP($V390,Data!$A$6:$A$1806,Data!$H$6:$H$1806)","v":0},{"$f":"LOOKUP($V390,Data!$A$6:$A$1806,Data!$I$6:$I$1806)","v":0},{"$f":"IF(LOOKUP($V390,Data!$A$6:$A$1806,Data!$J$6:$J$1806)>0,(LOOKUP($V390,Data!$A$6:$A$1806,Data!$J$6:$J$1806)*-1),LOOKUP($V390,Data!$A$6:$A$1806,Data!$J$6:$J$1806))","v":-653},{"$f":"LOOKUP($V390,Data!$A$6:$A$1806,Data!$K$6:$K$1806)","v":30375.912109375},175.16693115234375,null,null,null,null,null,null,null,null,null,null,null,null,null,null,null,1850.9106714628297,2.6824951171875E-2," "]
[null,40679.345162036458,{"$f":"LOOKUP(B391,Data!$A$6:$A$1806,Data!B$6:B$1806)","v":59.9744873046875},{"$f":"LOOKUP(B391,Data!$A$6:$A$1806,Data!C$6:C$1806)","v":0},null,null,19590,{"$f":"(IF((C391-L$2)>0,(IF(C391<'Copy Results'!$C$3,((C391-L$2-L$5)/((L$4*L$2)-L$5)*G391*-1),(('Copy Results'!$C$3-L$2-L$5)/((L$4*L$2)-L$5)*G391*-1))),IF(C391>'Copy Results'!$C$2,((C391-L$2+L$5)/((L$4*L$2)-L$5)*G391*-1),(('Copy Results'!$C$2-L$2+L$5)/((L$4*L$2)-L$5)*G391*-1))))","v":166.597900390625},170.9694716907137,null,null,0,150.33702180464778,{"$f":"AVERAGE(D$79:D391)","v":0},{"$f":"AVERAGE(M$79:M391)","v":153.10751917397789},-18.644902043525651,{"$f":"AVERAGE(P$79:P391)","v":72.504848524972445},null,null,null,null,40679.345162036458,{"$f":"LOOKUP($V391,Data!$A$6:$A$1806,Data!$B$6:$B$1806)","v":59.9744873046875},{"$f":"LOOKUP($V391,Data!$A$6:$A$1806,Data!$C$6:$C$1806)","v":0},{"$f":"LOOKUP($V391,Data!$A$6:$A$1806,Data!$D$6:$D$1806)","v":0},{"$f":"IF($Z$1=\"+\",LOOKUP($V391,Data!$A$6:$A$1806,Data!$E$6:$E$1806)*-1,LOOKUP($V391,Data!$A$6:$A$1806,Data!$E$6:$E$1806))","v":0},{"$f":"LOOKUP($V391,Data!$A$6:$A$1806,Data!$F$6:$F$1806)","v":0},null,{"$f":"LOOKUP($V391,Data!$A$6:$A$1806,Data!$H$6:$H$1806)","v":0},{"$f":"LOOKUP($V391,Data!$A$6:$A$1806,Data!$I$6:$I$1806)","v":0},{"$f":"IF(LOOKUP($V391,Data!$A$6:$A$1806,Data!$J$6:$J$1806)>0,(LOOKUP($V391,Data!$A$6:$A$1806,Data!$J$6:$J$1806)*-1),LOOKUP($V391,Data!$A$6:$A$1806,Data!$J$6:$J$1806))","v":-653},{"$f":"LOOKUP($V391,Data!$A$6:$A$1806,Data!$K$6:$K$1806)","v":30375.912109375},166.597900390625,null,null,null,null,null,null,null,null,null,null,null,null,null,null,null,1951.5290771175728,2.55126953125E-2," "]
[null,40679.345185184604,{"$f":"LOOKUP(B392,Data!$A$6:$A$1806,Data!B$6:B$1806)","v":59.976104736328125},{"$f":"LOOKUP(B392,Data!$A$6:$A$1806,Data!C$6:C$1806)","v":0},null,null,19590,{"$f":"(IF((C392-L$2)>0,(IF(C392<'Copy Results'!$C$3,((C392-L$2-L$5)/((L$4*L$2)-L$5)*G392*-1),(('Copy Results'!$C$3-L$2-L$5)/((L$4*L$2)-L$5)*G392*-1))),IF(C392>'Copy Results'!$C$2,((C392-L$2+L$5)/((L$4*L$2)-L$5)*G392*-1),(('Copy Results'!$C$2-L$2+L$5)/((L$4*L$2)-L$5)*G392*-1))))","v":156.03607177734375},165.74278172103422,null,null,0,145.11033183496829,{"$f":"AVERAGE(D$79:D392)","v":0},{"$f":"AVERAGE(M$79:M392)","v":153.0820504244906},-18.644902043525651,{"$f":"AVERAGE(P$79:P392)","v":72.213635264370225},null,null,null,null,40679.345185184604,{"$f":"LOOKUP($V392,Data!$A$6:$A$1806,Data!$B$6:$B$1806)","v":59.976104736328125},{"$f":"LOOKUP($V392,Data!$A$6:$A$1806,Data!$C$6:$C$1806)","v":0},{"$f":"LOOKUP($V392,Data!$A$6:$A$1806,Data!$D$6:$D$1806)","v":0},{"$f":"IF($Z$1=\"+\",LOOKUP($V392,Data!$A$6:$A$1806,Data!$E$6:$E$1806)*-1,LOOKUP($V392,Data!$A$6:$A$1806,Data!$E$6:$E$1806))","v":0},{"$f":"LOOKUP($V392,Data!$A$6:$A$1806,Data!$F$6:$F$1806)","v":0},null,{"$f":"LOOKUP($V392,Data!$A$6:$A$1806,Data!$H$6:$H$1806)","v":0},{"$f":"LOOKUP($V392,Data!$A$6:$A$1806,Data!$I$6:$I$1806)","v":0},{"$f":"IF(LOOKUP($V392,Data!$A$6:$A$1806,Data!$J$6:$J$1806)>0,(LOOKUP($V392,Data!$A$6:$A$1806,Data!$J$6:$J$1806)*-1),LOOKUP($V392,Data!$A$6:$A$1806,Data!$J$6:$J$1806))","v":-653},{"$f":"LOOKUP($V392,Data!$A$6:$A$1806,Data!$K$6:$K$1806)","v":30367.40234375},156.03607177734375,null,null,null,null,null,null,null,null,null,null,null,null,null,null,null,2091.6795392953932,2.3895263671875E-2," "]
[null,40679.34520833275,{"$f":"LOOKUP(B393,Data!$A$6:$A$1806,Data!B$6:B$1806)","v":59.977386474609375},{"$f":"LOOKUP(B393,Data!$A$6:$A$1806,Data!C$6:C$1806)","v":0},null,null,19590,{"$f":"(IF((C393-L$2)>0,(IF(C393<'Copy Results'!$C$3,((C393-L$2-L$5)/((L$4*L$2)-L$5)*G393*-1),(('Copy Results'!$C$3-L$2-L$5)/((L$4*L$2)-L$5)*G393*-1))),IF(C393>'Copy Results'!$C$2,((C393-L$2+L$5)/((L$4*L$2)-L$5)*G393*-1),(('Copy Results'!$C$2-L$2+L$5)/((L$4*L$2)-L$5)*G393*-1))))","v":147.66632080078125},159.4160203989457,null,null,0,138.78357051287978,{"$f":"AVERAGE(D$79:D393)","v":0},{"$f":"AVERAGE(M$79:M393)","v":153.03665842477122},-18.644902043525651,{"$f":"AVERAGE(P$79:P393)","v":71.924276865300484},null,null,null,null,40679.34520833275,{"$f":"LOOKUP($V393,Data!$A$6:$A$1806,Data!$B$6:$B$1806)","v":59.977386474609375},{"$f":"LOOKUP($V393,Data!$A$6:$A$1806,Data!$C$6:$C$1806)","v":0},{"$f":"LOOKUP($V393,Data!$A$6:$A$1806,Data!$D$6:$D$1806)","v":0},{"$f":"IF($Z$1=\"+\",LOOKUP($V393,Data!$A$6:$A$1806,Data!$E$6:$E$1806)*-1,LOOKUP($V393,Data!$A$6:$A$1806,Data!$E$6:$E$1806))","v":0},{"$f":"LOOKUP($V393,Data!$A$6:$A$1806,Data!$F$6:$F$1806)","v":0},null,{"$f":"LOOKUP($V393,Data!$A$6:$A$1806,Data!$H$6:$H$1806)","v":0},{"$f":"LOOKUP($V393,Data!$A$6:$A$1806,Data!$I$6:$I$1806)","v":0},{"$f":"IF(LOOKUP($V393,Data!$A$6:$A$1806,Data!$J$6:$J$1806)>0,(LOOKUP($V393,Data!$A$6:$A$1806,Data!$J$6:$J$1806)*-1),LOOKUP($V393,Data!$A$6:$A$1806,Data!$J$6:$J$1806))","v":-653},{"$f":"LOOKUP($V393,Data!$A$6:$A$1806,Data!$K$6:$K$1806)","v":30367.40234375},147.66632080078125,null,null,null,null,null,null,null,null,null,null,null,null,null,null,null,2217.9015804597702,2.2613525390625E-2," "]
[null,40679.345231480896,{"$f":"LOOKUP(B394,Data!$A$6:$A$1806,Data!B$6:B$1806)","v":59.978363037109375},{"$f":"LOOKUP(B394,Data!$A$6:$A$1806,Data!C$6:C$1806)","v":0},null,null,19590,{"$f":"(IF((C394-L$2)>0,(IF(C394<'Copy Results'!$C$3,((C394-L$2-L$5)/((L$4*L$2)-L$5)*G394*-1),(('Copy Results'!$C$3-L$2-L$5)/((L$4*L$2)-L$5)*G394*-1))),IF(C394>'Copy Results'!$C$2,((C394-L$2+L$5)/((L$4*L$2)-L$5)*G394*-1),(('Copy Results'!$C$2-L$2+L$5)/((L$4*L$2)-L$5)*G394*-1))))","v":141.28936767578125},153.07169194583815,null,null,0,132.43924205977223,{"$f":"AVERAGE(D$79:D394)","v":0},{"$f":"AVERAGE(M$79:M394)","v":152.97147672741363},-18.644902043525651,{"$f":"AVERAGE(P$79:P394)","v":71.636755662415325},null,null,null,null,40679.345231480896,{"$f":"LOOKUP($V394,Data!$A$6:$A$1806,Data!$B$6:$B$1806)","v":59.978363037109375},{"$f":"LOOKUP($V394,Data!$A$6:$A$1806,Data!$C$6:$C$1806)","v":0},{"$f":"LOOKUP($V394,Data!$A$6:$A$1806,Data!$D$6:$D$1806)","v":0},{"$f":"IF($Z$1=\"+\",LOOKUP($V394,Data!$A$6:$A$1806,Data!$E$6:$E$1806)*-1,LOOKUP($V394,Data!$A$6:$A$1806,Data!$E$6:$E$1806))","v":0},{"$f":"LOOKUP($V394,Data!$A$6:$A$1806,Data!$F$6:$F$1806)","v":0},null,{"$f":"LOOKUP($V394,Data!$A$6:$A$1806,Data!$H$6:$H$1806)","v":0},{"$f":"LOOKUP($V394,Data!$A$6:$A$1806,Data!$I$6:$I$1806)","v":0},{"$f":"IF(LOOKUP($V394,Data!$A$6:$A$1806,Data!$J$6:$J$1806)>0,(LOOKUP($V394,Data!$A$6:$A$1806,Data!$J$6:$J$1806)*-1),LOOKUP($V394,Data!$A$6:$A$1806,Data!$J$6:$J$1806))","v":-653},{"$f":"LOOKUP($V394,Data!$A$6:$A$1806,Data!$K$6:$K$1806)","v":30367.720703125},141.28936767578125,null,null,null,null,null,null,null,null,null,null,null,null,null,null,null,2324.7884036144578,2.1636962890625E-2," "]
[null,40679.345254629043,{"$f":"LOOKUP(B395,Data!$A$6:$A$1806,Data!B$6:B$1806)","v":59.977691650390625},{"$f":"LOOKUP(B395,Data!$A$6:$A$1806,Data!C$6:C$1806)","v":0},null,null,19590,{"$f":"(IF((C395-L$2)>0,(IF(C395<'Copy Results'!$C$3,((C395-L$2-L$5)/((L$4*L$2)-L$5)*G395*-1),(('Copy Results'!$C$3-L$2-L$5)/((L$4*L$2)-L$5)*G395*-1))),IF(C395>'Copy Results'!$C$2,((C395-L$2+L$5)/((L$4*L$2)-L$5)*G395*-1),(('Copy Results'!$C$2-L$2+L$5)/((L$4*L$2)-L$5)*G395*-1))))","v":145.67352294921875},150.48233279702137,null,null,0,129.84988291095544,{"$f":"AVERAGE(D$79:D395)","v":0},{"$f":"AVERAGE(M$79:M395)","v":152.89853794565823},-18.644902043525651,{"$f":"AVERAGE(P$79:P395)","v":71.351054213978813},null,null,null,null,40679.345254629043,{"$f":"LOOKUP($V395,Data!$A$6:$A$1806,Data!$B$6:$B$1806)","v":59.977691650390625},{"$f":"LOOKUP($V395,Data!$A$6:$A$1806,Data!$C$6:$C$1806)","v":0},{"$f":"LOOKUP($V395,Data!$A$6:$A$1806,Data!$D$6:$D$1806)","v":0},{"$f":"IF($Z$1=\"+\",LOOKUP($V395,Data!$A$6:$A$1806,Data!$E$6:$E$1806)*-1,LOOKUP($V395,Data!$A$6:$A$1806,Data!$E$6:$E$1806))","v":0},{"$f":"LOOKUP($V395,Data!$A$6:$A$1806,Data!$F$6:$F$1806)","v":0},null,{"$f":"LOOKUP($V395,Data!$A$6:$A$1806,Data!$H$6:$H$1806)","v":0},{"$f":"LOOKUP($V395,Data!$A$6:$A$1806,Data!$I$6:$I$1806)","v":0},{"$f":"IF(LOOKUP($V395,Data!$A$6:$A$1806,Data!$J$6:$J$1806)>0,(LOOKUP($V395,Data!$A$6:$A$1806,Data!$J$6:$J$1806)*-1),LOOKUP($V395,Data!$A$6:$A$1806,Data!$J$6:$J$1806))","v":-653},{"$f":"LOOKUP($V395,Data!$A$6:$A$1806,Data!$K$6:$K$1806)","v":30367.720703125},145.67352294921875,null,null,null,null,null,null,null,null,null,null,null,null,null,null,null,2250.2325072886297,2.2308349609375E-2," "]
[null,40679.345277777189,{"$f":"LOOKUP(B396,Data!$A$6:$A$1806,Data!B$6:B$1806)","v":59.97705078125},{"$f":"LOOKUP(B396,Data!$A$6:$A$1806,Data!C$6:C$1806)","v":0},null,null,19590,{"$f":"(IF((C396-L$2)>0,(IF(C396<'Copy Results'!$C$3,((C396-L$2-L$5)/((L$4*L$2)-L$5)*G396*-1),(('Copy Results'!$C$3-L$2-L$5)/((L$4*L$2)-L$5)*G396*-1))),IF(C396>'Copy Results'!$C$2,((C396-L$2+L$5)/((L$4*L$2)-L$5)*G396*-1),(('Copy Results'!$C$2-L$2+L$5)/((L$4*L$2)-L$5)*G396*-1))))","v":149.8583984375},150.26395577118888,null,null,0,129.63150588512295,{"$f":"AVERAGE(D$79:D396)","v":0},{"$f":"AVERAGE(M$79:M396)","v":152.82537117817228},-18.644902043525651,{"$f":"AVERAGE(P$79:P396)","v":71.067155298339998},null,null,null,null,40679.345277777189,{"$f":"LOOKUP($V396,Data!$A$6:$A$1806,Data!$B$6:$B$1806)","v":59.97705078125},{"$f":"LOOKUP($V396,Data!$A$6:$A$1806,Data!$C$6:$C$1806)","v":0},{"$f":"LOOKUP($V396,Data!$A$6:$A$1806,Data!$D$6:$D$1806)","v":0},{"$f":"IF($Z$1=\"+\",LOOKUP($V396,Data!$A$6:$A$1806,Data!$E$6:$E$1806)*-1,LOOKUP($V396,Data!$A$6:$A$1806,Data!$E$6:$E$1806))","v":0},{"$f":"LOOKUP($V396,Data!$A$6:$A$1806,Data!$F$6:$F$1806)","v":0},null,{"$f":"LOOKUP($V396,Data!$A$6:$A$1806,Data!$H$6:$H$1806)","v":0},{"$f":"LOOKUP($V396,Data!$A$6:$A$1806,Data!$I$6:$I$1806)","v":0},{"$f":"IF(LOOKUP($V396,Data!$A$6:$A$1806,Data!$J$6:$J$1806)>0,(LOOKUP($V396,Data!$A$6:$A$1806,Data!$J$6:$J$1806)*-1),LOOKUP($V396,Data!$A$6:$A$1806,Data!$J$6:$J$1806))","v":-653},{"$f":"LOOKUP($V396,Data!$A$6:$A$1806,Data!$K$6:$K$1806)","v":30367.720703125},149.8583984375,null,null,null,null,null,null,null,null,null,null,null,null,null,null,null,2183.3939179632248,2.294921875E-2," "]
[null,40679.345300925335,{"$f":"LOOKUP(B397,Data!$A$6:$A$1806,Data!B$6:B$1806)","v":59.976409912109375},{"$f":"LOOKUP(B397,Data!$A$6:$A$1806,Data!C$6:C$1806)","v":0},null,null,19590,{"$f":"(IF((C397-L$2)>0,(IF(C397<'Copy Results'!$C$3,((C397-L$2-L$5)/((L$4*L$2)-L$5)*G397*-1),(('Copy Results'!$C$3-L$2-L$5)/((L$4*L$2)-L$5)*G397*-1))),IF(C397>'Copy Results'!$C$2,((C397-L$2+L$5)/((L$4*L$2)-L$5)*G397*-1),(('Copy Results'!$C$2-L$2+L$5)/((L$4*L$2)-L$5)*G397*-1))))","v":154.04327392578125},151.58671712529622,null,null,0,130.95426723923029,{"$f":"AVERAGE(D$79:D397)","v":0},{"$f":"AVERAGE(M$79:M397)","v":152.75680972381821},-18.644902043525651,{"$f":"AVERAGE(P$79:P397)","v":70.785041910472501},null,null,null,null,40679.345300925335,{"$f":"LOOKUP($V397,Data!$A$6:$A$1806,Data!$B$6:$B$1806)","v":59.976409912109375},{"$f":"LOOKUP($V397,Data!$A$6:$A$1806,Data!$C$6:$C$1806)","v":0},{"$f":"LOOKUP($V397,Data!$A$6:$A$1806,Data!$D$6:$D$1806)","v":0},{"$f":"IF($Z$1=\"+\",LOOKUP($V397,Data!$A$6:$A$1806,Data!$E$6:$E$1806)*-1,LOOKUP($V397,Data!$A$6:$A$1806,Data!$E$6:$E$1806))","v":0},{"$f":"LOOKUP($V397,Data!$A$6:$A$1806,Data!$F$6:$F$1806)","v":0},null,{"$f":"LOOKUP($V397,Data!$A$6:$A$1806,Data!$H$6:$H$1806)","v":0},{"$f":"LOOKUP($V397,Data!$A$6:$A$1806,Data!$I$6:$I$1806)","v":0},{"$f":"IF(LOOKUP($V397,Data!$A$6:$A$1806,Data!$J$6:$J$1806)>0,(LOOKUP($V397,Data!$A$6:$A$1806,Data!$J$6:$J$1806)*-1),LOOKUP($V397,Data!$A$6:$A$1806,Data!$J$6:$J$1806))","v":-653},{"$f":"LOOKUP($V397,Data!$A$6:$A$1806,Data!$K$6:$K$1806)","v":30367.720703125},154.04327392578125,null,null,null,null,null,null,null,null,null,null,null,null,null,null,null,2120.411401098901,2.3590087890625E-2," "]
[null,40679.345324073482,{"$f":"LOOKUP(B398,Data!$A$6:$A$1806,Data!B$6:B$1806)","v":59.975433349609375},{"$f":"LOOKUP(B398,Data!$A$6:$A$1806,Data!C$6:C$1806)","v":0},null,null,19590,{"$f":"(IF((C398-L$2)>0,(IF(C398<'Copy Results'!$C$3,((C398-L$2-L$5)/((L$4*L$2)-L$5)*G398*-1),(('Copy Results'!$C$3-L$2-L$5)/((L$4*L$2)-L$5)*G398*-1))),IF(C398>'Copy Results'!$C$2,((C398-L$2+L$5)/((L$4*L$2)-L$5)*G398*-1),(('Copy Results'!$C$2-L$2+L$5)/((L$4*L$2)-L$5)*G398*-1))))","v":160.42022705078125},154.67844559921596,null,null,0,134.04599571315003,{"$f":"AVERAGE(D$79:D398)","v":0},{"$f":"AVERAGE(M$79:M398)","v":152.69833843003488},-18.644902043525651,{"$f":"AVERAGE(P$79:P398)","v":70.504697258579085},null,null,null,null,40679.345324073482,{"$f":"LOOKUP($V398,Data!$A$6:$A$1806,Data!$B$6:$B$1806)","v":59.975433349609375},{"$f":"LOOKUP($V398,Data!$A$6:$A$1806,Data!$C$6:$C$1806)","v":0},{"$f":"LOOKUP($V398,Data!$A$6:$A$1806,Data!$D$6:$D$1806)","v":0},{"$f":"IF($Z$1=\"+\",LOOKUP($V398,Data!$A$6:$A$1806,Data!$E$6:$E$1806)*-1,LOOKUP($V398,Data!$A$6:$A$1806,Data!$E$6:$E$1806))","v":0},{"$f":"LOOKUP($V398,Data!$A$6:$A$1806,Data!$F$6:$F$1806)","v":0},null,{"$f":"LOOKUP($V398,Data!$A$6:$A$1806,Data!$H$6:$H$1806)","v":0},{"$f":"LOOKUP($V398,Data!$A$6:$A$1806,Data!$I$6:$I$1806)","v":0},{"$f":"IF(LOOKUP($V398,Data!$A$6:$A$1806,Data!$J$6:$J$1806)>0,(LOOKUP($V398,Data!$A$6:$A$1806,Data!$J$6:$J$1806)*-1),LOOKUP($V398,Data!$A$6:$A$1806,Data!$J$6:$J$1806))","v":-653},{"$f":"LOOKUP($V398,Data!$A$6:$A$1806,Data!$K$6:$K$1806)","v":30416.87109375},160.42022705078125,null,null,null,null,null,null,null,null,null,null,null,null,null,null,null,2031.1309210526315,2.4566650390625E-2," "]
[null,40679.345347221628,{"$f":"LOOKUP(B399,Data!$A$6:$A$1806,Data!B$6:B$1806)","v":59.97381591796875},{"$f":"LOOKUP(B399,Data!$A$6:$A$1806,Data!C$6:C$1806)","v":0},null,null,19590,{"$f":"(IF((C399-L$2)>0,(IF(C399<'Copy Results'!$C$3,((C399-L$2-L$5)/((L$4*L$2)-L$5)*G399*-1),(('Copy Results'!$C$3-L$2-L$5)/((L$4*L$2)-L$5)*G399*-1))),IF(C399>'Copy Results'!$C$2,((C399-L$2+L$5)/((L$4*L$2)-L$5)*G399*-1),(('Copy Results'!$C$2-L$2+L$5)/((L$4*L$2)-L$5)*G399*-1))))","v":170.9820556640625},160.38470912191224,null,null,0,139.75225923584631,{"$f":"AVERAGE(D$79:D399)","v":0},{"$f":"AVERAGE(M$79:M399)","v":152.65800796525548},-18.644902043525651,{"$f":"AVERAGE(P$79:P399)","v":70.226104760760023},null,null,null,null,40679.345347221628,{"$f":"LOOKUP($V399,Data!$A$6:$A$1806,Data!$B$6:$B$1806)","v":59.97381591796875},{"$f":"LOOKUP($V399,Data!$A$6:$A$1806,Data!$C$6:$C$1806)","v":0},{"$f":"LOOKUP($V399,Data!$A$6:$A$1806,Data!$D$6:$D$1806)","v":0},{"$f":"IF($Z$1=\"+\",LOOKUP($V399,Data!$A$6:$A$1806,Data!$E$6:$E$1806)*-1,LOOKUP($V399,Data!$A$6:$A$1806,Data!$E$6:$E$1806))","v":0},{"$f":"LOOKUP($V399,Data!$A$6:$A$1806,Data!$F$6:$F$1806)","v":0},null,{"$f":"LOOKUP($V399,Data!$A$6:$A$1806,Data!$H$6:$H$1806)","v":0},{"$f":"LOOKUP($V399,Data!$A$6:$A$1806,Data!$I$6:$I$1806)","v":0},{"$f":"IF(LOOKUP($V399,Data!$A$6:$A$1806,Data!$J$6:$J$1806)>0,(LOOKUP($V399,Data!$A$6:$A$1806,Data!$J$6:$J$1806)*-1),LOOKUP($V399,Data!$A$6:$A$1806,Data!$J$6:$J$1806))","v":-653},{"$f":"LOOKUP($V399,Data!$A$6:$A$1806,Data!$K$6:$K$1806)","v":30416.87109375},170.9820556640625,null,null,null,null,null,null,null,null,null,null,null,null,null,null,null,1898.7201722017221,2.618408203125E-2," "]
[null,40679.345370369774,{"$f":"LOOKUP(B400,Data!$A$6:$A$1806,Data!B$6:B$1806)","v":59.973175048828125},{"$f":"LOOKUP(B400,Data!$A$6:$A$1806,Data!C$6:C$1806)","v":0},null,null,19590,{"$f":"(IF((C400-L$2)>0,(IF(C400<'Copy Results'!$C$3,((C400-L$2-L$5)/((L$4*L$2)-L$5)*G400*-1),(('Copy Results'!$C$3-L$2-L$5)/((L$4*L$2)-L$5)*G400*-1))),IF(C400>'Copy Results'!$C$2,((C400-L$2+L$5)/((L$4*L$2)-L$5)*G400*-1),(('Copy Results'!$C$2-L$2+L$5)/((L$4*L$2)-L$5)*G400*-1))))","v":175.16693115234375},165.55848683256326,null,null,{"$f":"IF(B400>G$3,0,(K$21*0.000023148/K$22))","v":0},{"$f":"M399+L400+(I400-I399)","v":144.92603694649733},{"$f":"AVERAGE(D$79:D400)","v":0},{"$f":"AVERAGE(M$79:M400)","v":152.63399563289909},-18.644902043525651,{"$f":"AVERAGE(P$79:P400)","v":69.949248041743559},null,null,null,null,40679.345370369774,{"$f":"LOOKUP($V400,Data!$A$6:$A$1806,Data!$B$6:$B$1806)","v":59.973175048828125},{"$f":"LOOKUP($V400,Data!$A$6:$A$1806,Data!$C$6:$C$1806)","v":0},{"$f":"LOOKUP($V400,Data!$A$6:$A$1806,Data!$D$6:$D$1806)","v":0},{"$f":"IF($Z$1=\"+\",LOOKUP($V400,Data!$A$6:$A$1806,Data!$E$6:$E$1806)*-1,LOOKUP($V400,Data!$A$6:$A$1806,Data!$E$6:$E$1806))","v":0},{"$f":"LOOKUP($V400,Data!$A$6:$A$1806,Data!$F$6:$F$1806)","v":0},null,{"$f":"LOOKUP($V400,Data!$A$6:$A$1806,Data!$H$6:$H$1806)","v":0},{"$f":"LOOKUP($V400,Data!$A$6:$A$1806,Data!$I$6:$I$1806)","v":0},{"$f":"IF(LOOKUP($V400,Data!$A$6:$A$1806,Data!$J$6:$J$1806)>0,(LOOKUP($V400,Data!$A$6:$A$1806,Data!$J$6:$J$1806)*-1),LOOKUP($V400,Data!$A$6:$A$1806,Data!$J$6:$J$1806))","v":-653},{"$f":"LOOKUP($V400,Data!$A$6:$A$1806,Data!$K$6:$K$1806)","v":30416.87109375},175.16693115234375,null,null,null,null,null,null,null,null,null,null,null,null,null,null,null,1850.9106714628297,2.6824951171875E-2," "]
[null,40679.34539351792,{"$f":"LOOKUP(B401,Data!$A$6:$A$1806,Data!B$6:B$1806)","v":59.97222900390625},{"$f":"LOOKUP(B401,Data!$A$6:$A$1806,Data!C$6:C$1806)","v":0},null,null,19590,{"$f":"(IF((C401-L$2)>0,(IF(C401<'Copy Results'!$C$3,((C401-L$2-L$5)/((L$4*L$2)-L$5)*G401*-1),(('Copy Results'!$C$3-L$2-L$5)/((L$4*L$2)-L$5)*G401*-1))),IF(C401>'Copy Results'!$C$2,((C401-L$2+L$5)/((L$4*L$2)-L$5)*G401*-1),(('Copy Results'!$C$2-L$2+L$5)/((L$4*L$2)-L$5)*G401*-1))))","v":181.3446044921875},171.08362801343173,null,null,0,150.45117812736581,{"$f":"AVERAGE(D$79:D401)","v":0},{"$f":"AVERAGE(M$79:M401)","v":152.62723768396555},-18.644902043525651,{"$f":"AVERAGE(P$79:P401)","v":69.674110929677497},null,null,null,null,{"$f":"V400+TIME(0,0,$B$1)","v":40679.34539351792},{"$f":"LOOKUP($V401,Data!$A$6:$A$1806,Data!$B$6:$B$1806)","v":59.97222900390625},{"$f":"LOOKUP($V401,Data!$A$6:$A$1806,Data!$C$6:$C$1806)","v":0},{"$f":"LOOKUP($V401,Data!$A$6:$A$1806,Data!$D$6:$D$1806)","v":0},{"$f":"IF($Z$1=\"+\",LOOKUP($V401,Data!$A$6:$A$1806,Data!$E$6:$E$1806)*-1,LOOKUP($V401,Data!$A$6:$A$1806,Data!$E$6:$E$1806))","v":0},{"$f":"LOOKUP($V401,Data!$A$6:$A$1806,Data!$F$6:$F$1806)","v":0},null,{"$f":"LOOKUP($V401,Data!$A$6:$A$1806,Data!$H$6:$H$1806)","v":0},{"$f":"LOOKUP($V401,Data!$A$6:$A$1806,Data!$I$6:$I$1806)","v":0},{"$f":"IF(LOOKUP($V401,Data!$A$6:$A$1806,Data!$J$6:$J$1806)>0,(LOOKUP($V401,Data!$A$6:$A$1806,Data!$J$6:$J$1806)*-1),LOOKUP($V401,Data!$A$6:$A$1806,Data!$J$6:$J$1806))","v":-653},{"$f":"LOOKUP($V401,Data!$A$6:$A$1806,Data!$K$6:$K$1806)","v":30416.87109375},181.3446044921875,null,null,null,null,null,null,null,null,null,null,null,null,null,null,null,{"$f":"IF(((D401-F$78)/((C401-E$78)*10))<0,\" \",((D401-F$78)/((C401-E$78)*10)))","v":1784.5774566473988},2.777099609375E-2," "]
[null,40679.345416666067,{"$f":"LOOKUP(B402,Data!$A$6:$A$1806,Data!B$6:B$1806)","v":59.971893310546875},{"$f":"LOOKUP(B402,Data!$A$6:$A$1806,Data!C$6:C$1806)","v":0},null,null,19590,{"$f":"(IF((C402-L$2)>0,(IF(C402<'Copy Results'!$C$3,((C402-L$2-L$5)/((L$4*L$2)-L$5)*G402*-1),(('Copy Results'!$C$3-L$2-L$5)/((L$4*L$2)-L$5)*G402*-1))),IF(C402>'Copy Results'!$C$2,((C402-L$2+L$5)/((L$4*L$2)-L$5)*G402*-1),(('Copy Results'!$C$2-L$2+L$5)/((L$4*L$2)-L$5)*G402*-1))))","v":183.53668212890625},175.44219695384783,null,null,0,154.8097470677819,{"$f":"AVERAGE(D$79:D402)","v":0},{"$f":"AVERAGE(M$79:M402)","v":152.63397382403906},{"$f":"P401+L402","v":-18.644902043525651},{"$f":"AVERAGE(P$79:P402)","v":69.40067745298029},null,null,null,null,40679.345416666067,{"$f":"LOOKUP($V402,Data!$A$6:$A$1806,Data!$B$6:$B$1806)","v":59.971893310546875},{"$f":"LOOKUP($V402,Data!$A$6:$A$1806,Data!$C$6:$C$1806)","v":0},{"$f":"LOOKUP($V402,Data!$A$6:$A$1806,Data!$D$6:$D$1806)","v":0},{"$f":"IF($Z$1=\"+\",LOOKUP($V402,Data!$A$6:$A$1806,Data!$E$6:$E$1806)*-1,LOOKUP($V402,Data!$A$6:$A$1806,Data!$E$6:$E$1806))","v":0},{"$f":"LOOKUP($V402,Data!$A$6:$A$1806,Data!$F$6:$F$1806)","v":0},null,{"$f":"LOOKUP($V402,Data!$A$6:$A$1806,Data!$H$6:$H$1806)","v":0},{"$f":"LOOKUP($V402,Data!$A$6:$A$1806,Data!$I$6:$I$1806)","v":0},{"$f":"IF(LOOKUP($V402,Data!$A$6:$A$1806,Data!$J$6:$J$1806)>0,(LOOKUP($V402,Data!$A$6:$A$1806,Data!$J$6:$J$1806)*-1),LOOKUP($V402,Data!$A$6:$A$1806,Data!$J$6:$J$1806))","v":-653},{"$f":"LOOKUP($V402,Data!$A$6:$A$1806,Data!$K$6:$K$1806)","v":30413.646484375},183.53668212890625,null,null,null,null,null,null,null,null,null,null,null,null,null,null,null,1762.1683789954338,2.8106689453125E-2," "]
[null,40679.345439814213,{"$f":"LOOKUP(B403,Data!$A$6:$A$1806,Data!B$6:B$1806)","v":59.970916748046875},{"$f":"LOOKUP(B403,Data!$A$6:$A$1806,Data!C$6:C$1806)","v":0},null,null,19590,{"$f":"(IF((C403-L$2)>0,(IF(C403<'Copy Results'!$C$3,((C403-L$2-L$5)/((L$4*L$2)-L$5)*G403*-1),(('Copy Results'!$C$3-L$2-L$5)/((L$4*L$2)-L$5)*G403*-1))),IF(C403>'Copy Results'!$C$2,((C403-L$2+L$5)/((L$4*L$2)-L$5)*G403*-1),(('Copy Results'!$C$2-L$2+L$5)/((L$4*L$2)-L$5)*G403*-1))))","v":189.91363525390625},180.50720035886826,null,null,0,159.87475047280233,{"$f":"AVERAGE(D$79:D403)","v":0},{"$f":"AVERAGE(M$79:M403)","v":152.65625313680448},-18.644902043525651,{"$f":"AVERAGE(P$79:P403)","v":69.128931837250335},null,null,null,null,40679.345439814213,{"$f":"LOOKUP($V403,Data!$A$6:$A$1806,Data!$B$6:$B$1806)","v":59.970916748046875},{"$f":"LOOKUP($V403,Data!$A$6:$A$1806,Data!$C$6:$C$1806)","v":0},{"$f":"LOOKUP($V403,Data!$A$6:$A$1806,Data!$D$6:$D$1806)","v":0},{"$f":"IF($Z$1=\"+\",LOOKUP($V403,Data!$A$6:$A$1806,Data!$E$6:$E$1806)*-1,LOOKUP($V403,Data!$A$6:$A$1806,Data!$E$6:$E$1806))","v":0},{"$f":"LOOKUP($V403,Data!$A$6:$A$1806,Data!$F$6:$F$1806)","v":0},null,{"$f":"LOOKUP($V403,Data!$A$6:$A$1806,Data!$H$6:$H$1806)","v":0},{"$f":"LOOKUP($V403,Data!$A$6:$A$1806,Data!$I$6:$I$1806)","v":0},{"$f":"IF(LOOKUP($V403,Data!$A$6:$A$1806,Data!$J$6:$J$1806)>0,(LOOKUP($V403,Data!$A$6:$A$1806,Data!$J$6:$J$1806)*-1),LOOKUP($V403,Data!$A$6:$A$1806,Data!$J$6:$J$1806))","v":-653},{"$f":"LOOKUP($V403,Data!$A$6:$A$1806,Data!$K$6:$K$1806)","v":30413.646484375},189.91363525390625,null,null,null,null,null,null,null,null,null,null,null,null,null,null,null,1700.0655286343613,2.9083251953125E-2," "]
[null,40679.345462962359,{"$f":"LOOKUP(B404,Data!$A$6:$A$1806,Data!B$6:B$1806)","v":59.969940185546875},{"$f":"LOOKUP(B404,Data!$A$6:$A$1806,Data!C$6:C$1806)","v":0},null,null,19590,{"$f":"(IF((C404-L$2)>0,(IF(C404<'Copy Results'!$C$3,((C404-L$2-L$5)/((L$4*L$2)-L$5)*G404*-1),(('Copy Results'!$C$3-L$2-L$5)/((L$4*L$2)-L$5)*G404*-1))),IF(C404>'Copy Results'!$C$2,((C404-L$2+L$5)/((L$4*L$2)-L$5)*G404*-1),(('Copy Results'!$C$2-L$2+L$5)/((L$4*L$2)-L$5)*G404*-1))))","v":196.29058837890625},186.03138616588154,null,null,0,165.39893627981562,{"$f":"AVERAGE(D$79:D404)","v":0},{"$f":"AVERAGE(M$79:M404)","v":152.69534112190576},-18.644902043525651,{"$f":"AVERAGE(P$79:P404)","v":68.858858502232565},null,null,null,null,40679.345462962359,{"$f":"LOOKUP($V404,Data!$A$6:$A$1806,Data!$B$6:$B$1806)","v":59.969940185546875},{"$f":"LOOKUP($V404,Data!$A$6:$A$1806,Data!$C$6:$C$1806)","v":0},{"$f":"LOOKUP($V404,Data!$A$6:$A$1806,Data!$D$6:$D$1806)","v":0},{"$f":"IF($Z$1=\"+\",LOOKUP($V404,Data!$A$6:$A$1806,Data!$E$6:$E$1806)*-1,LOOKUP($V404,Data!$A$6:$A$1806,Data!$E$6:$E$1806))","v":0},{"$f":"LOOKUP($V404,Data!$A$6:$A$1806,Data!$F$6:$F$1806)","v":0},null,{"$f":"LOOKUP($V404,Data!$A$6:$A$1806,Data!$H$6:$H$1806)","v":0},{"$f":"LOOKUP($V404,Data!$A$6:$A$1806,Data!$I$6:$I$1806)","v":0},{"$f":"IF(LOOKUP($V404,Data!$A$6:$A$1806,Data!$J$6:$J$1806)>0,(LOOKUP($V404,Data!$A$6:$A$1806,Data!$J$6:$J$1806)*-1),LOOKUP($V404,Data!$A$6:$A$1806,Data!$J$6:$J$1806))","v":-653},{"$f":"LOOKUP($V404,Data!$A$6:$A$1806,Data!$K$6:$K$1806)","v":30406.30078125},196.29058837890625,null,null,null,null,null,null,null,null,null,null,null,null,null,null,null,1642.1909574468084,3.0059814453125E-2," "]
[null,40679.345486110506,{"$f":"LOOKUP(B405,Data!$A$6:$A$1806,Data!B$6:B$1806)","v":59.96832275390625},{"$f":"LOOKUP(B405,Data!$A$6:$A$1806,Data!C$6:C$1806)","v":0},null,null,19590,{"$f":"(IF((C405-L$2)>0,(IF(C405<'Copy Results'!$C$3,((C405-L$2-L$5)/((L$4*L$2)-L$5)*G405*-1),(('Copy Results'!$C$3-L$2-L$5)/((L$4*L$2)-L$5)*G405*-1))),IF(C405>'Copy Results'!$C$2,((C405-L$2+L$5)/((L$4*L$2)-L$5)*G405*-1),(('Copy Results'!$C$2-L$2+L$5)/((L$4*L$2)-L$5)*G405*-1))))","v":206.8524169921875},193.31874695508861,null,null,0,172.68629706902269,{"$f":"AVERAGE(D$79:D405)","v":0},{"$f":"AVERAGE(M$79:M405)","v":152.75647554376238},-18.644902043525651,{"$f":"AVERAGE(P$79:P405)","v":68.590442058840665},null,null,null,null,40679.345486110506,{"$f":"LOOKUP($V405,Data!$A$6:$A$1806,Data!$B$6:$B$1806)","v":59.96832275390625},{"$f":"LOOKUP($V405,Data!$A$6:$A$1806,Data!$C$6:$C$1806)","v":0},{"$f":"LOOKUP($V405,Data!$A$6:$A$1806,Data!$D$6:$D$1806)","v":0},{"$f":"IF($Z$1=\"+\",LOOKUP($V405,Data!$A$6:$A$1806,Data!$E$6:$E$1806)*-1,LOOKUP($V405,Data!$A$6:$A$1806,Data!$E$6:$E$1806))","v":0},{"$f":"LOOKUP($V405,Data!$A$6:$A$1806,Data!$F$6:$F$1806)","v":0},null,{"$f":"LOOKUP($V405,Data!$A$6:$A$1806,Data!$H$6:$H$1806)","v":0},{"$f":"LOOKUP($V405,Data!$A$6:$A$1806,Data!$I$6:$I$1806)","v":0},{"$f":"IF(LOOKUP($V405,Data!$A$6:$A$1806,Data!$J$6:$J$1806)>0,(LOOKUP($V405,Data!$A$6:$A$1806,Data!$J$6:$J$1806)*-1),LOOKUP($V405,Data!$A$6:$A$1806,Data!$J$6:$J$1806))","v":-653},{"$f":"LOOKUP($V405,Data!$A$6:$A$1806,Data!$K$6:$K$1806)","v":30406.30078125},206.8524169921875,null,null,null,null,null,null,null,null,null,null,null,null,null,null,null,1554.5412890231621,3.167724609375E-2," "]
[null,40679.345509258652,{"$f":"LOOKUP(B406,Data!$A$6:$A$1806,Data!B$6:B$1806)","v":59.966064453125},{"$f":"LOOKUP(B406,Data!$A$6:$A$1806,Data!C$6:C$1806)","v":0},null,null,19590,{"$f":"(IF((C406-L$2)>0,(IF(C406<'Copy Results'!$C$3,((C406-L$2-L$5)/((L$4*L$2)-L$5)*G406*-1),(('Copy Results'!$C$3-L$2-L$5)/((L$4*L$2)-L$5)*G406*-1))),IF(C406>'Copy Results'!$C$2,((C406-L$2+L$5)/((L$4*L$2)-L$5)*G406*-1),(('Copy Results'!$C$2-L$2+L$5)/((L$4*L$2)-L$5)*G406*-1))))","v":221.59912109375},203.21687790362012,null,null,0,182.58442801755419,{"$f":"AVERAGE(D$79:D406)","v":0},{"$f":"AVERAGE(M$79:M406)","v":152.84741442325563},-18.644902043525651,{"$f":"AVERAGE(P$79:P406)","v":68.323667306234043},null,null,null,null,40679.345509258652,{"$f":"LOOKUP($V406,Data!$A$6:$A$1806,Data!$B$6:$B$1806)","v":59.966064453125},{"$f":"LOOKUP($V406,Data!$A$6:$A$1806,Data!$C$6:$C$1806)","v":0},{"$f":"LOOKUP($V406,Data!$A$6:$A$1806,Data!$D$6:$D$1806)","v":0},{"$f":"IF($Z$1=\"+\",LOOKUP($V406,Data!$A$6:$A$1806,Data!$E$6:$E$1806)*-1,LOOKUP($V406,Data!$A$6:$A$1806,Data!$E$6:$E$1806))","v":0},{"$f":"LOOKUP($V406,Data!$A$6:$A$1806,Data!$F$6:$F$1806)","v":0},null,{"$f":"LOOKUP($V406,Data!$A$6:$A$1806,Data!$H$6:$H$1806)","v":0},{"$f":"LOOKUP($V406,Data!$A$6:$A$1806,Data!$I$6:$I$1806)","v":0},{"$f":"IF(LOOKUP($V406,Data!$A$6:$A$1806,Data!$J$6:$J$1806)>0,(LOOKUP($V406,Data!$A$6:$A$1806,Data!$J$6:$J$1806)*-1),LOOKUP($V406,Data!$A$6:$A$1806,Data!$J$6:$J$1806))","v":-653},{"$f":"LOOKUP($V406,Data!$A$6:$A$1806,Data!$K$6:$K$1806)","v":30406.30078125},221.59912109375,null,null,null,null,null,null,null,null,null,null,null,null,null,null,null,1446.728678537957,3.3935546875E-2," "]
[null,40679.345532406798,{"$f":"LOOKUP(B407,Data!$A$6:$A$1806,Data!B$6:B$1806)","v":59.965423583984375},{"$f":"LOOKUP(B407,Data!$A$6:$A$1806,Data!C$6:C$1806)","v":0},null,null,19590,{"$f":"(IF((C407-L$2)>0,(IF(C407<'Copy Results'!$C$3,((C407-L$2-L$5)/((L$4*L$2)-L$5)*G407*-1),(('Copy Results'!$C$3-L$2-L$5)/((L$4*L$2)-L$5)*G407*-1))),IF(C407>'Copy Results'!$C$2,((C407-L$2+L$5)/((L$4*L$2)-L$5)*G407*-1),(('Copy Results'!$C$2-L$2+L$5)/((L$4*L$2)-L$5)*G407*-1))))","v":225.78399658203125},211.11536944106402,null,null,0,190.48291955499809,{"$f":"AVERAGE(D$79:D407)","v":0},{"$f":"AVERAGE(M$79:M407)","v":152.96180805587491},-18.644902043525651,{"$f":"AVERAGE(P$79:P407)","v":68.058519228948199},null,null,null,null,40679.345532406798,{"$f":"LOOKUP($V407,Data!$A$6:$A$1806,Data!$B$6:$B$1806)","v":59.965423583984375},{"$f":"LOOKUP($V407,Data!$A$6:$A$1806,Data!$C$6:$C$1806)","v":0},{"$f":"LOOKUP($V407,Data!$A$6:$A$1806,Data!$D$6:$D$1806)","v":0},{"$f":"IF($Z$1=\"+\",LOOKUP($V407,Data!$A$6:$A$1806,Data!$E$6:$E$1806)*-1,LOOKUP($V407,Data!$A$6:$A$1806,Data!$E$6:$E$1806))","v":0},{"$f":"LOOKUP($V407,Data!$A$6:$A$1806,Data!$F$6:$F$1806)","v":0},null,{"$f":"LOOKUP($V407,Data!$A$6:$A$1806,Data!$H$6:$H$1806)","v":0},{"$f":"LOOKUP($V407,Data!$A$6:$A$1806,Data!$I$6:$I$1806)","v":0},{"$f":"IF(LOOKUP($V407,Data!$A$6:$A$1806,Data!$J$6:$J$1806)>0,(LOOKUP($V407,Data!$A$6:$A$1806,Data!$J$6:$J$1806)*-1),LOOKUP($V407,Data!$A$6:$A$1806,Data!$J$6:$J$1806))","v":-653},{"$f":"LOOKUP($V407,Data!$A$6:$A$1806,Data!$K$6:$K$1806)","v":30406.30078125},225.78399658203125,null,null,null,null,null,null,null,null,null,null,null,null,null,null,null,1418.8046875,3.4576416015625E-2," "]
[null,40679.345555554944,{"$f":"LOOKUP(B408,Data!$A$6:$A$1806,Data!B$6:B$1806)","v":59.966064453125},{"$f":"LOOKUP(B408,Data!$A$6:$A$1806,Data!C$6:C$1806)","v":0},null,null,19590,{"$f":"(IF((C408-L$2)>0,(IF(C408<'Copy Results'!$C$3,((C408-L$2-L$5)/((L$4*L$2)-L$5)*G408*-1),(('Copy Results'!$C$3-L$2-L$5)/((L$4*L$2)-L$5)*G408*-1))),IF(C408>'Copy Results'!$C$2,((C408-L$2+L$5)/((L$4*L$2)-L$5)*G408*-1),(('Copy Results'!$C$2-L$2+L$5)/((L$4*L$2)-L$5)*G408*-1))))","v":221.59912109375},214.78468251950412,null,null,0,194.15223263343819,{"$f":"AVERAGE(D$79:D408)","v":0},{"$f":"AVERAGE(M$79:M408)","v":153.08662752429177},-18.644902043525651,{"$f":"AVERAGE(P$79:P408)","v":67.794982994077458},null,null,null,null,40679.345555554944,{"$f":"LOOKUP($V408,Data!$A$6:$A$1806,Data!$B$6:$B$1806)","v":59.966064453125},{"$f":"LOOKUP($V408,Data!$A$6:$A$1806,Data!$C$6:$C$1806)","v":0},{"$f":"LOOKUP($V408,Data!$A$6:$A$1806,Data!$D$6:$D$1806)","v":0},{"$f":"IF($Z$1=\"+\",LOOKUP($V408,Data!$A$6:$A$1806,Data!$E$6:$E$1806)*-1,LOOKUP($V408,Data!$A$6:$A$1806,Data!$E$6:$E$1806))","v":0},{"$f":"LOOKUP($V408,Data!$A$6:$A$1806,Data!$F$6:$F$1806)","v":0},null,{"$f":"LOOKUP($V408,Data!$A$6:$A$1806,Data!$H$6:$H$1806)","v":0},{"$f":"LOOKUP($V408,Data!$A$6:$A$1806,Data!$I$6:$I$1806)","v":0},{"$f":"IF(LOOKUP($V408,Data!$A$6:$A$1806,Data!$J$6:$J$1806)>0,(LOOKUP($V408,Data!$A$6:$A$1806,Data!$J$6:$J$1806)*-1),LOOKUP($V408,Data!$A$6:$A$1806,Data!$J$6:$J$1806))","v":-653},{"$f":"LOOKUP($V408,Data!$A$6:$A$1806,Data!$K$6:$K$1806)","v":30418.587890625},221.59912109375,null,null,null,null,null,null,null,null,null,null,null,null,null,null,null,1446.728678537957,3.3935546875E-2," "]
[null,40679.345578703091,{"$f":"LOOKUP(B409,Data!$A$6:$A$1806,Data!B$6:B$1806)","v":59.96929931640625},{"$f":"LOOKUP(B409,Data!$A$6:$A$1806,Data!C$6:C$1806)","v":0},null,null,19590,{"$f":"(IF((C409-L$2)>0,(IF(C409<'Copy Results'!$C$3,((C409-L$2-L$5)/((L$4*L$2)-L$5)*G409*-1),(('Copy Results'!$C$3-L$2-L$5)/((L$4*L$2)-L$5)*G409*-1))),IF(C409>'Copy Results'!$C$2,((C409-L$2+L$5)/((L$4*L$2)-L$5)*G409*-1),(('Copy Results'!$C$2-L$2+L$5)/((L$4*L$2)-L$5)*G409*-1))))","v":200.4754638671875},209.7764559911933,null,null,0,189.14400610512737,{"$f":"AVERAGE(D$79:D409)","v":0},{"$f":"AVERAGE(M$79:M409)","v":153.19556220278372},-18.644902043525651,{"$f":"AVERAGE(P$79:P409)","v":67.533043948508961},null,null,null,null,40679.345578703091,{"$f":"LOOKUP($V409,Data!$A$6:$A$1806,Data!$B$6:$B$1806)","v":59.96929931640625},{"$f":"LOOKUP($V409,Data!$A$6:$A$1806,Data!$C$6:$C$1806)","v":0},{"$f":"LOOKUP($V409,Data!$A$6:$A$1806,Data!$D$6:$D$1806)","v":0},{"$f":"IF($Z$1=\"+\",LOOKUP($V409,Data!$A$6:$A$1806,Data!$E$6:$E$1806)*-1,LOOKUP($V409,Data!$A$6:$A$1806,Data!$E$6:$E$1806))","v":0},{"$f":"LOOKUP($V409,Data!$A$6:$A$1806,Data!$F$6:$F$1806)","v":0},null,{"$f":"LOOKUP($V409,Data!$A$6:$A$1806,Data!$H$6:$H$1806)","v":0},{"$f":"LOOKUP($V409,Data!$A$6:$A$1806,Data!$I$6:$I$1806)","v":0},{"$f":"IF(LOOKUP($V409,Data!$A$6:$A$1806,Data!$J$6:$J$1806)>0,(LOOKUP($V409,Data!$A$6:$A$1806,Data!$J$6:$J$1806)*-1),LOOKUP($V409,Data!$A$6:$A$1806,Data!$J$6:$J$1806))","v":-653},{"$f":"LOOKUP($V409,Data!$A$6:$A$1806,Data!$K$6:$K$1806)","v":30418.587890625},200.4754638671875,null,null,null,null,null,null,null,null,null,null,null,null,null,null,null,1606.3054110301769,3.070068359375E-2," "]
[null,40679.345601851237,{"$f":"LOOKUP(B410,Data!$A$6:$A$1806,Data!B$6:B$1806)","v":59.9725341796875},{"$f":"LOOKUP(B410,Data!$A$6:$A$1806,Data!C$6:C$1806)","v":0},null,null,19590,{"$f":"(IF((C410-L$2)>0,(IF(C410<'Copy Results'!$C$3,((C410-L$2-L$5)/((L$4*L$2)-L$5)*G410*-1),(('Copy Results'!$C$3-L$2-L$5)/((L$4*L$2)-L$5)*G410*-1))),IF(C410>'Copy Results'!$C$2,((C410-L$2+L$5)/((L$4*L$2)-L$5)*G410*-1),(('Copy Results'!$C$2-L$2+L$5)/((L$4*L$2)-L$5)*G410*-1))))","v":179.351806640625},199.12782871849441,null,null,0,178.49537883242849,{"$f":"AVERAGE(D$79:D410)","v":0},{"$f":"AVERAGE(M$79:M410)","v":153.27176646974047},-18.644902043525651,{"$f":"AVERAGE(P$79:P410)","v":67.272687616206753},null,null,null,null,40679.345601851237,{"$f":"LOOKUP($V410,Data!$A$6:$A$1806,Data!$B$6:$B$1806)","v":59.9725341796875},{"$f":"LOOKUP($V410,Data!$A$6:$A$1806,Data!$C$6:$C$1806)","v":0},{"$f":"LOOKUP($V410,Data!$A$6:$A$1806,Data!$D$6:$D$1806)","v":0},{"$f":"IF($Z$1=\"+\",LOOKUP($V410,Data!$A$6:$A$1806,Data!$E$6:$E$1806)*-1,LOOKUP($V410,Data!$A$6:$A$1806,Data!$E$6:$E$1806))","v":0},{"$f":"LOOKUP($V410,Data!$A$6:$A$1806,Data!$F$6:$F$1806)","v":0},null,{"$f":"LOOKUP($V410,Data!$A$6:$A$1806,Data!$H$6:$H$1806)","v":0},{"$f":"LOOKUP($V410,Data!$A$6:$A$1806,Data!$I$6:$I$1806)","v":0},{"$f":"IF(LOOKUP($V410,Data!$A$6:$A$1806,Data!$J$6:$J$1806)>0,(LOOKUP($V410,Data!$A$6:$A$1806,Data!$J$6:$J$1806)*-1),LOOKUP($V410,Data!$A$6:$A$1806,Data!$J$6:$J$1806))","v":-653},{"$f":"LOOKUP($V410,Data!$A$6:$A$1806,Data!$K$6:$K$1806)","v":30418.587890625},179.351806640625,null,null,null,null,null,null,null,null,null,null,null,null,null,null,null,1805.4497076023392,2.74658203125E-2," "]
[null,40679.345624999383,{"$f":"LOOKUP(B411,Data!$A$6:$A$1806,Data!B$6:B$1806)","v":59.9735107421875},{"$f":"LOOKUP(B411,Data!$A$6:$A$1806,Data!C$6:C$1806)","v":0},null,null,19590,{"$f":"(IF((C411-L$2)>0,(IF(C411<'Copy Results'!$C$3,((C411-L$2-L$5)/((L$4*L$2)-L$5)*G411*-1),(('Copy Results'!$C$3-L$2-L$5)/((L$4*L$2)-L$5)*G411*-1))),IF(C411>'Copy Results'!$C$2,((C411-L$2+L$5)/((L$4*L$2)-L$5)*G411*-1),(('Copy Results'!$C$2-L$2+L$5)/((L$4*L$2)-L$5)*G411*-1))))","v":172.974853515625},189.97428739749012,null,null,0,169.34183751142419,{"$f":"AVERAGE(D$79:D411)","v":0},{"$f":"AVERAGE(M$79:M411)","v":153.32002494133712},-18.644902043525651,{"$f":"AVERAGE(P$79:P411)","v":67.013899695544907},null,null,null,null,40679.345624999383,{"$f":"LOOKUP($V411,Data!$A$6:$A$1806,Data!$B$6:$B$1806)","v":59.9735107421875},{"$f":"LOOKUP($V411,Data!$A$6:$A$1806,Data!$C$6:$C$1806)","v":0},{"$f":"LOOKUP($V411,Data!$A$6:$A$1806,Data!$D$6:$D$1806)","v":0},{"$f":"IF($Z$1=\"+\",LOOKUP($V411,Data!$A$6:$A$1806,Data!$E$6:$E$1806)*-1,LOOKUP($V411,Data!$A$6:$A$1806,Data!$E$6:$E$1806))","v":0},{"$f":"LOOKUP($V411,Data!$A$6:$A$1806,Data!$F$6:$F$1806)","v":0},null,{"$f":"LOOKUP($V411,Data!$A$6:$A$1806,Data!$H$6:$H$1806)","v":0},{"$f":"LOOKUP($V411,Data!$A$6:$A$1806,Data!$I$6:$I$1806)","v":0},{"$f":"IF(LOOKUP($V411,Data!$A$6:$A$1806,Data!$J$6:$J$1806)>0,(LOOKUP($V411,Data!$A$6:$A$1806,Data!$J$6:$J$1806)*-1),LOOKUP($V411,Data!$A$6:$A$1806,Data!$J$6:$J$1806))","v":-653},{"$f":"LOOKUP($V411,Data!$A$6:$A$1806,Data!$K$6:$K$1806)","v":30418.587890625},172.974853515625,null,null,null,null,null,null,null,null,null,null,null,null,null,null,null,1875.6494532199272,2.64892578125E-2," "]
[null,40679.34564814753,{"$f":"LOOKUP(B412,Data!$A$6:$A$1806,Data!B$6:B$1806)","v":59.97381591796875},{"$f":"LOOKUP(B412,Data!$A$6:$A$1806,Data!C$6:C$1806)","v":0},null,null,19590,{"$f":"(IF((C412-L$2)>0,(IF(C412<'Copy Results'!$C$3,((C412-L$2-L$5)/((L$4*L$2)-L$5)*G412*-1),(('Copy Results'!$C$3-L$2-L$5)/((L$4*L$2)-L$5)*G412*-1))),IF(C412>'Copy Results'!$C$2,((C412-L$2+L$5)/((L$4*L$2)-L$5)*G412*-1),(('Copy Results'!$C$2-L$2+L$5)/((L$4*L$2)-L$5)*G412*-1))))","v":170.9820556640625},183.32700629079045,null,null,0,162.69455640472452,{"$f":"AVERAGE(D$79:D412)","v":0},{"$f":"AVERAGE(M$79:M412)","v":153.34809240080835},-18.644902043525651,{"$f":"AVERAGE(P$79:P412)","v":66.756666056688843},null,null,null,null,40679.34564814753,{"$f":"LOOKUP($V412,Data!$A$6:$A$1806,Data!$B$6:$B$1806)","v":59.97381591796875},{"$f":"LOOKUP($V412,Data!$A$6:$A$1806,Data!$C$6:$C$1806)","v":0},{"$f":"LOOKUP($V412,Data!$A$6:$A$1806,Data!$D$6:$D$1806)","v":0},{"$f":"IF($Z$1=\"+\",LOOKUP($V412,Data!$A$6:$A$1806,Data!$E$6:$E$1806)*-1,LOOKUP($V412,Data!$A$6:$A$1806,Data!$E$6:$E$1806))","v":0},{"$f":"LOOKUP($V412,Data!$A$6:$A$1806,Data!$F$6:$F$1806)","v":0},null,{"$f":"LOOKUP($V412,Data!$A$6:$A$1806,Data!$H$6:$H$1806)","v":0},{"$f":"LOOKUP($V412,Data!$A$6:$A$1806,Data!$I$6:$I$1806)","v":0},{"$f":"IF(LOOKUP($V412,Data!$A$6:$A$1806,Data!$J$6:$J$1806)>0,(LOOKUP($V412,Data!$A$6:$A$1806,Data!$J$6:$J$1806)*-1),LOOKUP($V412,Data!$A$6:$A$1806,Data!$J$6:$J$1806))","v":-653},{"$f":"LOOKUP($V412,Data!$A$6:$A$1806,Data!$K$6:$K$1806)","v":30433.314453125},170.9820556640625,null,null,null,null,null,null,null,null,null,null,null,null,null,null,null,1898.7201722017221,2.618408203125E-2," "]
[null,40679.345671295676,{"$f":"LOOKUP(B413,Data!$A$6:$A$1806,Data!B$6:B$1806)","v":59.9725341796875},{"$f":"LOOKUP(B413,Data!$A$6:$A$1806,Data!C$6:C$1806)","v":0},null,null,19590,{"$f":"(IF((C413-L$2)>0,(IF(C413<'Copy Results'!$C$3,((C413-L$2-L$5)/((L$4*L$2)-L$5)*G413*-1),(('Copy Results'!$C$3-L$2-L$5)/((L$4*L$2)-L$5)*G413*-1))),IF(C413>'Copy Results'!$C$2,((C413-L$2+L$5)/((L$4*L$2)-L$5)*G413*-1),(('Copy Results'!$C$2-L$2+L$5)/((L$4*L$2)-L$5)*G413*-1))))","v":179.351806640625},181.93568641323253,null,null,0,161.3032365271666,{"$f":"AVERAGE(D$79:D413)","v":0},{"$f":"AVERAGE(M$79:M413)","v":153.37183909969301},-18.644902043525651,{"$f":"AVERAGE(P$79:P413)","v":66.500972739023524},null,null,null,null,40679.345671295676,{"$f":"LOOKUP($V413,Data!$A$6:$A$1806,Data!$B$6:$B$1806)","v":59.9725341796875},{"$f":"LOOKUP($V413,Data!$A$6:$A$1806,Data!$C$6:$C$1806)","v":0},{"$f":"LOOKUP($V413,Data!$A$6:$A$1806,Data!$D$6:$D$1806)","v":0},{"$f":"IF($Z$1=\"+\",LOOKUP($V413,Data!$A$6:$A$1806,Data!$E$6:$E$1806)*-1,LOOKUP($V413,Data!$A$6:$A$1806,Data!$E$6:$E$1806))","v":0},{"$f":"LOOKUP($V413,Data!$A$6:$A$1806,Data!$F$6:$F$1806)","v":0},null,{"$f":"LOOKUP($V413,Data!$A$6:$A$1806,Data!$H$6:$H$1806)","v":0},{"$f":"LOOKUP($V413,Data!$A$6:$A$1806,Data!$I$6:$I$1806)","v":0},{"$f":"IF(LOOKUP($V413,Data!$A$6:$A$1806,Data!$J$6:$J$1806)>0,(LOOKUP($V413,Data!$A$6:$A$1806,Data!$J$6:$J$1806)*-1),LOOKUP($V413,Data!$A$6:$A$1806,Data!$J$6:$J$1806))","v":-653},{"$f":"LOOKUP($V413,Data!$A$6:$A$1806,Data!$K$6:$K$1806)","v":30433.314453125},179.351806640625,null,null,null,null,null,null,null,null,null,null,null,null,null,null,null,1805.4497076023392,2.74658203125E-2," "]
[null,40679.345694443822,{"$f":"LOOKUP(B414,Data!$A$6:$A$1806,Data!B$6:B$1806)","v":59.9725341796875},{"$f":"LOOKUP(B414,Data!$A$6:$A$1806,Data!C$6:C$1806)","v":0},null,null,19590,{"$f":"(IF((C414-L$2)>0,(IF(C414<'Copy Results'!$C$3,((C414-L$2-L$5)/((L$4*L$2)-L$5)*G414*-1),(('Copy Results'!$C$3-L$2-L$5)/((L$4*L$2)-L$5)*G414*-1))),IF(C414>'Copy Results'!$C$2,((C414-L$2+L$5)/((L$4*L$2)-L$5)*G414*-1),(('Copy Results'!$C$2-L$2+L$5)/((L$4*L$2)-L$5)*G414*-1))))","v":179.351806640625},181.03132849281988,null,null,0,160.39887860675395,{"$f":"AVERAGE(D$79:D414)","v":0},{"$f":"AVERAGE(M$79:M414)","v":153.39275290774972},-18.644902043525651,{"$f":"AVERAGE(P$79:P414)","v":66.246805948627866},null,null,null,null,40679.345694443822,{"$f":"LOOKUP($V414,Data!$A$6:$A$1806,Data!$B$6:$B$1806)","v":59.9725341796875},{"$f":"LOOKUP($V414,Data!$A$6:$A$1806,Data!$C$6:$C$1806)","v":0},{"$f":"LOOKUP($V414,Data!$A$6:$A$1806,Data!$D$6:$D$1806)","v":0},{"$f":"IF($Z$1=\"+\",LOOKUP($V414,Data!$A$6:$A$1806,Data!$E$6:$E$1806)*-1,LOOKUP($V414,Data!$A$6:$A$1806,Data!$E$6:$E$1806))","v":0},{"$f":"LOOKUP($V414,Data!$A$6:$A$1806,Data!$F$6:$F$1806)","v":0},null,{"$f":"LOOKUP($V414,Data!$A$6:$A$1806,Data!$H$6:$H$1806)","v":0},{"$f":"LOOKUP($V414,Data!$A$6:$A$1806,Data!$I$6:$I$1806)","v":0},{"$f":"IF(LOOKUP($V414,Data!$A$6:$A$1806,Data!$J$6:$J$1806)>0,(LOOKUP($V414,Data!$A$6:$A$1806,Data!$J$6:$J$1806)*-1),LOOKUP($V414,Data!$A$6:$A$1806,Data!$J$6:$J$1806))","v":-653},{"$f":"LOOKUP($V414,Data!$A$6:$A$1806,Data!$K$6:$K$1806)","v":30433.314453125},179.351806640625,null,null,null,null,null,null,null,null,null,null,null,null,null,null,null,1805.4497076023392,2.74658203125E-2," "]
[null,40679.345717591968,{"$f":"LOOKUP(B415,Data!$A$6:$A$1806,Data!B$6:B$1806)","v":59.9725341796875},{"$f":"LOOKUP(B415,Data!$A$6:$A$1806,Data!C$6:C$1806)","v":0},null,null,19590,{"$f":"(IF((C415-L$2)>0,(IF(C415<'Copy Results'!$C$3,((C415-L$2-L$5)/((L$4*L$2)-L$5)*G415*-1),(('Copy Results'!$C$3-L$2-L$5)/((L$4*L$2)-L$5)*G415*-1))),IF(C415>'Copy Results'!$C$2,((C415-L$2+L$5)/((L$4*L$2)-L$5)*G415*-1),(('Copy Results'!$C$2-L$2+L$5)/((L$4*L$2)-L$5)*G415*-1))))","v":179.351806640625},180.44349584455168,null,null,0,159.81104595848575,{"$f":"AVERAGE(D$79:D415)","v":0},{"$f":"AVERAGE(M$79:M415)","v":153.41179828772223},-18.644902043525651,{"$f":"AVERAGE(P$79:P415)","v":65.994152055794075},null,null,null,null,40679.345717591968,{"$f":"LOOKUP($V415,Data!$A$6:$A$1806,Data!$B$6:$B$1806)","v":59.9725341796875},{"$f":"LOOKUP($V415,Data!$A$6:$A$1806,Data!$C$6:$C$1806)","v":0},{"$f":"LOOKUP($V415,Data!$A$6:$A$1806,Data!$D$6:$D$1806)","v":0},{"$f":"IF($Z$1=\"+\",LOOKUP($V415,Data!$A$6:$A$1806,Data!$E$6:$E$1806)*-1,LOOKUP($V415,Data!$A$6:$A$1806,Data!$E$6:$E$1806))","v":0},{"$f":"LOOKUP($V415,Data!$A$6:$A$1806,Data!$F$6:$F$1806)","v":0},null,{"$f":"LOOKUP($V415,Data!$A$6:$A$1806,Data!$H$6:$H$1806)","v":0},{"$f":"LOOKUP($V415,Data!$A$6:$A$1806,Data!$I$6:$I$1806)","v":0},{"$f":"IF(LOOKUP($V415,Data!$A$6:$A$1806,Data!$J$6:$J$1806)>0,(LOOKUP($V415,Data!$A$6:$A$1806,Data!$J$6:$J$1806)*-1),LOOKUP($V415,Data!$A$6:$A$1806,Data!$J$6:$J$1806))","v":-653},{"$f":"LOOKUP($V415,Data!$A$6:$A$1806,Data!$K$6:$K$1806)","v":30433.314453125},179.351806640625,null,null,null,null,null,null,null,null,null,null,null,null,null,null,null,1805.4497076023392,2.74658203125E-2," "]
[null,40679.345740740115,{"$f":"LOOKUP(B416,Data!$A$6:$A$1806,Data!B$6:B$1806)","v":59.967681884765625},{"$f":"LOOKUP(B416,Data!$A$6:$A$1806,Data!C$6:C$1806)","v":0},null,null,19590,{"$f":"(IF((C416-L$2)>0,(IF(C416<'Copy Results'!$C$3,((C416-L$2-L$5)/((L$4*L$2)-L$5)*G416*-1),(('Copy Results'!$C$3-L$2-L$5)/((L$4*L$2)-L$5)*G416*-1))),IF(C416>'Copy Results'!$C$2,((C416-L$2+L$5)/((L$4*L$2)-L$5)*G416*-1),(('Copy Results'!$C$2-L$2+L$5)/((L$4*L$2)-L$5)*G416*-1))))","v":211.03729248046875},191.15132466712265,null,null,0,170.51887478105672,{"$f":"AVERAGE(D$79:D416)","v":0},{"$f":"AVERAGE(M$79:M416)","v":153.46241094006939},-18.644902043525651,{"$f":"AVERAGE(P$79:P416)","v":65.742997592591351},null,null,null,null,40679.345740740115,{"$f":"LOOKUP($V416,Data!$A$6:$A$1806,Data!$B$6:$B$1806)","v":59.967681884765625},{"$f":"LOOKUP($V416,Data!$A$6:$A$1806,Data!$C$6:$C$1806)","v":0},{"$f":"LOOKUP($V416,Data!$A$6:$A$1806,Data!$D$6:$D$1806)","v":0},{"$f":"IF($Z$1=\"+\",LOOKUP($V416,Data!$A$6:$A$1806,Data!$E$6:$E$1806)*-1,LOOKUP($V416,Data!$A$6:$A$1806,Data!$E$6:$E$1806))","v":0},{"$f":"LOOKUP($V416,Data!$A$6:$A$1806,Data!$F$6:$F$1806)","v":0},null,{"$f":"LOOKUP($V416,Data!$A$6:$A$1806,Data!$H$6:$H$1806)","v":0},{"$f":"LOOKUP($V416,Data!$A$6:$A$1806,Data!$I$6:$I$1806)","v":0},{"$f":"IF(LOOKUP($V416,Data!$A$6:$A$1806,Data!$J$6:$J$1806)>0,(LOOKUP($V416,Data!$A$6:$A$1806,Data!$J$6:$J$1806)*-1),LOOKUP($V416,Data!$A$6:$A$1806,Data!$J$6:$J$1806))","v":-653},{"$f":"LOOKUP($V416,Data!$A$6:$A$1806,Data!$K$6:$K$1806)","v":30433.314453125},211.03729248046875,null,null,null,null,null,null,null,null,null,null,null,null,null,null,null,1522.3466469428008,3.2318115234375E-2," "]
[null,40679.345763888261,{"$f":"LOOKUP(B417,Data!$A$6:$A$1806,Data!B$6:B$1806)","v":59.97125244140625},{"$f":"LOOKUP(B417,Data!$A$6:$A$1806,Data!C$6:C$1806)","v":0},null,null,19590,{"$f":"(IF((C417-L$2)>0,(IF(C417<'Copy Results'!$C$3,((C417-L$2-L$5)/((L$4*L$2)-L$5)*G417*-1),(('Copy Results'!$C$3-L$2-L$5)/((L$4*L$2)-L$5)*G417*-1))),IF(C417>'Copy Results'!$C$2,((C417-L$2+L$5)/((L$4*L$2)-L$5)*G417*-1),(('Copy Results'!$C$2-L$2+L$5)/((L$4*L$2)-L$5)*G417*-1))))","v":187.7215576171875},189.95090619964535,null,null,0,169.31845631357942,{"$f":"AVERAGE(D$79:D417)","v":0},{"$f":"AVERAGE(M$79:M417)","v":153.50918393527147},-18.644902043525651,{"$f":"AVERAGE(P$79:P417)","v":65.493329250472655},null,null,null,null,40679.345763888261,{"$f":"LOOKUP($V417,Data!$A$6:$A$1806,Data!$B$6:$B$1806)","v":59.97125244140625},{"$f":"LOOKUP($V417,Data!$A$6:$A$1806,Data!$C$6:$C$1806)","v":0},{"$f":"LOOKUP($V417,Data!$A$6:$A$1806,Data!$D$6:$D$1806)","v":0},{"$f":"IF($Z$1=\"+\",LOOKUP($V417,Data!$A$6:$A$1806,Data!$E$6:$E$1806)*-1,LOOKUP($V417,Data!$A$6:$A$1806,Data!$E$6:$E$1806))","v":0},{"$f":"LOOKUP($V417,Data!$A$6:$A$1806,Data!$F$6:$F$1806)","v":0},null,{"$f":"LOOKUP($V417,Data!$A$6:$A$1806,Data!$H$6:$H$1806)","v":0},{"$f":"LOOKUP($V417,Data!$A$6:$A$1806,Data!$I$6:$I$1806)","v":0},{"$f":"IF(LOOKUP($V417,Data!$A$6:$A$1806,Data!$J$6:$J$1806)>0,(LOOKUP($V417,Data!$A$6:$A$1806,Data!$J$6:$J$1806)*-1),LOOKUP($V417,Data!$A$6:$A$1806,Data!$J$6:$J$1806))","v":-653},{"$f":"LOOKUP($V417,Data!$A$6:$A$1806,Data!$K$6:$K$1806)","v":30433.314453125},187.7215576171875,null,null,null,null,null,null,null,null,null,null,null,null,null,null,null,1720.9136008918617,2.874755859375E-2," "]
[null,40679.345787036407,{"$f":"LOOKUP(B418,Data!$A$6:$A$1806,Data!B$6:B$1806)","v":59.97576904296875},{"$f":"LOOKUP(B418,Data!$A$6:$A$1806,Data!C$6:C$1806)","v":0},null,null,19590,{"$f":"(IF((C418-L$2)>0,(IF(C418<'Copy Results'!$C$3,((C418-L$2-L$5)/((L$4*L$2)-L$5)*G418*-1),(('Copy Results'!$C$3-L$2-L$5)/((L$4*L$2)-L$5)*G418*-1))),IF(C418>'Copy Results'!$C$2,((C418-L$2+L$5)/((L$4*L$2)-L$5)*G418*-1),(('Copy Results'!$C$2-L$2+L$5)/((L$4*L$2)-L$5)*G418*-1))))","v":158.2281494140625},178.84794132469136,null,null,0,158.21549143862543,{"$f":"AVERAGE(D$79:D418)","v":0},{"$f":"AVERAGE(M$79:M418)","v":153.5230260161637},-18.644902043525651,{"$f":"AVERAGE(P$79:P418)","v":65.24513387792399},null,null,null,null,40679.345787036407,{"$f":"LOOKUP($V418,Data!$A$6:$A$1806,Data!$B$6:$B$1806)","v":59.97576904296875},{"$f":"LOOKUP($V418,Data!$A$6:$A$1806,Data!$C$6:$C$1806)","v":0},{"$f":"LOOKUP($V418,Data!$A$6:$A$1806,Data!$D$6:$D$1806)","v":0},{"$f":"IF($Z$1=\"+\",LOOKUP($V418,Data!$A$6:$A$1806,Data!$E$6:$E$1806)*-1,LOOKUP($V418,Data!$A$6:$A$1806,Data!$E$6:$E$1806))","v":0},{"$f":"LOOKUP($V418,Data!$A$6:$A$1806,Data!$F$6:$F$1806)","v":0},null,{"$f":"LOOKUP($V418,Data!$A$6:$A$1806,Data!$H$6:$H$1806)","v":0},{"$f":"LOOKUP($V418,Data!$A$6:$A$1806,Data!$I$6:$I$1806)","v":0},{"$f":"IF(LOOKUP($V418,Data!$A$6:$A$1806,Data!$J$6:$J$1806)>0,(LOOKUP($V418,Data!$A$6:$A$1806,Data!$J$6:$J$1806)*-1),LOOKUP($V418,Data!$A$6:$A$1806,Data!$J$6:$J$1806))","v":-653},{"$f":"LOOKUP($V418,Data!$A$6:$A$1806,Data!$K$6:$K$1806)","v":30451.296875},158.2281494140625,null,null,null,null,null,null,null,null,null,null,null,null,null,null,null,2060.9606141522031,2.423095703125E-2," "]
[null,40679.345810184554,{"$f":"LOOKUP(B419,Data!$A$6:$A$1806,Data!B$6:B$1806)","v":59.97576904296875},{"$f":"LOOKUP(B419,Data!$A$6:$A$1806,Data!C$6:C$1806)","v":0},null,null,19590,{"$f":"(IF((C419-L$2)>0,(IF(C419<'Copy Results'!$C$3,((C419-L$2-L$5)/((L$4*L$2)-L$5)*G419*-1),(('Copy Results'!$C$3-L$2-L$5)/((L$4*L$2)-L$5)*G419*-1))),IF(C419>'Copy Results'!$C$2,((C419-L$2+L$5)/((L$4*L$2)-L$5)*G419*-1),(('Copy Results'!$C$2-L$2+L$5)/((L$4*L$2)-L$5)*G419*-1))))","v":158.2281494140625},171.63101415597126,null,null,0,150.99856426990533,{"$f":"AVERAGE(D$79:D419)","v":0},{"$f":"AVERAGE(M$79:M419)","v":153.5156229025383},-18.644902043525651,{"$f":"AVERAGE(P$79:P419)","v":64.998398478155025},null,null,null,null,40679.345810184554,{"$f":"LOOKUP($V419,Data!$A$6:$A$1806,Data!$B$6:$B$1806)","v":59.97576904296875},{"$f":"LOOKUP($V419,Data!$A$6:$A$1806,Data!$C$6:$C$1806)","v":0},{"$f":"LOOKUP($V419,Data!$A$6:$A$1806,Data!$D$6:$D$1806)","v":0},{"$f":"IF($Z$1=\"+\",LOOKUP($V419,Data!$A$6:$A$1806,Data!$E$6:$E$1806)*-1,LOOKUP($V419,Data!$A$6:$A$1806,Data!$E$6:$E$1806))","v":0},{"$f":"LOOKUP($V419,Data!$A$6:$A$1806,Data!$F$6:$F$1806)","v":0},null,{"$f":"LOOKUP($V419,Data!$A$6:$A$1806,Data!$H$6:$H$1806)","v":0},{"$f":"LOOKUP($V419,Data!$A$6:$A$1806,Data!$I$6:$I$1806)","v":0},{"$f":"IF(LOOKUP($V419,Data!$A$6:$A$1806,Data!$J$6:$J$1806)>0,(LOOKUP($V419,Data!$A$6:$A$1806,Data!$J$6:$J$1806)*-1),LOOKUP($V419,Data!$A$6:$A$1806,Data!$J$6:$J$1806))","v":-653},{"$f":"LOOKUP($V419,Data!$A$6:$A$1806,Data!$K$6:$K$1806)","v":30451.296875},158.2281494140625,null,null,null,null,null,null,null,null,null,null,null,null,null,null,null,2060.9606141522031,2.423095703125E-2," "]
[null,40679.3458333327,{"$f":"LOOKUP(B420,Data!$A$6:$A$1806,Data!B$6:B$1806)","v":59.97576904296875},{"$f":"LOOKUP(B420,Data!$A$6:$A$1806,Data!C$6:C$1806)","v":0},null,null,19590,{"$f":"(IF((C420-L$2)>0,(IF(C420<'Copy Results'!$C$3,((C420-L$2-L$5)/((L$4*L$2)-L$5)*G420*-1),(('Copy Results'!$C$3-L$2-L$5)/((L$4*L$2)-L$5)*G420*-1))),IF(C420>'Copy Results'!$C$2,((C420-L$2+L$5)/((L$4*L$2)-L$5)*G420*-1),(('Copy Results'!$C$2-L$2+L$5)/((L$4*L$2)-L$5)*G420*-1))))","v":158.2281494140625},166.94001149630321,null,null,0,146.30756161023729,{"$f":"AVERAGE(D$79:D420)","v":0},{"$f":"AVERAGE(M$79:M420)","v":153.49454669992923},-18.644902043525651,{"$f":"AVERAGE(P$79:P420)","v":64.753110206830456},null,null,null,null,40679.3458333327,{"$f":"LOOKUP($V420,Data!$A$6:$A$1806,Data!$B$6:$B$1806)","v":59.97576904296875},{"$f":"LOOKUP($V420,Data!$A$6:$A$1806,Data!$C$6:$C$1806)","v":0},{"$f":"LOOKUP($V420,Data!$A$6:$A$1806,Data!$D$6:$D$1806)","v":0},{"$f":"IF($Z$1=\"+\",LOOKUP($V420,Data!$A$6:$A$1806,Data!$E$6:$E$1806)*-1,LOOKUP($V420,Data!$A$6:$A$1806,Data!$E$6:$E$1806))","v":0},{"$f":"LOOKUP($V420,Data!$A$6:$A$1806,Data!$F$6:$F$1806)","v":0},null,{"$f":"LOOKUP($V420,Data!$A$6:$A$1806,Data!$H$6:$H$1806)","v":0},{"$f":"LOOKUP($V420,Data!$A$6:$A$1806,Data!$I$6:$I$1806)","v":0},{"$f":"IF(LOOKUP($V420,Data!$A$6:$A$1806,Data!$J$6:$J$1806)>0,(LOOKUP($V420,Data!$A$6:$A$1806,Data!$J$6:$J$1806)*-1),LOOKUP($V420,Data!$A$6:$A$1806,Data!$J$6:$J$1806))","v":-653},{"$f":"LOOKUP($V420,Data!$A$6:$A$1806,Data!$K$6:$K$1806)","v":30451.296875},158.2281494140625,null,null,null,null,null,null,null,null,null,null,null,null,null,null,null,2060.9606141522031,2.423095703125E-2," "]
[null,40679.345856480846,{"$f":"LOOKUP(B421,Data!$A$6:$A$1806,Data!B$6:B$1806)","v":59.984161376953125},{"$f":"LOOKUP(B421,Data!$A$6:$A$1806,Data!C$6:C$1806)","v":0},null,null,19590,{"$f":"(IF((C421-L$2)>0,(IF(C421<'Copy Results'!$C$3,((C421-L$2-L$5)/((L$4*L$2)-L$5)*G421*-1),(('Copy Results'!$C$3-L$2-L$5)/((L$4*L$2)-L$5)*G421*-1))),IF(C421>'Copy Results'!$C$2,((C421-L$2+L$5)/((L$4*L$2)-L$5)*G421*-1),(('Copy Results'!$C$2-L$2+L$5)/((L$4*L$2)-L$5)*G421*-1))))","v":103.42620849609375},144.71018044622991,null,null,0,124.07773056016399,{"$f":"AVERAGE(D$79:D421)","v":0},{"$f":"AVERAGE(M$79:M421)","v":153.40878338756841},-18.644902043525651,{"$f":"AVERAGE(P$79:P421)","v":64.509256369841111},null,null,null,null,40679.345856480846,{"$f":"LOOKUP($V421,Data!$A$6:$A$1806,Data!$B$6:$B$1806)","v":59.984161376953125},{"$f":"LOOKUP($V421,Data!$A$6:$A$1806,Data!$C$6:$C$1806)","v":0},{"$f":"LOOKUP($V421,Data!$A$6:$A$1806,Data!$D$6:$D$1806)","v":0},{"$f":"IF($Z$1=\"+\",LOOKUP($V421,Data!$A$6:$A$1806,Data!$E$6:$E$1806)*-1,LOOKUP($V421,Data!$A$6:$A$1806,Data!$E$6:$E$1806))","v":0},{"$f":"LOOKUP($V421,Data!$A$6:$A$1806,Data!$F$6:$F$1806)","v":0},null,{"$f":"LOOKUP($V421,Data!$A$6:$A$1806,Data!$H$6:$H$1806)","v":0},{"$f":"LOOKUP($V421,Data!$A$6:$A$1806,Data!$I$6:$I$1806)","v":0},{"$f":"IF(LOOKUP($V421,Data!$A$6:$A$1806,Data!$J$6:$J$1806)>0,(LOOKUP($V421,Data!$A$6:$A$1806,Data!$J$6:$J$1806)*-1),LOOKUP($V421,Data!$A$6:$A$1806,Data!$J$6:$J$1806))","v":-653},{"$f":"LOOKUP($V421,Data!$A$6:$A$1806,Data!$K$6:$K$1806)","v":30451.296875},103.42620849609375,null,null,null,null,null,null,null,null,null,null,null,null,null,null,null,3256.665611814346,1.5838623046875E-2," "]
[null,40679.345879628992,{"$f":"LOOKUP(B422,Data!$A$6:$A$1806,Data!B$6:B$1806)","v":59.981903076171875},{"$f":"LOOKUP(B422,Data!$A$6:$A$1806,Data!C$6:C$1806)","v":0},null,null,19590,{"$f":"(IF((C422-L$2)>0,(IF(C422<'Copy Results'!$C$3,((C422-L$2-L$5)/((L$4*L$2)-L$5)*G422*-1),(('Copy Results'!$C$3-L$2-L$5)/((L$4*L$2)-L$5)*G422*-1))),IF(C422>'Copy Results'!$C$2,((C422-L$2+L$5)/((L$4*L$2)-L$5)*G422*-1),(('Copy Results'!$C$2-L$2+L$5)/((L$4*L$2)-L$5)*G422*-1))))","v":118.17291259765625},135.42213669922913,null,null,0,114.7896868131632,{"$f":"AVERAGE(D$79:D422)","v":0},{"$f":"AVERAGE(M$79:M422)","v":153.29651857194514},-18.644902043525651,{"$f":"AVERAGE(P$79:P422)","v":64.266824421114094},null,null,null,null,40679.345879628992,{"$f":"LOOKUP($V422,Data!$A$6:$A$1806,Data!$B$6:$B$1806)","v":59.981903076171875},{"$f":"LOOKUP($V422,Data!$A$6:$A$1806,Data!$C$6:$C$1806)","v":0},{"$f":"LOOKUP($V422,Data!$A$6:$A$1806,Data!$D$6:$D$1806)","v":0},{"$f":"IF($Z$1=\"+\",LOOKUP($V422,Data!$A$6:$A$1806,Data!$E$6:$E$1806)*-1,LOOKUP($V422,Data!$A$6:$A$1806,Data!$E$6:$E$1806))","v":0},{"$f":"LOOKUP($V422,Data!$A$6:$A$1806,Data!$F$6:$F$1806)","v":0},null,{"$f":"LOOKUP($V422,Data!$A$6:$A$1806,Data!$H$6:$H$1806)","v":0},{"$f":"LOOKUP($V422,Data!$A$6:$A$1806,Data!$I$6:$I$1806)","v":0},{"$f":"IF(LOOKUP($V422,Data!$A$6:$A$1806,Data!$J$6:$J$1806)>0,(LOOKUP($V422,Data!$A$6:$A$1806,Data!$J$6:$J$1806)*-1),LOOKUP($V422,Data!$A$6:$A$1806,Data!$J$6:$J$1806))","v":-653},{"$f":"LOOKUP($V422,Data!$A$6:$A$1806,Data!$K$6:$K$1806)","v":30425.740234375},118.17291259765625,null,null,null,null,null,null,null,null,null,null,null,null,null,null,null,2816.8968978102189,1.8096923828125E-2," "]
[null,40679.345902777139,{"$f":"LOOKUP(B423,Data!$A$6:$A$1806,Data!B$6:B$1806)","v":59.97900390625},{"$f":"LOOKUP(B423,Data!$A$6:$A$1806,Data!C$6:C$1806)","v":0},null,null,19590,{"$f":"(IF((C423-L$2)>0,(IF(C423<'Copy Results'!$C$3,((C423-L$2-L$5)/((L$4*L$2)-L$5)*G423*-1),(('Copy Results'!$C$3-L$2-L$5)/((L$4*L$2)-L$5)*G423*-1))),IF(C423>'Copy Results'!$C$2,((C423-L$2+L$5)/((L$4*L$2)-L$5)*G423*-1),(('Copy Results'!$C$2-L$2+L$5)/((L$4*L$2)-L$5)*G423*-1))))","v":137.1044921875},136.01096112012394,null,null,0,115.37851123405801,{"$f":"AVERAGE(D$79:D423)","v":0},{"$f":"AVERAGE(M$79:M423)","v":153.18661130429908},-18.644902043525651,{"$f":"AVERAGE(P$79:P423)","v":64.025801960461081},null,null,null,null,40679.345902777139,{"$f":"LOOKUP($V423,Data!$A$6:$A$1806,Data!$B$6:$B$1806)","v":59.97900390625},{"$f":"LOOKUP($V423,Data!$A$6:$A$1806,Data!$C$6:$C$1806)","v":0},{"$f":"LOOKUP($V423,Data!$A$6:$A$1806,Data!$D$6:$D$1806)","v":0},{"$f":"IF($Z$1=\"+\",LOOKUP($V423,Data!$A$6:$A$1806,Data!$E$6:$E$1806)*-1,LOOKUP($V423,Data!$A$6:$A$1806,Data!$E$6:$E$1806))","v":0},{"$f":"LOOKUP($V423,Data!$A$6:$A$1806,Data!$F$6:$F$1806)","v":0},null,{"$f":"LOOKUP($V423,Data!$A$6:$A$1806,Data!$H$6:$H$1806)","v":0},{"$f":"LOOKUP($V423,Data!$A$6:$A$1806,Data!$I$6:$I$1806)","v":0},{"$f":"IF(LOOKUP($V423,Data!$A$6:$A$1806,Data!$J$6:$J$1806)>0,(LOOKUP($V423,Data!$A$6:$A$1806,Data!$J$6:$J$1806)*-1),LOOKUP($V423,Data!$A$6:$A$1806,Data!$J$6:$J$1806))","v":-653},{"$f":"LOOKUP($V423,Data!$A$6:$A$1806,Data!$K$6:$K$1806)","v":30425.740234375},137.1044921875,null,null,null,null,null,null,null,null,null,null,null,null,null,null,null,2400.7146189735613,2.099609375E-2," "]
[null,40679.345925925285,{"$f":"LOOKUP(B424,Data!$A$6:$A$1806,Data!B$6:B$1806)","v":59.977691650390625},{"$f":"LOOKUP(B424,Data!$A$6:$A$1806,Data!C$6:C$1806)","v":0},null,null,19590,{"$f":"(IF((C424-L$2)>0,(IF(C424<'Copy Results'!$C$3,((C424-L$2-L$5)/((L$4*L$2)-L$5)*G424*-1),(('Copy Results'!$C$3-L$2-L$5)/((L$4*L$2)-L$5)*G424*-1))),IF(C424>'Copy Results'!$C$2,((C424-L$2+L$5)/((L$4*L$2)-L$5)*G424*-1),(('Copy Results'!$C$2-L$2+L$5)/((L$4*L$2)-L$5)*G424*-1))))","v":145.67352294921875},139.39285776030712,null,null,0,118.7604078742412,{"$f":"AVERAGE(D$79:D424)","v":0},{"$f":"AVERAGE(M$79:M424)","v":153.08711360652435},-18.644902043525651,{"$f":"AVERAGE(P$79:P424)","v":63.786176731464018},null,null,null,null,40679.345925925285,{"$f":"LOOKUP($V424,Data!$A$6:$A$1806,Data!$B$6:$B$1806)","v":59.977691650390625},{"$f":"LOOKUP($V424,Data!$A$6:$A$1806,Data!$C$6:$C$1806)","v":0},{"$f":"LOOKUP($V424,Data!$A$6:$A$1806,Data!$D$6:$D$1806)","v":0},{"$f":"IF($Z$1=\"+\",LOOKUP($V424,Data!$A$6:$A$1806,Data!$E$6:$E$1806)*-1,LOOKUP($V424,Data!$A$6:$A$1806,Data!$E$6:$E$1806))","v":0},{"$f":"LOOKUP($V424,Data!$A$6:$A$1806,Data!$F$6:$F$1806)","v":0},null,{"$f":"LOOKUP($V424,Data!$A$6:$A$1806,Data!$H$6:$H$1806)","v":0},{"$f":"LOOKUP($V424,Data!$A$6:$A$1806,Data!$I$6:$I$1806)","v":0},{"$f":"IF(LOOKUP($V424,Data!$A$6:$A$1806,Data!$J$6:$J$1806)>0,(LOOKUP($V424,Data!$A$6:$A$1806,Data!$J$6:$J$1806)*-1),LOOKUP($V424,Data!$A$6:$A$1806,Data!$J$6:$J$1806))","v":-653},{"$f":"LOOKUP($V424,Data!$A$6:$A$1806,Data!$K$6:$K$1806)","v":30419.18359375},145.67352294921875,null,null,null,null,null,null,null,null,null,null,null,null,null,null,null,2250.2325072886297,2.2308349609375E-2," "]
[null,40679.345949073431,{"$f":"LOOKUP(B425,Data!$A$6:$A$1806,Data!B$6:B$1806)","v":59.977691650390625},{"$f":"LOOKUP(B425,Data!$A$6:$A$1806,Data!C$6:C$1806)","v":0},null,null,19590,{"$f":"(IF((C425-L$2)>0,(IF(C425<'Copy Results'!$C$3,((C425-L$2-L$5)/((L$4*L$2)-L$5)*G425*-1),(('Copy Results'!$C$3-L$2-L$5)/((L$4*L$2)-L$5)*G425*-1))),IF(C425>'Copy Results'!$C$2,((C425-L$2+L$5)/((L$4*L$2)-L$5)*G425*-1),(('Copy Results'!$C$2-L$2+L$5)/((L$4*L$2)-L$5)*G425*-1))))","v":145.67352294921875},141.59109057642621,null,null,0,120.95864069036028,{"$f":"AVERAGE(D$79:D425)","v":0},{"$f":"AVERAGE(M$79:M425)","v":152.99452434739996},-18.644902043525651,{"$f":"AVERAGE(P$79:P425)","v":63.547936619397575},null,null,null,null,40679.345949073431,{"$f":"LOOKUP($V425,Data!$A$6:$A$1806,Data!$B$6:$B$1806)","v":59.977691650390625},{"$f":"LOOKUP($V425,Data!$A$6:$A$1806,Data!$C$6:$C$1806)","v":0},{"$f":"LOOKUP($V425,Data!$A$6:$A$1806,Data!$D$6:$D$1806)","v":0},{"$f":"IF($Z$1=\"+\",LOOKUP($V425,Data!$A$6:$A$1806,Data!$E$6:$E$1806)*-1,LOOKUP($V425,Data!$A$6:$A$1806,Data!$E$6:$E$1806))","v":0},{"$f":"LOOKUP($V425,Data!$A$6:$A$1806,Data!$F$6:$F$1806)","v":0},null,{"$f":"LOOKUP($V425,Data!$A$6:$A$1806,Data!$H$6:$H$1806)","v":0},{"$f":"LOOKUP($V425,Data!$A$6:$A$1806,Data!$I$6:$I$1806)","v":0},{"$f":"IF(LOOKUP($V425,Data!$A$6:$A$1806,Data!$J$6:$J$1806)>0,(LOOKUP($V425,Data!$A$6:$A$1806,Data!$J$6:$J$1806)*-1),LOOKUP($V425,Data!$A$6:$A$1806,Data!$J$6:$J$1806))","v":-653},{"$f":"LOOKUP($V425,Data!$A$6:$A$1806,Data!$K$6:$K$1806)","v":30419.18359375},145.67352294921875,null,null,null,null,null,null,null,null,null,null,null,null,null,null,null,2250.2325072886297,2.2308349609375E-2," "]
[null,40679.345972221578,{"$f":"LOOKUP(B426,Data!$A$6:$A$1806,Data!B$6:B$1806)","v":59.98126220703125},{"$f":"LOOKUP(B426,Data!$A$6:$A$1806,Data!C$6:C$1806)","v":0},null,null,19590,{"$f":"(IF((C426-L$2)>0,(IF(C426<'Copy Results'!$C$3,((C426-L$2-L$5)/((L$4*L$2)-L$5)*G426*-1),(('Copy Results'!$C$3-L$2-L$5)/((L$4*L$2)-L$5)*G426*-1))),IF(C426>'Copy Results'!$C$2,((C426-L$2+L$5)/((L$4*L$2)-L$5)*G426*-1),(('Copy Results'!$C$2-L$2+L$5)/((L$4*L$2)-L$5)*G426*-1))))","v":122.3577880859375},134.85943470475516,null,null,0,114.22698481868923,{"$f":"AVERAGE(D$79:D426)","v":0},{"$f":"AVERAGE(M$79:M426)","v":152.88312337174276},-18.644902043525651,{"$f":"AVERAGE(P$79:P426)","v":63.311069649187424},null,null,null,null,40679.345972221578,{"$f":"LOOKUP($V426,Data!$A$6:$A$1806,Data!$B$6:$B$1806)","v":59.98126220703125},{"$f":"LOOKUP($V426,Data!$A$6:$A$1806,Data!$C$6:$C$1806)","v":0},{"$f":"LOOKUP($V426,Data!$A$6:$A$1806,Data!$D$6:$D$1806)","v":0},{"$f":"IF($Z$1=\"+\",LOOKUP($V426,Data!$A$6:$A$1806,Data!$E$6:$E$1806)*-1,LOOKUP($V426,Data!$A$6:$A$1806,Data!$E$6:$E$1806))","v":0},{"$f":"LOOKUP($V426,Data!$A$6:$A$1806,Data!$F$6:$F$1806)","v":0},null,{"$f":"LOOKUP($V426,Data!$A$6:$A$1806,Data!$H$6:$H$1806)","v":0},{"$f":"LOOKUP($V426,Data!$A$6:$A$1806,Data!$I$6:$I$1806)","v":0},{"$f":"IF(LOOKUP($V426,Data!$A$6:$A$1806,Data!$J$6:$J$1806)>0,(LOOKUP($V426,Data!$A$6:$A$1806,Data!$J$6:$J$1806)*-1),LOOKUP($V426,Data!$A$6:$A$1806,Data!$J$6:$J$1806))","v":-653},{"$f":"LOOKUP($V426,Data!$A$6:$A$1806,Data!$K$6:$K$1806)","v":30419.18359375},122.3577880859375,null,null,null,null,null,null,null,null,null,null,null,null,null,null,null,2712.934094903339,1.873779296875E-2," "]
[null,40679.345995369724,{"$f":"LOOKUP(B427,Data!$A$6:$A$1806,Data!B$6:B$1806)","v":59.98480224609375},{"$f":"LOOKUP(B427,Data!$A$6:$A$1806,Data!C$6:C$1806)","v":0},null,null,19590,{"$f":"(IF((C427-L$2)>0,(IF(C427<'Copy Results'!$C$3,((C427-L$2-L$5)/((L$4*L$2)-L$5)*G427*-1),(('Copy Results'!$C$3-L$2-L$5)/((L$4*L$2)-L$5)*G427*-1))),IF(C427>'Copy Results'!$C$2,((C427-L$2+L$5)/((L$4*L$2)-L$5)*G427*-1),(('Copy Results'!$C$2-L$2+L$5)/((L$4*L$2)-L$5)*G427*-1))))","v":99.2413330078125},{"$f":"L$13*H427+(1-L$13)*I426","v":122.39309911082523},null,null,0,101.76064922475931,{"$f":"AVERAGE(D$79:D427)","v":0},{"$f":"AVERAGE(M$79:M427)","v":152.73664063779725},-18.644902043525651,{"$f":"AVERAGE(P$79:P427)","v":63.075563983403768},null,null,null,null,40679.345995369724,{"$f":"LOOKUP($V427,Data!$A$6:$A$1806,Data!$B$6:$B$1806)","v":59.98480224609375},{"$f":"LOOKUP($V427,Data!$A$6:$A$1806,Data!$C$6:$C$1806)","v":0},{"$f":"LOOKUP($V427,Data!$A$6:$A$1806,Data!$D$6:$D$1806)","v":0},{"$f":"IF($Z$1=\"+\",LOOKUP($V427,Data!$A$6:$A$1806,Data!$E$6:$E$1806)*-1,LOOKUP($V427,Data!$A$6:$A$1806,Data!$E$6:$E$1806))","v":0},{"$f":"LOOKUP($V427,Data!$A$6:$A$1806,Data!$F$6:$F$1806)","v":0},null,{"$f":"LOOKUP($V427,Data!$A$6:$A$1806,Data!$H$6:$H$1806)","v":0},{"$f":"LOOKUP($V427,Data!$A$6:$A$1806,Data!$I$6:$I$1806)","v":0},{"$f":"IF(LOOKUP($V427,Data!$A$6:$A$1806,Data!$J$6:$J$1806)>0,(LOOKUP($V427,Data!$A$6:$A$1806,Data!$J$6:$J$1806)*-1),LOOKUP($V427,Data!$A$6:$A$1806,Data!$J$6:$J$1806))","v":-653},{"$f":"LOOKUP($V427,Data!$A$6:$A$1806,Data!$K$6:$K$1806)","v":30419.18359375},99.2413330078125,null,null,null,null,null,null,null,null,null,null,null,null,null,null,null,3407.6368653421632,1.519775390625E-2," "]
[null,40679.34601851787,{"$f":"LOOKUP(B428,Data!$A$6:$A$1806,Data!B$6:B$1806)","v":59.988677978515625},{"$f":"LOOKUP(B428,Data!$A$6:$A$1806,Data!C$6:C$1806)","v":0},null,null,{"$f":"AE428*-M$4*10","v":19590},{"$f":"(IF((C428-L$2)>0,(IF(C428<'Copy Results'!$C$3,((C428-L$2-L$5)/((L$4*L$2)-L$5)*G428*-1),(('Copy Results'!$C$3-L$2-L$5)/((L$4*L$2)-L$5)*G428*-1))),IF(C428>'Copy Results'!$C$2,((C428-L$2+L$5)/((L$4*L$2)-L$5)*G428*-1),(('Copy Results'!$C$2-L$2+L$5)/((L$4*L$2)-L$5)*G428*-1))))","v":73.93280029296875},105.43199452457547,null,null,0,84.799544638509545,{"$f":"AVERAGE(D$79:D428)","v":0},{"$f":"AVERAGE(M$79:M428)","v":152.54253464922786},-18.644902043525651,{"$f":"AVERAGE(P$79:P428)","v":62.841407920289363},null,null,null,null,40679.34601851787,{"$f":"LOOKUP($V428,Data!$A$6:$A$1806,Data!$B$6:$B$1806)","v":59.988677978515625},{"$f":"LOOKUP($V428,Data!$A$6:$A$1806,Data!$C$6:$C$1806)","v":0},{"$f":"LOOKUP($V428,Data!$A$6:$A$1806,Data!$D$6:$D$1806)","v":0},{"$f":"IF($Z$1=\"+\",LOOKUP($V428,Data!$A$6:$A$1806,Data!$E$6:$E$1806)*-1,LOOKUP($V428,Data!$A$6:$A$1806,Data!$E$6:$E$1806))","v":0},{"$f":"LOOKUP($V428,Data!$A$6:$A$1806,Data!$F$6:$F$1806)","v":0},null,{"$f":"LOOKUP($V428,Data!$A$6:$A$1806,Data!$H$6:$H$1806)","v":0},{"$f":"LOOKUP($V428,Data!$A$6:$A$1806,Data!$I$6:$I$1806)","v":0},{"$f":"IF(LOOKUP($V428,Data!$A$6:$A$1806,Data!$J$6:$J$1806)>0,(LOOKUP($V428,Data!$A$6:$A$1806,Data!$J$6:$J$1806)*-1),LOOKUP($V428,Data!$A$6:$A$1806,Data!$J$6:$J$1806))","v":-653},{"$f":"LOOKUP($V428,Data!$A$6:$A$1806,Data!$K$6:$K$1806)","v":30424.29296875},{"$f":"(IF((W428-$L$2)>0,((W428-$L$2-$L$5)/(($L$4*$L$2)-$L$5)*G428*-1),((W428-$L$2+$L$5)/(($L$4*$L$2)-$L$5)*G428*-1)))","v":73.93280029296875},null,null,null,null,null,null,null,null,null,null,null,null,null,null,null,4735.1518404907974,{"$f":"ABS(C428-60)","v":1.1322021484375E-2},{"$f":"IF(AX428>0.036,AE428,\" \")","v":" "}]
[null,40679.346041666016,{"$f":"LOOKUP(B429,Data!$A$6:$A$1806,Data!B$6:B$1806)","v":59.991607666015625},{"$f":"LOOKUP(B429,Data!$A$6:$A$1806,Data!C$6:C$1806)","v":0},null,null,19590,{"$f":"(IF((C429-L$2)>0,(IF(C429<'Copy Results'!$C$3,((C429-L$2-L$5)/((L$4*L$2)-L$5)*G429*-1),(('Copy Results'!$C$3-L$2-L$5)/((L$4*L$2)-L$5)*G429*-1))),IF(C429>'Copy Results'!$C$2,((C429-L$2+L$5)/((L$4*L$2)-L$5)*G429*-1),(('Copy Results'!$C$2-L$2+L$5)/((L$4*L$2)-L$5)*G429*-1))))","v":54.80194091796875},87.71147576226312,null,null,0,67.079025876197193,{"$f":"AVERAGE(D$79:D429)","v":0},{"$f":"AVERAGE(M$79:M429)","v":152.29904886924771},-18.644902043525651,{"$f":"AVERAGE(P$79:P429)","v":62.608589891821318},null,null,null,null,40679.346041666016,{"$f":"LOOKUP($V429,Data!$A$6:$A$1806,Data!$B$6:$B$1806)","v":59.991607666015625},{"$f":"LOOKUP($V429,Data!$A$6:$A$1806,Data!$C$6:$C$1806)","v":0},{"$f":"LOOKUP($V429,Data!$A$6:$A$1806,Data!$D$6:$D$1806)","v":0},{"$f":"IF($Z$1=\"+\",LOOKUP($V429,Data!$A$6:$A$1806,Data!$E$6:$E$1806)*-1,LOOKUP($V429,Data!$A$6:$A$1806,Data!$E$6:$E$1806))","v":0},{"$f":"LOOKUP($V429,Data!$A$6:$A$1806,Data!$F$6:$F$1806)","v":0},null,{"$f":"LOOKUP($V429,Data!$A$6:$A$1806,Data!$H$6:$H$1806)","v":0},{"$f":"LOOKUP($V429,Data!$A$6:$A$1806,Data!$I$6:$I$1806)","v":0},{"$f":"IF(LOOKUP($V429,Data!$A$6:$A$1806,Data!$J$6:$J$1806)>0,(LOOKUP($V429,Data!$A$6:$A$1806,Data!$J$6:$J$1806)*-1),LOOKUP($V429,Data!$A$6:$A$1806,Data!$J$6:$J$1806))","v":-653},{"$f":"LOOKUP($V429,Data!$A$6:$A$1806,Data!$K$6:$K$1806)","v":30424.29296875},54.80194091796875,null,null,null,null,null,null,null,null,null,null,null,null,null,null,null,6711.5630434782606,8.392333984375E-3," "]
[null,{"$f":"B429+TIME(0,0,$B$1)","v":40679.346064814163},{"$f":"LOOKUP(B430,Data!$A$6:$A$1806,Data!B$6:B$1806)","v":59.9935302734375},{"$f":"LOOKUP(B430,Data!$A$6:$A$1806,Data!C$6:C$1806)","v":0},null,null,19590,{"$f":"(IF((C430-L$2)>0,(IF(C430<'Copy Results'!$C$3,((C430-L$2-L$5)/((L$4*L$2)-L$5)*G430*-1),(('Copy Results'!$C$3-L$2-L$5)/((L$4*L$2)-L$5)*G430*-1))),IF(C430>'Copy Results'!$C$2,((C430-L$2+L$5)/((L$4*L$2)-L$5)*G430*-1),(('Copy Results'!$C$2-L$2+L$5)/((L$4*L$2)-L$5)*G430*-1))))","v":42.247314453125},71.799019304064771,null,null,0,51.166569417998844,{"$f":"AVERAGE(D$79:D430)","v":0},{"$f":"AVERAGE(M$79:M430)","v":152.01174068898848},-18.644902043525651,{"$f":"AVERAGE(P$79:P430)","v":62.377098461806092},null,null,null,null,40679.346064814163,{"$f":"LOOKUP($V430,Data!$A$6:$A$1806,Data!$B$6:$B$1806)","v":59.9935302734375},{"$f":"LOOKUP($V430,Data!$A$6:$A$1806,Data!$C$6:$C$1806)","v":0},{"$f":"LOOKUP($V430,Data!$A$6:$A$1806,Data!$D$6:$D$1806)","v":0},{"$f":"IF($Z$1=\"+\",LOOKUP($V430,Data!$A$6:$A$1806,Data!$E$6:$E$1806)*-1,LOOKUP($V430,Data!$A$6:$A$1806,Data!$E$6:$E$1806))","v":0},{"$f":"LOOKUP($V430,Data!$A$6:$A$1806,Data!$F$6:$F$1806)","v":0},null,{"$f":"LOOKUP($V430,Data!$A$6:$A$1806,Data!$H$6:$H$1806)","v":0},{"$f":"LOOKUP($V430,Data!$A$6:$A$1806,Data!$I$6:$I$1806)","v":0},{"$f":"IF(LOOKUP($V430,Data!$A$6:$A$1806,Data!$J$6:$J$1806)>0,(LOOKUP($V430,Data!$A$6:$A$1806,Data!$J$6:$J$1806)*-1),LOOKUP($V430,Data!$A$6:$A$1806,Data!$J$6:$J$1806))","v":-653},{"$f":"LOOKUP($V430,Data!$A$6:$A$1806,Data!$K$6:$K$1806)","v":30424.29296875},42.247314453125,null,null,null,null,null,null,null,null,null,null,null,null,null,null,null,9243.4700598802392,6.4697265625E-3," "]
[null,40679.346087962309,{"$f":"LOOKUP(B431,Data!$A$6:$A$1806,Data!B$6:B$1806)","v":59.99578857421875},{"$f":"LOOKUP(B431,Data!$A$6:$A$1806,Data!C$6:C$1806)","v":0},null,null,19590,{"$f":"(IF((C431-L$2)>0,(IF(C431<'Copy Results'!$C$3,((C431-L$2-L$5)/((L$4*L$2)-L$5)*G431*-1),(('Copy Results'!$C$3-L$2-L$5)/((L$4*L$2)-L$5)*G431*-1))),IF(C431>'Copy Results'!$C$2,((C431-L$2+L$5)/((L$4*L$2)-L$5)*G431*-1),(('Copy Results'!$C$2-L$2+L$5)/((L$4*L$2)-L$5)*G431*-1))))","v":27.5006103515625},56.294576170688977,null,null,0,35.662126284623049,{"$f":"AVERAGE(D$79:D431)","v":0},{"$f":"AVERAGE(M$79:M431)","v":151.68213838189396},-18.644902043525651,{"$f":"AVERAGE(P$79:P431)","v":62.146922324006852},null,null,null,null,40679.346087962309,{"$f":"LOOKUP($V431,Data!$A$6:$A$1806,Data!$B$6:$B$1806)","v":59.99578857421875},{"$f":"LOOKUP($V431,Data!$A$6:$A$1806,Data!$C$6:$C$1806)","v":0},{"$f":"LOOKUP($V431,Data!$A$6:$A$1806,Data!$D$6:$D$1806)","v":0},{"$f":"IF($Z$1=\"+\",LOOKUP($V431,Data!$A$6:$A$1806,Data!$E$6:$E$1806)*-1,LOOKUP($V431,Data!$A$6:$A$1806,Data!$E$6:$E$1806))","v":0},{"$f":"LOOKUP($V431,Data!$A$6:$A$1806,Data!$F$6:$F$1806)","v":0},null,{"$f":"LOOKUP($V431,Data!$A$6:$A$1806,Data!$H$6:$H$1806)","v":0},{"$f":"LOOKUP($V431,Data!$A$6:$A$1806,Data!$I$6:$I$1806)","v":0},{"$f":"IF(LOOKUP($V431,Data!$A$6:$A$1806,Data!$J$6:$J$1806)>0,(LOOKUP($V431,Data!$A$6:$A$1806,Data!$J$6:$J$1806)*-1),LOOKUP($V431,Data!$A$6:$A$1806,Data!$J$6:$J$1806))","v":-653},{"$f":"LOOKUP($V431,Data!$A$6:$A$1806,Data!$K$6:$K$1806)","v":30424.29296875},27.5006103515625,null,null,null,null,null,null,null,null,null,null,null,null,null,null,null,16598.489247311827,4.21142578125E-3," "]
[null,40679.346111110455,{"$f":"LOOKUP(B432,Data!$A$6:$A$1806,Data!B$6:B$1806)","v":59.99676513671875},{"$f":"LOOKUP(B432,Data!$A$6:$A$1806,Data!C$6:C$1806)","v":0},null,null,19590,{"$f":"(IF((C432-L$2)>0,(IF(C432<'Copy Results'!$C$3,((C432-L$2-L$5)/((L$4*L$2)-L$5)*G432*-1),(('Copy Results'!$C$3-L$2-L$5)/((L$4*L$2)-L$5)*G432*-1))),IF(C432>'Copy Results'!$C$2,((C432-L$2+L$5)/((L$4*L$2)-L$5)*G432*-1),(('Copy Results'!$C$2-L$2+L$5)/((L$4*L$2)-L$5)*G432*-1))))","v":21.1236572265625},43.984754540244708,null,null,0,23.352304654178781,{"$f":"AVERAGE(D$79:D432)","v":0},{"$f":"AVERAGE(M$79:M432)","v":151.31962472729589},-18.644902043525651,{"$f":"AVERAGE(P$79:P432)","v":61.918050300302795},null,null,null,null,40679.346111110455,{"$f":"LOOKUP($V432,Data!$A$6:$A$1806,Data!$B$6:$B$1806)","v":59.99676513671875},{"$f":"LOOKUP($V432,Data!$A$6:$A$1806,Data!$C$6:$C$1806)","v":0},{"$f":"LOOKUP($V432,Data!$A$6:$A$1806,Data!$D$6:$D$1806)","v":0},{"$f":"IF($Z$1=\"+\",LOOKUP($V432,Data!$A$6:$A$1806,Data!$E$6:$E$1806)*-1,LOOKUP($V432,Data!$A$6:$A$1806,Data!$E$6:$E$1806))","v":0},{"$f":"LOOKUP($V432,Data!$A$6:$A$1806,Data!$F$6:$F$1806)","v":0},null,{"$f":"LOOKUP($V432,Data!$A$6:$A$1806,Data!$H$6:$H$1806)","v":0},{"$f":"LOOKUP($V432,Data!$A$6:$A$1806,Data!$I$6:$I$1806)","v":0},{"$f":"IF(LOOKUP($V432,Data!$A$6:$A$1806,Data!$J$6:$J$1806)>0,(LOOKUP($V432,Data!$A$6:$A$1806,Data!$J$6:$J$1806)*-1),LOOKUP($V432,Data!$A$6:$A$1806,Data!$J$6:$J$1806))","v":-653},{"$f":"LOOKUP($V432,Data!$A$6:$A$1806,Data!$K$6:$K$1806)","v":30440.822265625},21.1236572265625,null,null,null,null,null,null,null,null,null,null,null,null,null,null,null,25305.89344262295,3.23486328125E-3," "]
[null,40679.346134258602,{"$f":"LOOKUP(B433,Data!$A$6:$A$1806,Data!B$6:B$1806)","v":59.99774169921875},{"$f":"LOOKUP(B433,Data!$A$6:$A$1806,Data!C$6:C$1806)","v":0},null,null,19590,{"$f":"(IF((C433-L$2)>0,(IF(C433<'Copy Results'!$C$3,((C433-L$2-L$5)/((L$4*L$2)-L$5)*G433*-1),(('Copy Results'!$C$3-L$2-L$5)/((L$4*L$2)-L$5)*G433*-1))),IF(C433>'Copy Results'!$C$2,((C433-L$2+L$5)/((L$4*L$2)-L$5)*G433*-1),(('Copy Results'!$C$2-L$2+L$5)/((L$4*L$2)-L$5)*G433*-1))))","v":14.7467041015625},33.751436886705932,null,null,0,13.118987000640004,{"$f":"AVERAGE(D$79:D433)","v":0},{"$f":"AVERAGE(M$79:M433)","v":150.93032715623491},-18.644902043525651,{"$f":"AVERAGE(P$79:P433)","v":61.690471338879554},null,null,null,null,40679.346134258602,{"$f":"LOOKUP($V433,Data!$A$6:$A$1806,Data!$B$6:$B$1806)","v":59.99774169921875},{"$f":"LOOKUP($V433,Data!$A$6:$A$1806,Data!$C$6:$C$1806)","v":0},{"$f":"LOOKUP($V433,Data!$A$6:$A$1806,Data!$D$6:$D$1806)","v":0},{"$f":"IF($Z$1=\"+\",LOOKUP($V433,Data!$A$6:$A$1806,Data!$E$6:$E$1806)*-1,LOOKUP($V433,Data!$A$6:$A$1806,Data!$E$6:$E$1806))","v":0},{"$f":"LOOKUP($V433,Data!$A$6:$A$1806,Data!$F$6:$F$1806)","v":0},null,{"$f":"LOOKUP($V433,Data!$A$6:$A$1806,Data!$H$6:$H$1806)","v":0},{"$f":"LOOKUP($V433,Data!$A$6:$A$1806,Data!$I$6:$I$1806)","v":0},{"$f":"IF(LOOKUP($V433,Data!$A$6:$A$1806,Data!$J$6:$J$1806)>0,(LOOKUP($V433,Data!$A$6:$A$1806,Data!$J$6:$J$1806)*-1),LOOKUP($V433,Data!$A$6:$A$1806,Data!$J$6:$J$1806))","v":-653},{"$f":"LOOKUP($V433,Data!$A$6:$A$1806,Data!$K$6:$K$1806)","v":30440.822265625},14.7467041015625,null,null,null,null,null,null,null,null,null,null,null,null,null,null,null,53229.637931034486,2.25830078125E-3," "]
[null,40679.346157406748,{"$f":"LOOKUP(B434,Data!$A$6:$A$1806,Data!B$6:B$1806)","v":59.998382568359375},{"$f":"LOOKUP(B434,Data!$A$6:$A$1806,Data!C$6:C$1806)","v":0},null,null,19590,{"$f":"(IF((C434-L$2)>0,(IF(C434<'Copy Results'!$C$3,((C434-L$2-L$5)/((L$4*L$2)-L$5)*G434*-1),(('Copy Results'!$C$3-L$2-L$5)/((L$4*L$2)-L$5)*G434*-1))),IF(C434>'Copy Results'!$C$2,((C434-L$2+L$5)/((L$4*L$2)-L$5)*G434*-1),(('Copy Results'!$C$2-L$2+L$5)/((L$4*L$2)-L$5)*G434*-1))))","v":10.56182861328125},25.635073991007292,null,null,0,5.0026241049413649,{"$f":"AVERAGE(D$79:D434)","v":0},{"$f":"AVERAGE(M$79:M434)","v":150.52041787800093},-18.644902043525651,{"$f":"AVERAGE(P$79:P434)","v":61.464174512450249},null,null,null,null,40679.346157406748,{"$f":"LOOKUP($V434,Data!$A$6:$A$1806,Data!$B$6:$B$1806)","v":59.998382568359375},{"$f":"LOOKUP($V434,Data!$A$6:$A$1806,Data!$C$6:$C$1806)","v":0},{"$f":"LOOKUP($V434,Data!$A$6:$A$1806,Data!$D$6:$D$1806)","v":0},{"$f":"IF($Z$1=\"+\",LOOKUP($V434,Data!$A$6:$A$1806,Data!$E$6:$E$1806)*-1,LOOKUP($V434,Data!$A$6:$A$1806,Data!$E$6:$E$1806))","v":0},{"$f":"LOOKUP($V434,Data!$A$6:$A$1806,Data!$F$6:$F$1806)","v":0},null,{"$f":"LOOKUP($V434,Data!$A$6:$A$1806,Data!$H$6:$H$1806)","v":0},{"$f":"LOOKUP($V434,Data!$A$6:$A$1806,Data!$I$6:$I$1806)","v":0},{"$f":"IF(LOOKUP($V434,Data!$A$6:$A$1806,Data!$J$6:$J$1806)>0,(LOOKUP($V434,Data!$A$6:$A$1806,Data!$J$6:$J$1806)*-1),LOOKUP($V434,Data!$A$6:$A$1806,Data!$J$6:$J$1806))","v":-653},{"$f":"LOOKUP($V434,Data!$A$6:$A$1806,Data!$K$6:$K$1806)","v":30431.580078125},10.56182861328125,null,null,null,null,null,null,null,null,null,null,null,null,null,null,null,192957.4375,1.617431640625E-3," "]
[null,40679.346180554894,{"$f":"LOOKUP(B435,Data!$A$6:$A$1806,Data!B$6:B$1806)","v":59.99774169921875},{"$f":"LOOKUP(B435,Data!$A$6:$A$1806,Data!C$6:C$1806)","v":0},null,null,19590,{"$f":"(IF((C435-L$2)>0,(IF(C435<'Copy Results'!$C$3,((C435-L$2-L$5)/((L$4*L$2)-L$5)*G435*-1),(('Copy Results'!$C$3-L$2-L$5)/((L$4*L$2)-L$5)*G435*-1))),IF(C435>'Copy Results'!$C$2,((C435-L$2+L$5)/((L$4*L$2)-L$5)*G435*-1),(('Copy Results'!$C$2-L$2+L$5)/((L$4*L$2)-L$5)*G435*-1))))","v":14.7467041015625},21.824144529701616,null,null,0,1.1916946436356888,{"$f":"AVERAGE(D$79:D435)","v":0},{"$f":"AVERAGE(M$79:M435)","v":150.10213013784863},-18.644902043525651,{"$f":"AVERAGE(P$79:P435)","v":61.239149016506502},null,null,null,null,40679.346180554894,{"$f":"LOOKUP($V435,Data!$A$6:$A$1806,Data!$B$6:$B$1806)","v":59.99774169921875},{"$f":"LOOKUP($V435,Data!$A$6:$A$1806,Data!$C$6:$C$1806)","v":0},{"$f":"LOOKUP($V435,Data!$A$6:$A$1806,Data!$D$6:$D$1806)","v":0},{"$f":"IF($Z$1=\"+\",LOOKUP($V435,Data!$A$6:$A$1806,Data!$E$6:$E$1806)*-1,LOOKUP($V435,Data!$A$6:$A$1806,Data!$E$6:$E$1806))","v":0},{"$f":"LOOKUP($V435,Data!$A$6:$A$1806,Data!$F$6:$F$1806)","v":0},null,{"$f":"LOOKUP($V435,Data!$A$6:$A$1806,Data!$H$6:$H$1806)","v":0},{"$f":"LOOKUP($V435,Data!$A$6:$A$1806,Data!$I$6:$I$1806)","v":0},{"$f":"IF(LOOKUP($V435,Data!$A$6:$A$1806,Data!$J$6:$J$1806)>0,(LOOKUP($V435,Data!$A$6:$A$1806,Data!$J$6:$J$1806)*-1),LOOKUP($V435,Data!$A$6:$A$1806,Data!$J$6:$J$1806))","v":-653},{"$f":"LOOKUP($V435,Data!$A$6:$A$1806,Data!$K$6:$K$1806)","v":30431.580078125},14.7467041015625,null,null,null,null,null,null,null,null,null,null,null,null,null,null,null,53229.637931034486,2.25830078125E-3," "]
[null,40679.34620370304,{"$f":"LOOKUP(B436,Data!$A$6:$A$1806,Data!B$6:B$1806)","v":59.997100830078125},{"$f":"LOOKUP(B436,Data!$A$6:$A$1806,Data!C$6:C$1806)","v":0},null,null,19590,{"$f":"(IF((C436-L$2)>0,(IF(C436<'Copy Results'!$C$3,((C436-L$2-L$5)/((L$4*L$2)-L$5)*G436*-1),(('Copy Results'!$C$3-L$2-L$5)/((L$4*L$2)-L$5)*G436*-1))),IF(C436>'Copy Results'!$C$2,((C436-L$2+L$5)/((L$4*L$2)-L$5)*G436*-1),(('Copy Results'!$C$2-L$2+L$5)/((L$4*L$2)-L$5)*G436*-1))))","v":18.93157958984375},20.811746800751365,null,null,0,0.17929691468543751,{"$f":"AVERAGE(D$79:D436)","v":0},{"$f":"AVERAGE(M$79:M436)","v":149.68335127409679},-18.644902043525651,{"$f":"AVERAGE(P$79:P436)","v":61.015384167598846},null,null,null,null,40679.34620370304,{"$f":"LOOKUP($V436,Data!$A$6:$A$1806,Data!$B$6:$B$1806)","v":59.997100830078125},{"$f":"LOOKUP($V436,Data!$A$6:$A$1806,Data!$C$6:$C$1806)","v":0},{"$f":"LOOKUP($V436,Data!$A$6:$A$1806,Data!$D$6:$D$1806)","v":0},{"$f":"IF($Z$1=\"+\",LOOKUP($V436,Data!$A$6:$A$1806,Data!$E$6:$E$1806)*-1,LOOKUP($V436,Data!$A$6:$A$1806,Data!$E$6:$E$1806))","v":0},{"$f":"LOOKUP($V436,Data!$A$6:$A$1806,Data!$F$6:$F$1806)","v":0},null,{"$f":"LOOKUP($V436,Data!$A$6:$A$1806,Data!$H$6:$H$1806)","v":0},{"$f":"LOOKUP($V436,Data!$A$6:$A$1806,Data!$I$6:$I$1806)","v":0},{"$f":"IF(LOOKUP($V436,Data!$A$6:$A$1806,Data!$J$6:$J$1806)>0,(LOOKUP($V436,Data!$A$6:$A$1806,Data!$J$6:$J$1806)*-1),LOOKUP($V436,Data!$A$6:$A$1806,Data!$J$6:$J$1806))","v":-653},{"$f":"LOOKUP($V436,Data!$A$6:$A$1806,Data!$K$6:$K$1806)","v":30431.580078125},18.93157958984375,null,null,null,null,null,null,null,null,null,null,null,null,null,null,null,30873.19,2.899169921875E-3," "]
[null,40679.346226851187,{"$f":"LOOKUP(B437,Data!$A$6:$A$1806,Data!B$6:B$1806)","v":59.997406005859375},{"$f":"LOOKUP(B437,Data!$A$6:$A$1806,Data!C$6:C$1806)","v":0},null,null,19590,{"$f":"(IF((C437-L$2)>0,(IF(C437<'Copy Results'!$C$3,((C437-L$2-L$5)/((L$4*L$2)-L$5)*G437*-1),(('Copy Results'!$C$3-L$2-L$5)/((L$4*L$2)-L$5)*G437*-1))),IF(C437>'Copy Results'!$C$2,((C437-L$2+L$5)/((L$4*L$2)-L$5)*G437*-1),(('Copy Results'!$C$2-L$2+L$5)/((L$4*L$2)-L$5)*G437*-1))))","v":16.93878173828125},19.456209028886825,null,null,0,-1.1762408571791028,{"$f":"AVERAGE(D$79:D437)","v":0},{"$f":"AVERAGE(M$79:M437)","v":149.26312956899574},-18.644902043525651,{"$f":"AVERAGE(P$79:P437)","v":60.792869401645987},null,null,null,null,40679.346226851187,{"$f":"LOOKUP($V437,Data!$A$6:$A$1806,Data!$B$6:$B$1806)","v":59.997406005859375},{"$f":"LOOKUP($V437,Data!$A$6:$A$1806,Data!$C$6:$C$1806)","v":0},{"$f":"LOOKUP($V437,Data!$A$6:$A$1806,Data!$D$6:$D$1806)","v":0},{"$f":"IF($Z$1=\"+\",LOOKUP($V437,Data!$A$6:$A$1806,Data!$E$6:$E$1806)*-1,LOOKUP($V437,Data!$A$6:$A$1806,Data!$E$6:$E$1806))","v":0},{"$f":"LOOKUP($V437,Data!$A$6:$A$1806,Data!$F$6:$F$1806)","v":0},null,{"$f":"LOOKUP($V437,Data!$A$6:$A$1806,Data!$H$6:$H$1806)","v":0},{"$f":"LOOKUP($V437,Data!$A$6:$A$1806,Data!$I$6:$I$1806)","v":0},{"$f":"IF(LOOKUP($V437,Data!$A$6:$A$1806,Data!$J$6:$J$1806)>0,(LOOKUP($V437,Data!$A$6:$A$1806,Data!$J$6:$J$1806)*-1),LOOKUP($V437,Data!$A$6:$A$1806,Data!$J$6:$J$1806))","v":-653},{"$f":"LOOKUP($V437,Data!$A$6:$A$1806,Data!$K$6:$K$1806)","v":30431.580078125},16.93878173828125,null,null,null,null,null,null,null,null,null,null,null,null,null,null,null,38591.487500000003,2.593994140625E-3," "]
[null,40679.346249999333,{"$f":"LOOKUP(B438,Data!$A$6:$A$1806,Data!B$6:B$1806)","v":59.997406005859375},{"$f":"LOOKUP(B438,Data!$A$6:$A$1806,Data!C$6:C$1806)","v":0},null,null,19590,{"$f":"(IF((C438-L$2)>0,(IF(C438<'Copy Results'!$C$3,((C438-L$2-L$5)/((L$4*L$2)-L$5)*G438*-1),(('Copy Results'!$C$3-L$2-L$5)/((L$4*L$2)-L$5)*G438*-1))),IF(C438>'Copy Results'!$C$2,((C438-L$2+L$5)/((L$4*L$2)-L$5)*G438*-1),(('Copy Results'!$C$2-L$2+L$5)/((L$4*L$2)-L$5)*G438*-1))))","v":16.93878173828125},18.575109477174873,null,null,0,-2.0573404088910543,{"$f":"AVERAGE(D$79:D438)","v":0},{"$f":"AVERAGE(M$79:M438)","v":148.84279493016825},-18.644902043525651,{"$f":"AVERAGE(P$79:P438)","v":60.571594272272257},null,null,null,null,40679.346249999333,{"$f":"LOOKUP($V438,Data!$A$6:$A$1806,Data!$B$6:$B$1806)","v":59.997406005859375},{"$f":"LOOKUP($V438,Data!$A$6:$A$1806,Data!$C$6:$C$1806)","v":0},{"$f":"LOOKUP($V438,Data!$A$6:$A$1806,Data!$D$6:$D$1806)","v":0},{"$f":"IF($Z$1=\"+\",LOOKUP($V438,Data!$A$6:$A$1806,Data!$E$6:$E$1806)*-1,LOOKUP($V438,Data!$A$6:$A$1806,Data!$E$6:$E$1806))","v":0},{"$f":"LOOKUP($V438,Data!$A$6:$A$1806,Data!$F$6:$F$1806)","v":0},null,{"$f":"LOOKUP($V438,Data!$A$6:$A$1806,Data!$H$6:$H$1806)","v":0},{"$f":"LOOKUP($V438,Data!$A$6:$A$1806,Data!$I$6:$I$1806)","v":0},{"$f":"IF(LOOKUP($V438,Data!$A$6:$A$1806,Data!$J$6:$J$1806)>0,(LOOKUP($V438,Data!$A$6:$A$1806,Data!$J$6:$J$1806)*-1),LOOKUP($V438,Data!$A$6:$A$1806,Data!$J$6:$J$1806))","v":-653},{"$f":"LOOKUP($V438,Data!$A$6:$A$1806,Data!$K$6:$K$1806)","v":30444.248046875},16.93878173828125,null,null,null,null,null,null,null,null,null,null,null,null,null,null,null,38591.487500000003,2.593994140625E-3," "]
[null,40679.346273147479,{"$f":"LOOKUP(B439,Data!$A$6:$A$1806,Data!B$6:B$1806)","v":59.997406005859375},{"$f":"LOOKUP(B439,Data!$A$6:$A$1806,Data!C$6:C$1806)","v":0},null,null,19590,{"$f":"(IF((C439-L$2)>0,(IF(C439<'Copy Results'!$C$3,((C439-L$2-L$5)/((L$4*L$2)-L$5)*G439*-1),(('Copy Results'!$C$3-L$2-L$5)/((L$4*L$2)-L$5)*G439*-1))),IF(C439>'Copy Results'!$C$2,((C439-L$2+L$5)/((L$4*L$2)-L$5)*G439*-1),(('Copy Results'!$C$2-L$2+L$5)/((L$4*L$2)-L$5)*G439*-1))))","v":16.93878173828125},18.002394768562105,null,null,0,-2.6300551175038223,{"$f":"AVERAGE(D$79:D439)","v":0},{"$f":"AVERAGE(M$79:M439)","v":148.42320254776476},-18.644902043525651,{"$f":"AVERAGE(P$79:P439)","v":60.351548449172817},null,null,null,null,40679.346273147479,{"$f":"LOOKUP($V439,Data!$A$6:$A$1806,Data!$B$6:$B$1806)","v":59.997406005859375},{"$f":"LOOKUP($V439,Data!$A$6:$A$1806,Data!$C$6:$C$1806)","v":0},{"$f":"LOOKUP($V439,Data!$A$6:$A$1806,Data!$D$6:$D$1806)","v":0},{"$f":"IF($Z$1=\"+\",LOOKUP($V439,Data!$A$6:$A$1806,Data!$E$6:$E$1806)*-1,LOOKUP($V439,Data!$A$6:$A$1806,Data!$E$6:$E$1806))","v":0},{"$f":"LOOKUP($V439,Data!$A$6:$A$1806,Data!$F$6:$F$1806)","v":0},null,{"$f":"LOOKUP($V439,Data!$A$6:$A$1806,Data!$H$6:$H$1806)","v":0},{"$f":"LOOKUP($V439,Data!$A$6:$A$1806,Data!$I$6:$I$1806)","v":0},{"$f":"IF(LOOKUP($V439,Data!$A$6:$A$1806,Data!$J$6:$J$1806)>0,(LOOKUP($V439,Data!$A$6:$A$1806,Data!$J$6:$J$1806)*-1),LOOKUP($V439,Data!$A$6:$A$1806,Data!$J$6:$J$1806))","v":-653},{"$f":"LOOKUP($V439,Data!$A$6:$A$1806,Data!$K$6:$K$1806)","v":30444.248046875},16.93878173828125,null,null,null,null,null,null,null,null,null,null,null,null,null,null,null,38591.487500000003,2.593994140625E-3," "]
[null,40679.346296295626,{"$f":"LOOKUP(B440,Data!$A$6:$A$1806,Data!B$6:B$1806)","v":60.000640869140625},{"$f":"LOOKUP(B440,Data!$A$6:$A$1806,Data!C$6:C$1806)","v":0},null,null,19590,{"$f":"(IF((C440-L$2)>0,(IF(C440<'Copy Results'!$C$3,((C440-L$2-L$5)/((L$4*L$2)-L$5)*G440*-1),(('Copy Results'!$C$3-L$2-L$5)/((L$4*L$2)-L$5)*G440*-1))),IF(C440>'Copy Results'!$C$2,((C440-L$2+L$5)/((L$4*L$2)-L$5)*G440*-1),(('Copy Results'!$C$2-L$2+L$5)/((L$4*L$2)-L$5)*G440*-1))))","v":-4.18487548828125},10.236850178666931,null,null,0,-10.395599707398997,{"$f":"AVERAGE(D$79:D440)","v":0},{"$f":"AVERAGE(M$79:M440)","v":147.98447657468418},-18.644902043525651,{"$f":"AVERAGE(P$79:P440)","v":60.132721716506069},null,null,null,null,40679.346296295626,{"$f":"LOOKUP($V440,Data!$A$6:$A$1806,Data!$B$6:$B$1806)","v":60.000640869140625},{"$f":"LOOKUP($V440,Data!$A$6:$A$1806,Data!$C$6:$C$1806)","v":0},{"$f":"LOOKUP($V440,Data!$A$6:$A$1806,Data!$D$6:$D$1806)","v":0},{"$f":"IF($Z$1=\"+\",LOOKUP($V440,Data!$A$6:$A$1806,Data!$E$6:$E$1806)*-1,LOOKUP($V440,Data!$A$6:$A$1806,Data!$E$6:$E$1806))","v":0},{"$f":"LOOKUP($V440,Data!$A$6:$A$1806,Data!$F$6:$F$1806)","v":0},null,{"$f":"LOOKUP($V440,Data!$A$6:$A$1806,Data!$H$6:$H$1806)","v":0},{"$f":"LOOKUP($V440,Data!$A$6:$A$1806,Data!$I$6:$I$1806)","v":0},{"$f":"IF(LOOKUP($V440,Data!$A$6:$A$1806,Data!$J$6:$J$1806)>0,(LOOKUP($V440,Data!$A$6:$A$1806,Data!$J$6:$J$1806)*-1),LOOKUP($V440,Data!$A$6:$A$1806,Data!$J$6:$J$1806))","v":-653},{"$f":"LOOKUP($V440,Data!$A$6:$A$1806,Data!$K$6:$K$1806)","v":30444.248046875},-4.18487548828125,null,null,null,null,null,null,null,null,null,null,null,null,null,null,null," ",6.40869140625E-4," "]
[null,40679.346319443772,{"$f":"LOOKUP(B441,Data!$A$6:$A$1806,Data!B$6:B$1806)","v":60.00323486328125},{"$f":"LOOKUP(B441,Data!$A$6:$A$1806,Data!C$6:C$1806)","v":0},null,null,19590,{"$f":"(IF((C441-L$2)>0,(IF(C441<'Copy Results'!$C$3,((C441-L$2-L$5)/((L$4*L$2)-L$5)*G441*-1),(('Copy Results'!$C$3-L$2-L$5)/((L$4*L$2)-L$5)*G441*-1))),IF(C441>'Copy Results'!$C$2,((C441-L$2+L$5)/((L$4*L$2)-L$5)*G441*-1),(('Copy Results'!$C$2-L$2+L$5)/((L$4*L$2)-L$5)*G441*-1))))","v":-21.1236572265625},-0.7393274131633687,null,null,0,-21.371777299229297,{"$f":"AVERAGE(D$79:D441)","v":0},{"$f":"AVERAGE(M$79:M441)","v":147.51793042076156},-18.644902043525651,{"$f":"AVERAGE(P$79:P441)","v":59.915103971312611},null,null,null,null,40679.346319443772,{"$f":"LOOKUP($V441,Data!$A$6:$A$1806,Data!$B$6:$B$1806)","v":60.00323486328125},{"$f":"LOOKUP($V441,Data!$A$6:$A$1806,Data!$C$6:$C$1806)","v":0},{"$f":"LOOKUP($V441,Data!$A$6:$A$1806,Data!$D$6:$D$1806)","v":0},{"$f":"IF($Z$1=\"+\",LOOKUP($V441,Data!$A$6:$A$1806,Data!$E$6:$E$1806)*-1,LOOKUP($V441,Data!$A$6:$A$1806,Data!$E$6:$E$1806))","v":0},{"$f":"LOOKUP($V441,Data!$A$6:$A$1806,Data!$F$6:$F$1806)","v":0},null,{"$f":"LOOKUP($V441,Data!$A$6:$A$1806,Data!$H$6:$H$1806)","v":0},{"$f":"LOOKUP($V441,Data!$A$6:$A$1806,Data!$I$6:$I$1806)","v":0},{"$f":"IF(LOOKUP($V441,Data!$A$6:$A$1806,Data!$J$6:$J$1806)>0,(LOOKUP($V441,Data!$A$6:$A$1806,Data!$J$6:$J$1806)*-1),LOOKUP($V441,Data!$A$6:$A$1806,Data!$J$6:$J$1806))","v":-653},{"$f":"LOOKUP($V441,Data!$A$6:$A$1806,Data!$K$6:$K$1806)","v":30444.248046875},-21.1236572265625,null,null,null,null,null,null,null,null,null,null,null,null,null,null,null," ",3.23486328125E-3," "]
[null,40679.346342591918,{"$f":"LOOKUP(B442,Data!$A$6:$A$1806,Data!B$6:B$1806)","v":60.0035400390625},{"$f":"LOOKUP(B442,Data!$A$6:$A$1806,Data!C$6:C$1806)","v":0},null,null,19590,{"$f":"(IF((C442-L$2)>0,(IF(C442<'Copy Results'!$C$3,((C442-L$2-L$5)/((L$4*L$2)-L$5)*G442*-1),(('Copy Results'!$C$3-L$2-L$5)/((L$4*L$2)-L$5)*G442*-1))),IF(C442>'Copy Results'!$C$2,((C442-L$2+L$5)/((L$4*L$2)-L$5)*G442*-1),(('Copy Results'!$C$2-L$2+L$5)/((L$4*L$2)-L$5)*G442*-1))))","v":-23.116455078125},-8.571322095899939,null,null,0,-29.203771981965868,{"$f":"AVERAGE(D$79:D442)","v":0},{"$f":"AVERAGE(M$79:M442)","v":147.03243123833647},-18.644902043525651,{"$f":"AVERAGE(P$79:P442)","v":59.698685221960439},null,null,null,null,40679.346342591918,{"$f":"LOOKUP($V442,Data!$A$6:$A$1806,Data!$B$6:$B$1806)","v":60.0035400390625},{"$f":"LOOKUP($V442,Data!$A$6:$A$1806,Data!$C$6:$C$1806)","v":0},{"$f":"LOOKUP($V442,Data!$A$6:$A$1806,Data!$D$6:$D$1806)","v":0},{"$f":"IF($Z$1=\"+\",LOOKUP($V442,Data!$A$6:$A$1806,Data!$E$6:$E$1806)*-1,LOOKUP($V442,Data!$A$6:$A$1806,Data!$E$6:$E$1806))","v":0},{"$f":"LOOKUP($V442,Data!$A$6:$A$1806,Data!$F$6:$F$1806)","v":0},null,{"$f":"LOOKUP($V442,Data!$A$6:$A$1806,Data!$H$6:$H$1806)","v":0},{"$f":"LOOKUP($V442,Data!$A$6:$A$1806,Data!$I$6:$I$1806)","v":0},{"$f":"IF(LOOKUP($V442,Data!$A$6:$A$1806,Data!$J$6:$J$1806)>0,(LOOKUP($V442,Data!$A$6:$A$1806,Data!$J$6:$J$1806)*-1),LOOKUP($V442,Data!$A$6:$A$1806,Data!$J$6:$J$1806))","v":-653},{"$f":"LOOKUP($V442,Data!$A$6:$A$1806,Data!$K$6:$K$1806)","v":30465.11328125},-23.116455078125,null,null,null,null,null,null,null,null,null,null,null,null,null,null,null," ",3.5400390625E-3," "]
[null,40679.346365740064,{"$f":"LOOKUP(B443,Data!$A$6:$A$1806,Data!B$6:B$1806)","v":60.002593994140625},{"$f":"LOOKUP(B443,Data!$A$6:$A$1806,Data!C$6:C$1806)","v":0},null,null,19590,{"$f":"(IF((C443-L$2)>0,(IF(C443<'Copy Results'!$C$3,((C443-L$2-L$5)/((L$4*L$2)-L$5)*G443*-1),(('Copy Results'!$C$3-L$2-L$5)/((L$4*L$2)-L$5)*G443*-1))),IF(C443>'Copy Results'!$C$2,((C443-L$2+L$5)/((L$4*L$2)-L$5)*G443*-1),(('Copy Results'!$C$2-L$2+L$5)/((L$4*L$2)-L$5)*G443*-1))))","v":-16.93878173828125},-11.499932970733397,null,null,0,-32.132382856799325,{"$f":"AVERAGE(D$79:D443)","v":0},{"$f":"AVERAGE(M$79:M443)","v":146.54156873396624},-18.644902043525651,{"$f":"AVERAGE(P$79:P443)","v":59.483455586615705},null,null,null,null,40679.346365740064,{"$f":"LOOKUP($V443,Data!$A$6:$A$1806,Data!$B$6:$B$1806)","v":60.002593994140625},{"$f":"LOOKUP($V443,Data!$A$6:$A$1806,Data!$C$6:$C$1806)","v":0},{"$f":"LOOKUP($V443,Data!$A$6:$A$1806,Data!$D$6:$D$1806)","v":0},{"$f":"IF($Z$1=\"+\",LOOKUP($V443,Data!$A$6:$A$1806,Data!$E$6:$E$1806)*-1,LOOKUP($V443,Data!$A$6:$A$1806,Data!$E$6:$E$1806))","v":0},{"$f":"LOOKUP($V443,Data!$A$6:$A$1806,Data!$F$6:$F$1806)","v":0},null,{"$f":"LOOKUP($V443,Data!$A$6:$A$1806,Data!$H$6:$H$1806)","v":0},{"$f":"LOOKUP($V443,Data!$A$6:$A$1806,Data!$I$6:$I$1806)","v":0},{"$f":"IF(LOOKUP($V443,Data!$A$6:$A$1806,Data!$J$6:$J$1806)>0,(LOOKUP($V443,Data!$A$6:$A$1806,Data!$J$6:$J$1806)*-1),LOOKUP($V443,Data!$A$6:$A$1806,Data!$J$6:$J$1806))","v":-653},{"$f":"LOOKUP($V443,Data!$A$6:$A$1806,Data!$K$6:$K$1806)","v":30465.11328125},-16.93878173828125,null,null,null,null,null,null,null,null,null,null,null,null,null,null,null," ",2.593994140625E-3," "]
[null,40679.346388888211,{"$f":"LOOKUP(B444,Data!$A$6:$A$1806,Data!B$6:B$1806)","v":60.0009765625},{"$f":"LOOKUP(B444,Data!$A$6:$A$1806,Data!C$6:C$1806)","v":0},null,null,19590,{"$f":"(IF((C444-L$2)>0,(IF(C444<'Copy Results'!$C$3,((C444-L$2-L$5)/((L$4*L$2)-L$5)*G444*-1),(('Copy Results'!$C$3-L$2-L$5)/((L$4*L$2)-L$5)*G444*-1))),IF(C444>'Copy Results'!$C$2,((C444-L$2+L$5)/((L$4*L$2)-L$5)*G444*-1),(('Copy Results'!$C$2-L$2+L$5)/((L$4*L$2)-L$5)*G444*-1))))","v":-6.376953125},-9.7068900247267074,null,null,0,-30.339339910792635,{"$f":"AVERAGE(D$79:D444)","v":0},{"$f":"AVERAGE(M$79:M444)","v":146.0582875628057},-18.644902043525651,{"$f":"AVERAGE(P$79:P444)","v":59.269405291738607},null,null,null,null,40679.346388888211,{"$f":"LOOKUP($V444,Data!$A$6:$A$1806,Data!$B$6:$B$1806)","v":60.0009765625},{"$f":"LOOKUP($V444,Data!$A$6:$A$1806,Data!$C$6:$C$1806)","v":0},{"$f":"LOOKUP($V444,Data!$A$6:$A$1806,Data!$D$6:$D$1806)","v":0},{"$f":"IF($Z$1=\"+\",LOOKUP($V444,Data!$A$6:$A$1806,Data!$E$6:$E$1806)*-1,LOOKUP($V444,Data!$A$6:$A$1806,Data!$E$6:$E$1806))","v":0},{"$f":"LOOKUP($V444,Data!$A$6:$A$1806,Data!$F$6:$F$1806)","v":0},null,{"$f":"LOOKUP($V444,Data!$A$6:$A$1806,Data!$H$6:$H$1806)","v":0},{"$f":"LOOKUP($V444,Data!$A$6:$A$1806,Data!$I$6:$I$1806)","v":0},{"$f":"IF(LOOKUP($V444,Data!$A$6:$A$1806,Data!$J$6:$J$1806)>0,(LOOKUP($V444,Data!$A$6:$A$1806,Data!$J$6:$J$1806)*-1),LOOKUP($V444,Data!$A$6:$A$1806,Data!$J$6:$J$1806))","v":-653},{"$f":"LOOKUP($V444,Data!$A$6:$A$1806,Data!$K$6:$K$1806)","v":30465.302734375},-6.376953125,null,null,null,null,null,null,null,null,null,null,null,null,null,null,null," ",9.765625E-4," "]
[null,40679.346412036357,{"$f":"LOOKUP(B445,Data!$A$6:$A$1806,Data!B$6:B$1806)","v":59.999359130859375},{"$f":"LOOKUP(B445,Data!$A$6:$A$1806,Data!C$6:C$1806)","v":0},null,null,19590,{"$f":"(IF((C445-L$2)>0,(IF(C445<'Copy Results'!$C$3,((C445-L$2-L$5)/((L$4*L$2)-L$5)*G445*-1),(('Copy Results'!$C$3-L$2-L$5)/((L$4*L$2)-L$5)*G445*-1))),IF(C445>'Copy Results'!$C$2,((C445-L$2+L$5)/((L$4*L$2)-L$5)*G445*-1),(('Copy Results'!$C$2-L$2+L$5)/((L$4*L$2)-L$5)*G445*-1))))","v":4.18487548828125},-4.8447720951739228,null,null,0,-25.47722198123985,{"$f":"AVERAGE(D$79:D445)","v":0},{"$f":"AVERAGE(M$79:M445)","v":145.59088835423881},-18.644902043525651,{"$f":"AVERAGE(P$79:P445)","v":59.056524670604006},null,null,null,null,40679.346412036357,{"$f":"LOOKUP($V445,Data!$A$6:$A$1806,Data!$B$6:$B$1806)","v":59.999359130859375},{"$f":"LOOKUP($V445,Data!$A$6:$A$1806,Data!$C$6:$C$1806)","v":0},{"$f":"LOOKUP($V445,Data!$A$6:$A$1806,Data!$D$6:$D$1806)","v":0},{"$f":"IF($Z$1=\"+\",LOOKUP($V445,Data!$A$6:$A$1806,Data!$E$6:$E$1806)*-1,LOOKUP($V445,Data!$A$6:$A$1806,Data!$E$6:$E$1806))","v":0},{"$f":"LOOKUP($V445,Data!$A$6:$A$1806,Data!$F$6:$F$1806)","v":0},null,{"$f":"LOOKUP($V445,Data!$A$6:$A$1806,Data!$H$6:$H$1806)","v":0},{"$f":"LOOKUP($V445,Data!$A$6:$A$1806,Data!$I$6:$I$1806)","v":0},{"$f":"IF(LOOKUP($V445,Data!$A$6:$A$1806,Data!$J$6:$J$1806)>0,(LOOKUP($V445,Data!$A$6:$A$1806,Data!$J$6:$J$1806)*-1),LOOKUP($V445,Data!$A$6:$A$1806,Data!$J$6:$J$1806))","v":-653},{"$f":"LOOKUP($V445,Data!$A$6:$A$1806,Data!$K$6:$K$1806)","v":30465.302734375},4.18487548828125,null,null,null,null,null,null,null,null,null,null,null,null,null,null,null," ",6.40869140625E-4," "]
[null,40679.346435184503,{"$f":"LOOKUP(B446,Data!$A$6:$A$1806,Data!B$6:B$1806)","v":59.997406005859375},{"$f":"LOOKUP(B446,Data!$A$6:$A$1806,Data!C$6:C$1806)","v":0},null,null,19590,{"$f":"(IF((C446-L$2)>0,(IF(C446<'Copy Results'!$C$3,((C446-L$2-L$5)/((L$4*L$2)-L$5)*G446*-1),(('Copy Results'!$C$3-L$2-L$5)/((L$4*L$2)-L$5)*G446*-1))),IF(C446>'Copy Results'!$C$2,((C446-L$2+L$5)/((L$4*L$2)-L$5)*G446*-1),(('Copy Results'!$C$2-L$2+L$5)/((L$4*L$2)-L$5)*G446*-1))))","v":16.93878173828125},2.7794717465353878,null,null,0,-17.852978139530542,{"$f":"AVERAGE(D$79:D446)","v":0},{"$f":"AVERAGE(M$79:M446)","v":145.14674741267964},-18.644902043525651,{"$f":"AVERAGE(P$79:P446)","v":58.844804161846163},null,null,null,null,40679.346435184503,{"$f":"LOOKUP($V446,Data!$A$6:$A$1806,Data!$B$6:$B$1806)","v":59.997406005859375},{"$f":"LOOKUP($V446,Data!$A$6:$A$1806,Data!$C$6:$C$1806)","v":0},{"$f":"LOOKUP($V446,Data!$A$6:$A$1806,Data!$D$6:$D$1806)","v":0},{"$f":"IF($Z$1=\"+\",LOOKUP($V446,Data!$A$6:$A$1806,Data!$E$6:$E$1806)*-1,LOOKUP($V446,Data!$A$6:$A$1806,Data!$E$6:$E$1806))","v":0},{"$f":"LOOKUP($V446,Data!$A$6:$A$1806,Data!$F$6:$F$1806)","v":0},null,{"$f":"LOOKUP($V446,Data!$A$6:$A$1806,Data!$H$6:$H$1806)","v":0},{"$f":"LOOKUP($V446,Data!$A$6:$A$1806,Data!$I$6:$I$1806)","v":0},{"$f":"IF(LOOKUP($V446,Data!$A$6:$A$1806,Data!$J$6:$J$1806)>0,(LOOKUP($V446,Data!$A$6:$A$1806,Data!$J$6:$J$1806)*-1),LOOKUP($V446,Data!$A$6:$A$1806,Data!$J$6:$J$1806))","v":-653},{"$f":"LOOKUP($V446,Data!$A$6:$A$1806,Data!$K$6:$K$1806)","v":30465.302734375},16.93878173828125,null,null,null,null,null,null,null,null,null,null,null,null,null,null,null,38591.487500000003,2.593994140625E-3," "]
[null,40679.346458332649,{"$f":"LOOKUP(B447,Data!$A$6:$A$1806,Data!B$6:B$1806)","v":59.99676513671875},{"$f":"LOOKUP(B447,Data!$A$6:$A$1806,Data!C$6:C$1806)","v":0},null,null,19590,{"$f":"(IF((C447-L$2)>0,(IF(C447<'Copy Results'!$C$3,((C447-L$2-L$5)/((L$4*L$2)-L$5)*G447*-1),(('Copy Results'!$C$3-L$2-L$5)/((L$4*L$2)-L$5)*G447*-1))),IF(C447>'Copy Results'!$C$2,((C447-L$2+L$5)/((L$4*L$2)-L$5)*G447*-1),(('Copy Results'!$C$2-L$2+L$5)/((L$4*L$2)-L$5)*G447*-1))))","v":21.1236572265625},9.1999366645448752,null,null,0,-11.432513221521054,{"$f":"AVERAGE(D$79:D447)","v":0},{"$f":"AVERAGE(M$79:M447)","v":144.72241337302057},-18.644902043525651,{"$f":"AVERAGE(P$79:P447)","v":58.634234308027217},null,null,null,null,40679.346458332649,{"$f":"LOOKUP($V447,Data!$A$6:$A$1806,Data!$B$6:$B$1806)","v":59.99676513671875},{"$f":"LOOKUP($V447,Data!$A$6:$A$1806,Data!$C$6:$C$1806)","v":0},{"$f":"LOOKUP($V447,Data!$A$6:$A$1806,Data!$D$6:$D$1806)","v":0},{"$f":"IF($Z$1=\"+\",LOOKUP($V447,Data!$A$6:$A$1806,Data!$E$6:$E$1806)*-1,LOOKUP($V447,Data!$A$6:$A$1806,Data!$E$6:$E$1806))","v":0},{"$f":"LOOKUP($V447,Data!$A$6:$A$1806,Data!$F$6:$F$1806)","v":0},null,{"$f":"LOOKUP($V447,Data!$A$6:$A$1806,Data!$H$6:$H$1806)","v":0},{"$f":"LOOKUP($V447,Data!$A$6:$A$1806,Data!$I$6:$I$1806)","v":0},{"$f":"IF(LOOKUP($V447,Data!$A$6:$A$1806,Data!$J$6:$J$1806)>0,(LOOKUP($V447,Data!$A$6:$A$1806,Data!$J$6:$J$1806)*-1),LOOKUP($V447,Data!$A$6:$A$1806,Data!$J$6:$J$1806))","v":-653},{"$f":"LOOKUP($V447,Data!$A$6:$A$1806,Data!$K$6:$K$1806)","v":30465.302734375},21.1236572265625,null,null,null,null,null,null,null,null,null,null,null,null,null,null,null,25305.89344262295,3.23486328125E-3," "]
[null,40679.346481480796,{"$f":"LOOKUP(B448,Data!$A$6:$A$1806,Data!B$6:B$1806)","v":59.99676513671875},{"$f":"LOOKUP(B448,Data!$A$6:$A$1806,Data!C$6:C$1806)","v":0},null,null,19590,{"$f":"(IF((C448-L$2)>0,(IF(C448<'Copy Results'!$C$3,((C448-L$2-L$5)/((L$4*L$2)-L$5)*G448*-1),(('Copy Results'!$C$3-L$2-L$5)/((L$4*L$2)-L$5)*G448*-1))),IF(C448>'Copy Results'!$C$2,((C448-L$2+L$5)/((L$4*L$2)-L$5)*G448*-1),(('Copy Results'!$C$2-L$2+L$5)/((L$4*L$2)-L$5)*G448*-1))))","v":21.1236572265625},13.373238861251043,null,null,0,-7.2592110248148867,{"$f":"AVERAGE(D$79:D448)","v":0},{"$f":"AVERAGE(M$79:M448)","v":144.31165222599938},-18.644902043525651,{"$f":"AVERAGE(P$79:P448)","v":58.424805754228977},null,null,null,null,40679.346481480796,{"$f":"LOOKUP($V448,Data!$A$6:$A$1806,Data!$B$6:$B$1806)","v":59.99676513671875},{"$f":"LOOKUP($V448,Data!$A$6:$A$1806,Data!$C$6:$C$1806)","v":0},{"$f":"LOOKUP($V448,Data!$A$6:$A$1806,Data!$D$6:$D$1806)","v":0},{"$f":"IF($Z$1=\"+\",LOOKUP($V448,Data!$A$6:$A$1806,Data!$E$6:$E$1806)*-1,LOOKUP($V448,Data!$A$6:$A$1806,Data!$E$6:$E$1806))","v":0},{"$f":"LOOKUP($V448,Data!$A$6:$A$1806,Data!$F$6:$F$1806)","v":0},null,{"$f":"LOOKUP($V448,Data!$A$6:$A$1806,Data!$H$6:$H$1806)","v":0},{"$f":"LOOKUP($V448,Data!$A$6:$A$1806,Data!$I$6:$I$1806)","v":0},{"$f":"IF(LOOKUP($V448,Data!$A$6:$A$1806,Data!$J$6:$J$1806)>0,(LOOKUP($V448,Data!$A$6:$A$1806,Data!$J$6:$J$1806)*-1),LOOKUP($V448,Data!$A$6:$A$1806,Data!$J$6:$J$1806))","v":-653},{"$f":"LOOKUP($V448,Data!$A$6:$A$1806,Data!$K$6:$K$1806)","v":30478.248046875},21.1236572265625,null,null,null,null,null,null,null,null,null,null,null,null,null,null,null,25305.89344262295,3.23486328125E-3," "]
[null,40679.346504628942,{"$f":"LOOKUP(B449,Data!$A$6:$A$1806,Data!B$6:B$1806)","v":59.997100830078125},{"$f":"LOOKUP(B449,Data!$A$6:$A$1806,Data!C$6:C$1806)","v":0},null,null,19590,{"$f":"(IF((C449-L$2)>0,(IF(C449<'Copy Results'!$C$3,((C449-L$2-L$5)/((L$4*L$2)-L$5)*G449*-1),(('Copy Results'!$C$3-L$2-L$5)/((L$4*L$2)-L$5)*G449*-1))),IF(C449>'Copy Results'!$C$2,((C449-L$2+L$5)/((L$4*L$2)-L$5)*G449*-1),(('Copy Results'!$C$2-L$2+L$5)/((L$4*L$2)-L$5)*G449*-1))))","v":18.93157958984375},15.31865811625849,null,null,0,-5.3137917698074393,{"$f":"AVERAGE(D$79:D449)","v":0},{"$f":"AVERAGE(M$79:M449)","v":143.90834914245275},-18.644902043525651,{"$f":"AVERAGE(P$79:P449)","v":58.216509246667478},null,null,null,null,40679.346504628942,{"$f":"LOOKUP($V449,Data!$A$6:$A$1806,Data!$B$6:$B$1806)","v":59.997100830078125},{"$f":"LOOKUP($V449,Data!$A$6:$A$1806,Data!$C$6:$C$1806)","v":0},{"$f":"LOOKUP($V449,Data!$A$6:$A$1806,Data!$D$6:$D$1806)","v":0},{"$f":"IF($Z$1=\"+\",LOOKUP($V449,Data!$A$6:$A$1806,Data!$E$6:$E$1806)*-1,LOOKUP($V449,Data!$A$6:$A$1806,Data!$E$6:$E$1806))","v":0},{"$f":"LOOKUP($V449,Data!$A$6:$A$1806,Data!$F$6:$F$1806)","v":0},null,{"$f":"LOOKUP($V449,Data!$A$6:$A$1806,Data!$H$6:$H$1806)","v":0},{"$f":"LOOKUP($V449,Data!$A$6:$A$1806,Data!$I$6:$I$1806)","v":0},{"$f":"IF(LOOKUP($V449,Data!$A$6:$A$1806,Data!$J$6:$J$1806)>0,(LOOKUP($V449,Data!$A$6:$A$1806,Data!$J$6:$J$1806)*-1),LOOKUP($V449,Data!$A$6:$A$1806,Data!$J$6:$J$1806))","v":-653},{"$f":"LOOKUP($V449,Data!$A$6:$A$1806,Data!$K$6:$K$1806)","v":30478.248046875},18.93157958984375,null,null,null,null,null,null,null,null,null,null,null,null,null,null,null,30873.19,2.899169921875E-3," "]
[null,40679.346527777088,{"$f":"LOOKUP(B450,Data!$A$6:$A$1806,Data!B$6:B$1806)","v":59.99774169921875},{"$f":"LOOKUP(B450,Data!$A$6:$A$1806,Data!C$6:C$1806)","v":0},null,null,19590,{"$f":"(IF((C450-L$2)>0,(IF(C450<'Copy Results'!$C$3,((C450-L$2-L$5)/((L$4*L$2)-L$5)*G450*-1),(('Copy Results'!$C$3-L$2-L$5)/((L$4*L$2)-L$5)*G450*-1))),IF(C450>'Copy Results'!$C$2,((C450-L$2+L$5)/((L$4*L$2)-L$5)*G450*-1),(('Copy Results'!$C$2-L$2+L$5)/((L$4*L$2)-L$5)*G450*-1))))","v":14.7467041015625},15.118474211114894,null,null,0,-5.5139756749510358,{"$f":"AVERAGE(D$79:D450)","v":0},{"$f":"AVERAGE(M$79:M450)","v":143.50667622627694},-18.644902043525651,{"$f":"AVERAGE(P$79:P450)","v":58.009335631330032},null,null,null,null,40679.346527777088,{"$f":"LOOKUP($V450,Data!$A$6:$A$1806,Data!$B$6:$B$1806)","v":59.99774169921875},{"$f":"LOOKUP($V450,Data!$A$6:$A$1806,Data!$C$6:$C$1806)","v":0},{"$f":"LOOKUP($V450,Data!$A$6:$A$1806,Data!$D$6:$D$1806)","v":0},{"$f":"IF($Z$1=\"+\",LOOKUP($V450,Data!$A$6:$A$1806,Data!$E$6:$E$1806)*-1,LOOKUP($V450,Data!$A$6:$A$1806,Data!$E$6:$E$1806))","v":0},{"$f":"LOOKUP($V450,Data!$A$6:$A$1806,Data!$F$6:$F$1806)","v":0},null,{"$f":"LOOKUP($V450,Data!$A$6:$A$1806,Data!$H$6:$H$1806)","v":0},{"$f":"LOOKUP($V450,Data!$A$6:$A$1806,Data!$I$6:$I$1806)","v":0},{"$f":"IF(LOOKUP($V450,Data!$A$6:$A$1806,Data!$J$6:$J$1806)>0,(LOOKUP($V450,Data!$A$6:$A$1806,Data!$J$6:$J$1806)*-1),LOOKUP($V450,Data!$A$6:$A$1806,Data!$J$6:$J$1806))","v":-653},{"$f":"LOOKUP($V450,Data!$A$6:$A$1806,Data!$K$6:$K$1806)","v":30478.248046875},14.7467041015625,null,null,null,null,null,null,null,null,null,null,null,null,null,null,null,53229.637931034486,2.25830078125E-3," "]
[null,40679.346550925235,{"$f":"LOOKUP(B451,Data!$A$6:$A$1806,Data!B$6:B$1806)","v":59.99871826171875},{"$f":"LOOKUP(B451,Data!$A$6:$A$1806,Data!C$6:C$1806)","v":0},null,null,19590,{"$f":"(IF((C451-L$2)>0,(IF(C451<'Copy Results'!$C$3,((C451-L$2-L$5)/((L$4*L$2)-L$5)*G451*-1),(('Copy Results'!$C$3-L$2-L$5)/((L$4*L$2)-L$5)*G451*-1))),IF(C451>'Copy Results'!$C$2,((C451-L$2+L$5)/((L$4*L$2)-L$5)*G451*-1),(('Copy Results'!$C$2-L$2+L$5)/((L$4*L$2)-L$5)*G451*-1))))","v":8.3697509765625},12.756421079021557,null,null,0,-7.8760288070443725,{"$f":"AVERAGE(D$79:D451)","v":0},{"$f":"AVERAGE(M$79:M451)","v":143.10082447015543},-18.644902043525651,{"$f":"AVERAGE(P$79:P451)","v":57.803275852634187},null,null,null,null,40679.346550925235,{"$f":"LOOKUP($V451,Data!$A$6:$A$1806,Data!$B$6:$B$1806)","v":59.99871826171875},{"$f":"LOOKUP($V451,Data!$A$6:$A$1806,Data!$C$6:$C$1806)","v":0},{"$f":"LOOKUP($V451,Data!$A$6:$A$1806,Data!$D$6:$D$1806)","v":0},{"$f":"IF($Z$1=\"+\",LOOKUP($V451,Data!$A$6:$A$1806,Data!$E$6:$E$1806)*-1,LOOKUP($V451,Data!$A$6:$A$1806,Data!$E$6:$E$1806))","v":0},{"$f":"LOOKUP($V451,Data!$A$6:$A$1806,Data!$F$6:$F$1806)","v":0},null,{"$f":"LOOKUP($V451,Data!$A$6:$A$1806,Data!$H$6:$H$1806)","v":0},{"$f":"LOOKUP($V451,Data!$A$6:$A$1806,Data!$I$6:$I$1806)","v":0},{"$f":"IF(LOOKUP($V451,Data!$A$6:$A$1806,Data!$J$6:$J$1806)>0,(LOOKUP($V451,Data!$A$6:$A$1806,Data!$J$6:$J$1806)*-1),LOOKUP($V451,Data!$A$6:$A$1806,Data!$J$6:$J$1806))","v":-653},{"$f":"LOOKUP($V451,Data!$A$6:$A$1806,Data!$K$6:$K$1806)","v":30478.248046875},8.3697509765625,null,null,null,null,null,null,null,null,null,null,null,null,null,null,null," ",1.28173828125E-3," "]
[null,40679.346574073381,{"$f":"LOOKUP(B452,Data!$A$6:$A$1806,Data!B$6:B$1806)","v":59.999664306640625},{"$f":"LOOKUP(B452,Data!$A$6:$A$1806,Data!C$6:C$1806)","v":0},null,null,19590,{"$f":"(IF((C452-L$2)>0,(IF(C452<'Copy Results'!$C$3,((C452-L$2-L$5)/((L$4*L$2)-L$5)*G452*-1),(('Copy Results'!$C$3-L$2-L$5)/((L$4*L$2)-L$5)*G452*-1))),IF(C452>'Copy Results'!$C$2,((C452-L$2+L$5)/((L$4*L$2)-L$5)*G452*-1),(('Copy Results'!$C$2-L$2+L$5)/((L$4*L$2)-L$5)*G452*-1))))","v":2.19207763671875},9.0589008742155741,null,null,0,-11.573549011850355,{"$f":"AVERAGE(D$79:D452)","v":0},{"$f":"AVERAGE(M$79:M452)","v":142.68725662662064},-18.644902043525651,{"$f":"AVERAGE(P$79:P452)","v":57.598320952108288},null,null,null,null,40679.346574073381,{"$f":"LOOKUP($V452,Data!$A$6:$A$1806,Data!$B$6:$B$1806)","v":59.999664306640625},{"$f":"LOOKUP($V452,Data!$A$6:$A$1806,Data!$C$6:$C$1806)","v":0},{"$f":"LOOKUP($V452,Data!$A$6:$A$1806,Data!$D$6:$D$1806)","v":0},{"$f":"IF($Z$1=\"+\",LOOKUP($V452,Data!$A$6:$A$1806,Data!$E$6:$E$1806)*-1,LOOKUP($V452,Data!$A$6:$A$1806,Data!$E$6:$E$1806))","v":0},{"$f":"LOOKUP($V452,Data!$A$6:$A$1806,Data!$F$6:$F$1806)","v":0},null,{"$f":"LOOKUP($V452,Data!$A$6:$A$1806,Data!$H$6:$H$1806)","v":0},{"$f":"LOOKUP($V452,Data!$A$6:$A$1806,Data!$I$6:$I$1806)","v":0},{"$f":"IF(LOOKUP($V452,Data!$A$6:$A$1806,Data!$J$6:$J$1806)>0,(LOOKUP($V452,Data!$A$6:$A$1806,Data!$J$6:$J$1806)*-1),LOOKUP($V452,Data!$A$6:$A$1806,Data!$J$6:$J$1806))","v":-653},{"$f":"LOOKUP($V452,Data!$A$6:$A$1806,Data!$K$6:$K$1806)","v":30473.857421875},2.19207763671875,null,null,null,null,null,null,null,null,null,null,null,null,null,null,null," ",3.35693359375E-4," "]
[null,40679.346597221527,{"$f":"LOOKUP(B453,Data!$A$6:$A$1806,Data!B$6:B$1806)","v":60},{"$f":"LOOKUP(B453,Data!$A$6:$A$1806,Data!C$6:C$1806)","v":0},null,null,19590,{"$f":"(IF((C453-L$2)>0,(IF(C453<'Copy Results'!$C$3,((C453-L$2-L$5)/((L$4*L$2)-L$5)*G453*-1),(('Copy Results'!$C$3-L$2-L$5)/((L$4*L$2)-L$5)*G453*-1))),IF(C453>'Copy Results'!$C$2,((C453-L$2+L$5)/((L$4*L$2)-L$5)*G453*-1),(('Copy Results'!$C$2-L$2+L$5)/((L$4*L$2)-L$5)*G453*-1))))","v":0},5.8882855682401232,null,null,0,-14.744164317825806,{"$f":"AVERAGE(D$79:D453)","v":0},{"$f":"AVERAGE(M$79:M453)","v":142.26743950410213},-18.644902043525651,{"$f":"AVERAGE(P$79:P453)","v":57.39446206709323},null,null,null,null,40679.346597221527,{"$f":"LOOKUP($V453,Data!$A$6:$A$1806,Data!$B$6:$B$1806)","v":60},{"$f":"LOOKUP($V453,Data!$A$6:$A$1806,Data!$C$6:$C$1806)","v":0},{"$f":"LOOKUP($V453,Data!$A$6:$A$1806,Data!$D$6:$D$1806)","v":0},{"$f":"IF($Z$1=\"+\",LOOKUP($V453,Data!$A$6:$A$1806,Data!$E$6:$E$1806)*-1,LOOKUP($V453,Data!$A$6:$A$1806,Data!$E$6:$E$1806))","v":0},{"$f":"LOOKUP($V453,Data!$A$6:$A$1806,Data!$F$6:$F$1806)","v":0},null,{"$f":"LOOKUP($V453,Data!$A$6:$A$1806,Data!$H$6:$H$1806)","v":0},{"$f":"LOOKUP($V453,Data!$A$6:$A$1806,Data!$I$6:$I$1806)","v":0},{"$f":"IF(LOOKUP($V453,Data!$A$6:$A$1806,Data!$J$6:$J$1806)>0,(LOOKUP($V453,Data!$A$6:$A$1806,Data!$J$6:$J$1806)*-1),LOOKUP($V453,Data!$A$6:$A$1806,Data!$J$6:$J$1806))","v":-653},{"$f":"LOOKUP($V453,Data!$A$6:$A$1806,Data!$K$6:$K$1806)","v":30473.857421875},0,null,null,null,null,null,null,null,null,null,null,null,null,null,null,null," ",0," "]
[null,40679.346620369673,{"$f":"LOOKUP(B454,Data!$A$6:$A$1806,Data!B$6:B$1806)","v":60.000335693359375},{"$f":"LOOKUP(B454,Data!$A$6:$A$1806,Data!C$6:C$1806)","v":0},null,null,19590,{"$f":"(IF((C454-L$2)>0,(IF(C454<'Copy Results'!$C$3,((C454-L$2-L$5)/((L$4*L$2)-L$5)*G454*-1),(('Copy Results'!$C$3-L$2-L$5)/((L$4*L$2)-L$5)*G454*-1))),IF(C454>'Copy Results'!$C$2,((C454-L$2+L$5)/((L$4*L$2)-L$5)*G454*-1),(('Copy Results'!$C$2-L$2+L$5)/((L$4*L$2)-L$5)*G454*-1))))","v":-2.19207763671875},3.0601584465045177,null,null,0,-17.572291439561411,{"$f":"AVERAGE(D$79:D454)","v":0},{"$f":"AVERAGE(M$79:M454)","v":141.84233383669877},-18.644902043525651,{"$f":"AVERAGE(P$79:P454)","v":57.191690429464913},null,null,null,null,40679.346620369673,{"$f":"LOOKUP($V454,Data!$A$6:$A$1806,Data!$B$6:$B$1806)","v":60.000335693359375},{"$f":"LOOKUP($V454,Data!$A$6:$A$1806,Data!$C$6:$C$1806)","v":0},{"$f":"LOOKUP($V454,Data!$A$6:$A$1806,Data!$D$6:$D$1806)","v":0},{"$f":"IF($Z$1=\"+\",LOOKUP($V454,Data!$A$6:$A$1806,Data!$E$6:$E$1806)*-1,LOOKUP($V454,Data!$A$6:$A$1806,Data!$E$6:$E$1806))","v":0},{"$f":"LOOKUP($V454,Data!$A$6:$A$1806,Data!$F$6:$F$1806)","v":0},null,{"$f":"LOOKUP($V454,Data!$A$6:$A$1806,Data!$H$6:$H$1806)","v":0},{"$f":"LOOKUP($V454,Data!$A$6:$A$1806,Data!$I$6:$I$1806)","v":0},{"$f":"IF(LOOKUP($V454,Data!$A$6:$A$1806,Data!$J$6:$J$1806)>0,(LOOKUP($V454,Data!$A$6:$A$1806,Data!$J$6:$J$1806)*-1),LOOKUP($V454,Data!$A$6:$A$1806,Data!$J$6:$J$1806))","v":-653},{"$f":"LOOKUP($V454,Data!$A$6:$A$1806,Data!$K$6:$K$1806)","v":30468.837890625},-2.19207763671875,null,null,null,null,null,null,null,null,null,null,null,null,null,null,null," ",3.35693359375E-4," "]
[null,40679.34664351782,{"$f":"LOOKUP(B455,Data!$A$6:$A$1806,Data!B$6:B$1806)","v":60.0009765625},{"$f":"LOOKUP(B455,Data!$A$6:$A$1806,Data!C$6:C$1806)","v":0},null,null,19590,{"$f":"(IF((C455-L$2)>0,(IF(C455<'Copy Results'!$C$3,((C455-L$2-L$5)/((L$4*L$2)-L$5)*G455*-1),(('Copy Results'!$C$3-L$2-L$5)/((L$4*L$2)-L$5)*G455*-1))),IF(C455>'Copy Results'!$C$2,((C455-L$2+L$5)/((L$4*L$2)-L$5)*G455*-1),(('Copy Results'!$C$2-L$2+L$5)/((L$4*L$2)-L$5)*G455*-1))))","v":-6.376953125},-0.24283060352206332,null,null,0,-20.875280489587993,{"$f":"AVERAGE(D$79:D455)","v":0},{"$f":"AVERAGE(M$79:M455)","v":141.41072212761048},-18.644902043525651,{"$f":"AVERAGE(P$79:P455)","v":56.989997364377174},null,null,null,null,40679.34664351782,{"$f":"LOOKUP($V455,Data!$A$6:$A$1806,Data!$B$6:$B$1806)","v":60.0009765625},{"$f":"LOOKUP($V455,Data!$A$6:$A$1806,Data!$C$6:$C$1806)","v":0},{"$f":"LOOKUP($V455,Data!$A$6:$A$1806,Data!$D$6:$D$1806)","v":0},{"$f":"IF($Z$1=\"+\",LOOKUP($V455,Data!$A$6:$A$1806,Data!$E$6:$E$1806)*-1,LOOKUP($V455,Data!$A$6:$A$1806,Data!$E$6:$E$1806))","v":0},{"$f":"LOOKUP($V455,Data!$A$6:$A$1806,Data!$F$6:$F$1806)","v":0},null,{"$f":"LOOKUP($V455,Data!$A$6:$A$1806,Data!$H$6:$H$1806)","v":0},{"$f":"LOOKUP($V455,Data!$A$6:$A$1806,Data!$I$6:$I$1806)","v":0},{"$f":"IF(LOOKUP($V455,Data!$A$6:$A$1806,Data!$J$6:$J$1806)>0,(LOOKUP($V455,Data!$A$6:$A$1806,Data!$J$6:$J$1806)*-1),LOOKUP($V455,Data!$A$6:$A$1806,Data!$J$6:$J$1806))","v":-653},{"$f":"LOOKUP($V455,Data!$A$6:$A$1806,Data!$K$6:$K$1806)","v":30468.837890625},-6.376953125,null,null,null,null,null,null,null,null,null,null,null,null,null,null,null," ",9.765625E-4," "]
[null,40679.346666665966,{"$f":"LOOKUP(B456,Data!$A$6:$A$1806,Data!B$6:B$1806)","v":60.00225830078125},{"$f":"LOOKUP(B456,Data!$A$6:$A$1806,Data!C$6:C$1806)","v":0},null,null,19590,{"$f":"(IF((C456-L$2)>0,(IF(C456<'Copy Results'!$C$3,((C456-L$2-L$5)/((L$4*L$2)-L$5)*G456*-1),(('Copy Results'!$C$3-L$2-L$5)/((L$4*L$2)-L$5)*G456*-1))),IF(C456>'Copy Results'!$C$2,((C456-L$2+L$5)/((L$4*L$2)-L$5)*G456*-1),(('Copy Results'!$C$2-L$2+L$5)/((L$4*L$2)-L$5)*G456*-1))))","v":-14.7467041015625},-5.3191863278362161,null,null,0,-25.951636213902148,{"$f":"AVERAGE(D$79:D456)","v":0},{"$f":"AVERAGE(M$79:M456)","v":140.96796456586046},-18.644902043525651,{"$f":"AVERAGE(P$79:P456)","v":56.78937428902465},null,null,null,null,40679.346666665966,{"$f":"LOOKUP($V456,Data!$A$6:$A$1806,Data!$B$6:$B$1806)","v":60.00225830078125},{"$f":"LOOKUP($V456,Data!$A$6:$A$1806,Data!$C$6:$C$1806)","v":0},{"$f":"LOOKUP($V456,Data!$A$6:$A$1806,Data!$D$6:$D$1806)","v":0},{"$f":"IF($Z$1=\"+\",LOOKUP($V456,Data!$A$6:$A$1806,Data!$E$6:$E$1806)*-1,LOOKUP($V456,Data!$A$6:$A$1806,Data!$E$6:$E$1806))","v":0},{"$f":"LOOKUP($V456,Data!$A$6:$A$1806,Data!$F$6:$F$1806)","v":0},null,{"$f":"LOOKUP($V456,Data!$A$6:$A$1806,Data!$H$6:$H$1806)","v":0},{"$f":"LOOKUP($V456,Data!$A$6:$A$1806,Data!$I$6:$I$1806)","v":0},{"$f":"IF(LOOKUP($V456,Data!$A$6:$A$1806,Data!$J$6:$J$1806)>0,(LOOKUP($V456,Data!$A$6:$A$1806,Data!$J$6:$J$1806)*-1),LOOKUP($V456,Data!$A$6:$A$1806,Data!$J$6:$J$1806))","v":-653},{"$f":"LOOKUP($V456,Data!$A$6:$A$1806,Data!$K$6:$K$1806)","v":30468.837890625},-14.7467041015625,null,null,null,null,null,null,null,null,null,null,null,null,null,null,null," ",2.25830078125E-3," "]
[null,40679.346689814112,{"$f":"LOOKUP(B457,Data!$A$6:$A$1806,Data!B$6:B$1806)","v":60.002899169921875},{"$f":"LOOKUP(B457,Data!$A$6:$A$1806,Data!C$6:C$1806)","v":0},null,null,19590,{"$f":"(IF((C457-L$2)>0,(IF(C457<'Copy Results'!$C$3,((C457-L$2-L$5)/((L$4*L$2)-L$5)*G457*-1),(('Copy Results'!$C$3-L$2-L$5)/((L$4*L$2)-L$5)*G457*-1))),IF(C457>'Copy Results'!$C$2,((C457-L$2+L$5)/((L$4*L$2)-L$5)*G457*-1),(('Copy Results'!$C$2-L$2+L$5)/((L$4*L$2)-L$5)*G457*-1))))","v":-18.93157958984375},-10.083523969538852,null,null,0,-30.715973855604783,{"$f":"AVERAGE(D$79:D457)","v":0},{"$f":"AVERAGE(M$79:M457)","v":140.51497264390406},-18.644902043525651,{"$f":"AVERAGE(P$79:P457)","v":56.58981271142531},null,null,null,null,40679.346689814112,{"$f":"LOOKUP($V457,Data!$A$6:$A$1806,Data!$B$6:$B$1806)","v":60.002899169921875},{"$f":"LOOKUP($V457,Data!$A$6:$A$1806,Data!$C$6:$C$1806)","v":0},{"$f":"LOOKUP($V457,Data!$A$6:$A$1806,Data!$D$6:$D$1806)","v":0},{"$f":"IF($Z$1=\"+\",LOOKUP($V457,Data!$A$6:$A$1806,Data!$E$6:$E$1806)*-1,LOOKUP($V457,Data!$A$6:$A$1806,Data!$E$6:$E$1806))","v":0},{"$f":"LOOKUP($V457,Data!$A$6:$A$1806,Data!$F$6:$F$1806)","v":0},null,{"$f":"LOOKUP($V457,Data!$A$6:$A$1806,Data!$H$6:$H$1806)","v":0},{"$f":"LOOKUP($V457,Data!$A$6:$A$1806,Data!$I$6:$I$1806)","v":0},{"$f":"IF(LOOKUP($V457,Data!$A$6:$A$1806,Data!$J$6:$J$1806)>0,(LOOKUP($V457,Data!$A$6:$A$1806,Data!$J$6:$J$1806)*-1),LOOKUP($V457,Data!$A$6:$A$1806,Data!$J$6:$J$1806))","v":-653},{"$f":"LOOKUP($V457,Data!$A$6:$A$1806,Data!$K$6:$K$1806)","v":30468.837890625},-18.93157958984375,null,null,null,null,null,null,null,null,null,null,null,null,null,null,null," ",2.899169921875E-3," "]
[null,40679.346712962259,{"$f":"LOOKUP(B458,Data!$A$6:$A$1806,Data!B$6:B$1806)","v":60.002593994140625},{"$f":"LOOKUP(B458,Data!$A$6:$A$1806,Data!C$6:C$1806)","v":0},null,null,19590,{"$f":"(IF((C458-L$2)>0,(IF(C458<'Copy Results'!$C$3,((C458-L$2-L$5)/((L$4*L$2)-L$5)*G458*-1),(('Copy Results'!$C$3-L$2-L$5)/((L$4*L$2)-L$5)*G458*-1))),IF(C458>'Copy Results'!$C$2,((C458-L$2+L$5)/((L$4*L$2)-L$5)*G458*-1),(('Copy Results'!$C$2-L$2+L$5)/((L$4*L$2)-L$5)*G458*-1))))","v":-16.93878173828125},-12.482864188598692,null,null,0,-33.115314074664624,{"$f":"AVERAGE(D$79:D458)","v":0},{"$f":"AVERAGE(M$79:M458)","v":140.05805083674994},-18.644902043525651,{"$f":"AVERAGE(P$79:P458)","v":56.391304229222278},null,null,null,null,40679.346712962259,{"$f":"LOOKUP($V458,Data!$A$6:$A$1806,Data!$B$6:$B$1806)","v":60.002593994140625},{"$f":"LOOKUP($V458,Data!$A$6:$A$1806,Data!$C$6:$C$1806)","v":0},{"$f":"LOOKUP($V458,Data!$A$6:$A$1806,Data!$D$6:$D$1806)","v":0},{"$f":"IF($Z$1=\"+\",LOOKUP($V458,Data!$A$6:$A$1806,Data!$E$6:$E$1806)*-1,LOOKUP($V458,Data!$A$6:$A$1806,Data!$E$6:$E$1806))","v":0},{"$f":"LOOKUP($V458,Data!$A$6:$A$1806,Data!$F$6:$F$1806)","v":0},null,{"$f":"LOOKUP($V458,Data!$A$6:$A$1806,Data!$H$6:$H$1806)","v":0},{"$f":"LOOKUP($V458,Data!$A$6:$A$1806,Data!$I$6:$I$1806)","v":0},{"$f":"IF(LOOKUP($V458,Data!$A$6:$A$1806,Data!$J$6:$J$1806)>0,(LOOKUP($V458,Data!$A$6:$A$1806,Data!$J$6:$J$1806)*-1),LOOKUP($V458,Data!$A$6:$A$1806,Data!$J$6:$J$1806))","v":-653},{"$f":"LOOKUP($V458,Data!$A$6:$A$1806,Data!$K$6:$K$1806)","v":30469.626953125},-16.93878173828125,null,null,null,null,null,null,null,null,null,null,null,null,null,null,null," ",2.593994140625E-3," "]
[null,40679.346736110405,{"$f":"LOOKUP(B459,Data!$A$6:$A$1806,Data!B$6:B$1806)","v":60.00225830078125},{"$f":"LOOKUP(B459,Data!$A$6:$A$1806,Data!C$6:C$1806)","v":0},null,null,19590,{"$f":"(IF((C459-L$2)>0,(IF(C459<'Copy Results'!$C$3,((C459-L$2-L$5)/((L$4*L$2)-L$5)*G459*-1),(('Copy Results'!$C$3-L$2-L$5)/((L$4*L$2)-L$5)*G459*-1))),IF(C459>'Copy Results'!$C$2,((C459-L$2+L$5)/((L$4*L$2)-L$5)*G459*-1),(('Copy Results'!$C$2-L$2+L$5)/((L$4*L$2)-L$5)*G459*-1))))","v":-14.7467041015625},-13.275208158136024,null,null,0,-33.907658044201959,{"$f":"AVERAGE(D$79:D459)","v":0},{"$f":"AVERAGE(M$79:M459)","v":139.60144792630123},-18.644902043525651,{"$f":"AVERAGE(P$79:P459)","v":56.193840528504523},null,null,null,null,40679.346736110405,{"$f":"LOOKUP($V459,Data!$A$6:$A$1806,Data!$B$6:$B$1806)","v":60.00225830078125},{"$f":"LOOKUP($V459,Data!$A$6:$A$1806,Data!$C$6:$C$1806)","v":0},{"$f":"LOOKUP($V459,Data!$A$6:$A$1806,Data!$D$6:$D$1806)","v":0},{"$f":"IF($Z$1=\"+\",LOOKUP($V459,Data!$A$6:$A$1806,Data!$E$6:$E$1806)*-1,LOOKUP($V459,Data!$A$6:$A$1806,Data!$E$6:$E$1806))","v":0},{"$f":"LOOKUP($V459,Data!$A$6:$A$1806,Data!$F$6:$F$1806)","v":0},null,{"$f":"LOOKUP($V459,Data!$A$6:$A$1806,Data!$H$6:$H$1806)","v":0},{"$f":"LOOKUP($V459,Data!$A$6:$A$1806,Data!$I$6:$I$1806)","v":0},{"$f":"IF(LOOKUP($V459,Data!$A$6:$A$1806,Data!$J$6:$J$1806)>0,(LOOKUP($V459,Data!$A$6:$A$1806,Data!$J$6:$J$1806)*-1),LOOKUP($V459,Data!$A$6:$A$1806,Data!$J$6:$J$1806))","v":-653},{"$f":"LOOKUP($V459,Data!$A$6:$A$1806,Data!$K$6:$K$1806)","v":30469.626953125},-14.7467041015625,null,null,null,null,null,null,null,null,null,null,null,null,null,null,null," ",2.25830078125E-3," "]
[null,40679.346759258551,{"$f":"LOOKUP(B460,Data!$A$6:$A$1806,Data!B$6:B$1806)","v":60.00225830078125},{"$f":"LOOKUP(B460,Data!$A$6:$A$1806,Data!C$6:C$1806)","v":0},null,null,19590,{"$f":"(IF((C460-L$2)>0,(IF(C460<'Copy Results'!$C$3,((C460-L$2-L$5)/((L$4*L$2)-L$5)*G460*-1),(('Copy Results'!$C$3-L$2-L$5)/((L$4*L$2)-L$5)*G460*-1))),IF(C460>'Copy Results'!$C$2,((C460-L$2+L$5)/((L$4*L$2)-L$5)*G460*-1),(('Copy Results'!$C$2-L$2+L$5)/((L$4*L$2)-L$5)*G460*-1))))","v":-14.7467041015625},-13.790231738335292,null,null,0,-34.422681624401228,{"$f":"AVERAGE(D$79:D460)","v":0},{"$f":"AVERAGE(M$79:M460)","v":139.1458873777392},-18.644902043525651,{"$f":"AVERAGE(P$79:P460)","v":55.99741338264618},null,null,null,null,40679.346759258551,{"$f":"LOOKUP($V460,Data!$A$6:$A$1806,Data!$B$6:$B$1806)","v":60.00225830078125},{"$f":"LOOKUP($V460,Data!$A$6:$A$1806,Data!$C$6:$C$1806)","v":0},{"$f":"LOOKUP($V460,Data!$A$6:$A$1806,Data!$D$6:$D$1806)","v":0},{"$f":"IF($Z$1=\"+\",LOOKUP($V460,Data!$A$6:$A$1806,Data!$E$6:$E$1806)*-1,LOOKUP($V460,Data!$A$6:$A$1806,Data!$E$6:$E$1806))","v":0},{"$f":"LOOKUP($V460,Data!$A$6:$A$1806,Data!$F$6:$F$1806)","v":0},null,{"$f":"LOOKUP($V460,Data!$A$6:$A$1806,Data!$H$6:$H$1806)","v":0},{"$f":"LOOKUP($V460,Data!$A$6:$A$1806,Data!$I$6:$I$1806)","v":0},{"$f":"IF(LOOKUP($V460,Data!$A$6:$A$1806,Data!$J$6:$J$1806)>0,(LOOKUP($V460,Data!$A$6:$A$1806,Data!$J$6:$J$1806)*-1),LOOKUP($V460,Data!$A$6:$A$1806,Data!$J$6:$J$1806))","v":-653},{"$f":"LOOKUP($V460,Data!$A$6:$A$1806,Data!$K$6:$K$1806)","v":30469.626953125},-14.7467041015625,null,null,null,null,null,null,null,null,null,null,null,null,null,null,null," ",2.25830078125E-3," "]
[null,40679.346782406697,{"$f":"LOOKUP(B461,Data!$A$6:$A$1806,Data!B$6:B$1806)","v":60.00323486328125},{"$f":"LOOKUP(B461,Data!$A$6:$A$1806,Data!C$6:C$1806)","v":0},null,null,19590,{"$f":"(IF((C461-L$2)>0,(IF(C461<'Copy Results'!$C$3,((C461-L$2-L$5)/((L$4*L$2)-L$5)*G461*-1),(('Copy Results'!$C$3-L$2-L$5)/((L$4*L$2)-L$5)*G461*-1))),IF(C461>'Copy Results'!$C$2,((C461-L$2+L$5)/((L$4*L$2)-L$5)*G461*-1),(('Copy Results'!$C$2-L$2+L$5)/((L$4*L$2)-L$5)*G461*-1))))","v":-21.1236572265625},-16.356930659214814,null,null,0,-36.989380545280753,{"$f":"AVERAGE(D$79:D461)","v":0},{"$f":"AVERAGE(M$79:M461)","v":138.68600417167386},-18.644902043525651,{"$f":"AVERAGE(P$79:P461)","v":55.802014651164058},null,null,null,null,40679.346782406697,{"$f":"LOOKUP($V461,Data!$A$6:$A$1806,Data!$B$6:$B$1806)","v":60.00323486328125},{"$f":"LOOKUP($V461,Data!$A$6:$A$1806,Data!$C$6:$C$1806)","v":0},{"$f":"LOOKUP($V461,Data!$A$6:$A$1806,Data!$D$6:$D$1806)","v":0},{"$f":"IF($Z$1=\"+\",LOOKUP($V461,Data!$A$6:$A$1806,Data!$E$6:$E$1806)*-1,LOOKUP($V461,Data!$A$6:$A$1806,Data!$E$6:$E$1806))","v":0},{"$f":"LOOKUP($V461,Data!$A$6:$A$1806,Data!$F$6:$F$1806)","v":0},null,{"$f":"LOOKUP($V461,Data!$A$6:$A$1806,Data!$H$6:$H$1806)","v":0},{"$f":"LOOKUP($V461,Data!$A$6:$A$1806,Data!$I$6:$I$1806)","v":0},{"$f":"IF(LOOKUP($V461,Data!$A$6:$A$1806,Data!$J$6:$J$1806)>0,(LOOKUP($V461,Data!$A$6:$A$1806,Data!$J$6:$J$1806)*-1),LOOKUP($V461,Data!$A$6:$A$1806,Data!$J$6:$J$1806))","v":-653},{"$f":"LOOKUP($V461,Data!$A$6:$A$1806,Data!$K$6:$K$1806)","v":30469.626953125},-21.1236572265625,null,null,null,null,null,null,null,null,null,null,null,null,null,null,null," ",3.23486328125E-3," "]
[null,40679.346805554844,{"$f":"LOOKUP(B462,Data!$A$6:$A$1806,Data!B$6:B$1806)","v":60.00421142578125},{"$f":"LOOKUP(B462,Data!$A$6:$A$1806,Data!C$6:C$1806)","v":0},null,null,19590,{"$f":"(IF((C462-L$2)>0,(IF(C462<'Copy Results'!$C$3,((C462-L$2-L$5)/((L$4*L$2)-L$5)*G462*-1),(('Copy Results'!$C$3-L$2-L$5)/((L$4*L$2)-L$5)*G462*-1))),IF(C462>'Copy Results'!$C$2,((C462-L$2+L$5)/((L$4*L$2)-L$5)*G462*-1),(('Copy Results'!$C$2-L$2+L$5)/((L$4*L$2)-L$5)*G462*-1))))","v":-27.5006103515625},-20.257218551536504,null,null,0,-40.889668437602438,{"$f":"AVERAGE(D$79:D462)","v":0},{"$f":"AVERAGE(M$79:M462)","v":138.21835919092055},-18.644902043525651,{"$f":"AVERAGE(P$79:P462)","v":55.60763627859307},null,null,null,null,40679.346805554844,{"$f":"LOOKUP($V462,Data!$A$6:$A$1806,Data!$B$6:$B$1806)","v":60.00421142578125},{"$f":"LOOKUP($V462,Data!$A$6:$A$1806,Data!$C$6:$C$1806)","v":0},{"$f":"LOOKUP($V462,Data!$A$6:$A$1806,Data!$D$6:$D$1806)","v":0},{"$f":"IF($Z$1=\"+\",LOOKUP($V462,Data!$A$6:$A$1806,Data!$E$6:$E$1806)*-1,LOOKUP($V462,Data!$A$6:$A$1806,Data!$E$6:$E$1806))","v":0},{"$f":"LOOKUP($V462,Data!$A$6:$A$1806,Data!$F$6:$F$1806)","v":0},null,{"$f":"LOOKUP($V462,Data!$A$6:$A$1806,Data!$H$6:$H$1806)","v":0},{"$f":"LOOKUP($V462,Data!$A$6:$A$1806,Data!$I$6:$I$1806)","v":0},{"$f":"IF(LOOKUP($V462,Data!$A$6:$A$1806,Data!$J$6:$J$1806)>0,(LOOKUP($V462,Data!$A$6:$A$1806,Data!$J$6:$J$1806)*-1),LOOKUP($V462,Data!$A$6:$A$1806,Data!$J$6:$J$1806))","v":-653},{"$f":"LOOKUP($V462,Data!$A$6:$A$1806,Data!$K$6:$K$1806)","v":30488.4140625},-27.5006103515625,null,null,null,null,null,null,null,null,null,null,null,null,null,null,null," ",4.21142578125E-3," "]
[null,40679.34682870299,{"$f":"LOOKUP(B463,Data!$A$6:$A$1806,Data!B$6:B$1806)","v":60.004852294921875},{"$f":"LOOKUP(B463,Data!$A$6:$A$1806,Data!C$6:C$1806)","v":0},null,null,19590,{"$f":"(IF((C463-L$2)>0,(IF(C463<'Copy Results'!$C$3,((C463-L$2-L$5)/((L$4*L$2)-L$5)*G463*-1),(('Copy Results'!$C$3-L$2-L$5)/((L$4*L$2)-L$5)*G463*-1))),IF(C463>'Copy Results'!$C$2,((C463-L$2+L$5)/((L$4*L$2)-L$5)*G463*-1),(('Copy Results'!$C$2-L$2+L$5)/((L$4*L$2)-L$5)*G463*-1))))","v":-31.68548583984375},-24.25711210244404,null,null,0,-44.889561988509975,{"$f":"AVERAGE(D$79:D463)","v":0},{"$f":"AVERAGE(M$79:M463)","v":137.7427542008441},-18.644902043525651,{"$f":"AVERAGE(P$79:P463)","v":55.414270293379218},null,null,null,null,40679.34682870299,{"$f":"LOOKUP($V463,Data!$A$6:$A$1806,Data!$B$6:$B$1806)","v":60.004852294921875},{"$f":"LOOKUP($V463,Data!$A$6:$A$1806,Data!$C$6:$C$1806)","v":0},{"$f":"LOOKUP($V463,Data!$A$6:$A$1806,Data!$D$6:$D$1806)","v":0},{"$f":"IF($Z$1=\"+\",LOOKUP($V463,Data!$A$6:$A$1806,Data!$E$6:$E$1806)*-1,LOOKUP($V463,Data!$A$6:$A$1806,Data!$E$6:$E$1806))","v":0},{"$f":"LOOKUP($V463,Data!$A$6:$A$1806,Data!$F$6:$F$1806)","v":0},null,{"$f":"LOOKUP($V463,Data!$A$6:$A$1806,Data!$H$6:$H$1806)","v":0},{"$f":"LOOKUP($V463,Data!$A$6:$A$1806,Data!$I$6:$I$1806)","v":0},{"$f":"IF(LOOKUP($V463,Data!$A$6:$A$1806,Data!$J$6:$J$1806)>0,(LOOKUP($V463,Data!$A$6:$A$1806,Data!$J$6:$J$1806)*-1),LOOKUP($V463,Data!$A$6:$A$1806,Data!$J$6:$J$1806))","v":-653},{"$f":"LOOKUP($V463,Data!$A$6:$A$1806,Data!$K$6:$K$1806)","v":30488.4140625},-31.68548583984375,null,null,null,null,null,null,null,null,null,null,null,null,null,null,null," ",4.852294921875E-3," "]
[null,40679.346851851136,{"$f":"LOOKUP(B464,Data!$A$6:$A$1806,Data!B$6:B$1806)","v":60.0045166015625},{"$f":"LOOKUP(B464,Data!$A$6:$A$1806,Data!C$6:C$1806)","v":0},null,null,19590,{"$f":"(IF((C464-L$2)>0,(IF(C464<'Copy Results'!$C$3,((C464-L$2-L$5)/((L$4*L$2)-L$5)*G464*-1),(('Copy Results'!$C$3-L$2-L$5)/((L$4*L$2)-L$5)*G464*-1))),IF(C464>'Copy Results'!$C$2,((C464-L$2+L$5)/((L$4*L$2)-L$5)*G464*-1),(('Copy Results'!$C$2-L$2+L$5)/((L$4*L$2)-L$5)*G464*-1))))","v":-29.493408203125},-26.089815737682379,null,null,{"$f":"IF(B464>G$3,0,(K$21*0.000023148/K$22))","v":0},{"$f":"M463+L464+(I464-I463)","v":-46.722265623748314},{"$f":"AVERAGE(D$79:D464)","v":0},{"$f":"AVERAGE(M$79:M464)","v":137.2648655484488},-18.644902043525651,{"$f":"AVERAGE(P$79:P464)","v":55.221908806789855},null,null,null,null,40679.346851851136,{"$f":"LOOKUP($V464,Data!$A$6:$A$1806,Data!$B$6:$B$1806)","v":60.0045166015625},{"$f":"LOOKUP($V464,Data!$A$6:$A$1806,Data!$C$6:$C$1806)","v":0},{"$f":"LOOKUP($V464,Data!$A$6:$A$1806,Data!$D$6:$D$1806)","v":0},{"$f":"IF($Z$1=\"+\",LOOKUP($V464,Data!$A$6:$A$1806,Data!$E$6:$E$1806)*-1,LOOKUP($V464,Data!$A$6:$A$1806,Data!$E$6:$E$1806))","v":0},{"$f":"LOOKUP($V464,Data!$A$6:$A$1806,Data!$F$6:$F$1806)","v":0},null,{"$f":"LOOKUP($V464,Data!$A$6:$A$1806,Data!$H$6:$H$1806)","v":0},{"$f":"LOOKUP($V464,Data!$A$6:$A$1806,Data!$I$6:$I$1806)","v":0},{"$f":"IF(LOOKUP($V464,Data!$A$6:$A$1806,Data!$J$6:$J$1806)>0,(LOOKUP($V464,Data!$A$6:$A$1806,Data!$J$6:$J$1806)*-1),LOOKUP($V464,Data!$A$6:$A$1806,Data!$J$6:$J$1806))","v":-653},{"$f":"LOOKUP($V464,Data!$A$6:$A$1806,Data!$K$6:$K$1806)","v":30480.2890625},-29.493408203125,null,null,null,null,null,null,null,null,null,null,null,null,null,null,null," ",4.5166015625E-3," "]
[null,40679.346874999283,{"$f":"LOOKUP(B465,Data!$A$6:$A$1806,Data!B$6:B$1806)","v":60.0035400390625},{"$f":"LOOKUP(B465,Data!$A$6:$A$1806,Data!C$6:C$1806)","v":0},null,null,19590,{"$f":"(IF((C465-L$2)>0,(IF(C465<'Copy Results'!$C$3,((C465-L$2-L$5)/((L$4*L$2)-L$5)*G465*-1),(('Copy Results'!$C$3-L$2-L$5)/((L$4*L$2)-L$5)*G465*-1))),IF(C465>'Copy Results'!$C$2,((C465-L$2+L$5)/((L$4*L$2)-L$5)*G465*-1),(('Copy Results'!$C$2-L$2+L$5)/((L$4*L$2)-L$5)*G465*-1))))","v":-23.116455078125},-25.049139506837296,null,null,0,-45.681589392903234,{"$f":"AVERAGE(D$79:D465)","v":0},{"$f":"AVERAGE(M$79:M465)","v":136.79213569071919},-18.644902043525651,{"$f":"AVERAGE(P$79:P465)","v":55.030544011840853},null,null,null,null,{"$f":"V464+TIME(0,0,$B$1)","v":40679.346874999283},{"$f":"LOOKUP($V465,Data!$A$6:$A$1806,Data!$B$6:$B$1806)","v":60.0035400390625},{"$f":"LOOKUP($V465,Data!$A$6:$A$1806,Data!$C$6:$C$1806)","v":0},{"$f":"LOOKUP($V465,Data!$A$6:$A$1806,Data!$D$6:$D$1806)","v":0},{"$f":"IF($Z$1=\"+\",LOOKUP($V465,Data!$A$6:$A$1806,Data!$E$6:$E$1806)*-1,LOOKUP($V465,Data!$A$6:$A$1806,Data!$E$6:$E$1806))","v":0},{"$f":"LOOKUP($V465,Data!$A$6:$A$1806,Data!$F$6:$F$1806)","v":0},null,{"$f":"LOOKUP($V465,Data!$A$6:$A$1806,Data!$H$6:$H$1806)","v":0},{"$f":"LOOKUP($V465,Data!$A$6:$A$1806,Data!$I$6:$I$1806)","v":0},{"$f":"IF(LOOKUP($V465,Data!$A$6:$A$1806,Data!$J$6:$J$1806)>0,(LOOKUP($V465,Data!$A$6:$A$1806,Data!$J$6:$J$1806)*-1),LOOKUP($V465,Data!$A$6:$A$1806,Data!$J$6:$J$1806))","v":-653},{"$f":"LOOKUP($V465,Data!$A$6:$A$1806,Data!$K$6:$K$1806)","v":30480.2890625},-23.116455078125,null,null,null,null,null,null,null,null,null,null,null,null,null,null,null,{"$f":"IF(((D465-F$78)/((C465-E$78)*10))<0,\" \",((D465-F$78)/((C465-E$78)*10)))","v":" "},3.5400390625E-3," "]
[null,40679.346898147429,{"$f":"LOOKUP(B466,Data!$A$6:$A$1806,Data!B$6:B$1806)","v":60.0035400390625},{"$f":"LOOKUP(B466,Data!$A$6:$A$1806,Data!C$6:C$1806)","v":0},null,null,19590,{"$f":"(IF((C466-L$2)>0,(IF(C466<'Copy Results'!$C$3,((C466-L$2-L$5)/((L$4*L$2)-L$5)*G466*-1),(('Copy Results'!$C$3-L$2-L$5)/((L$4*L$2)-L$5)*G466*-1))),IF(C466>'Copy Results'!$C$2,((C466-L$2+L$5)/((L$4*L$2)-L$5)*G466*-1),(('Copy Results'!$C$2-L$2+L$5)/((L$4*L$2)-L$5)*G466*-1))))","v":-23.116455078125},-24.372699956787994,null,null,0,-45.005149842853932,{"$f":"AVERAGE(D$79:D466)","v":0},{"$f":"AVERAGE(M$79:M466)","v":136.32358598573578},{"$f":"P465+L466","v":-18.644902043525651},{"$f":"AVERAGE(P$79:P466)","v":54.840168182240426},null,null,null,null,40679.346898147429,{"$f":"LOOKUP($V466,Data!$A$6:$A$1806,Data!$B$6:$B$1806)","v":60.0035400390625},{"$f":"LOOKUP($V466,Data!$A$6:$A$1806,Data!$C$6:$C$1806)","v":0},{"$f":"LOOKUP($V466,Data!$A$6:$A$1806,Data!$D$6:$D$1806)","v":0},{"$f":"IF($Z$1=\"+\",LOOKUP($V466,Data!$A$6:$A$1806,Data!$E$6:$E$1806)*-1,LOOKUP($V466,Data!$A$6:$A$1806,Data!$E$6:$E$1806))","v":0},{"$f":"LOOKUP($V466,Data!$A$6:$A$1806,Data!$F$6:$F$1806)","v":0},null,{"$f":"LOOKUP($V466,Data!$A$6:$A$1806,Data!$H$6:$H$1806)","v":0},{"$f":"LOOKUP($V466,Data!$A$6:$A$1806,Data!$I$6:$I$1806)","v":0},{"$f":"IF(LOOKUP($V466,Data!$A$6:$A$1806,Data!$J$6:$J$1806)>0,(LOOKUP($V466,Data!$A$6:$A$1806,Data!$J$6:$J$1806)*-1),LOOKUP($V466,Data!$A$6:$A$1806,Data!$J$6:$J$1806))","v":-653},{"$f":"LOOKUP($V466,Data!$A$6:$A$1806,Data!$K$6:$K$1806)","v":30480.2890625},-23.116455078125,null,null,null,null,null,null,null,null,null,null,null,null,null,null,null," ",3.5400390625E-3," "]
[null,40679.346921295575,{"$f":"LOOKUP(B467,Data!$A$6:$A$1806,Data!B$6:B$1806)","v":60.0035400390625},{"$f":"LOOKUP(B467,Data!$A$6:$A$1806,Data!C$6:C$1806)","v":0},null,null,19590,{"$f":"(IF((C467-L$2)>0,(IF(C467<'Copy Results'!$C$3,((C467-L$2-L$5)/((L$4*L$2)-L$5)*G467*-1),(('Copy Results'!$C$3-L$2-L$5)/((L$4*L$2)-L$5)*G467*-1))),IF(C467>'Copy Results'!$C$2,((C467-L$2+L$5)/((L$4*L$2)-L$5)*G467*-1),(('Copy Results'!$C$2-L$2+L$5)/((L$4*L$2)-L$5)*G467*-1))))","v":-23.116455078125},-23.933014249255947,null,null,0,-44.565464135321889,{"$f":"AVERAGE(D$79:D467)","v":0},{"$f":"AVERAGE(M$79:M467)","v":135.8585755741135},-18.644902043525651,{"$f":"AVERAGE(P$79:P467)","v":54.650773671349278},null,null,null,null,40679.346921295575,{"$f":"LOOKUP($V467,Data!$A$6:$A$1806,Data!$B$6:$B$1806)","v":60.0035400390625},{"$f":"LOOKUP($V467,Data!$A$6:$A$1806,Data!$C$6:$C$1806)","v":0},{"$f":"LOOKUP($V467,Data!$A$6:$A$1806,Data!$D$6:$D$1806)","v":0},{"$f":"IF($Z$1=\"+\",LOOKUP($V467,Data!$A$6:$A$1806,Data!$E$6:$E$1806)*-1,LOOKUP($V467,Data!$A$6:$A$1806,Data!$E$6:$E$1806))","v":0},{"$f":"LOOKUP($V467,Data!$A$6:$A$1806,Data!$F$6:$F$1806)","v":0},null,{"$f":"LOOKUP($V467,Data!$A$6:$A$1806,Data!$H$6:$H$1806)","v":0},{"$f":"LOOKUP($V467,Data!$A$6:$A$1806,Data!$I$6:$I$1806)","v":0},{"$f":"IF(LOOKUP($V467,Data!$A$6:$A$1806,Data!$J$6:$J$1806)>0,(LOOKUP($V467,Data!$A$6:$A$1806,Data!$J$6:$J$1806)*-1),LOOKUP($V467,Data!$A$6:$A$1806,Data!$J$6:$J$1806))","v":-653},{"$f":"LOOKUP($V467,Data!$A$6:$A$1806,Data!$K$6:$K$1806)","v":30480.2890625},-23.116455078125,null,null,null,null,null,null,null,null,null,null,null,null,null,null,null," ",3.5400390625E-3," "]
[null,40679.346944443721,{"$f":"LOOKUP(B468,Data!$A$6:$A$1806,Data!B$6:B$1806)","v":60.0035400390625},{"$f":"LOOKUP(B468,Data!$A$6:$A$1806,Data!C$6:C$1806)","v":0},null,null,19590,{"$f":"(IF((C468-L$2)>0,(IF(C468<'Copy Results'!$C$3,((C468-L$2-L$5)/((L$4*L$2)-L$5)*G468*-1),(('Copy Results'!$C$3-L$2-L$5)/((L$4*L$2)-L$5)*G468*-1))),IF(C468>'Copy Results'!$C$2,((C468-L$2+L$5)/((L$4*L$2)-L$5)*G468*-1),(('Copy Results'!$C$2-L$2+L$5)/((L$4*L$2)-L$5)*G468*-1))))","v":-23.116455078125},-23.647218539360118,null,null,0,-44.27966842542606,{"$f":"AVERAGE(D$79:D468)","v":0},{"$f":"AVERAGE(M$79:M468)","v":135.39668264078134},-18.644902043525651,{"$f":"AVERAGE(P$79:P468)","v":54.462352911156799},null,null,null,null,40679.346944443721,{"$f":"LOOKUP($V468,Data!$A$6:$A$1806,Data!$B$6:$B$1806)","v":60.0035400390625},{"$f":"LOOKUP($V468,Data!$A$6:$A$1806,Data!$C$6:$C$1806)","v":0},{"$f":"LOOKUP($V468,Data!$A$6:$A$1806,Data!$D$6:$D$1806)","v":0},{"$f":"IF($Z$1=\"+\",LOOKUP($V468,Data!$A$6:$A$1806,Data!$E$6:$E$1806)*-1,LOOKUP($V468,Data!$A$6:$A$1806,Data!$E$6:$E$1806))","v":0},{"$f":"LOOKUP($V468,Data!$A$6:$A$1806,Data!$F$6:$F$1806)","v":0},null,{"$f":"LOOKUP($V468,Data!$A$6:$A$1806,Data!$H$6:$H$1806)","v":0},{"$f":"LOOKUP($V468,Data!$A$6:$A$1806,Data!$I$6:$I$1806)","v":0},{"$f":"IF(LOOKUP($V468,Data!$A$6:$A$1806,Data!$J$6:$J$1806)>0,(LOOKUP($V468,Data!$A$6:$A$1806,Data!$J$6:$J$1806)*-1),LOOKUP($V468,Data!$A$6:$A$1806,Data!$J$6:$J$1806))","v":-653},{"$f":"LOOKUP($V468,Data!$A$6:$A$1806,Data!$K$6:$K$1806)","v":30477.1328125},-23.116455078125,null,null,null,null,null,null,null,null,null,null,null,null,null,null,null," ",3.5400390625E-3," "]
[null,40679.346967591868,{"$f":"LOOKUP(B469,Data!$A$6:$A$1806,Data!B$6:B$1806)","v":60.0035400390625},{"$f":"LOOKUP(B469,Data!$A$6:$A$1806,Data!C$6:C$1806)","v":0},null,null,19590,{"$f":"(IF((C469-L$2)>0,(IF(C469<'Copy Results'!$C$3,((C469-L$2-L$5)/((L$4*L$2)-L$5)*G469*-1),(('Copy Results'!$C$3-L$2-L$5)/((L$4*L$2)-L$5)*G469*-1))),IF(C469>'Copy Results'!$C$2,((C469-L$2+L$5)/((L$4*L$2)-L$5)*G469*-1),(('Copy Results'!$C$2-L$2+L$5)/((L$4*L$2)-L$5)*G469*-1))))","v":-23.116455078125},-23.461451327927826,null,null,0,-44.093901213993767,{"$f":"AVERAGE(D$79:D469)","v":0},{"$f":"AVERAGE(M$79:M469)","v":134.93762743910673},-18.644902043525651,{"$f":"AVERAGE(P$79:P469)","v":54.274898411273},null,null,null,null,40679.346967591868,{"$f":"LOOKUP($V469,Data!$A$6:$A$1806,Data!$B$6:$B$1806)","v":60.0035400390625},{"$f":"LOOKUP($V469,Data!$A$6:$A$1806,Data!$C$6:$C$1806)","v":0},{"$f":"LOOKUP($V469,Data!$A$6:$A$1806,Data!$D$6:$D$1806)","v":0},{"$f":"IF($Z$1=\"+\",LOOKUP($V469,Data!$A$6:$A$1806,Data!$E$6:$E$1806)*-1,LOOKUP($V469,Data!$A$6:$A$1806,Data!$E$6:$E$1806))","v":0},{"$f":"LOOKUP($V469,Data!$A$6:$A$1806,Data!$F$6:$F$1806)","v":0},null,{"$f":"LOOKUP($V469,Data!$A$6:$A$1806,Data!$H$6:$H$1806)","v":0},{"$f":"LOOKUP($V469,Data!$A$6:$A$1806,Data!$I$6:$I$1806)","v":0},{"$f":"IF(LOOKUP($V469,Data!$A$6:$A$1806,Data!$J$6:$J$1806)>0,(LOOKUP($V469,Data!$A$6:$A$1806,Data!$J$6:$J$1806)*-1),LOOKUP($V469,Data!$A$6:$A$1806,Data!$J$6:$J$1806))","v":-653},{"$f":"LOOKUP($V469,Data!$A$6:$A$1806,Data!$K$6:$K$1806)","v":30477.1328125},-23.116455078125,null,null,null,null,null,null,null,null,null,null,null,null,null,null,null," ",3.5400390625E-3," "]
[null,40679.346990740014,{"$f":"LOOKUP(B470,Data!$A$6:$A$1806,Data!B$6:B$1806)","v":60.0035400390625},{"$f":"LOOKUP(B470,Data!$A$6:$A$1806,Data!C$6:C$1806)","v":0},null,null,19590,{"$f":"(IF((C470-L$2)>0,(IF(C470<'Copy Results'!$C$3,((C470-L$2-L$5)/((L$4*L$2)-L$5)*G470*-1),(('Copy Results'!$C$3-L$2-L$5)/((L$4*L$2)-L$5)*G470*-1))),IF(C470>'Copy Results'!$C$2,((C470-L$2+L$5)/((L$4*L$2)-L$5)*G470*-1),(('Copy Results'!$C$2-L$2+L$5)/((L$4*L$2)-L$5)*G470*-1))))","v":-23.116455078125},-23.340702640496836,null,null,0,-43.973152526562778,{"$f":"AVERAGE(D$79:D470)","v":0},{"$f":"AVERAGE(M$79:M470)","v":134.4812223881739},-18.644902043525651,{"$f":"AVERAGE(P$79:P470)","v":54.088402757935924},null,null,null,null,40679.346990740014,{"$f":"LOOKUP($V470,Data!$A$6:$A$1806,Data!$B$6:$B$1806)","v":60.0035400390625},{"$f":"LOOKUP($V470,Data!$A$6:$A$1806,Data!$C$6:$C$1806)","v":0},{"$f":"LOOKUP($V470,Data!$A$6:$A$1806,Data!$D$6:$D$1806)","v":0},{"$f":"IF($Z$1=\"+\",LOOKUP($V470,Data!$A$6:$A$1806,Data!$E$6:$E$1806)*-1,LOOKUP($V470,Data!$A$6:$A$1806,Data!$E$6:$E$1806))","v":0},{"$f":"LOOKUP($V470,Data!$A$6:$A$1806,Data!$F$6:$F$1806)","v":0},null,{"$f":"LOOKUP($V470,Data!$A$6:$A$1806,Data!$H$6:$H$1806)","v":0},{"$f":"LOOKUP($V470,Data!$A$6:$A$1806,Data!$I$6:$I$1806)","v":0},{"$f":"IF(LOOKUP($V470,Data!$A$6:$A$1806,Data!$J$6:$J$1806)>0,(LOOKUP($V470,Data!$A$6:$A$1806,Data!$J$6:$J$1806)*-1),LOOKUP($V470,Data!$A$6:$A$1806,Data!$J$6:$J$1806))","v":-653},{"$f":"LOOKUP($V470,Data!$A$6:$A$1806,Data!$K$6:$K$1806)","v":30477.1328125},-23.116455078125,null,null,null,null,null,null,null,null,null,null,null,null,null,null,null," ",3.5400390625E-3," "]
[null,40679.34701388816,{"$f":"LOOKUP(B471,Data!$A$6:$A$1806,Data!B$6:B$1806)","v":60.0035400390625},{"$f":"LOOKUP(B471,Data!$A$6:$A$1806,Data!C$6:C$1806)","v":0},null,null,19590,{"$f":"(IF((C471-L$2)>0,(IF(C471<'Copy Results'!$C$3,((C471-L$2-L$5)/((L$4*L$2)-L$5)*G471*-1),(('Copy Results'!$C$3-L$2-L$5)/((L$4*L$2)-L$5)*G471*-1))),IF(C471>'Copy Results'!$C$2,((C471-L$2+L$5)/((L$4*L$2)-L$5)*G471*-1),(('Copy Results'!$C$2-L$2+L$5)/((L$4*L$2)-L$5)*G471*-1))))","v":-23.116455078125},-23.262215993666693,null,null,0,-43.894665879732635,{"$f":"AVERAGE(D$79:D471)","v":0},{"$f":"AVERAGE(M$79:M471)","v":134.02733972082552},-18.644902043525651,{"$f":"AVERAGE(P$79:P471)","v":53.90285861303424},null,null,null,null,40679.34701388816,{"$f":"LOOKUP($V471,Data!$A$6:$A$1806,Data!$B$6:$B$1806)","v":60.0035400390625},{"$f":"LOOKUP($V471,Data!$A$6:$A$1806,Data!$C$6:$C$1806)","v":0},{"$f":"LOOKUP($V471,Data!$A$6:$A$1806,Data!$D$6:$D$1806)","v":0},{"$f":"IF($Z$1=\"+\",LOOKUP($V471,Data!$A$6:$A$1806,Data!$E$6:$E$1806)*-1,LOOKUP($V471,Data!$A$6:$A$1806,Data!$E$6:$E$1806))","v":0},{"$f":"LOOKUP($V471,Data!$A$6:$A$1806,Data!$F$6:$F$1806)","v":0},null,{"$f":"LOOKUP($V471,Data!$A$6:$A$1806,Data!$H$6:$H$1806)","v":0},{"$f":"LOOKUP($V471,Data!$A$6:$A$1806,Data!$I$6:$I$1806)","v":0},{"$f":"IF(LOOKUP($V471,Data!$A$6:$A$1806,Data!$J$6:$J$1806)>0,(LOOKUP($V471,Data!$A$6:$A$1806,Data!$J$6:$J$1806)*-1),LOOKUP($V471,Data!$A$6:$A$1806,Data!$J$6:$J$1806))","v":-653},{"$f":"LOOKUP($V471,Data!$A$6:$A$1806,Data!$K$6:$K$1806)","v":30477.1328125},-23.116455078125,null,null,null,null,null,null,null,null,null,null,null,null,null,null,null," ",3.5400390625E-3," "]
[null,40679.347037036307,{"$f":"LOOKUP(B472,Data!$A$6:$A$1806,Data!B$6:B$1806)","v":60.006134033203125},{"$f":"LOOKUP(B472,Data!$A$6:$A$1806,Data!C$6:C$1806)","v":0},null,null,19590,{"$f":"(IF((C472-L$2)>0,(IF(C472<'Copy Results'!$C$3,((C472-L$2-L$5)/((L$4*L$2)-L$5)*G472*-1),(('Copy Results'!$C$3-L$2-L$5)/((L$4*L$2)-L$5)*G472*-1))),IF(C472>'Copy Results'!$C$2,((C472-L$2+L$5)/((L$4*L$2)-L$5)*G472*-1),(('Copy Results'!$C$2-L$2+L$5)/((L$4*L$2)-L$5)*G472*-1))))","v":-40.05523681640625},-29.139773281625537,null,null,0,-49.772223167691479,{"$f":"AVERAGE(D$79:D472)","v":0},{"$f":"AVERAGE(M$79:M472)","v":133.56084336831663},-18.644902043525651,{"$f":"AVERAGE(P$79:P472)","v":53.718258713144778},null,null,null,null,40679.347037036307,{"$f":"LOOKUP($V472,Data!$A$6:$A$1806,Data!$B$6:$B$1806)","v":60.006134033203125},{"$f":"LOOKUP($V472,Data!$A$6:$A$1806,Data!$C$6:$C$1806)","v":0},{"$f":"LOOKUP($V472,Data!$A$6:$A$1806,Data!$D$6:$D$1806)","v":0},{"$f":"IF($Z$1=\"+\",LOOKUP($V472,Data!$A$6:$A$1806,Data!$E$6:$E$1806)*-1,LOOKUP($V472,Data!$A$6:$A$1806,Data!$E$6:$E$1806))","v":0},{"$f":"LOOKUP($V472,Data!$A$6:$A$1806,Data!$F$6:$F$1806)","v":0},null,{"$f":"LOOKUP($V472,Data!$A$6:$A$1806,Data!$H$6:$H$1806)","v":0},{"$f":"LOOKUP($V472,Data!$A$6:$A$1806,Data!$I$6:$I$1806)","v":0},{"$f":"IF(LOOKUP($V472,Data!$A$6:$A$1806,Data!$J$6:$J$1806)>0,(LOOKUP($V472,Data!$A$6:$A$1806,Data!$J$6:$J$1806)*-1),LOOKUP($V472,Data!$A$6:$A$1806,Data!$J$6:$J$1806))","v":-653},{"$f":"LOOKUP($V472,Data!$A$6:$A$1806,Data!$K$6:$K$1806)","v":30487.8203125},-40.05523681640625,null,null,null,null,null,null,null,null,null,null,null,null,null,null,null," ",6.134033203125E-3," "]
[null,40679.347060184453,{"$f":"LOOKUP(B473,Data!$A$6:$A$1806,Data!B$6:B$1806)","v":60.004852294921875},{"$f":"LOOKUP(B473,Data!$A$6:$A$1806,Data!C$6:C$1806)","v":0},null,null,19590,{"$f":"(IF((C473-L$2)>0,(IF(C473<'Copy Results'!$C$3,((C473-L$2-L$5)/((L$4*L$2)-L$5)*G473*-1),(('Copy Results'!$C$3-L$2-L$5)/((L$4*L$2)-L$5)*G473*-1))),IF(C473>'Copy Results'!$C$2,((C473-L$2+L$5)/((L$4*L$2)-L$5)*G473*-1),(('Copy Results'!$C$2-L$2+L$5)/((L$4*L$2)-L$5)*G473*-1))))","v":-31.68548583984375},-30.030772677001913,null,null,0,-50.663222563067855,{"$f":"AVERAGE(D$79:D473)","v":0},{"$f":"AVERAGE(M$79:M473)","v":133.09445332798398},-18.644902043525651,{"$f":"AVERAGE(P$79:P473)","v":53.534595868584702},null,null,null,null,40679.347060184453,{"$f":"LOOKUP($V473,Data!$A$6:$A$1806,Data!$B$6:$B$1806)","v":60.004852294921875},{"$f":"LOOKUP($V473,Data!$A$6:$A$1806,Data!$C$6:$C$1806)","v":0},{"$f":"LOOKUP($V473,Data!$A$6:$A$1806,Data!$D$6:$D$1806)","v":0},{"$f":"IF($Z$1=\"+\",LOOKUP($V473,Data!$A$6:$A$1806,Data!$E$6:$E$1806)*-1,LOOKUP($V473,Data!$A$6:$A$1806,Data!$E$6:$E$1806))","v":0},{"$f":"LOOKUP($V473,Data!$A$6:$A$1806,Data!$F$6:$F$1806)","v":0},null,{"$f":"LOOKUP($V473,Data!$A$6:$A$1806,Data!$H$6:$H$1806)","v":0},{"$f":"LOOKUP($V473,Data!$A$6:$A$1806,Data!$I$6:$I$1806)","v":0},{"$f":"IF(LOOKUP($V473,Data!$A$6:$A$1806,Data!$J$6:$J$1806)>0,(LOOKUP($V473,Data!$A$6:$A$1806,Data!$J$6:$J$1806)*-1),LOOKUP($V473,Data!$A$6:$A$1806,Data!$J$6:$J$1806))","v":-653},{"$f":"LOOKUP($V473,Data!$A$6:$A$1806,Data!$K$6:$K$1806)","v":30487.8203125},-31.68548583984375,null,null,null,null,null,null,null,null,null,null,null,null,null,null,null," ",4.852294921875E-3," "]
[null,40679.347083332599,{"$f":"LOOKUP(B474,Data!$A$6:$A$1806,Data!B$6:B$1806)","v":60.0045166015625},{"$f":"LOOKUP(B474,Data!$A$6:$A$1806,Data!C$6:C$1806)","v":0},null,null,19590,{"$f":"(IF((C474-L$2)>0,(IF(C474<'Copy Results'!$C$3,((C474-L$2-L$5)/((L$4*L$2)-L$5)*G474*-1),(('Copy Results'!$C$3-L$2-L$5)/((L$4*L$2)-L$5)*G474*-1))),IF(C474>'Copy Results'!$C$2,((C474-L$2+L$5)/((L$4*L$2)-L$5)*G474*-1),(('Copy Results'!$C$2-L$2+L$5)/((L$4*L$2)-L$5)*G474*-1))))","v":-29.493408203125},-29.842695111144995,null,null,0,-50.475144997210933,{"$f":"AVERAGE(D$79:D474)","v":0},{"$f":"AVERAGE(M$79:M474)","v":132.63089373625371},-18.644902043525651,{"$f":"AVERAGE(P$79:P474)","v":53.351862962478094},null,null,null,null,40679.347083332599,{"$f":"LOOKUP($V474,Data!$A$6:$A$1806,Data!$B$6:$B$1806)","v":60.0045166015625},{"$f":"LOOKUP($V474,Data!$A$6:$A$1806,Data!$C$6:$C$1806)","v":0},{"$f":"LOOKUP($V474,Data!$A$6:$A$1806,Data!$D$6:$D$1806)","v":0},{"$f":"IF($Z$1=\"+\",LOOKUP($V474,Data!$A$6:$A$1806,Data!$E$6:$E$1806)*-1,LOOKUP($V474,Data!$A$6:$A$1806,Data!$E$6:$E$1806))","v":0},{"$f":"LOOKUP($V474,Data!$A$6:$A$1806,Data!$F$6:$F$1806)","v":0},null,{"$f":"LOOKUP($V474,Data!$A$6:$A$1806,Data!$H$6:$H$1806)","v":0},{"$f":"LOOKUP($V474,Data!$A$6:$A$1806,Data!$I$6:$I$1806)","v":0},{"$f":"IF(LOOKUP($V474,Data!$A$6:$A$1806,Data!$J$6:$J$1806)>0,(LOOKUP($V474,Data!$A$6:$A$1806,Data!$J$6:$J$1806)*-1),LOOKUP($V474,Data!$A$6:$A$1806,Data!$J$6:$J$1806))","v":-653},{"$f":"LOOKUP($V474,Data!$A$6:$A$1806,Data!$K$6:$K$1806)","v":30489.7265625},-29.493408203125,null,null,null,null,null,null,null,null,null,null,null,null,null,null,null," ",4.5166015625E-3," "]
[null,40679.347106480745,{"$f":"LOOKUP(B475,Data!$A$6:$A$1806,Data!B$6:B$1806)","v":60.0045166015625},{"$f":"LOOKUP(B475,Data!$A$6:$A$1806,Data!C$6:C$1806)","v":0},null,null,19590,{"$f":"(IF((C475-L$2)>0,(IF(C475<'Copy Results'!$C$3,((C475-L$2-L$5)/((L$4*L$2)-L$5)*G475*-1),(('Copy Results'!$C$3-L$2-L$5)/((L$4*L$2)-L$5)*G475*-1))),IF(C475>'Copy Results'!$C$2,((C475-L$2+L$5)/((L$4*L$2)-L$5)*G475*-1),(('Copy Results'!$C$2-L$2+L$5)/((L$4*L$2)-L$5)*G475*-1))))","v":-29.493408203125},-29.720444693337996,null,null,0,-50.352894579403937,{"$f":"AVERAGE(D$79:D475)","v":0},{"$f":"AVERAGE(M$79:M475)","v":132.16997739288934},-18.644902043525651,{"$f":"AVERAGE(P$79:P475)","v":53.170052949836673},null,null,null,null,40679.347106480745,{"$f":"LOOKUP($V475,Data!$A$6:$A$1806,Data!$B$6:$B$1806)","v":60.0045166015625},{"$f":"LOOKUP($V475,Data!$A$6:$A$1806,Data!$C$6:$C$1806)","v":0},{"$f":"LOOKUP($V475,Data!$A$6:$A$1806,Data!$D$6:$D$1806)","v":0},{"$f":"IF($Z$1=\"+\",LOOKUP($V475,Data!$A$6:$A$1806,Data!$E$6:$E$1806)*-1,LOOKUP($V475,Data!$A$6:$A$1806,Data!$E$6:$E$1806))","v":0},{"$f":"LOOKUP($V475,Data!$A$6:$A$1806,Data!$F$6:$F$1806)","v":0},null,{"$f":"LOOKUP($V475,Data!$A$6:$A$1806,Data!$H$6:$H$1806)","v":0},{"$f":"LOOKUP($V475,Data!$A$6:$A$1806,Data!$I$6:$I$1806)","v":0},{"$f":"IF(LOOKUP($V475,Data!$A$6:$A$1806,Data!$J$6:$J$1806)>0,(LOOKUP($V475,Data!$A$6:$A$1806,Data!$J$6:$J$1806)*-1),LOOKUP($V475,Data!$A$6:$A$1806,Data!$J$6:$J$1806))","v":-653},{"$f":"LOOKUP($V475,Data!$A$6:$A$1806,Data!$K$6:$K$1806)","v":30489.7265625},-29.493408203125,null,null,null,null,null,null,null,null,null,null,null,null,null,null,null," ",4.5166015625E-3," "]
[null,40679.347129628892,{"$f":"LOOKUP(B476,Data!$A$6:$A$1806,Data!B$6:B$1806)","v":60.0035400390625},{"$f":"LOOKUP(B476,Data!$A$6:$A$1806,Data!C$6:C$1806)","v":0},null,null,19590,{"$f":"(IF((C476-L$2)>0,(IF(C476<'Copy Results'!$C$3,((C476-L$2-L$5)/((L$4*L$2)-L$5)*G476*-1),(('Copy Results'!$C$3-L$2-L$5)/((L$4*L$2)-L$5)*G476*-1))),IF(C476>'Copy Results'!$C$2,((C476-L$2+L$5)/((L$4*L$2)-L$5)*G476*-1),(('Copy Results'!$C$2-L$2+L$5)/((L$4*L$2)-L$5)*G476*-1))))","v":-23.116455078125},-27.409048328013448,null,null,0,-48.04149821407939,{"$f":"AVERAGE(D$79:D476)","v":0},{"$f":"AVERAGE(M$79:M476)","v":131.71718474061052},-18.644902043525651,{"$f":"AVERAGE(P$79:P476)","v":52.989158856654399},null,null,null,null,40679.347129628892,{"$f":"LOOKUP($V476,Data!$A$6:$A$1806,Data!$B$6:$B$1806)","v":60.0035400390625},{"$f":"LOOKUP($V476,Data!$A$6:$A$1806,Data!$C$6:$C$1806)","v":0},{"$f":"LOOKUP($V476,Data!$A$6:$A$1806,Data!$D$6:$D$1806)","v":0},{"$f":"IF($Z$1=\"+\",LOOKUP($V476,Data!$A$6:$A$1806,Data!$E$6:$E$1806)*-1,LOOKUP($V476,Data!$A$6:$A$1806,Data!$E$6:$E$1806))","v":0},{"$f":"LOOKUP($V476,Data!$A$6:$A$1806,Data!$F$6:$F$1806)","v":0},null,{"$f":"LOOKUP($V476,Data!$A$6:$A$1806,Data!$H$6:$H$1806)","v":0},{"$f":"LOOKUP($V476,Data!$A$6:$A$1806,Data!$I$6:$I$1806)","v":0},{"$f":"IF(LOOKUP($V476,Data!$A$6:$A$1806,Data!$J$6:$J$1806)>0,(LOOKUP($V476,Data!$A$6:$A$1806,Data!$J$6:$J$1806)*-1),LOOKUP($V476,Data!$A$6:$A$1806,Data!$J$6:$J$1806))","v":-653},{"$f":"LOOKUP($V476,Data!$A$6:$A$1806,Data!$K$6:$K$1806)","v":30489.7265625},-23.116455078125,null,null,null,null,null,null,null,null,null,null,null,null,null,null,null," ",3.5400390625E-3," "]
[null,40679.347152777038,{"$f":"LOOKUP(B477,Data!$A$6:$A$1806,Data!B$6:B$1806)","v":60.002899169921875},{"$f":"LOOKUP(B477,Data!$A$6:$A$1806,Data!C$6:C$1806)","v":0},null,null,19590,{"$f":"(IF((C477-L$2)>0,(IF(C477<'Copy Results'!$C$3,((C477-L$2-L$5)/((L$4*L$2)-L$5)*G477*-1),(('Copy Results'!$C$3-L$2-L$5)/((L$4*L$2)-L$5)*G477*-1))),IF(C477>'Copy Results'!$C$2,((C477-L$2+L$5)/((L$4*L$2)-L$5)*G477*-1),(('Copy Results'!$C$2-L$2+L$5)/((L$4*L$2)-L$5)*G477*-1))))","v":-18.93157958984375},-24.441934269654055,null,null,0,-45.074384155719997,{"$f":"AVERAGE(D$79:D477)","v":0},{"$f":"AVERAGE(M$79:M477)","v":131.27409810177261},-18.644902043525651,{"$f":"AVERAGE(P$79:P477)","v":52.809173779015758},null,null,null,null,40679.347152777038,{"$f":"LOOKUP($V477,Data!$A$6:$A$1806,Data!$B$6:$B$1806)","v":60.002899169921875},{"$f":"LOOKUP($V477,Data!$A$6:$A$1806,Data!$C$6:$C$1806)","v":0},{"$f":"LOOKUP($V477,Data!$A$6:$A$1806,Data!$D$6:$D$1806)","v":0},{"$f":"IF($Z$1=\"+\",LOOKUP($V477,Data!$A$6:$A$1806,Data!$E$6:$E$1806)*-1,LOOKUP($V477,Data!$A$6:$A$1806,Data!$E$6:$E$1806))","v":0},{"$f":"LOOKUP($V477,Data!$A$6:$A$1806,Data!$F$6:$F$1806)","v":0},null,{"$f":"LOOKUP($V477,Data!$A$6:$A$1806,Data!$H$6:$H$1806)","v":0},{"$f":"LOOKUP($V477,Data!$A$6:$A$1806,Data!$I$6:$I$1806)","v":0},{"$f":"IF(LOOKUP($V477,Data!$A$6:$A$1806,Data!$J$6:$J$1806)>0,(LOOKUP($V477,Data!$A$6:$A$1806,Data!$J$6:$J$1806)*-1),LOOKUP($V477,Data!$A$6:$A$1806,Data!$J$6:$J$1806))","v":-653},{"$f":"LOOKUP($V477,Data!$A$6:$A$1806,Data!$K$6:$K$1806)","v":30489.7265625},-18.93157958984375,null,null,null,null,null,null,null,null,null,null,null,null,null,null,null," ",2.899169921875E-3," "]
[null,40679.347175925184,{"$f":"LOOKUP(B478,Data!$A$6:$A$1806,Data!B$6:B$1806)","v":60.001617431640625},{"$f":"LOOKUP(B478,Data!$A$6:$A$1806,Data!C$6:C$1806)","v":0},null,null,19590,{"$f":"(IF((C478-L$2)>0,(IF(C478<'Copy Results'!$C$3,((C478-L$2-L$5)/((L$4*L$2)-L$5)*G478*-1),(('Copy Results'!$C$3-L$2-L$5)/((L$4*L$2)-L$5)*G478*-1))),IF(C478>'Copy Results'!$C$2,((C478-L$2+L$5)/((L$4*L$2)-L$5)*G478*-1),(('Copy Results'!$C$2-L$2+L$5)/((L$4*L$2)-L$5)*G478*-1))))","v":-10.56182861328125},-19.583897289923573,null,null,0,-40.216347175989512,{"$f":"AVERAGE(D$79:D478)","v":0},{"$f":"AVERAGE(M$79:M478)","v":130.84537198857819},-18.644902043525651,{"$f":"AVERAGE(P$79:P478)","v":52.630090882217416},null,null,null,null,40679.347175925184,{"$f":"LOOKUP($V478,Data!$A$6:$A$1806,Data!$B$6:$B$1806)","v":60.001617431640625},{"$f":"LOOKUP($V478,Data!$A$6:$A$1806,Data!$C$6:$C$1806)","v":0},{"$f":"LOOKUP($V478,Data!$A$6:$A$1806,Data!$D$6:$D$1806)","v":0},{"$f":"IF($Z$1=\"+\",LOOKUP($V478,Data!$A$6:$A$1806,Data!$E$6:$E$1806)*-1,LOOKUP($V478,Data!$A$6:$A$1806,Data!$E$6:$E$1806))","v":0},{"$f":"LOOKUP($V478,Data!$A$6:$A$1806,Data!$F$6:$F$1806)","v":0},null,{"$f":"LOOKUP($V478,Data!$A$6:$A$1806,Data!$H$6:$H$1806)","v":0},{"$f":"LOOKUP($V478,Data!$A$6:$A$1806,Data!$I$6:$I$1806)","v":0},{"$f":"IF(LOOKUP($V478,Data!$A$6:$A$1806,Data!$J$6:$J$1806)>0,(LOOKUP($V478,Data!$A$6:$A$1806,Data!$J$6:$J$1806)*-1),LOOKUP($V478,Data!$A$6:$A$1806,Data!$J$6:$J$1806))","v":-653},{"$f":"LOOKUP($V478,Data!$A$6:$A$1806,Data!$K$6:$K$1806)","v":30480.091796875},-10.56182861328125,null,null,null,null,null,null,null,null,null,null,null,null,null,null,null," ",1.617431640625E-3," "]
[null,40679.347199073331,{"$f":"LOOKUP(B479,Data!$A$6:$A$1806,Data!B$6:B$1806)","v":60.001617431640625},{"$f":"LOOKUP(B479,Data!$A$6:$A$1806,Data!C$6:C$1806)","v":0},null,null,19590,{"$f":"(IF((C479-L$2)>0,(IF(C479<'Copy Results'!$C$3,((C479-L$2-L$5)/((L$4*L$2)-L$5)*G479*-1),(('Copy Results'!$C$3-L$2-L$5)/((L$4*L$2)-L$5)*G479*-1))),IF(C479>'Copy Results'!$C$2,((C479-L$2+L$5)/((L$4*L$2)-L$5)*G479*-1),(('Copy Results'!$C$2-L$2+L$5)/((L$4*L$2)-L$5)*G479*-1))))","v":-10.56182861328125},-16.42617325309876,null,null,0,-37.058623139164695,{"$f":"AVERAGE(D$79:D479)","v":0},{"$f":"AVERAGE(M$79:M479)","v":130.42665878377085},-18.644902043525651,{"$f":"AVERAGE(P$79:P479)","v":52.45190339990306},null,null,null,null,40679.347199073331,{"$f":"LOOKUP($V479,Data!$A$6:$A$1806,Data!$B$6:$B$1806)","v":60.001617431640625},{"$f":"LOOKUP($V479,Data!$A$6:$A$1806,Data!$C$6:$C$1806)","v":0},{"$f":"LOOKUP($V479,Data!$A$6:$A$1806,Data!$D$6:$D$1806)","v":0},{"$f":"IF($Z$1=\"+\",LOOKUP($V479,Data!$A$6:$A$1806,Data!$E$6:$E$1806)*-1,LOOKUP($V479,Data!$A$6:$A$1806,Data!$E$6:$E$1806))","v":0},{"$f":"LOOKUP($V479,Data!$A$6:$A$1806,Data!$F$6:$F$1806)","v":0},null,{"$f":"LOOKUP($V479,Data!$A$6:$A$1806,Data!$H$6:$H$1806)","v":0},{"$f":"LOOKUP($V479,Data!$A$6:$A$1806,Data!$I$6:$I$1806)","v":0},{"$f":"IF(LOOKUP($V479,Data!$A$6:$A$1806,Data!$J$6:$J$1806)>0,(LOOKUP($V479,Data!$A$6:$A$1806,Data!$J$6:$J$1806)*-1),LOOKUP($V479,Data!$A$6:$A$1806,Data!$J$6:$J$1806))","v":-653},{"$f":"LOOKUP($V479,Data!$A$6:$A$1806,Data!$K$6:$K$1806)","v":30480.091796875},-10.56182861328125,null,null,null,null,null,null,null,null,null,null,null,null,null,null,null," ",1.617431640625E-3," "]
[null,40679.347222221477,{"$f":"LOOKUP(B480,Data!$A$6:$A$1806,Data!B$6:B$1806)","v":60.00421142578125},{"$f":"LOOKUP(B480,Data!$A$6:$A$1806,Data!C$6:C$1806)","v":0},null,null,19590,{"$f":"(IF((C480-L$2)>0,(IF(C480<'Copy Results'!$C$3,((C480-L$2-L$5)/((L$4*L$2)-L$5)*G480*-1),(('Copy Results'!$C$3-L$2-L$5)/((L$4*L$2)-L$5)*G480*-1))),IF(C480>'Copy Results'!$C$2,((C480-L$2+L$5)/((L$4*L$2)-L$5)*G480*-1),(('Copy Results'!$C$2-L$2+L$5)/((L$4*L$2)-L$5)*G480*-1))))","v":-27.5006103515625},-20.302226237561069,null,null,0,-40.934676123627,{"$f":"AVERAGE(D$79:D480)","v":0},{"$f":"AVERAGE(M$79:M480)","v":130.00038680638926},-18.644902043525651,{"$f":"AVERAGE(P$79:P480)","v":52.274604633211219},null,null,null,null,40679.347222221477,{"$f":"LOOKUP($V480,Data!$A$6:$A$1806,Data!$B$6:$B$1806)","v":60.00421142578125},{"$f":"LOOKUP($V480,Data!$A$6:$A$1806,Data!$C$6:$C$1806)","v":0},{"$f":"LOOKUP($V480,Data!$A$6:$A$1806,Data!$D$6:$D$1806)","v":0},{"$f":"IF($Z$1=\"+\",LOOKUP($V480,Data!$A$6:$A$1806,Data!$E$6:$E$1806)*-1,LOOKUP($V480,Data!$A$6:$A$1806,Data!$E$6:$E$1806))","v":0},{"$f":"LOOKUP($V480,Data!$A$6:$A$1806,Data!$F$6:$F$1806)","v":0},null,{"$f":"LOOKUP($V480,Data!$A$6:$A$1806,Data!$H$6:$H$1806)","v":0},{"$f":"LOOKUP($V480,Data!$A$6:$A$1806,Data!$I$6:$I$1806)","v":0},{"$f":"IF(LOOKUP($V480,Data!$A$6:$A$1806,Data!$J$6:$J$1806)>0,(LOOKUP($V480,Data!$A$6:$A$1806,Data!$J$6:$J$1806)*-1),LOOKUP($V480,Data!$A$6:$A$1806,Data!$J$6:$J$1806))","v":-653},{"$f":"LOOKUP($V480,Data!$A$6:$A$1806,Data!$K$6:$K$1806)","v":30480.091796875},-27.5006103515625,null,null,null,null,null,null,null,null,null,null,null,null,null,null,null," ",4.21142578125E-3," "]
[null,40679.347245369623,{"$f":"LOOKUP(B481,Data!$A$6:$A$1806,Data!B$6:B$1806)","v":60.00421142578125},{"$f":"LOOKUP(B481,Data!$A$6:$A$1806,Data!C$6:C$1806)","v":0},null,null,19590,{"$f":"(IF((C481-L$2)>0,(IF(C481<'Copy Results'!$C$3,((C481-L$2-L$5)/((L$4*L$2)-L$5)*G481*-1),(('Copy Results'!$C$3-L$2-L$5)/((L$4*L$2)-L$5)*G481*-1))),IF(C481>'Copy Results'!$C$2,((C481-L$2+L$5)/((L$4*L$2)-L$5)*G481*-1),(('Copy Results'!$C$2-L$2+L$5)/((L$4*L$2)-L$5)*G481*-1))))","v":-27.5006103515625},-22.821660677461573,null,null,0,-43.454110563527507,{"$f":"AVERAGE(D$79:D481)","v":0},{"$f":"AVERAGE(M$79:M481)","v":129.56997862432991},-18.644902043525651,{"$f":"AVERAGE(P$79:P481)","v":52.098187949935756},null,null,null,null,40679.347245369623,{"$f":"LOOKUP($V481,Data!$A$6:$A$1806,Data!$B$6:$B$1806)","v":60.00421142578125},{"$f":"LOOKUP($V481,Data!$A$6:$A$1806,Data!$C$6:$C$1806)","v":0},{"$f":"LOOKUP($V481,Data!$A$6:$A$1806,Data!$D$6:$D$1806)","v":0},{"$f":"IF($Z$1=\"+\",LOOKUP($V481,Data!$A$6:$A$1806,Data!$E$6:$E$1806)*-1,LOOKUP($V481,Data!$A$6:$A$1806,Data!$E$6:$E$1806))","v":0},{"$f":"LOOKUP($V481,Data!$A$6:$A$1806,Data!$F$6:$F$1806)","v":0},null,{"$f":"LOOKUP($V481,Data!$A$6:$A$1806,Data!$H$6:$H$1806)","v":0},{"$f":"LOOKUP($V481,Data!$A$6:$A$1806,Data!$I$6:$I$1806)","v":0},{"$f":"IF(LOOKUP($V481,Data!$A$6:$A$1806,Data!$J$6:$J$1806)>0,(LOOKUP($V481,Data!$A$6:$A$1806,Data!$J$6:$J$1806)*-1),LOOKUP($V481,Data!$A$6:$A$1806,Data!$J$6:$J$1806))","v":-653},{"$f":"LOOKUP($V481,Data!$A$6:$A$1806,Data!$K$6:$K$1806)","v":30480.091796875},-27.5006103515625,null,null,null,null,null,null,null,null,null,null,null,null,null,null,null," ",4.21142578125E-3," "]
[null,40679.347268517769,{"$f":"LOOKUP(B482,Data!$A$6:$A$1806,Data!B$6:B$1806)","v":60.002899169921875},{"$f":"LOOKUP(B482,Data!$A$6:$A$1806,Data!C$6:C$1806)","v":0},null,null,19590,{"$f":"(IF((C482-L$2)>0,(IF(C482<'Copy Results'!$C$3,((C482-L$2-L$5)/((L$4*L$2)-L$5)*G482*-1),(('Copy Results'!$C$3-L$2-L$5)/((L$4*L$2)-L$5)*G482*-1))),IF(C482>'Copy Results'!$C$2,((C482-L$2+L$5)/((L$4*L$2)-L$5)*G482*-1),(('Copy Results'!$C$2-L$2+L$5)/((L$4*L$2)-L$5)*G482*-1))))","v":-18.93157958984375},-21.460132296795337,null,null,0,-42.092582182861271,{"$f":"AVERAGE(D$79:D482)","v":0},{"$f":"AVERAGE(M$79:M482)","v":129.14507129559922},-18.644902043525651,{"$f":"AVERAGE(P$79:P482)","v":51.92264678369888},null,null,null,null,40679.347268517769,{"$f":"LOOKUP($V482,Data!$A$6:$A$1806,Data!$B$6:$B$1806)","v":60.002899169921875},{"$f":"LOOKUP($V482,Data!$A$6:$A$1806,Data!$C$6:$C$1806)","v":0},{"$f":"LOOKUP($V482,Data!$A$6:$A$1806,Data!$D$6:$D$1806)","v":0},{"$f":"IF($Z$1=\"+\",LOOKUP($V482,Data!$A$6:$A$1806,Data!$E$6:$E$1806)*-1,LOOKUP($V482,Data!$A$6:$A$1806,Data!$E$6:$E$1806))","v":0},{"$f":"LOOKUP($V482,Data!$A$6:$A$1806,Data!$F$6:$F$1806)","v":0},null,{"$f":"LOOKUP($V482,Data!$A$6:$A$1806,Data!$H$6:$H$1806)","v":0},{"$f":"LOOKUP($V482,Data!$A$6:$A$1806,Data!$I$6:$I$1806)","v":0},{"$f":"IF(LOOKUP($V482,Data!$A$6:$A$1806,Data!$J$6:$J$1806)>0,(LOOKUP($V482,Data!$A$6:$A$1806,Data!$J$6:$J$1806)*-1),LOOKUP($V482,Data!$A$6:$A$1806,Data!$J$6:$J$1806))","v":-653},{"$f":"LOOKUP($V482,Data!$A$6:$A$1806,Data!$K$6:$K$1806)","v":30480.9140625},-18.93157958984375,null,null,null,null,null,null,null,null,null,null,null,null,null,null,null," ",2.899169921875E-3," "]
[null,40679.347291665916,{"$f":"LOOKUP(B483,Data!$A$6:$A$1806,Data!B$6:B$1806)","v":60.000335693359375},{"$f":"LOOKUP(B483,Data!$A$6:$A$1806,Data!C$6:C$1806)","v":0},null,null,19590,{"$f":"(IF((C483-L$2)>0,(IF(C483<'Copy Results'!$C$3,((C483-L$2-L$5)/((L$4*L$2)-L$5)*G483*-1),(('Copy Results'!$C$3-L$2-L$5)/((L$4*L$2)-L$5)*G483*-1))),IF(C483>'Copy Results'!$C$2,((C483-L$2+L$5)/((L$4*L$2)-L$5)*G483*-1),(('Copy Results'!$C$2-L$2+L$5)/((L$4*L$2)-L$5)*G483*-1))))","v":-2.19207763671875},-14.716313165768531,null,null,0,-35.348763051834467,{"$f":"AVERAGE(D$79:D483)","v":0},{"$f":"AVERAGE(M$79:M483)","v":128.73891367992655},-18.644902043525651,{"$f":"AVERAGE(P$79:P483)","v":51.747974633136444},null,null,null,null,40679.347291665916,{"$f":"LOOKUP($V483,Data!$A$6:$A$1806,Data!$B$6:$B$1806)","v":60.000335693359375},{"$f":"LOOKUP($V483,Data!$A$6:$A$1806,Data!$C$6:$C$1806)","v":0},{"$f":"LOOKUP($V483,Data!$A$6:$A$1806,Data!$D$6:$D$1806)","v":0},{"$f":"IF($Z$1=\"+\",LOOKUP($V483,Data!$A$6:$A$1806,Data!$E$6:$E$1806)*-1,LOOKUP($V483,Data!$A$6:$A$1806,Data!$E$6:$E$1806))","v":0},{"$f":"LOOKUP($V483,Data!$A$6:$A$1806,Data!$F$6:$F$1806)","v":0},null,{"$f":"LOOKUP($V483,Data!$A$6:$A$1806,Data!$H$6:$H$1806)","v":0},{"$f":"LOOKUP($V483,Data!$A$6:$A$1806,Data!$I$6:$I$1806)","v":0},{"$f":"IF(LOOKUP($V483,Data!$A$6:$A$1806,Data!$J$6:$J$1806)>0,(LOOKUP($V483,Data!$A$6:$A$1806,Data!$J$6:$J$1806)*-1),LOOKUP($V483,Data!$A$6:$A$1806,Data!$J$6:$J$1806))","v":-653},{"$f":"LOOKUP($V483,Data!$A$6:$A$1806,Data!$K$6:$K$1806)","v":30480.9140625},-2.19207763671875,null,null,null,null,null,null,null,null,null,null,null,null,null,null,null," ",3.35693359375E-4," "]
[null,40679.347314814062,{"$f":"LOOKUP(B484,Data!$A$6:$A$1806,Data!B$6:B$1806)","v":59.998046875},{"$f":"LOOKUP(B484,Data!$A$6:$A$1806,Data!C$6:C$1806)","v":0},null,null,19590,{"$f":"(IF((C484-L$2)>0,(IF(C484<'Copy Results'!$C$3,((C484-L$2-L$5)/((L$4*L$2)-L$5)*G484*-1),(('Copy Results'!$C$3-L$2-L$5)/((L$4*L$2)-L$5)*G484*-1))),IF(C484>'Copy Results'!$C$2,((C484-L$2+L$5)/((L$4*L$2)-L$5)*G484*-1),(('Copy Results'!$C$2-L$2+L$5)/((L$4*L$2)-L$5)*G484*-1))))","v":12.75390625},-5.1017363702495455,null,null,0,-25.734186256315482,{"$f":"AVERAGE(D$79:D484)","v":0},{"$f":"AVERAGE(M$79:M484)","v":128.35843806432004},-18.644902043525651,{"$f":"AVERAGE(P$79:P484)","v":51.574165061095307},null,null,null,null,40679.347314814062,{"$f":"LOOKUP($V484,Data!$A$6:$A$1806,Data!$B$6:$B$1806)","v":59.998046875},{"$f":"LOOKUP($V484,Data!$A$6:$A$1806,Data!$C$6:$C$1806)","v":0},{"$f":"LOOKUP($V484,Data!$A$6:$A$1806,Data!$D$6:$D$1806)","v":0},{"$f":"IF($Z$1=\"+\",LOOKUP($V484,Data!$A$6:$A$1806,Data!$E$6:$E$1806)*-1,LOOKUP($V484,Data!$A$6:$A$1806,Data!$E$6:$E$1806))","v":0},{"$f":"LOOKUP($V484,Data!$A$6:$A$1806,Data!$F$6:$F$1806)","v":0},null,{"$f":"LOOKUP($V484,Data!$A$6:$A$1806,Data!$H$6:$H$1806)","v":0},{"$f":"LOOKUP($V484,Data!$A$6:$A$1806,Data!$I$6:$I$1806)","v":0},{"$f":"IF(LOOKUP($V484,Data!$A$6:$A$1806,Data!$J$6:$J$1806)>0,(LOOKUP($V484,Data!$A$6:$A$1806,Data!$J$6:$J$1806)*-1),LOOKUP($V484,Data!$A$6:$A$1806,Data!$J$6:$J$1806))","v":-653},{"$f":"LOOKUP($V484,Data!$A$6:$A$1806,Data!$K$6:$K$1806)","v":30480.8359375},12.75390625,null,null,null,null,null,null,null,null,null,null,null,null,null,null,null,81245.236842105267,1.953125E-3," "]
[null,40679.347337962208,{"$f":"LOOKUP(B485,Data!$A$6:$A$1806,Data!B$6:B$1806)","v":59.9964599609375},{"$f":"LOOKUP(B485,Data!$A$6:$A$1806,Data!C$6:C$1806)","v":0},null,null,19590,{"$f":"(IF((C485-L$2)>0,(IF(C485<'Copy Results'!$C$3,((C485-L$2-L$5)/((L$4*L$2)-L$5)*G485*-1),(('Copy Results'!$C$3-L$2-L$5)/((L$4*L$2)-L$5)*G485*-1))),IF(C485>'Copy Results'!$C$2,((C485-L$2+L$5)/((L$4*L$2)-L$5)*G485*-1),(('Copy Results'!$C$2-L$2+L$5)/((L$4*L$2)-L$5)*G485*-1))))","v":23.116455078125},4.774630636681545,null,null,0,-15.857819249384391,{"$f":"AVERAGE(D$79:D485)","v":0},{"$f":"AVERAGE(M$79:M485)","v":128.00409836576054},-18.644902043525651,{"$f":"AVERAGE(P$79:P485)","v":51.401211693842548},null,null,null,null,40679.347337962208,{"$f":"LOOKUP($V485,Data!$A$6:$A$1806,Data!$B$6:$B$1806)","v":59.9964599609375},{"$f":"LOOKUP($V485,Data!$A$6:$A$1806,Data!$C$6:$C$1806)","v":0},{"$f":"LOOKUP($V485,Data!$A$6:$A$1806,Data!$D$6:$D$1806)","v":0},{"$f":"IF($Z$1=\"+\",LOOKUP($V485,Data!$A$6:$A$1806,Data!$E$6:$E$1806)*-1,LOOKUP($V485,Data!$A$6:$A$1806,Data!$E$6:$E$1806))","v":0},{"$f":"LOOKUP($V485,Data!$A$6:$A$1806,Data!$F$6:$F$1806)","v":0},null,{"$f":"LOOKUP($V485,Data!$A$6:$A$1806,Data!$H$6:$H$1806)","v":0},{"$f":"LOOKUP($V485,Data!$A$6:$A$1806,Data!$I$6:$I$1806)","v":0},{"$f":"IF(LOOKUP($V485,Data!$A$6:$A$1806,Data!$J$6:$J$1806)>0,(LOOKUP($V485,Data!$A$6:$A$1806,Data!$J$6:$J$1806)*-1),LOOKUP($V485,Data!$A$6:$A$1806,Data!$J$6:$J$1806))","v":-653},{"$f":"LOOKUP($V485,Data!$A$6:$A$1806,Data!$K$6:$K$1806)","v":30480.8359375},23.116455078125,null,null,null,null,null,null,null,null,null,null,null,null,null,null,null,21741.683098591548,3.5400390625E-3," "]
[null,40679.347361110355,{"$f":"LOOKUP(B486,Data!$A$6:$A$1806,Data!B$6:B$1806)","v":59.995147705078125},{"$f":"LOOKUP(B486,Data!$A$6:$A$1806,Data!C$6:C$1806)","v":0},null,null,19590,{"$f":"(IF((C486-L$2)>0,(IF(C486<'Copy Results'!$C$3,((C486-L$2-L$5)/((L$4*L$2)-L$5)*G486*-1),(('Copy Results'!$C$3-L$2-L$5)/((L$4*L$2)-L$5)*G486*-1))),IF(C486>'Copy Results'!$C$2,((C486-L$2+L$5)/((L$4*L$2)-L$5)*G486*-1),(('Copy Results'!$C$2-L$2+L$5)/((L$4*L$2)-L$5)*G486*-1))))","v":31.68548583984375},14.193429957788316,null,null,0,-6.4390199282776202,{"$f":"AVERAGE(D$79:D486)","v":0},{"$f":"AVERAGE(M$79:M486)","v":127.67458091896144},-18.644902043525651,{"$f":"AVERAGE(P$79:P486)","v":51.229108220286363},null,null,null,null,40679.347361110355,{"$f":"LOOKUP($V486,Data!$A$6:$A$1806,Data!$B$6:$B$1806)","v":59.995147705078125},{"$f":"LOOKUP($V486,Data!$A$6:$A$1806,Data!$C$6:$C$1806)","v":0},{"$f":"LOOKUP($V486,Data!$A$6:$A$1806,Data!$D$6:$D$1806)","v":0},{"$f":"IF($Z$1=\"+\",LOOKUP($V486,Data!$A$6:$A$1806,Data!$E$6:$E$1806)*-1,LOOKUP($V486,Data!$A$6:$A$1806,Data!$E$6:$E$1806))","v":0},{"$f":"LOOKUP($V486,Data!$A$6:$A$1806,Data!$F$6:$F$1806)","v":0},null,{"$f":"LOOKUP($V486,Data!$A$6:$A$1806,Data!$H$6:$H$1806)","v":0},{"$f":"LOOKUP($V486,Data!$A$6:$A$1806,Data!$I$6:$I$1806)","v":0},{"$f":"IF(LOOKUP($V486,Data!$A$6:$A$1806,Data!$J$6:$J$1806)>0,(LOOKUP($V486,Data!$A$6:$A$1806,Data!$J$6:$J$1806)*-1),LOOKUP($V486,Data!$A$6:$A$1806,Data!$J$6:$J$1806))","v":-653},{"$f":"LOOKUP($V486,Data!$A$6:$A$1806,Data!$K$6:$K$1806)","v":30480.8359375},31.68548583984375,null,null,null,null,null,null,null,null,null,null,null,null,null,null,null,13540.872807017544,4.852294921875E-3," "]
[null,40679.347384258501,{"$f":"LOOKUP(B487,Data!$A$6:$A$1806,Data!B$6:B$1806)","v":59.993865966796875},{"$f":"LOOKUP(B487,Data!$A$6:$A$1806,Data!C$6:C$1806)","v":0},null,null,19590,{"$f":"(IF((C487-L$2)>0,(IF(C487<'Copy Results'!$C$3,((C487-L$2-L$5)/((L$4*L$2)-L$5)*G487*-1),(('Copy Results'!$C$3-L$2-L$5)/((L$4*L$2)-L$5)*G487*-1))),IF(C487>'Copy Results'!$C$2,((C487-L$2+L$5)/((L$4*L$2)-L$5)*G487*-1),(('Copy Results'!$C$2-L$2+L$5)/((L$4*L$2)-L$5)*G487*-1))))","v":40.05523681640625},23.245062358304594,null,null,0,2.6126124722386574,{"$f":"AVERAGE(D$79:D487)","v":0},{"$f":"AVERAGE(M$79:M487)","v":127.36880593498411},-18.644902043525651,{"$f":"AVERAGE(P$79:P487)","v":51.057848391208395},null,null,null,null,40679.347384258501,{"$f":"LOOKUP($V487,Data!$A$6:$A$1806,Data!$B$6:$B$1806)","v":59.993865966796875},{"$f":"LOOKUP($V487,Data!$A$6:$A$1806,Data!$C$6:$C$1806)","v":0},{"$f":"LOOKUP($V487,Data!$A$6:$A$1806,Data!$D$6:$D$1806)","v":0},{"$f":"IF($Z$1=\"+\",LOOKUP($V487,Data!$A$6:$A$1806,Data!$E$6:$E$1806)*-1,LOOKUP($V487,Data!$A$6:$A$1806,Data!$E$6:$E$1806))","v":0},{"$f":"LOOKUP($V487,Data!$A$6:$A$1806,Data!$F$6:$F$1806)","v":0},null,{"$f":"LOOKUP($V487,Data!$A$6:$A$1806,Data!$H$6:$H$1806)","v":0},{"$f":"LOOKUP($V487,Data!$A$6:$A$1806,Data!$I$6:$I$1806)","v":0},{"$f":"IF(LOOKUP($V487,Data!$A$6:$A$1806,Data!$J$6:$J$1806)>0,(LOOKUP($V487,Data!$A$6:$A$1806,Data!$J$6:$J$1806)*-1),LOOKUP($V487,Data!$A$6:$A$1806,Data!$J$6:$J$1806))","v":-653},{"$f":"LOOKUP($V487,Data!$A$6:$A$1806,Data!$K$6:$K$1806)","v":30480.8359375},40.05523681640625,null,null,null,null,null,null,null,null,null,null,null,null,null,null,null,9895.2532051282051,6.134033203125E-3," "]
[null,40679.347407406647,{"$f":"LOOKUP(B488,Data!$A$6:$A$1806,Data!B$6:B$1806)","v":59.992889404296875},{"$f":"LOOKUP(B488,Data!$A$6:$A$1806,Data!C$6:C$1806)","v":0},null,null,19590,{"$f":"(IF((C488-L$2)>0,(IF(C488<'Copy Results'!$C$3,((C488-L$2-L$5)/((L$4*L$2)-L$5)*G488*-1),(('Copy Results'!$C$3-L$2-L$5)/((L$4*L$2)-L$5)*G488*-1))),IF(C488>'Copy Results'!$C$2,((C488-L$2+L$5)/((L$4*L$2)-L$5)*G488*-1),(('Copy Results'!$C$2-L$2+L$5)/((L$4*L$2)-L$5)*G488*-1))))","v":46.43218994140625},31.360557012390174,null,null,0,10.728107126324238,{"$f":"AVERAGE(D$79:D488)","v":0},{"$f":"AVERAGE(M$79:M488)","v":127.08431642569471},-18.644902043525651,{"$f":"AVERAGE(P$79:P488)","v":50.887426018507334},null,null,null,null,40679.347407406647,{"$f":"LOOKUP($V488,Data!$A$6:$A$1806,Data!$B$6:$B$1806)","v":59.992889404296875},{"$f":"LOOKUP($V488,Data!$A$6:$A$1806,Data!$C$6:$C$1806)","v":0},{"$f":"LOOKUP($V488,Data!$A$6:$A$1806,Data!$D$6:$D$1806)","v":0},{"$f":"IF($Z$1=\"+\",LOOKUP($V488,Data!$A$6:$A$1806,Data!$E$6:$E$1806)*-1,LOOKUP($V488,Data!$A$6:$A$1806,Data!$E$6:$E$1806))","v":0},{"$f":"LOOKUP($V488,Data!$A$6:$A$1806,Data!$F$6:$F$1806)","v":0},null,{"$f":"LOOKUP($V488,Data!$A$6:$A$1806,Data!$H$6:$H$1806)","v":0},{"$f":"LOOKUP($V488,Data!$A$6:$A$1806,Data!$I$6:$I$1806)","v":0},{"$f":"IF(LOOKUP($V488,Data!$A$6:$A$1806,Data!$J$6:$J$1806)>0,(LOOKUP($V488,Data!$A$6:$A$1806,Data!$J$6:$J$1806)*-1),LOOKUP($V488,Data!$A$6:$A$1806,Data!$J$6:$J$1806))","v":-653},{"$f":"LOOKUP($V488,Data!$A$6:$A$1806,Data!$K$6:$K$1806)","v":30476.091796875},46.43218994140625,null,null,null,null,null,null,null,null,null,null,null,null,null,null,null,8210.9547872340427,7.110595703125E-3," "]
[null,40679.347430554793,{"$f":"LOOKUP(B489,Data!$A$6:$A$1806,Data!B$6:B$1806)","v":59.9925537109375},{"$f":"LOOKUP(B489,Data!$A$6:$A$1806,Data!C$6:C$1806)","v":0},null,null,19590,{"$f":"(IF((C489-L$2)>0,(IF(C489<'Copy Results'!$C$3,((C489-L$2-L$5)/((L$4*L$2)-L$5)*G489*-1),(('Copy Results'!$C$3-L$2-L$5)/((L$4*L$2)-L$5)*G489*-1))),IF(C489>'Copy Results'!$C$2,((C489-L$2+L$5)/((L$4*L$2)-L$5)*G489*-1),(('Copy Results'!$C$2-L$2+L$5)/((L$4*L$2)-L$5)*G489*-1))))","v":48.624267578125},37.402855710397361,null,null,0,16.770405824331426,{"$f":"AVERAGE(D$79:D489)","v":0},{"$f":"AVERAGE(M$79:M489)","v":126.81591275026561},-18.644902043525651,{"$f":"AVERAGE(P$79:P489)","v":50.717834974453595},null,null,null,null,40679.347430554793,{"$f":"LOOKUP($V489,Data!$A$6:$A$1806,Data!$B$6:$B$1806)","v":59.9925537109375},{"$f":"LOOKUP($V489,Data!$A$6:$A$1806,Data!$C$6:$C$1806)","v":0},{"$f":"LOOKUP($V489,Data!$A$6:$A$1806,Data!$D$6:$D$1806)","v":0},{"$f":"IF($Z$1=\"+\",LOOKUP($V489,Data!$A$6:$A$1806,Data!$E$6:$E$1806)*-1,LOOKUP($V489,Data!$A$6:$A$1806,Data!$E$6:$E$1806))","v":0},{"$f":"LOOKUP($V489,Data!$A$6:$A$1806,Data!$F$6:$F$1806)","v":0},null,{"$f":"LOOKUP($V489,Data!$A$6:$A$1806,Data!$H$6:$H$1806)","v":0},{"$f":"LOOKUP($V489,Data!$A$6:$A$1806,Data!$I$6:$I$1806)","v":0},{"$f":"IF(LOOKUP($V489,Data!$A$6:$A$1806,Data!$J$6:$J$1806)>0,(LOOKUP($V489,Data!$A$6:$A$1806,Data!$J$6:$J$1806)*-1),LOOKUP($V489,Data!$A$6:$A$1806,Data!$J$6:$J$1806))","v":-653},{"$f":"LOOKUP($V489,Data!$A$6:$A$1806,Data!$K$6:$K$1806)","v":30476.091796875},48.624267578125,null,null,null,null,null,null,null,null,null,null,null,null,null,null,null,7757.082914572864,7.4462890625E-3," "]
[null,40679.34745370294,{"$f":"LOOKUP(B490,Data!$A$6:$A$1806,Data!B$6:B$1806)","v":59.99224853515625},{"$f":"LOOKUP(B490,Data!$A$6:$A$1806,Data!C$6:C$1806)","v":0},null,null,19590,{"$f":"(IF((C490-L$2)>0,(IF(C490<'Copy Results'!$C$3,((C490-L$2-L$5)/((L$4*L$2)-L$5)*G490*-1),(('Copy Results'!$C$3-L$2-L$5)/((L$4*L$2)-L$5)*G490*-1))),IF(C490>'Copy Results'!$C$2,((C490-L$2+L$5)/((L$4*L$2)-L$5)*G490*-1),(('Copy Results'!$C$2-L$2+L$5)/((L$4*L$2)-L$5)*G490*-1))))","v":50.6170654296875},42.027829112148908,null,null,0,21.395379226082973,{"$f":"AVERAGE(D$79:D490)","v":0},{"$f":"AVERAGE(M$79:M490)","v":126.56003766889623},-18.644902043525651,{"$f":"AVERAGE(P$79:P490)","v":50.549069190954867},null,null,null,null,40679.34745370294,{"$f":"LOOKUP($V490,Data!$A$6:$A$1806,Data!$B$6:$B$1806)","v":59.99224853515625},{"$f":"LOOKUP($V490,Data!$A$6:$A$1806,Data!$C$6:$C$1806)","v":0},{"$f":"LOOKUP($V490,Data!$A$6:$A$1806,Data!$D$6:$D$1806)","v":0},{"$f":"IF($Z$1=\"+\",LOOKUP($V490,Data!$A$6:$A$1806,Data!$E$6:$E$1806)*-1,LOOKUP($V490,Data!$A$6:$A$1806,Data!$E$6:$E$1806))","v":0},{"$f":"LOOKUP($V490,Data!$A$6:$A$1806,Data!$F$6:$F$1806)","v":0},null,{"$f":"LOOKUP($V490,Data!$A$6:$A$1806,Data!$H$6:$H$1806)","v":0},{"$f":"LOOKUP($V490,Data!$A$6:$A$1806,Data!$I$6:$I$1806)","v":0},{"$f":"IF(LOOKUP($V490,Data!$A$6:$A$1806,Data!$J$6:$J$1806)>0,(LOOKUP($V490,Data!$A$6:$A$1806,Data!$J$6:$J$1806)*-1),LOOKUP($V490,Data!$A$6:$A$1806,Data!$J$6:$J$1806))","v":-653},{"$f":"LOOKUP($V490,Data!$A$6:$A$1806,Data!$K$6:$K$1806)","v":30476.091796875},50.6170654296875,null,null,null,null,null,null,null,null,null,null,null,null,null,null,null,7385.9306220095696,7.75146484375E-3," "]
[null,40679.347476851086,{"$f":"LOOKUP(B491,Data!$A$6:$A$1806,Data!B$6:B$1806)","v":59.989654541015625},{"$f":"LOOKUP(B491,Data!$A$6:$A$1806,Data!C$6:C$1806)","v":0},null,null,19590,{"$f":"(IF((C491-L$2)>0,(IF(C491<'Copy Results'!$C$3,((C491-L$2-L$5)/((L$4*L$2)-L$5)*G491*-1),(('Copy Results'!$C$3-L$2-L$5)/((L$4*L$2)-L$5)*G491*-1))),IF(C491>'Copy Results'!$C$2,((C491-L$2+L$5)/((L$4*L$2)-L$5)*G491*-1),(('Copy Results'!$C$2-L$2+L$5)/((L$4*L$2)-L$5)*G491*-1))))","v":67.55584716796875},{"$f":"L$13*H491+(1-L$13)*I490","v":50.962635431685854},null,null,0,30.330185545619919,{"$f":"AVERAGE(D$79:D491)","v":0},{"$f":"AVERAGE(M$79:M491)","v":126.32703560564374},-18.644902043525651,{"$f":"AVERAGE(P$79:P491)","v":50.381122658832346},null,null,null,null,40679.347476851086,{"$f":"LOOKUP($V491,Data!$A$6:$A$1806,Data!$B$6:$B$1806)","v":59.989654541015625},{"$f":"LOOKUP($V491,Data!$A$6:$A$1806,Data!$C$6:$C$1806)","v":0},{"$f":"LOOKUP($V491,Data!$A$6:$A$1806,Data!$D$6:$D$1806)","v":0},{"$f":"IF($Z$1=\"+\",LOOKUP($V491,Data!$A$6:$A$1806,Data!$E$6:$E$1806)*-1,LOOKUP($V491,Data!$A$6:$A$1806,Data!$E$6:$E$1806))","v":0},{"$f":"LOOKUP($V491,Data!$A$6:$A$1806,Data!$F$6:$F$1806)","v":0},null,{"$f":"LOOKUP($V491,Data!$A$6:$A$1806,Data!$H$6:$H$1806)","v":0},{"$f":"LOOKUP($V491,Data!$A$6:$A$1806,Data!$I$6:$I$1806)","v":0},{"$f":"IF(LOOKUP($V491,Data!$A$6:$A$1806,Data!$J$6:$J$1806)>0,(LOOKUP($V491,Data!$A$6:$A$1806,Data!$J$6:$J$1806)*-1),LOOKUP($V491,Data!$A$6:$A$1806,Data!$J$6:$J$1806))","v":-653},{"$f":"LOOKUP($V491,Data!$A$6:$A$1806,Data!$K$6:$K$1806)","v":30476.091796875},67.55584716796875,null,null,null,null,null,null,null,null,null,null,null,null,null,null,null,5250.5425170068029,1.0345458984375E-2," "]
[null,40679.347499999232,{"$f":"LOOKUP(B492,Data!$A$6:$A$1806,Data!B$6:B$1806)","v":59.985137939453125},{"$f":"LOOKUP(B492,Data!$A$6:$A$1806,Data!C$6:C$1806)","v":0},null,null,{"$f":"AE492*-M$4*10","v":19590},{"$f":"(IF((C492-L$2)>0,(IF(C492<'Copy Results'!$C$3,((C492-L$2-L$5)/((L$4*L$2)-L$5)*G492*-1),(('Copy Results'!$C$3-L$2-L$5)/((L$4*L$2)-L$5)*G492*-1))),IF(C492>'Copy Results'!$C$2,((C492-L$2+L$5)/((L$4*L$2)-L$5)*G492*-1),(('Copy Results'!$C$2-L$2+L$5)/((L$4*L$2)-L$5)*G492*-1))))","v":97.04925537109375},67.092952410478617,null,null,0,46.460502524412682,{"$f":"AVERAGE(D$79:D492)","v":0},{"$f":"AVERAGE(M$79:M492)","v":126.13412127452965},-18.644902043525651,{"$f":"AVERAGE(P$79:P492)","v":50.213989427107506},null,null,null,null,40679.347499999232,{"$f":"LOOKUP($V492,Data!$A$6:$A$1806,Data!$B$6:$B$1806)","v":59.985137939453125},{"$f":"LOOKUP($V492,Data!$A$6:$A$1806,Data!$C$6:$C$1806)","v":0},{"$f":"LOOKUP($V492,Data!$A$6:$A$1806,Data!$D$6:$D$1806)","v":0},{"$f":"IF($Z$1=\"+\",LOOKUP($V492,Data!$A$6:$A$1806,Data!$E$6:$E$1806)*-1,LOOKUP($V492,Data!$A$6:$A$1806,Data!$E$6:$E$1806))","v":0},{"$f":"LOOKUP($V492,Data!$A$6:$A$1806,Data!$F$6:$F$1806)","v":0},null,{"$f":"LOOKUP($V492,Data!$A$6:$A$1806,Data!$H$6:$H$1806)","v":0},{"$f":"LOOKUP($V492,Data!$A$6:$A$1806,Data!$I$6:$I$1806)","v":0},{"$f":"IF(LOOKUP($V492,Data!$A$6:$A$1806,Data!$J$6:$J$1806)>0,(LOOKUP($V492,Data!$A$6:$A$1806,Data!$J$6:$J$1806)*-1),LOOKUP($V492,Data!$A$6:$A$1806,Data!$J$6:$J$1806))","v":-653},{"$f":"LOOKUP($V492,Data!$A$6:$A$1806,Data!$K$6:$K$1806)","v":30456.755859375},{"$f":"(IF((W492-$L$2)>0,((W492-$L$2-$L$5)/(($L$4*$L$2)-$L$5)*G492*-1),((W492-$L$2+$L$5)/(($L$4*$L$2)-$L$5)*G492*-1)))","v":97.04925537109375},null,null,null,null,null,null,null,null,null,null,null,null,null,null,null,3492.4423076923076,{"$f":"ABS(C492-60)","v":1.4862060546875E-2},{"$f":"IF(AX492>0.036,AE492,\" \")","v":" "}]
[null,40679.347523147379,{"$f":"LOOKUP(B493,Data!$A$6:$A$1806,Data!B$6:B$1806)","v":59.9825439453125},{"$f":"LOOKUP(B493,Data!$A$6:$A$1806,Data!C$6:C$1806)","v":0},null,null,19590,{"$f":"(IF((C493-L$2)>0,(IF(C493<'Copy Results'!$C$3,((C493-L$2-L$5)/((L$4*L$2)-L$5)*G493*-1),(('Copy Results'!$C$3-L$2-L$5)/((L$4*L$2)-L$5)*G493*-1))),IF(C493>'Copy Results'!$C$2,((C493-L$2+L$5)/((L$4*L$2)-L$5)*G493*-1),(('Copy Results'!$C$2-L$2+L$5)/((L$4*L$2)-L$5)*G493*-1))))","v":113.988037109375},83.506232055092354,null,null,0,62.87378216902642,{"$f":"AVERAGE(D$79:D493)","v":0},{"$f":"AVERAGE(M$79:M493)","v":125.98168672246818},-18.644902043525651,{"$f":"AVERAGE(P$79:P493)","v":50.047663602299217},null,null,null,null,40679.347523147379,{"$f":"LOOKUP($V493,Data!$A$6:$A$1806,Data!$B$6:$B$1806)","v":59.9825439453125},{"$f":"LOOKUP($V493,Data!$A$6:$A$1806,Data!$C$6:$C$1806)","v":0},{"$f":"LOOKUP($V493,Data!$A$6:$A$1806,Data!$D$6:$D$1806)","v":0},{"$f":"IF($Z$1=\"+\",LOOKUP($V493,Data!$A$6:$A$1806,Data!$E$6:$E$1806)*-1,LOOKUP($V493,Data!$A$6:$A$1806,Data!$E$6:$E$1806))","v":0},{"$f":"LOOKUP($V493,Data!$A$6:$A$1806,Data!$F$6:$F$1806)","v":0},null,{"$f":"LOOKUP($V493,Data!$A$6:$A$1806,Data!$H$6:$H$1806)","v":0},{"$f":"LOOKUP($V493,Data!$A$6:$A$1806,Data!$I$6:$I$1806)","v":0},{"$f":"IF(LOOKUP($V493,Data!$A$6:$A$1806,Data!$J$6:$J$1806)>0,(LOOKUP($V493,Data!$A$6:$A$1806,Data!$J$6:$J$1806)*-1),LOOKUP($V493,Data!$A$6:$A$1806,Data!$J$6:$J$1806))","v":-653},{"$f":"LOOKUP($V493,Data!$A$6:$A$1806,Data!$K$6:$K$1806)","v":30456.755859375},113.988037109375,null,null,null,null,null,null,null,null,null,null,null,null,null,null,null,2929.1451612903224,1.74560546875E-2," "]
[null,{"$f":"B493+TIME(0,0,$B$1)","v":40679.347546295525},{"$f":"LOOKUP(B494,Data!$A$6:$A$1806,Data!B$6:B$1806)","v":59.978363037109375},{"$f":"LOOKUP(B494,Data!$A$6:$A$1806,Data!C$6:C$1806)","v":0},null,null,19590,{"$f":"(IF((C494-L$2)>0,(IF(C494<'Copy Results'!$C$3,((C494-L$2-L$5)/((L$4*L$2)-L$5)*G494*-1),(('Copy Results'!$C$3-L$2-L$5)/((L$4*L$2)-L$5)*G494*-1))),IF(C494>'Copy Results'!$C$2,((C494-L$2+L$5)/((L$4*L$2)-L$5)*G494*-1),(('Copy Results'!$C$2-L$2+L$5)/((L$4*L$2)-L$5)*G494*-1))))","v":141.28936767578125},103.73032952233348,null,null,0,83.09787963626755,{"$f":"AVERAGE(D$79:D494)","v":0},{"$f":"AVERAGE(M$79:M494)","v":125.87860064774175},-18.644902043525651,{"$f":"AVERAGE(P$79:P494)","v":49.88213934773097},null,null,null,null,40679.347546295525,{"$f":"LOOKUP($V494,Data!$A$6:$A$1806,Data!$B$6:$B$1806)","v":59.978363037109375},{"$f":"LOOKUP($V494,Data!$A$6:$A$1806,Data!$C$6:$C$1806)","v":0},{"$f":"LOOKUP($V494,Data!$A$6:$A$1806,Data!$D$6:$D$1806)","v":0},{"$f":"IF($Z$1=\"+\",LOOKUP($V494,Data!$A$6:$A$1806,Data!$E$6:$E$1806)*-1,LOOKUP($V494,Data!$A$6:$A$1806,Data!$E$6:$E$1806))","v":0},{"$f":"LOOKUP($V494,Data!$A$6:$A$1806,Data!$F$6:$F$1806)","v":0},null,{"$f":"LOOKUP($V494,Data!$A$6:$A$1806,Data!$H$6:$H$1806)","v":0},{"$f":"LOOKUP($V494,Data!$A$6:$A$1806,Data!$I$6:$I$1806)","v":0},{"$f":"IF(LOOKUP($V494,Data!$A$6:$A$1806,Data!$J$6:$J$1806)>0,(LOOKUP($V494,Data!$A$6:$A$1806,Data!$J$6:$J$1806)*-1),LOOKUP($V494,Data!$A$6:$A$1806,Data!$J$6:$J$1806))","v":-653},{"$f":"LOOKUP($V494,Data!$A$6:$A$1806,Data!$K$6:$K$1806)","v":30457.115234375},141.28936767578125,null,null,null,null,null,null,null,null,null,null,null,null,null,null,null,2324.7884036144578,2.1636962890625E-2," "]
[null,40679.347569443671,{"$f":"LOOKUP(B495,Data!$A$6:$A$1806,Data!B$6:B$1806)","v":59.976409912109375},{"$f":"LOOKUP(B495,Data!$A$6:$A$1806,Data!C$6:C$1806)","v":0},null,null,19590,{"$f":"(IF((C495-L$2)>0,(IF(C495<'Copy Results'!$C$3,((C495-L$2-L$5)/((L$4*L$2)-L$5)*G495*-1),(('Copy Results'!$C$3-L$2-L$5)/((L$4*L$2)-L$5)*G495*-1))),IF(C495>'Copy Results'!$C$2,((C495-L$2+L$5)/((L$4*L$2)-L$5)*G495*-1),(('Copy Results'!$C$2-L$2+L$5)/((L$4*L$2)-L$5)*G495*-1))))","v":154.04327392578125},121.3398600635402,null,null,0,100.70741017747427,{"$f":"AVERAGE(D$79:D495)","v":0},{"$f":"AVERAGE(M$79:M495)","v":125.81823808066677},-18.644902043525651,{"$f":"AVERAGE(P$79:P495)","v":49.717410882848142},null,null,null,null,40679.347569443671,{"$f":"LOOKUP($V495,Data!$A$6:$A$1806,Data!$B$6:$B$1806)","v":59.976409912109375},{"$f":"LOOKUP($V495,Data!$A$6:$A$1806,Data!$C$6:$C$1806)","v":0},{"$f":"LOOKUP($V495,Data!$A$6:$A$1806,Data!$D$6:$D$1806)","v":0},{"$f":"IF($Z$1=\"+\",LOOKUP($V495,Data!$A$6:$A$1806,Data!$E$6:$E$1806)*-1,LOOKUP($V495,Data!$A$6:$A$1806,Data!$E$6:$E$1806))","v":0},{"$f":"LOOKUP($V495,Data!$A$6:$A$1806,Data!$F$6:$F$1806)","v":0},null,{"$f":"LOOKUP($V495,Data!$A$6:$A$1806,Data!$H$6:$H$1806)","v":0},{"$f":"LOOKUP($V495,Data!$A$6:$A$1806,Data!$I$6:$I$1806)","v":0},{"$f":"IF(LOOKUP($V495,Data!$A$6:$A$1806,Data!$J$6:$J$1806)>0,(LOOKUP($V495,Data!$A$6:$A$1806,Data!$J$6:$J$1806)*-1),LOOKUP($V495,Data!$A$6:$A$1806,Data!$J$6:$J$1806))","v":-653},{"$f":"LOOKUP($V495,Data!$A$6:$A$1806,Data!$K$6:$K$1806)","v":30457.115234375},154.04327392578125,null,null,null,null,null,null,null,null,null,null,null,null,null,null,null,2120.411401098901,2.3590087890625E-2," "]
[null,40679.347592591817,{"$f":"LOOKUP(B496,Data!$A$6:$A$1806,Data!B$6:B$1806)","v":59.97705078125},{"$f":"LOOKUP(B496,Data!$A$6:$A$1806,Data!C$6:C$1806)","v":0},null,null,19590,{"$f":"(IF((C496-L$2)>0,(IF(C496<'Copy Results'!$C$3,((C496-L$2-L$5)/((L$4*L$2)-L$5)*G496*-1),(('Copy Results'!$C$3-L$2-L$5)/((L$4*L$2)-L$5)*G496*-1))),IF(C496>'Copy Results'!$C$2,((C496-L$2+L$5)/((L$4*L$2)-L$5)*G496*-1),(('Copy Results'!$C$2-L$2+L$5)/((L$4*L$2)-L$5)*G496*-1))))","v":149.8583984375},131.32134849442613,null,null,0,110.6888986083602,{"$f":"AVERAGE(D$79:D496)","v":0},{"$f":"AVERAGE(M$79:M496)","v":125.78204348862776},-18.644902043525651,{"$f":"AVERAGE(P$79:P496)","v":49.553472482545089},null,null,null,null,40679.347592591817,{"$f":"LOOKUP($V496,Data!$A$6:$A$1806,Data!$B$6:$B$1806)","v":59.97705078125},{"$f":"LOOKUP($V496,Data!$A$6:$A$1806,Data!$C$6:$C$1806)","v":0},{"$f":"LOOKUP($V496,Data!$A$6:$A$1806,Data!$D$6:$D$1806)","v":0},{"$f":"IF($Z$1=\"+\",LOOKUP($V496,Data!$A$6:$A$1806,Data!$E$6:$E$1806)*-1,LOOKUP($V496,Data!$A$6:$A$1806,Data!$E$6:$E$1806))","v":0},{"$f":"LOOKUP($V496,Data!$A$6:$A$1806,Data!$F$6:$F$1806)","v":0},null,{"$f":"LOOKUP($V496,Data!$A$6:$A$1806,Data!$H$6:$H$1806)","v":0},{"$f":"LOOKUP($V496,Data!$A$6:$A$1806,Data!$I$6:$I$1806)","v":0},{"$f":"IF(LOOKUP($V496,Data!$A$6:$A$1806,Data!$J$6:$J$1806)>0,(LOOKUP($V496,Data!$A$6:$A$1806,Data!$J$6:$J$1806)*-1),LOOKUP($V496,Data!$A$6:$A$1806,Data!$J$6:$J$1806))","v":-653},{"$f":"LOOKUP($V496,Data!$A$6:$A$1806,Data!$K$6:$K$1806)","v":30457.115234375},149.8583984375,null,null,null,null,null,null,null,null,null,null,null,null,null,null,null,2183.3939179632248,2.294921875E-2," "]
[null,40679.347615739964,{"$f":"LOOKUP(B497,Data!$A$6:$A$1806,Data!B$6:B$1806)","v":59.97705078125},{"$f":"LOOKUP(B497,Data!$A$6:$A$1806,Data!C$6:C$1806)","v":0},null,null,19590,{"$f":"(IF((C497-L$2)>0,(IF(C497<'Copy Results'!$C$3,((C497-L$2-L$5)/((L$4*L$2)-L$5)*G497*-1),(('Copy Results'!$C$3-L$2-L$5)/((L$4*L$2)-L$5)*G497*-1))),IF(C497>'Copy Results'!$C$2,((C497-L$2+L$5)/((L$4*L$2)-L$5)*G497*-1),(('Copy Results'!$C$2-L$2+L$5)/((L$4*L$2)-L$5)*G497*-1))))","v":149.8583984375},137.809315974502,null,null,0,117.17686608843607,{"$f":"AVERAGE(D$79:D497)","v":0},{"$f":"AVERAGE(M$79:M497)","v":125.76150607239818},-18.644902043525651,{"$f":"AVERAGE(P$79:P497)","v":49.390318476501861},null,null,null,null,40679.347615739964,{"$f":"LOOKUP($V497,Data!$A$6:$A$1806,Data!$B$6:$B$1806)","v":59.97705078125},{"$f":"LOOKUP($V497,Data!$A$6:$A$1806,Data!$C$6:$C$1806)","v":0},{"$f":"LOOKUP($V497,Data!$A$6:$A$1806,Data!$D$6:$D$1806)","v":0},{"$f":"IF($Z$1=\"+\",LOOKUP($V497,Data!$A$6:$A$1806,Data!$E$6:$E$1806)*-1,LOOKUP($V497,Data!$A$6:$A$1806,Data!$E$6:$E$1806))","v":0},{"$f":"LOOKUP($V497,Data!$A$6:$A$1806,Data!$F$6:$F$1806)","v":0},null,{"$f":"LOOKUP($V497,Data!$A$6:$A$1806,Data!$H$6:$H$1806)","v":0},{"$f":"LOOKUP($V497,Data!$A$6:$A$1806,Data!$I$6:$I$1806)","v":0},{"$f":"IF(LOOKUP($V497,Data!$A$6:$A$1806,Data!$J$6:$J$1806)>0,(LOOKUP($V497,Data!$A$6:$A$1806,Data!$J$6:$J$1806)*-1),LOOKUP($V497,Data!$A$6:$A$1806,Data!$J$6:$J$1806))","v":-653},{"$f":"LOOKUP($V497,Data!$A$6:$A$1806,Data!$K$6:$K$1806)","v":30457.115234375},149.8583984375,null,null,null,null,null,null,null,null,null,null,null,null,null,null,null,2183.3939179632248,2.294921875E-2," "]
[null,40679.34763888811,{"$f":"LOOKUP(B498,Data!$A$6:$A$1806,Data!B$6:B$1806)","v":59.97705078125},{"$f":"LOOKUP(B498,Data!$A$6:$A$1806,Data!C$6:C$1806)","v":0},null,null,19590,{"$f":"(IF((C498-L$2)>0,(IF(C498<'Copy Results'!$C$3,((C498-L$2-L$5)/((L$4*L$2)-L$5)*G498*-1),(('Copy Results'!$C$3-L$2-L$5)/((L$4*L$2)-L$5)*G498*-1))),IF(C498>'Copy Results'!$C$2,((C498-L$2+L$5)/((L$4*L$2)-L$5)*G498*-1),(('Copy Results'!$C$2-L$2+L$5)/((L$4*L$2)-L$5)*G498*-1))))","v":149.8583984375},142.02649483655131,null,null,0,121.39404495048538,{"$f":"AVERAGE(D$79:D498)","v":0},{"$f":"AVERAGE(M$79:M498)","v":125.75110735544125},-18.644902043525651,{"$f":"AVERAGE(P$79:P498)","v":49.227943248530437},null,null,null,null,40679.34763888811,{"$f":"LOOKUP($V498,Data!$A$6:$A$1806,Data!$B$6:$B$1806)","v":59.97705078125},{"$f":"LOOKUP($V498,Data!$A$6:$A$1806,Data!$C$6:$C$1806)","v":0},{"$f":"LOOKUP($V498,Data!$A$6:$A$1806,Data!$D$6:$D$1806)","v":0},{"$f":"IF($Z$1=\"+\",LOOKUP($V498,Data!$A$6:$A$1806,Data!$E$6:$E$1806)*-1,LOOKUP($V498,Data!$A$6:$A$1806,Data!$E$6:$E$1806))","v":0},{"$f":"LOOKUP($V498,Data!$A$6:$A$1806,Data!$F$6:$F$1806)","v":0},null,{"$f":"LOOKUP($V498,Data!$A$6:$A$1806,Data!$H$6:$H$1806)","v":0},{"$f":"LOOKUP($V498,Data!$A$6:$A$1806,Data!$I$6:$I$1806)","v":0},{"$f":"IF(LOOKUP($V498,Data!$A$6:$A$1806,Data!$J$6:$J$1806)>0,(LOOKUP($V498,Data!$A$6:$A$1806,Data!$J$6:$J$1806)*-1),LOOKUP($V498,Data!$A$6:$A$1806,Data!$J$6:$J$1806))","v":-653},{"$f":"LOOKUP($V498,Data!$A$6:$A$1806,Data!$K$6:$K$1806)","v":30446.978515625},149.8583984375,null,null,null,null,null,null,null,null,null,null,null,null,null,null,null,2183.3939179632248,2.294921875E-2," "]
[null,40679.347662036256,{"$f":"LOOKUP(B499,Data!$A$6:$A$1806,Data!B$6:B$1806)","v":59.97802734375},{"$f":"LOOKUP(B499,Data!$A$6:$A$1806,Data!C$6:C$1806)","v":0},null,null,19590,{"$f":"(IF((C499-L$2)>0,(IF(C499<'Copy Results'!$C$3,((C499-L$2-L$5)/((L$4*L$2)-L$5)*G499*-1),(('Copy Results'!$C$3-L$2-L$5)/((L$4*L$2)-L$5)*G499*-1))),IF(C499>'Copy Results'!$C$2,((C499-L$2+L$5)/((L$4*L$2)-L$5)*G499*-1),(('Copy Results'!$C$2-L$2+L$5)/((L$4*L$2)-L$5)*G499*-1))))","v":143.4814453125},142.53572750313336,null,null,0,121.90327761706743,{"$f":"AVERAGE(D$79:D499)","v":0},{"$f":"AVERAGE(M$79:M499)","v":125.74196761734534},-18.644902043525651,{"$f":"AVERAGE(P$79:P499)","v":49.066341235930302},null,null,null,null,40679.347662036256,{"$f":"LOOKUP($V499,Data!$A$6:$A$1806,Data!$B$6:$B$1806)","v":59.97802734375},{"$f":"LOOKUP($V499,Data!$A$6:$A$1806,Data!$C$6:$C$1806)","v":0},{"$f":"LOOKUP($V499,Data!$A$6:$A$1806,Data!$D$6:$D$1806)","v":0},{"$f":"IF($Z$1=\"+\",LOOKUP($V499,Data!$A$6:$A$1806,Data!$E$6:$E$1806)*-1,LOOKUP($V499,Data!$A$6:$A$1806,Data!$E$6:$E$1806))","v":0},{"$f":"LOOKUP($V499,Data!$A$6:$A$1806,Data!$F$6:$F$1806)","v":0},null,{"$f":"LOOKUP($V499,Data!$A$6:$A$1806,Data!$H$6:$H$1806)","v":0},{"$f":"LOOKUP($V499,Data!$A$6:$A$1806,Data!$I$6:$I$1806)","v":0},{"$f":"IF(LOOKUP($V499,Data!$A$6:$A$1806,Data!$J$6:$J$1806)>0,(LOOKUP($V499,Data!$A$6:$A$1806,Data!$J$6:$J$1806)*-1),LOOKUP($V499,Data!$A$6:$A$1806,Data!$J$6:$J$1806))","v":-653},{"$f":"LOOKUP($V499,Data!$A$6:$A$1806,Data!$K$6:$K$1806)","v":30446.978515625},143.4814453125,null,null,null,null,null,null,null,null,null,null,null,null,null,null,null,2286.9029629629631,2.197265625E-2," "]
[null,40679.347685184403,{"$f":"LOOKUP(B500,Data!$A$6:$A$1806,Data!B$6:B$1806)","v":59.979644775390625},{"$f":"LOOKUP(B500,Data!$A$6:$A$1806,Data!C$6:C$1806)","v":0},null,null,19590,{"$f":"(IF((C500-L$2)>0,(IF(C500<'Copy Results'!$C$3,((C500-L$2-L$5)/((L$4*L$2)-L$5)*G500*-1),(('Copy Results'!$C$3-L$2-L$5)/((L$4*L$2)-L$5)*G500*-1))),IF(C500>'Copy Results'!$C$2,((C500-L$2+L$5)/((L$4*L$2)-L$5)*G500*-1),(('Copy Results'!$C$2-L$2+L$5)/((L$4*L$2)-L$5)*G500*-1))))","v":132.91961669921875},139.17008872176325,null,null,0,118.53763883569732,{"$f":"AVERAGE(D$79:D500)","v":0},{"$f":"AVERAGE(M$79:M500)","v":125.72489574819451},-18.644902043525651,{"$f":"AVERAGE(P$79:P500)","v":48.905506928853214},null,null,null,null,40679.347685184403,{"$f":"LOOKUP($V500,Data!$A$6:$A$1806,Data!$B$6:$B$1806)","v":59.979644775390625},{"$f":"LOOKUP($V500,Data!$A$6:$A$1806,Data!$C$6:$C$1806)","v":0},{"$f":"LOOKUP($V500,Data!$A$6:$A$1806,Data!$D$6:$D$1806)","v":0},{"$f":"IF($Z$1=\"+\",LOOKUP($V500,Data!$A$6:$A$1806,Data!$E$6:$E$1806)*-1,LOOKUP($V500,Data!$A$6:$A$1806,Data!$E$6:$E$1806))","v":0},{"$f":"LOOKUP($V500,Data!$A$6:$A$1806,Data!$F$6:$F$1806)","v":0},null,{"$f":"LOOKUP($V500,Data!$A$6:$A$1806,Data!$H$6:$H$1806)","v":0},{"$f":"LOOKUP($V500,Data!$A$6:$A$1806,Data!$I$6:$I$1806)","v":0},{"$f":"IF(LOOKUP($V500,Data!$A$6:$A$1806,Data!$J$6:$J$1806)>0,(LOOKUP($V500,Data!$A$6:$A$1806,Data!$J$6:$J$1806)*-1),LOOKUP($V500,Data!$A$6:$A$1806,Data!$J$6:$J$1806))","v":-653},{"$f":"LOOKUP($V500,Data!$A$6:$A$1806,Data!$K$6:$K$1806)","v":30446.978515625},132.91961669921875,null,null,null,null,null,null,null,null,null,null,null,null,null,null,null,2481.7676848874598,2.0355224609375E-2," "]
[null,40679.347708332549,{"$f":"LOOKUP(B501,Data!$A$6:$A$1806,Data!B$6:B$1806)","v":59.981597900390625},{"$f":"LOOKUP(B501,Data!$A$6:$A$1806,Data!C$6:C$1806)","v":0},null,null,19590,{"$f":"(IF((C501-L$2)>0,(IF(C501<'Copy Results'!$C$3,((C501-L$2-L$5)/((L$4*L$2)-L$5)*G501*-1),(('Copy Results'!$C$3-L$2-L$5)/((L$4*L$2)-L$5)*G501*-1))),IF(C501>'Copy Results'!$C$2,((C501-L$2+L$5)/((L$4*L$2)-L$5)*G501*-1),(('Copy Results'!$C$2-L$2+L$5)/((L$4*L$2)-L$5)*G501*-1))))","v":120.16571044921875},132.51855632637267,null,null,0,111.88610644030675,{"$f":"AVERAGE(D$79:D501)","v":0},{"$f":"AVERAGE(M$79:M501)","v":125.69217993422788},-18.644902043525651,{"$f":"AVERAGE(P$79:P501)","v":48.745434869676963},null,null,null,null,40679.347708332549,{"$f":"LOOKUP($V501,Data!$A$6:$A$1806,Data!$B$6:$B$1806)","v":59.981597900390625},{"$f":"LOOKUP($V501,Data!$A$6:$A$1806,Data!$C$6:$C$1806)","v":0},{"$f":"LOOKUP($V501,Data!$A$6:$A$1806,Data!$D$6:$D$1806)","v":0},{"$f":"IF($Z$1=\"+\",LOOKUP($V501,Data!$A$6:$A$1806,Data!$E$6:$E$1806)*-1,LOOKUP($V501,Data!$A$6:$A$1806,Data!$E$6:$E$1806))","v":0},{"$f":"LOOKUP($V501,Data!$A$6:$A$1806,Data!$F$6:$F$1806)","v":0},null,{"$f":"LOOKUP($V501,Data!$A$6:$A$1806,Data!$H$6:$H$1806)","v":0},{"$f":"LOOKUP($V501,Data!$A$6:$A$1806,Data!$I$6:$I$1806)","v":0},{"$f":"IF(LOOKUP($V501,Data!$A$6:$A$1806,Data!$J$6:$J$1806)>0,(LOOKUP($V501,Data!$A$6:$A$1806,Data!$J$6:$J$1806)*-1),LOOKUP($V501,Data!$A$6:$A$1806,Data!$J$6:$J$1806))","v":-653},{"$f":"LOOKUP($V501,Data!$A$6:$A$1806,Data!$K$6:$K$1806)","v":30446.978515625},120.16571044921875,null,null,null,null,null,null,null,null,null,null,null,null,null,null,null,2766.4148745519715,1.8402099609375E-2," "]
[null,40679.347731480695,{"$f":"LOOKUP(B502,Data!$A$6:$A$1806,Data!B$6:B$1806)","v":59.98126220703125},{"$f":"LOOKUP(B502,Data!$A$6:$A$1806,Data!C$6:C$1806)","v":0},null,null,19590,{"$f":"(IF((C502-L$2)>0,(IF(C502<'Copy Results'!$C$3,((C502-L$2-L$5)/((L$4*L$2)-L$5)*G502*-1),(('Copy Results'!$C$3-L$2-L$5)/((L$4*L$2)-L$5)*G502*-1))),IF(C502>'Copy Results'!$C$2,((C502-L$2+L$5)/((L$4*L$2)-L$5)*G502*-1),(('Copy Results'!$C$2-L$2+L$5)/((L$4*L$2)-L$5)*G502*-1))))","v":122.3577880859375},128.96228744222037,null,null,0,108.32983755615444,{"$f":"AVERAGE(D$79:D502)","v":0},{"$f":"AVERAGE(M$79:M502)","v":125.65123101352489},-18.644902043525651,{"$f":"AVERAGE(P$79:P502)","v":48.586119652388071},null,null,null,null,40679.347731480695,{"$f":"LOOKUP($V502,Data!$A$6:$A$1806,Data!$B$6:$B$1806)","v":59.98126220703125},{"$f":"LOOKUP($V502,Data!$A$6:$A$1806,Data!$C$6:$C$1806)","v":0},{"$f":"LOOKUP($V502,Data!$A$6:$A$1806,Data!$D$6:$D$1806)","v":0},{"$f":"IF($Z$1=\"+\",LOOKUP($V502,Data!$A$6:$A$1806,Data!$E$6:$E$1806)*-1,LOOKUP($V502,Data!$A$6:$A$1806,Data!$E$6:$E$1806))","v":0},{"$f":"LOOKUP($V502,Data!$A$6:$A$1806,Data!$F$6:$F$1806)","v":0},null,{"$f":"LOOKUP($V502,Data!$A$6:$A$1806,Data!$H$6:$H$1806)","v":0},{"$f":"LOOKUP($V502,Data!$A$6:$A$1806,Data!$I$6:$I$1806)","v":0},{"$f":"IF(LOOKUP($V502,Data!$A$6:$A$1806,Data!$J$6:$J$1806)>0,(LOOKUP($V502,Data!$A$6:$A$1806,Data!$J$6:$J$1806)*-1),LOOKUP($V502,Data!$A$6:$A$1806,Data!$J$6:$J$1806))","v":-653},{"$f":"LOOKUP($V502,Data!$A$6:$A$1806,Data!$K$6:$K$1806)","v":30461.01953125},122.3577880859375,null,null,null,null,null,null,null,null,null,null,null,null,null,null,null,2712.934094903339,1.873779296875E-2," "]
[null,40679.347754628841,{"$f":"LOOKUP(B503,Data!$A$6:$A$1806,Data!B$6:B$1806)","v":59.97930908203125},{"$f":"LOOKUP(B503,Data!$A$6:$A$1806,Data!C$6:C$1806)","v":0},null,null,19590,{"$f":"(IF((C503-L$2)>0,(IF(C503<'Copy Results'!$C$3,((C503-L$2-L$5)/((L$4*L$2)-L$5)*G503*-1),(('Copy Results'!$C$3-L$2-L$5)/((L$4*L$2)-L$5)*G503*-1))),IF(C503>'Copy Results'!$C$2,((C503-L$2+L$5)/((L$4*L$2)-L$5)*G503*-1),(('Copy Results'!$C$2-L$2+L$5)/((L$4*L$2)-L$5)*G503*-1))))","v":135.1116943359375},131.11457985502136,null,null,0,110.48212996895543,{"$f":"AVERAGE(D$79:D503)","v":0},{"$f":"AVERAGE(M$79:M503)","v":125.61553901106709},-18.644902043525651,{"$f":"AVERAGE(P$79:P503)","v":48.42755592197318},null,null,null,null,40679.347754628841,{"$f":"LOOKUP($V503,Data!$A$6:$A$1806,Data!$B$6:$B$1806)","v":59.97930908203125},{"$f":"LOOKUP($V503,Data!$A$6:$A$1806,Data!$C$6:$C$1806)","v":0},{"$f":"LOOKUP($V503,Data!$A$6:$A$1806,Data!$D$6:$D$1806)","v":0},{"$f":"IF($Z$1=\"+\",LOOKUP($V503,Data!$A$6:$A$1806,Data!$E$6:$E$1806)*-1,LOOKUP($V503,Data!$A$6:$A$1806,Data!$E$6:$E$1806))","v":0},{"$f":"LOOKUP($V503,Data!$A$6:$A$1806,Data!$F$6:$F$1806)","v":0},null,{"$f":"LOOKUP($V503,Data!$A$6:$A$1806,Data!$H$6:$H$1806)","v":0},{"$f":"LOOKUP($V503,Data!$A$6:$A$1806,Data!$I$6:$I$1806)","v":0},{"$f":"IF(LOOKUP($V503,Data!$A$6:$A$1806,Data!$J$6:$J$1806)>0,(LOOKUP($V503,Data!$A$6:$A$1806,Data!$J$6:$J$1806)*-1),LOOKUP($V503,Data!$A$6:$A$1806,Data!$J$6:$J$1806))","v":-653},{"$f":"LOOKUP($V503,Data!$A$6:$A$1806,Data!$K$6:$K$1806)","v":30461.01953125},135.1116943359375,null,null,null,null,null,null,null,null,null,null,null,null,null,null,null,2438.6406003159559,2.069091796875E-2," "]
[null,40679.347777776988,{"$f":"LOOKUP(B504,Data!$A$6:$A$1806,Data!B$6:B$1806)","v":59.976104736328125},{"$f":"LOOKUP(B504,Data!$A$6:$A$1806,Data!C$6:C$1806)","v":0},null,null,19590,{"$f":"(IF((C504-L$2)>0,(IF(C504<'Copy Results'!$C$3,((C504-L$2-L$5)/((L$4*L$2)-L$5)*G504*-1),(('Copy Results'!$C$3-L$2-L$5)/((L$4*L$2)-L$5)*G504*-1))),IF(C504>'Copy Results'!$C$2,((C504-L$2+L$5)/((L$4*L$2)-L$5)*G504*-1),(('Copy Results'!$C$2-L$2+L$5)/((L$4*L$2)-L$5)*G504*-1))))","v":156.03607177734375},139.83710202783419,null,null,0,119.20465214176826,{"$f":"AVERAGE(D$79:D504)","v":0},{"$f":"AVERAGE(M$79:M504)","v":125.60048998085745},-18.644902043525651,{"$f":"AVERAGE(P$79:P504)","v":48.269738373819067},null,null,null,null,40679.347777776988,{"$f":"LOOKUP($V504,Data!$A$6:$A$1806,Data!$B$6:$B$1806)","v":59.976104736328125},{"$f":"LOOKUP($V504,Data!$A$6:$A$1806,Data!$C$6:$C$1806)","v":0},{"$f":"LOOKUP($V504,Data!$A$6:$A$1806,Data!$D$6:$D$1806)","v":0},{"$f":"IF($Z$1=\"+\",LOOKUP($V504,Data!$A$6:$A$1806,Data!$E$6:$E$1806)*-1,LOOKUP($V504,Data!$A$6:$A$1806,Data!$E$6:$E$1806))","v":0},{"$f":"LOOKUP($V504,Data!$A$6:$A$1806,Data!$F$6:$F$1806)","v":0},null,{"$f":"LOOKUP($V504,Data!$A$6:$A$1806,Data!$H$6:$H$1806)","v":0},{"$f":"LOOKUP($V504,Data!$A$6:$A$1806,Data!$I$6:$I$1806)","v":0},{"$f":"IF(LOOKUP($V504,Data!$A$6:$A$1806,Data!$J$6:$J$1806)>0,(LOOKUP($V504,Data!$A$6:$A$1806,Data!$J$6:$J$1806)*-1),LOOKUP($V504,Data!$A$6:$A$1806,Data!$J$6:$J$1806))","v":-653},{"$f":"LOOKUP($V504,Data!$A$6:$A$1806,Data!$K$6:$K$1806)","v":30460.943359375},156.03607177734375,null,null,null,null,null,null,null,null,null,null,null,null,null,null,null,2091.6795392953932,2.3895263671875E-2," "]
[null,40679.347800925134,{"$f":"LOOKUP(B505,Data!$A$6:$A$1806,Data!B$6:B$1806)","v":59.975433349609375},{"$f":"LOOKUP(B505,Data!$A$6:$A$1806,Data!C$6:C$1806)","v":0},null,null,19590,{"$f":"(IF((C505-L$2)>0,(IF(C505<'Copy Results'!$C$3,((C505-L$2-L$5)/((L$4*L$2)-L$5)*G505*-1),(('Copy Results'!$C$3-L$2-L$5)/((L$4*L$2)-L$5)*G505*-1))),IF(C505>'Copy Results'!$C$2,((C505-L$2+L$5)/((L$4*L$2)-L$5)*G505*-1),(('Copy Results'!$C$2-L$2+L$5)/((L$4*L$2)-L$5)*G505*-1))))","v":160.42022705078125},147.04119578586565,null,null,0,126.40874589979973,{"$f":"AVERAGE(D$79:D505)","v":0},{"$f":"AVERAGE(M$79:M505)","v":125.60238285186199},-18.644902043525651,{"$f":"AVERAGE(P$79:P505)","v":48.112661753121074},null,null,null,null,40679.347800925134,{"$f":"LOOKUP($V505,Data!$A$6:$A$1806,Data!$B$6:$B$1806)","v":59.975433349609375},{"$f":"LOOKUP($V505,Data!$A$6:$A$1806,Data!$C$6:$C$1806)","v":0},{"$f":"LOOKUP($V505,Data!$A$6:$A$1806,Data!$D$6:$D$1806)","v":0},{"$f":"IF($Z$1=\"+\",LOOKUP($V505,Data!$A$6:$A$1806,Data!$E$6:$E$1806)*-1,LOOKUP($V505,Data!$A$6:$A$1806,Data!$E$6:$E$1806))","v":0},{"$f":"LOOKUP($V505,Data!$A$6:$A$1806,Data!$F$6:$F$1806)","v":0},null,{"$f":"LOOKUP($V505,Data!$A$6:$A$1806,Data!$H$6:$H$1806)","v":0},{"$f":"LOOKUP($V505,Data!$A$6:$A$1806,Data!$I$6:$I$1806)","v":0},{"$f":"IF(LOOKUP($V505,Data!$A$6:$A$1806,Data!$J$6:$J$1806)>0,(LOOKUP($V505,Data!$A$6:$A$1806,Data!$J$6:$J$1806)*-1),LOOKUP($V505,Data!$A$6:$A$1806,Data!$J$6:$J$1806))","v":-653},{"$f":"LOOKUP($V505,Data!$A$6:$A$1806,Data!$K$6:$K$1806)","v":30460.943359375},160.42022705078125,null,null,null,null,null,null,null,null,null,null,null,null,null,null,null,2031.1309210526315,2.4566650390625E-2," "]
[null,40679.34782407328,{"$f":"LOOKUP(B506,Data!$A$6:$A$1806,Data!B$6:B$1806)","v":59.97576904296875},{"$f":"LOOKUP(B506,Data!$A$6:$A$1806,Data!C$6:C$1806)","v":0},null,null,19590,{"$f":"(IF((C506-L$2)>0,(IF(C506<'Copy Results'!$C$3,((C506-L$2-L$5)/((L$4*L$2)-L$5)*G506*-1),(('Copy Results'!$C$3-L$2-L$5)/((L$4*L$2)-L$5)*G506*-1))),IF(C506>'Copy Results'!$C$2,((C506-L$2+L$5)/((L$4*L$2)-L$5)*G506*-1),(('Copy Results'!$C$2-L$2+L$5)/((L$4*L$2)-L$5)*G506*-1))))","v":158.2281494140625},150.95662955573454,null,null,0,130.32417966966861,{"$f":"AVERAGE(D$79:D506)","v":0},{"$f":"AVERAGE(M$79:M506)","v":125.61341508741761},-18.644902043525651,{"$f":"AVERAGE(P$79:P506)","v":47.956320854299889},null,null,null,null,40679.34782407328,{"$f":"LOOKUP($V506,Data!$A$6:$A$1806,Data!$B$6:$B$1806)","v":59.97576904296875},{"$f":"LOOKUP($V506,Data!$A$6:$A$1806,Data!$C$6:$C$1806)","v":0},{"$f":"LOOKUP($V506,Data!$A$6:$A$1806,Data!$D$6:$D$1806)","v":0},{"$f":"IF($Z$1=\"+\",LOOKUP($V506,Data!$A$6:$A$1806,Data!$E$6:$E$1806)*-1,LOOKUP($V506,Data!$A$6:$A$1806,Data!$E$6:$E$1806))","v":0},{"$f":"LOOKUP($V506,Data!$A$6:$A$1806,Data!$F$6:$F$1806)","v":0},null,{"$f":"LOOKUP($V506,Data!$A$6:$A$1806,Data!$H$6:$H$1806)","v":0},{"$f":"LOOKUP($V506,Data!$A$6:$A$1806,Data!$I$6:$I$1806)","v":0},{"$f":"IF(LOOKUP($V506,Data!$A$6:$A$1806,Data!$J$6:$J$1806)>0,(LOOKUP($V506,Data!$A$6:$A$1806,Data!$J$6:$J$1806)*-1),LOOKUP($V506,Data!$A$6:$A$1806,Data!$J$6:$J$1806))","v":-653},{"$f":"LOOKUP($V506,Data!$A$6:$A$1806,Data!$K$6:$K$1806)","v":30460.943359375},158.2281494140625,null,null,null,null,null,null,null,null,null,null,null,null,null,null,null,2060.9606141522031,2.423095703125E-2," "]
[null,40679.347847221426,{"$f":"LOOKUP(B507,Data!$A$6:$A$1806,Data!B$6:B$1806)","v":59.97674560546875},{"$f":"LOOKUP(B507,Data!$A$6:$A$1806,Data!C$6:C$1806)","v":0},null,null,19590,{"$f":"(IF((C507-L$2)>0,(IF(C507<'Copy Results'!$C$3,((C507-L$2-L$5)/((L$4*L$2)-L$5)*G507*-1),(('Copy Results'!$C$3-L$2-L$5)/((L$4*L$2)-L$5)*G507*-1))),IF(C507>'Copy Results'!$C$2,((C507-L$2+L$5)/((L$4*L$2)-L$5)*G507*-1),(('Copy Results'!$C$2-L$2+L$5)/((L$4*L$2)-L$5)*G507*-1))))","v":151.8511962890625},151.26972791239933,null,null,0,130.63727802633341,{"$f":"AVERAGE(D$79:D507)","v":0},{"$f":"AVERAGE(M$79:M507)","v":125.62512572363886},-18.644902043525651,{"$f":"AVERAGE(P$79:P507)","v":47.80071052042647},null,null,null,null,40679.347847221426,{"$f":"LOOKUP($V507,Data!$A$6:$A$1806,Data!$B$6:$B$1806)","v":59.97674560546875},{"$f":"LOOKUP($V507,Data!$A$6:$A$1806,Data!$C$6:$C$1806)","v":0},{"$f":"LOOKUP($V507,Data!$A$6:$A$1806,Data!$D$6:$D$1806)","v":0},{"$f":"IF($Z$1=\"+\",LOOKUP($V507,Data!$A$6:$A$1806,Data!$E$6:$E$1806)*-1,LOOKUP($V507,Data!$A$6:$A$1806,Data!$E$6:$E$1806))","v":0},{"$f":"LOOKUP($V507,Data!$A$6:$A$1806,Data!$F$6:$F$1806)","v":0},null,{"$f":"LOOKUP($V507,Data!$A$6:$A$1806,Data!$H$6:$H$1806)","v":0},{"$f":"LOOKUP($V507,Data!$A$6:$A$1806,Data!$I$6:$I$1806)","v":0},{"$f":"IF(LOOKUP($V507,Data!$A$6:$A$1806,Data!$J$6:$J$1806)>0,(LOOKUP($V507,Data!$A$6:$A$1806,Data!$J$6:$J$1806)*-1),LOOKUP($V507,Data!$A$6:$A$1806,Data!$J$6:$J$1806))","v":-653},{"$f":"LOOKUP($V507,Data!$A$6:$A$1806,Data!$K$6:$K$1806)","v":30460.943359375},151.8511962890625,null,null,null,null,null,null,null,null,null,null,null,null,null,null,null,2152.9421199442122,2.325439453125E-2," "]
[null,40679.347870369573,{"$f":"LOOKUP(B508,Data!$A$6:$A$1806,Data!B$6:B$1806)","v":59.97802734375},{"$f":"LOOKUP(B508,Data!$A$6:$A$1806,Data!C$6:C$1806)","v":0},null,null,19590,{"$f":"(IF((C508-L$2)>0,(IF(C508<'Copy Results'!$C$3,((C508-L$2-L$5)/((L$4*L$2)-L$5)*G508*-1),(('Copy Results'!$C$3-L$2-L$5)/((L$4*L$2)-L$5)*G508*-1))),IF(C508>'Copy Results'!$C$2,((C508-L$2+L$5)/((L$4*L$2)-L$5)*G508*-1),(('Copy Results'!$C$2-L$2+L$5)/((L$4*L$2)-L$5)*G508*-1))))","v":143.4814453125},148.54382900243456,null,null,0,127.91137911636864,{"$f":"AVERAGE(D$79:D508)","v":0},{"$f":"AVERAGE(M$79:M508)","v":125.63044259199405},-18.644902043525651,{"$f":"AVERAGE(P$79:P508)","v":47.645825642655019},null,null,null,null,40679.347870369573,{"$f":"LOOKUP($V508,Data!$A$6:$A$1806,Data!$B$6:$B$1806)","v":59.97802734375},{"$f":"LOOKUP($V508,Data!$A$6:$A$1806,Data!$C$6:$C$1806)","v":0},{"$f":"LOOKUP($V508,Data!$A$6:$A$1806,Data!$D$6:$D$1806)","v":0},{"$f":"IF($Z$1=\"+\",LOOKUP($V508,Data!$A$6:$A$1806,Data!$E$6:$E$1806)*-1,LOOKUP($V508,Data!$A$6:$A$1806,Data!$E$6:$E$1806))","v":0},{"$f":"LOOKUP($V508,Data!$A$6:$A$1806,Data!$F$6:$F$1806)","v":0},null,{"$f":"LOOKUP($V508,Data!$A$6:$A$1806,Data!$H$6:$H$1806)","v":0},{"$f":"LOOKUP($V508,Data!$A$6:$A$1806,Data!$I$6:$I$1806)","v":0},{"$f":"IF(LOOKUP($V508,Data!$A$6:$A$1806,Data!$J$6:$J$1806)>0,(LOOKUP($V508,Data!$A$6:$A$1806,Data!$J$6:$J$1806)*-1),LOOKUP($V508,Data!$A$6:$A$1806,Data!$J$6:$J$1806))","v":-653},{"$f":"LOOKUP($V508,Data!$A$6:$A$1806,Data!$K$6:$K$1806)","v":30469.23046875},143.4814453125,null,null,null,null,null,null,null,null,null,null,null,null,null,null,null,2286.9029629629631,2.197265625E-2," "]
[null,40679.347893517719,{"$f":"LOOKUP(B509,Data!$A$6:$A$1806,Data!B$6:B$1806)","v":59.97900390625},{"$f":"LOOKUP(B509,Data!$A$6:$A$1806,Data!C$6:C$1806)","v":0},null,null,19590,{"$f":"(IF((C509-L$2)>0,(IF(C509<'Copy Results'!$C$3,((C509-L$2-L$5)/((L$4*L$2)-L$5)*G509*-1),(('Copy Results'!$C$3-L$2-L$5)/((L$4*L$2)-L$5)*G509*-1))),IF(C509>'Copy Results'!$C$2,((C509-L$2+L$5)/((L$4*L$2)-L$5)*G509*-1),(('Copy Results'!$C$2-L$2+L$5)/((L$4*L$2)-L$5)*G509*-1))))","v":137.1044921875},144.54006111720747,null,null,0,123.90761123114154,{"$f":"AVERAGE(D$79:D509)","v":0},{"$f":"AVERAGE(M$79:M509)","v":125.62644530345379},-18.644902043525651,{"$f":"AVERAGE(P$79:P509)","v":47.491661159663906},null,null,null,null,40679.347893517719,{"$f":"LOOKUP($V509,Data!$A$6:$A$1806,Data!$B$6:$B$1806)","v":59.97900390625},{"$f":"LOOKUP($V509,Data!$A$6:$A$1806,Data!$C$6:$C$1806)","v":0},{"$f":"LOOKUP($V509,Data!$A$6:$A$1806,Data!$D$6:$D$1806)","v":0},{"$f":"IF($Z$1=\"+\",LOOKUP($V509,Data!$A$6:$A$1806,Data!$E$6:$E$1806)*-1,LOOKUP($V509,Data!$A$6:$A$1806,Data!$E$6:$E$1806))","v":0},{"$f":"LOOKUP($V509,Data!$A$6:$A$1806,Data!$F$6:$F$1806)","v":0},null,{"$f":"LOOKUP($V509,Data!$A$6:$A$1806,Data!$H$6:$H$1806)","v":0},{"$f":"LOOKUP($V509,Data!$A$6:$A$1806,Data!$I$6:$I$1806)","v":0},{"$f":"IF(LOOKUP($V509,Data!$A$6:$A$1806,Data!$J$6:$J$1806)>0,(LOOKUP($V509,Data!$A$6:$A$1806,Data!$J$6:$J$1806)*-1),LOOKUP($V509,Data!$A$6:$A$1806,Data!$J$6:$J$1806))","v":-653},{"$f":"LOOKUP($V509,Data!$A$6:$A$1806,Data!$K$6:$K$1806)","v":30469.23046875},137.1044921875,null,null,null,null,null,null,null,null,null,null,null,null,null,null,null,2400.7146189735613,2.099609375E-2," "]
[null,40679.347916665865,{"$f":"LOOKUP(B510,Data!$A$6:$A$1806,Data!B$6:B$1806)","v":59.979644775390625},{"$f":"LOOKUP(B510,Data!$A$6:$A$1806,Data!C$6:C$1806)","v":0},null,null,19590,{"$f":"(IF((C510-L$2)>0,(IF(C510<'Copy Results'!$C$3,((C510-L$2-L$5)/((L$4*L$2)-L$5)*G510*-1),(('Copy Results'!$C$3-L$2-L$5)/((L$4*L$2)-L$5)*G510*-1))),IF(C510>'Copy Results'!$C$2,((C510-L$2+L$5)/((L$4*L$2)-L$5)*G510*-1),(('Copy Results'!$C$2-L$2+L$5)/((L$4*L$2)-L$5)*G510*-1))))","v":132.91961669921875},140.47290557091142,null,null,0,119.84045568484549,{"$f":"AVERAGE(D$79:D510)","v":0},{"$f":"AVERAGE(M$79:M510)","v":125.61305180896628},-18.644902043525651,{"$f":"AVERAGE(P$79:P510)","v":47.338212057104307},null,null,null,null,40679.347916665865,{"$f":"LOOKUP($V510,Data!$A$6:$A$1806,Data!$B$6:$B$1806)","v":59.979644775390625},{"$f":"LOOKUP($V510,Data!$A$6:$A$1806,Data!$C$6:$C$1806)","v":0},{"$f":"LOOKUP($V510,Data!$A$6:$A$1806,Data!$D$6:$D$1806)","v":0},{"$f":"IF($Z$1=\"+\",LOOKUP($V510,Data!$A$6:$A$1806,Data!$E$6:$E$1806)*-1,LOOKUP($V510,Data!$A$6:$A$1806,Data!$E$6:$E$1806))","v":0},{"$f":"LOOKUP($V510,Data!$A$6:$A$1806,Data!$F$6:$F$1806)","v":0},null,{"$f":"LOOKUP($V510,Data!$A$6:$A$1806,Data!$H$6:$H$1806)","v":0},{"$f":"LOOKUP($V510,Data!$A$6:$A$1806,Data!$I$6:$I$1806)","v":0},{"$f":"IF(LOOKUP($V510,Data!$A$6:$A$1806,Data!$J$6:$J$1806)>0,(LOOKUP($V510,Data!$A$6:$A$1806,Data!$J$6:$J$1806)*-1),LOOKUP($V510,Data!$A$6:$A$1806,Data!$J$6:$J$1806))","v":-653},{"$f":"LOOKUP($V510,Data!$A$6:$A$1806,Data!$K$6:$K$1806)","v":30469.23046875},132.91961669921875,null,null,null,null,null,null,null,null,null,null,null,null,null,null,null,2481.7676848874598,2.0355224609375E-2," "]
[null,40679.347939814012,{"$f":"LOOKUP(B511,Data!$A$6:$A$1806,Data!B$6:B$1806)","v":59.980621337890625},{"$f":"LOOKUP(B511,Data!$A$6:$A$1806,Data!C$6:C$1806)","v":0},null,null,19590,{"$f":"(IF((C511-L$2)>0,(IF(C511<'Copy Results'!$C$3,((C511-L$2-L$5)/((L$4*L$2)-L$5)*G511*-1),(('Copy Results'!$C$3-L$2-L$5)/((L$4*L$2)-L$5)*G511*-1))),IF(C511>'Copy Results'!$C$2,((C511-L$2+L$5)/((L$4*L$2)-L$5)*G511*-1),(('Copy Results'!$C$2-L$2+L$5)/((L$4*L$2)-L$5)*G511*-1))))","v":126.54266357421875},135.59732087206899,null,null,0,114.96487098600306,{"$f":"AVERAGE(D$79:D511)","v":0},{"$f":"AVERAGE(M$79:M511)","v":125.58846016734282},-18.644902043525651,{"$f":"AVERAGE(P$79:P511)","v":47.185473367056552},null,null,null,null,40679.347939814012,{"$f":"LOOKUP($V511,Data!$A$6:$A$1806,Data!$B$6:$B$1806)","v":59.980621337890625},{"$f":"LOOKUP($V511,Data!$A$6:$A$1806,Data!$C$6:$C$1806)","v":0},{"$f":"LOOKUP($V511,Data!$A$6:$A$1806,Data!$D$6:$D$1806)","v":0},{"$f":"IF($Z$1=\"+\",LOOKUP($V511,Data!$A$6:$A$1806,Data!$E$6:$E$1806)*-1,LOOKUP($V511,Data!$A$6:$A$1806,Data!$E$6:$E$1806))","v":0},{"$f":"LOOKUP($V511,Data!$A$6:$A$1806,Data!$F$6:$F$1806)","v":0},null,{"$f":"LOOKUP($V511,Data!$A$6:$A$1806,Data!$H$6:$H$1806)","v":0},{"$f":"LOOKUP($V511,Data!$A$6:$A$1806,Data!$I$6:$I$1806)","v":0},{"$f":"IF(LOOKUP($V511,Data!$A$6:$A$1806,Data!$J$6:$J$1806)>0,(LOOKUP($V511,Data!$A$6:$A$1806,Data!$J$6:$J$1806)*-1),LOOKUP($V511,Data!$A$6:$A$1806,Data!$J$6:$J$1806))","v":-653},{"$f":"LOOKUP($V511,Data!$A$6:$A$1806,Data!$K$6:$K$1806)","v":30469.23046875},126.54266357421875,null,null,null,null,null,null,null,null,null,null,null,null,null,null,null,2616.3720338983053,1.9378662109375E-2," "]
[null,40679.347962962158,{"$f":"LOOKUP(B512,Data!$A$6:$A$1806,Data!B$6:B$1806)","v":59.981903076171875},{"$f":"LOOKUP(B512,Data!$A$6:$A$1806,Data!C$6:C$1806)","v":0},null,null,19590,{"$f":"(IF((C512-L$2)>0,(IF(C512<'Copy Results'!$C$3,((C512-L$2-L$5)/((L$4*L$2)-L$5)*G512*-1),(('Copy Results'!$C$3-L$2-L$5)/((L$4*L$2)-L$5)*G512*-1))),IF(C512>'Copy Results'!$C$2,((C512-L$2+L$5)/((L$4*L$2)-L$5)*G512*-1),(('Copy Results'!$C$2-L$2+L$5)/((L$4*L$2)-L$5)*G512*-1))))","v":118.17291259765625},129.49877797602454,null,null,0,108.86632808995861,{"$f":"AVERAGE(D$79:D512)","v":0},{"$f":"AVERAGE(M$79:M512)","v":125.54992990909999},-18.644902043525651,{"$f":"AVERAGE(P$79:P512)","v":47.033440167494007},null,null,null,null,40679.347962962158,{"$f":"LOOKUP($V512,Data!$A$6:$A$1806,Data!$B$6:$B$1806)","v":59.981903076171875},{"$f":"LOOKUP($V512,Data!$A$6:$A$1806,Data!$C$6:$C$1806)","v":0},{"$f":"LOOKUP($V512,Data!$A$6:$A$1806,Data!$D$6:$D$1806)","v":0},{"$f":"IF($Z$1=\"+\",LOOKUP($V512,Data!$A$6:$A$1806,Data!$E$6:$E$1806)*-1,LOOKUP($V512,Data!$A$6:$A$1806,Data!$E$6:$E$1806))","v":0},{"$f":"LOOKUP($V512,Data!$A$6:$A$1806,Data!$F$6:$F$1806)","v":0},null,{"$f":"LOOKUP($V512,Data!$A$6:$A$1806,Data!$H$6:$H$1806)","v":0},{"$f":"LOOKUP($V512,Data!$A$6:$A$1806,Data!$I$6:$I$1806)","v":0},{"$f":"IF(LOOKUP($V512,Data!$A$6:$A$1806,Data!$J$6:$J$1806)>0,(LOOKUP($V512,Data!$A$6:$A$1806,Data!$J$6:$J$1806)*-1),LOOKUP($V512,Data!$A$6:$A$1806,Data!$J$6:$J$1806))","v":-653},{"$f":"LOOKUP($V512,Data!$A$6:$A$1806,Data!$K$6:$K$1806)","v":30481.486328125},118.17291259765625,null,null,null,null,null,null,null,null,null,null,null,null,null,null,null,2816.8968978102189,1.8096923828125E-2," "]
[null,40679.347986110304,{"$f":"LOOKUP(B513,Data!$A$6:$A$1806,Data!B$6:B$1806)","v":59.98223876953125},{"$f":"LOOKUP(B513,Data!$A$6:$A$1806,Data!C$6:C$1806)","v":0},null,null,19590,{"$f":"(IF((C513-L$2)>0,(IF(C513<'Copy Results'!$C$3,((C513-L$2-L$5)/((L$4*L$2)-L$5)*G513*-1),(('Copy Results'!$C$3-L$2-L$5)/((L$4*L$2)-L$5)*G513*-1))),IF(C513>'Copy Results'!$C$2,((C513-L$2+L$5)/((L$4*L$2)-L$5)*G513*-1),(('Copy Results'!$C$2-L$2+L$5)/((L$4*L$2)-L$5)*G513*-1))))","v":115.9808349609375},124.76749792074408,null,null,0,104.13504803467815,{"$f":"AVERAGE(D$79:D513)","v":0},{"$f":"AVERAGE(M$79:M513)","v":125.50070029559558},-18.644902043525651,{"$f":"AVERAGE(P$79:P513)","v":46.882107581754333},null,null,null,null,40679.347986110304,{"$f":"LOOKUP($V513,Data!$A$6:$A$1806,Data!$B$6:$B$1806)","v":59.98223876953125},{"$f":"LOOKUP($V513,Data!$A$6:$A$1806,Data!$C$6:$C$1806)","v":0},{"$f":"LOOKUP($V513,Data!$A$6:$A$1806,Data!$D$6:$D$1806)","v":0},{"$f":"IF($Z$1=\"+\",LOOKUP($V513,Data!$A$6:$A$1806,Data!$E$6:$E$1806)*-1,LOOKUP($V513,Data!$A$6:$A$1806,Data!$E$6:$E$1806))","v":0},{"$f":"LOOKUP($V513,Data!$A$6:$A$1806,Data!$F$6:$F$1806)","v":0},null,{"$f":"LOOKUP($V513,Data!$A$6:$A$1806,Data!$H$6:$H$1806)","v":0},{"$f":"LOOKUP($V513,Data!$A$6:$A$1806,Data!$I$6:$I$1806)","v":0},{"$f":"IF(LOOKUP($V513,Data!$A$6:$A$1806,Data!$J$6:$J$1806)>0,(LOOKUP($V513,Data!$A$6:$A$1806,Data!$J$6:$J$1806)*-1),LOOKUP($V513,Data!$A$6:$A$1806,Data!$J$6:$J$1806))","v":-653},{"$f":"LOOKUP($V513,Data!$A$6:$A$1806,Data!$K$6:$K$1806)","v":30481.486328125},115.9808349609375,null,null,null,null,null,null,null,null,null,null,null,null,null,null,null,2874.5986964618251,1.776123046875E-2," "]
[null,40679.34800925845,{"$f":"LOOKUP(B514,Data!$A$6:$A$1806,Data!B$6:B$1806)","v":59.9825439453125},{"$f":"LOOKUP(B514,Data!$A$6:$A$1806,Data!C$6:C$1806)","v":0},null,null,19590,{"$f":"(IF((C514-L$2)>0,(IF(C514<'Copy Results'!$C$3,((C514-L$2-L$5)/((L$4*L$2)-L$5)*G514*-1),(('Copy Results'!$C$3-L$2-L$5)/((L$4*L$2)-L$5)*G514*-1))),IF(C514>'Copy Results'!$C$2,((C514-L$2+L$5)/((L$4*L$2)-L$5)*G514*-1),(('Copy Results'!$C$2-L$2+L$5)/((L$4*L$2)-L$5)*G514*-1))))","v":113.988037109375},120.9946866367649,null,null,0,100.36223675069897,{"$f":"AVERAGE(D$79:D514)","v":0},{"$f":"AVERAGE(M$79:M514)","v":125.44304326911646},-18.644902043525651,{"$f":"AVERAGE(P$79:P514)","v":46.731470778018057},null,null,null,null,40679.34800925845,{"$f":"LOOKUP($V514,Data!$A$6:$A$1806,Data!$B$6:$B$1806)","v":59.9825439453125},{"$f":"LOOKUP($V514,Data!$A$6:$A$1806,Data!$C$6:$C$1806)","v":0},{"$f":"LOOKUP($V514,Data!$A$6:$A$1806,Data!$D$6:$D$1806)","v":0},{"$f":"IF($Z$1=\"+\",LOOKUP($V514,Data!$A$6:$A$1806,Data!$E$6:$E$1806)*-1,LOOKUP($V514,Data!$A$6:$A$1806,Data!$E$6:$E$1806))","v":0},{"$f":"LOOKUP($V514,Data!$A$6:$A$1806,Data!$F$6:$F$1806)","v":0},null,{"$f":"LOOKUP($V514,Data!$A$6:$A$1806,Data!$H$6:$H$1806)","v":0},{"$f":"LOOKUP($V514,Data!$A$6:$A$1806,Data!$I$6:$I$1806)","v":0},{"$f":"IF(LOOKUP($V514,Data!$A$6:$A$1806,Data!$J$6:$J$1806)>0,(LOOKUP($V514,Data!$A$6:$A$1806,Data!$J$6:$J$1806)*-1),LOOKUP($V514,Data!$A$6:$A$1806,Data!$J$6:$J$1806))","v":-653},{"$f":"LOOKUP($V514,Data!$A$6:$A$1806,Data!$K$6:$K$1806)","v":30480.28515625},113.988037109375,null,null,null,null,null,null,null,null,null,null,null,null,null,null,null,2929.1451612903224,1.74560546875E-2," "]
[null,40679.348032406597,{"$f":"LOOKUP(B515,Data!$A$6:$A$1806,Data!B$6:B$1806)","v":59.982879638671875},{"$f":"LOOKUP(B515,Data!$A$6:$A$1806,Data!C$6:C$1806)","v":0},null,null,19590,{"$f":"(IF((C515-L$2)>0,(IF(C515<'Copy Results'!$C$3,((C515-L$2-L$5)/((L$4*L$2)-L$5)*G515*-1),(('Copy Results'!$C$3-L$2-L$5)/((L$4*L$2)-L$5)*G515*-1))),IF(C515>'Copy Results'!$C$2,((C515-L$2+L$5)/((L$4*L$2)-L$5)*G515*-1),(('Copy Results'!$C$2-L$2+L$5)/((L$4*L$2)-L$5)*G515*-1))))","v":111.79595947265625},117.77513212932688,null,null,0,97.14268224326095,{"$f":"AVERAGE(D$79:D515)","v":0},{"$f":"AVERAGE(M$79:M515)","v":125.37828271756987},-18.644902043525651,{"$f":"AVERAGE(P$79:P515)","v":46.581524968794341},null,null,null,null,40679.348032406597,{"$f":"LOOKUP($V515,Data!$A$6:$A$1806,Data!$B$6:$B$1806)","v":59.982879638671875},{"$f":"LOOKUP($V515,Data!$A$6:$A$1806,Data!$C$6:$C$1806)","v":0},{"$f":"LOOKUP($V515,Data!$A$6:$A$1806,Data!$D$6:$D$1806)","v":0},{"$f":"IF($Z$1=\"+\",LOOKUP($V515,Data!$A$6:$A$1806,Data!$E$6:$E$1806)*-1,LOOKUP($V515,Data!$A$6:$A$1806,Data!$E$6:$E$1806))","v":0},{"$f":"LOOKUP($V515,Data!$A$6:$A$1806,Data!$F$6:$F$1806)","v":0},null,{"$f":"LOOKUP($V515,Data!$A$6:$A$1806,Data!$H$6:$H$1806)","v":0},{"$f":"LOOKUP($V515,Data!$A$6:$A$1806,Data!$I$6:$I$1806)","v":0},{"$f":"IF(LOOKUP($V515,Data!$A$6:$A$1806,Data!$J$6:$J$1806)>0,(LOOKUP($V515,Data!$A$6:$A$1806,Data!$J$6:$J$1806)*-1),LOOKUP($V515,Data!$A$6:$A$1806,Data!$J$6:$J$1806))","v":-653},{"$f":"LOOKUP($V515,Data!$A$6:$A$1806,Data!$K$6:$K$1806)","v":30480.28515625},111.79595947265625,null,null,null,null,null,null,null,null,null,null,null,null,null,null,null,2991.5881782945735,1.7120361328125E-2," "]
[null,40679.348055554743,{"$f":"LOOKUP(B516,Data!$A$6:$A$1806,Data!B$6:B$1806)","v":59.9825439453125},{"$f":"LOOKUP(B516,Data!$A$6:$A$1806,Data!C$6:C$1806)","v":0},null,null,19590,{"$f":"(IF((C516-L$2)>0,(IF(C516<'Copy Results'!$C$3,((C516-L$2-L$5)/((L$4*L$2)-L$5)*G516*-1),(('Copy Results'!$C$3-L$2-L$5)/((L$4*L$2)-L$5)*G516*-1))),IF(C516>'Copy Results'!$C$2,((C516-L$2+L$5)/((L$4*L$2)-L$5)*G516*-1),(('Copy Results'!$C$2-L$2+L$5)/((L$4*L$2)-L$5)*G516*-1))))","v":113.988037109375},116.44964887234373,null,null,0,95.817198986277802,{"$f":"AVERAGE(D$79:D516)","v":0},{"$f":"AVERAGE(M$79:M516)","v":125.31079165882262},-18.644902043525651,{"$f":"AVERAGE(P$79:P516)","v":46.432265410413741},null,null,null,null,40679.348055554743,{"$f":"LOOKUP($V516,Data!$A$6:$A$1806,Data!$B$6:$B$1806)","v":59.9825439453125},{"$f":"LOOKUP($V516,Data!$A$6:$A$1806,Data!$C$6:$C$1806)","v":0},{"$f":"LOOKUP($V516,Data!$A$6:$A$1806,Data!$D$6:$D$1806)","v":0},{"$f":"IF($Z$1=\"+\",LOOKUP($V516,Data!$A$6:$A$1806,Data!$E$6:$E$1806)*-1,LOOKUP($V516,Data!$A$6:$A$1806,Data!$E$6:$E$1806))","v":0},{"$f":"LOOKUP($V516,Data!$A$6:$A$1806,Data!$F$6:$F$1806)","v":0},null,{"$f":"LOOKUP($V516,Data!$A$6:$A$1806,Data!$H$6:$H$1806)","v":0},{"$f":"LOOKUP($V516,Data!$A$6:$A$1806,Data!$I$6:$I$1806)","v":0},{"$f":"IF(LOOKUP($V516,Data!$A$6:$A$1806,Data!$J$6:$J$1806)>0,(LOOKUP($V516,Data!$A$6:$A$1806,Data!$J$6:$J$1806)*-1),LOOKUP($V516,Data!$A$6:$A$1806,Data!$J$6:$J$1806))","v":-653},{"$f":"LOOKUP($V516,Data!$A$6:$A$1806,Data!$K$6:$K$1806)","v":30480.28515625},113.988037109375,null,null,null,null,null,null,null,null,null,null,null,null,null,null,null,2929.1451612903224,1.74560546875E-2," "]
[null,40679.348078702889,{"$f":"LOOKUP(B517,Data!$A$6:$A$1806,Data!B$6:B$1806)","v":59.9825439453125},{"$f":"LOOKUP(B517,Data!$A$6:$A$1806,Data!C$6:C$1806)","v":0},null,null,19590,{"$f":"(IF((C517-L$2)>0,(IF(C517<'Copy Results'!$C$3,((C517-L$2-L$5)/((L$4*L$2)-L$5)*G517*-1),(('Copy Results'!$C$3-L$2-L$5)/((L$4*L$2)-L$5)*G517*-1))),IF(C517>'Copy Results'!$C$2,((C517-L$2+L$5)/((L$4*L$2)-L$5)*G517*-1),(('Copy Results'!$C$2-L$2+L$5)/((L$4*L$2)-L$5)*G517*-1))))","v":113.988037109375},115.58808475530468,null,null,0,94.95563486923875,{"$f":"AVERAGE(D$79:D517)","v":0},{"$f":"AVERAGE(M$79:M517)","v":125.24164551579398},-18.644902043525651,{"$f":"AVERAGE(P$79:P517)","v":46.283687402528038},null,null,null,null,40679.348078702889,{"$f":"LOOKUP($V517,Data!$A$6:$A$1806,Data!$B$6:$B$1806)","v":59.9825439453125},{"$f":"LOOKUP($V517,Data!$A$6:$A$1806,Data!$C$6:$C$1806)","v":0},{"$f":"LOOKUP($V517,Data!$A$6:$A$1806,Data!$D$6:$D$1806)","v":0},{"$f":"IF($Z$1=\"+\",LOOKUP($V517,Data!$A$6:$A$1806,Data!$E$6:$E$1806)*-1,LOOKUP($V517,Data!$A$6:$A$1806,Data!$E$6:$E$1806))","v":0},{"$f":"LOOKUP($V517,Data!$A$6:$A$1806,Data!$F$6:$F$1806)","v":0},null,{"$f":"LOOKUP($V517,Data!$A$6:$A$1806,Data!$H$6:$H$1806)","v":0},{"$f":"LOOKUP($V517,Data!$A$6:$A$1806,Data!$I$6:$I$1806)","v":0},{"$f":"IF(LOOKUP($V517,Data!$A$6:$A$1806,Data!$J$6:$J$1806)>0,(LOOKUP($V517,Data!$A$6:$A$1806,Data!$J$6:$J$1806)*-1),LOOKUP($V517,Data!$A$6:$A$1806,Data!$J$6:$J$1806))","v":-653},{"$f":"LOOKUP($V517,Data!$A$6:$A$1806,Data!$K$6:$K$1806)","v":30480.28515625},113.988037109375,null,null,null,null,null,null,null,null,null,null,null,null,null,null,null,2929.1451612903224,1.74560546875E-2," "]
[null,40679.348101851036,{"$f":"LOOKUP(B518,Data!$A$6:$A$1806,Data!B$6:B$1806)","v":59.982879638671875},{"$f":"LOOKUP(B518,Data!$A$6:$A$1806,Data!C$6:C$1806)","v":0},null,null,19590,{"$f":"(IF((C518-L$2)>0,(IF(C518<'Copy Results'!$C$3,((C518-L$2-L$5)/((L$4*L$2)-L$5)*G518*-1),(('Copy Results'!$C$3-L$2-L$5)/((L$4*L$2)-L$5)*G518*-1))),IF(C518>'Copy Results'!$C$2,((C518-L$2+L$5)/((L$4*L$2)-L$5)*G518*-1),(('Copy Results'!$C$2-L$2+L$5)/((L$4*L$2)-L$5)*G518*-1))))","v":111.79595947265625},114.26084090637774,null,null,0,93.62839102031181,{"$f":"AVERAGE(D$79:D518)","v":0},{"$f":"AVERAGE(M$79:M518)","v":125.16979721012243},-18.644902043525651,{"$f":"AVERAGE(P$79:P518)","v":46.13578628761676},null,null,null,null,40679.348101851036,{"$f":"LOOKUP($V518,Data!$A$6:$A$1806,Data!$B$6:$B$1806)","v":59.982879638671875},{"$f":"LOOKUP($V518,Data!$A$6:$A$1806,Data!$C$6:$C$1806)","v":0},{"$f":"LOOKUP($V518,Data!$A$6:$A$1806,Data!$D$6:$D$1806)","v":0},{"$f":"IF($Z$1=\"+\",LOOKUP($V518,Data!$A$6:$A$1806,Data!$E$6:$E$1806)*-1,LOOKUP($V518,Data!$A$6:$A$1806,Data!$E$6:$E$1806))","v":0},{"$f":"LOOKUP($V518,Data!$A$6:$A$1806,Data!$F$6:$F$1806)","v":0},null,{"$f":"LOOKUP($V518,Data!$A$6:$A$1806,Data!$H$6:$H$1806)","v":0},{"$f":"LOOKUP($V518,Data!$A$6:$A$1806,Data!$I$6:$I$1806)","v":0},{"$f":"IF(LOOKUP($V518,Data!$A$6:$A$1806,Data!$J$6:$J$1806)>0,(LOOKUP($V518,Data!$A$6:$A$1806,Data!$J$6:$J$1806)*-1),LOOKUP($V518,Data!$A$6:$A$1806,Data!$J$6:$J$1806))","v":-653},{"$f":"LOOKUP($V518,Data!$A$6:$A$1806,Data!$K$6:$K$1806)","v":30473.146484375},111.79595947265625,null,null,null,null,null,null,null,null,null,null,null,null,null,null,null,2991.5881782945735,1.7120361328125E-2," "]
[null,40679.348124999182,{"$f":"LOOKUP(B519,Data!$A$6:$A$1806,Data!B$6:B$1806)","v":59.986114501953125},{"$f":"LOOKUP(B519,Data!$A$6:$A$1806,Data!C$6:C$1806)","v":0},null,null,19590,{"$f":"(IF((C519-L$2)>0,(IF(C519<'Copy Results'!$C$3,((C519-L$2-L$5)/((L$4*L$2)-L$5)*G519*-1),(('Copy Results'!$C$3-L$2-L$5)/((L$4*L$2)-L$5)*G519*-1))),IF(C519>'Copy Results'!$C$2,((C519-L$2+L$5)/((L$4*L$2)-L$5)*G519*-1),(('Copy Results'!$C$2-L$2+L$5)/((L$4*L$2)-L$5)*G519*-1))))","v":90.67230224609375},106.00485237527835,null,null,0,85.372402489212419,{"$f":"AVERAGE(D$79:D519)","v":0},{"$f":"AVERAGE(M$79:M519)","v":125.07955368467819},-18.644902043525651,{"$f":"AVERAGE(P$79:P519)","v":45.988557450500529},null,null,null,null,40679.348124999182,{"$f":"LOOKUP($V519,Data!$A$6:$A$1806,Data!$B$6:$B$1806)","v":59.986114501953125},{"$f":"LOOKUP($V519,Data!$A$6:$A$1806,Data!$C$6:$C$1806)","v":0},{"$f":"LOOKUP($V519,Data!$A$6:$A$1806,Data!$D$6:$D$1806)","v":0},{"$f":"IF($Z$1=\"+\",LOOKUP($V519,Data!$A$6:$A$1806,Data!$E$6:$E$1806)*-1,LOOKUP($V519,Data!$A$6:$A$1806,Data!$E$6:$E$1806))","v":0},{"$f":"LOOKUP($V519,Data!$A$6:$A$1806,Data!$F$6:$F$1806)","v":0},null,{"$f":"LOOKUP($V519,Data!$A$6:$A$1806,Data!$H$6:$H$1806)","v":0},{"$f":"LOOKUP($V519,Data!$A$6:$A$1806,Data!$I$6:$I$1806)","v":0},{"$f":"IF(LOOKUP($V519,Data!$A$6:$A$1806,Data!$J$6:$J$1806)>0,(LOOKUP($V519,Data!$A$6:$A$1806,Data!$J$6:$J$1806)*-1),LOOKUP($V519,Data!$A$6:$A$1806,Data!$J$6:$J$1806))","v":-653},{"$f":"LOOKUP($V519,Data!$A$6:$A$1806,Data!$K$6:$K$1806)","v":30473.146484375},90.67230224609375,null,null,null,null,null,null,null,null,null,null,null,null,null,null,null,3765.0231707317075,1.3885498046875E-2," "]
[null,40679.348148147328,{"$f":"LOOKUP(B520,Data!$A$6:$A$1806,Data!B$6:B$1806)","v":59.993865966796875},{"$f":"LOOKUP(B520,Data!$A$6:$A$1806,Data!C$6:C$1806)","v":0},null,null,19590,{"$f":"(IF((C520-L$2)>0,(IF(C520<'Copy Results'!$C$3,((C520-L$2-L$5)/((L$4*L$2)-L$5)*G520*-1),(('Copy Results'!$C$3-L$2-L$5)/((L$4*L$2)-L$5)*G520*-1))),IF(C520>'Copy Results'!$C$2,((C520-L$2+L$5)/((L$4*L$2)-L$5)*G520*-1),(('Copy Results'!$C$2-L$2+L$5)/((L$4*L$2)-L$5)*G520*-1))))","v":40.05523681640625},82.922486929673113,null,null,0,62.290037043607185,{"$f":"AVERAGE(D$79:D520)","v":0},{"$f":"AVERAGE(M$79:M520)","v":124.937495954721},-18.644902043525651,{"$f":"AVERAGE(P$79:P520)","v":45.841996317861017},null,null,null,null,40679.348148147328,{"$f":"LOOKUP($V520,Data!$A$6:$A$1806,Data!$B$6:$B$1806)","v":59.993865966796875},{"$f":"LOOKUP($V520,Data!$A$6:$A$1806,Data!$C$6:$C$1806)","v":0},{"$f":"LOOKUP($V520,Data!$A$6:$A$1806,Data!$D$6:$D$1806)","v":0},{"$f":"IF($Z$1=\"+\",LOOKUP($V520,Data!$A$6:$A$1806,Data!$E$6:$E$1806)*-1,LOOKUP($V520,Data!$A$6:$A$1806,Data!$E$6:$E$1806))","v":0},{"$f":"LOOKUP($V520,Data!$A$6:$A$1806,Data!$F$6:$F$1806)","v":0},null,{"$f":"LOOKUP($V520,Data!$A$6:$A$1806,Data!$H$6:$H$1806)","v":0},{"$f":"LOOKUP($V520,Data!$A$6:$A$1806,Data!$I$6:$I$1806)","v":0},{"$f":"IF(LOOKUP($V520,Data!$A$6:$A$1806,Data!$J$6:$J$1806)>0,(LOOKUP($V520,Data!$A$6:$A$1806,Data!$J$6:$J$1806)*-1),LOOKUP($V520,Data!$A$6:$A$1806,Data!$J$6:$J$1806))","v":-653},{"$f":"LOOKUP($V520,Data!$A$6:$A$1806,Data!$K$6:$K$1806)","v":30473.146484375},40.05523681640625,null,null,null,null,null,null,null,null,null,null,null,null,null,null,null,9895.2532051282051,6.134033203125E-3," "]
[null,40679.348171295474,{"$f":"LOOKUP(B521,Data!$A$6:$A$1806,Data!B$6:B$1806)","v":60.00225830078125},{"$f":"LOOKUP(B521,Data!$A$6:$A$1806,Data!C$6:C$1806)","v":0},null,null,19590,{"$f":"(IF((C521-L$2)>0,(IF(C521<'Copy Results'!$C$3,((C521-L$2-L$5)/((L$4*L$2)-L$5)*G521*-1),(('Copy Results'!$C$3-L$2-L$5)/((L$4*L$2)-L$5)*G521*-1))),IF(C521>'Copy Results'!$C$2,((C521-L$2+L$5)/((L$4*L$2)-L$5)*G521*-1),(('Copy Results'!$C$2-L$2+L$5)/((L$4*L$2)-L$5)*G521*-1))))","v":-14.7467041015625},48.738270068740647,null,null,0,28.105820182674719,{"$f":"AVERAGE(D$79:D521)","v":0},{"$f":"AVERAGE(M$79:M521)","v":124.71891429383602},-18.644902043525651,{"$f":"AVERAGE(P$79:P521)","v":45.696098357767383},null,null,null,null,40679.348171295474,{"$f":"LOOKUP($V521,Data!$A$6:$A$1806,Data!$B$6:$B$1806)","v":60.00225830078125},{"$f":"LOOKUP($V521,Data!$A$6:$A$1806,Data!$C$6:$C$1806)","v":0},{"$f":"LOOKUP($V521,Data!$A$6:$A$1806,Data!$D$6:$D$1806)","v":0},{"$f":"IF($Z$1=\"+\",LOOKUP($V521,Data!$A$6:$A$1806,Data!$E$6:$E$1806)*-1,LOOKUP($V521,Data!$A$6:$A$1806,Data!$E$6:$E$1806))","v":0},{"$f":"LOOKUP($V521,Data!$A$6:$A$1806,Data!$F$6:$F$1806)","v":0},null,{"$f":"LOOKUP($V521,Data!$A$6:$A$1806,Data!$H$6:$H$1806)","v":0},{"$f":"LOOKUP($V521,Data!$A$6:$A$1806,Data!$I$6:$I$1806)","v":0},{"$f":"IF(LOOKUP($V521,Data!$A$6:$A$1806,Data!$J$6:$J$1806)>0,(LOOKUP($V521,Data!$A$6:$A$1806,Data!$J$6:$J$1806)*-1),LOOKUP($V521,Data!$A$6:$A$1806,Data!$J$6:$J$1806))","v":-653},{"$f":"LOOKUP($V521,Data!$A$6:$A$1806,Data!$K$6:$K$1806)","v":30473.146484375},-14.7467041015625,null,null,null,null,null,null,null,null,null,null,null,null,null,null,null," ",2.25830078125E-3," "]
[null,40679.348194443621,{"$f":"LOOKUP(B522,Data!$A$6:$A$1806,Data!B$6:B$1806)","v":60.010986328125},{"$f":"LOOKUP(B522,Data!$A$6:$A$1806,Data!C$6:C$1806)","v":0},null,null,19590,{"$f":"(IF((C522-L$2)>0,(IF(C522<'Copy Results'!$C$3,((C522-L$2-L$5)/((L$4*L$2)-L$5)*G522*-1),(('Copy Results'!$C$3-L$2-L$5)/((L$4*L$2)-L$5)*G522*-1))),IF(C522>'Copy Results'!$C$2,((C522-L$2+L$5)/((L$4*L$2)-L$5)*G522*-1),(('Copy Results'!$C$2-L$2+L$5)/((L$4*L$2)-L$5)*G522*-1))))","v":-71.74072265625},6.5706226149939226,null,null,0,-14.061827271072005,{"$f":"AVERAGE(D$79:D522)","v":0},{"$f":"AVERAGE(M$79:M522)","v":124.40634505607723},-18.644902043525651,{"$f":"AVERAGE(P$79:P522)","v":45.550859079209161},null,null,null,null,40679.348194443621,{"$f":"LOOKUP($V522,Data!$A$6:$A$1806,Data!$B$6:$B$1806)","v":60.010986328125},{"$f":"LOOKUP($V522,Data!$A$6:$A$1806,Data!$C$6:$C$1806)","v":0},{"$f":"LOOKUP($V522,Data!$A$6:$A$1806,Data!$D$6:$D$1806)","v":0},{"$f":"IF($Z$1=\"+\",LOOKUP($V522,Data!$A$6:$A$1806,Data!$E$6:$E$1806)*-1,LOOKUP($V522,Data!$A$6:$A$1806,Data!$E$6:$E$1806))","v":0},{"$f":"LOOKUP($V522,Data!$A$6:$A$1806,Data!$F$6:$F$1806)","v":0},null,{"$f":"LOOKUP($V522,Data!$A$6:$A$1806,Data!$H$6:$H$1806)","v":0},{"$f":"LOOKUP($V522,Data!$A$6:$A$1806,Data!$I$6:$I$1806)","v":0},{"$f":"IF(LOOKUP($V522,Data!$A$6:$A$1806,Data!$J$6:$J$1806)>0,(LOOKUP($V522,Data!$A$6:$A$1806,Data!$J$6:$J$1806)*-1),LOOKUP($V522,Data!$A$6:$A$1806,Data!$J$6:$J$1806))","v":-653},{"$f":"LOOKUP($V522,Data!$A$6:$A$1806,Data!$K$6:$K$1806)","v":30470.658203125},-71.74072265625,null,null,null,null,null,null,null,null,null,null,null,null,null,null,null," ",1.0986328125E-2," "]
[null,40679.348217591767,{"$f":"LOOKUP(B523,Data!$A$6:$A$1806,Data!B$6:B$1806)","v":60.017120361328125},{"$f":"LOOKUP(B523,Data!$A$6:$A$1806,Data!C$6:C$1806)","v":0},null,null,19590,{"$f":"(IF((C523-L$2)>0,(IF(C523<'Copy Results'!$C$3,((C523-L$2-L$5)/((L$4*L$2)-L$5)*G523*-1),(('Copy Results'!$C$3-L$2-L$5)/((L$4*L$2)-L$5)*G523*-1))),IF(C523>'Copy Results'!$C$2,((C523-L$2+L$5)/((L$4*L$2)-L$5)*G523*-1),(('Copy Results'!$C$2-L$2+L$5)/((L$4*L$2)-L$5)*G523*-1))))","v":-111.79595947265625},-34.85768111568364,null,null,0,-55.490131001749567,{"$f":"AVERAGE(D$79:D523)","v":0},{"$f":"AVERAGE(M$79:M523)","v":124.00208331212704},-18.644902043525651,{"$f":"AVERAGE(P$79:P523)","v":45.406274031635434},null,null,null,null,40679.348217591767,{"$f":"LOOKUP($V523,Data!$A$6:$A$1806,Data!$B$6:$B$1806)","v":60.017120361328125},{"$f":"LOOKUP($V523,Data!$A$6:$A$1806,Data!$C$6:$C$1806)","v":0},{"$f":"LOOKUP($V523,Data!$A$6:$A$1806,Data!$D$6:$D$1806)","v":0},{"$f":"IF($Z$1=\"+\",LOOKUP($V523,Data!$A$6:$A$1806,Data!$E$6:$E$1806)*-1,LOOKUP($V523,Data!$A$6:$A$1806,Data!$E$6:$E$1806))","v":0},{"$f":"LOOKUP($V523,Data!$A$6:$A$1806,Data!$F$6:$F$1806)","v":0},null,{"$f":"LOOKUP($V523,Data!$A$6:$A$1806,Data!$H$6:$H$1806)","v":0},{"$f":"LOOKUP($V523,Data!$A$6:$A$1806,Data!$I$6:$I$1806)","v":0},{"$f":"IF(LOOKUP($V523,Data!$A$6:$A$1806,Data!$J$6:$J$1806)>0,(LOOKUP($V523,Data!$A$6:$A$1806,Data!$J$6:$J$1806)*-1),LOOKUP($V523,Data!$A$6:$A$1806,Data!$J$6:$J$1806))","v":-653},{"$f":"LOOKUP($V523,Data!$A$6:$A$1806,Data!$K$6:$K$1806)","v":30470.658203125},-111.79595947265625,null,null,null,null,null,null,null,null,null,null,null,null,null,null,null," ",1.7120361328125E-2," "]
[null,40679.348240739913,{"$f":"LOOKUP(B524,Data!$A$6:$A$1806,Data!B$6:B$1806)","v":60.02069091796875},{"$f":"LOOKUP(B524,Data!$A$6:$A$1806,Data!C$6:C$1806)","v":0},null,null,19590,{"$f":"(IF((C524-L$2)>0,(IF(C524<'Copy Results'!$C$3,((C524-L$2-L$5)/((L$4*L$2)-L$5)*G524*-1),(('Copy Results'!$C$3-L$2-L$5)/((L$4*L$2)-L$5)*G524*-1))),IF(C524>'Copy Results'!$C$2,((C524-L$2+L$5)/((L$4*L$2)-L$5)*G524*-1),(('Copy Results'!$C$2-L$2+L$5)/((L$4*L$2)-L$5)*G524*-1))))","v":-135.1116943359375},-69.946585742772498,null,null,0,-90.579035628838426,{"$f":"AVERAGE(D$79:D524)","v":0},{"$f":"AVERAGE(M$79:M524)","v":123.52095972705762},-18.644902043525651,{"$f":"AVERAGE(P$79:P524)","v":45.262338804500246},null,null,null,null,40679.348240739913,{"$f":"LOOKUP($V524,Data!$A$6:$A$1806,Data!$B$6:$B$1806)","v":60.02069091796875},{"$f":"LOOKUP($V524,Data!$A$6:$A$1806,Data!$C$6:$C$1806)","v":0},{"$f":"LOOKUP($V524,Data!$A$6:$A$1806,Data!$D$6:$D$1806)","v":0},{"$f":"IF($Z$1=\"+\",LOOKUP($V524,Data!$A$6:$A$1806,Data!$E$6:$E$1806)*-1,LOOKUP($V524,Data!$A$6:$A$1806,Data!$E$6:$E$1806))","v":0},{"$f":"LOOKUP($V524,Data!$A$6:$A$1806,Data!$F$6:$F$1806)","v":0},null,{"$f":"LOOKUP($V524,Data!$A$6:$A$1806,Data!$H$6:$H$1806)","v":0},{"$f":"LOOKUP($V524,Data!$A$6:$A$1806,Data!$I$6:$I$1806)","v":0},{"$f":"IF(LOOKUP($V524,Data!$A$6:$A$1806,Data!$J$6:$J$1806)>0,(LOOKUP($V524,Data!$A$6:$A$1806,Data!$J$6:$J$1806)*-1),LOOKUP($V524,Data!$A$6:$A$1806,Data!$J$6:$J$1806))","v":-653},{"$f":"LOOKUP($V524,Data!$A$6:$A$1806,Data!$K$6:$K$1806)","v":30470.599609375},-135.1116943359375,null,null,null,null,null,null,null,null,null,null,null,null,null,null,null," ",2.069091796875E-2," "]
[null,40679.34826388806,{"$f":"LOOKUP(B525,Data!$A$6:$A$1806,Data!B$6:B$1806)","v":60.021331787109375},{"$f":"LOOKUP(B525,Data!$A$6:$A$1806,Data!C$6:C$1806)","v":0},null,null,19590,{"$f":"(IF((C525-L$2)>0,(IF(C525<'Copy Results'!$C$3,((C525-L$2-L$5)/((L$4*L$2)-L$5)*G525*-1),(('Copy Results'!$C$3-L$2-L$5)/((L$4*L$2)-L$5)*G525*-1))),IF(C525>'Copy Results'!$C$2,((C525-L$2+L$5)/((L$4*L$2)-L$5)*G525*-1),(('Copy Results'!$C$2-L$2+L$5)/((L$4*L$2)-L$5)*G525*-1))))","v":-139.29656982421875},-94.219080171278691,null,null,0,-114.85153005734462,{"$f":"AVERAGE(D$79:D525)","v":0},{"$f":"AVERAGE(M$79:M525)","v":122.98768793783077},-18.644902043525651,{"$f":"AVERAGE(P$79:P525)","v":45.119049026814089},null,null,null,null,40679.34826388806,{"$f":"LOOKUP($V525,Data!$A$6:$A$1806,Data!$B$6:$B$1806)","v":60.021331787109375},{"$f":"LOOKUP($V525,Data!$A$6:$A$1806,Data!$C$6:$C$1806)","v":0},{"$f":"LOOKUP($V525,Data!$A$6:$A$1806,Data!$D$6:$D$1806)","v":0},{"$f":"IF($Z$1=\"+\",LOOKUP($V525,Data!$A$6:$A$1806,Data!$E$6:$E$1806)*-1,LOOKUP($V525,Data!$A$6:$A$1806,Data!$E$6:$E$1806))","v":0},{"$f":"LOOKUP($V525,Data!$A$6:$A$1806,Data!$F$6:$F$1806)","v":0},null,{"$f":"LOOKUP($V525,Data!$A$6:$A$1806,Data!$H$6:$H$1806)","v":0},{"$f":"LOOKUP($V525,Data!$A$6:$A$1806,Data!$I$6:$I$1806)","v":0},{"$f":"IF(LOOKUP($V525,Data!$A$6:$A$1806,Data!$J$6:$J$1806)>0,(LOOKUP($V525,Data!$A$6:$A$1806,Data!$J$6:$J$1806)*-1),LOOKUP($V525,Data!$A$6:$A$1806,Data!$J$6:$J$1806))","v":-653},{"$f":"LOOKUP($V525,Data!$A$6:$A$1806,Data!$K$6:$K$1806)","v":30470.599609375},-139.29656982421875,null,null,null,null,null,null,null,null,null,null,null,null,null,null,null," ",2.1331787109375E-2," "]
[null,40679.348287036206,{"$f":"LOOKUP(B526,Data!$A$6:$A$1806,Data!B$6:B$1806)","v":60.021331787109375},{"$f":"LOOKUP(B526,Data!$A$6:$A$1806,Data!C$6:C$1806)","v":0},null,null,19590,{"$f":"(IF((C526-L$2)>0,(IF(C526<'Copy Results'!$C$3,((C526-L$2-L$5)/((L$4*L$2)-L$5)*G526*-1),(('Copy Results'!$C$3-L$2-L$5)/((L$4*L$2)-L$5)*G526*-1))),IF(C526>'Copy Results'!$C$2,((C526-L$2+L$5)/((L$4*L$2)-L$5)*G526*-1),(('Copy Results'!$C$2-L$2+L$5)/((L$4*L$2)-L$5)*G526*-1))))","v":-139.29656982421875},-109.99620154980772,null,null,0,-130.62865143587365,{"$f":"AVERAGE(D$79:D526)","v":0},{"$f":"AVERAGE(M$79:M526)","v":122.42158003744304},-18.644902043525651,{"$f":"AVERAGE(P$79:P526)","v":44.976400366701476},null,null,null,null,40679.348287036206,{"$f":"LOOKUP($V526,Data!$A$6:$A$1806,Data!$B$6:$B$1806)","v":60.021331787109375},{"$f":"LOOKUP($V526,Data!$A$6:$A$1806,Data!$C$6:$C$1806)","v":0},{"$f":"LOOKUP($V526,Data!$A$6:$A$1806,Data!$D$6:$D$1806)","v":0},{"$f":"IF($Z$1=\"+\",LOOKUP($V526,Data!$A$6:$A$1806,Data!$E$6:$E$1806)*-1,LOOKUP($V526,Data!$A$6:$A$1806,Data!$E$6:$E$1806))","v":0},{"$f":"LOOKUP($V526,Data!$A$6:$A$1806,Data!$F$6:$F$1806)","v":0},null,{"$f":"LOOKUP($V526,Data!$A$6:$A$1806,Data!$H$6:$H$1806)","v":0},{"$f":"LOOKUP($V526,Data!$A$6:$A$1806,Data!$I$6:$I$1806)","v":0},{"$f":"IF(LOOKUP($V526,Data!$A$6:$A$1806,Data!$J$6:$J$1806)>0,(LOOKUP($V526,Data!$A$6:$A$1806,Data!$J$6:$J$1806)*-1),LOOKUP($V526,Data!$A$6:$A$1806,Data!$J$6:$J$1806))","v":-653},{"$f":"LOOKUP($V526,Data!$A$6:$A$1806,Data!$K$6:$K$1806)","v":30470.599609375},-139.29656982421875,null,null,null,null,null,null,null,null,null,null,null,null,null,null,null," ",2.1331787109375E-2," "]
[null,40679.348310184352,{"$f":"LOOKUP(B527,Data!$A$6:$A$1806,Data!B$6:B$1806)","v":60.021331787109375},{"$f":"LOOKUP(B527,Data!$A$6:$A$1806,Data!C$6:C$1806)","v":0},null,null,19590,{"$f":"(IF((C527-L$2)>0,(IF(C527<'Copy Results'!$C$3,((C527-L$2-L$5)/((L$4*L$2)-L$5)*G527*-1),(('Copy Results'!$C$3-L$2-L$5)/((L$4*L$2)-L$5)*G527*-1))),IF(C527>'Copy Results'!$C$2,((C527-L$2+L$5)/((L$4*L$2)-L$5)*G527*-1),(('Copy Results'!$C$2-L$2+L$5)/((L$4*L$2)-L$5)*G527*-1))))","v":-139.29656982421875},-120.25133044585158,null,null,0,-140.88378033191751,{"$f":"AVERAGE(D$79:D527)","v":0},{"$f":"AVERAGE(M$79:M527)","v":121.83515384508365},-18.644902043525651,{"$f":"AVERAGE(P$79:P527)","v":44.834388530964361},null,null,null,null,40679.348310184352,{"$f":"LOOKUP($V527,Data!$A$6:$A$1806,Data!$B$6:$B$1806)","v":60.021331787109375},{"$f":"LOOKUP($V527,Data!$A$6:$A$1806,Data!$C$6:$C$1806)","v":0},{"$f":"LOOKUP($V527,Data!$A$6:$A$1806,Data!$D$6:$D$1806)","v":0},{"$f":"IF($Z$1=\"+\",LOOKUP($V527,Data!$A$6:$A$1806,Data!$E$6:$E$1806)*-1,LOOKUP($V527,Data!$A$6:$A$1806,Data!$E$6:$E$1806))","v":0},{"$f":"LOOKUP($V527,Data!$A$6:$A$1806,Data!$F$6:$F$1806)","v":0},null,{"$f":"LOOKUP($V527,Data!$A$6:$A$1806,Data!$H$6:$H$1806)","v":0},{"$f":"LOOKUP($V527,Data!$A$6:$A$1806,Data!$I$6:$I$1806)","v":0},{"$f":"IF(LOOKUP($V527,Data!$A$6:$A$1806,Data!$J$6:$J$1806)>0,(LOOKUP($V527,Data!$A$6:$A$1806,Data!$J$6:$J$1806)*-1),LOOKUP($V527,Data!$A$6:$A$1806,Data!$J$6:$J$1806))","v":-653},{"$f":"LOOKUP($V527,Data!$A$6:$A$1806,Data!$K$6:$K$1806)","v":30470.599609375},-139.29656982421875,null,null,null,null,null,null,null,null,null,null,null,null,null,null,null," ",2.1331787109375E-2," "]
[null,40679.348333332498,{"$f":"LOOKUP(B528,Data!$A$6:$A$1806,Data!B$6:B$1806)","v":60.02325439453125},{"$f":"LOOKUP(B528,Data!$A$6:$A$1806,Data!C$6:C$1806)","v":0},null,null,19590,{"$f":"(IF((C528-L$2)>0,(IF(C528<'Copy Results'!$C$3,((C528-L$2-L$5)/((L$4*L$2)-L$5)*G528*-1),(('Copy Results'!$C$3-L$2-L$5)/((L$4*L$2)-L$5)*G528*-1))),IF(C528>'Copy Results'!$C$2,((C528-L$2+L$5)/((L$4*L$2)-L$5)*G528*-1),(('Copy Results'!$C$2-L$2+L$5)/((L$4*L$2)-L$5)*G528*-1))))","v":-151.8511962890625},-131.3112834909754,null,null,{"$f":"IF(B528>G$3,0,(K$21*0.000023148/K$22))","v":0},{"$f":"M527+L528+(I528-I527)","v":-151.94373337704133},{"$f":"AVERAGE(D$79:D528)","v":0},{"$f":"AVERAGE(M$79:M528)","v":121.22675631792337},-18.644902043525651,{"$f":"AVERAGE(P$79:P528)","v":44.693009264651465},null,null,null,null,40679.348333332498,{"$f":"LOOKUP($V528,Data!$A$6:$A$1806,Data!$B$6:$B$1806)","v":60.02325439453125},{"$f":"LOOKUP($V528,Data!$A$6:$A$1806,Data!$C$6:$C$1806)","v":0},{"$f":"LOOKUP($V528,Data!$A$6:$A$1806,Data!$D$6:$D$1806)","v":0},{"$f":"IF($Z$1=\"+\",LOOKUP($V528,Data!$A$6:$A$1806,Data!$E$6:$E$1806)*-1,LOOKUP($V528,Data!$A$6:$A$1806,Data!$E$6:$E$1806))","v":0},{"$f":"LOOKUP($V528,Data!$A$6:$A$1806,Data!$F$6:$F$1806)","v":0},null,{"$f":"LOOKUP($V528,Data!$A$6:$A$1806,Data!$H$6:$H$1806)","v":0},{"$f":"LOOKUP($V528,Data!$A$6:$A$1806,Data!$I$6:$I$1806)","v":0},{"$f":"IF(LOOKUP($V528,Data!$A$6:$A$1806,Data!$J$6:$J$1806)>0,(LOOKUP($V528,Data!$A$6:$A$1806,Data!$J$6:$J$1806)*-1),LOOKUP($V528,Data!$A$6:$A$1806,Data!$J$6:$J$1806))","v":-653},{"$f":"LOOKUP($V528,Data!$A$6:$A$1806,Data!$K$6:$K$1806)","v":30461.279296875},-151.8511962890625,null,null,null,null,null,null,null,null,null,null,null,null,null,null,null," ",2.325439453125E-2," "]
[null,40679.348356480645,{"$f":"LOOKUP(B529,Data!$A$6:$A$1806,Data!B$6:B$1806)","v":60.0255126953125},{"$f":"LOOKUP(B529,Data!$A$6:$A$1806,Data!C$6:C$1806)","v":0},null,null,19590,{"$f":"(IF((C529-L$2)>0,(IF(C529<'Copy Results'!$C$3,((C529-L$2-L$5)/((L$4*L$2)-L$5)*G529*-1),(('Copy Results'!$C$3-L$2-L$5)/((L$4*L$2)-L$5)*G529*-1))),IF(C529>'Copy Results'!$C$2,((C529-L$2+L$5)/((L$4*L$2)-L$5)*G529*-1),(('Copy Results'!$C$2-L$2+L$5)/((L$4*L$2)-L$5)*G529*-1))))","v":-166.597900390625},-143.66159940585277,null,null,0,-164.2940492919187,{"$f":"AVERAGE(D$79:D529)","v":0},{"$f":"AVERAGE(M$79:M529)","v":120.59367249173748},-18.644902043525651,{"$f":"AVERAGE(P$79:P529)","v":44.552258350633295},null,null,null,null,{"$f":"V528+TIME(0,0,$B$1)","v":40679.348356480645},{"$f":"LOOKUP($V529,Data!$A$6:$A$1806,Data!$B$6:$B$1806)","v":60.0255126953125},{"$f":"LOOKUP($V529,Data!$A$6:$A$1806,Data!$C$6:$C$1806)","v":0},{"$f":"LOOKUP($V529,Data!$A$6:$A$1806,Data!$D$6:$D$1806)","v":0},{"$f":"IF($Z$1=\"+\",LOOKUP($V529,Data!$A$6:$A$1806,Data!$E$6:$E$1806)*-1,LOOKUP($V529,Data!$A$6:$A$1806,Data!$E$6:$E$1806))","v":0},{"$f":"LOOKUP($V529,Data!$A$6:$A$1806,Data!$F$6:$F$1806)","v":0},null,{"$f":"LOOKUP($V529,Data!$A$6:$A$1806,Data!$H$6:$H$1806)","v":0},{"$f":"LOOKUP($V529,Data!$A$6:$A$1806,Data!$I$6:$I$1806)","v":0},{"$f":"IF(LOOKUP($V529,Data!$A$6:$A$1806,Data!$J$6:$J$1806)>0,(LOOKUP($V529,Data!$A$6:$A$1806,Data!$J$6:$J$1806)*-1),LOOKUP($V529,Data!$A$6:$A$1806,Data!$J$6:$J$1806))","v":-653},{"$f":"LOOKUP($V529,Data!$A$6:$A$1806,Data!$K$6:$K$1806)","v":30461.279296875},-166.597900390625,null,null,null,null,null,null,null,null,null,null,null,null,null,null,null,{"$f":"IF(((D529-F$78)/((C529-E$78)*10))<0,\" \",((D529-F$78)/((C529-E$78)*10)))","v":" "},2.55126953125E-2," "]

{"sheet":"Graph 20 to 52s","index":3,"n_rows":37,"n_cols":17,"rows_kept":37,"cut":false,"hidden":false,"merged":[]}
[null,null,null,null,null,null,null,null,null,null,null,null,null,null,null,null,"\"Auto\" Event Detection adjustment of T(0)."]
[null,null,null,null,null,null,null,null,null,null,null,null,null,null,null,null,"# of rows to shift T(0)"]
[null,null,null,null,null,null,null,null,null,null,null,null,null,null,null,null,1]
[null,null,null,null,null,null,null,null,null,null,null,null,null,null,null,null,"A zero value aligns the data to the hightest Frequency change value."]
[null,null,null,null,null,null,null,null,null,null,null,null,null,null,null,null,"Usually the event begins one or two data scans earlier than this scan."]
[]
[null,null,null,null,null,null,null,null,null,null,null,null,null,null,null,null,"Increasing this value shifts graph data to the right."]
[null,null,null,null,null,null,null,null,null,null,null,null,null,null,null,null,"Decreasing this value shifts graph data to the left."]
[]
[]
[]
[]
[]
[]
[]
[null,null,null,null,null,null,null,null,null,null,null,null,null,null,null,"Note:  The P.U. Performance values indicate performance as a P.U. value of BA Bias setting."]
[null,null,null,null,null,null,null,null,null,null,null,null,null,null,null,"For BAs that utilize a variable Bias, the Bias average during T(+20) to T(+52) is used."]
[null,null,null,null,null,null,null,null,null,null,null,null,null,null,null,"P.U. values above 1.0 indicate that the Bias setting was below measured Frequency Response."]
[null,null,null,null,null,null,null,null,null,null,null,null,null,null,null,"P.U. values below 1.0 indicate that the Bias setting was above measured Frequency Response."]
[]
[]
[]
[]
[]
[]
[]
[]
[]
[]
[]
[]
[]
[null,null,null,null,null,null,null,"T(0)"]
[]
[null,null,null,null,null,null,null,"First change in frequency of the event should occur here on the vertical grid line."]
[null,null,null,null,null,null,null,"It is important that the pre-event frequency average to NOT contain frequency data of the event, \"Average Frequency\" trend to the left of center of the graph."]
[null,null,null,null,null,null,null,"To shift the data on the graph left or right, adjust the value in cell Q3 highlighted in yellow above."]

{"sheet":"Sustained Graph","index":4,"n_rows":0,"n_cols":0,"rows_kept":0,"cut":false,"hidden":true,"merged":[]}

{"sheet":"Bias Graph","index":5,"n_rows":0,"n_cols":0,"rows_kept":0,"cut":false,"hidden":false,"merged":[]}

{"sheet":"Form 1 Summary Data","index":6,"n_rows":7,"n_cols":44,"rows_kept":7,"cut":false,"hidden":false,"merged":[]}
[null,null,null,null,null,null,"Value A Data",null,"BA Performance",null,null,null,null,null,null,null,null,"Value B","20 to 52 second Average Period Evaluation",null,null,null,null,null,null,null,null,null,null,null,null,null,"Frequency Response Initiative - Additional Primary Frequency Response Evaluation Points"]
[null,null,null,null,null,null,null,null,null,"Non-",null,null,null,null,null,null,null,null,null,null,"Non-",null,null,null,null,null,null,null,null,null,null,"Average","Unadjusted","Unadjusted","Unadjusted","Unadjusted","Unadjusted","Adjusted","Adjusted","Adjusted","Adjusted","Adjusted"]
["Date","A Value","FPointA","A Value","t(0) Time","C Value",null,"Contingent","Load","Conforming",null,null,null,null,"BA","BA","Bias",null,"Contingent","Load","Conforming",null,null,null,null,"Initial","Initial","Sustained","BA","BA","Bias","Bias While","PFR","PFR","PFR","PFR","PFR","PFR","PFR","PFR","PFR","PFR"]
[null,"Time","Hz","Hz",null,"Hz",null,"Resource","Resources","Load",null,null,null,null,"Bias","Load","Setting",null,"Resource","Resources","Load",null,null,null,null,"Performance","Performance","Performance","Bias","Load","Setting","Hz > +/-0.036","Performance","Performance","Performance","Performance","Performance","Performance","Performance","Performance","Performance","Performance","Maximum","Minimum"]
[null,null,null,null,null,null,"Frequency","Lost","Tripped","Load (-)","Spare","Spare","Spare","Spare","Setting",null,"EPFR","Frequency","Lost","Tripped","Load (-)","Spare","Spare","Spare","Spare","Adjusted","Unadjusted",null,"Setting",null,"EPFR","Hz","@ T(+46)","@ T(+76)","@ T(+106)","@ T(+136)","@ T(+166)","@ T(+46)","@ T(+76)","@ T(+106)","@ T(+136)","@ T(+166)","Bias Setting","Bias Setting"]
[null,null,null,null,null,null,"Hz","MW","MW","MW","MW","MW","MW","MW","MW/0.1 Hz","MW","MW","Hz","MW","MW","MW","MW","MW","MW","MW","P.U.","P.U.","P.U.","MW/0.1 Hz","MW","MW","MW/0.1 Hz","P.U.","P.U.","P.U.","P.U.","P.U.","P.U.","P.U.","P.U.","P.U.","P.U.","MW/0.1 Hz","MW/0.1 Hz"]
[{"$f":"Evaluation!AN2","v":"2011-05-16T08:06:38"},{"$f":"Evaluation!G2","v":40679.337939814817},{"$f":"Evaluation!S2","v":60.001953125},{"$f":"Evaluation!S3","v":59.998626708984375},{"$f":"Evaluation!G2","v":40679.337939814817},{"$f":"Evaluation!S4","v":59.870113372802734},{"$f":"Evaluation!AN4","v":59.998626708984375},{"$f":"Evaluation!AN7","v":471.08749389648437},{"$f":"Evaluation!AN15","v":0},{"$f":"Evaluation!AN16","v":0},{"$f":"Evaluation!AN17","v":0},{"$f":"Evaluation!AN18","v":0},{"$f":"Evaluation!AN19","v":0},{"$f":"Evaluation!AN20","v":0},{"$f":"Evaluation!AS15","v":-653},{"$f":"Evaluation!AS23","v":30202.7421875},{"$f":"Evaluation!AS17","v":8.96759033203125},{"$f":"Evaluation!AN5","v":59.897160922779754},{"$f":"Evaluation!AN8","v":0},{"$f":"Evaluation!AN23","v":0},{"$f":"Evaluation!AN16","v":0},{"$f":"Evaluation!AN25","v":0},{"$f":"Evaluation!AN26","v":0},{"$f":"Evaluation!AN27","v":0},{"$f":"Evaluation!AN28","v":0},{"$f":"Evaluation!AN34","v":0.71099863823332188},{"$f":"Evaluation!AN33","v":0.71099863823332188},{"$f":"Evaluation!$K$33","v":0.73755320922242817},{"$f":"Evaluation!AS16","v":-653},{"$f":"Evaluation!AS24","v":30136.76953125},{"$f":"Evaluation!AS18","v":671.53917424820418},{"$f":"Evaluation!AS30","v":-653},{"$f":"Evaluation!$AV7","v":0.73755320922242817},{"$f":"Evaluation!$AV8","v":0.85957919356721435},{"$f":"Evaluation!$AV9","v":1.3228596696748938},{"$f":"Evaluation!$AV10","v":1.5320481073940604},{"$f":"Evaluation!$AV11","v":2.3085451462002298},{"$f":"Evaluation!$BB7","v":0.73755320922242817},{"$f":"Evaluation!$BB8","v":0.85957919356721435},{"$f":"Evaluation!$BB9","v":1.3228596696748938},{"$f":"Evaluation!$BB10","v":1.5320481073940604},{"$f":"Evaluation!$BB11","v":2.3085451462002298},{"$f":"MAX(Data!$J6:$J1838)","v":-653},{"$f":"MIN(Data!$J6:$J1838)","v":-653}]

{"sheet":"Instructions","index":7,"n_rows":38,"n_cols":2,"rows_kept":38,"cut":false,"hidden":false,"merged":[]}
["Steps","To be completed for each event evaluated."]
[1,"Set-up Data collection in exact same order as the \"Data\" sheet of this work book.  Data should be in this order:"]
[null,"Column A: Date and Time in this format, mm/dd/yy HH:MM:SS"]
[null,"Column B: Frequency Hz"]
[null,"Column C: Contingent Resouce Lost MW or Lost Load"]
[null,"Column D: Load Resources tripped during the event."]
[null,"Column E: Non Conforming Load"]
[null,"Column F: Spare"]
[null,"Column G: Not Used"]
[null,"Column H: Spare"]
[null,"Column I: Spare"]
[null,"Column J: BA Bias Setting"]
[null,"Column K: BA Load"]
[]
[2,"Note: Columns D & E are optional data.  If you choose not to use these, leave the columns blank.  Do not delete the columns.  Use the sign (+/-) convention defined in FRS Form 1."]
[3,"Data compression must be turned off for each data point.  Quality data will give you quality results in the evaluation."]
[4,"Data must start a minimum of two (2) minutes before the event begins and includes a minimum of 15 minutes after the beginning of the event with up to 60 minutes of data."]
[null,"Be sure the \"Data\" worksheet is clear of any old data.  Collect the same total minutes of data for each event evaluated to minimize your effort and time."]
[null,"If using PI historian as your data source, use \"PasteSpecial/Values\" to enter data into the spreadsheet.  Do not include historian data collection formulas in the data."]
[5,"Verify that the \"Auto\" Event Detection selected the correct event.  Verify time and delta Hz by comparing time of event and delta Hz on the graph on the \"Copy Results\" worksheet."]
[null,"If the wrong event was selected, in cell \"E4\" of this worksheet select \"Manual\" and manually select the beginning and ending row numbers of the desired event and enter these in cells \"E5\" and \"E6\".  Only rarely should you have to use the \"Manual\" process."]
[6,"Once data is in place in the \"Data\" worksheet, confirm the Auto selection of the beginning of the event by observing the \"Graph 20 to 52s\" worksheet.  Adjust the selection if necessary."]
[null,"To make an adjustment, change the value in cell \"Q3\" on the \"Graph 20 to 52s\" worksheet.  Usually a 0, 1 or 2 will achive the correct alignment of T(0)."]
[]
[7,"If the correct row is selected, the \"Graph 20 to 52s\" worksheet will indicate the first change in frequency (red trend) of the event on the center vertical grid line of the graph."]
[]
[8,"The end of the event will be Auto selected based on the frequency value in cell \"N2\" on the Data worksheet.  This will be the frequency at the beginning of the event or 60 Hz, whichever is lower. (for low Hz events)"]
[null,"This value controls the end of the \"Sustained Frequency Response\" evaluation period."]
[null,"Primary Frequency Response should be sustained during the event recovery period.  This evaluation determines how well you achieved this goal."]
[9,"Use the \"Copy Form 2 data for Pasting into Form 1\" button provided on the \"Copy Results\" worksheet (Cells B21 through B28) to copy the evaluation and event specific data for the \"FRS Form 1\" of this field trial.  This data is summarized"]
[null,"in the correct order on worksheet \"Form 1 Summary Data\"."]
[10,"Use PasteSpecial/Values and paste the copied data into FRS Form 1 on the appropriate event row.  Be sure to use the latest version of Form 1, currently Form 1.9."]
[11,"Save this Form 2 using the file name convention on the \"Copy Results\" worksheet.  The complete file name is in bold in cell B38.  Return all completed Form 2s with your Form 1 to NERC."]
[]
[]
[]
["Steps","To be completed the first time you use Form 2 for your BA."]
["A","Enter the Balancing Authority name as you want it to appear on the graphs in cell \"B1\" of the \"Copy Results\" worksheet.  For example: \"ERCOT\"."]

{"sheet":"Adj Graph Load Resources","index":8,"n_rows":0,"n_cols":0,"rows_kept":0,"cut":false,"hidden":false,"merged":[]}

{"sheet":"Adj Graph NCL","index":9,"n_rows":0,"n_cols":0,"rows_kept":0,"cut":false,"hidden":false,"merged":[]}

{"sheet":"Adj Graph PmpHyd","index":10,"n_rows":0,"n_cols":0,"rows_kept":0,"cut":false,"hidden":false,"merged":[]}

{"sheet":"Adj Graph Spare","index":11,"n_rows":0,"n_cols":0,"rows_kept":0,"cut":false,"hidden":false,"merged":[]}

{"sheet":"Adj Graph MWper0.1Hz","index":12,"n_rows":0,"n_cols":0,"rows_kept":0,"cut":false,"hidden":false,"merged":[]}

{"sheet":"Adj Graph ContingentBA","index":13,"n_rows":0,"n_cols":0,"rows_kept":0,"cut":false,"hidden":false,"merged":[]}

{"sheet":"BA LoadDampening","index":14,"n_rows":0,"n_cols":0,"rows_kept":0,"cut":false,"hidden":false,"merged":[]}

{"sheet":"BA BiasSetting","index":15,"n_rows":0,"n_cols":0,"rows_kept":0,"cut":false,"hidden":false,"merged":[]}