{"text_format":"1","workbook":"xlsx","n_sheets":4,"sheets":["BA Instructions","BA Data Entry","FRO Data","Change History"],"not_rendered":{"charts":0,"images":0,"macros":1,"external_links":3,"defined_names":37,"comments":0,"pivot_tables":0},"unopened":[],"bounds":{"document_bytes":16777216,"sheet_cells":100000,"rows_first":2000,"rows_last":500,"rows_between":2000,"halvings":0,"cell_chars":16384,"cell_head_chars":4096},"cells_cut":0,"cells_raw":0,"read":"whole","date_system":"1900"}

{"sheet":"BA Instructions","index":0,"n_rows":1,"n_cols":1,"rows_kept":1,"cut":false,"hidden":false,"merged":[]}
["TBD"]

{"sheet":"BA Data Entry","index":1,"n_rows":77,"n_cols":12,"rows_kept":77,"cut":false,"hidden":false,"merged":[[0,0,0,9],[1,0,1,1],[30,10,31,10],[30,11,31,11],[50,12,50,13],[44,10,45,10],[5,12,5,13],[6,12,6,13],[7,12,7,13],[8,12,8,13],[25,12,25,13],[9,12,9,13],[10,12,10,13],[21,12,21,13],[12,12,12,13],[13,12,13,13],[51,12,51,13],[48,12,48,13],[33,12,33,13],[36,12,36,13],[37,12,37,13],[34,12,34,13],[44,12,44,13],[49,12,49,13],[47,12,47,13],[57,10,58,10],[39,10,40,10],[39,11,40,11],[41,10,42,10],[41,11,42,11],[43,10,43,11],[38,12,38,13],[40,12,40,13],[45,12,45,13],[46,12,46,13],[41,12,41,13],[42,12,42,13],[43,12,43,13],[11,12,11,13],[30,12,30,13],[31,12,31,13],[18,12,18,13],[28,10,29,10],[28,11,29,11],[27,10,27,11],[15,12,15,13],[16,12,16,13],[17,12,17,13],[22,12,22,13],[19,12,19,13],[14,12,14,13],[24,12,24,13],[32,10,32,11],[21,11,22,11],[19,11,20,11],[23,10,24,10],[39,12,39,13],[29,12,29,13],[26,12,26,13],[27,12,27,13],[28,12,28,13],[23,12,23,13],[35,12,35,13],[20,12,20,13],[32,12,32,13],[37,10,38,10],[37,11,38,11],[23,11,24,11],[1,3,1,9],[13,10,14,10],[15,11,16,11],[25,11,26,11],[15,10,16,10],[25,10,26,10],[13,11,14,11],[12,10,12,11],[2,6,2,7],[3,6,4,6],[3,7,4,7],[5,10,5,11],[17,11,18,11],[17,10,18,10],[21,10,22,10]]}
["Sample Data Only - For Informational Purposes Only"]
["Select Balancing Authority",null,"NO_BA",{"$f":"\"NERC \"&Interconnection&\" BAL-003-3 Reporting Form for Operating Year \" & DataYear","v":"NERC Western BAL-003-3 Reporting Form for Operating Year 2023"}]
[null,"UTC (t-0)",null,"BA","BA ","BA FRO","SEFRM",null,"FRCM","Exclude","Enter Data in Green Highlighted Cells"]
["Event","Date / Time","Date/Time (t-0)","Time","Time",null,"W/O XFRs","With XFRs","for R1","for data","Upload Form to the NERC BASS:"]
["Number","(MM/DD/YY HH:MM:SS)","BA Time","Zone",null,"(MW/0.1Hz)",null,null,"(Percentage)","Y/N?","Grey and light blue cells are calculated or set by the ERO."]
[1,"2022-12-06T03:40:44",{"$f":"IF('BA Data Entry'!B6=0,\" \",(B6-LOOKUP(D6,TimeZones,'BA Data Entry'!C$63:C$72)))","v":"2022-12-05T19:40:44"},"PST","20:52:20",75,-47.999999999995737,-47.999999999995737,{"$f":"IF($J6=\"y\", \"\",G6/F6)","v":-0.63999999999994317},"N","BA and Contact information"]
[2,"2023-02-06T12:12:45",{"$f":"IF('BA Data Entry'!B7=0,\" \",(B7-LOOKUP(D7,TimeZones,'BA Data Entry'!C$63:C$72)))","v":"2023-02-06T04:12:45"},"PST","02:05:52",-75,-57.023255813954428,-57.023255813954428,{"$f":"IF($J7=\"y\", \"\",G7/F7)","v":0.76031007751939239},"N","Western","Interconnection"]
[3,"2023-02-11T14:48:23",{"$f":"IF('BA Data Entry'!B8=0,\" \",(B8-LOOKUP(D8,TimeZones,'BA Data Entry'!C$63:C$72)))","v":"2023-02-11T06:48:23"},"PST","20:53:52",-44,-61.651162790698713,-61.651162790698713,1.401162790697698,"N",{"$f":"C2","v":"NO_BA"},"Balancing Authority"]
[4,"2023-02-26T17:33:08",{"$f":"IF('BA Data Entry'!B9=0,\" \",(B9-LOOKUP(D9,TimeZones,'BA Data Entry'!C$63:C$72)))","v":"2023-02-26T09:33:08"},"PST","17:37:00",-44,-72.617021276600298,-72.617021276600298,1.6503868471954612,"N","2023","Current Operating Year (December thru November)"]
[5,"2023-03-02T19:52:58",{"$f":"IF('BA Data Entry'!B10=0,\" \",(B10-LOOKUP(D10,TimeZones,'BA Data Entry'!C$63:C$72)))","v":"2023-03-02T11:52:58"},"PST","04:31:48",-40.4,-64.488888888896653,-64.488888888896653,1.5962596259627886,"N",null,"Contact Name"]
[6,"2023-03-08T02:18:30",{"$f":"IF('BA Data Entry'!B11=0,\" \",(B11-LOOKUP(D11,TimeZones,'BA Data Entry'!C$63:C$72)))","v":"2023-03-07T18:18:30"},"PST","16:32:20",-40.4,-72.192307692298371,-72.192307692298371,1.7869383092153064,"N",null,"Contact Phone #"]
[7,"2023-03-10T09:34:39",{"$f":"IF('BA Data Entry'!B12=0,\" \",(B12-LOOKUP(D12,TimeZones,'BA Data Entry'!C$63:C$72)))","v":"2023-03-10T02:34:39"},"PDT","04:54:32",-40.4,-112.37500000000244,-112.37500000000244,2.7815594059406545,"N",null,"Contact e-mail"]
[8,"2023-04-19T01:33:46",{"$f":"IF('BA Data Entry'!B13=0,\" \",(B13-LOOKUP(D13,TimeZones,'BA Data Entry'!C$63:C$72)))","v":"2023-04-18T18:33:46"},"PDT","00:05:56",-40.4,-81.145833333330174,-81.145833333330174,2.0085602310230244,"N","Interconnection RLPC and Minimum Bias Data Submittal"]
[9,"2023-05-01T03:58:42",{"$f":"IF('BA Data Entry'!B14=0,\" \",(B14-LOOKUP(D14,TimeZones,'BA Data Entry'!C$63:C$72)))","v":"2023-04-30T20:58:42"},"PDT","03:41:20",-40.4,-77.999999999992141,-77.999999999992141,1.9306930693067363,"N",null,"Largest potential resource loss within the Balancing Authority Area for the next operating year as detailed in the \"Procedure for ERO Support of Frequency Response and Frequency Bias Settings Standard\""]
[10,"2023-05-07T07:25:37",{"$f":"IF('BA Data Entry'!B15=0,\" \",(B15-LOOKUP(D15,TimeZones,'BA Data Entry'!C$63:C$72)))","v":"2023-05-07T00:25:37"},"PDT","13:05:40",-34,-32.046511627907563,-32.046511627907563,0.94254445964434008,"N"]
[11,"2023-05-19T10:14:00",{"$f":"IF('BA Data Entry'!B16=0,\" \",(B16-LOOKUP(D16,TimeZones,'BA Data Entry'!C$63:C$72)))","v":"2023-05-19T03:14:00"},"PDT","09:59:16",-34,-37.050847457624251,-37.050847457624251,1.0897308075771839,"N",null,"Second largest potential resource loss within the Balancing Authority Area for the next operating year as detailed in the Procedure for ERO Support of Frequency Response and Frequency Bias Settings Standard"]
[12,"2023-07-13T16:04:28",{"$f":"IF('BA Data Entry'!B17=0,\" \",(B17-LOOKUP(D17,TimeZones,'BA Data Entry'!C$63:C$72)))","v":"2023-07-13T09:04:28"},"PDT","06:51:24",-34,-34.072463768114659,-34.072463768114659,1.0021312872974899,"N"]
[13,"2023-07-18T23:17:17",{"$f":"IF('BA Data Entry'!B18=0,\" \",(B18-LOOKUP(D18,TimeZones,'BA Data Entry'!C$63:C$72)))","v":"2023-07-18T16:17:17"},"PDT","13:24:00",-34,-13.620689655170795,-13.620689655170795,0.40060851926972924,"N",null,"The largest resource loss within the Balancing Authority Area that results from a RAS action initiated by a multiple contingency (N-2) event as detailed in the Procedure for ERO Support of Frequency Response and Frequency Bias Settings Standard"]
[14,"2023-07-26T01:48:49",{"$f":"IF('BA Data Entry'!B19=0,\" \",(B19-LOOKUP(D19,TimeZones,'BA Data Entry'!C$63:C$72)))","v":"2023-07-25T18:48:49"},"PDT","20:20:36",-34,-15.39130434782551,-15.39130434782551,0.45268542199486794,"N"]
[15,"2023-08-02T19:56:27",{"$f":"IF('BA Data Entry'!B20=0,\" \",(B20-LOOKUP(D20,TimeZones,'BA Data Entry'!C$63:C$72)))","v":"2023-08-02T12:56:27"},"PDT","15:47:56",-75,-28.225000000000598,-28.225000000000598,0.37633333333334129,"N",null,"Credit for Load Resources (CLR)"]
[16,"2023-08-20T08:36:38",{"$f":"IF('BA Data Entry'!B21=0,\" \",(B21-LOOKUP(D21,TimeZones,'BA Data Entry'!C$63:C$72)))","v":"2023-08-20T01:36:38"},"PDT","16:09:36",-75,-1.7499999999998817,-1.7499999999998817,2.3333333333331756E-2,"N"]
[17,"2023-08-25T17:42:33",{"$f":"IF('BA Data Entry'!B22=0,\" \",(B22-LOOKUP(D22,TimeZones,'BA Data Entry'!C$63:C$72)))","v":"2023-08-25T10:42:33"},"PDT","17:30:32",-75,-18.896825396824681,-18.896825396824681,0.25195767195766244,"N",null,{"$f":"\"Balancing Authority Area Net Generation (MWh) for the Operating Period of January 1, \"&DataYear&\" through December 31, \" & DataYear","v":"Balancing Authority Area Net Generation (MWh) for the Operating Period of January 1, 2023 through December 31, 2023"}]
[18,null,{"$f":"IF('BA Data Entry'!B23=0,\" \",(B23-LOOKUP(D23,TimeZones,'BA Data Entry'!C$63:C$72)))","v":" "},null,null,null,null,null,"","Y"]
[19,null,{"$f":"IF('BA Data Entry'!B24=0,\" \",(B24-LOOKUP(D24,TimeZones,'BA Data Entry'!C$63:C$72)))","v":" "},null,null,null,null,null,"","Y",null,{"$f":"\"Balancing Authority Area Net Energy for Load (MWh) for the Operating Period of January 1, \"&DataYear&\" through December 31, \" & DataYear","v":"Balancing Authority Area Net Energy for Load (MWh) for the Operating Period of January 1, 2023 through December 31, 2023"}]
[20,null,{"$f":"IF('BA Data Entry'!B25=0,\" \",(B25-LOOKUP(D25,TimeZones,'BA Data Entry'!C$63:C$72)))","v":" "},null,null,null,null,null,"","Y"]
[21,null,{"$f":"IF('BA Data Entry'!B26=0,\" \",(B26-LOOKUP(D26,TimeZones,'BA Data Entry'!C$63:C$72)))","v":" "},null,null,null,null,null,"","Y",null,{"$f":"\"Balancing Authority Area Integrated Hourly Peak Load  (MW) for the Operating Period of January 1, \"&DataYear&\" through December 31, \" & DataYear","v":"Balancing Authority Area Integrated Hourly Peak Load  (MW) for the Operating Period of January 1, 2023 through December 31, 2023"}]
[22,null,{"$f":"IF('BA Data Entry'!B27=0,\" \",(B27-LOOKUP(D27,TimeZones,'BA Data Entry'!C$63:C$72)))","v":" "},null,null,null,null,null,"","Y"]
[23,null,{"$f":"IF('BA Data Entry'!B28=0,\" \",(B28-LOOKUP(D28,TimeZones,'BA Data Entry'!C$63:C$72)))","v":" "},null,null,null,null,null,"","Y",{"$f":"\" FRM Performance Results for \"&K$9","v":" FRM Performance Results for 2023"}]
[24,null,{"$f":"IF('BA Data Entry'!B29=0,\" \",(B29-LOOKUP(D29,TimeZones,'BA Data Entry'!C$63:C$72)))","v":" "},null,null,null,null,null,"","Y",{"$f":"MEDIAN(G$6:G$47)","v":-47.999999999995737},{"$f":"K$9&\" FRM - Median Estimated Frequency Response MW/0.1Hz according to R2, Minimum Frequency Response\"","v":"2023 FRM - Median Estimated Frequency Response MW/0.1Hz according to R2, Minimum Frequency Response"}]
[25,null,{"$f":"IF('BA Data Entry'!B30=0,\" \",(B30-LOOKUP(D30,TimeZones,'BA Data Entry'!C$63:C$72)))","v":" "},null,null,null,null,null,"","Y"]
[26,null,{"$f":"IF('BA Data Entry'!B31=0,\" \",(B31-LOOKUP(D31,TimeZones,'BA Data Entry'!C$63:C$72)))","v":" "},null,"",{"$f":"IF(J31=\"y\",\"\",#REF!)","v":""},"","",{"$f":"IF($J31=\"y\", \"\",G31/F31)","v":""},"Y",{"$f":"MEDIAN(I6:I47)","v":1.0021312872974899},{"$f":"K$9&\" FRCM - Median Frequency Compliance Measurement for Compliance to R1, minimum threshold for compliance is 100%\"","v":"2023 FRCM - Median Frequency Compliance Measurement for Compliance to R1, minimum threshold for compliance is 100%"}]
[27,null,{"$f":"IF('BA Data Entry'!B32=0,\" \",(B32-LOOKUP(D32,TimeZones,'BA Data Entry'!C$63:C$72)))","v":" "},null,"",{"$f":"IF(J32=\"y\",\"\",#REF!)","v":""},"","","","Y"]
[28,null,{"$f":"IF('BA Data Entry'!B33=0,\" \",(B33-LOOKUP(D33,TimeZones,'BA Data Entry'!C$63:C$72)))","v":" "},null,"",{"$f":"IF(J33=\"y\",\"\",#REF!)","v":""},"","","","Y","BA Bias Type and Bias Setting"]
[29,null,{"$f":"IF('BA Data Entry'!B34=0,\" \",(B34-LOOKUP(D34,TimeZones,'BA Data Entry'!C$63:C$72)))","v":" "}," ","",{"$f":"IF(J34=\"y\",\"\",#REF!)","v":""},"","","","Y","Fixed","Select Bias Type utilized."]
[30,null,{"$f":"IF('BA Data Entry'!B35=0,\" \",(B35-LOOKUP(D35,TimeZones,'BA Data Entry'!C$63:C$72)))","v":" "}," ","",{"$f":"IF(J35=\"y\",\"\",#REF!)","v":""},"","","","Y",{"$f":"IFERROR(IF(K40=\"Variable\",\"n/a\",(INDEX('FRO Data'!$J$11:$J$83,MATCH(MyBA,'FRO Data'!$C$11:$C$83,0)))),\"\")","v":-45.4},"Your BA's lowest absolute Fixed Frequency Bias Setting based on interconnection non-coincident peak demand."]
[31,null,{"$f":"IF('BA Data Entry'!B36=0,\" \",(B36-LOOKUP(D36,TimeZones,'BA Data Entry'!C$63:C$72)))","v":" "}," ","",{"$f":"IF(J36=\"y\",\"\",#REF!)","v":""},"","","","Y",{"$f":"IFERROR(IF(K$34=\"Fixed\",(K29),\"N/A\"),\"\")","v":-47.999999999995737},"Your BA's lowest absolute Fixed Frequency Bias Setting based on 100% of FRM."]
[32,null,{"$f":"IF('BA Data Entry'!B37=0,\" \",(B37-LOOKUP(D37,TimeZones,'BA Data Entry'!C$63:C$72)))","v":" "}," ","",{"$f":"IF(J37=\"y\",\"\",#REF!)","v":""},"","","","Y",{"$f":"IFERROR(IF(K$34=\"Fixed\",(K29*1.25),\"N/A\"),\"\")","v":-59.999999999994671},"Your BA's highest absolute Fixed Bias Setting: 125% of FRM."]
[33,null,{"$f":"IF('BA Data Entry'!B38=0,\" \",(B38-LOOKUP(D38,TimeZones,'BA Data Entry'!C$63:C$72)))","v":" "}," ","",{"$f":"IF(J38=\"y\",\"\",#REF!)","v":""},"","","","Y",null,"For Balancing Authorities utilizing a Variable Bias, the Balancing Authority Average Frequency Bias Setting "]
[34,null,{"$f":"IF('BA Data Entry'!B39=0,\" \",(B39-LOOKUP(D39,TimeZones,'BA Data Entry'!C$63:C$72)))","v":" "}," ","",{"$f":"IF(J39=\"y\",\"\",#REF!)","v":""},"","","","Y"]
[35,null,{"$f":"IF('BA Data Entry'!B40=0,\" \",(B40-LOOKUP(D40,TimeZones,'BA Data Entry'!C$63:C$72)))","v":" "}," ","",{"$f":"IF(J40=\"y\",\"\",#REF!)","v":""},"","","","Y",null,"Enter Balancing Authority desired Frequency Bias Setting: May be set to a value between 100% to 125% of its FRM if this value is more negative than the minimum Frequency Bias based on Peak Demand.  If not more negative, then the Frequency Bias must be the minimum Bias based on Peak Demand. "]
[36,null,{"$f":"IF('BA Data Entry'!B41=0,\" \",(B41-LOOKUP(D41,TimeZones,'BA Data Entry'!C$63:C$72)))","v":" "}," ","",{"$f":"IF(J41=\"y\",\"\",#REF!)","v":""},"","","","Y"]
[37,null,{"$f":"IF('BA Data Entry'!B42=0,\" \",(B42-LOOKUP(D42,TimeZones,'BA Data Entry'!C$63:C$72)))","v":" "}," ","",{"$f":"IF(J42=\"y\",\"\",#REF!)","v":""},"","","","Y",{"$f":"IF(K34=\"Fixed\",(IF((K29*1.25)<BAminAbsFixedBias,(IF(BAdesiredBias<(K29*1.25),(K29*1.25),(IF(K29<BAminAbsFixedBias,(IF(BAdesiredBias<K29,BAdesiredBias,K29)),(IF(BAdesiredBias<BAminAbsFixedBias,BAdesiredBias,BAminAbsFixedBias)))))),BAminAbsFixedBias)),\"Variable\")","v":-47.999999999995737},{"$f":"(DataYear+1)&\" Frequency Bias Setting - (minimum of 100% to 125% of FRM, or Minimum FBS in Cell Q30 if not Variable)\"","v":"2024 Frequency Bias Setting - (minimum of 100% to 125% of FRM, or Minimum FBS in Cell Q30 if not Variable)"}]
[38,null,{"$f":"IF('BA Data Entry'!B43=0,\" \",(B43-LOOKUP(D43,TimeZones,'BA Data Entry'!C$63:C$72)))","v":" "}," ","",{"$f":"IF(J43=\"y\",\"\",#REF!)","v":""},"","","","Y"]
[39,null,{"$f":"IF('BA Data Entry'!B44=0,\" \",(B44-LOOKUP(D44,TimeZones,'BA Data Entry'!C$63:C$72)))","v":" "}," ","",{"$f":"IF(J44=\"y\",\"\",#REF!)","v":""},"","","","Y","BA Overlap Regulation"]
[40,null,{"$f":"IF('BA Data Entry'!B45=0,\" \",(B45-LOOKUP(D45,TimeZones,'BA Data Entry'!C$63:C$72)))","v":" "}," ","",{"$f":"IF(J45=\"y\",\"\",#REF!)","v":""},"","","","Y","N","Do you RECEIVE Overlap regulation?"]
[41,null,{"$f":"IF('BA Data Entry'!B46=0,\" \",(B46-LOOKUP(D46,TimeZones,'BA Data Entry'!C$63:C$72)))","v":" "}," ","",{"$f":"IF(J46=\"y\",\"\",#REF!)","v":""},"","","","Y",null,"If Yes, list the BA name and the associated Bias of that BA in the table below."]
[42,null,{"$f":"IF('BA Data Entry'!B47=0,\" \",(B47-LOOKUP(D47,TimeZones,'BA Data Entry'!C$63:C$72)))","v":" "}," ","",{"$f":"IF(J47=\"y\",\"\",#REF!)","v":""},"","","","Y","Bias -MW/0.1 Hz","Balancing Authority"]
[]
[]
[]
[]
[]
[]
[]
[]
[]
[]
[null,null,null,null,null,null,null,null,null,null,"N","Do you PROVIDE Overlap regulation?"]
[null,null,null,null,null,null,null,null,null,null,null,"If Yes, list the BA name and the associated Bias of that BA"]
[null,null,null,null,null,null,null,null,null,null,"Bias -MW/0.1 Hz","Balancing Authority"]
[]
["Full name","Abbreviation","Offset","Time zone",null,"N","Western"]
["Atlantic Daylight Time","ADT","03:00:00","UTC - 3 hours",null,"Y","Eastern"]
["Atlantic Standard Time","AST","04:00:00","UTC - 4 hours",null,"Y","Quebec"]
["Central Daylight Time","CDT","05:00:00","UTC - 5 hours",null,"N","Texas"]
["Central Standard Time","CST","06:00:00","UTC - 6 hours",null,"Fixed"]
["Eastern Daylight Time","EDT","04:00:00","UTC - 4 hours",null,"Variable"]
["Eastern Standard Time","EST","05:00:00","UTC - 5 hours",null,"N"]
["Mountain Daylight Time","MDT","06:00:00","UTC - 6 hours",null,"Y"]
["Mountain Standard Time","MST","07:00:00","UTC - 7 hours"]
["Pacific Daylight Time","PDT","07:00:00","UTC - 7 hours"]
["Pacific Standard Time","PST","08:00:00","UTC - 8 hours"]
[]
[]
[]
[]
[null,null,null,null,{"$f":"MyBA& \"_FRS_Form_1-2022.xlsx\"","v":"NO_BA_FRS_Form_1-2022.xlsx"}]

{"sheet":"FRO Data","index":2,"n_rows":89,"n_cols":10,"rows_kept":89,"cut":false,"hidden":false,"merged":[[0,0,0,9]]}
["Sample Data Only - For Informational Purposes Only"]
[null,null,null,null,null,"Operating Year 2023","IFROs"]
[null,null,null,null,null,"Eastern Interconnection",-890,null,"EI e1",1.7999999999999999E-2]
[null,null,null,null,null,"Western Interconnection",-1096,null,"EI e10",5.7000000000000002E-3]
[null,null,null,null,null,"ERCOT Interconnection",-463]
[null,null,null,null,null,"HQT Interconnection",-211,null,"WI e1",2.2800000000000001E-2]
[null,null,null,null,null,null,"MW/0.1 Hz",null,"WI e10",7.3000000000000001E-3]
[]
[]
[null,"Interconnection","Balancing Authority","FRSG 2020","FRSG 2021","FRO DATA","Posted\nBA 2022 Operating Year FRO (MW/0.1 Hz)","Posted\nBA 2023 Operating Year FRO (MW/0.1 Hz)","Balancing Authority","Posted 2023 Minimum Bias Setting"]
[1,"Eastern","AEC",null,null,"PowerSouth Energy Cooperative (Alabama Electric Cooperative Inc.)",-2,"-","AEC",-2]
[2,"Eastern","AECI",null,null,"Associated Electric Cooperative, Inc.",-7.4,"-","AECI",-7.4]
[3,"Eastern","CHC",null,null,"Cube Hydro Carolinas (Formerly Yadkin YAD)",-0.2,"-","CHC",-0.2]
[4,"Eastern","CPLE",null,null,"Duke Energy Progress, Inc. (Progress Energy (Carolina Power & Light Company))",-21.7,"-","CPLE",-21.7]
[5,"Eastern","DUK",null,null,"Duke Energy Carolinas",-35.200000000000003,"-","DUK",-35.200000000000003]
[6,"Eastern","FMPP",null,null,"Florida Municipal Power Pool",-5.5,"-","FMPP",-5.5]
[7,"Eastern","FPC",null,null,"Duke Energy Florida, Inc. (Progress Energy (Florida Power Corp.))",-15.3,"-","FPC",-15.3]
[8,"Eastern","FPL",null,null,"Florida Power & Light Co.",-41.1,"-","FPL",-41.1]
[9,"Eastern","GLHB",null,null,"Gridliance",-0.4,"-","GLHB",-0.4]
[10,"Eastern","GVL",null,null,"Gainesville Regional Utilities",-0.6,"-","GVL",-0.6]
[11,"Eastern","HST",null,null,"Homestead, City of",-0.1,"-","HST",-0.1]
[12,"Eastern","IESO",null,null,"IESO",-45.8,"-","IESO",-45.8]
[13,"Eastern","ISNE",null,null,"ISO-NE",-34.799999999999997,"-","ISNE",-34.799999999999997]
[14,"Eastern","JEA",null,null,"JEA (Jacksonville Electric Authority)",-3.2,"-","JEA",-3.2]
[15,"Eastern","LGEE",null,null,"LG&E and KU Services Company as agent for Louisville Gas and Electric Company and Kentucky Utilities Company",-11.2,"-","LGEE",-11.2]
[16,"Eastern","MHEB",null,null,"Manitoba Hydro",-9.6999999999999993,"-","MHEB",-9.6999999999999993]
[17,"Eastern","MISO",null,null,"Midcontinent Independent System Operator, Inc.",-212.5,"-","MISO",-212.5]
[18,"Eastern","NOT_BA",null,null,"IESO",-45.8,"-","IESO",-45.8]
[19,"Eastern","NBSO",null,null,"New Brunswick Power Corporation",-4.9000000000000004,"-","NBSO",-4.9000000000000004]
[20,"Eastern","NSPI",null,null,"Nova Scotia Power Inc.",-3.5,"-","NSPI",-3.5]
[21,"Eastern","NYIS",null,null,"New York Independent System Operator",-46.6,"-","NYIS",-46.6]
[22,"Eastern","PJM",null,null,"PJM Interconnection, LLC",-259.3,"-","PJM",-259.3]
[23,"Eastern","SC",null,null,"South Carolina Public Service Authority",-6.9,"-","SC",-6.9]
[24,"Eastern","SCEG",null,null,"South Carolina Electric & Gas Company",-8.6,"-","SCEG",-8.6]
[25,"Eastern","SEC",null,null,"Seminole Electric Cooperative",-2.1,"-","SEC",-2.1]
[26,"Eastern","SEPA",null,null,"Southeastern Power Administration",-0.4,"-","SEPA",-0.4]
[27,"Eastern","SOCO",null,null,"Southern Company Services, Inc. - Trans",-78.599999999999994,"-","SOCO",-78.599999999999994]
[28,"Eastern","SPA",null,null,"Southwestern Power Administration",-1.5,"-","SPA",-1.5]
[29,"Eastern","SPC",null,null,"Saskatchewan Power Corporation",-8.1,"-","SPC",-8.1]
[30,"Eastern","SWPP",null,null,"Southwest Power Pool, Inc.",-88.2,"-","SWPP",-88.2]
[31,"Eastern","TAL",null,null,"Tallahassee, City of",-0.9,"-","TAL",-0.9]
[32,"Eastern","TEC",null,null,"Tampa Electric Company",-6.9,"-","TEC",-6.9]
[33,"Eastern","TVA",null,null,"Tennessee Valley Authority",-51.9,"-","TVA",-51.9]
[null,null,null,null,null,null,{"$f":"SUM(G11:G43)-G28","v":-1015.1000000000001},{"$f":"SUM(H11:H43)","v":0},null,-1015.1000000000001]
[]
[1,"Western","AESO","WFRSG","WFRSG","Alberta Electric System Operator",-83,"-","AESO",-83]
[2,"Western","AVA","WFRSG","WFRSG","Avista Corporation",-12.2,"-","AVA",-12.2]
[3,"Western","AVRN",null,null,"Avangrid Renewables",-2.8,"-","AVRN",-2.8]
[4,"Western","AZPS",null,null,"Arizona Public Service Company",-29.5,"-","AZPS",-29.5]
[5,"Western","BANC","WFRSG","WFRSG","Balancing Area of Northern California",-15.5,"-","BANC",-15.5]
[6,"Western","BCHA",null,null,"British Columbia Hydro and Power Authority",-61,"-","BCHA",-61]
[7,"Western","BPAT","WFRSG","WFRSG","Bonneville Power Administration",-70.5,"-","BPAT",-70.5]
[8,"Western","CFE",null,null,"Comision Federal de Electricidad",-13.5,"-","CFE",-13.5]
[9,"Western","CHPD","WFRSG","WFRSG","Public Utility District No. 1 of Chelan County",-3.4,"-","CHPD",-3.4]
[10,"Western","CISO",null,null,"California Independent System Operator",-190.5,"-","CISO",-190.5]
[11,"Western","DEAA",null,null,"Arlington Valley, LLC - AVBA (Duke Energy Control Area Services LLC)",-0.6,"-","DEAA",-0.6]
[12,"Western","DOPD","WFRSG","WFRSG","PUD No. 1 of Douglas County",-2.1,"-","DOPD",-2.1]
[13,"Western","EPE",null,null,"El Paso Electric Company",-6.9,"-","EPE",-6.9]
[14,"Western","GCPD","WFRSG","WFRSG","Public Utility District No. 2 of Grant County Washington",-5.9,"-","GCPD",-5.9]
[15,"Western","GRID","WFRSG","WFRSG","Gridforce Energy Management, LLC",-7.8,"-","GRID",-7.8]
[16,"Western","GRIF",null,null,"Griffith Energy, LLC",-1.5,"-","GRIF",-1.5]
[17,"Western","GWA","WFRSG","WFRSG","NaturEner Power Watch, LLC (Glacier Wind Balancing Authority)",-0.3,"-","GWA",-0.3]
[18,"Western","HGMA",null,null,"New Harquahala Generating Company LLC - HGBA",0,"-","HGMA",0]
[19,"Western","IID",null,null,"Imperial Irrigation District",-2,"-","IID",-2]
[20,"Western","IPCO","WFRSG","WFRSG","Idaho Power Company",-17.100000000000001,"-","IPCO",-17.100000000000001]
[21,"Western","LDWP",null,null,"Los Angeles Department of Water and Power",-24.1,"-","LDWP",-24.1]
[22,"Western","NEVP","WFRSG","WFRSG","Nevada Power Company",-33.6,"-","NEVP",-33.6]
[23,"Western","NO_BA",null,"WFRSG","Not a Balancing Authority",-45.4,"-","NO_BA",-45.4]
[24,"Western","NWMT","WFRSG","WFRSG","NorthWestern Corporation",-11.6,"-","NWMT",-11.6]
[25,"Western","PACE","WFRSG","WFRSG","PacifiCorp (East)",-48.2,"-","PACE",-48.2]
[26,"Western","PACW","WFRSG","WFRSG","PacifiCorp (West)",-19.8,"-","PACW",-19.8]
[27,"Western","PGE","WFRSG","WFRSG","Portland General Electric Company",-18.8,"-","PGE",-18.8]
[28,"Western","PNM",null,null,"Public Service Company of New Mexico",-13.4,"-","PNM",-13.4]
[29,"Western","PSCO",null,"WFRSG","Public Service Company of Colorado",-45.4,"-","PSCO",-45.4]
[30,"Western","PSEI","WFRSG","WFRSG","Puget Sound Energy, Inc.",-19.600000000000001,"-","PSEI",-19.600000000000001]
[31,"Western","SCL",null,"WFRSG","Seattle City Light",-7.5,"-","SCL",-7.5]
[32,"Western","SRP",null,null,"Salt River Project Agricultural Improvement and Power District",-30.6,"-","SRP",-30.6]
[33,"Western","TEPC",null,null,"Tucson Electric Power",-16.100000000000001,"-","TEPC",-16.100000000000001]
[34,"Western","TIDC","WFRSG","WFRSG","Turlock Irrigation District",-2.2000000000000002,"-","TIDC",-2.2000000000000002]
[35,"Western","TPWR","WFRSG","WFRSG","City of Tacoma, Department of Public Utilities, Light Division",-3.3,"-","TPWR",-3.3]
[36,"Western","WACM",null,"WFRSG","Western Area Power Administration - Rocky Mountain Region",-28,"-","WACM",-28]
[37,"Western","WALC",null,null,"Western Area Power Administration - Desert Southwest Region",-8.6,"-","WALC",-8.6]
[38,"Western","WAUW","WFRSG","WFRSG","Western Area Power Administration - Upper Great Plains Region",-0.7,"-","WAUW",-0.7]
[39,"Western","WWA","WFRSG","WFRSG","NaturEner Wind Watch, LLC",-0.3,"-","WWA",-0.3]
[40,"Western","WFRSG",null,null,"Western Frequency Response Sharing Group",-456.8,"-",null,-456.8]
[null,null,null,null,null,null,{"$f":"SUM(G46:G84)-G68","v":-857.90000000000009},{"$f":"SUM(H46:H84)","v":0},null,-857.90000000000009]
[]
[]
[null,null,null,null,null,"`"]

{"sheet":"Change History","index":3,"n_rows":1,"n_cols":1,"rows_kept":1,"cut":false,"hidden":false,"merged":[]}
["TBD"]